{"text_format":"1","workbook":"xlsx","n_sheets":6,"sheets":["notes","daily uptake","uptake calcs","minmax data","weather notes","MinMaxTemplate"],"not_rendered":{"charts":6,"images":6,"macros":1,"external_links":0,"defined_names":59,"comments":2,"pivot_tables":0},"unopened":[],"bounds":{"document_bytes":16777216,"sheet_cells":100000,"rows_first":2000,"rows_last":500,"rows_between":2000,"halvings":0,"cell_chars":16384,"cell_head_chars":4096},"cells_cut":0,"cells_raw":0,"read":"whole","date_system":"1900"}

{"sheet":"notes","index":0,"n_rows":0,"n_cols":0,"rows_kept":0,"cut":false,"hidden":false,"merged":[]}

{"sheet":"daily uptake","index":1,"n_rows":502,"n_cols":42,"rows_kept":502,"cut":false,"hidden":false,"merged":[[1,5,2,9],[92,6,92,7],[92,13,92,14],[31,40,31,41],[7,14,7,17],[29,6,29,7],[92,18,92,19],[7,3,7,5],[7,7,7,12]]}
[]
[null,null,null,null,null,"Crop Nitrogen Uptake Calculator",null,null,null,null,null,null,null,null,null,null,null,null,null,null,"Marsha Campbell Mathews & David Crohn"]
[null,null,null,null,null,null,null,null,null,null,null,null,null,null,null,"temperature data sources",null,null,null,null,"ver. 11-14-2011     © University of California 2011"]
[null,null,null,null,null,null,null,null,null,null,null,null,null,null,null," before Jan 1:","Denair avg 1994 - 2010"]
[null,null,null,null,null,null,null,null,null,null,null,null,null,null,null," after Jan 1:","Denair avg 1994 - 2010"]
[null,null,null,null,null,null,null,null,null,null,null,null,null,null,null,"backup:","Denair avg 1994 - 2010"]
[]
[null,{"$f":"TODAY()","v":"2012-03-07"},"day of season","winter cereal forage",null,null,null,"silage corn",null,null,null,null,null,null,"triple crop sudan",null,null,null,null,null,"calculate uptake between two dates"]
[null,{"$f":"E9","v":"2010-11-01"},1,null,"2010-11-01","WF planting date",null,null,"2011-04-15","corn planting date",null,null,null,null,null,"2011-08-31","sudan planting date",null,null,null,"2010-10-31","date 1"]
[null,null,{"$f":"E10-$E$9+1","v":162},null,"2011-04-11","WF harvest date",null,null,"2011-08-29","corn harvest date",null,null,null,null,null,"2011-10-07","sudan harvest date",null,null,null,"2011-01-16","date 2"]
[null,null,null,null,140,"lbs/A expected N uptake",null,null,250,"lbs/A expected N uptake",null,null,null,null,null,100,"lbs/A expected N uptake",null,null,null,{"$f":"SUMIF(C$95:C$502,\">=\"&C27,L$95:L$502)-SUMIF(C$95:C$502,\">=\"&C28,L$95:L$502)","v":34.563367663351755},"N uptake between dates (lbs N/acre)"]
[null,null,{"$f":"IF(E12>0,E12-$E$9+1,\"\")","v":95},null,"2011-02-03","irrigation date 1",null,null,{"$f":"I9+30","v":"2011-05-15"},"1st irrigation date",null,null,null,null,null,"2011-09-19","irrigation date 1"]
[null,null,{"$f":"IF(E13>0,E13-$E$9+1,\"\")","v":131},null,"2011-03-11","irrigation date 2",null,null,10,"num days between irrigations",null,null,null,null,null,"2011-09-28","irrigation date 2",null,null,null,"Corn GDU date","cumulative corn GDU from planting"]
[null,null,{"$f":"IF(E14>0,E14-$E$9+1,\"\")","v":""},null,null,"irrigation date 3",null,null,{"$f":"VLOOKUP(C23,$C$95:$V$502,$P$94,FALSE)","v":{"$error":"#N/A"}},{"$f":"\"GDUs planting to \"&TEXT(C22,\"mmm d;@\")","v":"GDUs planting to Mar 6"},null,null,null,null,null,null,"irrigation date 3",null,null,null,null,"to this date (yesterday if blank)"]
[null,null,null,null,null,"time of maximum uptake",null,null,{"$f":"VLOOKUP(C20,$C$95:$V$502,$P$94,FALSE)","v":2750},"GDU planting to harvest",null,null,null,null,null,null,"irrigation date 4",null,null,null,{"$f":"\"cutoff minimum = \"&cutoff.corn.min&\" ⁰F    cutoff maximum = \"&cutoff.corn.max&\" ⁰F\"","v":"cutoff minimum = 50 ⁰F    cutoff maximum = 95 ⁰F"}]
[]
[null,null,{"$f":"IF(E17>0,E17-$E$9+1,\"\")","v":""}]
[null,"corn planting",{"$f":"IF(I9>0,I9-$E$9+1,\"\")","v":166}]
[null,"yesterday",{"$f":"TODAY()-$E$9-1","v":491}]
[null,"corn harvest",{"$f":"IF(I10>0,I10-$E$9+1,\"\")","v":302}]
[null,"corn 1st irrig",{"$f":"IF(I12>0,I12-$E$9+1,\"\")","v":196}]
[null,"corn GDU thru date",{"$f":"IF(U14>0,U14,TODAY()-1)","v":"2012-03-06"}]
[null,"corn GDU thru day",{"$f":"C22-E9+1","v":492}]
[null,"third planting",{"$f":"IF(P9>0,P9-$E$9+1,I10-$E$9)","v":304}]
[null,"third harvest",{"$f":"IF(P10>0,P10-$E$9+1,I10-$E$9)","v":341}]
[]
[null,"datebetween start",{"$f":"IF(U9-$E$9+1>0,U9-$E$9+1,0)","v":0}]
[null,"datebetween end",{"$f":"IF(U10>0,U10-$E$9+1,\"\")","v":77}]
[]
[null,null,null,null,"date","crop and irrigation number","N lbs/A thru next irrig",null,"cumulative lbs N/A\n to date","adjust date",null,null,null,null,null,null,null,null,null,null,null,null,null,null,null,"lbs/ac N/period"]
[null,{"$f":"IF(E31=E$42,\"true\",\"false\")","v":"false"},{"$f":"IF(E31>0,E31-$E$9+1,\"\")","v":1},null,{"$f":"E9","v":"2010-11-01"},"winter crop planting",{"$f":"SUM(Z31:Z36)","v":47.098928615823297},null,null,null,null,null,null,null,null,null,null,null,null,null,null,null,null,null,null,{"$f":"SUMIF(C$95:C$502,\">=\"&C31,L$95:L$502)-SUMIF(C$95:C$502,\">=\"&C32,L$95:L$502)","v":6.6649870662797639}]
[null,{"$f":"IF(E32=E$42,\"true\",\"false\")","v":"false"},17,null,{"$f":"IF(J32>0,J32,(ROUND((($E$37-$E$31)/6),0)*1)+E$31)","v":"2010-11-17"},null,null,null,{"$f":"IF(B32=\"true\",0,SUM(Z$31:Z31))","v":6.6649870662797639},null,null,null,null,null,null,null,null,null,null,null,null,null,null,null,null,6.9070856371795344,null,null,null,null,null,null,null,null,null,null,null,null,null,null,"dates for equal number of days in each period"]
[null,"false",33,null,{"$f":"IF(J33>0,J33,(ROUND((($E$37-$E$31)/6),0)*2)+E$31)","v":"2010-12-03"},null,null,null,{"$f":"IF(B33=\"true\",0,SUM(Z$31:Z32))","v":13.572072703459298},null,null,null,null,null,null,null,null,null,null,null,null,null,null,null,null,7.197823359426252,null,null,null,null,null,null,null,null,null,null,null,null,null,null,16,"days in period"]
[null,"false",49,null,{"$f":"IF(J34>0,J34,(ROUND((($E$37-$E$31)/6),0)*3)+E$31)","v":"2010-12-19"},null,null,null,{"$f":"IF(B34=\"true\",0,SUM(Z$31:Z33))","v":20.76989606288555},null,null,null,null,null,null,null,null,null,null,null,null,null,null,null,null,7.3524627322402694,null,null,null,null,null,null,null,null,null,null,null,null,null,null,{"$f":"$E31+$AO$33","v":"2010-11-17"}]
[null,"false",65,null,{"$f":"IF(J35>0,J35,(ROUND((($E$37-$E$31)/6),0)*4)+E$31)","v":"2011-01-04"},null,null,null,{"$f":"IF(B35=\"true\",0,SUM(Z$31:Z34))","v":28.12235879512582},null,null,null,null,null,null,null,null,null,null,null,null,null,null,null,null,8.9114879860378551,null,null,null,null,null,null,null,null,null,null,null,null,null,null,{"$f":"AO34+$AO$33","v":"2010-12-03"}]
[null,"false",81,null,{"$f":"IF(J36>0,J36,(ROUND((($E$37-$E$31)/6),0)*5)+E$31)","v":"2011-01-20"},null,null,null,{"$f":"IF(B36=\"true\",0,SUM(Z$31:Z35))","v":37.033846781163675},null,null,null,null,null,null,null,null,null,null,null,null,null,null,null,null,10.065081834659622,null,null,null,null,null,null,null,null,null,null,null,null,null,null,"2010-12-19"]
[null,"false",95,null,{"$f":"IF(J37>0,J37,IF(E12>0,E12,E$10))","v":"2011-02-03"},"winter crop 1st",{"$f":"SUM(Z37:Z39)","v":40.21946553829514},null,{"$f":"IF(B37=\"true\",0,SUM(Z$31:Z36))","v":47.098928615823297},null,null,null,null,null,null,null,null,null,null,null,null,null,null,null,null,11.434060987260636,null,null,null,null,null,null,null,null,null,null,null,null,null,null,"2011-01-04"]
[null,"false",107,null,{"$f":"(ROUND((($E$40-$E$37)/3),0)*1)+E$37","v":"2011-02-15"},null,null,null,{"$f":"IF(B38=\"true\",0,SUM(Z$31:Z37))","v":58.532989603083934},null,null,null,null,null,null,null,null,null,null,null,null,null,null,null,null,13.118197090009062,null,null,null,null,null,null,null,null,null,null,null,null,null,null,"2011-01-20"]
[null,"false",119,null,{"$f":"(ROUND((($E$40-$E$37)/3),0)*2)+E$37","v":"2011-02-27"},null,null,null,{"$f":"IF(B39=\"true\",0,SUM(Z$31:Z38))","v":71.651186693092995},null,null,null,null,null,null,null,null,null,null,null,null,null,null,null,null,15.667207461025441,null,null,null,null,null,null,null,null,null,null,null,null,null,null,"2011-02-05"]
[null,"false",131,null,{"$f":"IF(J40>0,J40,IF(E13>0,E13,E$10))","v":"2011-03-11"},"winter crop 2nd",{"$f":"SUM(Z40:Z42)","v":50.967054400365896},null,{"$f":"IF(B40=\"true\",0,SUM(Z$31:Z39))","v":87.318394154118437},null,null,null,null,null,null,null,null,null,null,null,null,null,null,null,null,50.967054400365896,null,null,null,null,null,null,null,null,null,null,null,null,null,null,"2011-02-21"]
[null,"true",162,null,{"$f":"IF(J41>0,J41,IF(E14>0,E14,E$10))","v":"2011-04-11"},"winter crop 3rd",{"$f":"SUM(Z41:Z43)","v":0},null,{"$f":"IF(B41=\"true\",0,SUM(Z$31:Z40))","v":0},null,null,null,null,null,null,null,null,null,null,null,null,null,null,null,null,0,null,null,null,null,null,null,null,null,null,null,null,null,null,null,"2011-03-09"]
[null,{"$f":"\"false\"","v":"false"},162,null,{"$f":"E10","v":"2011-04-11"},"winter crop harvest",null,null,{"$f":"IF(B42=\"true\",0,SUM(Z$31:Z41))","v":138.28544855448433},null,null,null,null,null,null,null,null,null,null,null,null,null,null,null,null,null,null,null,null,null,null,null,null,null,null,null,null,null,null,null,"2011-03-25"]
[null,null,null,null,null,null,null,null,null,null,null,null,null,null,null,null,null,null,null,null,null,null,null,null,null,null,null,null,null,null,null,null,null,null,null,null,null,null,null,null,"2011-04-10"]
[null,{"$f":"IF(E44=E$55,\"true\",\"false\")","v":"false"},{"$f":"IF(E44>0,E44-$E$9+1,\"\")","v":166},null,{"$f":"I9","v":"2011-04-15"},"corn planting",{"$f":"Z44","v":2.5893732043849695},null,null,null,null,null,null,null,null,null,null,null,null,null,null,null,null,null,null,{"$f":"SUMIF(C$95:C$502,\">=\"&C44,L$95:L$502)-SUMIF(C$95:C$502,\">=\"&C45,L$95:L$502)","v":2.5893732043849695},null,null,null,null,null,null,null,null,null,null,null,null,null,null,"2011-04-26"]
[null,{"$f":"IF(E45=E$55,\"true\",\"false\")","v":"false"},196,null,{"$f":"IF(J45>0,J45,I12)","v":"2011-05-15"},"corn 1st",7.3580367230340471,null,{"$f":"IF(B45=\"true\",0,SUM(Z$44:Z44))","v":2.5893732043849695},null,null,null,null,null,null,null,null,null,null,null,null,null,null,null,null,7.3580367230340471]
[null,"false",206,null,{"$f":"IF(J46>0,J46,IF((E45+I$13)<E$55-5,E45+I$13,E$55))","v":"2011-05-25"},"corn 2nd",10.523082641533847,null,{"$f":"IF(B46=\"true\",0,SUM(Z$44:Z45))","v":9.9474099274190166},null,null,null,null,null,null,null,null,null,null,null,null,null,null,null,null,10.523082641533847,null,null,null,null,null,null,null,null,null,null,null,null,null,null,11,"days in period"]
[null,"false",216,null,"2011-06-04","corn 3rd",13.741811049399075,null,{"$f":"IF(B47=\"true\",0,SUM(Z$44:Z46))","v":20.470492568952864},null,null,null,null,null,null,null,null,null,null,null,null,null,null,null,null,13.741811049399075,null,null,null,null,null,null,null,null,null,null,null,null,null,null,{"$f":"$E44+$AO$46","v":"2011-04-26"}]
[null,"false",226,null,"2011-06-14","corn 4th",65.987947013379369,null,{"$f":"IF(B48=\"true\",0,SUM(Z$44:Z47))","v":34.212303618351939},null,null,null,null,null,null,null,null,null,null,null,null,null,null,null,null,65.987947013379369,null,null,null,null,null,null,null,null,null,null,null,null,null,null,{"$f":"AO47+$AO$46","v":"2011-05-07"}]
[null,"false",236,null,"2011-06-24","corn 5th",52.488061144499341,null,{"$f":"IF(B49=\"true\",0,SUM(Z$44:Z48))","v":100.20025063173131},null,null,null,null,null,null,null,null,null,null,null,null,null,null,null,null,52.488061144499341,null,null,null,null,null,null,null,null,null,null,null,null,null,null,"2011-05-18"]
[null,"false",246,null,"2011-07-04","corn 6th",1.1222403606302578,null,{"$f":"IF(B50=\"true\",0,SUM(Z$44:Z49))","v":152.68831177623065},null,null,null,null,null,null,null,null,null,null,null,null,null,null,null,null,1.1222403606302578,null,null,null,null,null,null,null,null,null,null,null,null,null,null,"2011-05-29"]
[null,"false",256,null,"2011-07-14","corn 7th",4.6932760421425428,null,{"$f":"IF(B51=\"true\",0,SUM(Z$44:Z50))","v":153.81055213686091},null,null,null,null,null,null,null,null,null,null,null,null,null,null,null,null,4.6932760421425428,null,null,null,null,null,null,null,null,null,null,null,null,null,null,"2011-06-09"]
[null,"false",266,null,"2011-07-24","corn 8th",25.425347358078966,null,{"$f":"IF(B52=\"true\",0,SUM(Z$44:Z51))","v":158.50382817900345},null,null,null,null,null,null,null,null,null,null,null,null,null,null,null,null,25.425347358078966,null,null,null,null,null,null,null,null,null,null,null,null,null,null,"2011-06-20"]
[null,"false",276,null,"2011-08-03","corn 9th",34.48072132346698,null,{"$f":"IF(B53=\"true\",0,SUM(Z$44:Z52))","v":183.92917553708241},null,null,null,null,null,null,null,null,null,null,null,null,null,null,null,null,34.48072132346698,null,null,null,null,null,null,null,null,null,null,null,null,null,null,"2011-07-01"]
[null,"false",286,null,"2011-08-13","corn 10th",31.238894873307203,null,{"$f":"IF(B54=\"true\",0,SUM(Z$44:Z53))","v":218.4098968605494},null,null,null,null,null,null,null,null,null,null,null,null,null,null,null,null,31.238894873307203,null,null,null,null,null,null,null,null,null,null,null,null,null,null,"2011-07-12"]
[null,{"$f":"\"false\"","v":"false"},302,null,{"$f":"I10","v":"2011-08-29"},"corn harvest",0,null,{"$f":"IF(B55=\"true\",0,SUM(Z$44:Z54))","v":249.6487917338566},null,null,null,null,null,null,null,null,null,null,null,null,null,null,null,null,null,null,null,null,null,null,null,null,null,null,null,null,null,null,null,"2011-07-23"]
[null,null,null,null,null,null,null,null,null,null,null,null,null,null,null,null,null,null,null,null,null,null,null,null,null,null,null,null,null,null,null,null,null,null,null,null,null,null,null,null,"2011-08-03"]
[null,{"$f":"IF(E57=E$62,\"true\",\"false\")","v":"false"},{"$f":"IF(E57>0,E57-$E$9+1,\"\")","v":304},null,{"$f":"IF(P9>0,P9,E55)","v":"2011-08-31"},"triple crop planting",{"$f":"Z57","v":29.819897550424244},null,null,null,null,null,null,null,null,null,null,null,null,null,null,null,null,null,null,{"$f":"SUMIF(C$95:C$502,\">=\"&C57,L$95:L$502)-SUMIF(C$95:C$502,\">=\"&C58,L$95:L$502)","v":29.819897550424244},null,null,null,null,null,null,null,null,null,null,null,null,null,null,"2011-08-14"]
[null,{"$f":"IF(E58=E$62,\"true\",\"false\")","v":"false"},323,null,{"$f":"IF(J58>0,J58,IF(P12>0,P12,E$62))","v":"2011-09-19"},"triple crop 1st",{"$f":"Z58","v":27.148346108810344},null,{"$f":"IF(B58=\"true\",0,SUM(Z$57:Z57))","v":29.819897550424244},null,null,null,null,null,null,null,null,null,null,null,null,null,null,null,null,{"$f":"SUMIF(C$95:C$502,\">=\"&C58,L$95:L$502)-SUMIF(C$95:C$502,\">=\"&C59,L$95:L$502)","v":27.148346108810344}]
[null,{"$f":"IF(E59=E$62,\"true\",\"false\")","v":"false"},332,null,{"$f":"IF(J59>0,J59,IF(P13>0,P13,E$62))","v":"2011-09-28"},"triple crop 2nd",{"$f":"Z59","v":37.897550131342328},null,{"$f":"IF(B59=\"true\",0,SUM(Z$57:Z58))","v":56.968243659234588},null,null,null,null,null,null,null,null,null,null,null,null,null,null,null,null,{"$f":"SUMIF(C$95:C$502,\">=\"&C59,L$95:L$502)-SUMIF(C$95:C$502,\">=\"&C60,L$95:L$502)","v":37.897550131342328}]
[null,{"$f":"IF(E60=E$62,\"true\",\"false\")","v":"true"},341,null,"2011-10-07","triple crop 3rd",{"$f":"Z60","v":0},null,{"$f":"IF(B60=\"true\",0,SUM(Z$57:Z59))","v":0},null,null,null,null,null,null,null,null,null,null,null,null,null,null,null,null,{"$f":"SUMIF(C$95:C$502,\">=\"&C60,L$95:L$502)-SUMIF(C$95:C$502,\">=\"&C61,L$95:L$502)","v":0}]
[null,{"$f":"IF(E61=E$62,\"true\",\"false\")","v":"true"},341,null,"2011-10-07","triple crop 4th",{"$f":"Z61","v":0},null,{"$f":"IF(B61=\"true\",0,SUM(Z$57:Z60))","v":0},null,null,null,null,null,null,null,null,null,null,null,null,null,null,null,null,{"$f":"SUMIF(C$95:C$502,\">=\"&C61,L$95:L$502)-SUMIF(C$95:C$502,\">=\"&C62,L$95:L$502)","v":0}]
[null,{"$f":"\"false\"","v":"false"},341,null,{"$f":"IF(P10>0,P10,E57)","v":"2011-10-07"},"triple crop harvest",null,null,{"$f":"IF(B62=\"true\",0,SUM(Z$57:Z61))","v":94.865793790576916}]
[]
[]
[]
[]
[]
[]
[]
[]
[]
[]
[]
[]
[]
[]
[]
[]
[]
[]
[]
[]
[]
[]
[]
[]
[]
[null,null,null,null,null,null,null,null,null,null,null,null,null,null,null,null,null,null,null,null,"primary year 1:",{"$f":"PrimaryYear1","v":"Denair avg 1994 - 2010"}]
[null,null,null,null,null,null,null,null,null,null,null,null,null,null,null,"forage","corn",null,null,null,"primary year 2:",{"$f":"PrimaryYear2","v":"Denair avg 1994 - 2010"}]
[null,null,null,null,null,null,null,null,null,null,null,null,null,"max cutoff",null,75,95,null,null,null,"Backup year:",{"$f":"BackupYear","v":"Denair avg 1994 - 2010"}]
[null,null,null,null,null,null,null,null,null,null,null,null,null,"min cutoff",null,45,50]
[null,null,null,null,null,null,{"$f":"SUM(G95:G502)","v":140},null,{"$f":"SUM(I95:I502)","v":250},{"$f":"SUM(J95:J502)","v":100},null,null,null,null,null,null,null,null,null,null,"these are in °F"]
[null,null,"day of season",null,null,"date","cereal lbs N/A per day",null,"Corn lbs N per day","Sudan lbs N per day",null,"lbs N/day, all",null," corn GDU",null,"Cumulative corn GDU"," forage GDD",null,"mean daily temp.",null,"air maximum temperature","air minimum temperature","avg soil temp.","data source for max","data source for min","data source for soil"]
[null,null,{"$f":"COLUMN(C94)-COLUMN($C94)+1","v":1},null,null,{"$f":"COLUMN(F94)-COLUMN($C94)+1","v":4},{"$f":"COLUMN(G94)-COLUMN($C94)+1","v":5},null,{"$f":"COLUMN(I94)-COLUMN($C94)+1","v":7},8,null,{"$f":"COLUMN(L94)-COLUMN($C94)+1","v":10},11,12,13,14,15,null,{"$f":"COLUMN(S94)-COLUMN($C94)+1","v":17},null,{"$f":"COLUMN(U94)-COLUMN($C94)+1","v":19},{"$f":"COLUMN(V94)-COLUMN($C94)+1","v":20}]
[null,null,1,null,null,{"$f":"E9","v":"2010-11-01"},{"$f":"'uptake calcs'!M12","v":0.38240888735233841},null,{"$f":"'uptake calcs'!L12","v":0},{"$f":"'uptake calcs'!N12","v":0},null,{"$f":"SUM(G95:J95)","v":0.38240888735233841},null,{"$f":"IF($U95>cutoff.corn.min,((IF($U95>cutoff.corn.max,cutoff.corn.max,$U95)+IF($V95<cutoff.corn.min,cutoff.corn.min,$V95))/2)-cutoff.corn.min,0)","v":10},null,{"$f":"IF(AND(C95>=C$44,C95<=$C$55),N95+P94,0)","v":0},{"$f":"((U95+V95)/2)-32","v":24},null,{"$f":"AVERAGE(U95:V95)","v":56},null,70,42,0,"Year 1","Year 1","No Data"]
[null,null,2,null,null,{"$f":"F95+1","v":"2010-11-02"},{"$f":"MAX('uptake calcs'!M13-'uptake calcs'!M12,0)","v":0.39159398342976021},null,{"$f":"MAX('uptake calcs'!L13-'uptake calcs'!L12,0)","v":0},{"$f":"MAX('uptake calcs'!N13-'uptake calcs'!N12,0)","v":0},null,0.39159398342976021,null,{"$f":"IF($U96>cutoff.corn.min,((IF($U96>cutoff.corn.max,cutoff.corn.max,$U96)+IF($V96<cutoff.corn.min,cutoff.corn.min,$V96))/2)-cutoff.corn.min,0)","v":10.5},null,0,24,null,56,null,71,41,0,"Year 1","Year 1","No Data"]
[null,null,3,null,null,{"$f":"F96+1","v":"2010-11-03"},{"$f":"MAX('uptake calcs'!M14-'uptake calcs'!M13,0)","v":0.38406788508128809},null,{"$f":"MAX('uptake calcs'!L14-'uptake calcs'!L13,0)","v":0},{"$f":"MAX('uptake calcs'!N14-'uptake calcs'!N13,0)","v":0},null,0.38406788508128809,null,9.5,null,0,23,null,55,null,69,41,0,"Year 1","Year 1","No Data"]
[null,null,4,null,null,"2010-11-04",{"$f":"MAX('uptake calcs'!M15-'uptake calcs'!M14,0)","v":0.38420377225555691},null,{"$f":"MAX('uptake calcs'!L15-'uptake calcs'!L14,0)","v":0},{"$f":"MAX('uptake calcs'!N15-'uptake calcs'!N14,0)","v":0},null,0.38420377225555691,null,9.5,null,0,22.5,null,54.5,null,69,40,0,"Year 1","Year 1","No Data"]
[null,null,5,null,null,"2010-11-05",{"$f":"MAX('uptake calcs'!M16-'uptake calcs'!M15,0)","v":0.42808270394641967},null,{"$f":"MAX('uptake calcs'!L16-'uptake calcs'!L15,0)","v":0},{"$f":"MAX('uptake calcs'!N16-'uptake calcs'!N15,0)","v":0},null,0.42808270394641967,null,10.5,null,0,24.5,null,56.5,null,71,42,0,"Year 1","Year 1","No Data"]
[null,null,6,null,null,"2010-11-06",{"$f":"MAX('uptake calcs'!M17-'uptake calcs'!M16,0)","v":0.42032153034468367},null,{"$f":"MAX('uptake calcs'!L17-'uptake calcs'!L16,0)","v":0},{"$f":"MAX('uptake calcs'!N17-'uptake calcs'!N16,0)","v":0},null,0.42032153034468367,null,9.5,null,0,23.5,null,55.5,null,69,42,0,"Year 1","Year 1","No Data"]
[null,null,7,null,null,"2010-11-07",{"$f":"MAX('uptake calcs'!M18-'uptake calcs'!M17,0)","v":0.43926954479608415},null,{"$f":"MAX('uptake calcs'!L18-'uptake calcs'!L17,0)","v":0},{"$f":"MAX('uptake calcs'!N18-'uptake calcs'!N17,0)","v":0},null,0.43926954479608415,null,9,null,0,24,null,56,null,68,44,0,"Year 1","Year 1","No Data"]
[null,null,8,null,null,"2010-11-08",{"$f":"MAX('uptake calcs'!M19-'uptake calcs'!M18,0)","v":0.42116838587793382},null,{"$f":"MAX('uptake calcs'!L19-'uptake calcs'!L18,0)","v":0},{"$f":"MAX('uptake calcs'!N19-'uptake calcs'!N18,0)","v":0},null,0.42116838587793382,null,8,null,0,22.5,null,54.5,null,66,43,0,"Year 1","Year 1","No Data"]
[null,null,9,null,null,"2010-11-09",{"$f":"MAX('uptake calcs'!M20-'uptake calcs'!M19,0)","v":0.41105800359654232},null,{"$f":"MAX('uptake calcs'!L20-'uptake calcs'!L19,0)","v":0},{"$f":"MAX('uptake calcs'!N20-'uptake calcs'!N19,0)","v":0},null,0.41105800359654232,null,8,null,0,21.5,null,53.5,null,66,41,0,"Year 1","Year 1","No Data"]
[null,null,10,null,null,"2010-11-10",{"$f":"MAX('uptake calcs'!M21-'uptake calcs'!M20,0)","v":0.39990515713078301},null,{"$f":"MAX('uptake calcs'!L21-'uptake calcs'!L20,0)","v":0},{"$f":"MAX('uptake calcs'!N21-'uptake calcs'!N20,0)","v":0},null,0.39990515713078301,null,7,null,0,20.5,null,52.5,null,64,41,0,"Year 1","Year 1","No Data"]
[null,null,11,null,null,"2010-11-11",{"$f":"MAX('uptake calcs'!M22-'uptake calcs'!M21,0)","v":0.41785283297149967},null,{"$f":"MAX('uptake calcs'!L22-'uptake calcs'!L21,0)","v":0},{"$f":"MAX('uptake calcs'!N22-'uptake calcs'!N21,0)","v":0},null,0.41785283297149967,null,7,null,0,21,null,53,null,64,42,0,"Year 1","Year 1","No Data"]
[null,null,12,null,null,"2010-11-12",{"$f":"MAX('uptake calcs'!M23-'uptake calcs'!M22,0)","v":0.40578531578469068},null,{"$f":"MAX('uptake calcs'!L23-'uptake calcs'!L22,0)","v":0},{"$f":"MAX('uptake calcs'!N23-'uptake calcs'!N22,0)","v":0},null,0.40578531578469068,null,7.5,null,0,20,null,52,null,65,39,0,"Year 1","Year 1","No Data"]
[null,null,13,null,null,"2010-11-13",{"$f":"MAX('uptake calcs'!M24-'uptake calcs'!M23,0)","v":0.43442448500616671},null,{"$f":"MAX('uptake calcs'!L24-'uptake calcs'!L23,0)","v":0},{"$f":"MAX('uptake calcs'!N24-'uptake calcs'!N23,0)","v":0},null,0.43442448500616671,null,8,null,0,21,null,53,null,66,40,0,"Year 1","Year 1","No Data"]
[null,null,14,null,null,"2010-11-14",{"$f":"MAX('uptake calcs'!M25-'uptake calcs'!M24,0)","v":0.44310981803721283},null,{"$f":"MAX('uptake calcs'!L25-'uptake calcs'!L24,0)","v":0},{"$f":"MAX('uptake calcs'!N25-'uptake calcs'!N24,0)","v":0},null,0.44310981803721283,null,8,null,0,21,null,53,null,66,40,0,"Year 1","Year 1","No Data"]
[null,null,15,null,null,"2010-11-15",{"$f":"MAX('uptake calcs'!M26-'uptake calcs'!M25,0)","v":0.44106572260534271},null,{"$f":"MAX('uptake calcs'!L26-'uptake calcs'!L25,0)","v":0},{"$f":"MAX('uptake calcs'!N26-'uptake calcs'!N25,0)","v":0},null,0.44106572260534271,null,7.5,null,0,20.5,null,52.5,null,65,40,0,"Year 1","Year 1","No Data"]
[null,null,16,null,null,"2010-11-16",{"$f":"MAX('uptake calcs'!M27-'uptake calcs'!M26,0)","v":0.46066903806338022},null,{"$f":"MAX('uptake calcs'!L27-'uptake calcs'!L26,0)","v":0},{"$f":"MAX('uptake calcs'!N27-'uptake calcs'!N26,0)","v":0},null,0.46066903806338022,null,7.5,null,0,21,null,53,null,65,41,0,"Year 1","Year 1","No Data"]
[null,null,17,null,null,"2010-11-17",{"$f":"MAX('uptake calcs'!M28-'uptake calcs'!M27,0)","v":0.48105158631276357},null,{"$f":"MAX('uptake calcs'!L28-'uptake calcs'!L27,0)","v":0},{"$f":"MAX('uptake calcs'!N28-'uptake calcs'!N27,0)","v":0},null,0.48105158631276357,null,8,null,0,21.5,null,53.5,null,66,41,0,"Year 1","Year 1","No Data"]
[null,null,18,null,null,"2010-11-18",{"$f":"MAX('uptake calcs'!M29-'uptake calcs'!M28,0)","v":0.4791974440679132},null,{"$f":"MAX('uptake calcs'!L29-'uptake calcs'!L28,0)","v":0},{"$f":"MAX('uptake calcs'!N29-'uptake calcs'!N28,0)","v":0},null,0.4791974440679132,null,7.5,null,0,21,null,53,null,65,41,0,"Year 1","Year 1","No Data"]
[null,null,19,null,null,"2010-11-19",{"$f":"MAX('uptake calcs'!M30-'uptake calcs'!M29,0)","v":0.44162082621211862},null,{"$f":"MAX('uptake calcs'!L30-'uptake calcs'!L29,0)","v":0},{"$f":"MAX('uptake calcs'!N30-'uptake calcs'!N29,0)","v":0},null,0.44162082621211862,null,6.5,null,0,19,null,51,null,63,39,0,"Year 1","Year 1","No Data"]
[null,null,20,null,null,"2010-11-20",{"$f":"MAX('uptake calcs'!M31-'uptake calcs'!M30,0)","v":0.46131421812432905},null,{"$f":"MAX('uptake calcs'!L31-'uptake calcs'!L30,0)","v":0},{"$f":"MAX('uptake calcs'!N31-'uptake calcs'!N30,0)","v":0},null,0.46131421812432905,null,6.5,null,0,19.5,null,51.5,null,63,40,0,"Year 1","Year 1","No Data"]
[null,null,21,null,null,"2010-11-21",{"$f":"MAX('uptake calcs'!M32-'uptake calcs'!M31,0)","v":0.43317857592642994},null,{"$f":"MAX('uptake calcs'!L32-'uptake calcs'!L31,0)","v":0},{"$f":"MAX('uptake calcs'!N32-'uptake calcs'!N31,0)","v":0},null,0.43317857592642994,null,6,null,0,18,null,50,null,62,38,0,"Year 1","Year 1","No Data"]
[null,null,22,null,null,"2010-11-22",{"$f":"MAX('uptake calcs'!M33-'uptake calcs'!M32,0)","v":0.42799357616678435},null,{"$f":"MAX('uptake calcs'!L33-'uptake calcs'!L32,0)","v":0},{"$f":"MAX('uptake calcs'!N33-'uptake calcs'!N32,0)","v":0},null,0.42799357616678435,null,6,null,0,17.5,null,49.5,null,62,37,0,"Year 1","Year 1","No Data"]
[null,null,23,null,null,"2010-11-23",{"$f":"MAX('uptake calcs'!M34-'uptake calcs'!M33,0)","v":0.42230450826713728},null,{"$f":"MAX('uptake calcs'!L34-'uptake calcs'!L33,0)","v":0},{"$f":"MAX('uptake calcs'!N34-'uptake calcs'!N33,0)","v":0},null,0.42230450826713728,null,6,null,0,17,null,49,null,62,36,0,"Year 1","Year 1","No Data"]
[null,null,24,null,null,"2010-11-24",{"$f":"MAX('uptake calcs'!M35-'uptake calcs'!M34,0)","v":0.4161149519346683},null,{"$f":"MAX('uptake calcs'!L35-'uptake calcs'!L34,0)","v":0},{"$f":"MAX('uptake calcs'!N35-'uptake calcs'!N34,0)","v":0},null,0.4161149519346683,null,5.5,null,0,16.5,null,48.5,null,61,36,0,"Year 1","Year 1","No Data"]
[null,null,25,null,null,"2010-11-25",{"$f":"MAX('uptake calcs'!M36-'uptake calcs'!M35,0)","v":0.44811462986872286},null,{"$f":"MAX('uptake calcs'!L36-'uptake calcs'!L35,0)","v":0},{"$f":"MAX('uptake calcs'!N36-'uptake calcs'!N35,0)","v":0},null,0.44811462986872286,null,6,null,0,17.5,null,49.5,null,62,37,0,"Year 1","Year 1","No Data"]
[null,null,26,null,null,"2010-11-26",{"$f":"MAX('uptake calcs'!M37-'uptake calcs'!M36,0)","v":0.41587740461514322},null,{"$f":"MAX('uptake calcs'!L37-'uptake calcs'!L36,0)","v":0},{"$f":"MAX('uptake calcs'!N37-'uptake calcs'!N36,0)","v":0},null,0.41587740461514322,null,4.5,null,0,16,null,48,null,59,37,0,"Year 1","Year 1","No Data"]
[null,null,27,null,null,"2010-11-27",{"$f":"MAX('uptake calcs'!M38-'uptake calcs'!M37,0)","v":0.39529398350963874},null,{"$f":"MAX('uptake calcs'!L38-'uptake calcs'!L37,0)","v":0},{"$f":"MAX('uptake calcs'!N38-'uptake calcs'!N37,0)","v":0},null,0.39529398350963874,null,3.5,null,0,15,null,47,null,57,37,0,"Year 1","Year 1","No Data"]
[null,null,28,null,null,"2010-11-28",{"$f":"MAX('uptake calcs'!M39-'uptake calcs'!M38,0)","v":0.4140218738242023},null,{"$f":"MAX('uptake calcs'!L39-'uptake calcs'!L38,0)","v":0},{"$f":"MAX('uptake calcs'!N39-'uptake calcs'!N38,0)","v":0},null,0.4140218738242023,null,4,null,0,15.5,null,47.5,null,58,37,0,"Year 1","Year 1","No Data"]
[null,null,29,null,null,"2010-11-29",{"$f":"MAX('uptake calcs'!M40-'uptake calcs'!M39,0)","v":0.40608801604303224},null,{"$f":"MAX('uptake calcs'!L40-'uptake calcs'!L39,0)","v":0},{"$f":"MAX('uptake calcs'!N40-'uptake calcs'!N39,0)","v":0},null,0.40608801604303224,null,4,null,0,15,null,47,null,58,36,0,"Year 1","Year 1","No Data"]
[null,null,30,null,null,"2010-11-30",{"$f":"MAX('uptake calcs'!M41-'uptake calcs'!M40,0)","v":0.42527796210851321},null,{"$f":"MAX('uptake calcs'!L41-'uptake calcs'!L40,0)","v":0},{"$f":"MAX('uptake calcs'!N41-'uptake calcs'!N40,0)","v":0},null,0.42527796210851321,null,4.5,null,0,15.5,null,47.5,null,59,36,0,"Year 1","Year 1","No Data"]
[null,null,31,null,null,"2010-12-01",{"$f":"MAX('uptake calcs'!M42-'uptake calcs'!M41,0)","v":0.41707940556719691},null,{"$f":"MAX('uptake calcs'!L42-'uptake calcs'!L41,0)","v":0},{"$f":"MAX('uptake calcs'!N42-'uptake calcs'!N41,0)","v":0},null,0.41707940556719691,null,4,null,0,15,null,47,null,58,36,0,"Year 1","Year 1","No Data"]
[null,null,32,null,null,"2010-12-02",{"$f":"MAX('uptake calcs'!M43-'uptake calcs'!M42,0)","v":0.42255667463097701},null,{"$f":"MAX('uptake calcs'!L43-'uptake calcs'!L42,0)","v":0},{"$f":"MAX('uptake calcs'!N43-'uptake calcs'!N42,0)","v":0},null,0.42255667463097701,null,4.5,null,0,15,null,47,null,59,35,0,"Year 1","Year 1","No Data"]
[null,null,33,null,null,"2010-12-03",{"$f":"MAX('uptake calcs'!M44-'uptake calcs'!M43,0)","v":0.41372191112422918},null,{"$f":"MAX('uptake calcs'!L44-'uptake calcs'!L43,0)","v":0},{"$f":"MAX('uptake calcs'!N44-'uptake calcs'!N43,0)","v":0},null,0.41372191112422918,null,3.5,null,0,14.5,null,46.5,null,57,36,0,"Year 1","Year 1","No Data"]
[null,null,34,null,null,"2010-12-04",{"$f":"MAX('uptake calcs'!M45-'uptake calcs'!M44,0)","v":0.43346487598983607},null,{"$f":"MAX('uptake calcs'!L45-'uptake calcs'!L44,0)","v":0},{"$f":"MAX('uptake calcs'!N45-'uptake calcs'!N44,0)","v":0},null,0.43346487598983607,null,4,null,0,15,null,47,null,58,36,0,"Year 1","Year 1","No Data"]
[null,null,35,null,null,"2010-12-05",{"$f":"MAX('uptake calcs'!M46-'uptake calcs'!M45,0)","v":0.43907996400244542},null,{"$f":"MAX('uptake calcs'!L46-'uptake calcs'!L45,0)","v":0},{"$f":"MAX('uptake calcs'!N46-'uptake calcs'!N45,0)","v":0},null,0.43907996400244542,null,3.5,null,0,15,null,47,null,57,37,0,"Year 1","Year 1","No Data"]
[null,null,36,null,null,"2010-12-06",{"$f":"MAX('uptake calcs'!M47-'uptake calcs'!M46,0)","v":0.44474072487061633},null,{"$f":"MAX('uptake calcs'!L47-'uptake calcs'!L46,0)","v":0},{"$f":"MAX('uptake calcs'!N47-'uptake calcs'!N46,0)","v":0},null,0.44474072487061633,null,3.5,null,0,15,null,47,null,57,37,0,"Year 1","Year 1","No Data"]
[null,null,37,null,null,"2010-12-07",{"$f":"MAX('uptake calcs'!M48-'uptake calcs'!M47,0)","v":0.46556040118924535},null,{"$f":"MAX('uptake calcs'!L48-'uptake calcs'!L47,0)","v":0},{"$f":"MAX('uptake calcs'!N48-'uptake calcs'!N47,0)","v":0},null,0.46556040118924535,null,3.5,null,0,15.5,null,47.5,null,57,38,0,"Year 1","Year 1","No Data"]
[null,null,38,null,null,"2010-12-08",{"$f":"MAX('uptake calcs'!M49-'uptake calcs'!M48,0)","v":0.42578408279538849},null,{"$f":"MAX('uptake calcs'!L49-'uptake calcs'!L48,0)","v":0},{"$f":"MAX('uptake calcs'!N49-'uptake calcs'!N48,0)","v":0},null,0.42578408279538849,null,3.5,null,0,14,null,46,null,57,35,0,"Year 1","Year 1","No Data"]
[null,null,39,null,null,"2010-12-09",{"$f":"MAX('uptake calcs'!M50-'uptake calcs'!M49,0)","v":0.44631151597492291},null,{"$f":"MAX('uptake calcs'!L50-'uptake calcs'!L49,0)","v":0},{"$f":"MAX('uptake calcs'!N50-'uptake calcs'!N49,0)","v":0},null,0.44631151597492291,null,3.5,null,0,14.5,null,46.5,null,57,36,0,"Year 1","Year 1","No Data"]
[null,null,40,null,null,"2010-12-10",{"$f":"MAX('uptake calcs'!M51-'uptake calcs'!M50,0)","v":0.46744062408525267},null,{"$f":"MAX('uptake calcs'!L51-'uptake calcs'!L50,0)","v":0},{"$f":"MAX('uptake calcs'!N51-'uptake calcs'!N50,0)","v":0},null,0.46744062408525267,null,3.5,null,0,15,null,47,null,57,37,0,"Year 1","Year 1","No Data"]
[null,null,41,null,null,"2010-12-11",{"$f":"MAX('uptake calcs'!M52-'uptake calcs'!M51,0)","v":0.44158126719606727},null,{"$f":"MAX('uptake calcs'!L52-'uptake calcs'!L51,0)","v":0},{"$f":"MAX('uptake calcs'!N52-'uptake calcs'!N51,0)","v":0},null,0.44158126719606727,null,2.5,null,0,14,null,46,null,55,37,0,"Year 1","Year 1","No Data"]
[null,null,42,null,null,"2010-12-12",{"$f":"MAX('uptake calcs'!M53-'uptake calcs'!M52,0)","v":0.46278793444293598},null,{"$f":"MAX('uptake calcs'!L53-'uptake calcs'!L52,0)","v":0},{"$f":"MAX('uptake calcs'!N53-'uptake calcs'!N52,0)","v":0},null,0.46278793444293598,null,2.5,null,0,14.5,null,46.5,null,55,38,0,"Year 1","Year 1","No Data"]
[null,null,43,null,null,"2010-12-13",{"$f":"MAX('uptake calcs'!M54-'uptake calcs'!M53,0)","v":0.51712678878704565},null,{"$f":"MAX('uptake calcs'!L54-'uptake calcs'!L53,0)","v":0},{"$f":"MAX('uptake calcs'!N54-'uptake calcs'!N53,0)","v":0},null,0.51712678878704565,null,4,null,0,16,null,48,null,58,38,0,"Year 1","Year 1","No Data"]
[null,null,44,null,null,"2010-12-14",{"$f":"MAX('uptake calcs'!M55-'uptake calcs'!M54,0)","v":0.4745450416090442},null,{"$f":"MAX('uptake calcs'!L55-'uptake calcs'!L54,0)","v":0},{"$f":"MAX('uptake calcs'!N55-'uptake calcs'!N54,0)","v":0},null,0.4745450416090442,null,2.5,null,0,14.5,null,46.5,null,55,38,0,"Year 1","Year 1","No Data"]
[null,null,45,null,null,"2010-12-15",{"$f":"MAX('uptake calcs'!M56-'uptake calcs'!M55,0)","v":0.46353912109039186},null,{"$f":"MAX('uptake calcs'!L56-'uptake calcs'!L55,0)","v":0},{"$f":"MAX('uptake calcs'!N56-'uptake calcs'!N55,0)","v":0},null,0.46353912109039186,null,2.5,null,0,14,null,46,null,55,37,0,"Year 1","Year 1","No Data"]
[null,null,46,null,null,"2010-12-16",{"$f":"MAX('uptake calcs'!M57-'uptake calcs'!M56,0)","v":0.41834903022040137},null,{"$f":"MAX('uptake calcs'!L57-'uptake calcs'!L56,0)","v":0},{"$f":"MAX('uptake calcs'!N57-'uptake calcs'!N56,0)","v":0},null,0.41834903022040137,null,2,null,0,12.5,null,44.5,null,54,35,0,"Year 1","Year 1","No Data"]
[null,null,47,null,null,"2010-12-17",{"$f":"MAX('uptake calcs'!M58-'uptake calcs'!M57,0)","v":0.43958663476069049},null,{"$f":"MAX('uptake calcs'!L58-'uptake calcs'!L57,0)","v":0},{"$f":"MAX('uptake calcs'!N58-'uptake calcs'!N57,0)","v":0},null,0.43958663476069049,null,2,null,0,13,null,45,null,54,36,0,"Year 1","Year 1","No Data"]
[null,null,48,null,null,"2010-12-18",{"$f":"MAX('uptake calcs'!M59-'uptake calcs'!M58,0)","v":0.44420344128772271},null,{"$f":"MAX('uptake calcs'!L59-'uptake calcs'!L58,0)","v":0},{"$f":"MAX('uptake calcs'!N59-'uptake calcs'!N58,0)","v":0},null,0.44420344128772271,null,1.5,null,0,13,null,45,null,53,37,0,"Year 1","Year 1","No Data"]
[null,null,49,null,null,"2010-12-19",{"$f":"MAX('uptake calcs'!M60-'uptake calcs'!M59,0)","v":0.43149558613785288},null,{"$f":"MAX('uptake calcs'!L60-'uptake calcs'!L59,0)","v":0},{"$f":"MAX('uptake calcs'!N60-'uptake calcs'!N59,0)","v":0},null,0.43149558613785288,null,1.5,null,0,12.5,null,44.5,null,53,36,0,"Year 1","Year 1","No Data"]
[null,null,50,null,null,"2010-12-20",{"$f":"MAX('uptake calcs'!M61-'uptake calcs'!M60,0)","v":0.41829310573533007},null,{"$f":"MAX('uptake calcs'!L61-'uptake calcs'!L60,0)","v":0},{"$f":"MAX('uptake calcs'!N61-'uptake calcs'!N60,0)","v":0},null,0.41829310573533007,null,1,null,0,12,null,44,null,52,36,0,"Year 1","Year 1","No Data"]
[null,null,51,null,null,"2010-12-21",{"$f":"MAX('uptake calcs'!M62-'uptake calcs'!M61,0)","v":0.40461138548484499},null,{"$f":"MAX('uptake calcs'!L62-'uptake calcs'!L61,0)","v":0},{"$f":"MAX('uptake calcs'!N62-'uptake calcs'!N61,0)","v":0},null,0.40461138548484499,null,1,null,0,11.5,null,43.5,null,52,35,0,"Year 1","Year 1","No Data"]
[null,null,52,null,null,"2010-12-22",{"$f":"MAX('uptake calcs'!M63-'uptake calcs'!M62,0)","v":0.44397377074733768},null,{"$f":"MAX('uptake calcs'!L63-'uptake calcs'!L62,0)","v":0},{"$f":"MAX('uptake calcs'!N63-'uptake calcs'!N62,0)","v":0},null,0.44397377074733768,null,1.5,null,0,12.5,null,44.5,null,53,36,0,"Year 1","Year 1","No Data"]
[null,null,53,null,null,"2010-12-23",{"$f":"MAX('uptake calcs'!M64-'uptake calcs'!M63,0)","v":0.39431334118395611},null,{"$f":"MAX('uptake calcs'!L64-'uptake calcs'!L63,0)","v":0},{"$f":"MAX('uptake calcs'!N64-'uptake calcs'!N63,0)","v":0},null,0.39431334118395611,null,1.5,null,0,11,null,43,null,53,33,0,"Year 1","Year 1","No Data"]
[null,null,54,null,null,"2010-12-24",{"$f":"MAX('uptake calcs'!M65-'uptake calcs'!M64,0)","v":0.39771311859485436},null,{"$f":"MAX('uptake calcs'!L65-'uptake calcs'!L64,0)","v":0},{"$f":"MAX('uptake calcs'!N65-'uptake calcs'!N64,0)","v":0},null,0.39771311859485436,null,1,null,0,11,null,43,null,52,34,0,"Year 1","Year 1","No Data"]
[null,null,55,null,null,"2010-12-25",{"$f":"MAX('uptake calcs'!M66-'uptake calcs'!M65,0)","v":0.36451878207287436},null,{"$f":"MAX('uptake calcs'!L66-'uptake calcs'!L65,0)","v":0},{"$f":"MAX('uptake calcs'!N66-'uptake calcs'!N65,0)","v":0},null,0.36451878207287436,null,1,null,0,10,null,42,null,52,32,0,"Year 1","Year 1","No Data"]
[null,null,56,null,null,"2010-12-26",{"$f":"MAX('uptake calcs'!M67-'uptake calcs'!M66,0)","v":0.4226963795854104},null,{"$f":"MAX('uptake calcs'!L67-'uptake calcs'!L66,0)","v":0},{"$f":"MAX('uptake calcs'!N67-'uptake calcs'!N66,0)","v":0},null,0.4226963795854104,null,2,null,0,11.5,null,43.5,null,54,33,0,"Year 1","Year 1","No Data"]
[null,null,57,null,null,"2010-12-27",{"$f":"MAX('uptake calcs'!M68-'uptake calcs'!M67,0)","v":0.4823564675914902},null,{"$f":"MAX('uptake calcs'!L68-'uptake calcs'!L67,0)","v":0},{"$f":"MAX('uptake calcs'!N68-'uptake calcs'!N67,0)","v":0},null,0.4823564675914902,null,3,null,0,13,null,45,null,56,34,0,"Year 1","Year 1","No Data"]
[null,null,58,null,null,"2010-12-28",{"$f":"MAX('uptake calcs'!M69-'uptake calcs'!M68,0)","v":0.48717895730489502},null,{"$f":"MAX('uptake calcs'!L69-'uptake calcs'!L68,0)","v":0},{"$f":"MAX('uptake calcs'!N69-'uptake calcs'!N68,0)","v":0},null,0.48717895730489502,null,2,null,0,13,null,45,null,54,36,0,"Year 1","Year 1","No Data"]
[null,null,59,null,null,"2010-12-29",{"$f":"MAX('uptake calcs'!M70-'uptake calcs'!M69,0)","v":0.49202126046476025},null,{"$f":"MAX('uptake calcs'!L70-'uptake calcs'!L69,0)","v":0},{"$f":"MAX('uptake calcs'!N70-'uptake calcs'!N69,0)","v":0},null,0.49202126046476025,null,2,null,0,13,null,45,null,54,36,0,"Year 1","Year 1","No Data"]
[null,null,60,null,null,"2010-12-30",{"$f":"MAX('uptake calcs'!M71-'uptake calcs'!M70,0)","v":0.49688274675636634},null,{"$f":"MAX('uptake calcs'!L71-'uptake calcs'!L70,0)","v":0},{"$f":"MAX('uptake calcs'!N71-'uptake calcs'!N70,0)","v":0},null,0.49688274675636634,null,2,null,0,13,null,45,null,54,36,0,"Year 1","Year 1","No Data"]
[null,null,61,null,null,"2010-12-31",{"$f":"MAX('uptake calcs'!M72-'uptake calcs'!M71,0)","v":0.54056255183125757},null,{"$f":"MAX('uptake calcs'!L72-'uptake calcs'!L71,0)","v":0},{"$f":"MAX('uptake calcs'!N72-'uptake calcs'!N71,0)","v":0},null,0.54056255183125757,null,2.5,null,0,14,null,46,null,55,37,0,"Year 1","Year 1","No Data"]
[null,null,62,null,null,"2011-01-01",{"$f":"MAX('uptake calcs'!M73-'uptake calcs'!M72,0)","v":0.52663768040955361},null,{"$f":"MAX('uptake calcs'!L73-'uptake calcs'!L72,0)","v":0},{"$f":"MAX('uptake calcs'!N73-'uptake calcs'!N72,0)","v":0},null,0.52663768040955361,null,2,null,0,13.5,null,45.5,null,54,37,0,"Year 2","Year 2","No Data"]
[null,null,63,null,null,"2011-01-02",{"$f":"MAX('uptake calcs'!M74-'uptake calcs'!M73,0)","v":0.53194019275529314},null,{"$f":"MAX('uptake calcs'!L74-'uptake calcs'!L73,0)","v":0},{"$f":"MAX('uptake calcs'!N74-'uptake calcs'!N73,0)","v":0},null,0.53194019275529314,null,2,null,0,13.5,null,45.5,null,54,37,0,"Year 2","Year 2","No Data"]
[null,null,64,null,null,"2011-01-03",{"$f":"MAX('uptake calcs'!M75-'uptake calcs'!M74,0)","v":0.51726740558428475},null,{"$f":"MAX('uptake calcs'!L75-'uptake calcs'!L74,0)","v":0},{"$f":"MAX('uptake calcs'!N75-'uptake calcs'!N74,0)","v":0},null,0.51726740558428475,null,2,null,0,13,null,45,null,54,36,0,"Year 2","Year 2","No Data"]
[null,null,65,null,null,"2011-01-04",{"$f":"MAX('uptake calcs'!M76-'uptake calcs'!M75,0)","v":0.48187046557539759},null,{"$f":"MAX('uptake calcs'!L76-'uptake calcs'!L75,0)","v":0},{"$f":"MAX('uptake calcs'!N76-'uptake calcs'!N75,0)","v":0},null,{"$f":"SUM(G159:J159)","v":0.48187046557539759},null,{"$f":"IF($U159>cutoff.corn.min,((IF($U159>cutoff.corn.max,cutoff.corn.max,$U159)+IF($V159<cutoff.corn.min,cutoff.corn.min,$V159))/2)-cutoff.corn.min,0)","v":1.5},null,{"$f":"IF(AND(C159>=C$44,C159<=$C$55),N159+P158,0)","v":0},{"$f":"((U159+V159)/2)-32","v":12},null,{"$f":"AVERAGE(U159:V159)","v":44},null,53,35,0,"Year 2","Year 2","No Data"]
[null,null,66,null,null,"2011-01-05",{"$f":"MAX('uptake calcs'!M77-'uptake calcs'!M76,0)","v":0.48609969752826387},null,{"$f":"MAX('uptake calcs'!L77-'uptake calcs'!L76,0)","v":0},{"$f":"MAX('uptake calcs'!N77-'uptake calcs'!N76,0)","v":0},null,0.48609969752826387,null,1.5,null,0,12,null,44,null,53,35,0,"Year 2","Year 2","No Data"]
[null,null,67,null,null,{"$f":"F160+1","v":"2011-01-06"},{"$f":"MAX('uptake calcs'!M78-'uptake calcs'!M77,0)","v":0.44931622569826146},null,{"$f":"MAX('uptake calcs'!L78-'uptake calcs'!L77,0)","v":0},{"$f":"MAX('uptake calcs'!N78-'uptake calcs'!N77,0)","v":0},null,0.44931622569826146,null,1,null,0,11,null,43,null,52,34,0,"Year 2","Year 2","No Data"]
[null,null,68,null,null,"2011-01-07",{"$f":"MAX('uptake calcs'!M79-'uptake calcs'!M78,0)","v":0.49423654405472917},null,{"$f":"MAX('uptake calcs'!L79-'uptake calcs'!L78,0)","v":0},{"$f":"MAX('uptake calcs'!N79-'uptake calcs'!N78,0)","v":0},null,0.49423654405472917,null,1,null,0,12,null,44,null,52,36,0,"Year 2","Year 2","No Data"]
[null,null,69,null,null,"2011-01-08",{"$f":"MAX('uptake calcs'!M80-'uptake calcs'!M79,0)","v":0.56110899326257169},null,{"$f":"MAX('uptake calcs'!L80-'uptake calcs'!L79,0)","v":0},{"$f":"MAX('uptake calcs'!N80-'uptake calcs'!N79,0)","v":0},null,0.56110899326257169,null,1.5,null,0,13.5,null,45.5,null,53,38,0,"Year 2","Year 2","No Data"]
[null,null,70,null,null,"2011-01-09",{"$f":"MAX('uptake calcs'!M81-'uptake calcs'!M80,0)","v":0.58760042715936578},null,{"$f":"MAX('uptake calcs'!L81-'uptake calcs'!L80,0)","v":0},{"$f":"MAX('uptake calcs'!N81-'uptake calcs'!N80,0)","v":0},null,0.58760042715936578,null,2,null,0,14,null,46,null,54,38,0,"Year 2","Year 2","No Data"]
[null,null,71,null,null,"2011-01-10",{"$f":"MAX('uptake calcs'!M82-'uptake calcs'!M81,0)","v":0.59342765348363002},null,{"$f":"MAX('uptake calcs'!L82-'uptake calcs'!L81,0)","v":0},{"$f":"MAX('uptake calcs'!N82-'uptake calcs'!N81,0)","v":0},null,0.59342765348363002,null,2,null,0,14,null,46,null,54,38,0,"Year 2","Year 2","No Data"]
[null,null,72,null,null,"2011-01-11",{"$f":"MAX('uptake calcs'!M83-'uptake calcs'!M82,0)","v":0.55626894761742562},null,{"$f":"MAX('uptake calcs'!L83-'uptake calcs'!L82,0)","v":0},{"$f":"MAX('uptake calcs'!N83-'uptake calcs'!N82,0)","v":0},null,0.55626894761742562,null,1,null,0,13,null,45,null,52,38,0,"Year 2","Year 2","No Data"]
[null,null,73,null,null,"2011-01-12",{"$f":"MAX('uptake calcs'!M84-'uptake calcs'!M83,0)","v":0.58300376791448372},null,{"$f":"MAX('uptake calcs'!L84-'uptake calcs'!L83,0)","v":0},{"$f":"MAX('uptake calcs'!N84-'uptake calcs'!N83,0)","v":0},null,0.58300376791448372,null,1.5,null,0,13.5,null,45.5,null,53,38,0,"Year 2","Year 2","No Data"]
[null,null,74,null,null,"2011-01-13",{"$f":"MAX('uptake calcs'!M85-'uptake calcs'!M84,0)","v":0.54467749418309808},null,{"$f":"MAX('uptake calcs'!L85-'uptake calcs'!L84,0)","v":0},{"$f":"MAX('uptake calcs'!N85-'uptake calcs'!N84,0)","v":0},null,0.54467749418309808,null,2,null,0,12.5,null,44.5,null,54,35,0,"Year 2","Year 2","No Data"]
[null,null,75,null,null,"2011-01-14",{"$f":"MAX('uptake calcs'!M86-'uptake calcs'!M85,0)","v":0.54935672944429825},null,{"$f":"MAX('uptake calcs'!L86-'uptake calcs'!L85,0)","v":0},{"$f":"MAX('uptake calcs'!N86-'uptake calcs'!N85,0)","v":0},null,0.54935672944429825,null,1.5,null,0,12.5,null,44.5,null,53,36,0,"Year 2","Year 2","No Data"]
[null,null,76,null,null,"2011-01-15",{"$f":"MAX('uptake calcs'!M87-'uptake calcs'!M86,0)","v":0.55404192230442106},null,{"$f":"MAX('uptake calcs'!L87-'uptake calcs'!L86,0)","v":0},{"$f":"MAX('uptake calcs'!N87-'uptake calcs'!N86,0)","v":0},null,0.55404192230442106,null,1.5,null,0,12.5,null,44.5,null,53,36,0,"Year 2","Year 2","No Data"]
[null,null,77,null,null,"2011-01-16",{"$f":"MAX('uptake calcs'!M88-'uptake calcs'!M87,0)","v":0.60363361626861689},null,{"$f":"MAX('uptake calcs'!L88-'uptake calcs'!L87,0)","v":0},{"$f":"MAX('uptake calcs'!N88-'uptake calcs'!N87,0)","v":0},null,0.60363361626861689,null,2.5,null,0,13.5,null,45.5,null,55,36,0,"Year 2","Year 2","No Data"]
[null,null,78,null,null,"2011-01-17",{"$f":"MAX('uptake calcs'!M89-'uptake calcs'!M88,0)","v":0.60910986659963129},null,{"$f":"MAX('uptake calcs'!L89-'uptake calcs'!L88,0)","v":0},{"$f":"MAX('uptake calcs'!N89-'uptake calcs'!N88,0)","v":0},null,0.60910986659963129,null,2,null,0,13.5,null,45.5,null,54,37,0,"Year 2","Year 2","No Data"]
[null,null,79,null,null,"2011-01-18",{"$f":"MAX('uptake calcs'!M90-'uptake calcs'!M89,0)","v":0.63745833232745497},null,{"$f":"MAX('uptake calcs'!L90-'uptake calcs'!L89,0)","v":0},{"$f":"MAX('uptake calcs'!N90-'uptake calcs'!N89,0)","v":0},null,0.63745833232745497,null,2.5,null,0,14,null,46,null,55,37,0,"Year 2","Year 2","No Data"]
[null,null,80,null,null,"2011-01-19",{"$f":"MAX('uptake calcs'!M91-'uptake calcs'!M90,0)","v":0.62027730261621628},null,{"$f":"MAX('uptake calcs'!L91-'uptake calcs'!L90,0)","v":0},{"$f":"MAX('uptake calcs'!N91-'uptake calcs'!N90,0)","v":0},null,0.62027730261621628,null,2.5,null,0,13.5,null,45.5,null,55,36,0,"Year 2","Year 2","No Data"]
[null,null,81,null,null,"2011-01-20",{"$f":"MAX('uptake calcs'!M92-'uptake calcs'!M91,0)","v":0.57922211136400392},null,{"$f":"MAX('uptake calcs'!L92-'uptake calcs'!L91,0)","v":0},{"$f":"MAX('uptake calcs'!N92-'uptake calcs'!N91,0)","v":0},null,0.57922211136400392,null,2,null,0,12.5,null,44.5,null,54,35,0,"Year 2","Year 2","No Data"]
[null,null,82,null,null,"2011-01-21",{"$f":"MAX('uptake calcs'!M93-'uptake calcs'!M92,0)","v":0.63084322539268101},null,{"$f":"MAX('uptake calcs'!L93-'uptake calcs'!L92,0)","v":0},{"$f":"MAX('uptake calcs'!N93-'uptake calcs'!N92,0)","v":0},null,0.63084322539268101,null,2.5,null,0,13.5,null,45.5,null,55,36,0,"Year 2","Year 2","No Data"]
[null,null,83,null,null,"2011-01-22",{"$f":"MAX('uptake calcs'!M94-'uptake calcs'!M93,0)","v":0.63632942096153045},null,{"$f":"MAX('uptake calcs'!L94-'uptake calcs'!L93,0)","v":0},{"$f":"MAX('uptake calcs'!N94-'uptake calcs'!N93,0)","v":0},null,0.63632942096153045,null,2,null,0,13.5,null,45.5,null,54,37,0,"Year 2","Year 2","No Data"]
[null,null,84,null,null,"2011-01-23",{"$f":"MAX('uptake calcs'!M95-'uptake calcs'!M94,0)","v":0.66569024002860999},null,{"$f":"MAX('uptake calcs'!L95-'uptake calcs'!L94,0)","v":0},{"$f":"MAX('uptake calcs'!N95-'uptake calcs'!N94,0)","v":0},null,0.66569024002860999,null,2,null,0,14,null,46,null,54,38,0,"Year 2","Year 2","No Data"]
[null,null,85,null,null,"2011-01-24",{"$f":"MAX('uptake calcs'!M96-'uptake calcs'!M95,0)","v":0.67158550251097182},null,{"$f":"MAX('uptake calcs'!L96-'uptake calcs'!L95,0)","v":0},{"$f":"MAX('uptake calcs'!N96-'uptake calcs'!N95,0)","v":0},null,0.67158550251097182,null,2,null,0,14,null,46,null,54,38,0,"Year 2","Year 2","No Data"]
[null,null,86,null,null,"2011-01-25",{"$f":"MAX('uptake calcs'!M97-'uptake calcs'!M96,0)","v":0.77473899599330309},null,{"$f":"MAX('uptake calcs'!L97-'uptake calcs'!L96,0)","v":0},{"$f":"MAX('uptake calcs'!N97-'uptake calcs'!N96,0)","v":0},null,0.77473899599330309,null,3.5,null,0,16,null,48,null,57,39,0,"Year 2","Year 2","No Data"]
[null,null,87,null,null,"2011-01-26",{"$f":"MAX('uptake calcs'!M98-'uptake calcs'!M97,0)","v":0.73329721202775033},null,{"$f":"MAX('uptake calcs'!L98-'uptake calcs'!L97,0)","v":0},{"$f":"MAX('uptake calcs'!N98-'uptake calcs'!N97,0)","v":0},null,0.73329721202775033,null,2.5,null,0,15,null,47,null,55,39,0,"Year 2","Year 2","No Data"]
[null,null,88,null,null,"2011-01-27",{"$f":"MAX('uptake calcs'!M99-'uptake calcs'!M98,0)","v":0.76482570665046978},null,{"$f":"MAX('uptake calcs'!L99-'uptake calcs'!L98,0)","v":0},{"$f":"MAX('uptake calcs'!N99-'uptake calcs'!N98,0)","v":0},null,0.76482570665046978,null,3.5,null,0,15.5,null,47.5,null,57,38,0,"Year 2","Year 2","No Data"]
[null,null,89,null,null,"2011-01-28",{"$f":"MAX('uptake calcs'!M100-'uptake calcs'!M99,0)","v":0.69698948600733956},null,{"$f":"MAX('uptake calcs'!L100-'uptake calcs'!L99,0)","v":0},{"$f":"MAX('uptake calcs'!N100-'uptake calcs'!N99,0)","v":0},null,0.69698948600733956,null,3,null,0,14,null,46,null,56,36,0,"Year 2","Year 2","No Data"]
[null,null,90,null,null,"2011-01-29",{"$f":"MAX('uptake calcs'!M101-'uptake calcs'!M100,0)","v":0.72805260341801414},null,{"$f":"MAX('uptake calcs'!L101-'uptake calcs'!L100,0)","v":0},{"$f":"MAX('uptake calcs'!N101-'uptake calcs'!N100,0)","v":0},null,0.72805260341801414,null,4,null,0,14.5,null,46.5,null,58,35,0,"Year 2","Year 2","No Data"]
[null,null,91,null,null,"2011-01-30",{"$f":"MAX('uptake calcs'!M102-'uptake calcs'!M101,0)","v":0.70889208145535321},null,{"$f":"MAX('uptake calcs'!L102-'uptake calcs'!L101,0)","v":0},{"$f":"MAX('uptake calcs'!N102-'uptake calcs'!N101,0)","v":0},null,0.70889208145535321,null,2.5,null,0,14,null,46,null,55,37,0,"Year 2","Year 2","No Data"]
[null,null,92,null,null,"2011-01-31",{"$f":"MAX('uptake calcs'!M103-'uptake calcs'!M102,0)","v":0.79163985494487576},null,{"$f":"MAX('uptake calcs'!L103-'uptake calcs'!L102,0)","v":0},{"$f":"MAX('uptake calcs'!N103-'uptake calcs'!N102,0)","v":0},null,0.79163985494487576,null,3.5,null,0,15.5,null,47.5,null,57,38,0,"Year 2","Year 2","No Data"]
[null,null,93,null,null,"2011-02-01",{"$f":"MAX('uptake calcs'!M104-'uptake calcs'!M103,0)","v":0.82464400652532532},null,{"$f":"MAX('uptake calcs'!L104-'uptake calcs'!L103,0)","v":0},{"$f":"MAX('uptake calcs'!N104-'uptake calcs'!N103,0)","v":0},null,0.82464400652532532,null,4,null,0,16,null,48,null,58,38,0,"Year 2","Year 2","No Data"]
[null,null,94,null,null,"2011-02-02",{"$f":"MAX('uptake calcs'!M105-'uptake calcs'!M104,0)","v":0.85833138737938697},null,{"$f":"MAX('uptake calcs'!L105-'uptake calcs'!L104,0)","v":0},{"$f":"MAX('uptake calcs'!N105-'uptake calcs'!N104,0)","v":0},null,0.85833138737938697,null,4.5,null,0,16.5,null,48.5,null,59,38,0,"Year 2","Year 2","No Data"]
[null,null,95,null,null,"2011-02-03",{"$f":"MAX('uptake calcs'!M106-'uptake calcs'!M105,0)","v":0.89271573053681408},null,{"$f":"MAX('uptake calcs'!L106-'uptake calcs'!L105,0)","v":0},{"$f":"MAX('uptake calcs'!N106-'uptake calcs'!N105,0)","v":0},null,0.89271573053681408,null,5,null,0,17,null,49,null,60,38,0,"Year 2","Year 2","No Data"]
[null,null,96,null,null,"2011-02-04",{"$f":"MAX('uptake calcs'!M107-'uptake calcs'!M106,0)","v":0.92780932709653285},null,{"$f":"MAX('uptake calcs'!L107-'uptake calcs'!L106,0)","v":0},{"$f":"MAX('uptake calcs'!N107-'uptake calcs'!N106,0)","v":0},null,0.92780932709653285,null,5.5,null,0,17.5,null,49.5,null,61,38,0,"Year 2","Year 2","No Data"]
[null,null,97,null,null,"2011-02-05",{"$f":"MAX('uptake calcs'!M108-'uptake calcs'!M107,0)","v":0.9098416201318571},null,{"$f":"MAX('uptake calcs'!L108-'uptake calcs'!L107,0)","v":0},{"$f":"MAX('uptake calcs'!N108-'uptake calcs'!N107,0)","v":0},null,0.9098416201318571,null,5,null,0,17,null,49,null,60,38,0,"Year 2","Year 2","No Data"]
[null,null,98,null,null,"2011-02-06",{"$f":"MAX('uptake calcs'!M109-'uptake calcs'!M108,0)","v":0.89108698601036451},null,{"$f":"MAX('uptake calcs'!L109-'uptake calcs'!L108,0)","v":0},{"$f":"MAX('uptake calcs'!N109-'uptake calcs'!N108,0)","v":0},null,0.89108698601036451,null,4.5,null,0,16.5,null,48.5,null,59,38,0,"Year 2","Year 2","No Data"]
[null,null,99,null,null,"2011-02-07",{"$f":"MAX('uptake calcs'!M110-'uptake calcs'!M109,0)","v":0.98103453162673304},null,{"$f":"MAX('uptake calcs'!L110-'uptake calcs'!L109,0)","v":0},{"$f":"MAX('uptake calcs'!N110-'uptake calcs'!N109,0)","v":0},null,0.98103453162673304,null,4.5,null,0,18,null,50,null,59,41,0,"Year 2","Year 2","No Data"]
[null,null,100,null,null,"2011-02-08",{"$f":"MAX('uptake calcs'!M111-'uptake calcs'!M110,0)","v":0.93504210908644581},null,{"$f":"MAX('uptake calcs'!L111-'uptake calcs'!L110,0)","v":0},{"$f":"MAX('uptake calcs'!N111-'uptake calcs'!N110,0)","v":0},null,0.93504210908644581,null,4.5,null,0,17,null,49,null,59,39,0,"Year 2","Year 2","No Data"]
[null,null,101,null,null,"2011-02-09",{"$f":"MAX('uptake calcs'!M112-'uptake calcs'!M111,0)","v":0.91539061370651353},null,{"$f":"MAX('uptake calcs'!L112-'uptake calcs'!L111,0)","v":0},{"$f":"MAX('uptake calcs'!N112-'uptake calcs'!N111,0)","v":0},null,0.91539061370651353,null,5,null,0,16.5,null,48.5,null,60,37,0,"Year 2","Year 2","No Data"]
[null,null,102,null,null,"2011-02-10",{"$f":"MAX('uptake calcs'!M113-'uptake calcs'!M112,0)","v":0.92306663325432226},null,{"$f":"MAX('uptake calcs'!L113-'uptake calcs'!L112,0)","v":0},{"$f":"MAX('uptake calcs'!N113-'uptake calcs'!N112,0)","v":0},null,0.92306663325432226,null,5,null,0,16.5,null,48.5,null,60,37,0,"Year 2","Year 2","No Data"]
[null,null,103,null,null,"2011-02-11",{"$f":"MAX('uptake calcs'!M114-'uptake calcs'!M113,0)","v":0.98733174785860456},null,{"$f":"MAX('uptake calcs'!L114-'uptake calcs'!L113,0)","v":0},{"$f":"MAX('uptake calcs'!N114-'uptake calcs'!N113,0)","v":0},null,0.98733174785860456,null,5,null,0,17.5,null,49.5,null,60,39,0,"Year 2","Year 2","No Data"]
[null,null,104,null,null,"2011-02-12",{"$f":"MAX('uptake calcs'!M115-'uptake calcs'!M114,0)","v":0.9958245690857126},null,{"$f":"MAX('uptake calcs'!L115-'uptake calcs'!L114,0)","v":0},{"$f":"MAX('uptake calcs'!N115-'uptake calcs'!N114,0)","v":0},null,0.9958245690857126,null,5.5,null,0,17.5,null,49.5,null,61,38,0,"Year 2","Year 2","No Data"]
[null,null,105,null,null,"2011-02-13",{"$f":"MAX('uptake calcs'!M116-'uptake calcs'!M115,0)","v":1.0330534565373242},null,{"$f":"MAX('uptake calcs'!L116-'uptake calcs'!L115,0)","v":0},{"$f":"MAX('uptake calcs'!N116-'uptake calcs'!N115,0)","v":0},null,1.0330534565373242,null,5,null,0,18,null,50,null,60,40,0,"Year 2","Year 2","No Data"]
[null,null,106,null,null,"2011-02-14",{"$f":"MAX('uptake calcs'!M117-'uptake calcs'!M116,0)","v":1.0418636623294617},null,{"$f":"MAX('uptake calcs'!L117-'uptake calcs'!L116,0)","v":0},{"$f":"MAX('uptake calcs'!N117-'uptake calcs'!N116,0)","v":0},null,1.0418636623294617,null,6,null,0,18,null,50,null,62,38,0,"Year 2","Year 2","No Data"]
[null,null,107,null,null,"2011-02-15",{"$f":"MAX('uptake calcs'!M118-'uptake calcs'!M117,0)","v":0.96269949875358662},null,{"$f":"MAX('uptake calcs'!L118-'uptake calcs'!L117,0)","v":0},{"$f":"MAX('uptake calcs'!N118-'uptake calcs'!N117,0)","v":0},null,0.96269949875358662,null,5,null,0,16.5,null,48.5,null,60,37,0,"Year 2","Year 2","No Data"]
[null,null,108,null,null,"2011-02-16",{"$f":"MAX('uptake calcs'!M119-'uptake calcs'!M118,0)","v":1.0880023406716575},null,{"$f":"MAX('uptake calcs'!L119-'uptake calcs'!L118,0)","v":0},{"$f":"MAX('uptake calcs'!N119-'uptake calcs'!N118,0)","v":0},null,1.0880023406716575,null,5.5,null,0,18.5,null,50.5,null,61,40,0,"Year 2","Year 2","No Data"]
[null,null,109,null,null,"2011-02-17",{"$f":"MAX('uptake calcs'!M120-'uptake calcs'!M119,0)","v":1.1863326416711431},null,{"$f":"MAX('uptake calcs'!L120-'uptake calcs'!L119,0)","v":0},{"$f":"MAX('uptake calcs'!N120-'uptake calcs'!N119,0)","v":0},null,1.1863326416711431,null,6,null,0,20,null,52,null,62,42,0,"Year 2","Year 2","No Data"]
[null,null,110,null,null,"2011-02-18",{"$f":"MAX('uptake calcs'!M121-'uptake calcs'!M120,0)","v":1.136614843790845},null,{"$f":"MAX('uptake calcs'!L121-'uptake calcs'!L120,0)","v":0},{"$f":"MAX('uptake calcs'!N121-'uptake calcs'!N120,0)","v":0},null,1.136614843790845,null,6,null,0,19,null,51,null,62,40,0,"Year 2","Year 2","No Data"]
[null,null,111,null,null,"2011-02-19",{"$f":"MAX('uptake calcs'!M122-'uptake calcs'!M121,0)","v":1.0550376529584682},null,{"$f":"MAX('uptake calcs'!L122-'uptake calcs'!L121,0)","v":0},{"$f":"MAX('uptake calcs'!N122-'uptake calcs'!N121,0)","v":0},null,1.0550376529584682,null,4.5,null,0,17.5,null,49.5,null,59,40,0,"Year 2","Year 2","No Data"]
[null,null,112,null,null,"2011-02-20",{"$f":"MAX('uptake calcs'!M123-'uptake calcs'!M122,0)","v":1.1237033266854439},null,{"$f":"MAX('uptake calcs'!L123-'uptake calcs'!L122,0)","v":0},{"$f":"MAX('uptake calcs'!N123-'uptake calcs'!N122,0)","v":0},null,1.1237033266854439,null,5,null,0,18.5,null,50.5,null,60,41,0,"Year 2","Year 2","No Data"]
[null,null,113,null,null,"2011-02-21",{"$f":"MAX('uptake calcs'!M124-'uptake calcs'!M123,0)","v":1.0093783527432691},null,{"$f":"MAX('uptake calcs'!L124-'uptake calcs'!L123,0)","v":0},{"$f":"MAX('uptake calcs'!N124-'uptake calcs'!N123,0)","v":0},null,1.0093783527432691,null,4.5,null,0,16.5,null,48.5,null,59,38,0,"Year 2","Year 2","No Data"]
[null,null,114,null,null,"2011-02-22",{"$f":"MAX('uptake calcs'!M125-'uptake calcs'!M124,0)","v":1.0778107260912435},null,{"$f":"MAX('uptake calcs'!L125-'uptake calcs'!L124,0)","v":0},{"$f":"MAX('uptake calcs'!N125-'uptake calcs'!N124,0)","v":0},null,1.0778107260912435,null,4.5,null,0,17.5,null,49.5,null,59,40,0,"Year 2","Year 2","No Data"]
[null,null,115,null,null,"2011-02-23",{"$f":"MAX('uptake calcs'!M126-'uptake calcs'!M125,0)","v":1.0540560534678178},null,{"$f":"MAX('uptake calcs'!L126-'uptake calcs'!L125,0)","v":0},{"$f":"MAX('uptake calcs'!N126-'uptake calcs'!N125,0)","v":0},null,1.0540560534678178,null,5,null,0,17,null,49,null,60,38,0,"Year 2","Year 2","No Data"]
[null,null,116,null,null,"2011-02-24",{"$f":"MAX('uptake calcs'!M127-'uptake calcs'!M126,0)","v":1.0921807707352968},null,{"$f":"MAX('uptake calcs'!L127-'uptake calcs'!L126,0)","v":0},{"$f":"MAX('uptake calcs'!N127-'uptake calcs'!N126,0)","v":0},null,1.0921807707352968,null,5,null,0,17.5,null,49.5,null,60,39,0,"Year 2","Year 2","No Data"]
[null,null,117,null,null,"2011-02-25",{"$f":"MAX('uptake calcs'!M128-'uptake calcs'!M127,0)","v":1.1623048068907451},null,{"$f":"MAX('uptake calcs'!L128-'uptake calcs'!L127,0)","v":0},{"$f":"MAX('uptake calcs'!N128-'uptake calcs'!N127,0)","v":0},null,1.1623048068907451,null,5.5,null,0,18.5,null,50.5,null,61,40,0,"Year 2","Year 2","No Data"]
[null,null,118,null,null,"2011-02-26",{"$f":"MAX('uptake calcs'!M129-'uptake calcs'!M128,0)","v":1.1700760755495168},null,{"$f":"MAX('uptake calcs'!L129-'uptake calcs'!L128,0)","v":0},{"$f":"MAX('uptake calcs'!N129-'uptake calcs'!N128,0)","v":0},null,1.1700760755495168,null,5.5,null,0,18.5,null,50.5,null,61,40,0,"Year 2","Year 2","No Data"]
[null,null,119,null,null,"2011-02-27",{"$f":"MAX('uptake calcs'!M130-'uptake calcs'!M129,0)","v":1.2096161675469403},null,{"$f":"MAX('uptake calcs'!L130-'uptake calcs'!L129,0)","v":0},{"$f":"MAX('uptake calcs'!N130-'uptake calcs'!N129,0)","v":0},null,1.2096161675469403,null,5.5,null,0,19,null,51,null,61,41,0,"Year 2","Year 2","No Data"]
[null,null,120,null,null,"2011-02-28",{"$f":"MAX('uptake calcs'!M131-'uptake calcs'!M130,0)","v":1.2174562514549478},null,{"$f":"MAX('uptake calcs'!L131-'uptake calcs'!L130,0)","v":0},{"$f":"MAX('uptake calcs'!N131-'uptake calcs'!N130,0)","v":0},null,1.2174562514549478,null,6.5,null,0,19,null,51,null,63,39,0,"Year 2","Year 2","No Data"]
[null,null,121,null,null,"2011-03-01",{"$f":"MAX('uptake calcs'!M132-'uptake calcs'!M131,0)","v":1.2574488267599264},null,{"$f":"MAX('uptake calcs'!L132-'uptake calcs'!L131,0)","v":0},{"$f":"MAX('uptake calcs'!N132-'uptake calcs'!N131,0)","v":0},null,1.2574488267599264,null,6.5,null,0,19.5,null,51.5,null,63,40,0,"Year 2","Year 2","No Data"]
[null,null,122,null,null,"2011-03-02",{"$f":"MAX('uptake calcs'!M133-'uptake calcs'!M132,0)","v":1.3629480533464999},null,{"$f":"MAX('uptake calcs'!L133-'uptake calcs'!L132,0)","v":0},{"$f":"MAX('uptake calcs'!N133-'uptake calcs'!N132,0)","v":0},null,1.3629480533464999,null,7,null,0,21,null,53,null,64,42,0,"Year 2","Year 2","No Data"]
[null,null,123,null,null,"2011-03-03",{"$f":"MAX('uptake calcs'!M134-'uptake calcs'!M133,0)","v":1.2080207491193136},null,{"$f":"MAX('uptake calcs'!L134-'uptake calcs'!L133,0)","v":0},{"$f":"MAX('uptake calcs'!N134-'uptake calcs'!N133,0)","v":0},null,1.2080207491193136,null,5.5,null,0,18.5,null,50.5,null,61,40,0,"Year 2","Year 2","No Data"]
[null,null,124,null,null,"2011-03-04",{"$f":"MAX('uptake calcs'!M135-'uptake calcs'!M134,0)","v":1.2146881861079635},null,{"$f":"MAX('uptake calcs'!L135-'uptake calcs'!L134,0)","v":0},{"$f":"MAX('uptake calcs'!N135-'uptake calcs'!N134,0)","v":0},null,1.2146881861079635,null,6.5,null,0,18.5,null,50.5,null,63,38,0,"Year 2","Year 2","No Data"]
[null,null,125,null,null,"2011-03-05",{"$f":"MAX('uptake calcs'!M136-'uptake calcs'!M135,0)","v":1.2542549039493309},null,{"$f":"MAX('uptake calcs'!L136-'uptake calcs'!L135,0)","v":0},{"$f":"MAX('uptake calcs'!N136-'uptake calcs'!N135,0)","v":0},null,1.2542549039493309,null,6,null,0,19,null,51,null,62,40,0,"Year 2","Year 2","No Data"]
[null,null,126,null,null,"2011-03-06",{"$f":"MAX('uptake calcs'!M137-'uptake calcs'!M136,0)","v":1.2941382108727879},null,{"$f":"MAX('uptake calcs'!L137-'uptake calcs'!L136,0)","v":0},{"$f":"MAX('uptake calcs'!N137-'uptake calcs'!N136,0)","v":0},null,1.2941382108727879,null,7,null,0,19.5,null,51.5,null,64,39,0,"Year 2","Year 2","No Data"]
[null,null,127,null,null,"2011-03-07",{"$f":"MAX('uptake calcs'!M138-'uptake calcs'!M137,0)","v":1.3343120311336065},null,{"$f":"MAX('uptake calcs'!L138-'uptake calcs'!L137,0)","v":0},{"$f":"MAX('uptake calcs'!N138-'uptake calcs'!N137,0)","v":0},null,1.3343120311336065,null,8,null,0,20,null,52,null,66,38,0,"Year 2","Year 2","No Data"]
[null,null,128,null,null,"2011-03-08",{"$f":"MAX('uptake calcs'!M139-'uptake calcs'!M138,0)","v":1.4419860493386523},null,{"$f":"MAX('uptake calcs'!L139-'uptake calcs'!L138,0)","v":0},{"$f":"MAX('uptake calcs'!N139-'uptake calcs'!N138,0)","v":0},null,1.4419860493386523,null,8.5,null,0,21.5,null,53.5,null,67,40,0,"Year 2","Year 2","No Data"]
[null,null,129,null,null,"2011-03-09",{"$f":"MAX('uptake calcs'!M140-'uptake calcs'!M139,0)","v":1.4157457693749365},null,{"$f":"MAX('uptake calcs'!L140-'uptake calcs'!L139,0)","v":0},{"$f":"MAX('uptake calcs'!N140-'uptake calcs'!N139,0)","v":0},null,{"$f":"SUM(G223:J223)","v":1.4157457693749365},null,{"$f":"IF($U223>cutoff.corn.min,((IF($U223>cutoff.corn.max,cutoff.corn.max,$U223)+IF($V223<cutoff.corn.min,cutoff.corn.min,$V223))/2)-cutoff.corn.min,0)","v":8},null,{"$f":"IF(AND(C223>=C$44,C223<=$C$55),N223+P222,0)","v":0},{"$f":"((U223+V223)/2)-32","v":21},null,{"$f":"AVERAGE(U223:V223)","v":53},null,66,40,0,"Year 2","Year 2","No Data"]
[null,null,130,null,null,"2011-03-10",{"$f":"MAX('uptake calcs'!M141-'uptake calcs'!M140,0)","v":1.4565922620206209},null,{"$f":"MAX('uptake calcs'!L141-'uptake calcs'!L140,0)","v":0},{"$f":"MAX('uptake calcs'!N141-'uptake calcs'!N140,0)","v":0},null,1.4565922620206209,null,8.5,null,0,21.5,null,53.5,null,67,40,0,"Year 2","Year 2","No Data"]
[null,null,131,null,null,{"$f":"F224+1","v":"2011-03-11"},{"$f":"MAX('uptake calcs'!M142-'uptake calcs'!M141,0)","v":1.5317050863744299},null,{"$f":"MAX('uptake calcs'!L142-'uptake calcs'!L141,0)","v":0},{"$f":"MAX('uptake calcs'!N142-'uptake calcs'!N141,0)","v":0},null,1.5317050863744299,null,9,null,0,22.5,null,54.5,null,68,41,0,"Year 2","Year 2","No Data"]
[null,null,132,null,null,"2011-03-12",{"$f":"MAX('uptake calcs'!M143-'uptake calcs'!M142,0)","v":1.5045721247457493},null,{"$f":"MAX('uptake calcs'!L143-'uptake calcs'!L142,0)","v":0},{"$f":"MAX('uptake calcs'!N143-'uptake calcs'!N142,0)","v":0},null,1.5045721247457493,null,9,null,0,22,null,54,null,68,40,0,"Year 2","Year 2","No Data"]
[null,null,133,null,null,"2011-03-13",{"$f":"MAX('uptake calcs'!M144-'uptake calcs'!M143,0)","v":1.5454303300755754},null,{"$f":"MAX('uptake calcs'!L144-'uptake calcs'!L143,0)","v":0},{"$f":"MAX('uptake calcs'!N144-'uptake calcs'!N143,0)","v":0},null,1.5454303300755754,null,9,null,0,22.5,null,54.5,null,68,41,0,"Year 2","Year 2","No Data"]
[null,null,134,null,null,"2011-03-14",{"$f":"MAX('uptake calcs'!M145-'uptake calcs'!M144,0)","v":1.5863117122281238},null,{"$f":"MAX('uptake calcs'!L145-'uptake calcs'!L144,0)","v":0},{"$f":"MAX('uptake calcs'!N145-'uptake calcs'!N144,0)","v":0},null,1.5863117122281238,null,9.5,null,0,23,null,55,null,69,41,0,"Year 2","Year 2","No Data"]
[null,null,135,null,null,"2011-03-15",{"$f":"MAX('uptake calcs'!M146-'uptake calcs'!M145,0)","v":1.6271630082211317},null,{"$f":"MAX('uptake calcs'!L146-'uptake calcs'!L145,0)","v":0},{"$f":"MAX('uptake calcs'!N146-'uptake calcs'!N145,0)","v":0},null,1.6271630082211317,null,9.5,null,0,23.5,null,55.5,null,69,42,0,"Year 2","Year 2","No Data"]
[null,null,136,null,null,"2011-03-16",{"$f":"MAX('uptake calcs'!M147-'uptake calcs'!M146,0)","v":1.6679270070670213},null,{"$f":"MAX('uptake calcs'!L147-'uptake calcs'!L146,0)","v":0},{"$f":"MAX('uptake calcs'!N147-'uptake calcs'!N146,0)","v":0},null,1.6679270070670213,null,9.5,null,0,24,null,56,null,69,43,0,"Year 2","Year 2","No Data"]
[null,null,137,null,null,"2011-03-17",{"$f":"MAX('uptake calcs'!M148-'uptake calcs'!M147,0)","v":1.6736187259520534},null,{"$f":"MAX('uptake calcs'!L148-'uptake calcs'!L147,0)","v":0},{"$f":"MAX('uptake calcs'!N148-'uptake calcs'!N147,0)","v":0},null,1.6736187259520534,null,10.5,null,0,24,null,56,null,71,41,0,"Year 2","Year 2","No Data"]
[null,null,138,null,null,"2011-03-18",{"$f":"MAX('uptake calcs'!M149-'uptake calcs'!M148,0)","v":1.7838683890030467},null,{"$f":"MAX('uptake calcs'!L149-'uptake calcs'!L148,0)","v":0},{"$f":"MAX('uptake calcs'!N149-'uptake calcs'!N148,0)","v":0},null,1.7838683890030467,null,11,null,0,25.5,null,57.5,null,72,43,0,"Year 2","Year 2","No Data"]
[null,null,139,null,null,"2011-03-19",{"$f":"MAX('uptake calcs'!M150-'uptake calcs'!M149,0)","v":1.7539385435784709},null,{"$f":"MAX('uptake calcs'!L150-'uptake calcs'!L149,0)","v":0},{"$f":"MAX('uptake calcs'!N150-'uptake calcs'!N149,0)","v":0},null,1.7539385435784709,null,11,null,0,25,null,57,null,72,42,0,"Year 2","Year 2","No Data"]
[null,null,140,null,null,"2011-03-20",{"$f":"MAX('uptake calcs'!M151-'uptake calcs'!M150,0)","v":1.7231223929082944},null,{"$f":"MAX('uptake calcs'!L151-'uptake calcs'!L150,0)","v":0},{"$f":"MAX('uptake calcs'!N151-'uptake calcs'!N150,0)","v":0},null,1.7231223929082944,null,9.5,null,0,24.5,null,56.5,null,69,44,0,"Year 2","Year 2","No Data"]
[null,null,141,null,null,"2011-03-21",{"$f":"MAX('uptake calcs'!M152-'uptake calcs'!M151,0)","v":1.7267654853209393},null,{"$f":"MAX('uptake calcs'!L152-'uptake calcs'!L151,0)","v":0},{"$f":"MAX('uptake calcs'!N152-'uptake calcs'!N151,0)","v":0},null,1.7267654853209393,null,10,null,0,24.5,null,56.5,null,70,43,0,"Year 2","Year 2","No Data"]
[null,null,142,null,null,"2011-03-22",{"$f":"MAX('uptake calcs'!M153-'uptake calcs'!M152,0)","v":1.6591750597819583},null,{"$f":"MAX('uptake calcs'!L153-'uptake calcs'!L152,0)","v":0},{"$f":"MAX('uptake calcs'!N153-'uptake calcs'!N152,0)","v":0},null,1.6591750597819583,null,9.5,null,0,23.5,null,55.5,null,69,42,0,"Year 2","Year 2","No Data"]
[null,null,143,null,null,"2011-03-23",{"$f":"MAX('uptake calcs'!M154-'uptake calcs'!M153,0)","v":1.6614879041293165},null,{"$f":"MAX('uptake calcs'!L154-'uptake calcs'!L153,0)","v":0},{"$f":"MAX('uptake calcs'!N154-'uptake calcs'!N153,0)","v":0},null,1.6614879041293165,null,9.5,null,0,23.5,null,55.5,null,69,42,0,"Year 2","Year 2","No Data"]
[null,null,144,null,null,"2011-03-24",{"$f":"MAX('uptake calcs'!M155-'uptake calcs'!M154,0)","v":1.7341007270653677},null,{"$f":"MAX('uptake calcs'!L155-'uptake calcs'!L154,0)","v":0},{"$f":"MAX('uptake calcs'!N155-'uptake calcs'!N154,0)","v":0},null,1.7341007270653677,null,10.5,null,0,24.5,null,56.5,null,71,42,0,"Year 2","Year 2","No Data"]
[null,null,145,null,null,"2011-03-25",{"$f":"MAX('uptake calcs'!M156-'uptake calcs'!M155,0)","v":1.6646250548197372},null,{"$f":"MAX('uptake calcs'!L156-'uptake calcs'!L155,0)","v":0},{"$f":"MAX('uptake calcs'!N156-'uptake calcs'!N155,0)","v":0},null,1.6646250548197372,null,9,null,0,23.5,null,55.5,null,68,43,0,"Year 2","Year 2","No Data"]
[null,null,146,null,null,"2011-03-26",{"$f":"MAX('uptake calcs'!M157-'uptake calcs'!M156,0)","v":1.6653838949603852},null,{"$f":"MAX('uptake calcs'!L157-'uptake calcs'!L156,0)","v":0},{"$f":"MAX('uptake calcs'!N157-'uptake calcs'!N156,0)","v":0},null,1.6653838949603852,null,9.5,null,0,23.5,null,55.5,null,69,42,0,"Year 2","Year 2","No Data"]
[null,null,147,null,null,"2011-03-27",{"$f":"MAX('uptake calcs'!M158-'uptake calcs'!M157,0)","v":1.5947566631141683},null,{"$f":"MAX('uptake calcs'!L158-'uptake calcs'!L157,0)","v":0},{"$f":"MAX('uptake calcs'!N158-'uptake calcs'!N157,0)","v":0},null,1.5947566631141683,null,9,null,0,22.5,null,54.5,null,68,41,0,"Year 2","Year 2","No Data"]
[null,null,148,null,null,"2011-03-28",{"$f":"MAX('uptake calcs'!M159-'uptake calcs'!M158,0)","v":1.594538913806943},null,{"$f":"MAX('uptake calcs'!L159-'uptake calcs'!L158,0)","v":0},{"$f":"MAX('uptake calcs'!N159-'uptake calcs'!N158,0)","v":0},null,1.594538913806943,null,9.5,null,0,22.5,null,54.5,null,69,40,0,"Year 2","Year 2","No Data"]
[null,null,149,null,null,"2011-03-29",{"$f":"MAX('uptake calcs'!M160-'uptake calcs'!M159,0)","v":1.5938769287492676},null,{"$f":"MAX('uptake calcs'!L160-'uptake calcs'!L159,0)","v":0},{"$f":"MAX('uptake calcs'!N160-'uptake calcs'!N159,0)","v":0},null,1.5938769287492676,null,9.5,null,0,22.5,null,54.5,null,69,40,0,"Year 2","Year 2","No Data"]
[null,null,150,null,null,"2011-03-30",{"$f":"MAX('uptake calcs'!M161-'uptake calcs'!M160,0)","v":1.6635303833680695},null,{"$f":"MAX('uptake calcs'!L161-'uptake calcs'!L160,0)","v":0},{"$f":"MAX('uptake calcs'!N161-'uptake calcs'!N160,0)","v":0},null,1.6635303833680695,null,10,null,0,23.5,null,55.5,null,70,41,0,"Year 2","Year 2","No Data"]
[null,null,151,null,null,"2011-03-31",{"$f":"MAX('uptake calcs'!M162-'uptake calcs'!M161,0)","v":1.6264892229841905},null,{"$f":"MAX('uptake calcs'!L162-'uptake calcs'!L161,0)","v":0},{"$f":"MAX('uptake calcs'!N162-'uptake calcs'!N161,0)","v":0},null,1.6264892229841905,null,10,null,0,23,null,55,null,70,40,0,"Year 2","Year 2","No Data"]
[null,null,152,null,null,"2011-04-01",{"$f":"MAX('uptake calcs'!M163-'uptake calcs'!M162,0)","v":1.624391418440581},null,{"$f":"MAX('uptake calcs'!L163-'uptake calcs'!L162,0)","v":0},{"$f":"MAX('uptake calcs'!N163-'uptake calcs'!N162,0)","v":0},null,1.624391418440581,null,9.5,null,0,23,null,55,null,69,41,0,"Year 2","Year 2","No Data"]
[null,null,153,null,null,"2011-04-02",{"$f":"MAX('uptake calcs'!M164-'uptake calcs'!M163,0)","v":1.6218325691798441},null,{"$f":"MAX('uptake calcs'!L164-'uptake calcs'!L163,0)","v":0},{"$f":"MAX('uptake calcs'!N164-'uptake calcs'!N163,0)","v":0},null,1.6218325691798441,null,9.5,null,0,23,null,55,null,69,41,0,"Year 2","Year 2","No Data"]
[null,null,154,null,null,"2011-04-03",{"$f":"MAX('uptake calcs'!M165-'uptake calcs'!M164,0)","v":1.6539721807289567},null,{"$f":"MAX('uptake calcs'!L165-'uptake calcs'!L164,0)","v":0},{"$f":"MAX('uptake calcs'!N165-'uptake calcs'!N164,0)","v":0},null,1.6539721807289567,null,10,null,0,23.5,null,55.5,null,70,41,0,"Year 2","Year 2","No Data"]
[null,null,155,null,null,"2011-04-04",{"$f":"MAX('uptake calcs'!M166-'uptake calcs'!M165,0)","v":1.6152707008550351},null,{"$f":"MAX('uptake calcs'!L166-'uptake calcs'!L165,0)","v":0},{"$f":"MAX('uptake calcs'!N166-'uptake calcs'!N165,0)","v":0},null,1.6152707008550351,null,9.5,null,0,23,null,55,null,69,41,0,"Year 2","Year 2","No Data"]
[null,null,156,null,null,"2011-04-05",{"$f":"MAX('uptake calcs'!M167-'uptake calcs'!M166,0)","v":1.6463317555013646},null,{"$f":"MAX('uptake calcs'!L167-'uptake calcs'!L166,0)","v":0},{"$f":"MAX('uptake calcs'!N167-'uptake calcs'!N166,0)","v":0},null,1.6463317555013646,null,10,null,0,23.5,null,55.5,null,70,41,0,"Year 2","Year 2","No Data"]
[null,null,157,null,null,"2011-04-06",{"$f":"MAX('uptake calcs'!M168-'uptake calcs'!M167,0)","v":1.6417696402379534},null,{"$f":"MAX('uptake calcs'!L168-'uptake calcs'!L167,0)","v":0},{"$f":"MAX('uptake calcs'!N168-'uptake calcs'!N167,0)","v":0},null,1.6417696402379534,null,10,null,0,23.5,null,55.5,null,70,41,0,"Year 2","Year 2","No Data"]
[null,null,158,null,null,"2011-04-07",{"$f":"MAX('uptake calcs'!M169-'uptake calcs'!M168,0)","v":1.671512868703104},null,{"$f":"MAX('uptake calcs'!L169-'uptake calcs'!L168,0)","v":0},{"$f":"MAX('uptake calcs'!N169-'uptake calcs'!N168,0)","v":0},null,1.671512868703104,null,10,null,0,24,null,56,null,70,42,0,"Year 2","Year 2","No Data"]
[null,null,159,null,null,"2011-04-08",{"$f":"MAX('uptake calcs'!M170-'uptake calcs'!M169,0)","v":1.5965032186096835},null,{"$f":"MAX('uptake calcs'!L170-'uptake calcs'!L169,0)","v":0},{"$f":"MAX('uptake calcs'!N170-'uptake calcs'!N169,0)","v":0},null,1.5965032186096835,null,9,null,0,23,null,55,null,68,42,0,"Year 2","Year 2","No Data"]
[null,null,160,null,null,"2011-04-09",{"$f":"MAX('uptake calcs'!M171-'uptake calcs'!M170,0)","v":1.6253477464429125},null,{"$f":"MAX('uptake calcs'!L171-'uptake calcs'!L170,0)","v":0},{"$f":"MAX('uptake calcs'!N171-'uptake calcs'!N170,0)","v":0},null,1.6253477464429125,null,9,null,0,23.5,null,55.5,null,68,43,0,"Year 2","Year 2","No Data"]
[null,null,161,null,null,"2011-04-10",{"$f":"MAX('uptake calcs'!M172-'uptake calcs'!M171,0)","v":1.6877347434121361},null,{"$f":"MAX('uptake calcs'!L172-'uptake calcs'!L171,0)","v":0},{"$f":"MAX('uptake calcs'!N172-'uptake calcs'!N171,0)","v":0},null,1.6877347434121361,null,10,null,0,24.5,null,56.5,null,70,43,0,"Year 2","Year 2","No Data"]
[null,null,162,null,null,"2011-04-11",{"$f":"MAX('uptake calcs'!M173-'uptake calcs'!M172,0)","v":1.7145514455156103},null,{"$f":"MAX('uptake calcs'!L173-'uptake calcs'!L172,0)","v":0},{"$f":"MAX('uptake calcs'!N173-'uptake calcs'!N172,0)","v":0},null,1.7145514455156103,null,10,null,0,25,null,57,null,70,44,0,"Year 2","Year 2","No Data"]
[null,null,163,null,null,"2011-04-12",{"$f":"MAX('uptake calcs'!M174-'uptake calcs'!M173,0)","v":0},null,{"$f":"MAX('uptake calcs'!L174-'uptake calcs'!L173,0)","v":0},{"$f":"MAX('uptake calcs'!N174-'uptake calcs'!N173,0)","v":0},null,0,null,11.5,null,0,26.5,null,58.5,null,73,44,0,"Year 2","Year 2","No Data"]
[null,null,164,null,null,"2011-04-13",{"$f":"MAX('uptake calcs'!M175-'uptake calcs'!M174,0)","v":0},null,{"$f":"MAX('uptake calcs'!L175-'uptake calcs'!L174,0)","v":0},{"$f":"MAX('uptake calcs'!N175-'uptake calcs'!N174,0)","v":0},null,0,null,10.5,null,0,25.5,null,57.5,null,71,44,0,"Year 2","Year 2","No Data"]
[null,null,165,null,null,"2011-04-14",{"$f":"MAX('uptake calcs'!M176-'uptake calcs'!M175,0)","v":0},null,{"$f":"MAX('uptake calcs'!L176-'uptake calcs'!L175,0)","v":0},{"$f":"MAX('uptake calcs'!N176-'uptake calcs'!N175,0)","v":0},null,0,null,10,null,0,24.5,null,56.5,null,70,43,0,"Year 2","Year 2","No Data"]
[null,null,166,null,null,"2011-04-15",{"$f":"MAX('uptake calcs'!M177-'uptake calcs'!M176,0)","v":0},null,{"$f":"MAX('uptake calcs'!L177-'uptake calcs'!L176,0)","v":1.9908919585253163E-3},{"$f":"MAX('uptake calcs'!N177-'uptake calcs'!N176,0)","v":0},null,1.9908919585253163E-3,null,11,null,11,25.5,null,57.5,null,72,43,0,"Year 2","Year 2","No Data"]
[null,null,167,null,null,"2011-04-16",{"$f":"MAX('uptake calcs'!M178-'uptake calcs'!M177,0)","v":0},null,{"$f":"MAX('uptake calcs'!L178-'uptake calcs'!L177,0)","v":2.3453273551826024E-3},{"$f":"MAX('uptake calcs'!N178-'uptake calcs'!N177,0)","v":0},null,2.3453273551826024E-3,null,11,null,22,26,null,58,null,72,44,0,"Year 2","Year 2","No Data"]
[null,null,168,null,null,"2011-04-17",{"$f":"MAX('uptake calcs'!M179-'uptake calcs'!M178,0)","v":0},null,{"$f":"MAX('uptake calcs'!L179-'uptake calcs'!L178,0)","v":2.7626156335143473E-3},{"$f":"MAX('uptake calcs'!N179-'uptake calcs'!N178,0)","v":0},null,2.7626156335143473E-3,null,11,null,33,26,null,58,null,72,44,0,"Year 2","Year 2","No Data"]
[null,null,169,null,null,"2011-04-18",{"$f":"MAX('uptake calcs'!M180-'uptake calcs'!M179,0)","v":0},null,{"$f":"MAX('uptake calcs'!L180-'uptake calcs'!L179,0)","v":3.4147304182014539E-3},{"$f":"MAX('uptake calcs'!N180-'uptake calcs'!N179,0)","v":0},null,3.4147304182014539E-3,null,11.5,null,44.5,26,null,58,null,73,43,0,"Year 2","Year 2","No Data"]
[null,null,170,null,null,"2011-04-19",{"$f":"MAX('uptake calcs'!M181-'uptake calcs'!M180,0)","v":0},null,{"$f":"MAX('uptake calcs'!L181-'uptake calcs'!L180,0)","v":3.8604333853094371E-3},{"$f":"MAX('uptake calcs'!N181-'uptake calcs'!N180,0)","v":0},null,3.8604333853094371E-3,null,11,null,55.5,25.5,null,57.5,null,72,43,0,"Year 2","Year 2","No Data"]
[null,null,171,null,null,"2011-04-20",{"$f":"MAX('uptake calcs'!M182-'uptake calcs'!M181,0)","v":0},null,{"$f":"MAX('uptake calcs'!L182-'uptake calcs'!L181,0)","v":4.3224463388048893E-3},{"$f":"MAX('uptake calcs'!N182-'uptake calcs'!N181,0)","v":0},null,4.3224463388048893E-3,null,10.5,null,66,25.5,null,57.5,null,71,44,0,"Year 2","Year 2","No Data"]
[null,null,172,null,null,"2011-04-21",{"$f":"MAX('uptake calcs'!M183-'uptake calcs'!M182,0)","v":0},null,{"$f":"MAX('uptake calcs'!L183-'uptake calcs'!L182,0)","v":5.3118253392020025E-3},{"$f":"MAX('uptake calcs'!N183-'uptake calcs'!N182,0)","v":0},null,5.3118253392020025E-3,null,11,null,77,26,null,58,null,72,44,0,"Year 2","Year 2","No Data"]
[null,null,173,null,null,"2011-04-22",{"$f":"MAX('uptake calcs'!M184-'uptake calcs'!M183,0)","v":0},null,{"$f":"MAX('uptake calcs'!L184-'uptake calcs'!L183,0)","v":6.5613540988647412E-3},{"$f":"MAX('uptake calcs'!N184-'uptake calcs'!N183,0)","v":0},null,6.5613540988647412E-3,null,11.5,null,88.5,27,null,59,null,73,45,0,"Year 2","Year 2","No Data"]
[null,null,174,null,null,"2011-04-23",{"$f":"MAX('uptake calcs'!M185-'uptake calcs'!M184,0)","v":0},null,{"$f":"MAX('uptake calcs'!L185-'uptake calcs'!L184,0)","v":7.412017845903153E-3},{"$f":"MAX('uptake calcs'!N185-'uptake calcs'!N184,0)","v":0},null,7.412017845903153E-3,null,11,null,99.5,26.5,null,58.5,null,72,45,0,"Year 2","Year 2","No Data"]
[null,null,175,null,null,"2011-04-24",{"$f":"MAX('uptake calcs'!M186-'uptake calcs'!M185,0)","v":0},null,{"$f":"MAX('uptake calcs'!L186-'uptake calcs'!L185,0)","v":9.15061779400584E-3},{"$f":"MAX('uptake calcs'!N186-'uptake calcs'!N185,0)","v":0},null,9.15061779400584E-3,null,11.5,null,111,27,null,59,null,73,45,0,"Year 2","Year 2","No Data"]
[null,null,176,null,null,"2011-04-25",{"$f":"MAX('uptake calcs'!M187-'uptake calcs'!M186,0)","v":0},null,{"$f":"MAX('uptake calcs'!L187-'uptake calcs'!L186,0)","v":1.2394975371341939E-2},{"$f":"MAX('uptake calcs'!N187-'uptake calcs'!N186,0)","v":0},null,1.2394975371341939E-2,null,13,null,124,28,null,60,null,76,44,0,"Year 2","Year 2","No Data"]
[null,null,177,null,null,"2011-04-26",{"$f":"MAX('uptake calcs'!M188-'uptake calcs'!M187,0)","v":0},null,{"$f":"MAX('uptake calcs'!L188-'uptake calcs'!L187,0)","v":1.6281441222664131E-2},{"$f":"MAX('uptake calcs'!N188-'uptake calcs'!N187,0)","v":0},null,1.6281441222664131E-2,null,14,null,138,30,null,62,null,78,46,0,"Year 2","Year 2","No Data"]
[null,null,178,null,null,"2011-04-27",{"$f":"MAX('uptake calcs'!M189-'uptake calcs'!M188,0)","v":0},null,{"$f":"MAX('uptake calcs'!L189-'uptake calcs'!L188,0)","v":1.8418312795631456E-2},{"$f":"MAX('uptake calcs'!N189-'uptake calcs'!N188,0)","v":0},null,1.8418312795631456E-2,null,13,null,151,29.5,null,61.5,null,76,47,0,"Year 2","Year 2","No Data"]
[null,null,179,null,null,"2011-04-28",{"$f":"MAX('uptake calcs'!M190-'uptake calcs'!M189,0)","v":0},null,{"$f":"MAX('uptake calcs'!L190-'uptake calcs'!L189,0)","v":1.9473115004354988E-2},{"$f":"MAX('uptake calcs'!N190-'uptake calcs'!N189,0)","v":0},null,1.9473115004354988E-2,null,11.5,null,162.5,28,null,60,null,73,47,0,"Year 2","Year 2","No Data"]
[null,null,180,null,null,"2011-04-29",{"$f":"MAX('uptake calcs'!M191-'uptake calcs'!M190,0)","v":0},null,{"$f":"MAX('uptake calcs'!L191-'uptake calcs'!L190,0)","v":2.6303398100734079E-2},{"$f":"MAX('uptake calcs'!N191-'uptake calcs'!N190,0)","v":0},null,2.6303398100734079E-2,null,13,null,175.5,29,null,61,null,76,46,0,"Year 2","Year 2","No Data"]
[null,null,181,null,null,"2011-04-30",{"$f":"MAX('uptake calcs'!M192-'uptake calcs'!M191,0)","v":0},null,{"$f":"MAX('uptake calcs'!L192-'uptake calcs'!L191,0)","v":3.5784716057495336E-2},{"$f":"MAX('uptake calcs'!N192-'uptake calcs'!N191,0)","v":0},null,3.5784716057495336E-2,null,14.5,null,190,30.5,null,62.5,null,79,46,0,"Year 2","Year 2","No Data"]
[null,null,182,null,null,"2011-05-01",{"$f":"MAX('uptake calcs'!M193-'uptake calcs'!M192,0)","v":0},null,{"$f":"MAX('uptake calcs'!L193-'uptake calcs'!L192,0)","v":4.2357573396997333E-2},{"$f":"MAX('uptake calcs'!N193-'uptake calcs'!N192,0)","v":0},null,4.2357573396997333E-2,null,14,null,204,31,null,63,null,78,48,0,"Year 2","Year 2","No Data"]
[null,null,183,null,null,"2011-05-02",{"$f":"MAX('uptake calcs'!M194-'uptake calcs'!M193,0)","v":0},null,{"$f":"MAX('uptake calcs'!L194-'uptake calcs'!L193,0)","v":4.7610894949603716E-2},{"$f":"MAX('uptake calcs'!N194-'uptake calcs'!N193,0)","v":0},null,4.7610894949603716E-2,null,13,null,217,30.5,null,62.5,null,76,49,0,"Year 2","Year 2","No Data"]
[null,null,184,null,null,"2011-05-03",{"$f":"MAX('uptake calcs'!M195-'uptake calcs'!M194,0)","v":0},null,{"$f":"MAX('uptake calcs'!L195-'uptake calcs'!L194,0)","v":5.952935514341634E-2},{"$f":"MAX('uptake calcs'!N195-'uptake calcs'!N194,0)","v":0},null,5.952935514341634E-2,null,13.5,null,230.5,30.5,null,62.5,null,77,48,0,"Year 2","Year 2","No Data"]
[null,null,185,null,null,"2011-05-04",{"$f":"MAX('uptake calcs'!M196-'uptake calcs'!M195,0)","v":0},null,{"$f":"MAX('uptake calcs'!L196-'uptake calcs'!L195,0)","v":6.8833305767649344E-2},{"$f":"MAX('uptake calcs'!N196-'uptake calcs'!N195,0)","v":0},null,6.8833305767649344E-2,null,13,null,243.5,29.5,null,61.5,null,76,47,0,"Year 2","Year 2","No Data"]
[null,null,186,null,null,"2011-05-05",{"$f":"MAX('uptake calcs'!M197-'uptake calcs'!M196,0)","v":0},null,{"$f":"MAX('uptake calcs'!L197-'uptake calcs'!L196,0)","v":7.8706922792029455E-2},{"$f":"MAX('uptake calcs'!N197-'uptake calcs'!N196,0)","v":0},null,7.8706922792029455E-2,null,12.5,null,256,30,null,62,null,75,49,0,"Year 2","Year 2","No Data"]
[null,null,187,null,null,"2011-05-06",{"$f":"MAX('uptake calcs'!M198-'uptake calcs'!M197,0)","v":0},null,{"$f":"MAX('uptake calcs'!L198-'uptake calcs'!L197,0)","v":0.1011186400543716},{"$f":"MAX('uptake calcs'!N198-'uptake calcs'!N197,0)","v":0},null,0.1011186400543716,null,13.5,null,269.5,30,null,62,null,77,47,0,"Year 2","Year 2","No Data"]
[null,null,188,null,null,"2011-05-07",{"$f":"MAX('uptake calcs'!M199-'uptake calcs'!M198,0)","v":0},null,{"$f":"MAX('uptake calcs'!L199-'uptake calcs'!L198,0)","v":0.12057313831150795},{"$f":"MAX('uptake calcs'!N199-'uptake calcs'!N198,0)","v":0},null,0.12057313831150795,null,13.5,null,283,30.5,null,62.5,null,77,48,0,"Year 2","Year 2","No Data"]
[null,null,189,null,null,"2011-05-08",{"$f":"MAX('uptake calcs'!M200-'uptake calcs'!M199,0)","v":0},null,{"$f":"MAX('uptake calcs'!L200-'uptake calcs'!L199,0)","v":0.14884196172582231},{"$f":"MAX('uptake calcs'!N200-'uptake calcs'!N199,0)","v":0},null,0.14884196172582231,null,14,null,297,31.5,null,63.5,null,78,49,0,"Year 2","Year 2","No Data"]
[null,null,190,null,null,"2011-05-09",{"$f":"MAX('uptake calcs'!M201-'uptake calcs'!M200,0)","v":0},null,{"$f":"MAX('uptake calcs'!L201-'uptake calcs'!L200,0)","v":0.17665710500417042},{"$f":"MAX('uptake calcs'!N201-'uptake calcs'!N200,0)","v":0},null,0.17665710500417042,null,14,null,311,30.5,null,62.5,null,78,47,0,"Year 2","Year 2","No Data"]
[null,null,191,null,null,"2011-05-10",{"$f":"MAX('uptake calcs'!M202-'uptake calcs'!M201,0)","v":0},null,{"$f":"MAX('uptake calcs'!L202-'uptake calcs'!L201,0)","v":0.20821902932721748},{"$f":"MAX('uptake calcs'!N202-'uptake calcs'!N201,0)","v":0},null,0.20821902932721748,null,14,null,325,30,null,62,null,78,46,0,"Year 2","Year 2","No Data"]
[null,null,192,null,null,"2011-05-11",{"$f":"MAX('uptake calcs'!M203-'uptake calcs'!M202,0)","v":0},null,{"$f":"MAX('uptake calcs'!L203-'uptake calcs'!L202,0)","v":0.27183591871189439},{"$f":"MAX('uptake calcs'!N203-'uptake calcs'!N202,0)","v":0},null,0.27183591871189439,null,15.5,null,340.5,32.5,null,64.5,null,81,48,0,"Year 2","Year 2","No Data"]
[null,null,193,null,null,"2011-05-12",{"$f":"MAX('uptake calcs'!M204-'uptake calcs'!M203,0)","v":0},null,{"$f":"MAX('uptake calcs'!L204-'uptake calcs'!L203,0)","v":0.29764938899876303},{"$f":"MAX('uptake calcs'!N204-'uptake calcs'!N203,0)","v":0},null,{"$f":"SUM(G287:J287)","v":0.29764938899876303},null,{"$f":"IF($U287>cutoff.corn.min,((IF($U287>cutoff.corn.max,cutoff.corn.max,$U287)+IF($V287<cutoff.corn.min,cutoff.corn.min,$V287))/2)-cutoff.corn.min,0)","v":14.5},null,{"$f":"IF(AND(C287>=C$44,C287<=$C$55),N287+P286,0)","v":355},{"$f":"((U287+V287)/2)-32","v":32},null,{"$f":"AVERAGE(U287:V287)","v":64},null,79,49,0,"Year 2","Year 2","No Data"]
[null,null,194,null,null,"2011-05-13",{"$f":"MAX('uptake calcs'!M205-'uptake calcs'!M204,0)","v":0},null,{"$f":"MAX('uptake calcs'!L205-'uptake calcs'!L204,0)","v":0.36838349319293995},{"$f":"MAX('uptake calcs'!N205-'uptake calcs'!N204,0)","v":0},null,0.36838349319293995,null,15.5,null,370.5,33,null,65,null,81,49,0,"Year 2","Year 2","No Data"]
[null,null,195,null,null,{"$f":"F288+1","v":"2011-05-14"},{"$f":"MAX('uptake calcs'!M206-'uptake calcs'!M205,0)","v":0},null,{"$f":"MAX('uptake calcs'!L206-'uptake calcs'!L205,0)","v":0.42326825828884962},{"$f":"MAX('uptake calcs'!N206-'uptake calcs'!N205,0)","v":0},null,0.42326825828884962,null,15.5,null,386,33,null,65,null,81,49,0,"Year 2","Year 2","No Data"]
[null,null,196,null,null,"2011-05-15",{"$f":"MAX('uptake calcs'!M207-'uptake calcs'!M206,0)","v":0},null,{"$f":"MAX('uptake calcs'!L207-'uptake calcs'!L206,0)","v":0.51283184823311601},{"$f":"MAX('uptake calcs'!N207-'uptake calcs'!N206,0)","v":0},null,0.51283184823311601,null,16.5,null,402.5,34.5,null,66.5,null,81,52,0,"Year 2","Year 2","No Data"]
[null,null,197,null,null,"2011-05-16",{"$f":"MAX('uptake calcs'!M208-'uptake calcs'!M207,0)","v":0},null,{"$f":"MAX('uptake calcs'!L208-'uptake calcs'!L207,0)","v":0.54041703915335315},{"$f":"MAX('uptake calcs'!N208-'uptake calcs'!N207,0)","v":0},null,0.54041703915335315,null,15.5,null,418,33.5,null,65.5,null,80,51,0,"Year 2","Year 2","No Data"]
[null,null,198,null,null,"2011-05-17",{"$f":"MAX('uptake calcs'!M209-'uptake calcs'!M208,0)","v":0},null,{"$f":"MAX('uptake calcs'!L209-'uptake calcs'!L208,0)","v":0.61589917973260011},{"$f":"MAX('uptake calcs'!N209-'uptake calcs'!N208,0)","v":0},null,0.61589917973260011,null,16,null,434,34,null,66,null,80,52,0,"Year 2","Year 2","No Data"]
[null,null,199,null,null,"2011-05-18",{"$f":"MAX('uptake calcs'!M210-'uptake calcs'!M209,0)","v":0},null,{"$f":"MAX('uptake calcs'!L210-'uptake calcs'!L209,0)","v":0.7154009917558648},{"$f":"MAX('uptake calcs'!N210-'uptake calcs'!N209,0)","v":0},null,0.7154009917558648,null,17,null,451,35,null,67,null,82,52,0,"Year 2","Year 2","No Data"]
[null,null,200,null,null,"2011-05-19",{"$f":"MAX('uptake calcs'!M211-'uptake calcs'!M210,0)","v":0},null,{"$f":"MAX('uptake calcs'!L211-'uptake calcs'!L210,0)","v":0.74934790377566607},{"$f":"MAX('uptake calcs'!N211-'uptake calcs'!N210,0)","v":0},null,0.74934790377566607,null,16.5,null,467.5,34.5,null,66.5,null,82,51,0,"Year 2","Year 2","No Data"]
[null,null,201,null,null,"2011-05-20",{"$f":"MAX('uptake calcs'!M212-'uptake calcs'!M211,0)","v":0},null,{"$f":"MAX('uptake calcs'!L212-'uptake calcs'!L211,0)","v":0.7478165394739964},{"$f":"MAX('uptake calcs'!N212-'uptake calcs'!N211,0)","v":0},null,0.7478165394739964,null,15.5,null,483,33.5,null,65.5,null,81,50,0,"Year 2","Year 2","No Data"]
[null,null,202,null,null,"2011-05-21",{"$f":"MAX('uptake calcs'!M213-'uptake calcs'!M212,0)","v":0},null,{"$f":"MAX('uptake calcs'!L213-'uptake calcs'!L212,0)","v":0.75893466101738127},{"$f":"MAX('uptake calcs'!N213-'uptake calcs'!N212,0)","v":0},null,0.75893466101738127,null,15,null,498,33,null,65,null,80,50,0,"Year 2","Year 2","No Data"]
[null,null,203,null,null,"2011-05-22",{"$f":"MAX('uptake calcs'!M214-'uptake calcs'!M213,0)","v":0},null,{"$f":"MAX('uptake calcs'!L214-'uptake calcs'!L213,0)","v":0.86885275633085968},{"$f":"MAX('uptake calcs'!N214-'uptake calcs'!N213,0)","v":0},null,0.86885275633085968,null,16.5,null,514.5,34.5,null,66.5,null,82,51,0,"Year 2","Year 2","No Data"]
[null,null,204,null,null,"2011-05-23",{"$f":"MAX('uptake calcs'!M215-'uptake calcs'!M214,0)","v":0},null,{"$f":"MAX('uptake calcs'!L215-'uptake calcs'!L214,0)","v":0.92594781250256197},{"$f":"MAX('uptake calcs'!N215-'uptake calcs'!N214,0)","v":0},null,0.92594781250256197,null,17,null,531.5,35,null,67,null,82,52,0,"Year 2","Year 2","No Data"]
[null,null,205,null,null,"2011-05-24",{"$f":"MAX('uptake calcs'!M216-'uptake calcs'!M215,0)","v":0},null,{"$f":"MAX('uptake calcs'!L216-'uptake calcs'!L215,0)","v":0.92258799105872136},{"$f":"MAX('uptake calcs'!N216-'uptake calcs'!N215,0)","v":0},null,0.92258799105872136,null,16.5,null,548,34.5,null,66.5,null,81,52,0,"Year 2","Year 2","No Data"]
[null,null,206,null,null,"2011-05-25",{"$f":"MAX('uptake calcs'!M217-'uptake calcs'!M216,0)","v":0},null,{"$f":"MAX('uptake calcs'!L217-'uptake calcs'!L216,0)","v":0.91214794320297443},{"$f":"MAX('uptake calcs'!N217-'uptake calcs'!N216,0)","v":0},null,0.91214794320297443,null,16,null,564,34,null,66,null,81,51,0,"Year 2","Year 2","No Data"]
[null,null,207,null,null,"2011-05-26",{"$f":"MAX('uptake calcs'!M218-'uptake calcs'!M217,0)","v":0},null,{"$f":"MAX('uptake calcs'!L218-'uptake calcs'!L217,0)","v":0.98346525627824732},{"$f":"MAX('uptake calcs'!N218-'uptake calcs'!N217,0)","v":0},null,0.98346525627824732,null,17,null,581,35,null,67,null,82,52,0,"Year 2","Year 2","No Data"]
[null,null,208,null,null,"2011-05-27",{"$f":"MAX('uptake calcs'!M219-'uptake calcs'!M218,0)","v":0},null,{"$f":"MAX('uptake calcs'!L219-'uptake calcs'!L218,0)","v":0.99418565769142297},{"$f":"MAX('uptake calcs'!N219-'uptake calcs'!N218,0)","v":0},null,0.99418565769142297,null,17,null,598,35,null,67,null,82,52,0,"Year 2","Year 2","No Data"]
[null,null,209,null,null,"2011-05-28",{"$f":"MAX('uptake calcs'!M220-'uptake calcs'!M219,0)","v":0},null,{"$f":"MAX('uptake calcs'!L220-'uptake calcs'!L219,0)","v":0.97198572819533169},{"$f":"MAX('uptake calcs'!N220-'uptake calcs'!N219,0)","v":0},null,0.97198572819533169,null,16.5,null,614.5,34.5,null,66.5,null,82,51,0,"Year 2","Year 2","No Data"]
[null,null,210,null,null,"2011-05-29",{"$f":"MAX('uptake calcs'!M221-'uptake calcs'!M220,0)","v":0},null,{"$f":"MAX('uptake calcs'!L221-'uptake calcs'!L220,0)","v":1.0060064415017997},{"$f":"MAX('uptake calcs'!N221-'uptake calcs'!N220,0)","v":0},null,1.0060064415017997,null,17,null,631.5,35,null,67,null,83,51,0,"Year 2","Year 2","No Data"]
[null,null,211,null,null,"2011-05-30",{"$f":"MAX('uptake calcs'!M222-'uptake calcs'!M221,0)","v":0},null,{"$f":"MAX('uptake calcs'!L222-'uptake calcs'!L221,0)","v":1.0678089185792921},{"$f":"MAX('uptake calcs'!N222-'uptake calcs'!N221,0)","v":0},null,1.0678089185792921,null,18,null,649.5,36,null,68,null,85,51,0,"Year 2","Year 2","No Data"]
[null,null,212,null,null,"2011-05-31",{"$f":"MAX('uptake calcs'!M223-'uptake calcs'!M222,0)","v":0},null,{"$f":"MAX('uptake calcs'!L223-'uptake calcs'!L222,0)","v":1.1574988169306266},{"$f":"MAX('uptake calcs'!N223-'uptake calcs'!N222,0)","v":0},null,1.1574988169306266,null,19.5,null,669,37.5,null,69.5,null,86,53,0,"Year 2","Year 2","No Data"]
[null,null,213,null,null,"2011-06-01",{"$f":"MAX('uptake calcs'!M224-'uptake calcs'!M223,0)","v":0},null,{"$f":"MAX('uptake calcs'!L224-'uptake calcs'!L223,0)","v":1.1858870917471016},{"$f":"MAX('uptake calcs'!N224-'uptake calcs'!N223,0)","v":0},null,1.1858870917471016,null,20,null,689,38,null,70,null,86,54,0,"Year 2","Year 2","No Data"]
[null,null,214,null,null,"2011-06-02",{"$f":"MAX('uptake calcs'!M225-'uptake calcs'!M224,0)","v":0},null,{"$f":"MAX('uptake calcs'!L225-'uptake calcs'!L224,0)","v":1.1238976649724535},{"$f":"MAX('uptake calcs'!N225-'uptake calcs'!N224,0)","v":0},null,1.1238976649724535,null,19,null,708,37,null,69,null,85,53,0,"Year 2","Year 2","No Data"]
[null,null,215,null,null,"2011-06-03",{"$f":"MAX('uptake calcs'!M226-'uptake calcs'!M225,0)","v":0},null,{"$f":"MAX('uptake calcs'!L226-'uptake calcs'!L225,0)","v":1.120199122434606},{"$f":"MAX('uptake calcs'!N226-'uptake calcs'!N225,0)","v":0},null,1.120199122434606,null,19,null,727,37,null,69,null,84,54,0,"Year 2","Year 2","No Data"]
[null,null,216,null,null,"2011-06-04",{"$f":"MAX('uptake calcs'!M227-'uptake calcs'!M226,0)","v":0},null,{"$f":"MAX('uptake calcs'!L227-'uptake calcs'!L226,0)","v":1.1157163261732634},{"$f":"MAX('uptake calcs'!N227-'uptake calcs'!N226,0)","v":0},null,1.1157163261732634,null,19,null,746,37,null,69,null,84,54,0,"Year 2","Year 2","No Data"]
[null,null,217,null,null,"2011-06-05",{"$f":"MAX('uptake calcs'!M228-'uptake calcs'!M227,0)","v":0},null,{"$f":"MAX('uptake calcs'!L228-'uptake calcs'!L227,0)","v":1.0231638301931696},{"$f":"MAX('uptake calcs'!N228-'uptake calcs'!N227,0)","v":0},null,1.0231638301931696,null,17.5,null,763.5,35.5,null,67.5,null,82,53,0,"Year 2","Year 2","No Data"]
[null,null,218,null,null,"2011-06-06",{"$f":"MAX('uptake calcs'!M229-'uptake calcs'!M228,0)","v":0},null,{"$f":"MAX('uptake calcs'!L229-'uptake calcs'!L228,0)","v":1.0475582402112167},{"$f":"MAX('uptake calcs'!N229-'uptake calcs'!N228,0)","v":0},null,1.0475582402112167,null,18,null,781.5,36,null,68,null,83,53,0,"Year 2","Year 2","No Data"]
[null,null,219,null,null,"2011-06-07",{"$f":"MAX('uptake calcs'!M230-'uptake calcs'!M229,0)","v":0},null,{"$f":"MAX('uptake calcs'!L230-'uptake calcs'!L229,0)","v":1.0134978124587448},{"$f":"MAX('uptake calcs'!N230-'uptake calcs'!N229,0)","v":0},null,1.0134978124587448,null,17.5,null,799,35.5,null,67.5,null,82,53,0,"Year 2","Year 2","No Data"]
[null,null,220,null,null,"2011-06-08",{"$f":"MAX('uptake calcs'!M231-'uptake calcs'!M230,0)","v":0},null,{"$f":"MAX('uptake calcs'!L231-'uptake calcs'!L230,0)","v":0.97967918287809397},{"$f":"MAX('uptake calcs'!N231-'uptake calcs'!N230,0)","v":0},null,0.97967918287809397,null,17,null,816,35,null,67,null,83,51,0,"Year 2","Year 2","No Data"]
[null,null,221,null,null,"2011-06-09",{"$f":"MAX('uptake calcs'!M232-'uptake calcs'!M231,0)","v":0},null,{"$f":"MAX('uptake calcs'!L232-'uptake calcs'!L231,0)","v":1.0605323983060231},{"$f":"MAX('uptake calcs'!N232-'uptake calcs'!N231,0)","v":0},null,1.0605323983060231,null,18.5,null,834.5,36.5,null,68.5,null,85,52,0,"Year 2","Year 2","No Data"]
[null,null,222,null,null,"2011-06-10",{"$f":"MAX('uptake calcs'!M233-'uptake calcs'!M232,0)","v":0},null,{"$f":"MAX('uptake calcs'!L233-'uptake calcs'!L232,0)","v":1.0545982668364928},{"$f":"MAX('uptake calcs'!N233-'uptake calcs'!N232,0)","v":0},null,1.0545982668364928,null,18.5,null,853,36.5,null,68.5,null,84,53,0,"Year 2","Year 2","No Data"]
[null,null,223,null,null,"2011-06-11",{"$f":"MAX('uptake calcs'!M234-'uptake calcs'!M233,0)","v":0},null,{"$f":"MAX('uptake calcs'!L234-'uptake calcs'!L233,0)","v":1.0768444637904082},{"$f":"MAX('uptake calcs'!N234-'uptake calcs'!N233,0)","v":0},null,1.0768444637904082,null,19,null,872,37,null,69,null,85,53,0,"Year 2","Year 2","No Data"]
[null,null,224,null,null,"2011-06-12",{"$f":"MAX('uptake calcs'!M235-'uptake calcs'!M234,0)","v":0},null,{"$f":"MAX('uptake calcs'!L235-'uptake calcs'!L234,0)","v":1.796412681013674},{"$f":"MAX('uptake calcs'!N235-'uptake calcs'!N234,0)","v":0},null,1.796412681013674,null,19,null,891,37,null,69,null,85,53,0,"Year 2","Year 2","No Data"]
[null,null,225,null,null,"2011-06-13",{"$f":"MAX('uptake calcs'!M236-'uptake calcs'!M235,0)","v":0},null,{"$f":"MAX('uptake calcs'!L236-'uptake calcs'!L235,0)","v":3.5738078475380206},{"$f":"MAX('uptake calcs'!N236-'uptake calcs'!N235,0)","v":0},null,3.5738078475380206,null,20.5,null,911.5,38.5,null,70.5,null,87,54,0,"Year 2","Year 2","No Data"]
[null,null,226,null,null,"2011-06-14",{"$f":"MAX('uptake calcs'!M237-'uptake calcs'!M236,0)","v":0},null,{"$f":"MAX('uptake calcs'!L237-'uptake calcs'!L236,0)","v":4.3013039639044024},{"$f":"MAX('uptake calcs'!N237-'uptake calcs'!N236,0)","v":0},null,4.3013039639044024,null,21.5,null,933,39.5,null,71.5,null,88,55,0,"Year 2","Year 2","No Data"]
[null,null,227,null,null,"2011-06-15",{"$f":"MAX('uptake calcs'!M238-'uptake calcs'!M237,0)","v":0},null,{"$f":"MAX('uptake calcs'!L238-'uptake calcs'!L237,0)","v":4.7860396215796044},{"$f":"MAX('uptake calcs'!N238-'uptake calcs'!N237,0)","v":0},null,4.7860396215796044,null,21,null,954,39,null,71,null,87,55,0,"Year 2","Year 2","No Data"]
[null,null,228,null,null,"2011-06-16",{"$f":"MAX('uptake calcs'!M239-'uptake calcs'!M238,0)","v":0},null,{"$f":"MAX('uptake calcs'!L239-'uptake calcs'!L238,0)","v":5.1181424863996909},{"$f":"MAX('uptake calcs'!N239-'uptake calcs'!N238,0)","v":0},null,5.1181424863996909,null,20,null,974,38,null,70,null,86,54,0,"Year 2","Year 2","No Data"]
[null,null,229,null,null,"2011-06-17",{"$f":"MAX('uptake calcs'!M240-'uptake calcs'!M239,0)","v":0},null,{"$f":"MAX('uptake calcs'!L240-'uptake calcs'!L239,0)","v":5.8185647594356737},{"$f":"MAX('uptake calcs'!N240-'uptake calcs'!N239,0)","v":0},null,5.8185647594356737,null,20.5,null,994.5,38.5,null,70.5,null,87,54,0,"Year 2","Year 2","No Data"]
[null,null,230,null,null,"2011-06-18",{"$f":"MAX('uptake calcs'!M241-'uptake calcs'!M240,0)","v":0},null,{"$f":"MAX('uptake calcs'!L241-'uptake calcs'!L240,0)","v":6.5433340541969756},{"$f":"MAX('uptake calcs'!N241-'uptake calcs'!N240,0)","v":0},null,6.5433340541969756,null,21,null,1015.5,39,null,71,null,88,54,0,"Year 2","Year 2","No Data"]
[null,null,231,null,null,"2011-06-19",{"$f":"MAX('uptake calcs'!M242-'uptake calcs'!M241,0)","v":0},null,{"$f":"MAX('uptake calcs'!L242-'uptake calcs'!L241,0)","v":6.9103063900759167},{"$f":"MAX('uptake calcs'!N242-'uptake calcs'!N241,0)","v":0},null,6.9103063900759167,null,20.5,null,1036,38.5,null,70.5,null,88,53,0,"Year 2","Year 2","No Data"]
[null,null,232,null,null,"2011-06-20",{"$f":"MAX('uptake calcs'!M243-'uptake calcs'!M242,0)","v":0},null,{"$f":"MAX('uptake calcs'!L243-'uptake calcs'!L242,0)","v":7.3492103131414126},{"$f":"MAX('uptake calcs'!N243-'uptake calcs'!N242,0)","v":0},null,7.3492103131414126,null,20.5,null,1056.5,38.5,null,70.5,null,88,53,0,"Year 2","Year 2","No Data"]
[null,null,233,null,null,"2011-06-21",{"$f":"MAX('uptake calcs'!M244-'uptake calcs'!M243,0)","v":0},null,{"$f":"MAX('uptake calcs'!L244-'uptake calcs'!L243,0)","v":7.6784716499264931},{"$f":"MAX('uptake calcs'!N244-'uptake calcs'!N243,0)","v":0},null,7.6784716499264931,null,20.5,null,1077,38.5,null,70.5,null,88,53,0,"Year 2","Year 2","No Data"]
[null,null,234,null,null,"2011-06-22",{"$f":"MAX('uptake calcs'!M245-'uptake calcs'!M244,0)","v":0},null,{"$f":"MAX('uptake calcs'!L245-'uptake calcs'!L244,0)","v":8.639976133979502},{"$f":"MAX('uptake calcs'!N245-'uptake calcs'!N244,0)","v":0},null,8.639976133979502,null,22.5,null,1099.5,40.5,null,72.5,null,91,54,0,"Year 2","Year 2","No Data"]
[null,null,235,null,null,"2011-06-23",{"$f":"MAX('uptake calcs'!M246-'uptake calcs'!M245,0)","v":0},null,{"$f":"MAX('uptake calcs'!L246-'uptake calcs'!L245,0)","v":8.8425976407395837},{"$f":"MAX('uptake calcs'!N246-'uptake calcs'!N245,0)","v":0},null,8.8425976407395837,null,23,null,1122.5,41,null,73,null,91,55,0,"Year 2","Year 2","No Data"]
[null,null,236,null,null,"2011-06-24",{"$f":"MAX('uptake calcs'!M247-'uptake calcs'!M246,0)","v":0},null,{"$f":"MAX('uptake calcs'!L247-'uptake calcs'!L246,0)","v":8.4244079168686596},{"$f":"MAX('uptake calcs'!N247-'uptake calcs'!N246,0)","v":0},null,8.4244079168686596,null,22.5,null,1145,40.5,null,72.5,null,89,56,0,"Year 2","Year 2","No Data"]
[null,null,237,null,null,"2011-06-25",{"$f":"MAX('uptake calcs'!M248-'uptake calcs'!M247,0)","v":0},null,{"$f":"MAX('uptake calcs'!L248-'uptake calcs'!L247,0)","v":7.9738740020767835},{"$f":"MAX('uptake calcs'!N248-'uptake calcs'!N247,0)","v":0},null,7.9738740020767835,null,22.5,null,1167.5,40.5,null,72.5,null,89,56,0,"Year 2","Year 2","No Data"]
[null,null,238,null,null,"2011-06-26",{"$f":"MAX('uptake calcs'!M249-'uptake calcs'!M248,0)","v":0},null,{"$f":"MAX('uptake calcs'!L249-'uptake calcs'!L248,0)","v":7.4823520146233591},{"$f":"MAX('uptake calcs'!N249-'uptake calcs'!N248,0)","v":0},null,7.4823520146233591,null,23,null,1190.5,41,null,73,null,90,56,0,"Year 2","Year 2","No Data"]
[null,null,239,null,null,"2011-06-27",{"$f":"MAX('uptake calcs'!M250-'uptake calcs'!M249,0)","v":0},null,{"$f":"MAX('uptake calcs'!L250-'uptake calcs'!L249,0)","v":6.9214998615272663},{"$f":"MAX('uptake calcs'!N250-'uptake calcs'!N249,0)","v":0},null,6.9214998615272663,null,24,null,1214.5,42,null,74,null,91,57,0,"Year 2","Year 2","No Data"]
[null,null,240,null,null,"2011-06-28",{"$f":"MAX('uptake calcs'!M251-'uptake calcs'!M250,0)","v":0},null,{"$f":"MAX('uptake calcs'!L251-'uptake calcs'!L250,0)","v":6.0324781446054487},{"$f":"MAX('uptake calcs'!N251-'uptake calcs'!N250,0)","v":0},null,6.0324781446054487,null,24.5,null,1239,42.5,null,74.5,null,91,58,0,"Year 2","Year 2","No Data"]
[null,null,241,null,null,"2011-06-29",{"$f":"MAX('uptake calcs'!M252-'uptake calcs'!M251,0)","v":0},null,{"$f":"MAX('uptake calcs'!L252-'uptake calcs'!L251,0)","v":4.8797462760395547},{"$f":"MAX('uptake calcs'!N252-'uptake calcs'!N251,0)","v":0},null,4.8797462760395547,null,24,null,1263,42,null,74,null,91,57,0,"Year 2","Year 2","No Data"]
[null,null,242,null,null,"2011-06-30",{"$f":"MAX('uptake calcs'!M253-'uptake calcs'!M252,0)","v":0},null,{"$f":"MAX('uptake calcs'!L253-'uptake calcs'!L252,0)","v":3.7684987554660268},{"$f":"MAX('uptake calcs'!N253-'uptake calcs'!N252,0)","v":0},null,3.7684987554660268,null,23,null,1286,41,null,73,null,90,56,0,"Year 2","Year 2","No Data"]
[null,null,243,null,null,"2011-07-01",{"$f":"MAX('uptake calcs'!M254-'uptake calcs'!M253,0)","v":0},null,{"$f":"MAX('uptake calcs'!L254-'uptake calcs'!L253,0)","v":2.9700458607665894},{"$f":"MAX('uptake calcs'!N254-'uptake calcs'!N253,0)","v":0},null,2.9700458607665894,null,23,null,1309,41,null,73,null,90,56,0,"Year 2","Year 2","No Data"]
[null,null,244,null,null,"2011-07-02",{"$f":"MAX('uptake calcs'!M255-'uptake calcs'!M254,0)","v":0},null,{"$f":"MAX('uptake calcs'!L255-'uptake calcs'!L254,0)","v":2.2844005608200746},{"$f":"MAX('uptake calcs'!N255-'uptake calcs'!N254,0)","v":0},null,2.2844005608200746,null,23,null,1332,41,null,73,null,90,56,0,"Year 2","Year 2","No Data"]
[null,null,245,null,null,"2011-07-03",{"$f":"MAX('uptake calcs'!M256-'uptake calcs'!M255,0)","v":0},null,{"$f":"MAX('uptake calcs'!L256-'uptake calcs'!L255,0)","v":1.7507577517055495},{"$f":"MAX('uptake calcs'!N256-'uptake calcs'!N255,0)","v":0},null,1.7507577517055495,null,23.5,null,1355.5,41.5,null,73.5,null,91,56,0,"Year 2","Year 2","No Data"]
[null,null,246,null,null,"2011-07-04",{"$f":"MAX('uptake calcs'!M257-'uptake calcs'!M256,0)","v":0},null,{"$f":"MAX('uptake calcs'!L257-'uptake calcs'!L256,0)","v":1.1222403606302862},{"$f":"MAX('uptake calcs'!N257-'uptake calcs'!N256,0)","v":0},null,1.1222403606302862,null,23,null,1378.5,41,null,73,null,90,56,0,"Year 2","Year 2","No Data"]
[null,null,247,null,null,"2011-07-05",{"$f":"MAX('uptake calcs'!M258-'uptake calcs'!M257,0)","v":0},null,{"$f":"MAX('uptake calcs'!L258-'uptake calcs'!L257,0)","v":0},{"$f":"MAX('uptake calcs'!N258-'uptake calcs'!N257,0)","v":0},null,0,null,24,null,1402.5,42,null,74,null,92,56,0,"Year 2","Year 2","No Data"]
[null,null,248,null,null,"2011-07-06",{"$f":"MAX('uptake calcs'!M259-'uptake calcs'!M258,0)","v":0},null,{"$f":"MAX('uptake calcs'!L259-'uptake calcs'!L258,0)","v":0},{"$f":"MAX('uptake calcs'!N259-'uptake calcs'!N258,0)","v":0},null,0,null,24,null,1426.5,42,null,74,null,91,57,0,"Year 2","Year 2","No Data"]
[null,null,249,null,null,"2011-07-07",{"$f":"MAX('uptake calcs'!M260-'uptake calcs'!M259,0)","v":0},null,{"$f":"MAX('uptake calcs'!L260-'uptake calcs'!L259,0)","v":0},{"$f":"MAX('uptake calcs'!N260-'uptake calcs'!N259,0)","v":0},null,0,null,24,null,1450.5,42,null,74,null,91,57,0,"Year 2","Year 2","No Data"]
[null,null,250,null,null,"2011-07-08",{"$f":"MAX('uptake calcs'!M261-'uptake calcs'!M260,0)","v":0},null,{"$f":"MAX('uptake calcs'!L261-'uptake calcs'!L260,0)","v":0},{"$f":"MAX('uptake calcs'!N261-'uptake calcs'!N260,0)","v":0},null,0,null,25,null,1475.5,43,null,75,null,93,57,0,"Year 2","Year 2","No Data"]
[null,null,251,null,null,"2011-07-09",{"$f":"MAX('uptake calcs'!M262-'uptake calcs'!M261,0)","v":0},null,{"$f":"MAX('uptake calcs'!L262-'uptake calcs'!L261,0)","v":0},{"$f":"MAX('uptake calcs'!N262-'uptake calcs'!N261,0)","v":0},null,0,null,25,null,1500.5,43,null,75,null,92,58,0,"Year 2","Year 2","No Data"]
[null,null,252,null,null,"2011-07-10",{"$f":"MAX('uptake calcs'!M263-'uptake calcs'!M262,0)","v":0},null,{"$f":"MAX('uptake calcs'!L263-'uptake calcs'!L262,0)","v":0},{"$f":"MAX('uptake calcs'!N263-'uptake calcs'!N262,0)","v":0},null,0,null,24.5,null,1525,42.5,null,74.5,null,92,57,0,"Year 2","Year 2","No Data"]
[null,null,253,null,null,"2011-07-11",{"$f":"MAX('uptake calcs'!M264-'uptake calcs'!M263,0)","v":0},null,{"$f":"MAX('uptake calcs'!L264-'uptake calcs'!L263,0)","v":0},{"$f":"MAX('uptake calcs'!N264-'uptake calcs'!N263,0)","v":0},null,0,null,24,null,1549,42,null,74,null,91,57,0,"Year 2","Year 2","No Data"]
[null,null,254,null,null,"2011-07-12",{"$f":"MAX('uptake calcs'!M265-'uptake calcs'!M264,0)","v":0},null,{"$f":"MAX('uptake calcs'!L265-'uptake calcs'!L264,0)","v":0},{"$f":"MAX('uptake calcs'!N265-'uptake calcs'!N264,0)","v":0},null,0,null,24.5,null,1573.5,42.5,null,74.5,null,91,58,0,"Year 2","Year 2","No Data"]
[null,null,255,null,null,"2011-07-13",{"$f":"MAX('uptake calcs'!M266-'uptake calcs'!M265,0)","v":0},null,{"$f":"MAX('uptake calcs'!L266-'uptake calcs'!L265,0)","v":0},{"$f":"MAX('uptake calcs'!N266-'uptake calcs'!N265,0)","v":0},null,0,null,25.5,null,1599,43.5,null,75.5,null,93,58,0,"Year 2","Year 2","No Data"]
[null,null,256,null,null,"2011-07-14",{"$f":"MAX('uptake calcs'!M267-'uptake calcs'!M266,0)","v":0},null,{"$f":"MAX('uptake calcs'!L267-'uptake calcs'!L266,0)","v":0},{"$f":"MAX('uptake calcs'!N267-'uptake calcs'!N266,0)","v":0},null,0,null,27,null,1626,45,null,77,null,95,59,0,"Year 2","Year 2","No Data"]
[null,null,257,null,null,"2011-07-15",{"$f":"MAX('uptake calcs'!M268-'uptake calcs'!M267,0)","v":0},null,{"$f":"MAX('uptake calcs'!L268-'uptake calcs'!L267,0)","v":0},{"$f":"MAX('uptake calcs'!N268-'uptake calcs'!N267,0)","v":0},null,{"$f":"SUM(G351:J351)","v":0},null,{"$f":"IF($U351>cutoff.corn.min,((IF($U351>cutoff.corn.max,cutoff.corn.max,$U351)+IF($V351<cutoff.corn.min,cutoff.corn.min,$V351))/2)-cutoff.corn.min,0)","v":26},null,{"$f":"IF(AND(C351>=C$44,C351<=$C$55),N351+P350,0)","v":1652},{"$f":"((U351+V351)/2)-32","v":44},null,{"$f":"AVERAGE(U351:V351)","v":76},null,93,59,0,"Year 2","Year 2","No Data"]
[null,null,258,null,null,"2011-07-16",{"$f":"MAX('uptake calcs'!M269-'uptake calcs'!M268,0)","v":0},null,{"$f":"MAX('uptake calcs'!L269-'uptake calcs'!L268,0)","v":0},{"$f":"MAX('uptake calcs'!N269-'uptake calcs'!N268,0)","v":0},null,0,null,25.5,null,1677.5,43.5,null,75.5,null,92,59,0,"Year 2","Year 2","No Data"]
[null,null,259,null,null,{"$f":"F352+1","v":"2011-07-17"},{"$f":"MAX('uptake calcs'!M270-'uptake calcs'!M269,0)","v":0},null,{"$f":"MAX('uptake calcs'!L270-'uptake calcs'!L269,0)","v":0},{"$f":"MAX('uptake calcs'!N270-'uptake calcs'!N269,0)","v":0},null,0,null,25.5,null,1703,43.5,null,75.5,null,92,59,0,"Year 2","Year 2","No Data"]
[null,null,260,null,null,"2011-07-18",{"$f":"MAX('uptake calcs'!M271-'uptake calcs'!M270,0)","v":0},null,{"$f":"MAX('uptake calcs'!L271-'uptake calcs'!L270,0)","v":0},{"$f":"MAX('uptake calcs'!N271-'uptake calcs'!N270,0)","v":0},null,0,null,26,null,1729,44,null,76,null,93,59,0,"Year 2","Year 2","No Data"]
[null,null,261,null,null,"2011-07-19",{"$f":"MAX('uptake calcs'!M272-'uptake calcs'!M271,0)","v":0},null,{"$f":"MAX('uptake calcs'!L272-'uptake calcs'!L271,0)","v":0},{"$f":"MAX('uptake calcs'!N272-'uptake calcs'!N271,0)","v":0},null,0,null,26,null,1755,44,null,76,null,93,59,0,"Year 2","Year 2","No Data"]
[null,null,262,null,null,"2011-07-20",{"$f":"MAX('uptake calcs'!M273-'uptake calcs'!M272,0)","v":0},null,{"$f":"MAX('uptake calcs'!L273-'uptake calcs'!L272,0)","v":0},{"$f":"MAX('uptake calcs'!N273-'uptake calcs'!N272,0)","v":0},null,0,null,25,null,1780,43,null,75,null,92,58,0,"Year 2","Year 2","No Data"]
[null,null,263,null,null,"2011-07-21",{"$f":"MAX('uptake calcs'!M274-'uptake calcs'!M273,0)","v":0},null,{"$f":"MAX('uptake calcs'!L274-'uptake calcs'!L273,0)","v":1.1909516225098287},{"$f":"MAX('uptake calcs'!N274-'uptake calcs'!N273,0)","v":0},null,1.1909516225098287,null,24.5,null,1804.5,42.5,null,74.5,null,91,58,0,"Year 2","Year 2","No Data"]
[null,null,264,null,null,"2011-07-22",{"$f":"MAX('uptake calcs'!M275-'uptake calcs'!M274,0)","v":0},null,{"$f":"MAX('uptake calcs'!L275-'uptake calcs'!L274,0)","v":1.6555530080993606},{"$f":"MAX('uptake calcs'!N275-'uptake calcs'!N274,0)","v":0},null,1.6555530080993606,null,25,null,1829.5,43,null,75,null,92,58,0,"Year 2","Year 2","No Data"]
[null,null,265,null,null,"2011-07-23",{"$f":"MAX('uptake calcs'!M276-'uptake calcs'!M275,0)","v":0},null,{"$f":"MAX('uptake calcs'!L276-'uptake calcs'!L275,0)","v":1.8467714115333536},{"$f":"MAX('uptake calcs'!N276-'uptake calcs'!N275,0)","v":0},null,1.8467714115333536,null,26,null,1855.5,44,null,76,null,93,59,0,"Year 2","Year 2","No Data"]
[null,null,266,null,null,"2011-07-24",{"$f":"MAX('uptake calcs'!M277-'uptake calcs'!M276,0)","v":0},null,{"$f":"MAX('uptake calcs'!L277-'uptake calcs'!L276,0)","v":1.9800158143889064},{"$f":"MAX('uptake calcs'!N277-'uptake calcs'!N276,0)","v":0},null,1.9800158143889064,null,26,null,1881.5,44,null,76,null,93,59,0,"Year 2","Year 2","No Data"]
[null,null,267,null,null,"2011-07-25",{"$f":"MAX('uptake calcs'!M278-'uptake calcs'!M277,0)","v":0},null,{"$f":"MAX('uptake calcs'!L278-'uptake calcs'!L277,0)","v":2.1187040309793872},{"$f":"MAX('uptake calcs'!N278-'uptake calcs'!N277,0)","v":0},null,2.1187040309793872,null,26,null,1907.5,44,null,76,null,94,58,0,"Year 2","Year 2","No Data"]
[null,null,268,null,null,"2011-07-26",{"$f":"MAX('uptake calcs'!M279-'uptake calcs'!M278,0)","v":0},null,{"$f":"MAX('uptake calcs'!L279-'uptake calcs'!L278,0)","v":2.2622325421773724},{"$f":"MAX('uptake calcs'!N279-'uptake calcs'!N278,0)","v":0},null,2.2622325421773724,null,26,null,1933.5,44,null,76,null,94,58,0,"Year 2","Year 2","No Data"]
[null,null,269,null,null,"2011-07-27",{"$f":"MAX('uptake calcs'!M280-'uptake calcs'!M279,0)","v":0},null,{"$f":"MAX('uptake calcs'!L280-'uptake calcs'!L279,0)","v":2.4098004423709369},{"$f":"MAX('uptake calcs'!N280-'uptake calcs'!N279,0)","v":0},null,2.4098004423709369,null,26,null,1959.5,44,null,76,null,93,59,0,"Year 2","Year 2","No Data"]
[null,null,270,null,null,"2011-07-28",{"$f":"MAX('uptake calcs'!M281-'uptake calcs'!M280,0)","v":0},null,{"$f":"MAX('uptake calcs'!L281-'uptake calcs'!L280,0)","v":2.5603833359172086},{"$f":"MAX('uptake calcs'!N281-'uptake calcs'!N280,0)","v":0},null,2.5603833359172086,null,26,null,1985.5,44,null,76,null,93,59,0,"Year 2","Year 2","No Data"]
[null,null,271,null,null,"2011-07-29",{"$f":"MAX('uptake calcs'!M282-'uptake calcs'!M281,0)","v":0},null,{"$f":"MAX('uptake calcs'!L282-'uptake calcs'!L281,0)","v":2.552053573113966},{"$f":"MAX('uptake calcs'!N282-'uptake calcs'!N281,0)","v":0},null,2.552053573113966,null,24.5,null,2010,42.5,null,74.5,null,91,58,0,"Year 2","Year 2","No Data"]
[null,null,272,null,null,"2011-07-30",{"$f":"MAX('uptake calcs'!M283-'uptake calcs'!M282,0)","v":0},null,{"$f":"MAX('uptake calcs'!L283-'uptake calcs'!L282,0)","v":2.6875298418679847},{"$f":"MAX('uptake calcs'!N283-'uptake calcs'!N282,0)","v":0},null,2.6875298418679847,null,24.5,null,2034.5,42.5,null,74.5,null,91,58,0,"Year 2","Year 2","No Data"]
[null,null,273,null,null,"2011-07-31",{"$f":"MAX('uptake calcs'!M284-'uptake calcs'!M283,0)","v":0},null,{"$f":"MAX('uptake calcs'!L284-'uptake calcs'!L283,0)","v":2.8217784897348963},{"$f":"MAX('uptake calcs'!N284-'uptake calcs'!N283,0)","v":0},null,2.8217784897348963,null,24.5,null,2059,42.5,null,74.5,null,92,57,0,"Year 2","Year 2","No Data"]
[null,null,274,null,null,"2011-08-01",{"$f":"MAX('uptake calcs'!M285-'uptake calcs'!M284,0)","v":0},null,{"$f":"MAX('uptake calcs'!L285-'uptake calcs'!L284,0)","v":2.9531371455547344},{"$f":"MAX('uptake calcs'!N285-'uptake calcs'!N284,0)","v":0},null,2.9531371455547344,null,24.5,null,2083.5,42.5,null,74.5,null,92,57,0,"Year 2","Year 2","No Data"]
[null,null,275,null,null,"2011-08-02",{"$f":"MAX('uptake calcs'!M286-'uptake calcs'!M285,0)","v":0},null,{"$f":"MAX('uptake calcs'!L286-'uptake calcs'!L285,0)","v":3.0797121419735731},{"$f":"MAX('uptake calcs'!N286-'uptake calcs'!N285,0)","v":0},null,3.0797121419735731,null,24.5,null,2108,42.5,null,74.5,null,92,57,0,"Year 2","Year 2","No Data"]
[null,null,276,null,null,"2011-08-03",{"$f":"MAX('uptake calcs'!M287-'uptake calcs'!M286,0)","v":0},null,{"$f":"MAX('uptake calcs'!L287-'uptake calcs'!L286,0)","v":3.2658606220301749},{"$f":"MAX('uptake calcs'!N287-'uptake calcs'!N286,0)","v":0},null,3.2658606220301749,null,25,null,2133,43,null,75,null,93,57,0,"Year 2","Year 2","No Data"]
[null,null,277,null,null,"2011-08-04",{"$f":"MAX('uptake calcs'!M288-'uptake calcs'!M287,0)","v":0},null,{"$f":"MAX('uptake calcs'!L288-'uptake calcs'!L287,0)","v":3.3806085721913064},{"$f":"MAX('uptake calcs'!N288-'uptake calcs'!N287,0)","v":0},null,3.3806085721913064,null,25,null,2158,43,null,75,null,93,57,0,"Year 2","Year 2","No Data"]
[null,null,278,null,null,"2011-08-05",{"$f":"MAX('uptake calcs'!M289-'uptake calcs'!M288,0)","v":0},null,{"$f":"MAX('uptake calcs'!L289-'uptake calcs'!L288,0)","v":3.2711868537897999},{"$f":"MAX('uptake calcs'!N289-'uptake calcs'!N288,0)","v":0},null,3.2711868537897999,null,23.5,null,2181.5,41.5,null,73.5,null,90,57,0,"Year 2","Year 2","No Data"]
[null,null,279,null,null,"2011-08-06",{"$f":"MAX('uptake calcs'!M290-'uptake calcs'!M289,0)","v":0},null,{"$f":"MAX('uptake calcs'!L290-'uptake calcs'!L289,0)","v":3.4206625752164257},{"$f":"MAX('uptake calcs'!N290-'uptake calcs'!N289,0)","v":0},null,3.4206625752164257,null,24,null,2205.5,42,null,74,null,91,57,0,"Year 2","Year 2","No Data"]
[null,null,280,null,null,"2011-08-07",{"$f":"MAX('uptake calcs'!M291-'uptake calcs'!M290,0)","v":0},null,{"$f":"MAX('uptake calcs'!L291-'uptake calcs'!L290,0)","v":3.4853168161774022},{"$f":"MAX('uptake calcs'!N291-'uptake calcs'!N290,0)","v":0},null,3.4853168161774022,null,24,null,2229.5,42,null,74,null,91,57,0,"Year 2","Year 2","No Data"]
[null,null,281,null,null,"2011-08-08",{"$f":"MAX('uptake calcs'!M292-'uptake calcs'!M291,0)","v":0},null,{"$f":"MAX('uptake calcs'!L292-'uptake calcs'!L291,0)","v":3.5312361676025432},{"$f":"MAX('uptake calcs'!N292-'uptake calcs'!N291,0)","v":0},null,3.5312361676025432,null,24,null,2253.5,42,null,74,null,91,57,0,"Year 2","Year 2","No Data"]
[null,null,282,null,null,"2011-08-09",{"$f":"MAX('uptake calcs'!M293-'uptake calcs'!M292,0)","v":0},null,{"$f":"MAX('uptake calcs'!L293-'uptake calcs'!L292,0)","v":3.5559108452241617},{"$f":"MAX('uptake calcs'!N293-'uptake calcs'!N292,0)","v":0},null,3.5559108452241617,null,24,null,2277.5,42,null,74,null,92,56,0,"Year 2","Year 2","No Data"]
[null,null,283,null,null,"2011-08-10",{"$f":"MAX('uptake calcs'!M294-'uptake calcs'!M293,0)","v":0},null,{"$f":"MAX('uptake calcs'!L294-'uptake calcs'!L293,0)","v":3.556994434269626},{"$f":"MAX('uptake calcs'!N294-'uptake calcs'!N293,0)","v":0},null,3.556994434269626,null,24,null,2301.5,42,null,74,null,91,57,0,"Year 2","Year 2","No Data"]
[null,null,284,null,null,"2011-08-11",{"$f":"MAX('uptake calcs'!M295-'uptake calcs'!M294,0)","v":0},null,{"$f":"MAX('uptake calcs'!L295-'uptake calcs'!L294,0)","v":3.4592594405854982},{"$f":"MAX('uptake calcs'!N295-'uptake calcs'!N294,0)","v":0},null,3.4592594405854982,null,23.5,null,2325,41.5,null,73.5,null,91,56,0,"Year 2","Year 2","No Data"]
[null,null,285,null,null,"2011-08-12",{"$f":"MAX('uptake calcs'!M296-'uptake calcs'!M295,0)","v":0},null,{"$f":"MAX('uptake calcs'!L296-'uptake calcs'!L295,0)","v":3.5536849963800421},{"$f":"MAX('uptake calcs'!N296-'uptake calcs'!N295,0)","v":0},null,3.5536849963800421,null,24.5,null,2349.5,42.5,null,74.5,null,93,56,0,"Year 2","Year 2","No Data"]
[null,null,286,null,null,"2011-08-13",{"$f":"MAX('uptake calcs'!M297-'uptake calcs'!M296,0)","v":0},null,{"$f":"MAX('uptake calcs'!L297-'uptake calcs'!L296,0)","v":3.4699700651970602},{"$f":"MAX('uptake calcs'!N297-'uptake calcs'!N296,0)","v":0},null,3.4699700651970602,null,24.5,null,2374,42.5,null,74.5,null,92,57,0,"Year 2","Year 2","No Data"]
[null,null,287,null,null,"2011-08-14",{"$f":"MAX('uptake calcs'!M298-'uptake calcs'!M297,0)","v":0},null,{"$f":"MAX('uptake calcs'!L298-'uptake calcs'!L297,0)","v":3.3555407883637542},{"$f":"MAX('uptake calcs'!N298-'uptake calcs'!N297,0)","v":0},null,3.3555407883637542,null,24.5,null,2398.5,42.5,null,74.5,null,92,57,0,"Year 2","Year 2","No Data"]
[null,null,288,null,null,"2011-08-15",{"$f":"MAX('uptake calcs'!M299-'uptake calcs'!M298,0)","v":0},null,{"$f":"MAX('uptake calcs'!L299-'uptake calcs'!L298,0)","v":3.1469299221894005},{"$f":"MAX('uptake calcs'!N299-'uptake calcs'!N298,0)","v":0},null,3.1469299221894005,null,24,null,2422.5,42,null,74,null,91,57,0,"Year 2","Year 2","No Data"]
[null,null,289,null,null,"2011-08-16",{"$f":"MAX('uptake calcs'!M300-'uptake calcs'!M299,0)","v":0},null,{"$f":"MAX('uptake calcs'!L300-'uptake calcs'!L299,0)","v":2.9808921471893939},{"$f":"MAX('uptake calcs'!N300-'uptake calcs'!N299,0)","v":0},null,2.9808921471893939,null,24,null,2446.5,42,null,74,null,92,56,0,"Year 2","Year 2","No Data"]
[null,null,290,null,null,"2011-08-17",{"$f":"MAX('uptake calcs'!M301-'uptake calcs'!M300,0)","v":0},null,{"$f":"MAX('uptake calcs'!L301-'uptake calcs'!L300,0)","v":2.6778571281912207},{"$f":"MAX('uptake calcs'!N301-'uptake calcs'!N300,0)","v":0},null,2.6778571281912207,null,23,null,2469.5,41,null,73,null,91,55,0,"Year 2","Year 2","No Data"]
[null,null,291,null,null,"2011-08-18",{"$f":"MAX('uptake calcs'!M302-'uptake calcs'!M301,0)","v":0},null,{"$f":"MAX('uptake calcs'!L302-'uptake calcs'!L301,0)","v":2.3797702661538267},{"$f":"MAX('uptake calcs'!N302-'uptake calcs'!N301,0)","v":0},null,2.3797702661538267,null,22,null,2491.5,40,null,72,null,89,55,0,"Year 2","Year 2","No Data"]
[null,null,292,null,null,"2011-08-19",{"$f":"MAX('uptake calcs'!M303-'uptake calcs'!M302,0)","v":0},null,{"$f":"MAX('uptake calcs'!L303-'uptake calcs'!L302,0)","v":2.1882865055768548},{"$f":"MAX('uptake calcs'!N303-'uptake calcs'!N302,0)","v":0},null,2.1882865055768548,null,22,null,2513.5,40,null,72,null,89,55,0,"Year 2","Year 2","No Data"]
[null,null,293,null,null,"2011-08-20",{"$f":"MAX('uptake calcs'!M304-'uptake calcs'!M303,0)","v":0},null,{"$f":"MAX('uptake calcs'!L304-'uptake calcs'!L303,0)","v":1.9867302594719263},{"$f":"MAX('uptake calcs'!N304-'uptake calcs'!N303,0)","v":0},null,1.9867302594719263,null,22,null,2535.5,40,null,72,null,89,55,0,"Year 2","Year 2","No Data"]
[null,null,294,null,null,"2011-08-21",{"$f":"MAX('uptake calcs'!M305-'uptake calcs'!M304,0)","v":0},null,{"$f":"MAX('uptake calcs'!L305-'uptake calcs'!L304,0)","v":1.8927696403058007},{"$f":"MAX('uptake calcs'!N305-'uptake calcs'!N304,0)","v":0},null,1.8927696403058007,null,23.5,null,2559,41.5,null,73.5,null,90,57,0,"Year 2","Year 2","No Data"]
[null,null,295,null,null,"2011-08-22",{"$f":"MAX('uptake calcs'!M306-'uptake calcs'!M305,0)","v":0},null,{"$f":"MAX('uptake calcs'!L306-'uptake calcs'!L305,0)","v":1.6539354675238656},{"$f":"MAX('uptake calcs'!N306-'uptake calcs'!N305,0)","v":0},null,1.6539354675238656,null,23.5,null,2582.5,41.5,null,73.5,null,90,57,0,"Year 2","Year 2","No Data"]
[null,null,296,null,null,"2011-08-23",{"$f":"MAX('uptake calcs'!M307-'uptake calcs'!M306,0)","v":0},null,{"$f":"MAX('uptake calcs'!L307-'uptake calcs'!L306,0)","v":1.4465503401754631},{"$f":"MAX('uptake calcs'!N307-'uptake calcs'!N306,0)","v":0},null,1.4465503401754631,null,24,null,2606.5,42,null,74,null,91,57,0,"Year 2","Year 2","No Data"]
[null,null,297,null,null,"2011-08-24",{"$f":"MAX('uptake calcs'!M308-'uptake calcs'!M307,0)","v":0},null,{"$f":"MAX('uptake calcs'!L308-'uptake calcs'!L307,0)","v":1.1884423213506068},{"$f":"MAX('uptake calcs'!N308-'uptake calcs'!N307,0)","v":0},null,1.1884423213506068,null,23.5,null,2630,41.5,null,73.5,null,91,56,0,"Year 2","Year 2","No Data"]
[null,null,298,null,null,"2011-08-25",{"$f":"MAX('uptake calcs'!M309-'uptake calcs'!M308,0)","v":0},null,{"$f":"MAX('uptake calcs'!L309-'uptake calcs'!L308,0)","v":0.99608173100531872},{"$f":"MAX('uptake calcs'!N309-'uptake calcs'!N308,0)","v":0},null,0.99608173100531872,null,24,null,2654,42,null,74,null,92,56,0,"Year 2","Year 2","No Data"]
[null,null,299,null,null,"2011-08-26",{"$f":"MAX('uptake calcs'!M310-'uptake calcs'!M309,0)","v":0},null,{"$f":"MAX('uptake calcs'!L310-'uptake calcs'!L309,0)","v":0.78132867609468803},{"$f":"MAX('uptake calcs'!N310-'uptake calcs'!N309,0)","v":0},null,0.78132867609468803,null,23.5,null,2677.5,41.5,null,73.5,null,90,57,0,"Year 2","Year 2","No Data"]
[null,null,300,null,null,"2011-08-27",{"$f":"MAX('uptake calcs'!M311-'uptake calcs'!M310,0)","v":0},null,{"$f":"MAX('uptake calcs'!L311-'uptake calcs'!L310,0)","v":0.62279731715267417},{"$f":"MAX('uptake calcs'!N311-'uptake calcs'!N310,0)","v":0},null,0.62279731715267417,null,24,null,2701.5,42,null,74,null,92,56,0,"Year 2","Year 2","No Data"]
[null,null,301,null,null,"2011-08-28",{"$f":"MAX('uptake calcs'!M312-'uptake calcs'!M311,0)","v":0},null,{"$f":"MAX('uptake calcs'!L312-'uptake calcs'!L311,0)","v":0.47101229736534833},{"$f":"MAX('uptake calcs'!N312-'uptake calcs'!N311,0)","v":0},null,0.47101229736534833,null,24,null,2725.5,42,null,74,null,92,56,0,"Year 2","Year 2","No Data"]
[null,null,302,null,null,"2011-08-29",{"$f":"MAX('uptake calcs'!M313-'uptake calcs'!M312,0)","v":0},null,{"$f":"MAX('uptake calcs'!L313-'uptake calcs'!L312,0)","v":0.35120826614340217},{"$f":"MAX('uptake calcs'!N313-'uptake calcs'!N312,0)","v":0},null,0.35120826614340217,null,24.5,null,2750,42.5,null,74.5,null,91,58,0,"Year 2","Year 2","No Data"]
[null,null,303,null,null,"2011-08-30",{"$f":"MAX('uptake calcs'!M314-'uptake calcs'!M313,0)","v":0},null,{"$f":"MAX('uptake calcs'!L314-'uptake calcs'!L313,0)","v":0},{"$f":"MAX('uptake calcs'!N314-'uptake calcs'!N313,0)","v":0},null,0,null,23,null,0,41,null,73,null,90,56,0,"Year 2","Year 2","No Data"]
[null,null,304,null,null,"2011-08-31",{"$f":"MAX('uptake calcs'!M315-'uptake calcs'!M314,0)","v":0},null,{"$f":"MAX('uptake calcs'!L315-'uptake calcs'!L314,0)","v":0},{"$f":"MAX('uptake calcs'!N315-'uptake calcs'!N314,0)","v":1.0011405300060825},null,1.0011405300060825,null,23.5,null,0,41.5,null,73.5,null,91,56,0,"Year 2","Year 2","No Data"]
[null,null,305,null,null,"2011-09-01",{"$f":"MAX('uptake calcs'!M316-'uptake calcs'!M315,0)","v":0},null,{"$f":"MAX('uptake calcs'!L316-'uptake calcs'!L315,0)","v":0},{"$f":"MAX('uptake calcs'!N316-'uptake calcs'!N315,0)","v":1.0722389469401463},null,1.0722389469401463,null,24,null,0,42,null,74,null,92,56,0,"Year 2","Year 2","No Data"]
[null,null,306,null,null,"2011-09-02",{"$f":"MAX('uptake calcs'!M317-'uptake calcs'!M316,0)","v":0},null,{"$f":"MAX('uptake calcs'!L317-'uptake calcs'!L316,0)","v":0},{"$f":"MAX('uptake calcs'!N317-'uptake calcs'!N316,0)","v":1.1073121381519888},null,1.1073121381519888,null,23,null,0,41,null,73,null,91,55,0,"Year 2","Year 2","No Data"]
[null,null,307,null,null,"2011-09-03",{"$f":"MAX('uptake calcs'!M318-'uptake calcs'!M317,0)","v":0},null,{"$f":"MAX('uptake calcs'!L318-'uptake calcs'!L317,0)","v":0},{"$f":"MAX('uptake calcs'!N318-'uptake calcs'!N317,0)","v":1.2000101749360241},null,1.2000101749360241,null,24,null,0,42,null,74,null,91,57,0,"Year 2","Year 2","No Data"]
[null,null,308,null,null,"2011-09-04",{"$f":"MAX('uptake calcs'!M319-'uptake calcs'!M318,0)","v":0},null,{"$f":"MAX('uptake calcs'!L319-'uptake calcs'!L318,0)","v":0},{"$f":"MAX('uptake calcs'!N319-'uptake calcs'!N318,0)","v":1.2237309364090114},null,1.2237309364090114,null,22.5,null,0,40.5,null,72.5,null,90,55,0,"Year 2","Year 2","No Data"]
[null,null,309,null,null,"2011-09-05",{"$f":"MAX('uptake calcs'!M320-'uptake calcs'!M319,0)","v":0},null,{"$f":"MAX('uptake calcs'!L320-'uptake calcs'!L319,0)","v":0},{"$f":"MAX('uptake calcs'!N320-'uptake calcs'!N319,0)","v":1.2436762269487946},null,1.2436762269487946,null,21,null,0,39,null,71,null,89,53,0,"Year 2","Year 2","No Data"]
[null,null,310,null,null,"2011-09-06",{"$f":"MAX('uptake calcs'!M321-'uptake calcs'!M320,0)","v":0},null,{"$f":"MAX('uptake calcs'!L321-'uptake calcs'!L320,0)","v":0},{"$f":"MAX('uptake calcs'!N321-'uptake calcs'!N320,0)","v":1.3630678983168565},null,1.3630678983168565,null,22.5,null,0,40.5,null,72.5,null,91,54,0,"Year 2","Year 2","No Data"]
[null,null,311,null,null,"2011-09-07",{"$f":"MAX('uptake calcs'!M322-'uptake calcs'!M321,0)","v":0},null,{"$f":"MAX('uptake calcs'!L322-'uptake calcs'!L321,0)","v":0},{"$f":"MAX('uptake calcs'!N322-'uptake calcs'!N321,0)","v":1.4217767990337418},null,1.4217767990337418,null,22,null,0,40,null,72,null,91,53,0,"Year 2","Year 2","No Data"]
[null,null,312,null,null,"2011-09-08",{"$f":"MAX('uptake calcs'!M323-'uptake calcs'!M322,0)","v":0},null,{"$f":"MAX('uptake calcs'!L323-'uptake calcs'!L322,0)","v":0},{"$f":"MAX('uptake calcs'!N323-'uptake calcs'!N322,0)","v":1.4625202901590715},null,1.4625202901590715,null,21,null,0,39,null,71,null,89,53,0,"Year 2","Year 2","No Data"]
[null,null,313,null,null,"2011-09-09",{"$f":"MAX('uptake calcs'!M324-'uptake calcs'!M323,0)","v":0},null,{"$f":"MAX('uptake calcs'!L324-'uptake calcs'!L323,0)","v":0},{"$f":"MAX('uptake calcs'!N324-'uptake calcs'!N323,0)","v":1.4811426293137213},null,1.4811426293137213,null,19.5,null,0,37.5,null,69.5,null,86,53,0,"Year 2","Year 2","No Data"]
[null,null,314,null,null,"2011-09-10",{"$f":"MAX('uptake calcs'!M325-'uptake calcs'!M324,0)","v":0},null,{"$f":"MAX('uptake calcs'!L325-'uptake calcs'!L324,0)","v":0},{"$f":"MAX('uptake calcs'!N325-'uptake calcs'!N324,0)","v":1.5371248942077624},null,1.5371248942077624,null,19,null,0,37,null,69,null,86,52,0,"Year 2","Year 2","No Data"]
[null,null,315,null,null,"2011-09-11",{"$f":"MAX('uptake calcs'!M326-'uptake calcs'!M325,0)","v":0},null,{"$f":"MAX('uptake calcs'!L326-'uptake calcs'!L325,0)","v":0},{"$f":"MAX('uptake calcs'!N326-'uptake calcs'!N325,0)","v":1.6834860491731209},null,1.6834860491731209,null,20.5,null,0,38.5,null,70.5,null,88,53,0,"Year 2","Year 2","No Data"]
[null,null,316,null,null,"2011-09-12",{"$f":"MAX('uptake calcs'!M327-'uptake calcs'!M326,0)","v":0},null,{"$f":"MAX('uptake calcs'!L327-'uptake calcs'!L326,0)","v":0},{"$f":"MAX('uptake calcs'!N327-'uptake calcs'!N326,0)","v":1.7501014984641401},null,1.7501014984641401,null,20,null,0,38,null,70,null,88,52,0,"Year 2","Year 2","No Data"]
[null,null,317,null,null,"2011-09-13",{"$f":"MAX('uptake calcs'!M328-'uptake calcs'!M327,0)","v":0},null,{"$f":"MAX('uptake calcs'!L328-'uptake calcs'!L327,0)","v":0},{"$f":"MAX('uptake calcs'!N328-'uptake calcs'!N327,0)","v":1.84267218451037},null,1.84267218451037,null,20,null,0,38,null,70,null,86,54,0,"Year 2","Year 2","No Data"]
[null,null,318,null,null,"2011-09-14",{"$f":"MAX('uptake calcs'!M329-'uptake calcs'!M328,0)","v":0},null,{"$f":"MAX('uptake calcs'!L329-'uptake calcs'!L328,0)","v":0},{"$f":"MAX('uptake calcs'!N329-'uptake calcs'!N328,0)","v":1.9139564995318779},null,1.9139564995318779,null,19.5,null,0,37.5,null,69.5,null,86,53,0,"Year 2","Year 2","No Data"]
[null,null,319,null,null,"2011-09-15",{"$f":"MAX('uptake calcs'!M330-'uptake calcs'!M329,0)","v":0},null,{"$f":"MAX('uptake calcs'!L330-'uptake calcs'!L329,0)","v":0},{"$f":"MAX('uptake calcs'!N330-'uptake calcs'!N329,0)","v":2.0138279037494158},null,2.0138279037494158,null,19.5,null,0,37.5,null,69.5,null,86,53,0,"Year 2","Year 2","No Data"]
[null,null,320,null,null,"2011-09-16",{"$f":"MAX('uptake calcs'!M331-'uptake calcs'!M330,0)","v":0},null,{"$f":"MAX('uptake calcs'!L331-'uptake calcs'!L330,0)","v":0},{"$f":"MAX('uptake calcs'!N331-'uptake calcs'!N330,0)","v":2.0320687374823336},null,2.0320687374823336,null,18,null,0,36,null,68,null,84,52,0,"Year 2","Year 2","No Data"]
[null,null,321,null,null,"2011-09-17",{"$f":"MAX('uptake calcs'!M332-'uptake calcs'!M331,0)","v":0},null,{"$f":"MAX('uptake calcs'!L332-'uptake calcs'!L331,0)","v":0},{"$f":"MAX('uptake calcs'!N332-'uptake calcs'!N331,0)","v":2.1641327493692977},null,{"$f":"SUM(G415:J415)","v":2.1641327493692977},null,{"$f":"IF($U415>cutoff.corn.min,((IF($U415>cutoff.corn.max,cutoff.corn.max,$U415)+IF($V415<cutoff.corn.min,cutoff.corn.min,$V415))/2)-cutoff.corn.min,0)","v":18.5},null,{"$f":"IF(AND(C415>=C$44,C415<=$C$55),N415+P414,0)","v":0},{"$f":"((U415+V415)/2)-32","v":36.5},null,{"$f":"AVERAGE(U415:V415)","v":68.5},null,85,52,0,"Year 2","Year 2","No Data"]
[null,null,322,null,null,"2011-09-18",{"$f":"MAX('uptake calcs'!M333-'uptake calcs'!M332,0)","v":0},null,{"$f":"MAX('uptake calcs'!L333-'uptake calcs'!L332,0)","v":0},{"$f":"MAX('uptake calcs'!N333-'uptake calcs'!N332,0)","v":2.3059104637204868},null,2.3059104637204868,null,19,null,0,37,null,69,null,86,52,0,"Year 2","Year 2","No Data"]
[null,null,323,null,null,{"$f":"F416+1","v":"2011-09-19"},{"$f":"MAX('uptake calcs'!M334-'uptake calcs'!M333,0)","v":0},null,{"$f":"MAX('uptake calcs'!L334-'uptake calcs'!L333,0)","v":0},{"$f":"MAX('uptake calcs'!N334-'uptake calcs'!N333,0)","v":2.4245891593783},null,2.4245891593783,null,19,null,0,37,null,69,null,86,52,0,"Year 2","Year 2","No Data"]
[null,null,324,null,null,"2011-09-20",{"$f":"MAX('uptake calcs'!M335-'uptake calcs'!M334,0)","v":0},null,{"$f":"MAX('uptake calcs'!L335-'uptake calcs'!L334,0)","v":0},{"$f":"MAX('uptake calcs'!N335-'uptake calcs'!N334,0)","v":2.5847105818834706},null,2.5847105818834706,null,19.5,null,0,37.5,null,69.5,null,87,52,0,"Year 2","Year 2","No Data"]
[null,null,325,null,null,"2011-09-21",{"$f":"MAX('uptake calcs'!M336-'uptake calcs'!M335,0)","v":0},null,{"$f":"MAX('uptake calcs'!L336-'uptake calcs'!L335,0)","v":0},{"$f":"MAX('uptake calcs'!N336-'uptake calcs'!N335,0)","v":2.7195819811185586},null,2.7195819811185586,null,19.5,null,0,37.5,null,69.5,null,87,52,0,"Year 2","Year 2","No Data"]
[null,null,326,null,null,"2011-09-22",{"$f":"MAX('uptake calcs'!M337-'uptake calcs'!M336,0)","v":0},null,{"$f":"MAX('uptake calcs'!L337-'uptake calcs'!L336,0)","v":0},{"$f":"MAX('uptake calcs'!N337-'uptake calcs'!N336,0)","v":2.8614909698073063},null,2.8614909698073063,null,19.5,null,0,37.5,null,69.5,null,86,53,0,"Year 2","Year 2","No Data"]
[null,null,327,null,null,"2011-09-23",{"$f":"MAX('uptake calcs'!M338-'uptake calcs'!M337,0)","v":0},null,{"$f":"MAX('uptake calcs'!L338-'uptake calcs'!L337,0)","v":0},{"$f":"MAX('uptake calcs'!N338-'uptake calcs'!N337,0)","v":2.9696450229110738},null,2.9696450229110738,null,19,null,0,37,null,69,null,86,52,0,"Year 2","Year 2","No Data"]
[null,null,328,null,null,"2011-09-24",{"$f":"MAX('uptake calcs'!M339-'uptake calcs'!M338,0)","v":0},null,{"$f":"MAX('uptake calcs'!L339-'uptake calcs'!L338,0)","v":0},{"$f":"MAX('uptake calcs'!N339-'uptake calcs'!N338,0)","v":3.1224838674283575},null,3.1224838674283575,null,19,null,0,37,null,69,null,87,51,0,"Year 2","Year 2","No Data"]
[null,null,329,null,null,"2011-09-25",{"$f":"MAX('uptake calcs'!M340-'uptake calcs'!M339,0)","v":0},null,{"$f":"MAX('uptake calcs'!L340-'uptake calcs'!L339,0)","v":0},{"$f":"MAX('uptake calcs'!N340-'uptake calcs'!N339,0)","v":3.3286942460747539},null,3.3286942460747539,null,19.5,null,0,37.5,null,69.5,null,87,52,0,"Year 2","Year 2","No Data"]
[null,null,330,null,null,"2011-09-26",{"$f":"MAX('uptake calcs'!M341-'uptake calcs'!M340,0)","v":0},null,{"$f":"MAX('uptake calcs'!L341-'uptake calcs'!L340,0)","v":0},{"$f":"MAX('uptake calcs'!N341-'uptake calcs'!N340,0)","v":3.5502990087517077},null,3.5502990087517077,null,20,null,0,38,null,70,null,87,53,0,"Year 2","Year 2","No Data"]
[null,null,331,null,null,"2011-09-27",{"$f":"MAX('uptake calcs'!M342-'uptake calcs'!M341,0)","v":0},null,{"$f":"MAX('uptake calcs'!L342-'uptake calcs'!L341,0)","v":0},{"$f":"MAX('uptake calcs'!N342-'uptake calcs'!N341,0)","v":3.5868512714568155},null,3.5868512714568155,null,18.5,null,0,36.5,null,68.5,null,85,52,0,"Year 2","Year 2","No Data"]
[null,null,332,null,null,"2011-09-28",{"$f":"MAX('uptake calcs'!M343-'uptake calcs'!M342,0)","v":0},null,{"$f":"MAX('uptake calcs'!L343-'uptake calcs'!L342,0)","v":0},{"$f":"MAX('uptake calcs'!N343-'uptake calcs'!N342,0)","v":3.663135626934249},null,3.663135626934249,null,17.5,null,0,35.5,null,67.5,null,83,52,0,"Year 2","Year 2","No Data"]
[null,null,333,null,null,"2011-09-29",{"$f":"MAX('uptake calcs'!M344-'uptake calcs'!M343,0)","v":0},null,{"$f":"MAX('uptake calcs'!L344-'uptake calcs'!L343,0)","v":0},{"$f":"MAX('uptake calcs'!N344-'uptake calcs'!N343,0)","v":3.8993084531886808},null,3.8993084531886808,null,18,null,0,36,null,68,null,84,52,0,"Year 2","Year 2","No Data"]
[null,null,334,null,null,"2011-09-30",{"$f":"MAX('uptake calcs'!M345-'uptake calcs'!M344,0)","v":0},null,{"$f":"MAX('uptake calcs'!L345-'uptake calcs'!L344,0)","v":0},{"$f":"MAX('uptake calcs'!N345-'uptake calcs'!N344,0)","v":4.0944361070921644},null,4.0944361070921644,null,18,null,0,36,null,68,null,85,51,0,"Year 2","Year 2","No Data"]
[null,null,335,null,null,"2011-10-01",{"$f":"MAX('uptake calcs'!M346-'uptake calcs'!M345,0)","v":0},null,{"$f":"MAX('uptake calcs'!L346-'uptake calcs'!L345,0)","v":0},{"$f":"MAX('uptake calcs'!N346-'uptake calcs'!N345,0)","v":4.2381662039424555},null,4.2381662039424555,null,17.5,null,0,35.5,null,67.5,null,83,52,0,"Year 2","Year 2","No Data"]
[null,null,336,null,null,"2011-10-02",{"$f":"MAX('uptake calcs'!M347-'uptake calcs'!M346,0)","v":0},null,{"$f":"MAX('uptake calcs'!L347-'uptake calcs'!L346,0)","v":0},{"$f":"MAX('uptake calcs'!N347-'uptake calcs'!N346,0)","v":4.3190059363205791},null,4.3190059363205791,null,16.5,null,0,34.5,null,66.5,null,82,51,0,"Year 2","Year 2","No Data"]
[null,null,337,null,null,"2011-10-03",{"$f":"MAX('uptake calcs'!M348-'uptake calcs'!M347,0)","v":0},null,{"$f":"MAX('uptake calcs'!L348-'uptake calcs'!L347,0)","v":0},{"$f":"MAX('uptake calcs'!N348-'uptake calcs'!N347,0)","v":4.3247034095637957},null,4.3247034095637957,null,15.5,null,0,33,null,65,null,81,49,0,"Year 2","Year 2","No Data"]
[null,null,338,null,null,"2011-10-04",{"$f":"MAX('uptake calcs'!M349-'uptake calcs'!M348,0)","v":0},null,{"$f":"MAX('uptake calcs'!L349-'uptake calcs'!L348,0)","v":0},{"$f":"MAX('uptake calcs'!N349-'uptake calcs'!N348,0)","v":4.3126792240793606},null,4.3126792240793606,null,13.5,null,0,31.5,null,63.5,null,77,50,0,"Year 2","Year 2","No Data"]
[null,null,339,null,null,"2011-10-05",{"$f":"MAX('uptake calcs'!M350-'uptake calcs'!M349,0)","v":0},null,{"$f":"MAX('uptake calcs'!L350-'uptake calcs'!L349,0)","v":0},{"$f":"MAX('uptake calcs'!N350-'uptake calcs'!N349,0)","v":4.2822163586374415},null,4.2822163586374415,null,13.5,null,0,30,null,62,null,77,47,0,"Year 2","Year 2","No Data"]
[null,null,340,null,null,"2011-10-06",{"$f":"MAX('uptake calcs'!M351-'uptake calcs'!M350,0)","v":0},null,{"$f":"MAX('uptake calcs'!L351-'uptake calcs'!L350,0)","v":0},{"$f":"MAX('uptake calcs'!N351-'uptake calcs'!N350,0)","v":4.7638988115836014},null,4.7638988115836014,null,15.5,null,0,32,null,64,null,81,47,0,"Year 2","Year 2","No Data"]
[null,null,341,null,null,"2011-10-07",{"$f":"MAX('uptake calcs'!M352-'uptake calcs'!M351,0)","v":0},null,{"$f":"MAX('uptake calcs'!L352-'uptake calcs'!L351,0)","v":0},{"$f":"MAX('uptake calcs'!N352-'uptake calcs'!N351,0)","v":5.134206209423084},null,5.134206209423084,null,16,null,0,33,null,65,null,82,48,0,"Year 2","Year 2","No Data"]
[null,null,342,null,null,"2011-10-08",{"$f":"MAX('uptake calcs'!M353-'uptake calcs'!M352,0)","v":0},null,{"$f":"MAX('uptake calcs'!L353-'uptake calcs'!L352,0)","v":0},{"$f":"MAX('uptake calcs'!N353-'uptake calcs'!N352,0)","v":0},null,0,null,16,null,0,32.5,null,64.5,null,82,47,0,"Year 2","Year 2","No Data"]
[null,null,343,null,null,"2011-10-09",{"$f":"MAX('uptake calcs'!M354-'uptake calcs'!M353,0)","v":0},null,{"$f":"MAX('uptake calcs'!L354-'uptake calcs'!L353,0)","v":0},{"$f":"MAX('uptake calcs'!N354-'uptake calcs'!N353,0)","v":0},null,0,null,15.5,null,0,32.5,null,64.5,null,81,48,0,"Year 2","Year 2","No Data"]
[null,null,344,null,null,"2011-10-10",{"$f":"MAX('uptake calcs'!M355-'uptake calcs'!M354,0)","v":0},null,{"$f":"MAX('uptake calcs'!L355-'uptake calcs'!L354,0)","v":0},{"$f":"MAX('uptake calcs'!N355-'uptake calcs'!N354,0)","v":0},null,0,null,14,null,0,30.5,null,62.5,null,78,47,0,"Year 2","Year 2","No Data"]
[null,null,345,null,null,"2011-10-11",{"$f":"MAX('uptake calcs'!M356-'uptake calcs'!M355,0)","v":0},null,{"$f":"MAX('uptake calcs'!L356-'uptake calcs'!L355,0)","v":0},{"$f":"MAX('uptake calcs'!N356-'uptake calcs'!N355,0)","v":0},null,0,null,14,null,0,29.5,null,61.5,null,78,45,0,"Year 2","Year 2","No Data"]
[null,null,346,null,null,"2011-10-12",{"$f":"MAX('uptake calcs'!M357-'uptake calcs'!M356,0)","v":0},null,{"$f":"MAX('uptake calcs'!L357-'uptake calcs'!L356,0)","v":0},{"$f":"MAX('uptake calcs'!N357-'uptake calcs'!N356,0)","v":0},null,0,null,13.5,null,0,30.5,null,62.5,null,77,48,0,"Year 2","Year 2","No Data"]
[null,null,347,null,null,"2011-10-13",{"$f":"MAX('uptake calcs'!M358-'uptake calcs'!M357,0)","v":0},null,{"$f":"MAX('uptake calcs'!L358-'uptake calcs'!L357,0)","v":0},{"$f":"MAX('uptake calcs'!N358-'uptake calcs'!N357,0)","v":0},null,0,null,14.5,null,0,30.5,null,62.5,null,79,46,0,"Year 2","Year 2","No Data"]
[null,null,348,null,null,"2011-10-14",{"$f":"MAX('uptake calcs'!M359-'uptake calcs'!M358,0)","v":0},null,{"$f":"MAX('uptake calcs'!L359-'uptake calcs'!L358,0)","v":0},{"$f":"MAX('uptake calcs'!N359-'uptake calcs'!N358,0)","v":0},null,0,null,16,null,0,32.5,null,64.5,null,82,47,0,"Year 2","Year 2","No Data"]
[null,null,349,null,null,"2011-10-15",{"$f":"MAX('uptake calcs'!M360-'uptake calcs'!M359,0)","v":0},null,{"$f":"MAX('uptake calcs'!L360-'uptake calcs'!L359,0)","v":0},{"$f":"MAX('uptake calcs'!N360-'uptake calcs'!N359,0)","v":0},null,0,null,14,null,0,31,null,63,null,78,48,0,"Year 2","Year 2","No Data"]
[null,null,350,null,null,"2011-10-16",{"$f":"MAX('uptake calcs'!M361-'uptake calcs'!M360,0)","v":0},null,{"$f":"MAX('uptake calcs'!L361-'uptake calcs'!L360,0)","v":0},{"$f":"MAX('uptake calcs'!N361-'uptake calcs'!N360,0)","v":0},null,0,null,13,null,0,29.5,null,61.5,null,76,47,0,"Year 2","Year 2","No Data"]
[null,null,351,null,null,"2011-10-17",{"$f":"MAX('uptake calcs'!M362-'uptake calcs'!M361,0)","v":0},null,{"$f":"MAX('uptake calcs'!L362-'uptake calcs'!L361,0)","v":0},{"$f":"MAX('uptake calcs'!N362-'uptake calcs'!N361,0)","v":0},null,0,null,14,null,0,29,null,61,null,78,44,0,"Year 2","Year 2","No Data"]
[null,null,352,null,null,"2011-10-18",{"$f":"MAX('uptake calcs'!M363-'uptake calcs'!M362,0)","v":0},null,{"$f":"MAX('uptake calcs'!L363-'uptake calcs'!L362,0)","v":0},{"$f":"MAX('uptake calcs'!N363-'uptake calcs'!N362,0)","v":0},null,0,null,13.5,null,0,29,null,61,null,77,45,0,"Year 2","Year 2","No Data"]
[null,null,353,null,null,"2011-10-19",{"$f":"MAX('uptake calcs'!M364-'uptake calcs'!M363,0)","v":0},null,{"$f":"MAX('uptake calcs'!L364-'uptake calcs'!L363,0)","v":0},{"$f":"MAX('uptake calcs'!N364-'uptake calcs'!N363,0)","v":0},null,0,null,13,null,0,28.5,null,60.5,null,76,45,0,"Year 2","Year 2","No Data"]
[null,null,354,null,null,"2011-10-20",{"$f":"MAX('uptake calcs'!M365-'uptake calcs'!M364,0)","v":0},null,{"$f":"MAX('uptake calcs'!L365-'uptake calcs'!L364,0)","v":0},{"$f":"MAX('uptake calcs'!N365-'uptake calcs'!N364,0)","v":0},null,0,null,13,null,0,28.5,null,60.5,null,76,45,0,"Year 2","Year 2","No Data"]
[null,null,355,null,null,"2011-10-21",{"$f":"MAX('uptake calcs'!M366-'uptake calcs'!M365,0)","v":0},null,{"$f":"MAX('uptake calcs'!L366-'uptake calcs'!L365,0)","v":0},{"$f":"MAX('uptake calcs'!N366-'uptake calcs'!N365,0)","v":0},null,0,null,13,null,0,28,null,60,null,76,44,0,"Year 2","Year 2","No Data"]
[null,null,356,null,null,"2011-10-22",{"$f":"MAX('uptake calcs'!M367-'uptake calcs'!M366,0)","v":0},null,{"$f":"MAX('uptake calcs'!L367-'uptake calcs'!L366,0)","v":0},{"$f":"MAX('uptake calcs'!N367-'uptake calcs'!N366,0)","v":0},null,0,null,13.5,null,0,28,null,60,null,77,43,0,"Year 2","Year 2","No Data"]
[null,null,357,null,null,"2011-10-23",{"$f":"MAX('uptake calcs'!M368-'uptake calcs'!M367,0)","v":0},null,{"$f":"MAX('uptake calcs'!L368-'uptake calcs'!L367,0)","v":0},{"$f":"MAX('uptake calcs'!N368-'uptake calcs'!N367,0)","v":0},null,0,null,13,null,0,28,null,60,null,76,44,0,"Year 2","Year 2","No Data"]
[null,null,358,null,null,"2011-10-24",{"$f":"MAX('uptake calcs'!M369-'uptake calcs'!M368,0)","v":0},null,{"$f":"MAX('uptake calcs'!L369-'uptake calcs'!L368,0)","v":0},{"$f":"MAX('uptake calcs'!N369-'uptake calcs'!N368,0)","v":0},null,0,null,12,null,0,27.5,null,59.5,null,74,45,0,"Year 2","Year 2","No Data"]
[null,null,359,null,null,"2011-10-25",{"$f":"MAX('uptake calcs'!M370-'uptake calcs'!M369,0)","v":0},null,{"$f":"MAX('uptake calcs'!L370-'uptake calcs'!L369,0)","v":0},{"$f":"MAX('uptake calcs'!N370-'uptake calcs'!N369,0)","v":0},null,0,null,11.5,null,0,26.5,null,58.5,null,73,44,0,"Year 2","Year 2","No Data"]
[null,null,360,null,null,"2011-10-26",{"$f":"MAX('uptake calcs'!M371-'uptake calcs'!M370,0)","v":0},null,{"$f":"MAX('uptake calcs'!L371-'uptake calcs'!L370,0)","v":0},{"$f":"MAX('uptake calcs'!N371-'uptake calcs'!N370,0)","v":0},null,0,null,12.5,null,0,27,null,59,null,75,43,0,"Year 2","Year 2","No Data"]
[null,null,361,null,null,"2011-10-27",{"$f":"MAX('uptake calcs'!M372-'uptake calcs'!M371,0)","v":0},null,{"$f":"MAX('uptake calcs'!L372-'uptake calcs'!L371,0)","v":0},{"$f":"MAX('uptake calcs'!N372-'uptake calcs'!N371,0)","v":0},null,0,null,11.5,null,0,26.5,null,58.5,null,73,44,0,"Year 2","Year 2","No Data"]
[null,null,362,null,null,"2011-10-28",{"$f":"MAX('uptake calcs'!M373-'uptake calcs'!M372,0)","v":0},null,{"$f":"MAX('uptake calcs'!L373-'uptake calcs'!L372,0)","v":0},{"$f":"MAX('uptake calcs'!N373-'uptake calcs'!N372,0)","v":0},null,0,null,11.5,null,0,26.5,null,58.5,null,73,44,0,"Year 2","Year 2","No Data"]
[null,null,363,null,null,"2011-10-29",{"$f":"MAX('uptake calcs'!M374-'uptake calcs'!M373,0)","v":0},null,{"$f":"MAX('uptake calcs'!L374-'uptake calcs'!L373,0)","v":0},{"$f":"MAX('uptake calcs'!N374-'uptake calcs'!N373,0)","v":0},null,0,null,10.5,null,0,25,null,57,null,71,43,0,"Year 2","Year 2","No Data"]
[null,null,364,null,null,"2011-10-30",{"$f":"MAX('uptake calcs'!M375-'uptake calcs'!M374,0)","v":0},null,{"$f":"MAX('uptake calcs'!L375-'uptake calcs'!L374,0)","v":0},{"$f":"MAX('uptake calcs'!N375-'uptake calcs'!N374,0)","v":0},null,0,null,9.5,null,0,23.5,null,55.5,null,69,42,0,"Year 2","Year 2","No Data"]
[null,null,365,null,null,"2011-10-31",{"$f":"MAX('uptake calcs'!M376-'uptake calcs'!M375,0)","v":0},null,{"$f":"MAX('uptake calcs'!L376-'uptake calcs'!L375,0)","v":0},{"$f":"MAX('uptake calcs'!N376-'uptake calcs'!N375,0)","v":0},null,0,null,10,null,0,23.5,null,55.5,null,70,41,0,"Year 2","Year 2","No Data"]
[null,null,366,null,null,"2011-11-01",{"$f":"MAX('uptake calcs'!M377-'uptake calcs'!M376,0)","v":0},null,{"$f":"MAX('uptake calcs'!L377-'uptake calcs'!L376,0)","v":0},{"$f":"MAX('uptake calcs'!N377-'uptake calcs'!N376,0)","v":0},null,0,null,10,null,0,24,null,56,null,70,42,0,"Year 2","Year 2","No Data"]
[null,null,367,null,null,"2011-11-02",{"$f":"MAX('uptake calcs'!M378-'uptake calcs'!M377,0)","v":0},null,{"$f":"MAX('uptake calcs'!L378-'uptake calcs'!L377,0)","v":0},{"$f":"MAX('uptake calcs'!N378-'uptake calcs'!N377,0)","v":0},null,0,null,10.5,null,0,24,null,56,null,71,41,0,"Year 2","Year 2","No Data"]
[null,null,368,null,null,"2011-11-03",{"$f":"MAX('uptake calcs'!M379-'uptake calcs'!M378,0)","v":0},null,{"$f":"MAX('uptake calcs'!L379-'uptake calcs'!L378,0)","v":0},{"$f":"MAX('uptake calcs'!N379-'uptake calcs'!N378,0)","v":0},null,0,null,9.5,null,0,23,null,55,null,69,41,0,"Year 2","Year 2","No Data"]
[null,null,369,null,null,"2011-11-04",{"$f":"MAX('uptake calcs'!M380-'uptake calcs'!M379,0)","v":0},null,{"$f":"MAX('uptake calcs'!L380-'uptake calcs'!L379,0)","v":0},{"$f":"MAX('uptake calcs'!N380-'uptake calcs'!N379,0)","v":0},null,0,null,9.5,null,0,22.5,null,54.5,null,69,40,0,"Year 2","Year 2","No Data"]
[null,null,370,null,null,"2011-11-05",{"$f":"MAX('uptake calcs'!M381-'uptake calcs'!M380,0)","v":0},null,{"$f":"MAX('uptake calcs'!L381-'uptake calcs'!L380,0)","v":0},{"$f":"MAX('uptake calcs'!N381-'uptake calcs'!N380,0)","v":0},null,0,null,10.5,null,0,24.5,null,56.5,null,71,42,0,"Year 2","Year 2","No Data"]
[null,null,371,null,null,"2011-11-06",{"$f":"MAX('uptake calcs'!M382-'uptake calcs'!M381,0)","v":0},null,{"$f":"MAX('uptake calcs'!L382-'uptake calcs'!L381,0)","v":0},{"$f":"MAX('uptake calcs'!N382-'uptake calcs'!N381,0)","v":0},null,0,null,9.5,null,0,23.5,null,55.5,null,69,42,0,"Year 2","Year 2","No Data"]
[null,null,372,null,null,"2011-11-07",{"$f":"MAX('uptake calcs'!M383-'uptake calcs'!M382,0)","v":0},null,{"$f":"MAX('uptake calcs'!L383-'uptake calcs'!L382,0)","v":0},{"$f":"MAX('uptake calcs'!N383-'uptake calcs'!N382,0)","v":0},null,0,null,9,null,0,24,null,56,null,68,44,0,"Year 2","Year 2","No Data"]
[null,null,373,null,null,"2011-11-08",{"$f":"MAX('uptake calcs'!M384-'uptake calcs'!M383,0)","v":0},null,{"$f":"MAX('uptake calcs'!L384-'uptake calcs'!L383,0)","v":0},{"$f":"MAX('uptake calcs'!N384-'uptake calcs'!N383,0)","v":0},null,0,null,8,null,0,22.5,null,54.5,null,66,43,0,"Year 2","Year 2","No Data"]
[null,null,374,null,null,"2011-11-09",{"$f":"MAX('uptake calcs'!M385-'uptake calcs'!M384,0)","v":0},null,{"$f":"MAX('uptake calcs'!L385-'uptake calcs'!L384,0)","v":0},{"$f":"MAX('uptake calcs'!N385-'uptake calcs'!N384,0)","v":0},null,0,null,8,null,0,21.5,null,53.5,null,66,41,0,"Year 2","Year 2","No Data"]
[null,null,375,null,null,"2011-11-10",{"$f":"MAX('uptake calcs'!M386-'uptake calcs'!M385,0)","v":0},null,{"$f":"MAX('uptake calcs'!L386-'uptake calcs'!L385,0)","v":0},{"$f":"MAX('uptake calcs'!N386-'uptake calcs'!N385,0)","v":0},null,0,null,7,null,0,20.5,null,52.5,null,64,41,0,"Year 2","Year 2","No Data"]
[null,null,376,null,null,"2011-11-11",{"$f":"MAX('uptake calcs'!M387-'uptake calcs'!M386,0)","v":0},null,{"$f":"MAX('uptake calcs'!L387-'uptake calcs'!L386,0)","v":0},{"$f":"MAX('uptake calcs'!N387-'uptake calcs'!N386,0)","v":0},null,0,null,7,null,0,21,null,53,null,64,42,0,"Year 2","Year 2","No Data"]
[null,null,377,null,null,"2011-11-12",{"$f":"MAX('uptake calcs'!M388-'uptake calcs'!M387,0)","v":0},null,{"$f":"MAX('uptake calcs'!L388-'uptake calcs'!L387,0)","v":0},{"$f":"MAX('uptake calcs'!N388-'uptake calcs'!N387,0)","v":0},null,0,null,7.5,null,0,20,null,52,null,65,39,0,"Year 2","Year 2","No Data"]
[null,null,378,null,null,"2011-11-13",{"$f":"MAX('uptake calcs'!M389-'uptake calcs'!M388,0)","v":0},null,{"$f":"MAX('uptake calcs'!L389-'uptake calcs'!L388,0)","v":0},{"$f":"MAX('uptake calcs'!N389-'uptake calcs'!N388,0)","v":0},null,0,null,8,null,0,21,null,53,null,66,40,0,"Year 2","Year 2","No Data"]
[null,null,379,null,null,"2011-11-14",{"$f":"MAX('uptake calcs'!M390-'uptake calcs'!M389,0)","v":0},null,{"$f":"MAX('uptake calcs'!L390-'uptake calcs'!L389,0)","v":0},{"$f":"MAX('uptake calcs'!N390-'uptake calcs'!N389,0)","v":0},null,0,null,8,null,0,21,null,53,null,66,40,0,"Year 2","Year 2","No Data"]
[null,null,380,null,null,"2011-11-15",{"$f":"MAX('uptake calcs'!M391-'uptake calcs'!M390,0)","v":0},null,{"$f":"MAX('uptake calcs'!L391-'uptake calcs'!L390,0)","v":0},{"$f":"MAX('uptake calcs'!N391-'uptake calcs'!N390,0)","v":0},null,0,null,7.5,null,0,20.5,null,52.5,null,65,40,0,"Year 2","Year 2","No Data"]
[null,null,381,null,null,"2011-11-16",{"$f":"MAX('uptake calcs'!M392-'uptake calcs'!M391,0)","v":0},null,{"$f":"MAX('uptake calcs'!L392-'uptake calcs'!L391,0)","v":0},{"$f":"MAX('uptake calcs'!N392-'uptake calcs'!N391,0)","v":0},null,0,null,7.5,null,0,21,null,53,null,65,41,0,"Year 2","Year 2","No Data"]
[null,null,382,null,null,"2011-11-17",{"$f":"MAX('uptake calcs'!M393-'uptake calcs'!M392,0)","v":0},null,{"$f":"MAX('uptake calcs'!L393-'uptake calcs'!L392,0)","v":0},{"$f":"MAX('uptake calcs'!N393-'uptake calcs'!N392,0)","v":0},null,0,null,8,null,0,21.5,null,53.5,null,66,41,0,"Year 2","Year 2","No Data"]
[null,null,383,null,null,"2011-11-18",{"$f":"MAX('uptake calcs'!M394-'uptake calcs'!M393,0)","v":0},null,{"$f":"MAX('uptake calcs'!L394-'uptake calcs'!L393,0)","v":0},{"$f":"MAX('uptake calcs'!N394-'uptake calcs'!N393,0)","v":0},null,0,null,7.5,null,0,21,null,53,null,65,41,0,"Year 2","Year 2","No Data"]
[null,null,384,null,null,"2011-11-19",{"$f":"MAX('uptake calcs'!M395-'uptake calcs'!M394,0)","v":0},null,{"$f":"MAX('uptake calcs'!L395-'uptake calcs'!L394,0)","v":0},{"$f":"MAX('uptake calcs'!N395-'uptake calcs'!N394,0)","v":0},null,0,null,6.5,null,0,19,null,51,null,63,39,0,"Year 2","Year 2","No Data"]
[null,null,385,null,null,"2011-11-20",{"$f":"MAX('uptake calcs'!M396-'uptake calcs'!M395,0)","v":0},null,{"$f":"MAX('uptake calcs'!L396-'uptake calcs'!L395,0)","v":0},{"$f":"MAX('uptake calcs'!N396-'uptake calcs'!N395,0)","v":0},null,{"$f":"SUM(G479:J479)","v":0},null,{"$f":"IF($U479>cutoff.corn.min,((IF($U479>cutoff.corn.max,cutoff.corn.max,$U479)+IF($V479<cutoff.corn.min,cutoff.corn.min,$V479))/2)-cutoff.corn.min,0)","v":6.5},null,{"$f":"IF(AND(C479>=C$44,C479<=$C$55),N479+P478,0)","v":0},{"$f":"((U479+V479)/2)-32","v":19.5},null,{"$f":"AVERAGE(U479:V479)","v":51.5},null,63,40,0,"Year 2","Year 2","No Data"]
[null,null,386,null,null,"2011-11-21",{"$f":"MAX('uptake calcs'!M397-'uptake calcs'!M396,0)","v":0},null,{"$f":"MAX('uptake calcs'!L397-'uptake calcs'!L396,0)","v":0},{"$f":"MAX('uptake calcs'!N397-'uptake calcs'!N396,0)","v":0},null,0,null,6,null,0,18,null,50,null,62,38,0,"Year 2","Year 2","No Data"]
[null,null,387,null,null,{"$f":"F480+1","v":"2011-11-22"},{"$f":"MAX('uptake calcs'!M398-'uptake calcs'!M397,0)","v":0},null,{"$f":"MAX('uptake calcs'!L398-'uptake calcs'!L397,0)","v":0},{"$f":"MAX('uptake calcs'!N398-'uptake calcs'!N397,0)","v":0},null,0,null,6,null,0,17.5,null,49.5,null,62,37,0,"Year 2","Year 2","No Data"]
[null,null,388,null,null,"2011-11-23",{"$f":"MAX('uptake calcs'!M399-'uptake calcs'!M398,0)","v":0},null,{"$f":"MAX('uptake calcs'!L399-'uptake calcs'!L398,0)","v":0},{"$f":"MAX('uptake calcs'!N399-'uptake calcs'!N398,0)","v":0},null,0,null,6,null,0,17,null,49,null,62,36,0,"Year 2","Year 2","No Data"]
[null,null,389,null,null,"2011-11-24",{"$f":"MAX('uptake calcs'!M400-'uptake calcs'!M399,0)","v":0},null,{"$f":"MAX('uptake calcs'!L400-'uptake calcs'!L399,0)","v":0},{"$f":"MAX('uptake calcs'!N400-'uptake calcs'!N399,0)","v":0},null,0,null,5.5,null,0,16.5,null,48.5,null,61,36,0,"Year 2","Year 2","No Data"]
[null,null,390,null,null,"2011-11-25",{"$f":"MAX('uptake calcs'!M401-'uptake calcs'!M400,0)","v":0},null,{"$f":"MAX('uptake calcs'!L401-'uptake calcs'!L400,0)","v":0},{"$f":"MAX('uptake calcs'!N401-'uptake calcs'!N400,0)","v":0},null,0,null,6,null,0,17.5,null,49.5,null,62,37,0,"Year 2","Year 2","No Data"]
[null,null,391,null,null,"2011-11-26",{"$f":"MAX('uptake calcs'!M402-'uptake calcs'!M401,0)","v":0},null,{"$f":"MAX('uptake calcs'!L402-'uptake calcs'!L401,0)","v":0},{"$f":"MAX('uptake calcs'!N402-'uptake calcs'!N401,0)","v":0},null,0,null,4.5,null,0,16,null,48,null,59,37,0,"Year 2","Year 2","No Data"]
[null,null,392,null,null,"2011-11-27",{"$f":"MAX('uptake calcs'!M403-'uptake calcs'!M402,0)","v":0},null,{"$f":"MAX('uptake calcs'!L403-'uptake calcs'!L402,0)","v":0},{"$f":"MAX('uptake calcs'!N403-'uptake calcs'!N402,0)","v":0},null,0,null,3.5,null,0,15,null,47,null,57,37,0,"Year 2","Year 2","No Data"]
[null,null,393,null,null,"2011-11-28",{"$f":"MAX('uptake calcs'!M404-'uptake calcs'!M403,0)","v":0},null,{"$f":"MAX('uptake calcs'!L404-'uptake calcs'!L403,0)","v":0},{"$f":"MAX('uptake calcs'!N404-'uptake calcs'!N403,0)","v":0},null,0,null,4,null,0,15.5,null,47.5,null,58,37,0,"Year 2","Year 2","No Data"]
[null,null,394,null,null,"2011-11-29",{"$f":"MAX('uptake calcs'!M405-'uptake calcs'!M404,0)","v":0},null,{"$f":"MAX('uptake calcs'!L405-'uptake calcs'!L404,0)","v":0},{"$f":"MAX('uptake calcs'!N405-'uptake calcs'!N404,0)","v":0},null,0,null,4,null,0,15,null,47,null,58,36,0,"Year 2","Year 2","No Data"]
[null,null,395,null,null,"2011-11-30",{"$f":"MAX('uptake calcs'!M406-'uptake calcs'!M405,0)","v":0},null,{"$f":"MAX('uptake calcs'!L406-'uptake calcs'!L405,0)","v":0},{"$f":"MAX('uptake calcs'!N406-'uptake calcs'!N405,0)","v":0},null,0,null,4.5,null,0,15.5,null,47.5,null,59,36,0,"Year 2","Year 2","No Data"]
[null,null,396,null,null,"2011-12-01",{"$f":"MAX('uptake calcs'!M407-'uptake calcs'!M406,0)","v":0},null,{"$f":"MAX('uptake calcs'!L407-'uptake calcs'!L406,0)","v":0},{"$f":"MAX('uptake calcs'!N407-'uptake calcs'!N406,0)","v":0},null,0,null,4,null,0,15,null,47,null,58,36,0,"Year 2","Year 2","No Data"]
[null,null,397,null,null,"2011-12-02",{"$f":"MAX('uptake calcs'!M408-'uptake calcs'!M407,0)","v":0},null,{"$f":"MAX('uptake calcs'!L408-'uptake calcs'!L407,0)","v":0},{"$f":"MAX('uptake calcs'!N408-'uptake calcs'!N407,0)","v":0},null,0,null,4.5,null,0,15,null,47,null,59,35,0,"Year 2","Year 2","No Data"]
[null,null,398,null,null,"2011-12-03",{"$f":"MAX('uptake calcs'!M409-'uptake calcs'!M408,0)","v":0},null,{"$f":"MAX('uptake calcs'!L409-'uptake calcs'!L408,0)","v":0},{"$f":"MAX('uptake calcs'!N409-'uptake calcs'!N408,0)","v":0},null,0,null,3.5,null,0,14.5,null,46.5,null,57,36,0,"Year 2","Year 2","No Data"]
[null,null,399,null,null,"2011-12-04",{"$f":"MAX('uptake calcs'!M410-'uptake calcs'!M409,0)","v":0},null,{"$f":"MAX('uptake calcs'!L410-'uptake calcs'!L409,0)","v":0},{"$f":"MAX('uptake calcs'!N410-'uptake calcs'!N409,0)","v":0},null,0,null,4,null,0,15,null,47,null,58,36,0,"Year 2","Year 2","No Data"]
[null,null,400,null,null,"2011-12-05",{"$f":"MAX('uptake calcs'!M411-'uptake calcs'!M410,0)","v":0},null,{"$f":"MAX('uptake calcs'!L411-'uptake calcs'!L410,0)","v":0},{"$f":"MAX('uptake calcs'!N411-'uptake calcs'!N410,0)","v":0},null,0,null,3.5,null,0,15,null,47,null,57,37,0,"Year 2","Year 2","No Data"]
[null,null,401,null,null,"2011-12-06",{"$f":"MAX('uptake calcs'!M412-'uptake calcs'!M411,0)","v":0},null,{"$f":"MAX('uptake calcs'!L412-'uptake calcs'!L411,0)","v":0},{"$f":"MAX('uptake calcs'!N412-'uptake calcs'!N411,0)","v":0},null,0,null,3.5,null,0,15,null,47,null,57,37,0,"Year 2","Year 2","No Data"]
[null,null,402,null,null,"2011-12-07",{"$f":"MAX('uptake calcs'!M413-'uptake calcs'!M412,0)","v":0},null,{"$f":"MAX('uptake calcs'!L413-'uptake calcs'!L412,0)","v":0},{"$f":"MAX('uptake calcs'!N413-'uptake calcs'!N412,0)","v":0},null,0,null,3.5,null,0,15.5,null,47.5,null,57,38,0,"Year 2","Year 2","No Data"]
[null,null,403,null,null,"2011-12-08",{"$f":"MAX('uptake calcs'!M414-'uptake calcs'!M413,0)","v":0},null,{"$f":"MAX('uptake calcs'!L414-'uptake calcs'!L413,0)","v":0},{"$f":"MAX('uptake calcs'!N414-'uptake calcs'!N413,0)","v":0},null,0,null,3.5,null,0,14,null,46,null,57,35,0,"Year 2","Year 2","No Data"]
[null,null,404,null,null,"2011-12-09",{"$f":"MAX('uptake calcs'!M415-'uptake calcs'!M414,0)","v":0},null,{"$f":"MAX('uptake calcs'!L415-'uptake calcs'!L414,0)","v":0},{"$f":"MAX('uptake calcs'!N415-'uptake calcs'!N414,0)","v":0},null,0,null,3.5,null,0,14.5,null,46.5,null,57,36,0,"Year 2","Year 2","No Data"]
[null,null,405,null,null,"2011-12-10",{"$f":"MAX('uptake calcs'!M416-'uptake calcs'!M415,0)","v":0},null,{"$f":"MAX('uptake calcs'!L416-'uptake calcs'!L415,0)","v":0},{"$f":"MAX('uptake calcs'!N416-'uptake calcs'!N415,0)","v":0},null,0,null,3.5,null,0,15,null,47,null,57,37,0,"Year 2","Year 2","No Data",null,1,"Early",1000]
[null,null,406,null,null,"2011-12-11",{"$f":"MAX('uptake calcs'!M417-'uptake calcs'!M416,0)","v":0},null,{"$f":"MAX('uptake calcs'!L417-'uptake calcs'!L416,0)","v":0},{"$f":"MAX('uptake calcs'!N417-'uptake calcs'!N416,0)","v":0},null,0,null,2.5,null,0,14,null,46,null,55,37,0,"Year 2","Year 2","No Data",null,2,"Mid",1400]
[null,null,407,null,null,"2011-12-12",{"$f":"MAX('uptake calcs'!M418-'uptake calcs'!M417,0)","v":0},null,{"$f":"MAX('uptake calcs'!L418-'uptake calcs'!L417,0)","v":0},{"$f":"MAX('uptake calcs'!N418-'uptake calcs'!N417,0)","v":0},null,0,null,2.5,null,0,14.5,null,46.5,null,55,38,0,"Year 2","Year 2","No Data",null,3,"Late",7500]
[null,null,408,null,null,"2011-12-13",{"$f":"MAX('uptake calcs'!M419-'uptake calcs'!M418,0)","v":0},null,{"$f":"MAX('uptake calcs'!L419-'uptake calcs'!L418,0)","v":0},{"$f":"MAX('uptake calcs'!N419-'uptake calcs'!N418,0)","v":0},null,0,null,4,null,0,16,null,48,null,58,38,0,"Year 2","Year 2","No Data",null,null,2]

{"sheet":"uptake calcs","index":2,"n_rows":419,"n_cols":52,"rows_kept":419,"cut":false,"hidden":true,"merged":[]}
[null,null,null,null,null,null,"Adjust Karlen's times (GDD °C) to local conditons:","Karlen:",null,null,null,null,null,null,"Scenario 2:     Winter forage 130 lbs N/acre  planted Nov 4, harvest March 28",null,null,null,null,null,null,null,null,null,null,null,null,null,null,null,null,null,null,null,null,null,"Adjust Karlen's times (GDD °C) to local conditons:","Karlen:",null,null,null,null,null,null,null,null,"Karlen:"]
[null,null,"Adjust Karlen's metric yields to English:",null,null,null,null,"Linear","Start S","Start Flat","Start S","End S",null,null,"                Corn 240 lbs N/acre planted April 10, harvested Aug 8",null,null,null,null,null,null,null,null,null,null,null,null,null,null,null,null,null,"Adjust Karlen's metric yields to English:",null,null,null,null,"Linear","Start S","Start Flat","Start S","End S",null,null,null,null,"Linear","Start S","Start Flat","Start S","End S"]
[null,null,"Maize","GDD °C","GDD °C","GDD °C","GDD °C","GDD °C",0,491.05689999999998,764.22760000000005,991.86990000000003,1469.9186,null,"                Sudan 100 lbs N/acre planted Aug 15, harvest Oct 15",null,null,null,null,null,null,null,null,null,null,null,null,null,null,null,null,null,"Maize","GDD °C","GDD °C","GDD °C","GDD °C","GDD °C",182.1138,491.05689999999998,764.22760000000005,991.86990000000003,1469.9186,null,null,null,"GDD °C",182.1138,491.05689999999998,764.22760000000005,991.86990000000003,1469.9186]
[null,null,"CS, CH","180-491","491-765","765-991","991-1470","tM:",364.49175592288043,611.56171450391901,1265.95476983615,"Corn",{"$f":"VLOOKUP('daily uptake'!$AC$502,'daily uptake'!$AB$499:$AD$501,3)","v":1400},5926.7419024965593,null,null,null,null,null,null,null,null,null,null,null,null,null,null,null,null,null,null,"CS, CH","180-491","491-765","765-991","991-1470","tM:",364.49175592288043,611.56171450391901,1265.95476983615,"Corn",null,null,null,null,"tM:",364.49175592288043,611.56171450391901,1265.95476983615,"Corn"]
[null,null,"kg/ha",0,50.363100000000003,262.46969999999999,422.27600000000012,"N:",2.18627399578189E-2,2.0409473611461699,170259.65089950652,"Adj.",0.755,0.19001192305313824,null,null,null,0.21128219043603233,null,null,null,null,null,null,null,null,null,null,null,null,null,null,"kg/ha",0,50.363100000000003,262.46969999999999,422.27600000000012,"N:",2.18627399578189E-2,2.0409473611461699,170259.65089950652,"Adj.",null,null,null,null,"N:",2.18627399578189E-2,2.0409473611461699,170259.65089950652,"Adj."]
[null,null,"lb/ac",{"$f":"D5*0.893","v":0},{"$f":"E5*0.893","v":44.974248300000006},{"$f":"F5*0.893","v":234.38544210000001},{"$f":"G5*0.893","v":377.09246800000011},"B:",-2.6892642818102837E-2,-1.5895957126426167E-2,-6.2612840584429317E-3,"Factors",-2.0400000000000001E-3,-2.4415269659742471E-3,null,null,null,-4.6185553231075111E-3,null,null,null,null,null,null,null,null,null,null,null,null,null,null,"lb/ac",{"$f":"AH5*0.893","v":0},{"$f":"AI5*0.893","v":44.974248300000006},{"$f":"AJ5*0.893","v":234.38544210000001},{"$f":"AK5*0.893","v":377.09246800000011},"B:",-2.6892642818102837E-2,-1.5895957126426167E-2,-6.2612840584429317E-3,"Factors",null,null,null,null,"B:",-2.6892642818102837E-2,-1.5895957126426167E-2,-6.2612840584429317E-3,"Factors"]
[null,null,null,null,null,null,null,"tS:",{"$f":"I3","v":0},{"$f":"I9","v":491.05689999999998},{"$f":"L3","v":991.86990000000003},{"$f":"'daily uptake'!I11","v":250},null,null,null,null,null,null,null,null,null,null,null,null,null,null,null,null,null,null,null,null,null,null,null,null,null,"tS:",{"$f":"AM3","v":182.1138},{"$f":"AM9","v":491.05689999999998},{"$f":"AP3","v":991.86990000000003},{"$f":"'daily uptake'!I11","v":250},null,null,null,null,"tS:",{"$f":"AV3","v":182.1138},{"$f":"AV9","v":491.05689999999998},{"$f":"AY3","v":991.86990000000003},{"$f":"AP7","v":250}]
[null,null,null,null,null,null,null,"CS:",0,44.974248300000006,234.38544210000001,{"$f":"MAX(K12:K376)","v":380.96450283112472},null,null,null,null,null,null,null,null,null,null,null,null,null,null,null,null,null,null,null,null,null,null,null,null,null,"CS:",0,44.974248300000006,234.38544210000001,{"$f":"MAX(AO12:AO376)","v":326.98438017402481},null,null,null,null,"CS:",0,44.974248300000006,234.38544210000001,{"$f":"MAX(AX12:AX376)","v":0}]
[null,null,"Denair","Denair","Specific","Specific",null,"tH:",{"$f":"J3","v":491.05689999999998},{"$f":"K3","v":764.22760000000005},{"$f":"M3","v":1469.9186},null,{"$f":"MAX(E12:E419)","v":1601.111111111112},{"$f":"MAX(G12:G419)","v":784.16666666666652},null,null,null,null,null,null,null,null,null,null,null,null,null,null,null,null,null,null,null,null,null,null,null,"tH:",{"$f":"AN3","v":491.05689999999998},{"$f":"AO3","v":764.22760000000005},{"$f":"AQ3","v":1469.9186},null,null,null,null,null,"tH:",{"$f":"AW3","v":491.05689999999998},{"$f":"AX3","v":764.22760000000005},{"$f":"AZ3","v":1469.9186}]
[null,null,"GDD °C","GDD °C","GDD °C","GDD °C",null,"CH:",{"$f":"E6","v":44.974248300000006},{"$f":"F6","v":234.38544210000001},{"$f":"G6","v":377.09246800000011},null,{"$f":"'daily uptake'!E11","v":140},{"$f":"'daily uptake'!P11","v":100},null,null,null,"Daily",null,null,null,null,null,null,null,null,null,null,null,null,null,null,null,null,null,null,null,"CH:",{"$f":"AI6","v":44.974248300000006},{"$f":"AJ6","v":234.38544210000001},{"$f":"AK6","v":377.09246800000011},null,null,null,null,null,"CH:",{"$f":"AO6","v":-6.2612840584429317E-3},{"$f":"AP6","v":"Factors"},{"$f":"AQ6","v":0}]
[null,"Date","Wheat","Corn","Wheat","Corn","Sudan","180-491","491-765","765-991-","Corn","Corn","Wheat","Sudan",{"$f":"B11","v":"Date"},"Total",{"$f":"B11","v":"Date"},"N demand (lb/ac)",null,null,null,null,null,null,"period ending","lbs this period","cumulative","% this period",null,null,null,null,null,null,null,"GDD",null,"180-491","491-765","765-991-","Corn","Corn",null,null,"GDD",null,"180-491","491-765","765-991-","Corn","Corn"]
[1,{"$f":"'daily uptake'!F95","v":"2010-11-01"},{"$f":"5/9*'daily uptake'!Q95","v":13.333333333333334},{"$f":"5/9*'daily uptake'!N95","v":5.5555555555555554},{"$f":"IF(AND($A12>='daily uptake'!$C$9,$A12<='daily uptake'!$C$10),$C12,0)","v":13.333333333333334},{"$f":"IF(AND($A12>='daily uptake'!$C$18,$A12<='daily uptake'!$C$20),$D12,0)","v":0},{"$f":"IF(AND($A12>='daily uptake'!$C$24,$A12<='daily uptake'!$C$25),$C12,0)","v":0},{"$f":"IF(OR(F12<=I7,F12>I9),0,I8+(I10-I8)*(1-((I5+EXP(I6*(I4-I7)))/(I5+EXP(I6*(I4-F12))))^I5)/(1-((I5+EXP(I6*(I4-I7)))/(I5+EXP(I6*(I4-I9))))^I5))","v":0},{"$f":"IF(OR(F12<=J7,F12>J9),0,J8+(J10-J8)*(1-((J5+EXP(J6*(J4-J7)))/(J5+EXP(J6*(J4-F12))))^J5)/(1-((J5+EXP(J6*(J4-J7)))/(J5+EXP(J6*(J4-J9))))^J5))","v":0},{"$f":"IF(OR(F12<=J9,F12>100000),0,IF(F12<=K7,K8,K8+(K10-K8)*(1-((K5+EXP(K6*(K4-K7)))/(K5+EXP(K6*(K4-F12))))^K5)/(1-((K5+EXP(K6*(K4-K7)))/(K5+EXP(K6*(K4-K9))))^K5)))","v":0},{"$f":"H12+I12+J12","v":0},{"$f":"IF(L$8=0,0,K12*L$7/L$8)","v":0},{"$f":"M$10*(1-(($M$5+EXP($M$6*$M$4))/($M$5+EXP($M$6*($M$4-$E12))))^$M$5)/(1-(($M$5+EXP($M$6*$M$4))/($M$5+EXP($M$6*($M$4-M$9))))^$M$5)","v":0.38240888735233841},{"$f":"N$10*(1-(($N$5+EXP($N$6*$N$4))/($N$5+EXP($N$6*($N$4-$G12))))^$N$5)/(1-(($N$5+EXP($N$6*$N$4))/($N$5+EXP($N$6*($N$4-N$9))))^$N$5)","v":0},"2010-11-01",{"$f":"MAX(L$12:L12)+MAX(M$12:M12)+MAX(N$12:N12)","v":0.38240888735233841},"2010-11-01",{"$f":"P12","v":0.38240888735233841},null,null,null,null,null,null,{"$f":"O38","v":"2010-11-27"},{"$f":"AA12-Z9","v":11.487048771285332},{"$f":"P38","v":11.487048771285332},{"$f":"Z12/AA$22","v":8.199516152897289E-2},null,null,null,null,null,null,null,0,null,{"$f":"IF(OR(AJ12<=AM7,AJ12>AM9),0,AM8+(AM10-AM8)*(1-((AM5+EXP(AM6*(AM4-AM7)))/(AM5+EXP(AM6*(AM4-AJ12))))^AM5)/(1-((AM5+EXP(AM6*(AM4-AM7)))/(AM5+EXP(AM6*(AM4-AM9))))^AM5))","v":0},{"$f":"IF(OR(AJ12<=AN7,AJ12>AN9),0,AN8+(AN10-AN8)*(1-((AN5+EXP(AN6*(AN4-AN7)))/(AN5+EXP(AN6*(AN4-AJ12))))^AN5)/(1-((AN5+EXP(AN6*(AN4-AN7)))/(AN5+EXP(AN6*(AN4-AN9))))^AN5))","v":0},{"$f":"IF(OR(AJ12<=AN9,AJ12>100000),0,IF(AJ12<=AO7,AO8,AO8+(AO10-AO8)*(1-((AO5+EXP(AO6*(AO4-AO7)))/(AO5+EXP(AO6*(AO4-AJ12))))^AO5)/(1-((AO5+EXP(AO6*(AO4-AO7)))/(AO5+EXP(AO6*(AO4-AO9))))^AO5)))","v":0},{"$f":"AL12+AM12+AN12","v":0},{"$f":"IF(AP$8=0,0,AO12*AP$7/AP$8)","v":0},null,null,0,null,{"$f":"IF(OR(AS12<=AV7,AS12>AV9),0,AV8+(AV10-AV8)*(1-((AV5+EXP(AV6*(AV4-AV7)))/(AV5+EXP(AV6*(AV4-AS12))))^AV5)/(1-((AV5+EXP(AV6*(AV4-AV7)))/(AV5+EXP(AV6*(AV4-AV9))))^AV5))","v":0},{"$f":"IF(OR(AS12<=AW7,AS12>AW9),0,AW8+(AW10-AW8)*(1-((AW5+EXP(AW6*(AW4-AW7)))/(AW5+EXP(AW6*(AW4-AS12))))^AW5)/(1-((AW5+EXP(AW6*(AW4-AW7)))/(AW5+EXP(AW6*(AW4-AW9))))^AW5))","v":0},{"$f":"IF(OR(AS12<=AW9,AS12>100000),0,IF(AS12<=AX7,AX8,AX8+(AX10-AX8)*(1-((AX5+EXP(AX6*(AX4-AX7)))/(AX5+EXP(AX6*(AX4-AS12))))^AX5)/(1-((AX5+EXP(AX6*(AX4-AX7)))/(AX5+EXP(AX6*(AX4-AX9))))^AX5)))","v":0},{"$f":"AU12+AV12+AW12","v":0},{"$f":"IF(AY$8=0,0,AX12*AY$7/AY$8)","v":0}]
[2,{"$f":"'daily uptake'!F96","v":"2010-11-02"},{"$f":"5/9*'daily uptake'!Q96","v":13.333333333333334},{"$f":"5/9*'daily uptake'!N96","v":5.8333333333333339},{"$f":"IF(AND($A13>='daily uptake'!$C$9,$A13<='daily uptake'!$C$10),$C13+E12,0)","v":26.666666666666668},{"$f":"IF(AND($A13>='daily uptake'!$C$18,$A13<='daily uptake'!$C$20),$D13+F12,0)","v":0},{"$f":"IF(AND($A13>='daily uptake'!$C$24,$A13<='daily uptake'!$C$25),$C13+G12,0)","v":0},{"$f":"IF(OR(F13<=I7,F13>I9),0,I8+(I10-I8)*(1-((I5+EXP(I6*(I4-I7)))/(I5+EXP(I6*(I4-F13))))^I5)/(1-((I5+EXP(I6*(I4-I7)))/(I5+EXP(I6*(I4-I9))))^I5))","v":0},{"$f":"IF(OR(F13<=J7,F13>J9),0,J8+(J10-J8)*(1-((J5+EXP(J6*(J4-J7)))/(J5+EXP(J6*(J4-F13))))^J5)/(1-((J5+EXP(J6*(J4-J7)))/(J5+EXP(J6*(J4-J9))))^J5))","v":0},{"$f":"IF(OR(F13<=J9,F13>100000),0,IF(F13<=K7,K8,K8+(K10-K8)*(1-((K5+EXP(K6*(K4-K7)))/(K5+EXP(K6*(K4-F13))))^K5)/(1-((K5+EXP(K6*(K4-K7)))/(K5+EXP(K6*(K4-K9))))^K5)))","v":0},0,{"$f":"IF(L$8=0,0,K13*L$7/L$8)","v":0},0.77400287078209862,{"$f":"N$10*(1-(($N$5+EXP($N$6*$N$4))/($N$5+EXP($N$6*($N$4-$G13))))^$N$5)/(1-(($N$5+EXP($N$6*$N$4))/($N$5+EXP($N$6*($N$4-N$9))))^$N$5)","v":0},"2010-11-02",{"$f":"MAX(L$12:L13)+MAX(M$12:M13)+MAX(N$12:N13)","v":0.77400287078209862},"2010-11-02",{"$f":"P13-P12","v":0.39159398342976021},null,null,null,null,null,null,{"$f":"O53","v":"2010-12-12"},{"$f":"AA13-AA12","v":6.5254972338448614},{"$f":"P53","v":18.012546005130194},4.657934430325443E-2,null,null,null,null,null,null,null,0,null,{"$f":"IF(OR(AJ13<=AM7,AJ13>AM9),0,AM8+(AM10-AM8)*(1-((AM5+EXP(AM6*(AM4-AM7)))/(AM5+EXP(AM6*(AM4-AJ13))))^AM5)/(1-((AM5+EXP(AM6*(AM4-AM7)))/(AM5+EXP(AM6*(AM4-AM9))))^AM5))","v":0},{"$f":"IF(OR(AJ13<=AN7,AJ13>AN9),0,AN8+(AN10-AN8)*(1-((AN5+EXP(AN6*(AN4-AN7)))/(AN5+EXP(AN6*(AN4-AJ13))))^AN5)/(1-((AN5+EXP(AN6*(AN4-AN7)))/(AN5+EXP(AN6*(AN4-AN9))))^AN5))","v":0},{"$f":"IF(OR(AJ13<=AN9,AJ13>100000),0,IF(AJ13<=AO7,AO8,AO8+(AO10-AO8)*(1-((AO5+EXP(AO6*(AO4-AO7)))/(AO5+EXP(AO6*(AO4-AJ13))))^AO5)/(1-((AO5+EXP(AO6*(AO4-AO7)))/(AO5+EXP(AO6*(AO4-AO9))))^AO5)))","v":0},0,{"$f":"IF(AP$8=0,0,AO13*AP$7/AP$8)","v":0},null,null,0,null,{"$f":"IF(OR(AS13<=AV7,AS13>AV9),0,AV8+(AV10-AV8)*(1-((AV5+EXP(AV6*(AV4-AV7)))/(AV5+EXP(AV6*(AV4-AS13))))^AV5)/(1-((AV5+EXP(AV6*(AV4-AV7)))/(AV5+EXP(AV6*(AV4-AV9))))^AV5))","v":0},{"$f":"IF(OR(AS13<=AW7,AS13>AW9),0,AW8+(AW10-AW8)*(1-((AW5+EXP(AW6*(AW4-AW7)))/(AW5+EXP(AW6*(AW4-AS13))))^AW5)/(1-((AW5+EXP(AW6*(AW4-AW7)))/(AW5+EXP(AW6*(AW4-AW9))))^AW5))","v":0},{"$f":"IF(OR(AS13<=AW9,AS13>100000),0,IF(AS13<=AX7,AX8,AX8+(AX10-AX8)*(1-((AX5+EXP(AX6*(AX4-AX7)))/(AX5+EXP(AX6*(AX4-AS13))))^AX5)/(1-((AX5+EXP(AX6*(AX4-AX7)))/(AX5+EXP(AX6*(AX4-AX9))))^AX5)))","v":0},0,{"$f":"IF(AY$8=0,0,AX13*AY$7/AY$8)","v":0}]
[3,{"$f":"'daily uptake'!F97","v":"2010-11-03"},{"$f":"5/9*'daily uptake'!Q97","v":12.777777777777779},{"$f":"5/9*'daily uptake'!N97","v":5.2777777777777777},{"$f":"IF(AND($A14>='daily uptake'!$C$9,$A14<='daily uptake'!$C$10),$C14+E13,0)","v":39.444444444444443},{"$f":"IF(AND($A14>='daily uptake'!$C$18,$A14<='daily uptake'!$C$20),$D14+F13,0)","v":0},{"$f":"IF(AND($A14>='daily uptake'!$C$24,$A14<='daily uptake'!$C$25),$C14+G13,0)","v":0},{"$f":"IF(OR(F14<=I7,F14>I9),0,I8+(I10-I8)*(1-((I5+EXP(I6*(I4-I7)))/(I5+EXP(I6*(I4-F14))))^I5)/(1-((I5+EXP(I6*(I4-I7)))/(I5+EXP(I6*(I4-I9))))^I5))","v":0},{"$f":"IF(OR(F14<=J7,F14>J9),0,J8+(J10-J8)*(1-((J5+EXP(J6*(J4-J7)))/(J5+EXP(J6*(J4-F14))))^J5)/(1-((J5+EXP(J6*(J4-J7)))/(J5+EXP(J6*(J4-J9))))^J5))","v":0},{"$f":"IF(OR(F14<=J9,F14>100000),0,IF(F14<=K7,K8,K8+(K10-K8)*(1-((K5+EXP(K6*(K4-K7)))/(K5+EXP(K6*(K4-F14))))^K5)/(1-((K5+EXP(K6*(K4-K7)))/(K5+EXP(K6*(K4-K9))))^K5)))","v":0},0,0,1.1580707558633867,0,"2010-11-03",{"$f":"MAX(L$12:L14)+MAX(M$12:M14)+MAX(N$12:N14)","v":1.1580707558633867},"2010-11-03",0.38406788508128809,null,null,null,null,null,null,{"$f":"O68","v":"2010-12-27"},6.5173219948892473,{"$f":"P68","v":24.529868000019441},4.6520989015307955E-2,null,null,null,null,null,null,null,0,null,{"$f":"IF(OR(AJ14<=AM7,AJ14>AM9),0,AM8+(AM10-AM8)*(1-((AM5+EXP(AM6*(AM4-AM7)))/(AM5+EXP(AM6*(AM4-AJ14))))^AM5)/(1-((AM5+EXP(AM6*(AM4-AM7)))/(AM5+EXP(AM6*(AM4-AM9))))^AM5))","v":0},{"$f":"IF(OR(AJ14<=AN7,AJ14>AN9),0,AN8+(AN10-AN8)*(1-((AN5+EXP(AN6*(AN4-AN7)))/(AN5+EXP(AN6*(AN4-AJ14))))^AN5)/(1-((AN5+EXP(AN6*(AN4-AN7)))/(AN5+EXP(AN6*(AN4-AN9))))^AN5))","v":0},{"$f":"IF(OR(AJ14<=AN9,AJ14>100000),0,IF(AJ14<=AO7,AO8,AO8+(AO10-AO8)*(1-((AO5+EXP(AO6*(AO4-AO7)))/(AO5+EXP(AO6*(AO4-AJ14))))^AO5)/(1-((AO5+EXP(AO6*(AO4-AO7)))/(AO5+EXP(AO6*(AO4-AO9))))^AO5)))","v":0},0,0,null,null,0,null,{"$f":"IF(OR(AS14<=AV7,AS14>AV9),0,AV8+(AV10-AV8)*(1-((AV5+EXP(AV6*(AV4-AV7)))/(AV5+EXP(AV6*(AV4-AS14))))^AV5)/(1-((AV5+EXP(AV6*(AV4-AV7)))/(AV5+EXP(AV6*(AV4-AV9))))^AV5))","v":0},{"$f":"IF(OR(AS14<=AW7,AS14>AW9),0,AW8+(AW10-AW8)*(1-((AW5+EXP(AW6*(AW4-AW7)))/(AW5+EXP(AW6*(AW4-AS14))))^AW5)/(1-((AW5+EXP(AW6*(AW4-AW7)))/(AW5+EXP(AW6*(AW4-AW9))))^AW5))","v":0},{"$f":"IF(OR(AS14<=AW9,AS14>100000),0,IF(AS14<=AX7,AX8,AX8+(AX10-AX8)*(1-((AX5+EXP(AX6*(AX4-AX7)))/(AX5+EXP(AX6*(AX4-AS14))))^AX5)/(1-((AX5+EXP(AX6*(AX4-AX7)))/(AX5+EXP(AX6*(AX4-AX9))))^AX5)))","v":0},0,0]
[4,{"$f":"'daily uptake'!F98","v":"2010-11-04"},{"$f":"5/9*'daily uptake'!Q98","v":12.5},{"$f":"5/9*'daily uptake'!N98","v":5.2777777777777777},{"$f":"IF(AND($A15>='daily uptake'!$C$9,$A15<='daily uptake'!$C$10),$C15+E14,0)","v":51.944444444444443},{"$f":"IF(AND($A15>='daily uptake'!$C$18,$A15<='daily uptake'!$C$20),$D15+F14,0)","v":0},{"$f":"IF(AND($A15>='daily uptake'!$C$24,$A15<='daily uptake'!$C$25),$C15+G14,0)","v":0},{"$f":"IF(OR(F15<=I7,F15>I9),0,I8+(I10-I8)*(1-((I5+EXP(I6*(I4-I7)))/(I5+EXP(I6*(I4-F15))))^I5)/(1-((I5+EXP(I6*(I4-I7)))/(I5+EXP(I6*(I4-I9))))^I5))","v":0},{"$f":"IF(OR(F15<=J7,F15>J9),0,J8+(J10-J8)*(1-((J5+EXP(J6*(J4-J7)))/(J5+EXP(J6*(J4-F15))))^J5)/(1-((J5+EXP(J6*(J4-J7)))/(J5+EXP(J6*(J4-J9))))^J5))","v":0},{"$f":"IF(OR(F15<=J9,F15>100000),0,IF(F15<=K7,K8,K8+(K10-K8)*(1-((K5+EXP(K6*(K4-K7)))/(K5+EXP(K6*(K4-F15))))^K5)/(1-((K5+EXP(K6*(K4-K7)))/(K5+EXP(K6*(K4-K9))))^K5)))","v":0},0,0,1.5422745281189436,0,"2010-11-04",{"$f":"MAX(L$12:L15)+MAX(M$12:M15)+MAX(N$12:N15)","v":1.5422745281189436},"2010-11-04",0.38420377225555691,null,null,null,null,null,null,{"$f":"O84","v":"2011-01-12"},8.3854235174005396,{"$f":"P84","v":32.91529151741998},5.9855596462412425E-2,null,null,null,null,null,null,null,0,null,{"$f":"IF(OR(AJ15<=AM7,AJ15>AM9),0,AM8+(AM10-AM8)*(1-((AM5+EXP(AM6*(AM4-AM7)))/(AM5+EXP(AM6*(AM4-AJ15))))^AM5)/(1-((AM5+EXP(AM6*(AM4-AM7)))/(AM5+EXP(AM6*(AM4-AM9))))^AM5))","v":0},{"$f":"IF(OR(AJ15<=AN7,AJ15>AN9),0,AN8+(AN10-AN8)*(1-((AN5+EXP(AN6*(AN4-AN7)))/(AN5+EXP(AN6*(AN4-AJ15))))^AN5)/(1-((AN5+EXP(AN6*(AN4-AN7)))/(AN5+EXP(AN6*(AN4-AN9))))^AN5))","v":0},{"$f":"IF(OR(AJ15<=AN9,AJ15>100000),0,IF(AJ15<=AO7,AO8,AO8+(AO10-AO8)*(1-((AO5+EXP(AO6*(AO4-AO7)))/(AO5+EXP(AO6*(AO4-AJ15))))^AO5)/(1-((AO5+EXP(AO6*(AO4-AO7)))/(AO5+EXP(AO6*(AO4-AO9))))^AO5)))","v":0},0,0,null,null,0,null,{"$f":"IF(OR(AS15<=AV7,AS15>AV9),0,AV8+(AV10-AV8)*(1-((AV5+EXP(AV6*(AV4-AV7)))/(AV5+EXP(AV6*(AV4-AS15))))^AV5)/(1-((AV5+EXP(AV6*(AV4-AV7)))/(AV5+EXP(AV6*(AV4-AV9))))^AV5))","v":0},{"$f":"IF(OR(AS15<=AW7,AS15>AW9),0,AW8+(AW10-AW8)*(1-((AW5+EXP(AW6*(AW4-AW7)))/(AW5+EXP(AW6*(AW4-AS15))))^AW5)/(1-((AW5+EXP(AW6*(AW4-AW7)))/(AW5+EXP(AW6*(AW4-AW9))))^AW5))","v":0},{"$f":"IF(OR(AS15<=AW9,AS15>100000),0,IF(AS15<=AX7,AX8,AX8+(AX10-AX8)*(1-((AX5+EXP(AX6*(AX4-AX7)))/(AX5+EXP(AX6*(AX4-AS15))))^AX5)/(1-((AX5+EXP(AX6*(AX4-AX7)))/(AX5+EXP(AX6*(AX4-AX9))))^AX5)))","v":0},0,0]
[5,{"$f":"'daily uptake'!F99","v":"2010-11-05"},{"$f":"5/9*'daily uptake'!Q99","v":13.611111111111112},{"$f":"5/9*'daily uptake'!N99","v":5.8333333333333339},{"$f":"IF(AND($A16>='daily uptake'!$C$9,$A16<='daily uptake'!$C$10),$C16+E15,0)","v":65.555555555555557},{"$f":"IF(AND($A16>='daily uptake'!$C$18,$A16<='daily uptake'!$C$20),$D16+F15,0)","v":0},{"$f":"IF(AND($A16>='daily uptake'!$C$24,$A16<='daily uptake'!$C$25),$C16+G15,0)","v":0},{"$f":"IF(OR(F16<=I7,F16>I9),0,I8+(I10-I8)*(1-((I5+EXP(I6*(I4-I7)))/(I5+EXP(I6*(I4-F16))))^I5)/(1-((I5+EXP(I6*(I4-I7)))/(I5+EXP(I6*(I4-I9))))^I5))","v":0},{"$f":"IF(OR(F16<=J7,F16>J9),0,J8+(J10-J8)*(1-((J5+EXP(J6*(J4-J7)))/(J5+EXP(J6*(J4-F16))))^J5)/(1-((J5+EXP(J6*(J4-J7)))/(J5+EXP(J6*(J4-J9))))^J5))","v":0},{"$f":"IF(OR(F16<=J9,F16>100000),0,IF(F16<=K7,K8,K8+(K10-K8)*(1-((K5+EXP(K6*(K4-K7)))/(K5+EXP(K6*(K4-F16))))^K5)/(1-((K5+EXP(K6*(K4-K7)))/(K5+EXP(K6*(K4-K9))))^K5)))","v":0},0,0,1.9703572320653633,0,"2010-11-05",{"$f":"MAX(L$12:L16)+MAX(M$12:M16)+MAX(N$12:N16)","v":1.9703572320653633},"2010-11-05",0.42808270394641967,null,null,null,null,null,null,{"$f":"O99","v":"2011-01-27"},9.5750876786730572,{"$f":"P99","v":42.490379196093038},6.8347482151329478E-2,null,null,null,null,null,null,null,0,null,{"$f":"IF(OR(AJ16<=AM7,AJ16>AM9),0,AM8+(AM10-AM8)*(1-((AM5+EXP(AM6*(AM4-AM7)))/(AM5+EXP(AM6*(AM4-AJ16))))^AM5)/(1-((AM5+EXP(AM6*(AM4-AM7)))/(AM5+EXP(AM6*(AM4-AM9))))^AM5))","v":0},{"$f":"IF(OR(AJ16<=AN7,AJ16>AN9),0,AN8+(AN10-AN8)*(1-((AN5+EXP(AN6*(AN4-AN7)))/(AN5+EXP(AN6*(AN4-AJ16))))^AN5)/(1-((AN5+EXP(AN6*(AN4-AN7)))/(AN5+EXP(AN6*(AN4-AN9))))^AN5))","v":0},{"$f":"IF(OR(AJ16<=AN9,AJ16>100000),0,IF(AJ16<=AO7,AO8,AO8+(AO10-AO8)*(1-((AO5+EXP(AO6*(AO4-AO7)))/(AO5+EXP(AO6*(AO4-AJ16))))^AO5)/(1-((AO5+EXP(AO6*(AO4-AO7)))/(AO5+EXP(AO6*(AO4-AO9))))^AO5)))","v":0},0,0,null,null,0,null,{"$f":"IF(OR(AS16<=AV7,AS16>AV9),0,AV8+(AV10-AV8)*(1-((AV5+EXP(AV6*(AV4-AV7)))/(AV5+EXP(AV6*(AV4-AS16))))^AV5)/(1-((AV5+EXP(AV6*(AV4-AV7)))/(AV5+EXP(AV6*(AV4-AV9))))^AV5))","v":0},{"$f":"IF(OR(AS16<=AW7,AS16>AW9),0,AW8+(AW10-AW8)*(1-((AW5+EXP(AW6*(AW4-AW7)))/(AW5+EXP(AW6*(AW4-AS16))))^AW5)/(1-((AW5+EXP(AW6*(AW4-AW7)))/(AW5+EXP(AW6*(AW4-AW9))))^AW5))","v":0},{"$f":"IF(OR(AS16<=AW9,AS16>100000),0,IF(AS16<=AX7,AX8,AX8+(AX10-AX8)*(1-((AX5+EXP(AX6*(AX4-AX7)))/(AX5+EXP(AX6*(AX4-AS16))))^AX5)/(1-((AX5+EXP(AX6*(AX4-AX7)))/(AX5+EXP(AX6*(AX4-AX9))))^AX5)))","v":0},0,0]
[6,{"$f":"'daily uptake'!F100","v":"2010-11-06"},{"$f":"5/9*'daily uptake'!Q100","v":13.055555555555555},{"$f":"5/9*'daily uptake'!N100","v":5.2777777777777777},{"$f":"IF(AND($A17>='daily uptake'!$C$9,$A17<='daily uptake'!$C$10),$C17+E16,0)","v":78.611111111111114},{"$f":"IF(AND($A17>='daily uptake'!$C$18,$A17<='daily uptake'!$C$20),$D17+F16,0)","v":0},{"$f":"IF(AND($A17>='daily uptake'!$C$24,$A17<='daily uptake'!$C$25),$C17+G16,0)","v":0},{"$f":"IF(OR(F17<=I7,F17>I9),0,I8+(I10-I8)*(1-((I5+EXP(I6*(I4-I7)))/(I5+EXP(I6*(I4-F17))))^I5)/(1-((I5+EXP(I6*(I4-I7)))/(I5+EXP(I6*(I4-I9))))^I5))","v":0},{"$f":"IF(OR(F17<=J7,F17>J9),0,J8+(J10-J8)*(1-((J5+EXP(J6*(J4-J7)))/(J5+EXP(J6*(J4-F17))))^J5)/(1-((J5+EXP(J6*(J4-J7)))/(J5+EXP(J6*(J4-J9))))^J5))","v":0},{"$f":"IF(OR(F17<=J9,F17>100000),0,IF(F17<=K7,K8,K8+(K10-K8)*(1-((K5+EXP(K6*(K4-K7)))/(K5+EXP(K6*(K4-F17))))^K5)/(1-((K5+EXP(K6*(K4-K7)))/(K5+EXP(K6*(K4-K9))))^K5)))","v":0},0,0,2.390678762410047,0,"2010-11-06",{"$f":"MAX(L$12:L17)+MAX(M$12:M17)+MAX(N$12:N17)","v":2.390678762410047},"2010-11-06",0.42032153034468367,null,null,null,null,null,null,{"$f":"O115","v":"2011-02-12"},13.967693288124195,{"$f":"P115","v":56.458072484217233},9.9702133258962697E-2,null,null,null,null,null,null,null,0,null,{"$f":"IF(OR(AJ17<=AM7,AJ17>AM9),0,AM8+(AM10-AM8)*(1-((AM5+EXP(AM6*(AM4-AM7)))/(AM5+EXP(AM6*(AM4-AJ17))))^AM5)/(1-((AM5+EXP(AM6*(AM4-AM7)))/(AM5+EXP(AM6*(AM4-AM9))))^AM5))","v":0},{"$f":"IF(OR(AJ17<=AN7,AJ17>AN9),0,AN8+(AN10-AN8)*(1-((AN5+EXP(AN6*(AN4-AN7)))/(AN5+EXP(AN6*(AN4-AJ17))))^AN5)/(1-((AN5+EXP(AN6*(AN4-AN7)))/(AN5+EXP(AN6*(AN4-AN9))))^AN5))","v":0},{"$f":"IF(OR(AJ17<=AN9,AJ17>100000),0,IF(AJ17<=AO7,AO8,AO8+(AO10-AO8)*(1-((AO5+EXP(AO6*(AO4-AO7)))/(AO5+EXP(AO6*(AO4-AJ17))))^AO5)/(1-((AO5+EXP(AO6*(AO4-AO7)))/(AO5+EXP(AO6*(AO4-AO9))))^AO5)))","v":0},0,0,null,null,0,null,{"$f":"IF(OR(AS17<=AV7,AS17>AV9),0,AV8+(AV10-AV8)*(1-((AV5+EXP(AV6*(AV4-AV7)))/(AV5+EXP(AV6*(AV4-AS17))))^AV5)/(1-((AV5+EXP(AV6*(AV4-AV7)))/(AV5+EXP(AV6*(AV4-AV9))))^AV5))","v":0},{"$f":"IF(OR(AS17<=AW7,AS17>AW9),0,AW8+(AW10-AW8)*(1-((AW5+EXP(AW6*(AW4-AW7)))/(AW5+EXP(AW6*(AW4-AS17))))^AW5)/(1-((AW5+EXP(AW6*(AW4-AW7)))/(AW5+EXP(AW6*(AW4-AW9))))^AW5))","v":0},{"$f":"IF(OR(AS17<=AW9,AS17>100000),0,IF(AS17<=AX7,AX8,AX8+(AX10-AX8)*(1-((AX5+EXP(AX6*(AX4-AX7)))/(AX5+EXP(AX6*(AX4-AS17))))^AX5)/(1-((AX5+EXP(AX6*(AX4-AX7)))/(AX5+EXP(AX6*(AX4-AX9))))^AX5)))","v":0},0,0]
[7,{"$f":"'daily uptake'!F101","v":"2010-11-07"},{"$f":"5/9*'daily uptake'!Q101","v":13.333333333333334},{"$f":"5/9*'daily uptake'!N101","v":5},{"$f":"IF(AND($A18>='daily uptake'!$C$9,$A18<='daily uptake'!$C$10),$C18+E17,0)","v":91.944444444444443},{"$f":"IF(AND($A18>='daily uptake'!$C$18,$A18<='daily uptake'!$C$20),$D18+F17,0)","v":0},{"$f":"IF(AND($A18>='daily uptake'!$C$24,$A18<='daily uptake'!$C$25),$C18+G17,0)","v":0},{"$f":"IF(OR(F18<=I7,F18>I9),0,I8+(I10-I8)*(1-((I5+EXP(I6*(I4-I7)))/(I5+EXP(I6*(I4-F18))))^I5)/(1-((I5+EXP(I6*(I4-I7)))/(I5+EXP(I6*(I4-I9))))^I5))","v":0},{"$f":"IF(OR(F18<=J7,F18>J9),0,J8+(J10-J8)*(1-((J5+EXP(J6*(J4-J7)))/(J5+EXP(J6*(J4-F18))))^J5)/(1-((J5+EXP(J6*(J4-J7)))/(J5+EXP(J6*(J4-J9))))^J5))","v":0},{"$f":"IF(OR(F18<=J9,F18>100000),0,IF(F18<=K7,K8,K8+(K10-K8)*(1-((K5+EXP(K6*(K4-K7)))/(K5+EXP(K6*(K4-F18))))^K5)/(1-((K5+EXP(K6*(K4-K7)))/(K5+EXP(K6*(K4-K9))))^K5)))","v":0},0,0,2.8299483072061311,0,"2010-11-07",{"$f":"MAX(L$12:L18)+MAX(M$12:M18)+MAX(N$12:N18)","v":2.8299483072061311},"2010-11-07",0.43926954479608415,null,null,null,null,null,null,{"$f":"O130","v":"2011-02-27"},16.40273037642276,{"$f":"P130","v":72.860802860639993},0.11708355675245238,null,null,null,null,null,null,null,0,null,{"$f":"IF(OR(AJ18<=AM7,AJ18>AM9),0,AM8+(AM10-AM8)*(1-((AM5+EXP(AM6*(AM4-AM7)))/(AM5+EXP(AM6*(AM4-AJ18))))^AM5)/(1-((AM5+EXP(AM6*(AM4-AM7)))/(AM5+EXP(AM6*(AM4-AM9))))^AM5))","v":0},{"$f":"IF(OR(AJ18<=AN7,AJ18>AN9),0,AN8+(AN10-AN8)*(1-((AN5+EXP(AN6*(AN4-AN7)))/(AN5+EXP(AN6*(AN4-AJ18))))^AN5)/(1-((AN5+EXP(AN6*(AN4-AN7)))/(AN5+EXP(AN6*(AN4-AN9))))^AN5))","v":0},{"$f":"IF(OR(AJ18<=AN9,AJ18>100000),0,IF(AJ18<=AO7,AO8,AO8+(AO10-AO8)*(1-((AO5+EXP(AO6*(AO4-AO7)))/(AO5+EXP(AO6*(AO4-AJ18))))^AO5)/(1-((AO5+EXP(AO6*(AO4-AO7)))/(AO5+EXP(AO6*(AO4-AO9))))^AO5)))","v":0},0,0,null,null,0,null,{"$f":"IF(OR(AS18<=AV7,AS18>AV9),0,AV8+(AV10-AV8)*(1-((AV5+EXP(AV6*(AV4-AV7)))/(AV5+EXP(AV6*(AV4-AS18))))^AV5)/(1-((AV5+EXP(AV6*(AV4-AV7)))/(AV5+EXP(AV6*(AV4-AV9))))^AV5))","v":0},{"$f":"IF(OR(AS18<=AW7,AS18>AW9),0,AW8+(AW10-AW8)*(1-((AW5+EXP(AW6*(AW4-AW7)))/(AW5+EXP(AW6*(AW4-AS18))))^AW5)/(1-((AW5+EXP(AW6*(AW4-AW7)))/(AW5+EXP(AW6*(AW4-AW9))))^AW5))","v":0},{"$f":"IF(OR(AS18<=AW9,AS18>100000),0,IF(AS18<=AX7,AX8,AX8+(AX10-AX8)*(1-((AX5+EXP(AX6*(AX4-AX7)))/(AX5+EXP(AX6*(AX4-AS18))))^AX5)/(1-((AX5+EXP(AX6*(AX4-AX7)))/(AX5+EXP(AX6*(AX4-AX9))))^AX5)))","v":0},0,0]
[8,{"$f":"'daily uptake'!F102","v":"2010-11-08"},{"$f":"5/9*'daily uptake'!Q102","v":12.5},{"$f":"5/9*'daily uptake'!N102","v":4.4444444444444446},{"$f":"IF(AND($A19>='daily uptake'!$C$9,$A19<='daily uptake'!$C$10),$C19+E18,0)","v":104.44444444444444},{"$f":"IF(AND($A19>='daily uptake'!$C$18,$A19<='daily uptake'!$C$20),$D19+F18,0)","v":0},{"$f":"IF(AND($A19>='daily uptake'!$C$24,$A19<='daily uptake'!$C$25),$C19+G18,0)","v":0},{"$f":"IF(OR(F19<=I7,F19>I9),0,I8+(I10-I8)*(1-((I5+EXP(I6*(I4-I7)))/(I5+EXP(I6*(I4-F19))))^I5)/(1-((I5+EXP(I6*(I4-I7)))/(I5+EXP(I6*(I4-I9))))^I5))","v":0},{"$f":"IF(OR(F19<=J7,F19>J9),0,J8+(J10-J8)*(1-((J5+EXP(J6*(J4-J7)))/(J5+EXP(J6*(J4-F19))))^J5)/(1-((J5+EXP(J6*(J4-J7)))/(J5+EXP(J6*(J4-J9))))^J5))","v":0},{"$f":"IF(OR(F19<=J9,F19>100000),0,IF(F19<=K7,K8,K8+(K10-K8)*(1-((K5+EXP(K6*(K4-K7)))/(K5+EXP(K6*(K4-F19))))^K5)/(1-((K5+EXP(K6*(K4-K7)))/(K5+EXP(K6*(K4-K9))))^K5)))","v":0},0,0,3.2511166930840649,0,"2010-11-08",{"$f":"MAX(L$12:L19)+MAX(M$12:M19)+MAX(N$12:N19)","v":3.2511166930840649},"2010-11-08",0.42116838587793382,null,null,null,null,null,null,{"$f":"O143","v":"2011-03-12"},17.493868504598765,{"$f":"P143","v":90.354671365238758},0.12487215840737526,null,null,null,null,null,null,null,0,null,{"$f":"IF(OR(AJ19<=AM7,AJ19>AM9),0,AM8+(AM10-AM8)*(1-((AM5+EXP(AM6*(AM4-AM7)))/(AM5+EXP(AM6*(AM4-AJ19))))^AM5)/(1-((AM5+EXP(AM6*(AM4-AM7)))/(AM5+EXP(AM6*(AM4-AM9))))^AM5))","v":0},{"$f":"IF(OR(AJ19<=AN7,AJ19>AN9),0,AN8+(AN10-AN8)*(1-((AN5+EXP(AN6*(AN4-AN7)))/(AN5+EXP(AN6*(AN4-AJ19))))^AN5)/(1-((AN5+EXP(AN6*(AN4-AN7)))/(AN5+EXP(AN6*(AN4-AN9))))^AN5))","v":0},{"$f":"IF(OR(AJ19<=AN9,AJ19>100000),0,IF(AJ19<=AO7,AO8,AO8+(AO10-AO8)*(1-((AO5+EXP(AO6*(AO4-AO7)))/(AO5+EXP(AO6*(AO4-AJ19))))^AO5)/(1-((AO5+EXP(AO6*(AO4-AO7)))/(AO5+EXP(AO6*(AO4-AO9))))^AO5)))","v":0},0,0]
[9,{"$f":"'daily uptake'!F103","v":"2010-11-09"},{"$f":"5/9*'daily uptake'!Q103","v":11.944444444444445},{"$f":"5/9*'daily uptake'!N103","v":4.4444444444444446},{"$f":"IF(AND($A20>='daily uptake'!$C$9,$A20<='daily uptake'!$C$10),$C20+E19,0)","v":116.38888888888889},{"$f":"IF(AND($A20>='daily uptake'!$C$18,$A20<='daily uptake'!$C$20),$D20+F19,0)","v":0},{"$f":"IF(AND($A20>='daily uptake'!$C$24,$A20<='daily uptake'!$C$25),$C20+G19,0)","v":0},{"$f":"IF(OR(F20<=I7,F20>I9),0,I8+(I10-I8)*(1-((I5+EXP(I6*(I4-I7)))/(I5+EXP(I6*(I4-F20))))^I5)/(1-((I5+EXP(I6*(I4-I7)))/(I5+EXP(I6*(I4-I9))))^I5))","v":0},{"$f":"IF(OR(F20<=J7,F20>J9),0,J8+(J10-J8)*(1-((J5+EXP(J6*(J4-J7)))/(J5+EXP(J6*(J4-F20))))^J5)/(1-((J5+EXP(J6*(J4-J7)))/(J5+EXP(J6*(J4-J9))))^J5))","v":0},{"$f":"IF(OR(F20<=J9,F20>100000),0,IF(F20<=K7,K8,K8+(K10-K8)*(1-((K5+EXP(K6*(K4-K7)))/(K5+EXP(K6*(K4-F20))))^K5)/(1-((K5+EXP(K6*(K4-K7)))/(K5+EXP(K6*(K4-K9))))^K5)))","v":0},0,0,3.6621746966806072,0,"2010-11-09",{"$f":"MAX(L$12:L20)+MAX(M$12:M20)+MAX(N$12:N20)","v":3.6621746966806072},"2010-11-09",0.41105800359654232,null,null,null,null,null,null,{"$f":"O158","v":"2011-03-27"},25.06767489822559,{"$f":"P158","v":115.42234626346435},0.17893438892449276,null,null,null,null,null,null,null,0,null,{"$f":"IF(OR(AJ20<=AM7,AJ20>AM9),0,AM8+(AM10-AM8)*(1-((AM5+EXP(AM6*(AM4-AM7)))/(AM5+EXP(AM6*(AM4-AJ20))))^AM5)/(1-((AM5+EXP(AM6*(AM4-AM7)))/(AM5+EXP(AM6*(AM4-AM9))))^AM5))","v":0},{"$f":"IF(OR(AJ20<=AN7,AJ20>AN9),0,AN8+(AN10-AN8)*(1-((AN5+EXP(AN6*(AN4-AN7)))/(AN5+EXP(AN6*(AN4-AJ20))))^AN5)/(1-((AN5+EXP(AN6*(AN4-AN7)))/(AN5+EXP(AN6*(AN4-AN9))))^AN5))","v":0},{"$f":"IF(OR(AJ20<=AN9,AJ20>100000),0,IF(AJ20<=AO7,AO8,AO8+(AO10-AO8)*(1-((AO5+EXP(AO6*(AO4-AO7)))/(AO5+EXP(AO6*(AO4-AJ20))))^AO5)/(1-((AO5+EXP(AO6*(AO4-AO7)))/(AO5+EXP(AO6*(AO4-AO9))))^AO5)))","v":0},0,0]
[10,{"$f":"'daily uptake'!F104","v":"2010-11-10"},{"$f":"5/9*'daily uptake'!Q104","v":11.388888888888889},{"$f":"5/9*'daily uptake'!N104","v":3.8888888888888893},{"$f":"IF(AND($A21>='daily uptake'!$C$9,$A21<='daily uptake'!$C$10),$C21+E20,0)","v":127.77777777777777},{"$f":"IF(AND($A21>='daily uptake'!$C$18,$A21<='daily uptake'!$C$20),$D21+F20,0)","v":0},{"$f":"IF(AND($A21>='daily uptake'!$C$24,$A21<='daily uptake'!$C$25),$C21+G20,0)","v":0},{"$f":"IF(OR(F21<=I7,F21>I9),0,I8+(I10-I8)*(1-((I5+EXP(I6*(I4-I7)))/(I5+EXP(I6*(I4-F21))))^I5)/(1-((I5+EXP(I6*(I4-I7)))/(I5+EXP(I6*(I4-I9))))^I5))","v":0},{"$f":"IF(OR(F21<=J7,F21>J9),0,J8+(J10-J8)*(1-((J5+EXP(J6*(J4-J7)))/(J5+EXP(J6*(J4-F21))))^J5)/(1-((J5+EXP(J6*(J4-J7)))/(J5+EXP(J6*(J4-J9))))^J5))","v":0},{"$f":"IF(OR(F21<=J9,F21>100000),0,IF(F21<=K7,K8,K8+(K10-K8)*(1-((K5+EXP(K6*(K4-K7)))/(K5+EXP(K6*(K4-F21))))^K5)/(1-((K5+EXP(K6*(K4-K7)))/(K5+EXP(K6*(K4-K9))))^K5)))","v":0},0,0,4.0620798538113903,0,"2010-11-10",{"$f":"MAX(L$12:L21)+MAX(M$12:M21)+MAX(N$12:N21)","v":4.0620798538113903},"2010-11-10",0.39990515713078301,null,null,null,null,null,null,{"$f":"O174","v":"2011-04-12"},24.577653736535652,{"$f":"P174","v":140},0.17543659196154965,null,null,null,null,null,null,null,0,null,{"$f":"IF(OR(AJ21<=AM7,AJ21>AM9),0,AM8+(AM10-AM8)*(1-((AM5+EXP(AM6*(AM4-AM7)))/(AM5+EXP(AM6*(AM4-AJ21))))^AM5)/(1-((AM5+EXP(AM6*(AM4-AM7)))/(AM5+EXP(AM6*(AM4-AM9))))^AM5))","v":0},{"$f":"IF(OR(AJ21<=AN7,AJ21>AN9),0,AN8+(AN10-AN8)*(1-((AN5+EXP(AN6*(AN4-AN7)))/(AN5+EXP(AN6*(AN4-AJ21))))^AN5)/(1-((AN5+EXP(AN6*(AN4-AN7)))/(AN5+EXP(AN6*(AN4-AN9))))^AN5))","v":0},{"$f":"IF(OR(AJ21<=AN9,AJ21>100000),0,IF(AJ21<=AO7,AO8,AO8+(AO10-AO8)*(1-((AO5+EXP(AO6*(AO4-AO7)))/(AO5+EXP(AO6*(AO4-AJ21))))^AO5)/(1-((AO5+EXP(AO6*(AO4-AO7)))/(AO5+EXP(AO6*(AO4-AO9))))^AO5)))","v":0},0,0]
[11,{"$f":"'daily uptake'!F105","v":"2010-11-11"},{"$f":"5/9*'daily uptake'!Q105","v":11.666666666666668},{"$f":"5/9*'daily uptake'!N105","v":3.8888888888888893},{"$f":"IF(AND($A22>='daily uptake'!$C$9,$A22<='daily uptake'!$C$10),$C22+E21,0)","v":139.44444444444443},{"$f":"IF(AND($A22>='daily uptake'!$C$18,$A22<='daily uptake'!$C$20),$D22+F21,0)","v":0},{"$f":"IF(AND($A22>='daily uptake'!$C$24,$A22<='daily uptake'!$C$25),$C22+G21,0)","v":0},{"$f":"IF(OR(F22<=I7,F22>I9),0,I8+(I10-I8)*(1-((I5+EXP(I6*(I4-I7)))/(I5+EXP(I6*(I4-F22))))^I5)/(1-((I5+EXP(I6*(I4-I7)))/(I5+EXP(I6*(I4-I9))))^I5))","v":0},{"$f":"IF(OR(F22<=J7,F22>J9),0,J8+(J10-J8)*(1-((J5+EXP(J6*(J4-J7)))/(J5+EXP(J6*(J4-F22))))^J5)/(1-((J5+EXP(J6*(J4-J7)))/(J5+EXP(J6*(J4-J9))))^J5))","v":0},{"$f":"IF(OR(F22<=J9,F22>100000),0,IF(F22<=K7,K8,K8+(K10-K8)*(1-((K5+EXP(K6*(K4-K7)))/(K5+EXP(K6*(K4-F22))))^K5)/(1-((K5+EXP(K6*(K4-K7)))/(K5+EXP(K6*(K4-K9))))^K5)))","v":0},0,0,4.4799326867828899,0,"2010-11-11",{"$f":"MAX(L$12:L22)+MAX(M$12:M22)+MAX(N$12:N22)","v":4.4799326867828899},"2010-11-11",0.41785283297149967,null,null,null,null,null,null,{"$f":"O189","v":"2011-04-27"},9.4226989557142815E-2,{"$f":"P189","v":140.09422698955714},6.725972338900635E-4,null,null,null,null,null,null,null,0,null,{"$f":"IF(OR(AJ22<=AM7,AJ22>AM9),0,AM8+(AM10-AM8)*(1-((AM5+EXP(AM6*(AM4-AM7)))/(AM5+EXP(AM6*(AM4-AJ22))))^AM5)/(1-((AM5+EXP(AM6*(AM4-AM7)))/(AM5+EXP(AM6*(AM4-AM9))))^AM5))","v":0},{"$f":"IF(OR(AJ22<=AN7,AJ22>AN9),0,AN8+(AN10-AN8)*(1-((AN5+EXP(AN6*(AN4-AN7)))/(AN5+EXP(AN6*(AN4-AJ22))))^AN5)/(1-((AN5+EXP(AN6*(AN4-AN7)))/(AN5+EXP(AN6*(AN4-AN9))))^AN5))","v":0},{"$f":"IF(OR(AJ22<=AN9,AJ22>100000),0,IF(AJ22<=AO7,AO8,AO8+(AO10-AO8)*(1-((AO5+EXP(AO6*(AO4-AO7)))/(AO5+EXP(AO6*(AO4-AJ22))))^AO5)/(1-((AO5+EXP(AO6*(AO4-AO7)))/(AO5+EXP(AO6*(AO4-AO9))))^AO5)))","v":0},0,0]
[12,{"$f":"'daily uptake'!F106","v":"2010-11-12"},{"$f":"5/9*'daily uptake'!Q106","v":11.111111111111111},{"$f":"5/9*'daily uptake'!N106","v":4.166666666666667},{"$f":"IF(AND($A23>='daily uptake'!$C$9,$A23<='daily uptake'!$C$10),$C23+E22,0)","v":150.55555555555554},{"$f":"IF(AND($A23>='daily uptake'!$C$18,$A23<='daily uptake'!$C$20),$D23+F22,0)","v":0},{"$f":"IF(AND($A23>='daily uptake'!$C$24,$A23<='daily uptake'!$C$25),$C23+G22,0)","v":0},{"$f":"IF(OR(F23<=I7,F23>I9),0,I8+(I10-I8)*(1-((I5+EXP(I6*(I4-I7)))/(I5+EXP(I6*(I4-F23))))^I5)/(1-((I5+EXP(I6*(I4-I7)))/(I5+EXP(I6*(I4-I9))))^I5))","v":0},{"$f":"IF(OR(F23<=J7,F23>J9),0,J8+(J10-J8)*(1-((J5+EXP(J6*(J4-J7)))/(J5+EXP(J6*(J4-F23))))^J5)/(1-((J5+EXP(J6*(J4-J7)))/(J5+EXP(J6*(J4-J9))))^J5))","v":0},{"$f":"IF(OR(F23<=J9,F23>100000),0,IF(F23<=K7,K8,K8+(K10-K8)*(1-((K5+EXP(K6*(K4-K7)))/(K5+EXP(K6*(K4-F23))))^K5)/(1-((K5+EXP(K6*(K4-K7)))/(K5+EXP(K6*(K4-K9))))^K5)))","v":0},0,0,4.8857180025675806,0,"2010-11-12",{"$f":"MAX(L$12:L23)+MAX(M$12:M23)+MAX(N$12:N23)","v":4.8857180025675806},"2010-11-12",0.40578531578469068,null,null,null,null,null,null,null,null,null,null,null,null,null,null,null,null,null,0,null,{"$f":"IF(OR(AJ23<=AM7,AJ23>AM9),0,AM8+(AM10-AM8)*(1-((AM5+EXP(AM6*(AM4-AM7)))/(AM5+EXP(AM6*(AM4-AJ23))))^AM5)/(1-((AM5+EXP(AM6*(AM4-AM7)))/(AM5+EXP(AM6*(AM4-AM9))))^AM5))","v":0},{"$f":"IF(OR(AJ23<=AN7,AJ23>AN9),0,AN8+(AN10-AN8)*(1-((AN5+EXP(AN6*(AN4-AN7)))/(AN5+EXP(AN6*(AN4-AJ23))))^AN5)/(1-((AN5+EXP(AN6*(AN4-AN7)))/(AN5+EXP(AN6*(AN4-AN9))))^AN5))","v":0},{"$f":"IF(OR(AJ23<=AN9,AJ23>100000),0,IF(AJ23<=AO7,AO8,AO8+(AO10-AO8)*(1-((AO5+EXP(AO6*(AO4-AO7)))/(AO5+EXP(AO6*(AO4-AJ23))))^AO5)/(1-((AO5+EXP(AO6*(AO4-AO7)))/(AO5+EXP(AO6*(AO4-AO9))))^AO5)))","v":0},0,0]
[13,{"$f":"'daily uptake'!F107","v":"2010-11-13"},{"$f":"5/9*'daily uptake'!Q107","v":11.666666666666668},{"$f":"5/9*'daily uptake'!N107","v":4.4444444444444446},{"$f":"IF(AND($A24>='daily uptake'!$C$9,$A24<='daily uptake'!$C$10),$C24+E23,0)","v":162.2222222222222},{"$f":"IF(AND($A24>='daily uptake'!$C$18,$A24<='daily uptake'!$C$20),$D24+F23,0)","v":0},{"$f":"IF(AND($A24>='daily uptake'!$C$24,$A24<='daily uptake'!$C$25),$C24+G23,0)","v":0},{"$f":"IF(OR(F24<=I7,F24>I9),0,I8+(I10-I8)*(1-((I5+EXP(I6*(I4-I7)))/(I5+EXP(I6*(I4-F24))))^I5)/(1-((I5+EXP(I6*(I4-I7)))/(I5+EXP(I6*(I4-I9))))^I5))","v":0},{"$f":"IF(OR(F24<=J7,F24>J9),0,J8+(J10-J8)*(1-((J5+EXP(J6*(J4-J7)))/(J5+EXP(J6*(J4-F24))))^J5)/(1-((J5+EXP(J6*(J4-J7)))/(J5+EXP(J6*(J4-J9))))^J5))","v":0},{"$f":"IF(OR(F24<=J9,F24>100000),0,IF(F24<=K7,K8,K8+(K10-K8)*(1-((K5+EXP(K6*(K4-K7)))/(K5+EXP(K6*(K4-F24))))^K5)/(1-((K5+EXP(K6*(K4-K7)))/(K5+EXP(K6*(K4-K9))))^K5)))","v":0},0,0,5.3201424875737473,0,"2010-11-13",{"$f":"MAX(L$12:L24)+MAX(M$12:M24)+MAX(N$12:N24)","v":5.3201424875737473},"2010-11-13",0.43442448500616671,null,null,null,null,null,null,null,null,null,null,null,null,null,null,null,null,null,0,null,{"$f":"IF(OR(AJ24<=AM7,AJ24>AM9),0,AM8+(AM10-AM8)*(1-((AM5+EXP(AM6*(AM4-AM7)))/(AM5+EXP(AM6*(AM4-AJ24))))^AM5)/(1-((AM5+EXP(AM6*(AM4-AM7)))/(AM5+EXP(AM6*(AM4-AM9))))^AM5))","v":0},{"$f":"IF(OR(AJ24<=AN7,AJ24>AN9),0,AN8+(AN10-AN8)*(1-((AN5+EXP(AN6*(AN4-AN7)))/(AN5+EXP(AN6*(AN4-AJ24))))^AN5)/(1-((AN5+EXP(AN6*(AN4-AN7)))/(AN5+EXP(AN6*(AN4-AN9))))^AN5))","v":0},{"$f":"IF(OR(AJ24<=AN9,AJ24>100000),0,IF(AJ24<=AO7,AO8,AO8+(AO10-AO8)*(1-((AO5+EXP(AO6*(AO4-AO7)))/(AO5+EXP(AO6*(AO4-AJ24))))^AO5)/(1-((AO5+EXP(AO6*(AO4-AO7)))/(AO5+EXP(AO6*(AO4-AO9))))^AO5)))","v":0},0,0]
[14,{"$f":"'daily uptake'!F108","v":"2010-11-14"},{"$f":"5/9*'daily uptake'!Q108","v":11.666666666666668},{"$f":"5/9*'daily uptake'!N108","v":4.4444444444444446},{"$f":"IF(AND($A25>='daily uptake'!$C$9,$A25<='daily uptake'!$C$10),$C25+E24,0)","v":173.88888888888886},{"$f":"IF(AND($A25>='daily uptake'!$C$18,$A25<='daily uptake'!$C$20),$D25+F24,0)","v":0},{"$f":"IF(AND($A25>='daily uptake'!$C$24,$A25<='daily uptake'!$C$25),$C25+G24,0)","v":0},{"$f":"IF(OR(F25<=I7,F25>I9),0,I8+(I10-I8)*(1-((I5+EXP(I6*(I4-I7)))/(I5+EXP(I6*(I4-F25))))^I5)/(1-((I5+EXP(I6*(I4-I7)))/(I5+EXP(I6*(I4-I9))))^I5))","v":0},{"$f":"IF(OR(F25<=J7,F25>J9),0,J8+(J10-J8)*(1-((J5+EXP(J6*(J4-J7)))/(J5+EXP(J6*(J4-F25))))^J5)/(1-((J5+EXP(J6*(J4-J7)))/(J5+EXP(J6*(J4-J9))))^J5))","v":0},{"$f":"IF(OR(F25<=J9,F25>100000),0,IF(F25<=K7,K8,K8+(K10-K8)*(1-((K5+EXP(K6*(K4-K7)))/(K5+EXP(K6*(K4-F25))))^K5)/(1-((K5+EXP(K6*(K4-K7)))/(K5+EXP(K6*(K4-K9))))^K5)))","v":0},0,0,5.7632523056109601,0,"2010-11-14",{"$f":"MAX(L$12:L25)+MAX(M$12:M25)+MAX(N$12:N25)","v":5.7632523056109601},"2010-11-14",0.44310981803721283,null,null,null,null,null,null,null,null,null,null,null,null,null,null,null,null,null,0,null,{"$f":"IF(OR(AJ25<=AM7,AJ25>AM9),0,AM8+(AM10-AM8)*(1-((AM5+EXP(AM6*(AM4-AM7)))/(AM5+EXP(AM6*(AM4-AJ25))))^AM5)/(1-((AM5+EXP(AM6*(AM4-AM7)))/(AM5+EXP(AM6*(AM4-AM9))))^AM5))","v":0},{"$f":"IF(OR(AJ25<=AN7,AJ25>AN9),0,AN8+(AN10-AN8)*(1-((AN5+EXP(AN6*(AN4-AN7)))/(AN5+EXP(AN6*(AN4-AJ25))))^AN5)/(1-((AN5+EXP(AN6*(AN4-AN7)))/(AN5+EXP(AN6*(AN4-AN9))))^AN5))","v":0},{"$f":"IF(OR(AJ25<=AN9,AJ25>100000),0,IF(AJ25<=AO7,AO8,AO8+(AO10-AO8)*(1-((AO5+EXP(AO6*(AO4-AO7)))/(AO5+EXP(AO6*(AO4-AJ25))))^AO5)/(1-((AO5+EXP(AO6*(AO4-AO7)))/(AO5+EXP(AO6*(AO4-AO9))))^AO5)))","v":0},0,0]
[15,{"$f":"'daily uptake'!F109","v":"2010-11-15"},{"$f":"5/9*'daily uptake'!Q109","v":11.388888888888889},{"$f":"5/9*'daily uptake'!N109","v":4.166666666666667},{"$f":"IF(AND($A26>='daily uptake'!$C$9,$A26<='daily uptake'!$C$10),$C26+E25,0)","v":185.27777777777774},{"$f":"IF(AND($A26>='daily uptake'!$C$18,$A26<='daily uptake'!$C$20),$D26+F25,0)","v":0},{"$f":"IF(AND($A26>='daily uptake'!$C$24,$A26<='daily uptake'!$C$25),$C26+G25,0)","v":0},{"$f":"IF(OR(F26<=I7,F26>I9),0,I8+(I10-I8)*(1-((I5+EXP(I6*(I4-I7)))/(I5+EXP(I6*(I4-F26))))^I5)/(1-((I5+EXP(I6*(I4-I7)))/(I5+EXP(I6*(I4-I9))))^I5))","v":0},{"$f":"IF(OR(F26<=J7,F26>J9),0,J8+(J10-J8)*(1-((J5+EXP(J6*(J4-J7)))/(J5+EXP(J6*(J4-F26))))^J5)/(1-((J5+EXP(J6*(J4-J7)))/(J5+EXP(J6*(J4-J9))))^J5))","v":0},{"$f":"IF(OR(F26<=J9,F26>100000),0,IF(F26<=K7,K8,K8+(K10-K8)*(1-((K5+EXP(K6*(K4-K7)))/(K5+EXP(K6*(K4-F26))))^K5)/(1-((K5+EXP(K6*(K4-K7)))/(K5+EXP(K6*(K4-K9))))^K5)))","v":0},0,0,6.2043180282163028,0,"2010-11-15",{"$f":"MAX(L$12:L26)+MAX(M$12:M26)+MAX(N$12:N26)","v":6.2043180282163028},"2010-11-15",0.44106572260534271,null,null,null,null,null,null,null,null,null,null,null,null,null,null,null,null,null,0,null,{"$f":"IF(OR(AJ26<=AM7,AJ26>AM9),0,AM8+(AM10-AM8)*(1-((AM5+EXP(AM6*(AM4-AM7)))/(AM5+EXP(AM6*(AM4-AJ26))))^AM5)/(1-((AM5+EXP(AM6*(AM4-AM7)))/(AM5+EXP(AM6*(AM4-AM9))))^AM5))","v":0},{"$f":"IF(OR(AJ26<=AN7,AJ26>AN9),0,AN8+(AN10-AN8)*(1-((AN5+EXP(AN6*(AN4-AN7)))/(AN5+EXP(AN6*(AN4-AJ26))))^AN5)/(1-((AN5+EXP(AN6*(AN4-AN7)))/(AN5+EXP(AN6*(AN4-AN9))))^AN5))","v":0},{"$f":"IF(OR(AJ26<=AN9,AJ26>100000),0,IF(AJ26<=AO7,AO8,AO8+(AO10-AO8)*(1-((AO5+EXP(AO6*(AO4-AO7)))/(AO5+EXP(AO6*(AO4-AJ26))))^AO5)/(1-((AO5+EXP(AO6*(AO4-AO7)))/(AO5+EXP(AO6*(AO4-AO9))))^AO5)))","v":0},0,0]
[16,{"$f":"'daily uptake'!F110","v":"2010-11-16"},{"$f":"5/9*'daily uptake'!Q110","v":11.666666666666668},{"$f":"5/9*'daily uptake'!N110","v":4.166666666666667},{"$f":"IF(AND($A27>='daily uptake'!$C$9,$A27<='daily uptake'!$C$10),$C27+E26,0)","v":196.9444444444444},{"$f":"IF(AND($A27>='daily uptake'!$C$18,$A27<='daily uptake'!$C$20),$D27+F26,0)","v":0},{"$f":"IF(AND($A27>='daily uptake'!$C$24,$A27<='daily uptake'!$C$25),$C27+G26,0)","v":0},{"$f":"IF(OR(F27<=I7,F27>I9),0,I8+(I10-I8)*(1-((I5+EXP(I6*(I4-I7)))/(I5+EXP(I6*(I4-F27))))^I5)/(1-((I5+EXP(I6*(I4-I7)))/(I5+EXP(I6*(I4-I9))))^I5))","v":0},{"$f":"IF(OR(F27<=J7,F27>J9),0,J8+(J10-J8)*(1-((J5+EXP(J6*(J4-J7)))/(J5+EXP(J6*(J4-F27))))^J5)/(1-((J5+EXP(J6*(J4-J7)))/(J5+EXP(J6*(J4-J9))))^J5))","v":0},{"$f":"IF(OR(F27<=J9,F27>100000),0,IF(F27<=K7,K8,K8+(K10-K8)*(1-((K5+EXP(K6*(K4-K7)))/(K5+EXP(K6*(K4-F27))))^K5)/(1-((K5+EXP(K6*(K4-K7)))/(K5+EXP(K6*(K4-K9))))^K5)))","v":0},0,0,6.6649870662796831,0,"2010-11-16",{"$f":"MAX(L$12:L27)+MAX(M$12:M27)+MAX(N$12:N27)","v":6.6649870662796831},"2010-11-16",0.46066903806338022,null,null,null,null,null,null,null,null,null,null,null,null,null,null,null,null,null,0,null,{"$f":"IF(OR(AJ27<=AM7,AJ27>AM9),0,AM8+(AM10-AM8)*(1-((AM5+EXP(AM6*(AM4-AM7)))/(AM5+EXP(AM6*(AM4-AJ27))))^AM5)/(1-((AM5+EXP(AM6*(AM4-AM7)))/(AM5+EXP(AM6*(AM4-AM9))))^AM5))","v":0},{"$f":"IF(OR(AJ27<=AN7,AJ27>AN9),0,AN8+(AN10-AN8)*(1-((AN5+EXP(AN6*(AN4-AN7)))/(AN5+EXP(AN6*(AN4-AJ27))))^AN5)/(1-((AN5+EXP(AN6*(AN4-AN7)))/(AN5+EXP(AN6*(AN4-AN9))))^AN5))","v":0},{"$f":"IF(OR(AJ27<=AN9,AJ27>100000),0,IF(AJ27<=AO7,AO8,AO8+(AO10-AO8)*(1-((AO5+EXP(AO6*(AO4-AO7)))/(AO5+EXP(AO6*(AO4-AJ27))))^AO5)/(1-((AO5+EXP(AO6*(AO4-AO7)))/(AO5+EXP(AO6*(AO4-AO9))))^AO5)))","v":0},0,0]
[17,{"$f":"'daily uptake'!F111","v":"2010-11-17"},{"$f":"5/9*'daily uptake'!Q111","v":11.944444444444445},{"$f":"5/9*'daily uptake'!N111","v":4.4444444444444446},{"$f":"IF(AND($A28>='daily uptake'!$C$9,$A28<='daily uptake'!$C$10),$C28+E27,0)","v":208.88888888888886},{"$f":"IF(AND($A28>='daily uptake'!$C$18,$A28<='daily uptake'!$C$20),$D28+F27,0)","v":0},{"$f":"IF(AND($A28>='daily uptake'!$C$24,$A28<='daily uptake'!$C$25),$C28+G27,0)","v":0},{"$f":"IF(OR(F28<=I7,F28>I9),0,I8+(I10-I8)*(1-((I5+EXP(I6*(I4-I7)))/(I5+EXP(I6*(I4-F28))))^I5)/(1-((I5+EXP(I6*(I4-I7)))/(I5+EXP(I6*(I4-I9))))^I5))","v":0},{"$f":"IF(OR(F28<=J7,F28>J9),0,J8+(J10-J8)*(1-((J5+EXP(J6*(J4-J7)))/(J5+EXP(J6*(J4-F28))))^J5)/(1-((J5+EXP(J6*(J4-J7)))/(J5+EXP(J6*(J4-J9))))^J5))","v":0},{"$f":"IF(OR(F28<=J9,F28>100000),0,IF(F28<=K7,K8,K8+(K10-K8)*(1-((K5+EXP(K6*(K4-K7)))/(K5+EXP(K6*(K4-F28))))^K5)/(1-((K5+EXP(K6*(K4-K7)))/(K5+EXP(K6*(K4-K9))))^K5)))","v":0},0,0,7.1460386525924466,0,"2010-11-17",{"$f":"MAX(L$12:L28)+MAX(M$12:M28)+MAX(N$12:N28)","v":7.1460386525924466},"2010-11-17",0.48105158631276357,null,null,null,null,null,null,null,null,null,null,null,null,null,null,null,null,null,0,null,{"$f":"IF(OR(AJ28<=AM7,AJ28>AM9),0,AM8+(AM10-AM8)*(1-((AM5+EXP(AM6*(AM4-AM7)))/(AM5+EXP(AM6*(AM4-AJ28))))^AM5)/(1-((AM5+EXP(AM6*(AM4-AM7)))/(AM5+EXP(AM6*(AM4-AM9))))^AM5))","v":0},{"$f":"IF(OR(AJ28<=AN7,AJ28>AN9),0,AN8+(AN10-AN8)*(1-((AN5+EXP(AN6*(AN4-AN7)))/(AN5+EXP(AN6*(AN4-AJ28))))^AN5)/(1-((AN5+EXP(AN6*(AN4-AN7)))/(AN5+EXP(AN6*(AN4-AN9))))^AN5))","v":0},{"$f":"IF(OR(AJ28<=AN9,AJ28>100000),0,IF(AJ28<=AO7,AO8,AO8+(AO10-AO8)*(1-((AO5+EXP(AO6*(AO4-AO7)))/(AO5+EXP(AO6*(AO4-AJ28))))^AO5)/(1-((AO5+EXP(AO6*(AO4-AO7)))/(AO5+EXP(AO6*(AO4-AO9))))^AO5)))","v":0},0,0]
[18,{"$f":"'daily uptake'!F112","v":"2010-11-18"},{"$f":"5/9*'daily uptake'!Q112","v":11.666666666666668},{"$f":"5/9*'daily uptake'!N112","v":4.166666666666667},{"$f":"IF(AND($A29>='daily uptake'!$C$9,$A29<='daily uptake'!$C$10),$C29+E28,0)","v":220.55555555555551},{"$f":"IF(AND($A29>='daily uptake'!$C$18,$A29<='daily uptake'!$C$20),$D29+F28,0)","v":0},{"$f":"IF(AND($A29>='daily uptake'!$C$24,$A29<='daily uptake'!$C$25),$C29+G28,0)","v":0},{"$f":"IF(OR(F29<=I7,F29>I9),0,I8+(I10-I8)*(1-((I5+EXP(I6*(I4-I7)))/(I5+EXP(I6*(I4-F29))))^I5)/(1-((I5+EXP(I6*(I4-I7)))/(I5+EXP(I6*(I4-I9))))^I5))","v":0},{"$f":"IF(OR(F29<=J7,F29>J9),0,J8+(J10-J8)*(1-((J5+EXP(J6*(J4-J7)))/(J5+EXP(J6*(J4-F29))))^J5)/(1-((J5+EXP(J6*(J4-J7)))/(J5+EXP(J6*(J4-J9))))^J5))","v":0},{"$f":"IF(OR(F29<=J9,F29>100000),0,IF(F29<=K7,K8,K8+(K10-K8)*(1-((K5+EXP(K6*(K4-K7)))/(K5+EXP(K6*(K4-F29))))^K5)/(1-((K5+EXP(K6*(K4-K7)))/(K5+EXP(K6*(K4-K9))))^K5)))","v":0},0,0,7.6252360966603598,0,"2010-11-18",{"$f":"MAX(L$12:L29)+MAX(M$12:M29)+MAX(N$12:N29)","v":7.6252360966603598},"2010-11-18",0.4791974440679132,null,null,null,null,null,null,null,null,null,null,null,null,null,null,null,null,null,0,null,{"$f":"IF(OR(AJ29<=AM7,AJ29>AM9),0,AM8+(AM10-AM8)*(1-((AM5+EXP(AM6*(AM4-AM7)))/(AM5+EXP(AM6*(AM4-AJ29))))^AM5)/(1-((AM5+EXP(AM6*(AM4-AM7)))/(AM5+EXP(AM6*(AM4-AM9))))^AM5))","v":0},{"$f":"IF(OR(AJ29<=AN7,AJ29>AN9),0,AN8+(AN10-AN8)*(1-((AN5+EXP(AN6*(AN4-AN7)))/(AN5+EXP(AN6*(AN4-AJ29))))^AN5)/(1-((AN5+EXP(AN6*(AN4-AN7)))/(AN5+EXP(AN6*(AN4-AN9))))^AN5))","v":0},{"$f":"IF(OR(AJ29<=AN9,AJ29>100000),0,IF(AJ29<=AO7,AO8,AO8+(AO10-AO8)*(1-((AO5+EXP(AO6*(AO4-AO7)))/(AO5+EXP(AO6*(AO4-AJ29))))^AO5)/(1-((AO5+EXP(AO6*(AO4-AO7)))/(AO5+EXP(AO6*(AO4-AO9))))^AO5)))","v":0},0,0]
[19,{"$f":"'daily uptake'!F113","v":"2010-11-19"},{"$f":"5/9*'daily uptake'!Q113","v":10.555555555555555},{"$f":"5/9*'daily uptake'!N113","v":3.6111111111111112},{"$f":"IF(AND($A30>='daily uptake'!$C$9,$A30<='daily uptake'!$C$10),$C30+E29,0)","v":231.11111111111106},{"$f":"IF(AND($A30>='daily uptake'!$C$18,$A30<='daily uptake'!$C$20),$D30+F29,0)","v":0},{"$f":"IF(AND($A30>='daily uptake'!$C$24,$A30<='daily uptake'!$C$25),$C30+G29,0)","v":0},{"$f":"IF(OR(F30<=I7,F30>I9),0,I8+(I10-I8)*(1-((I5+EXP(I6*(I4-I7)))/(I5+EXP(I6*(I4-F30))))^I5)/(1-((I5+EXP(I6*(I4-I7)))/(I5+EXP(I6*(I4-I9))))^I5))","v":0},{"$f":"IF(OR(F30<=J7,F30>J9),0,J8+(J10-J8)*(1-((J5+EXP(J6*(J4-J7)))/(J5+EXP(J6*(J4-F30))))^J5)/(1-((J5+EXP(J6*(J4-J7)))/(J5+EXP(J6*(J4-J9))))^J5))","v":0},{"$f":"IF(OR(F30<=J9,F30>100000),0,IF(F30<=K7,K8,K8+(K10-K8)*(1-((K5+EXP(K6*(K4-K7)))/(K5+EXP(K6*(K4-F30))))^K5)/(1-((K5+EXP(K6*(K4-K7)))/(K5+EXP(K6*(K4-K9))))^K5)))","v":0},0,0,8.0668569228724785,0,"2010-11-19",{"$f":"MAX(L$12:L30)+MAX(M$12:M30)+MAX(N$12:N30)","v":8.0668569228724785},"2010-11-19",0.44162082621211862,null,null,null,null,null,null,null,null,null,null,null,null,null,null,null,null,null,0,null,{"$f":"IF(OR(AJ30<=AM7,AJ30>AM9),0,AM8+(AM10-AM8)*(1-((AM5+EXP(AM6*(AM4-AM7)))/(AM5+EXP(AM6*(AM4-AJ30))))^AM5)/(1-((AM5+EXP(AM6*(AM4-AM7)))/(AM5+EXP(AM6*(AM4-AM9))))^AM5))","v":0},{"$f":"IF(OR(AJ30<=AN7,AJ30>AN9),0,AN8+(AN10-AN8)*(1-((AN5+EXP(AN6*(AN4-AN7)))/(AN5+EXP(AN6*(AN4-AJ30))))^AN5)/(1-((AN5+EXP(AN6*(AN4-AN7)))/(AN5+EXP(AN6*(AN4-AN9))))^AN5))","v":0},{"$f":"IF(OR(AJ30<=AN9,AJ30>100000),0,IF(AJ30<=AO7,AO8,AO8+(AO10-AO8)*(1-((AO5+EXP(AO6*(AO4-AO7)))/(AO5+EXP(AO6*(AO4-AJ30))))^AO5)/(1-((AO5+EXP(AO6*(AO4-AO7)))/(AO5+EXP(AO6*(AO4-AO9))))^AO5)))","v":0},0,0]
[20,{"$f":"'daily uptake'!F114","v":"2010-11-20"},{"$f":"5/9*'daily uptake'!Q114","v":10.833333333333334},{"$f":"5/9*'daily uptake'!N114","v":3.6111111111111112},{"$f":"IF(AND($A31>='daily uptake'!$C$9,$A31<='daily uptake'!$C$10),$C31+E30,0)","v":241.9444444444444},{"$f":"IF(AND($A31>='daily uptake'!$C$18,$A31<='daily uptake'!$C$20),$D31+F30,0)","v":0},{"$f":"IF(AND($A31>='daily uptake'!$C$24,$A31<='daily uptake'!$C$25),$C31+G30,0)","v":0},{"$f":"IF(OR(F31<=I7,F31>I9),0,I8+(I10-I8)*(1-((I5+EXP(I6*(I4-I7)))/(I5+EXP(I6*(I4-F31))))^I5)/(1-((I5+EXP(I6*(I4-I7)))/(I5+EXP(I6*(I4-I9))))^I5))","v":0},{"$f":"IF(OR(F31<=J7,F31>J9),0,J8+(J10-J8)*(1-((J5+EXP(J6*(J4-J7)))/(J5+EXP(J6*(J4-F31))))^J5)/(1-((J5+EXP(J6*(J4-J7)))/(J5+EXP(J6*(J4-J9))))^J5))","v":0},{"$f":"IF(OR(F31<=J9,F31>100000),0,IF(F31<=K7,K8,K8+(K10-K8)*(1-((K5+EXP(K6*(K4-K7)))/(K5+EXP(K6*(K4-F31))))^K5)/(1-((K5+EXP(K6*(K4-K7)))/(K5+EXP(K6*(K4-K9))))^K5)))","v":0},0,0,8.5281711409968075,0,"2010-11-20",{"$f":"MAX(L$12:L31)+MAX(M$12:M31)+MAX(N$12:N31)","v":8.5281711409968075},"2010-11-20",0.46131421812432905,null,null,null,null,null,null,null,null,null,null,null,null,null,null,null,null,null,0,null,{"$f":"IF(OR(AJ31<=AM7,AJ31>AM9),0,AM8+(AM10-AM8)*(1-((AM5+EXP(AM6*(AM4-AM7)))/(AM5+EXP(AM6*(AM4-AJ31))))^AM5)/(1-((AM5+EXP(AM6*(AM4-AM7)))/(AM5+EXP(AM6*(AM4-AM9))))^AM5))","v":0},{"$f":"IF(OR(AJ31<=AN7,AJ31>AN9),0,AN8+(AN10-AN8)*(1-((AN5+EXP(AN6*(AN4-AN7)))/(AN5+EXP(AN6*(AN4-AJ31))))^AN5)/(1-((AN5+EXP(AN6*(AN4-AN7)))/(AN5+EXP(AN6*(AN4-AN9))))^AN5))","v":0},{"$f":"IF(OR(AJ31<=AN9,AJ31>100000),0,IF(AJ31<=AO7,AO8,AO8+(AO10-AO8)*(1-((AO5+EXP(AO6*(AO4-AO7)))/(AO5+EXP(AO6*(AO4-AJ31))))^AO5)/(1-((AO5+EXP(AO6*(AO4-AO7)))/(AO5+EXP(AO6*(AO4-AO9))))^AO5)))","v":0},0,0]
[21,{"$f":"'daily uptake'!F115","v":"2010-11-21"},{"$f":"5/9*'daily uptake'!Q115","v":10},{"$f":"5/9*'daily uptake'!N115","v":3.3333333333333335},{"$f":"IF(AND($A32>='daily uptake'!$C$9,$A32<='daily uptake'!$C$10),$C32+E31,0)","v":251.9444444444444},{"$f":"IF(AND($A32>='daily uptake'!$C$18,$A32<='daily uptake'!$C$20),$D32+F31,0)","v":0},{"$f":"IF(AND($A32>='daily uptake'!$C$24,$A32<='daily uptake'!$C$25),$C32+G31,0)","v":0},{"$f":"IF(OR(F32<=I7,F32>I9),0,I8+(I10-I8)*(1-((I5+EXP(I6*(I4-I7)))/(I5+EXP(I6*(I4-F32))))^I5)/(1-((I5+EXP(I6*(I4-I7)))/(I5+EXP(I6*(I4-I9))))^I5))","v":0},{"$f":"IF(OR(F32<=J7,F32>J9),0,J8+(J10-J8)*(1-((J5+EXP(J6*(J4-J7)))/(J5+EXP(J6*(J4-F32))))^J5)/(1-((J5+EXP(J6*(J4-J7)))/(J5+EXP(J6*(J4-J9))))^J5))","v":0},{"$f":"IF(OR(F32<=J9,F32>100000),0,IF(F32<=K7,K8,K8+(K10-K8)*(1-((K5+EXP(K6*(K4-K7)))/(K5+EXP(K6*(K4-F32))))^K5)/(1-((K5+EXP(K6*(K4-K7)))/(K5+EXP(K6*(K4-K9))))^K5)))","v":0},0,0,8.9613497169232375,0,"2010-11-21",{"$f":"MAX(L$12:L32)+MAX(M$12:M32)+MAX(N$12:N32)","v":8.9613497169232375},"2010-11-21",0.43317857592642994,null,null,null,null,null,null,null,null,null,null,null,null,null,null,null,null,null,0,null,{"$f":"IF(OR(AJ32<=AM7,AJ32>AM9),0,AM8+(AM10-AM8)*(1-((AM5+EXP(AM6*(AM4-AM7)))/(AM5+EXP(AM6*(AM4-AJ32))))^AM5)/(1-((AM5+EXP(AM6*(AM4-AM7)))/(AM5+EXP(AM6*(AM4-AM9))))^AM5))","v":0},{"$f":"IF(OR(AJ32<=AN7,AJ32>AN9),0,AN8+(AN10-AN8)*(1-((AN5+EXP(AN6*(AN4-AN7)))/(AN5+EXP(AN6*(AN4-AJ32))))^AN5)/(1-((AN5+EXP(AN6*(AN4-AN7)))/(AN5+EXP(AN6*(AN4-AN9))))^AN5))","v":0},{"$f":"IF(OR(AJ32<=AN9,AJ32>100000),0,IF(AJ32<=AO7,AO8,AO8+(AO10-AO8)*(1-((AO5+EXP(AO6*(AO4-AO7)))/(AO5+EXP(AO6*(AO4-AJ32))))^AO5)/(1-((AO5+EXP(AO6*(AO4-AO7)))/(AO5+EXP(AO6*(AO4-AO9))))^AO5)))","v":0},0,0]
[22,{"$f":"'daily uptake'!F116","v":"2010-11-22"},{"$f":"5/9*'daily uptake'!Q116","v":9.7222222222222232},{"$f":"5/9*'daily uptake'!N116","v":3.3333333333333335},{"$f":"IF(AND($A33>='daily uptake'!$C$9,$A33<='daily uptake'!$C$10),$C33+E32,0)","v":261.66666666666663},{"$f":"IF(AND($A33>='daily uptake'!$C$18,$A33<='daily uptake'!$C$20),$D33+F32,0)","v":0},{"$f":"IF(AND($A33>='daily uptake'!$C$24,$A33<='daily uptake'!$C$25),$C33+G32,0)","v":0},{"$f":"IF(OR(F33<=I7,F33>I9),0,I8+(I10-I8)*(1-((I5+EXP(I6*(I4-I7)))/(I5+EXP(I6*(I4-F33))))^I5)/(1-((I5+EXP(I6*(I4-I7)))/(I5+EXP(I6*(I4-I9))))^I5))","v":0},{"$f":"IF(OR(F33<=J7,F33>J9),0,J8+(J10-J8)*(1-((J5+EXP(J6*(J4-J7)))/(J5+EXP(J6*(J4-F33))))^J5)/(1-((J5+EXP(J6*(J4-J7)))/(J5+EXP(J6*(J4-J9))))^J5))","v":0},{"$f":"IF(OR(F33<=J9,F33>100000),0,IF(F33<=K7,K8,K8+(K10-K8)*(1-((K5+EXP(K6*(K4-K7)))/(K5+EXP(K6*(K4-F33))))^K5)/(1-((K5+EXP(K6*(K4-K7)))/(K5+EXP(K6*(K4-K9))))^K5)))","v":0},0,0,9.3893432930900218,0,"2010-11-22",{"$f":"MAX(L$12:L33)+MAX(M$12:M33)+MAX(N$12:N33)","v":9.3893432930900218},"2010-11-22",0.42799357616678435,null,null,null,null,null,null,null,null,null,null,null,null,null,null,null,null,null,0,null,{"$f":"IF(OR(AJ33<=AM7,AJ33>AM9),0,AM8+(AM10-AM8)*(1-((AM5+EXP(AM6*(AM4-AM7)))/(AM5+EXP(AM6*(AM4-AJ33))))^AM5)/(1-((AM5+EXP(AM6*(AM4-AM7)))/(AM5+EXP(AM6*(AM4-AM9))))^AM5))","v":0},{"$f":"IF(OR(AJ33<=AN7,AJ33>AN9),0,AN8+(AN10-AN8)*(1-((AN5+EXP(AN6*(AN4-AN7)))/(AN5+EXP(AN6*(AN4-AJ33))))^AN5)/(1-((AN5+EXP(AN6*(AN4-AN7)))/(AN5+EXP(AN6*(AN4-AN9))))^AN5))","v":0},{"$f":"IF(OR(AJ33<=AN9,AJ33>100000),0,IF(AJ33<=AO7,AO8,AO8+(AO10-AO8)*(1-((AO5+EXP(AO6*(AO4-AO7)))/(AO5+EXP(AO6*(AO4-AJ33))))^AO5)/(1-((AO5+EXP(AO6*(AO4-AO7)))/(AO5+EXP(AO6*(AO4-AO9))))^AO5)))","v":0},0,0]
[23,{"$f":"'daily uptake'!F117","v":"2010-11-23"},{"$f":"5/9*'daily uptake'!Q117","v":9.4444444444444446},{"$f":"5/9*'daily uptake'!N117","v":3.3333333333333335},{"$f":"IF(AND($A34>='daily uptake'!$C$9,$A34<='daily uptake'!$C$10),$C34+E33,0)","v":271.11111111111109},{"$f":"IF(AND($A34>='daily uptake'!$C$18,$A34<='daily uptake'!$C$20),$D34+F33,0)","v":0},{"$f":"IF(AND($A34>='daily uptake'!$C$24,$A34<='daily uptake'!$C$25),$C34+G33,0)","v":0},{"$f":"IF(OR(F34<=I7,F34>I9),0,I8+(I10-I8)*(1-((I5+EXP(I6*(I4-I7)))/(I5+EXP(I6*(I4-F34))))^I5)/(1-((I5+EXP(I6*(I4-I7)))/(I5+EXP(I6*(I4-I9))))^I5))","v":0},{"$f":"IF(OR(F34<=J7,F34>J9),0,J8+(J10-J8)*(1-((J5+EXP(J6*(J4-J7)))/(J5+EXP(J6*(J4-F34))))^J5)/(1-((J5+EXP(J6*(J4-J7)))/(J5+EXP(J6*(J4-J9))))^J5))","v":0},{"$f":"IF(OR(F34<=J9,F34>100000),0,IF(F34<=K7,K8,K8+(K10-K8)*(1-((K5+EXP(K6*(K4-K7)))/(K5+EXP(K6*(K4-F34))))^K5)/(1-((K5+EXP(K6*(K4-K7)))/(K5+EXP(K6*(K4-K9))))^K5)))","v":0},0,0,9.8116478013571591,0,"2010-11-23",{"$f":"MAX(L$12:L34)+MAX(M$12:M34)+MAX(N$12:N34)","v":9.8116478013571591},"2010-11-23",0.42230450826713728,null,null,null,null,null,null,null,null,null,null,null,null,null,null,null,null,null,0,null,{"$f":"IF(OR(AJ34<=AM7,AJ34>AM9),0,AM8+(AM10-AM8)*(1-((AM5+EXP(AM6*(AM4-AM7)))/(AM5+EXP(AM6*(AM4-AJ34))))^AM5)/(1-((AM5+EXP(AM6*(AM4-AM7)))/(AM5+EXP(AM6*(AM4-AM9))))^AM5))","v":0},{"$f":"IF(OR(AJ34<=AN7,AJ34>AN9),0,AN8+(AN10-AN8)*(1-((AN5+EXP(AN6*(AN4-AN7)))/(AN5+EXP(AN6*(AN4-AJ34))))^AN5)/(1-((AN5+EXP(AN6*(AN4-AN7)))/(AN5+EXP(AN6*(AN4-AN9))))^AN5))","v":0},{"$f":"IF(OR(AJ34<=AN9,AJ34>100000),0,IF(AJ34<=AO7,AO8,AO8+(AO10-AO8)*(1-((AO5+EXP(AO6*(AO4-AO7)))/(AO5+EXP(AO6*(AO4-AJ34))))^AO5)/(1-((AO5+EXP(AO6*(AO4-AO7)))/(AO5+EXP(AO6*(AO4-AO9))))^AO5)))","v":0},0,0]
[24,{"$f":"'daily uptake'!F118","v":"2010-11-24"},{"$f":"5/9*'daily uptake'!Q118","v":9.1666666666666679},{"$f":"5/9*'daily uptake'!N118","v":3.0555555555555558},{"$f":"IF(AND($A35>='daily uptake'!$C$9,$A35<='daily uptake'!$C$10),$C35+E34,0)","v":280.27777777777777},{"$f":"IF(AND($A35>='daily uptake'!$C$18,$A35<='daily uptake'!$C$20),$D35+F34,0)","v":0},{"$f":"IF(AND($A35>='daily uptake'!$C$24,$A35<='daily uptake'!$C$25),$C35+G34,0)","v":0},{"$f":"IF(OR(F35<=I7,F35>I9),0,I8+(I10-I8)*(1-((I5+EXP(I6*(I4-I7)))/(I5+EXP(I6*(I4-F35))))^I5)/(1-((I5+EXP(I6*(I4-I7)))/(I5+EXP(I6*(I4-I9))))^I5))","v":0},{"$f":"IF(OR(F35<=J7,F35>J9),0,J8+(J10-J8)*(1-((J5+EXP(J6*(J4-J7)))/(J5+EXP(J6*(J4-F35))))^J5)/(1-((J5+EXP(J6*(J4-J7)))/(J5+EXP(J6*(J4-J9))))^J5))","v":0},{"$f":"IF(OR(F35<=J9,F35>100000),0,IF(F35<=K7,K8,K8+(K10-K8)*(1-((K5+EXP(K6*(K4-K7)))/(K5+EXP(K6*(K4-F35))))^K5)/(1-((K5+EXP(K6*(K4-K7)))/(K5+EXP(K6*(K4-K9))))^K5)))","v":0},0,0,10.227762753291827,0,"2010-11-24",{"$f":"MAX(L$12:L35)+MAX(M$12:M35)+MAX(N$12:N35)","v":10.227762753291827},"2010-11-24",0.4161149519346683,null,null,null,null,null,null,null,null,null,null,null,null,null,null,null,null,null,0,null,{"$f":"IF(OR(AJ35<=AM7,AJ35>AM9),0,AM8+(AM10-AM8)*(1-((AM5+EXP(AM6*(AM4-AM7)))/(AM5+EXP(AM6*(AM4-AJ35))))^AM5)/(1-((AM5+EXP(AM6*(AM4-AM7)))/(AM5+EXP(AM6*(AM4-AM9))))^AM5))","v":0},{"$f":"IF(OR(AJ35<=AN7,AJ35>AN9),0,AN8+(AN10-AN8)*(1-((AN5+EXP(AN6*(AN4-AN7)))/(AN5+EXP(AN6*(AN4-AJ35))))^AN5)/(1-((AN5+EXP(AN6*(AN4-AN7)))/(AN5+EXP(AN6*(AN4-AN9))))^AN5))","v":0},{"$f":"IF(OR(AJ35<=AN9,AJ35>100000),0,IF(AJ35<=AO7,AO8,AO8+(AO10-AO8)*(1-((AO5+EXP(AO6*(AO4-AO7)))/(AO5+EXP(AO6*(AO4-AJ35))))^AO5)/(1-((AO5+EXP(AO6*(AO4-AO7)))/(AO5+EXP(AO6*(AO4-AO9))))^AO5)))","v":0},0,0]
[25,{"$f":"'daily uptake'!F119","v":"2010-11-25"},{"$f":"5/9*'daily uptake'!Q119","v":9.7222222222222232},{"$f":"5/9*'daily uptake'!N119","v":3.3333333333333335},{"$f":"IF(AND($A36>='daily uptake'!$C$9,$A36<='daily uptake'!$C$10),$C36+E35,0)","v":290},{"$f":"IF(AND($A36>='daily uptake'!$C$18,$A36<='daily uptake'!$C$20),$D36+F35,0)","v":0},{"$f":"IF(AND($A36>='daily uptake'!$C$24,$A36<='daily uptake'!$C$25),$C36+G35,0)","v":0},{"$f":"IF(OR(F36<=I7,F36>I9),0,I8+(I10-I8)*(1-((I5+EXP(I6*(I4-I7)))/(I5+EXP(I6*(I4-F36))))^I5)/(1-((I5+EXP(I6*(I4-I7)))/(I5+EXP(I6*(I4-I9))))^I5))","v":0},{"$f":"IF(OR(F36<=J7,F36>J9),0,J8+(J10-J8)*(1-((J5+EXP(J6*(J4-J7)))/(J5+EXP(J6*(J4-F36))))^J5)/(1-((J5+EXP(J6*(J4-J7)))/(J5+EXP(J6*(J4-J9))))^J5))","v":0},{"$f":"IF(OR(F36<=J9,F36>100000),0,IF(F36<=K7,K8,K8+(K10-K8)*(1-((K5+EXP(K6*(K4-K7)))/(K5+EXP(K6*(K4-F36))))^K5)/(1-((K5+EXP(K6*(K4-K7)))/(K5+EXP(K6*(K4-K9))))^K5)))","v":0},0,0,10.67587738316055,0,"2010-11-25",{"$f":"MAX(L$12:L36)+MAX(M$12:M36)+MAX(N$12:N36)","v":10.67587738316055},"2010-11-25",0.44811462986872286,null,null,null,null,null,null,null,null,null,null,null,null,null,null,null,null,null,0,null,{"$f":"IF(OR(AJ36<=AM7,AJ36>AM9),0,AM8+(AM10-AM8)*(1-((AM5+EXP(AM6*(AM4-AM7)))/(AM5+EXP(AM6*(AM4-AJ36))))^AM5)/(1-((AM5+EXP(AM6*(AM4-AM7)))/(AM5+EXP(AM6*(AM4-AM9))))^AM5))","v":0},{"$f":"IF(OR(AJ36<=AN7,AJ36>AN9),0,AN8+(AN10-AN8)*(1-((AN5+EXP(AN6*(AN4-AN7)))/(AN5+EXP(AN6*(AN4-AJ36))))^AN5)/(1-((AN5+EXP(AN6*(AN4-AN7)))/(AN5+EXP(AN6*(AN4-AN9))))^AN5))","v":0},{"$f":"IF(OR(AJ36<=AN9,AJ36>100000),0,IF(AJ36<=AO7,AO8,AO8+(AO10-AO8)*(1-((AO5+EXP(AO6*(AO4-AO7)))/(AO5+EXP(AO6*(AO4-AJ36))))^AO5)/(1-((AO5+EXP(AO6*(AO4-AO7)))/(AO5+EXP(AO6*(AO4-AO9))))^AO5)))","v":0},0,0]
[26,{"$f":"'daily uptake'!F120","v":"2010-11-26"},{"$f":"5/9*'daily uptake'!Q120","v":8.8888888888888893},{"$f":"5/9*'daily uptake'!N120","v":2.5},{"$f":"IF(AND($A37>='daily uptake'!$C$9,$A37<='daily uptake'!$C$10),$C37+E36,0)","v":298.88888888888891},{"$f":"IF(AND($A37>='daily uptake'!$C$18,$A37<='daily uptake'!$C$20),$D37+F36,0)","v":0},{"$f":"IF(AND($A37>='daily uptake'!$C$24,$A37<='daily uptake'!$C$25),$C37+G36,0)","v":0},{"$f":"IF(OR(F37<=I7,F37>I9),0,I8+(I10-I8)*(1-((I5+EXP(I6*(I4-I7)))/(I5+EXP(I6*(I4-F37))))^I5)/(1-((I5+EXP(I6*(I4-I7)))/(I5+EXP(I6*(I4-I9))))^I5))","v":0},{"$f":"IF(OR(F37<=J7,F37>J9),0,J8+(J10-J8)*(1-((J5+EXP(J6*(J4-J7)))/(J5+EXP(J6*(J4-F37))))^J5)/(1-((J5+EXP(J6*(J4-J7)))/(J5+EXP(J6*(J4-J9))))^J5))","v":0},{"$f":"IF(OR(F37<=J9,F37>100000),0,IF(F37<=K7,K8,K8+(K10-K8)*(1-((K5+EXP(K6*(K4-K7)))/(K5+EXP(K6*(K4-F37))))^K5)/(1-((K5+EXP(K6*(K4-K7)))/(K5+EXP(K6*(K4-K9))))^K5)))","v":0},0,0,11.091754787775693,0,"2010-11-26",{"$f":"MAX(L$12:L37)+MAX(M$12:M37)+MAX(N$12:N37)","v":11.091754787775693},"2010-11-26",0.41587740461514322,null,null,null,null,null,null,null,null,null,null,null,null,null,null,null,null,null,0,null,{"$f":"IF(OR(AJ37<=AM7,AJ37>AM9),0,AM8+(AM10-AM8)*(1-((AM5+EXP(AM6*(AM4-AM7)))/(AM5+EXP(AM6*(AM4-AJ37))))^AM5)/(1-((AM5+EXP(AM6*(AM4-AM7)))/(AM5+EXP(AM6*(AM4-AM9))))^AM5))","v":0},{"$f":"IF(OR(AJ37<=AN7,AJ37>AN9),0,AN8+(AN10-AN8)*(1-((AN5+EXP(AN6*(AN4-AN7)))/(AN5+EXP(AN6*(AN4-AJ37))))^AN5)/(1-((AN5+EXP(AN6*(AN4-AN7)))/(AN5+EXP(AN6*(AN4-AN9))))^AN5))","v":0},{"$f":"IF(OR(AJ37<=AN9,AJ37>100000),0,IF(AJ37<=AO7,AO8,AO8+(AO10-AO8)*(1-((AO5+EXP(AO6*(AO4-AO7)))/(AO5+EXP(AO6*(AO4-AJ37))))^AO5)/(1-((AO5+EXP(AO6*(AO4-AO7)))/(AO5+EXP(AO6*(AO4-AO9))))^AO5)))","v":0},0,0]
[27,{"$f":"'daily uptake'!F121","v":"2010-11-27"},{"$f":"5/9*'daily uptake'!Q121","v":8.3333333333333339},{"$f":"5/9*'daily uptake'!N121","v":1.9444444444444446},{"$f":"IF(AND($A38>='daily uptake'!$C$9,$A38<='daily uptake'!$C$10),$C38+E37,0)","v":307.22222222222223},{"$f":"IF(AND($A38>='daily uptake'!$C$18,$A38<='daily uptake'!$C$20),$D38+F37,0)","v":0},{"$f":"IF(AND($A38>='daily uptake'!$C$24,$A38<='daily uptake'!$C$25),$C38+G37,0)","v":0},{"$f":"IF(OR(F38<=I7,F38>I9),0,I8+(I10-I8)*(1-((I5+EXP(I6*(I4-I7)))/(I5+EXP(I6*(I4-F38))))^I5)/(1-((I5+EXP(I6*(I4-I7)))/(I5+EXP(I6*(I4-I9))))^I5))","v":0},{"$f":"IF(OR(F38<=J7,F38>J9),0,J8+(J10-J8)*(1-((J5+EXP(J6*(J4-J7)))/(J5+EXP(J6*(J4-F38))))^J5)/(1-((J5+EXP(J6*(J4-J7)))/(J5+EXP(J6*(J4-J9))))^J5))","v":0},{"$f":"IF(OR(F38<=J9,F38>100000),0,IF(F38<=K7,K8,K8+(K10-K8)*(1-((K5+EXP(K6*(K4-K7)))/(K5+EXP(K6*(K4-F38))))^K5)/(1-((K5+EXP(K6*(K4-K7)))/(K5+EXP(K6*(K4-K9))))^K5)))","v":0},0,0,11.487048771285332,0,"2010-11-27",{"$f":"MAX(L$12:L38)+MAX(M$12:M38)+MAX(N$12:N38)","v":11.487048771285332},"2010-11-27",0.39529398350963874,null,null,null,null,null,null,null,null,null,null,null,null,null,null,null,null,null,0,null,{"$f":"IF(OR(AJ38<=AM7,AJ38>AM9),0,AM8+(AM10-AM8)*(1-((AM5+EXP(AM6*(AM4-AM7)))/(AM5+EXP(AM6*(AM4-AJ38))))^AM5)/(1-((AM5+EXP(AM6*(AM4-AM7)))/(AM5+EXP(AM6*(AM4-AM9))))^AM5))","v":0},{"$f":"IF(OR(AJ38<=AN7,AJ38>AN9),0,AN8+(AN10-AN8)*(1-((AN5+EXP(AN6*(AN4-AN7)))/(AN5+EXP(AN6*(AN4-AJ38))))^AN5)/(1-((AN5+EXP(AN6*(AN4-AN7)))/(AN5+EXP(AN6*(AN4-AN9))))^AN5))","v":0},{"$f":"IF(OR(AJ38<=AN9,AJ38>100000),0,IF(AJ38<=AO7,AO8,AO8+(AO10-AO8)*(1-((AO5+EXP(AO6*(AO4-AO7)))/(AO5+EXP(AO6*(AO4-AJ38))))^AO5)/(1-((AO5+EXP(AO6*(AO4-AO7)))/(AO5+EXP(AO6*(AO4-AO9))))^AO5)))","v":0},0,0]
[28,{"$f":"'daily uptake'!F122","v":"2010-11-28"},{"$f":"5/9*'daily uptake'!Q122","v":8.6111111111111107},{"$f":"5/9*'daily uptake'!N122","v":2.2222222222222223},{"$f":"IF(AND($A39>='daily uptake'!$C$9,$A39<='daily uptake'!$C$10),$C39+E38,0)","v":315.83333333333331},{"$f":"IF(AND($A39>='daily uptake'!$C$18,$A39<='daily uptake'!$C$20),$D39+F38,0)","v":0},{"$f":"IF(AND($A39>='daily uptake'!$C$24,$A39<='daily uptake'!$C$25),$C39+G38,0)","v":0},{"$f":"IF(OR(F39<=I7,F39>I9),0,I8+(I10-I8)*(1-((I5+EXP(I6*(I4-I7)))/(I5+EXP(I6*(I4-F39))))^I5)/(1-((I5+EXP(I6*(I4-I7)))/(I5+EXP(I6*(I4-I9))))^I5))","v":0},{"$f":"IF(OR(F39<=J7,F39>J9),0,J8+(J10-J8)*(1-((J5+EXP(J6*(J4-J7)))/(J5+EXP(J6*(J4-F39))))^J5)/(1-((J5+EXP(J6*(J4-J7)))/(J5+EXP(J6*(J4-J9))))^J5))","v":0},{"$f":"IF(OR(F39<=J9,F39>100000),0,IF(F39<=K7,K8,K8+(K10-K8)*(1-((K5+EXP(K6*(K4-K7)))/(K5+EXP(K6*(K4-F39))))^K5)/(1-((K5+EXP(K6*(K4-K7)))/(K5+EXP(K6*(K4-K9))))^K5)))","v":0},0,0,11.901070645109534,0,"2010-11-28",{"$f":"MAX(L$12:L39)+MAX(M$12:M39)+MAX(N$12:N39)","v":11.901070645109534},"2010-11-28",0.4140218738242023,null,null,null,null,null,null,null,null,null,null,null,null,null,null,null,null,null,0,null,{"$f":"IF(OR(AJ39<=AM7,AJ39>AM9),0,AM8+(AM10-AM8)*(1-((AM5+EXP(AM6*(AM4-AM7)))/(AM5+EXP(AM6*(AM4-AJ39))))^AM5)/(1-((AM5+EXP(AM6*(AM4-AM7)))/(AM5+EXP(AM6*(AM4-AM9))))^AM5))","v":0},{"$f":"IF(OR(AJ39<=AN7,AJ39>AN9),0,AN8+(AN10-AN8)*(1-((AN5+EXP(AN6*(AN4-AN7)))/(AN5+EXP(AN6*(AN4-AJ39))))^AN5)/(1-((AN5+EXP(AN6*(AN4-AN7)))/(AN5+EXP(AN6*(AN4-AN9))))^AN5))","v":0},{"$f":"IF(OR(AJ39<=AN9,AJ39>100000),0,IF(AJ39<=AO7,AO8,AO8+(AO10-AO8)*(1-((AO5+EXP(AO6*(AO4-AO7)))/(AO5+EXP(AO6*(AO4-AJ39))))^AO5)/(1-((AO5+EXP(AO6*(AO4-AO7)))/(AO5+EXP(AO6*(AO4-AO9))))^AO5)))","v":0},0,0]
[29,{"$f":"'daily uptake'!F123","v":"2010-11-29"},{"$f":"5/9*'daily uptake'!Q123","v":8.3333333333333339},{"$f":"5/9*'daily uptake'!N123","v":2.2222222222222223},{"$f":"IF(AND($A40>='daily uptake'!$C$9,$A40<='daily uptake'!$C$10),$C40+E39,0)","v":324.16666666666663},{"$f":"IF(AND($A40>='daily uptake'!$C$18,$A40<='daily uptake'!$C$20),$D40+F39,0)","v":0},{"$f":"IF(AND($A40>='daily uptake'!$C$24,$A40<='daily uptake'!$C$25),$C40+G39,0)","v":0},{"$f":"IF(OR(F40<=I7,F40>I9),0,I8+(I10-I8)*(1-((I5+EXP(I6*(I4-I7)))/(I5+EXP(I6*(I4-F40))))^I5)/(1-((I5+EXP(I6*(I4-I7)))/(I5+EXP(I6*(I4-I9))))^I5))","v":0},{"$f":"IF(OR(F40<=J7,F40>J9),0,J8+(J10-J8)*(1-((J5+EXP(J6*(J4-J7)))/(J5+EXP(J6*(J4-F40))))^J5)/(1-((J5+EXP(J6*(J4-J7)))/(J5+EXP(J6*(J4-J9))))^J5))","v":0},{"$f":"IF(OR(F40<=J9,F40>100000),0,IF(F40<=K7,K8,K8+(K10-K8)*(1-((K5+EXP(K6*(K4-K7)))/(K5+EXP(K6*(K4-F40))))^K5)/(1-((K5+EXP(K6*(K4-K7)))/(K5+EXP(K6*(K4-K9))))^K5)))","v":0},0,0,12.307158661152567,0,"2010-11-29",{"$f":"MAX(L$12:L40)+MAX(M$12:M40)+MAX(N$12:N40)","v":12.307158661152567},"2010-11-29",0.40608801604303224,null,null,null,null,null,null,null,null,null,null,null,null,null,null,null,null,null,0,null,{"$f":"IF(OR(AJ40<=AM7,AJ40>AM9),0,AM8+(AM10-AM8)*(1-((AM5+EXP(AM6*(AM4-AM7)))/(AM5+EXP(AM6*(AM4-AJ40))))^AM5)/(1-((AM5+EXP(AM6*(AM4-AM7)))/(AM5+EXP(AM6*(AM4-AM9))))^AM5))","v":0},{"$f":"IF(OR(AJ40<=AN7,AJ40>AN9),0,AN8+(AN10-AN8)*(1-((AN5+EXP(AN6*(AN4-AN7)))/(AN5+EXP(AN6*(AN4-AJ40))))^AN5)/(1-((AN5+EXP(AN6*(AN4-AN7)))/(AN5+EXP(AN6*(AN4-AN9))))^AN5))","v":0},{"$f":"IF(OR(AJ40<=AN9,AJ40>100000),0,IF(AJ40<=AO7,AO8,AO8+(AO10-AO8)*(1-((AO5+EXP(AO6*(AO4-AO7)))/(AO5+EXP(AO6*(AO4-AJ40))))^AO5)/(1-((AO5+EXP(AO6*(AO4-AO7)))/(AO5+EXP(AO6*(AO4-AO9))))^AO5)))","v":0},0,0]
[30,{"$f":"'daily uptake'!F124","v":"2010-11-30"},{"$f":"5/9*'daily uptake'!Q124","v":8.6111111111111107},{"$f":"5/9*'daily uptake'!N124","v":2.5},{"$f":"IF(AND($A41>='daily uptake'!$C$9,$A41<='daily uptake'!$C$10),$C41+E40,0)","v":332.77777777777771},{"$f":"IF(AND($A41>='daily uptake'!$C$18,$A41<='daily uptake'!$C$20),$D41+F40,0)","v":0},{"$f":"IF(AND($A41>='daily uptake'!$C$24,$A41<='daily uptake'!$C$25),$C41+G40,0)","v":0},{"$f":"IF(OR(F41<=I7,F41>I9),0,I8+(I10-I8)*(1-((I5+EXP(I6*(I4-I7)))/(I5+EXP(I6*(I4-F41))))^I5)/(1-((I5+EXP(I6*(I4-I7)))/(I5+EXP(I6*(I4-I9))))^I5))","v":0},{"$f":"IF(OR(F41<=J7,F41>J9),0,J8+(J10-J8)*(1-((J5+EXP(J6*(J4-J7)))/(J5+EXP(J6*(J4-F41))))^J5)/(1-((J5+EXP(J6*(J4-J7)))/(J5+EXP(J6*(J4-J9))))^J5))","v":0},{"$f":"IF(OR(F41<=J9,F41>100000),0,IF(F41<=K7,K8,K8+(K10-K8)*(1-((K5+EXP(K6*(K4-K7)))/(K5+EXP(K6*(K4-F41))))^K5)/(1-((K5+EXP(K6*(K4-K7)))/(K5+EXP(K6*(K4-K9))))^K5)))","v":0},0,0,12.73243662326108,0,"2010-11-30",{"$f":"MAX(L$12:L41)+MAX(M$12:M41)+MAX(N$12:N41)","v":12.73243662326108},"2010-11-30",0.42527796210851321,null,null,null,null,null,null,null,null,null,null,null,null,null,null,null,null,null,0,null,{"$f":"IF(OR(AJ41<=AM7,AJ41>AM9),0,AM8+(AM10-AM8)*(1-((AM5+EXP(AM6*(AM4-AM7)))/(AM5+EXP(AM6*(AM4-AJ41))))^AM5)/(1-((AM5+EXP(AM6*(AM4-AM7)))/(AM5+EXP(AM6*(AM4-AM9))))^AM5))","v":0},{"$f":"IF(OR(AJ41<=AN7,AJ41>AN9),0,AN8+(AN10-AN8)*(1-((AN5+EXP(AN6*(AN4-AN7)))/(AN5+EXP(AN6*(AN4-AJ41))))^AN5)/(1-((AN5+EXP(AN6*(AN4-AN7)))/(AN5+EXP(AN6*(AN4-AN9))))^AN5))","v":0},{"$f":"IF(OR(AJ41<=AN9,AJ41>100000),0,IF(AJ41<=AO7,AO8,AO8+(AO10-AO8)*(1-((AO5+EXP(AO6*(AO4-AO7)))/(AO5+EXP(AO6*(AO4-AJ41))))^AO5)/(1-((AO5+EXP(AO6*(AO4-AO7)))/(AO5+EXP(AO6*(AO4-AO9))))^AO5)))","v":0},0,0]
[31,{"$f":"'daily uptake'!F125","v":"2010-12-01"},{"$f":"5/9*'daily uptake'!Q125","v":8.3333333333333339},{"$f":"5/9*'daily uptake'!N125","v":2.2222222222222223},{"$f":"IF(AND($A42>='daily uptake'!$C$9,$A42<='daily uptake'!$C$10),$C42+E41,0)","v":341.11111111111103},{"$f":"IF(AND($A42>='daily uptake'!$C$18,$A42<='daily uptake'!$C$20),$D42+F41,0)","v":0},{"$f":"IF(AND($A42>='daily uptake'!$C$24,$A42<='daily uptake'!$C$25),$C42+G41,0)","v":0},{"$f":"IF(OR(F42<=I7,F42>I9),0,I8+(I10-I8)*(1-((I5+EXP(I6*(I4-I7)))/(I5+EXP(I6*(I4-F42))))^I5)/(1-((I5+EXP(I6*(I4-I7)))/(I5+EXP(I6*(I4-I9))))^I5))","v":0},{"$f":"IF(OR(F42<=J7,F42>J9),0,J8+(J10-J8)*(1-((J5+EXP(J6*(J4-J7)))/(J5+EXP(J6*(J4-F42))))^J5)/(1-((J5+EXP(J6*(J4-J7)))/(J5+EXP(J6*(J4-J9))))^J5))","v":0},{"$f":"IF(OR(F42<=J9,F42>100000),0,IF(F42<=K7,K8,K8+(K10-K8)*(1-((K5+EXP(K6*(K4-K7)))/(K5+EXP(K6*(K4-F42))))^K5)/(1-((K5+EXP(K6*(K4-K7)))/(K5+EXP(K6*(K4-K9))))^K5)))","v":0},0,0,13.149516028828277,0,"2010-12-01",{"$f":"MAX(L$12:L42)+MAX(M$12:M42)+MAX(N$12:N42)","v":13.149516028828277},"2010-12-01",0.41707940556719691,null,null,null,null,null,null,null,null,null,null,null,null,null,null,null,null,null,0,null,{"$f":"IF(OR(AJ42<=AM7,AJ42>AM9),0,AM8+(AM10-AM8)*(1-((AM5+EXP(AM6*(AM4-AM7)))/(AM5+EXP(AM6*(AM4-AJ42))))^AM5)/(1-((AM5+EXP(AM6*(AM4-AM7)))/(AM5+EXP(AM6*(AM4-AM9))))^AM5))","v":0},{"$f":"IF(OR(AJ42<=AN7,AJ42>AN9),0,AN8+(AN10-AN8)*(1-((AN5+EXP(AN6*(AN4-AN7)))/(AN5+EXP(AN6*(AN4-AJ42))))^AN5)/(1-((AN5+EXP(AN6*(AN4-AN7)))/(AN5+EXP(AN6*(AN4-AN9))))^AN5))","v":0},{"$f":"IF(OR(AJ42<=AN9,AJ42>100000),0,IF(AJ42<=AO7,AO8,AO8+(AO10-AO8)*(1-((AO5+EXP(AO6*(AO4-AO7)))/(AO5+EXP(AO6*(AO4-AJ42))))^AO5)/(1-((AO5+EXP(AO6*(AO4-AO7)))/(AO5+EXP(AO6*(AO4-AO9))))^AO5)))","v":0},0,0]
[32,{"$f":"'daily uptake'!F126","v":"2010-12-02"},{"$f":"5/9*'daily uptake'!Q126","v":8.3333333333333339},{"$f":"5/9*'daily uptake'!N126","v":2.5},{"$f":"IF(AND($A43>='daily uptake'!$C$9,$A43<='daily uptake'!$C$10),$C43+E42,0)","v":349.44444444444434},{"$f":"IF(AND($A43>='daily uptake'!$C$18,$A43<='daily uptake'!$C$20),$D43+F42,0)","v":0},{"$f":"IF(AND($A43>='daily uptake'!$C$24,$A43<='daily uptake'!$C$25),$C43+G42,0)","v":0},{"$f":"IF(OR(F43<=I7,F43>I9),0,I8+(I10-I8)*(1-((I5+EXP(I6*(I4-I7)))/(I5+EXP(I6*(I4-F43))))^I5)/(1-((I5+EXP(I6*(I4-I7)))/(I5+EXP(I6*(I4-I9))))^I5))","v":0},{"$f":"IF(OR(F43<=J7,F43>J9),0,J8+(J10-J8)*(1-((J5+EXP(J6*(J4-J7)))/(J5+EXP(J6*(J4-F43))))^J5)/(1-((J5+EXP(J6*(J4-J7)))/(J5+EXP(J6*(J4-J9))))^J5))","v":0},{"$f":"IF(OR(F43<=J9,F43>100000),0,IF(F43<=K7,K8,K8+(K10-K8)*(1-((K5+EXP(K6*(K4-K7)))/(K5+EXP(K6*(K4-F43))))^K5)/(1-((K5+EXP(K6*(K4-K7)))/(K5+EXP(K6*(K4-K9))))^K5)))","v":0},0,0,13.572072703459254,0,"2010-12-02",{"$f":"MAX(L$12:L43)+MAX(M$12:M43)+MAX(N$12:N43)","v":13.572072703459254},"2010-12-02",0.42255667463097701,null,null,null,null,null,null,null,null,null,null,null,null,null,null,null,null,null,0,null,{"$f":"IF(OR(AJ43<=AM7,AJ43>AM9),0,AM8+(AM10-AM8)*(1-((AM5+EXP(AM6*(AM4-AM7)))/(AM5+EXP(AM6*(AM4-AJ43))))^AM5)/(1-((AM5+EXP(AM6*(AM4-AM7)))/(AM5+EXP(AM6*(AM4-AM9))))^AM5))","v":0},{"$f":"IF(OR(AJ43<=AN7,AJ43>AN9),0,AN8+(AN10-AN8)*(1-((AN5+EXP(AN6*(AN4-AN7)))/(AN5+EXP(AN6*(AN4-AJ43))))^AN5)/(1-((AN5+EXP(AN6*(AN4-AN7)))/(AN5+EXP(AN6*(AN4-AN9))))^AN5))","v":0},{"$f":"IF(OR(AJ43<=AN9,AJ43>100000),0,IF(AJ43<=AO7,AO8,AO8+(AO10-AO8)*(1-((AO5+EXP(AO6*(AO4-AO7)))/(AO5+EXP(AO6*(AO4-AJ43))))^AO5)/(1-((AO5+EXP(AO6*(AO4-AO7)))/(AO5+EXP(AO6*(AO4-AO9))))^AO5)))","v":0},0,0]
[33,{"$f":"'daily uptake'!F127","v":"2010-12-03"},{"$f":"5/9*'daily uptake'!Q127","v":8.0555555555555554},{"$f":"5/9*'daily uptake'!N127","v":1.9444444444444446},{"$f":"IF(AND($A44>='daily uptake'!$C$9,$A44<='daily uptake'!$C$10),$C44+E43,0)","v":357.49999999999989},{"$f":"IF(AND($A44>='daily uptake'!$C$18,$A44<='daily uptake'!$C$20),$D44+F43,0)","v":0},{"$f":"IF(AND($A44>='daily uptake'!$C$24,$A44<='daily uptake'!$C$25),$C44+G43,0)","v":0},{"$f":"IF(OR(F44<=I7,F44>I9),0,I8+(I10-I8)*(1-((I5+EXP(I6*(I4-I7)))/(I5+EXP(I6*(I4-F44))))^I5)/(1-((I5+EXP(I6*(I4-I7)))/(I5+EXP(I6*(I4-I9))))^I5))","v":0},{"$f":"IF(OR(F44<=J7,F44>J9),0,J8+(J10-J8)*(1-((J5+EXP(J6*(J4-J7)))/(J5+EXP(J6*(J4-F44))))^J5)/(1-((J5+EXP(J6*(J4-J7)))/(J5+EXP(J6*(J4-J9))))^J5))","v":0},{"$f":"IF(OR(F44<=J9,F44>100000),0,IF(F44<=K7,K8,K8+(K10-K8)*(1-((K5+EXP(K6*(K4-K7)))/(K5+EXP(K6*(K4-F44))))^K5)/(1-((K5+EXP(K6*(K4-K7)))/(K5+EXP(K6*(K4-K9))))^K5)))","v":0},0,0,13.985794614583483,0,"2010-12-03",{"$f":"MAX(L$12:L44)+MAX(M$12:M44)+MAX(N$12:N44)","v":13.985794614583483},"2010-12-03",0.41372191112422918,null,null,null,null,null,null,null,null,null,null,null,null,null,null,null,null,null,0,null,{"$f":"IF(OR(AJ44<=AM7,AJ44>AM9),0,AM8+(AM10-AM8)*(1-((AM5+EXP(AM6*(AM4-AM7)))/(AM5+EXP(AM6*(AM4-AJ44))))^AM5)/(1-((AM5+EXP(AM6*(AM4-AM7)))/(AM5+EXP(AM6*(AM4-AM9))))^AM5))","v":0},{"$f":"IF(OR(AJ44<=AN7,AJ44>AN9),0,AN8+(AN10-AN8)*(1-((AN5+EXP(AN6*(AN4-AN7)))/(AN5+EXP(AN6*(AN4-AJ44))))^AN5)/(1-((AN5+EXP(AN6*(AN4-AN7)))/(AN5+EXP(AN6*(AN4-AN9))))^AN5))","v":0},{"$f":"IF(OR(AJ44<=AN9,AJ44>100000),0,IF(AJ44<=AO7,AO8,AO8+(AO10-AO8)*(1-((AO5+EXP(AO6*(AO4-AO7)))/(AO5+EXP(AO6*(AO4-AJ44))))^AO5)/(1-((AO5+EXP(AO6*(AO4-AO7)))/(AO5+EXP(AO6*(AO4-AO9))))^AO5)))","v":0},0,0]
[34,{"$f":"'daily uptake'!F128","v":"2010-12-04"},{"$f":"5/9*'daily uptake'!Q128","v":8.3333333333333339},{"$f":"5/9*'daily uptake'!N128","v":2.2222222222222223},{"$f":"IF(AND($A45>='daily uptake'!$C$9,$A45<='daily uptake'!$C$10),$C45+E44,0)","v":365.8333333333332},{"$f":"IF(AND($A45>='daily uptake'!$C$18,$A45<='daily uptake'!$C$20),$D45+F44,0)","v":0},{"$f":"IF(AND($A45>='daily uptake'!$C$24,$A45<='daily uptake'!$C$25),$C45+G44,0)","v":0},{"$f":"IF(OR(F45<=I7,F45>I9),0,I8+(I10-I8)*(1-((I5+EXP(I6*(I4-I7)))/(I5+EXP(I6*(I4-F45))))^I5)/(1-((I5+EXP(I6*(I4-I7)))/(I5+EXP(I6*(I4-I9))))^I5))","v":0},{"$f":"IF(OR(F45<=J7,F45>J9),0,J8+(J10-J8)*(1-((J5+EXP(J6*(J4-J7)))/(J5+EXP(J6*(J4-F45))))^J5)/(1-((J5+EXP(J6*(J4-J7)))/(J5+EXP(J6*(J4-J9))))^J5))","v":0},{"$f":"IF(OR(F45<=J9,F45>100000),0,IF(F45<=K7,K8,K8+(K10-K8)*(1-((K5+EXP(K6*(K4-K7)))/(K5+EXP(K6*(K4-F45))))^K5)/(1-((K5+EXP(K6*(K4-K7)))/(K5+EXP(K6*(K4-K9))))^K5)))","v":0},0,0,14.419259490573319,0,"2010-12-04",{"$f":"MAX(L$12:L45)+MAX(M$12:M45)+MAX(N$12:N45)","v":14.419259490573319},"2010-12-04",0.43346487598983607,null,null,null,null,null,null,null,null,null,null,null,null,null,null,null,null,null,0,null,{"$f":"IF(OR(AJ45<=AM7,AJ45>AM9),0,AM8+(AM10-AM8)*(1-((AM5+EXP(AM6*(AM4-AM7)))/(AM5+EXP(AM6*(AM4-AJ45))))^AM5)/(1-((AM5+EXP(AM6*(AM4-AM7)))/(AM5+EXP(AM6*(AM4-AM9))))^AM5))","v":0},{"$f":"IF(OR(AJ45<=AN7,AJ45>AN9),0,AN8+(AN10-AN8)*(1-((AN5+EXP(AN6*(AN4-AN7)))/(AN5+EXP(AN6*(AN4-AJ45))))^AN5)/(1-((AN5+EXP(AN6*(AN4-AN7)))/(AN5+EXP(AN6*(AN4-AN9))))^AN5))","v":0},{"$f":"IF(OR(AJ45<=AN9,AJ45>100000),0,IF(AJ45<=AO7,AO8,AO8+(AO10-AO8)*(1-((AO5+EXP(AO6*(AO4-AO7)))/(AO5+EXP(AO6*(AO4-AJ45))))^AO5)/(1-((AO5+EXP(AO6*(AO4-AO7)))/(AO5+EXP(AO6*(AO4-AO9))))^AO5)))","v":0},0,0]
[35,{"$f":"'daily uptake'!F129","v":"2010-12-05"},{"$f":"5/9*'daily uptake'!Q129","v":8.3333333333333339},{"$f":"5/9*'daily uptake'!N129","v":1.9444444444444446},{"$f":"IF(AND($A46>='daily uptake'!$C$9,$A46<='daily uptake'!$C$10),$C46+E45,0)","v":374.16666666666652},{"$f":"IF(AND($A46>='daily uptake'!$C$18,$A46<='daily uptake'!$C$20),$D46+F45,0)","v":0},{"$f":"IF(AND($A46>='daily uptake'!$C$24,$A46<='daily uptake'!$C$25),$C46+G45,0)","v":0},{"$f":"IF(OR(F46<=I7,F46>I9),0,I8+(I10-I8)*(1-((I5+EXP(I6*(I4-I7)))/(I5+EXP(I6*(I4-F46))))^I5)/(1-((I5+EXP(I6*(I4-I7)))/(I5+EXP(I6*(I4-I9))))^I5))","v":0},{"$f":"IF(OR(F46<=J7,F46>J9),0,J8+(J10-J8)*(1-((J5+EXP(J6*(J4-J7)))/(J5+EXP(J6*(J4-F46))))^J5)/(1-((J5+EXP(J6*(J4-J7)))/(J5+EXP(J6*(J4-J9))))^J5))","v":0},{"$f":"IF(OR(F46<=J9,F46>100000),0,IF(F46<=K7,K8,K8+(K10-K8)*(1-((K5+EXP(K6*(K4-K7)))/(K5+EXP(K6*(K4-F46))))^K5)/(1-((K5+EXP(K6*(K4-K7)))/(K5+EXP(K6*(K4-K9))))^K5)))","v":0},0,0,14.858339454575765,0,"2010-12-05",{"$f":"MAX(L$12:L46)+MAX(M$12:M46)+MAX(N$12:N46)","v":14.858339454575765},"2010-12-05",0.43907996400244542,null,null,null,null,null,null,null,null,null,null,null,null,null,null,null,null,null,0,null,{"$f":"IF(OR(AJ46<=AM7,AJ46>AM9),0,AM8+(AM10-AM8)*(1-((AM5+EXP(AM6*(AM4-AM7)))/(AM5+EXP(AM6*(AM4-AJ46))))^AM5)/(1-((AM5+EXP(AM6*(AM4-AM7)))/(AM5+EXP(AM6*(AM4-AM9))))^AM5))","v":0},{"$f":"IF(OR(AJ46<=AN7,AJ46>AN9),0,AN8+(AN10-AN8)*(1-((AN5+EXP(AN6*(AN4-AN7)))/(AN5+EXP(AN6*(AN4-AJ46))))^AN5)/(1-((AN5+EXP(AN6*(AN4-AN7)))/(AN5+EXP(AN6*(AN4-AN9))))^AN5))","v":0},{"$f":"IF(OR(AJ46<=AN9,AJ46>100000),0,IF(AJ46<=AO7,AO8,AO8+(AO10-AO8)*(1-((AO5+EXP(AO6*(AO4-AO7)))/(AO5+EXP(AO6*(AO4-AJ46))))^AO5)/(1-((AO5+EXP(AO6*(AO4-AO7)))/(AO5+EXP(AO6*(AO4-AO9))))^AO5)))","v":0},0,0]
[36,{"$f":"'daily uptake'!F130","v":"2010-12-06"},{"$f":"5/9*'daily uptake'!Q130","v":8.3333333333333339},{"$f":"5/9*'daily uptake'!N130","v":1.9444444444444446},{"$f":"IF(AND($A47>='daily uptake'!$C$9,$A47<='daily uptake'!$C$10),$C47+E46,0)","v":382.49999999999983},{"$f":"IF(AND($A47>='daily uptake'!$C$18,$A47<='daily uptake'!$C$20),$D47+F46,0)","v":0},{"$f":"IF(AND($A47>='daily uptake'!$C$24,$A47<='daily uptake'!$C$25),$C47+G46,0)","v":0},{"$f":"IF(OR(F47<=I7,F47>I9),0,I8+(I10-I8)*(1-((I5+EXP(I6*(I4-I7)))/(I5+EXP(I6*(I4-F47))))^I5)/(1-((I5+EXP(I6*(I4-I7)))/(I5+EXP(I6*(I4-I9))))^I5))","v":0},{"$f":"IF(OR(F47<=J7,F47>J9),0,J8+(J10-J8)*(1-((J5+EXP(J6*(J4-J7)))/(J5+EXP(J6*(J4-F47))))^J5)/(1-((J5+EXP(J6*(J4-J7)))/(J5+EXP(J6*(J4-J9))))^J5))","v":0},{"$f":"IF(OR(F47<=J9,F47>100000),0,IF(F47<=K7,K8,K8+(K10-K8)*(1-((K5+EXP(K6*(K4-K7)))/(K5+EXP(K6*(K4-F47))))^K5)/(1-((K5+EXP(K6*(K4-K7)))/(K5+EXP(K6*(K4-K9))))^K5)))","v":0},0,0,15.303080179446381,0,"2010-12-06",{"$f":"MAX(L$12:L47)+MAX(M$12:M47)+MAX(N$12:N47)","v":15.303080179446381},"2010-12-06",0.44474072487061633,null,null,null,null,null,null,null,null,null,null,null,null,null,null,null,null,null,0,null,{"$f":"IF(OR(AJ47<=AM7,AJ47>AM9),0,AM8+(AM10-AM8)*(1-((AM5+EXP(AM6*(AM4-AM7)))/(AM5+EXP(AM6*(AM4-AJ47))))^AM5)/(1-((AM5+EXP(AM6*(AM4-AM7)))/(AM5+EXP(AM6*(AM4-AM9))))^AM5))","v":0},{"$f":"IF(OR(AJ47<=AN7,AJ47>AN9),0,AN8+(AN10-AN8)*(1-((AN5+EXP(AN6*(AN4-AN7)))/(AN5+EXP(AN6*(AN4-AJ47))))^AN5)/(1-((AN5+EXP(AN6*(AN4-AN7)))/(AN5+EXP(AN6*(AN4-AN9))))^AN5))","v":0},{"$f":"IF(OR(AJ47<=AN9,AJ47>100000),0,IF(AJ47<=AO7,AO8,AO8+(AO10-AO8)*(1-((AO5+EXP(AO6*(AO4-AO7)))/(AO5+EXP(AO6*(AO4-AJ47))))^AO5)/(1-((AO5+EXP(AO6*(AO4-AO7)))/(AO5+EXP(AO6*(AO4-AO9))))^AO5)))","v":0},0,0]
[37,{"$f":"'daily uptake'!F131","v":"2010-12-07"},{"$f":"5/9*'daily uptake'!Q131","v":8.6111111111111107},{"$f":"5/9*'daily uptake'!N131","v":1.9444444444444446},{"$f":"IF(AND($A48>='daily uptake'!$C$9,$A48<='daily uptake'!$C$10),$C48+E47,0)","v":391.11111111111092},{"$f":"IF(AND($A48>='daily uptake'!$C$18,$A48<='daily uptake'!$C$20),$D48+F47,0)","v":0},{"$f":"IF(AND($A48>='daily uptake'!$C$24,$A48<='daily uptake'!$C$25),$C48+G47,0)","v":0},{"$f":"IF(OR(F48<=I7,F48>I9),0,I8+(I10-I8)*(1-((I5+EXP(I6*(I4-I7)))/(I5+EXP(I6*(I4-F48))))^I5)/(1-((I5+EXP(I6*(I4-I7)))/(I5+EXP(I6*(I4-I9))))^I5))","v":0},{"$f":"IF(OR(F48<=J7,F48>J9),0,J8+(J10-J8)*(1-((J5+EXP(J6*(J4-J7)))/(J5+EXP(J6*(J4-F48))))^J5)/(1-((J5+EXP(J6*(J4-J7)))/(J5+EXP(J6*(J4-J9))))^J5))","v":0},{"$f":"IF(OR(F48<=J9,F48>100000),0,IF(F48<=K7,K8,K8+(K10-K8)*(1-((K5+EXP(K6*(K4-K7)))/(K5+EXP(K6*(K4-F48))))^K5)/(1-((K5+EXP(K6*(K4-K7)))/(K5+EXP(K6*(K4-K9))))^K5)))","v":0},0,0,15.768640580635626,0,"2010-12-07",{"$f":"MAX(L$12:L48)+MAX(M$12:M48)+MAX(N$12:N48)","v":15.768640580635626},"2010-12-07",0.46556040118924535,null,null,null,null,null,null,null,null,null,null,null,null,null,null,null,null,null,0,null,{"$f":"IF(OR(AJ48<=AM7,AJ48>AM9),0,AM8+(AM10-AM8)*(1-((AM5+EXP(AM6*(AM4-AM7)))/(AM5+EXP(AM6*(AM4-AJ48))))^AM5)/(1-((AM5+EXP(AM6*(AM4-AM7)))/(AM5+EXP(AM6*(AM4-AM9))))^AM5))","v":0},{"$f":"IF(OR(AJ48<=AN7,AJ48>AN9),0,AN8+(AN10-AN8)*(1-((AN5+EXP(AN6*(AN4-AN7)))/(AN5+EXP(AN6*(AN4-AJ48))))^AN5)/(1-((AN5+EXP(AN6*(AN4-AN7)))/(AN5+EXP(AN6*(AN4-AN9))))^AN5))","v":0},{"$f":"IF(OR(AJ48<=AN9,AJ48>100000),0,IF(AJ48<=AO7,AO8,AO8+(AO10-AO8)*(1-((AO5+EXP(AO6*(AO4-AO7)))/(AO5+EXP(AO6*(AO4-AJ48))))^AO5)/(1-((AO5+EXP(AO6*(AO4-AO7)))/(AO5+EXP(AO6*(AO4-AO9))))^AO5)))","v":0},0,0]
[38,{"$f":"'daily uptake'!F132","v":"2010-12-08"},{"$f":"5/9*'daily uptake'!Q132","v":7.7777777777777786},{"$f":"5/9*'daily uptake'!N132","v":1.9444444444444446},{"$f":"IF(AND($A49>='daily uptake'!$C$9,$A49<='daily uptake'!$C$10),$C49+E48,0)","v":398.88888888888869},{"$f":"IF(AND($A49>='daily uptake'!$C$18,$A49<='daily uptake'!$C$20),$D49+F48,0)","v":0},{"$f":"IF(AND($A49>='daily uptake'!$C$24,$A49<='daily uptake'!$C$25),$C49+G48,0)","v":0},{"$f":"IF(OR(F49<=I7,F49>I9),0,I8+(I10-I8)*(1-((I5+EXP(I6*(I4-I7)))/(I5+EXP(I6*(I4-F49))))^I5)/(1-((I5+EXP(I6*(I4-I7)))/(I5+EXP(I6*(I4-I9))))^I5))","v":0},{"$f":"IF(OR(F49<=J7,F49>J9),0,J8+(J10-J8)*(1-((J5+EXP(J6*(J4-J7)))/(J5+EXP(J6*(J4-F49))))^J5)/(1-((J5+EXP(J6*(J4-J7)))/(J5+EXP(J6*(J4-J9))))^J5))","v":0},{"$f":"IF(OR(F49<=J9,F49>100000),0,IF(F49<=K7,K8,K8+(K10-K8)*(1-((K5+EXP(K6*(K4-K7)))/(K5+EXP(K6*(K4-F49))))^K5)/(1-((K5+EXP(K6*(K4-K7)))/(K5+EXP(K6*(K4-K9))))^K5)))","v":0},0,0,16.194424663431015,0,"2010-12-08",{"$f":"MAX(L$12:L49)+MAX(M$12:M49)+MAX(N$12:N49)","v":16.194424663431015},"2010-12-08",0.42578408279538849,null,null,null,null,null,null,null,null,null,null,null,null,null,null,null,null,null,0,null,{"$f":"IF(OR(AJ49<=AM7,AJ49>AM9),0,AM8+(AM10-AM8)*(1-((AM5+EXP(AM6*(AM4-AM7)))/(AM5+EXP(AM6*(AM4-AJ49))))^AM5)/(1-((AM5+EXP(AM6*(AM4-AM7)))/(AM5+EXP(AM6*(AM4-AM9))))^AM5))","v":0},{"$f":"IF(OR(AJ49<=AN7,AJ49>AN9),0,AN8+(AN10-AN8)*(1-((AN5+EXP(AN6*(AN4-AN7)))/(AN5+EXP(AN6*(AN4-AJ49))))^AN5)/(1-((AN5+EXP(AN6*(AN4-AN7)))/(AN5+EXP(AN6*(AN4-AN9))))^AN5))","v":0},{"$f":"IF(OR(AJ49<=AN9,AJ49>100000),0,IF(AJ49<=AO7,AO8,AO8+(AO10-AO8)*(1-((AO5+EXP(AO6*(AO4-AO7)))/(AO5+EXP(AO6*(AO4-AJ49))))^AO5)/(1-((AO5+EXP(AO6*(AO4-AO7)))/(AO5+EXP(AO6*(AO4-AO9))))^AO5)))","v":0},0,0]
[39,{"$f":"'daily uptake'!F133","v":"2010-12-09"},{"$f":"5/9*'daily uptake'!Q133","v":8.0555555555555554},{"$f":"5/9*'daily uptake'!N133","v":1.9444444444444446},{"$f":"IF(AND($A50>='daily uptake'!$C$9,$A50<='daily uptake'!$C$10),$C50+E49,0)","v":406.94444444444423},{"$f":"IF(AND($A50>='daily uptake'!$C$18,$A50<='daily uptake'!$C$20),$D50+F49,0)","v":0},{"$f":"IF(AND($A50>='daily uptake'!$C$24,$A50<='daily uptake'!$C$25),$C50+G49,0)","v":0},{"$f":"IF(OR(F50<=I7,F50>I9),0,I8+(I10-I8)*(1-((I5+EXP(I6*(I4-I7)))/(I5+EXP(I6*(I4-F50))))^I5)/(1-((I5+EXP(I6*(I4-I7)))/(I5+EXP(I6*(I4-I9))))^I5))","v":0},{"$f":"IF(OR(F50<=J7,F50>J9),0,J8+(J10-J8)*(1-((J5+EXP(J6*(J4-J7)))/(J5+EXP(J6*(J4-F50))))^J5)/(1-((J5+EXP(J6*(J4-J7)))/(J5+EXP(J6*(J4-J9))))^J5))","v":0},{"$f":"IF(OR(F50<=J9,F50>100000),0,IF(F50<=K7,K8,K8+(K10-K8)*(1-((K5+EXP(K6*(K4-K7)))/(K5+EXP(K6*(K4-F50))))^K5)/(1-((K5+EXP(K6*(K4-K7)))/(K5+EXP(K6*(K4-K9))))^K5)))","v":0},0,0,16.640736179405938,0,"2010-12-09",{"$f":"MAX(L$12:L50)+MAX(M$12:M50)+MAX(N$12:N50)","v":16.640736179405938},"2010-12-09",0.44631151597492291,null,null,null,null,null,null,null,null,null,null,null,null,null,null,null,null,null,0,null,{"$f":"IF(OR(AJ50<=AM7,AJ50>AM9),0,AM8+(AM10-AM8)*(1-((AM5+EXP(AM6*(AM4-AM7)))/(AM5+EXP(AM6*(AM4-AJ50))))^AM5)/(1-((AM5+EXP(AM6*(AM4-AM7)))/(AM5+EXP(AM6*(AM4-AM9))))^AM5))","v":0},{"$f":"IF(OR(AJ50<=AN7,AJ50>AN9),0,AN8+(AN10-AN8)*(1-((AN5+EXP(AN6*(AN4-AN7)))/(AN5+EXP(AN6*(AN4-AJ50))))^AN5)/(1-((AN5+EXP(AN6*(AN4-AN7)))/(AN5+EXP(AN6*(AN4-AN9))))^AN5))","v":0},{"$f":"IF(OR(AJ50<=AN9,AJ50>100000),0,IF(AJ50<=AO7,AO8,AO8+(AO10-AO8)*(1-((AO5+EXP(AO6*(AO4-AO7)))/(AO5+EXP(AO6*(AO4-AJ50))))^AO5)/(1-((AO5+EXP(AO6*(AO4-AO7)))/(AO5+EXP(AO6*(AO4-AO9))))^AO5)))","v":0},0,0]
[40,{"$f":"'daily uptake'!F134","v":"2010-12-10"},{"$f":"5/9*'daily uptake'!Q134","v":8.3333333333333339},{"$f":"5/9*'daily uptake'!N134","v":1.9444444444444446},{"$f":"IF(AND($A51>='daily uptake'!$C$9,$A51<='daily uptake'!$C$10),$C51+E50,0)","v":415.27777777777754},{"$f":"IF(AND($A51>='daily uptake'!$C$18,$A51<='daily uptake'!$C$20),$D51+F50,0)","v":0},{"$f":"IF(AND($A51>='daily uptake'!$C$24,$A51<='daily uptake'!$C$25),$C51+G50,0)","v":0},{"$f":"IF(OR(F51<=I7,F51>I9),0,I8+(I10-I8)*(1-((I5+EXP(I6*(I4-I7)))/(I5+EXP(I6*(I4-F51))))^I5)/(1-((I5+EXP(I6*(I4-I7)))/(I5+EXP(I6*(I4-I9))))^I5))","v":0},{"$f":"IF(OR(F51<=J7,F51>J9),0,J8+(J10-J8)*(1-((J5+EXP(J6*(J4-J7)))/(J5+EXP(J6*(J4-F51))))^J5)/(1-((J5+EXP(J6*(J4-J7)))/(J5+EXP(J6*(J4-J9))))^J5))","v":0},{"$f":"IF(OR(F51<=J9,F51>100000),0,IF(F51<=K7,K8,K8+(K10-K8)*(1-((K5+EXP(K6*(K4-K7)))/(K5+EXP(K6*(K4-F51))))^K5)/(1-((K5+EXP(K6*(K4-K7)))/(K5+EXP(K6*(K4-K9))))^K5)))","v":0},0,0,17.10817680349119,0,"2010-12-10",{"$f":"MAX(L$12:L51)+MAX(M$12:M51)+MAX(N$12:N51)","v":17.10817680349119},"2010-12-10",0.46744062408525267,null,null,null,null,null,null,null,null,null,null,null,null,null,null,null,null,null,0,null,{"$f":"IF(OR(AJ51<=AM7,AJ51>AM9),0,AM8+(AM10-AM8)*(1-((AM5+EXP(AM6*(AM4-AM7)))/(AM5+EXP(AM6*(AM4-AJ51))))^AM5)/(1-((AM5+EXP(AM6*(AM4-AM7)))/(AM5+EXP(AM6*(AM4-AM9))))^AM5))","v":0},{"$f":"IF(OR(AJ51<=AN7,AJ51>AN9),0,AN8+(AN10-AN8)*(1-((AN5+EXP(AN6*(AN4-AN7)))/(AN5+EXP(AN6*(AN4-AJ51))))^AN5)/(1-((AN5+EXP(AN6*(AN4-AN7)))/(AN5+EXP(AN6*(AN4-AN9))))^AN5))","v":0},{"$f":"IF(OR(AJ51<=AN9,AJ51>100000),0,IF(AJ51<=AO7,AO8,AO8+(AO10-AO8)*(1-((AO5+EXP(AO6*(AO4-AO7)))/(AO5+EXP(AO6*(AO4-AJ51))))^AO5)/(1-((AO5+EXP(AO6*(AO4-AO7)))/(AO5+EXP(AO6*(AO4-AO9))))^AO5)))","v":0},0,0]
[41,{"$f":"'daily uptake'!F135","v":"2010-12-11"},{"$f":"5/9*'daily uptake'!Q135","v":7.7777777777777786},{"$f":"5/9*'daily uptake'!N135","v":1.3888888888888888},{"$f":"IF(AND($A52>='daily uptake'!$C$9,$A52<='daily uptake'!$C$10),$C52+E51,0)","v":423.05555555555532},{"$f":"IF(AND($A52>='daily uptake'!$C$18,$A52<='daily uptake'!$C$20),$D52+F51,0)","v":0},{"$f":"IF(AND($A52>='daily uptake'!$C$24,$A52<='daily uptake'!$C$25),$C52+G51,0)","v":0},{"$f":"IF(OR(F52<=I7,F52>I9),0,I8+(I10-I8)*(1-((I5+EXP(I6*(I4-I7)))/(I5+EXP(I6*(I4-F52))))^I5)/(1-((I5+EXP(I6*(I4-I7)))/(I5+EXP(I6*(I4-I9))))^I5))","v":0},{"$f":"IF(OR(F52<=J7,F52>J9),0,J8+(J10-J8)*(1-((J5+EXP(J6*(J4-J7)))/(J5+EXP(J6*(J4-F52))))^J5)/(1-((J5+EXP(J6*(J4-J7)))/(J5+EXP(J6*(J4-J9))))^J5))","v":0},{"$f":"IF(OR(F52<=J9,F52>100000),0,IF(F52<=K7,K8,K8+(K10-K8)*(1-((K5+EXP(K6*(K4-K7)))/(K5+EXP(K6*(K4-F52))))^K5)/(1-((K5+EXP(K6*(K4-K7)))/(K5+EXP(K6*(K4-K9))))^K5)))","v":0},0,0,17.549758070687258,0,"2010-12-11",{"$f":"MAX(L$12:L52)+MAX(M$12:M52)+MAX(N$12:N52)","v":17.549758070687258},"2010-12-11",0.44158126719606727,null,null,null,null,null,null,null,null,null,null,null,null,null,null,null,null,null,0,null,{"$f":"IF(OR(AJ52<=AM7,AJ52>AM9),0,AM8+(AM10-AM8)*(1-((AM5+EXP(AM6*(AM4-AM7)))/(AM5+EXP(AM6*(AM4-AJ52))))^AM5)/(1-((AM5+EXP(AM6*(AM4-AM7)))/(AM5+EXP(AM6*(AM4-AM9))))^AM5))","v":0},{"$f":"IF(OR(AJ52<=AN7,AJ52>AN9),0,AN8+(AN10-AN8)*(1-((AN5+EXP(AN6*(AN4-AN7)))/(AN5+EXP(AN6*(AN4-AJ52))))^AN5)/(1-((AN5+EXP(AN6*(AN4-AN7)))/(AN5+EXP(AN6*(AN4-AN9))))^AN5))","v":0},{"$f":"IF(OR(AJ52<=AN9,AJ52>100000),0,IF(AJ52<=AO7,AO8,AO8+(AO10-AO8)*(1-((AO5+EXP(AO6*(AO4-AO7)))/(AO5+EXP(AO6*(AO4-AJ52))))^AO5)/(1-((AO5+EXP(AO6*(AO4-AO7)))/(AO5+EXP(AO6*(AO4-AO9))))^AO5)))","v":0},0,0]
[42,{"$f":"'daily uptake'!F136","v":"2010-12-12"},{"$f":"5/9*'daily uptake'!Q136","v":8.0555555555555554},{"$f":"5/9*'daily uptake'!N136","v":1.3888888888888888},{"$f":"IF(AND($A53>='daily uptake'!$C$9,$A53<='daily uptake'!$C$10),$C53+E52,0)","v":431.11111111111086},{"$f":"IF(AND($A53>='daily uptake'!$C$18,$A53<='daily uptake'!$C$20),$D53+F52,0)","v":0},{"$f":"IF(AND($A53>='daily uptake'!$C$24,$A53<='daily uptake'!$C$25),$C53+G52,0)","v":0},{"$f":"IF(OR(F53<=I7,F53>I9),0,I8+(I10-I8)*(1-((I5+EXP(I6*(I4-I7)))/(I5+EXP(I6*(I4-F53))))^I5)/(1-((I5+EXP(I6*(I4-I7)))/(I5+EXP(I6*(I4-I9))))^I5))","v":0},{"$f":"IF(OR(F53<=J7,F53>J9),0,J8+(J10-J8)*(1-((J5+EXP(J6*(J4-J7)))/(J5+EXP(J6*(J4-F53))))^J5)/(1-((J5+EXP(J6*(J4-J7)))/(J5+EXP(J6*(J4-J9))))^J5))","v":0},{"$f":"IF(OR(F53<=J9,F53>100000),0,IF(F53<=K7,K8,K8+(K10-K8)*(1-((K5+EXP(K6*(K4-K7)))/(K5+EXP(K6*(K4-F53))))^K5)/(1-((K5+EXP(K6*(K4-K7)))/(K5+EXP(K6*(K4-K9))))^K5)))","v":0},0,0,18.012546005130194,0,"2010-12-12",{"$f":"MAX(L$12:L53)+MAX(M$12:M53)+MAX(N$12:N53)","v":18.012546005130194},"2010-12-12",0.46278793444293598,null,null,null,null,null,null,null,null,null,null,null,null,null,null,null,null,null,0,null,{"$f":"IF(OR(AJ53<=AM7,AJ53>AM9),0,AM8+(AM10-AM8)*(1-((AM5+EXP(AM6*(AM4-AM7)))/(AM5+EXP(AM6*(AM4-AJ53))))^AM5)/(1-((AM5+EXP(AM6*(AM4-AM7)))/(AM5+EXP(AM6*(AM4-AM9))))^AM5))","v":0},{"$f":"IF(OR(AJ53<=AN7,AJ53>AN9),0,AN8+(AN10-AN8)*(1-((AN5+EXP(AN6*(AN4-AN7)))/(AN5+EXP(AN6*(AN4-AJ53))))^AN5)/(1-((AN5+EXP(AN6*(AN4-AN7)))/(AN5+EXP(AN6*(AN4-AN9))))^AN5))","v":0},{"$f":"IF(OR(AJ53<=AN9,AJ53>100000),0,IF(AJ53<=AO7,AO8,AO8+(AO10-AO8)*(1-((AO5+EXP(AO6*(AO4-AO7)))/(AO5+EXP(AO6*(AO4-AJ53))))^AO5)/(1-((AO5+EXP(AO6*(AO4-AO7)))/(AO5+EXP(AO6*(AO4-AO9))))^AO5)))","v":0},0,0]
[43,{"$f":"'daily uptake'!F137","v":"2010-12-13"},{"$f":"5/9*'daily uptake'!Q137","v":8.8888888888888893},{"$f":"5/9*'daily uptake'!N137","v":2.2222222222222223},{"$f":"IF(AND($A54>='daily uptake'!$C$9,$A54<='daily uptake'!$C$10),$C54+E53,0)","v":439.99999999999977},{"$f":"IF(AND($A54>='daily uptake'!$C$18,$A54<='daily uptake'!$C$20),$D54+F53,0)","v":0},{"$f":"IF(AND($A54>='daily uptake'!$C$24,$A54<='daily uptake'!$C$25),$C54+G53,0)","v":0},{"$f":"IF(OR(F54<=I7,F54>I9),0,I8+(I10-I8)*(1-((I5+EXP(I6*(I4-I7)))/(I5+EXP(I6*(I4-F54))))^I5)/(1-((I5+EXP(I6*(I4-I7)))/(I5+EXP(I6*(I4-I9))))^I5))","v":0},{"$f":"IF(OR(F54<=J7,F54>J9),0,J8+(J10-J8)*(1-((J5+EXP(J6*(J4-J7)))/(J5+EXP(J6*(J4-F54))))^J5)/(1-((J5+EXP(J6*(J4-J7)))/(J5+EXP(J6*(J4-J9))))^J5))","v":0},{"$f":"IF(OR(F54<=J9,F54>100000),0,IF(F54<=K7,K8,K8+(K10-K8)*(1-((K5+EXP(K6*(K4-K7)))/(K5+EXP(K6*(K4-F54))))^K5)/(1-((K5+EXP(K6*(K4-K7)))/(K5+EXP(K6*(K4-K9))))^K5)))","v":0},0,0,18.529672793917239,0,"2010-12-13",{"$f":"MAX(L$12:L54)+MAX(M$12:M54)+MAX(N$12:N54)","v":18.529672793917239},"2010-12-13",0.51712678878704565,null,null,null,null,null,null,null,null,null,null,null,null,null,null,null,null,null,0,null,{"$f":"IF(OR(AJ54<=AM7,AJ54>AM9),0,AM8+(AM10-AM8)*(1-((AM5+EXP(AM6*(AM4-AM7)))/(AM5+EXP(AM6*(AM4-AJ54))))^AM5)/(1-((AM5+EXP(AM6*(AM4-AM7)))/(AM5+EXP(AM6*(AM4-AM9))))^AM5))","v":0},{"$f":"IF(OR(AJ54<=AN7,AJ54>AN9),0,AN8+(AN10-AN8)*(1-((AN5+EXP(AN6*(AN4-AN7)))/(AN5+EXP(AN6*(AN4-AJ54))))^AN5)/(1-((AN5+EXP(AN6*(AN4-AN7)))/(AN5+EXP(AN6*(AN4-AN9))))^AN5))","v":0},{"$f":"IF(OR(AJ54<=AN9,AJ54>100000),0,IF(AJ54<=AO7,AO8,AO8+(AO10-AO8)*(1-((AO5+EXP(AO6*(AO4-AO7)))/(AO5+EXP(AO6*(AO4-AJ54))))^AO5)/(1-((AO5+EXP(AO6*(AO4-AO7)))/(AO5+EXP(AO6*(AO4-AO9))))^AO5)))","v":0},0,0]
[44,{"$f":"'daily uptake'!F138","v":"2010-12-14"},{"$f":"5/9*'daily uptake'!Q138","v":8.0555555555555554},{"$f":"5/9*'daily uptake'!N138","v":1.3888888888888888},{"$f":"IF(AND($A55>='daily uptake'!$C$9,$A55<='daily uptake'!$C$10),$C55+E54,0)","v":448.05555555555532},{"$f":"IF(AND($A55>='daily uptake'!$C$18,$A55<='daily uptake'!$C$20),$D55+F54,0)","v":0},{"$f":"IF(AND($A55>='daily uptake'!$C$24,$A55<='daily uptake'!$C$25),$C55+G54,0)","v":0},{"$f":"IF(OR(F55<=I7,F55>I9),0,I8+(I10-I8)*(1-((I5+EXP(I6*(I4-I7)))/(I5+EXP(I6*(I4-F55))))^I5)/(1-((I5+EXP(I6*(I4-I7)))/(I5+EXP(I6*(I4-I9))))^I5))","v":0},{"$f":"IF(OR(F55<=J7,F55>J9),0,J8+(J10-J8)*(1-((J5+EXP(J6*(J4-J7)))/(J5+EXP(J6*(J4-F55))))^J5)/(1-((J5+EXP(J6*(J4-J7)))/(J5+EXP(J6*(J4-J9))))^J5))","v":0},{"$f":"IF(OR(F55<=J9,F55>100000),0,IF(F55<=K7,K8,K8+(K10-K8)*(1-((K5+EXP(K6*(K4-K7)))/(K5+EXP(K6*(K4-F55))))^K5)/(1-((K5+EXP(K6*(K4-K7)))/(K5+EXP(K6*(K4-K9))))^K5)))","v":0},0,0,19.004217835526283,0,"2010-12-14",{"$f":"MAX(L$12:L55)+MAX(M$12:M55)+MAX(N$12:N55)","v":19.004217835526283},"2010-12-14",0.4745450416090442,null,null,null,null,null,null,null,null,null,null,null,null,null,null,null,null,null,0,null,{"$f":"IF(OR(AJ55<=AM7,AJ55>AM9),0,AM8+(AM10-AM8)*(1-((AM5+EXP(AM6*(AM4-AM7)))/(AM5+EXP(AM6*(AM4-AJ55))))^AM5)/(1-((AM5+EXP(AM6*(AM4-AM7)))/(AM5+EXP(AM6*(AM4-AM9))))^AM5))","v":0},{"$f":"IF(OR(AJ55<=AN7,AJ55>AN9),0,AN8+(AN10-AN8)*(1-((AN5+EXP(AN6*(AN4-AN7)))/(AN5+EXP(AN6*(AN4-AJ55))))^AN5)/(1-((AN5+EXP(AN6*(AN4-AN7)))/(AN5+EXP(AN6*(AN4-AN9))))^AN5))","v":0},{"$f":"IF(OR(AJ55<=AN9,AJ55>100000),0,IF(AJ55<=AO7,AO8,AO8+(AO10-AO8)*(1-((AO5+EXP(AO6*(AO4-AO7)))/(AO5+EXP(AO6*(AO4-AJ55))))^AO5)/(1-((AO5+EXP(AO6*(AO4-AO7)))/(AO5+EXP(AO6*(AO4-AO9))))^AO5)))","v":0},0,0]
[45,{"$f":"'daily uptake'!F139","v":"2010-12-15"},{"$f":"5/9*'daily uptake'!Q139","v":7.7777777777777786},{"$f":"5/9*'daily uptake'!N139","v":1.3888888888888888},{"$f":"IF(AND($A56>='daily uptake'!$C$9,$A56<='daily uptake'!$C$10),$C56+E55,0)","v":455.83333333333309},{"$f":"IF(AND($A56>='daily uptake'!$C$18,$A56<='daily uptake'!$C$20),$D56+F55,0)","v":0},{"$f":"IF(AND($A56>='daily uptake'!$C$24,$A56<='daily uptake'!$C$25),$C56+G55,0)","v":0},{"$f":"IF(OR(F56<=I7,F56>I9),0,I8+(I10-I8)*(1-((I5+EXP(I6*(I4-I7)))/(I5+EXP(I6*(I4-F56))))^I5)/(1-((I5+EXP(I6*(I4-I7)))/(I5+EXP(I6*(I4-I9))))^I5))","v":0},{"$f":"IF(OR(F56<=J7,F56>J9),0,J8+(J10-J8)*(1-((J5+EXP(J6*(J4-J7)))/(J5+EXP(J6*(J4-F56))))^J5)/(1-((J5+EXP(J6*(J4-J7)))/(J5+EXP(J6*(J4-J9))))^J5))","v":0},{"$f":"IF(OR(F56<=J9,F56>100000),0,IF(F56<=K7,K8,K8+(K10-K8)*(1-((K5+EXP(K6*(K4-K7)))/(K5+EXP(K6*(K4-F56))))^K5)/(1-((K5+EXP(K6*(K4-K7)))/(K5+EXP(K6*(K4-K9))))^K5)))","v":0},0,0,19.467756956616675,0,"2010-12-15",{"$f":"MAX(L$12:L56)+MAX(M$12:M56)+MAX(N$12:N56)","v":19.467756956616675},"2010-12-15",0.46353912109039186,null,null,null,null,null,null,null,null,null,null,null,null,null,null,null,null,null,0,null,{"$f":"IF(OR(AJ56<=AM7,AJ56>AM9),0,AM8+(AM10-AM8)*(1-((AM5+EXP(AM6*(AM4-AM7)))/(AM5+EXP(AM6*(AM4-AJ56))))^AM5)/(1-((AM5+EXP(AM6*(AM4-AM7)))/(AM5+EXP(AM6*(AM4-AM9))))^AM5))","v":0},{"$f":"IF(OR(AJ56<=AN7,AJ56>AN9),0,AN8+(AN10-AN8)*(1-((AN5+EXP(AN6*(AN4-AN7)))/(AN5+EXP(AN6*(AN4-AJ56))))^AN5)/(1-((AN5+EXP(AN6*(AN4-AN7)))/(AN5+EXP(AN6*(AN4-AN9))))^AN5))","v":0},{"$f":"IF(OR(AJ56<=AN9,AJ56>100000),0,IF(AJ56<=AO7,AO8,AO8+(AO10-AO8)*(1-((AO5+EXP(AO6*(AO4-AO7)))/(AO5+EXP(AO6*(AO4-AJ56))))^AO5)/(1-((AO5+EXP(AO6*(AO4-AO7)))/(AO5+EXP(AO6*(AO4-AO9))))^AO5)))","v":0},0,0]
[46,{"$f":"'daily uptake'!F140","v":"2010-12-16"},{"$f":"5/9*'daily uptake'!Q140","v":6.9444444444444446},{"$f":"5/9*'daily uptake'!N140","v":1.1111111111111112},{"$f":"IF(AND($A57>='daily uptake'!$C$9,$A57<='daily uptake'!$C$10),$C57+E56,0)","v":462.77777777777754},{"$f":"IF(AND($A57>='daily uptake'!$C$18,$A57<='daily uptake'!$C$20),$D57+F56,0)","v":0},{"$f":"IF(AND($A57>='daily uptake'!$C$24,$A57<='daily uptake'!$C$25),$C57+G56,0)","v":0},{"$f":"IF(OR(F57<=I7,F57>I9),0,I8+(I10-I8)*(1-((I5+EXP(I6*(I4-I7)))/(I5+EXP(I6*(I4-F57))))^I5)/(1-((I5+EXP(I6*(I4-I7)))/(I5+EXP(I6*(I4-I9))))^I5))","v":0},{"$f":"IF(OR(F57<=J7,F57>J9),0,J8+(J10-J8)*(1-((J5+EXP(J6*(J4-J7)))/(J5+EXP(J6*(J4-F57))))^J5)/(1-((J5+EXP(J6*(J4-J7)))/(J5+EXP(J6*(J4-J9))))^J5))","v":0},{"$f":"IF(OR(F57<=J9,F57>100000),0,IF(F57<=K7,K8,K8+(K10-K8)*(1-((K5+EXP(K6*(K4-K7)))/(K5+EXP(K6*(K4-F57))))^K5)/(1-((K5+EXP(K6*(K4-K7)))/(K5+EXP(K6*(K4-K9))))^K5)))","v":0},0,0,19.886105986837077,0,"2010-12-16",{"$f":"MAX(L$12:L57)+MAX(M$12:M57)+MAX(N$12:N57)","v":19.886105986837077},"2010-12-16",0.41834903022040137,null,null,null,null,null,null,null,null,null,null,null,null,null,null,null,null,null,0,null,{"$f":"IF(OR(AJ57<=AM7,AJ57>AM9),0,AM8+(AM10-AM8)*(1-((AM5+EXP(AM6*(AM4-AM7)))/(AM5+EXP(AM6*(AM4-AJ57))))^AM5)/(1-((AM5+EXP(AM6*(AM4-AM7)))/(AM5+EXP(AM6*(AM4-AM9))))^AM5))","v":0},{"$f":"IF(OR(AJ57<=AN7,AJ57>AN9),0,AN8+(AN10-AN8)*(1-((AN5+EXP(AN6*(AN4-AN7)))/(AN5+EXP(AN6*(AN4-AJ57))))^AN5)/(1-((AN5+EXP(AN6*(AN4-AN7)))/(AN5+EXP(AN6*(AN4-AN9))))^AN5))","v":0},{"$f":"IF(OR(AJ57<=AN9,AJ57>100000),0,IF(AJ57<=AO7,AO8,AO8+(AO10-AO8)*(1-((AO5+EXP(AO6*(AO4-AO7)))/(AO5+EXP(AO6*(AO4-AJ57))))^AO5)/(1-((AO5+EXP(AO6*(AO4-AO7)))/(AO5+EXP(AO6*(AO4-AO9))))^AO5)))","v":0},0,0]
[47,{"$f":"'daily uptake'!F141","v":"2010-12-17"},{"$f":"5/9*'daily uptake'!Q141","v":7.2222222222222223},{"$f":"5/9*'daily uptake'!N141","v":1.1111111111111112},{"$f":"IF(AND($A58>='daily uptake'!$C$9,$A58<='daily uptake'!$C$10),$C58+E57,0)","v":469.99999999999977},{"$f":"IF(AND($A58>='daily uptake'!$C$18,$A58<='daily uptake'!$C$20),$D58+F57,0)","v":0},{"$f":"IF(AND($A58>='daily uptake'!$C$24,$A58<='daily uptake'!$C$25),$C58+G57,0)","v":0},{"$f":"IF(OR(F58<=I7,F58>I9),0,I8+(I10-I8)*(1-((I5+EXP(I6*(I4-I7)))/(I5+EXP(I6*(I4-F58))))^I5)/(1-((I5+EXP(I6*(I4-I7)))/(I5+EXP(I6*(I4-I9))))^I5))","v":0},{"$f":"IF(OR(F58<=J7,F58>J9),0,J8+(J10-J8)*(1-((J5+EXP(J6*(J4-J7)))/(J5+EXP(J6*(J4-F58))))^J5)/(1-((J5+EXP(J6*(J4-J7)))/(J5+EXP(J6*(J4-J9))))^J5))","v":0},{"$f":"IF(OR(F58<=J9,F58>100000),0,IF(F58<=K7,K8,K8+(K10-K8)*(1-((K5+EXP(K6*(K4-K7)))/(K5+EXP(K6*(K4-F58))))^K5)/(1-((K5+EXP(K6*(K4-K7)))/(K5+EXP(K6*(K4-K9))))^K5)))","v":0},0,0,20.325692621597767,0,"2010-12-17",{"$f":"MAX(L$12:L58)+MAX(M$12:M58)+MAX(N$12:N58)","v":20.325692621597767},"2010-12-17",0.43958663476069049,null,null,null,null,null,null,null,null,null,null,null,null,null,null,null,null,null,0,null,{"$f":"IF(OR(AJ58<=AM7,AJ58>AM9),0,AM8+(AM10-AM8)*(1-((AM5+EXP(AM6*(AM4-AM7)))/(AM5+EXP(AM6*(AM4-AJ58))))^AM5)/(1-((AM5+EXP(AM6*(AM4-AM7)))/(AM5+EXP(AM6*(AM4-AM9))))^AM5))","v":0},{"$f":"IF(OR(AJ58<=AN7,AJ58>AN9),0,AN8+(AN10-AN8)*(1-((AN5+EXP(AN6*(AN4-AN7)))/(AN5+EXP(AN6*(AN4-AJ58))))^AN5)/(1-((AN5+EXP(AN6*(AN4-AN7)))/(AN5+EXP(AN6*(AN4-AN9))))^AN5))","v":0},{"$f":"IF(OR(AJ58<=AN9,AJ58>100000),0,IF(AJ58<=AO7,AO8,AO8+(AO10-AO8)*(1-((AO5+EXP(AO6*(AO4-AO7)))/(AO5+EXP(AO6*(AO4-AJ58))))^AO5)/(1-((AO5+EXP(AO6*(AO4-AO7)))/(AO5+EXP(AO6*(AO4-AO9))))^AO5)))","v":0},0,0]
[48,{"$f":"'daily uptake'!F142","v":"2010-12-18"},{"$f":"5/9*'daily uptake'!Q142","v":7.2222222222222223},{"$f":"5/9*'daily uptake'!N142","v":0.83333333333333337},{"$f":"IF(AND($A59>='daily uptake'!$C$9,$A59<='daily uptake'!$C$10),$C59+E58,0)","v":477.222222222222},{"$f":"IF(AND($A59>='daily uptake'!$C$18,$A59<='daily uptake'!$C$20),$D59+F58,0)","v":0},{"$f":"IF(AND($A59>='daily uptake'!$C$24,$A59<='daily uptake'!$C$25),$C59+G58,0)","v":0},{"$f":"IF(OR(F59<=I7,F59>I9),0,I8+(I10-I8)*(1-((I5+EXP(I6*(I4-I7)))/(I5+EXP(I6*(I4-F59))))^I5)/(1-((I5+EXP(I6*(I4-I7)))/(I5+EXP(I6*(I4-I9))))^I5))","v":0},{"$f":"IF(OR(F59<=J7,F59>J9),0,J8+(J10-J8)*(1-((J5+EXP(J6*(J4-J7)))/(J5+EXP(J6*(J4-F59))))^J5)/(1-((J5+EXP(J6*(J4-J7)))/(J5+EXP(J6*(J4-J9))))^J5))","v":0},{"$f":"IF(OR(F59<=J9,F59>100000),0,IF(F59<=K7,K8,K8+(K10-K8)*(1-((K5+EXP(K6*(K4-K7)))/(K5+EXP(K6*(K4-F59))))^K5)/(1-((K5+EXP(K6*(K4-K7)))/(K5+EXP(K6*(K4-K9))))^K5)))","v":0},0,0,20.76989606288549,0,"2010-12-18",{"$f":"MAX(L$12:L59)+MAX(M$12:M59)+MAX(N$12:N59)","v":20.76989606288549},"2010-12-18",0.44420344128772271,null,null,null,null,null,null,null,null,null,null,null,null,null,null,null,null,null,0,null,{"$f":"IF(OR(AJ59<=AM7,AJ59>AM9),0,AM8+(AM10-AM8)*(1-((AM5+EXP(AM6*(AM4-AM7)))/(AM5+EXP(AM6*(AM4-AJ59))))^AM5)/(1-((AM5+EXP(AM6*(AM4-AM7)))/(AM5+EXP(AM6*(AM4-AM9))))^AM5))","v":0},{"$f":"IF(OR(AJ59<=AN7,AJ59>AN9),0,AN8+(AN10-AN8)*(1-((AN5+EXP(AN6*(AN4-AN7)))/(AN5+EXP(AN6*(AN4-AJ59))))^AN5)/(1-((AN5+EXP(AN6*(AN4-AN7)))/(AN5+EXP(AN6*(AN4-AN9))))^AN5))","v":0},{"$f":"IF(OR(AJ59<=AN9,AJ59>100000),0,IF(AJ59<=AO7,AO8,AO8+(AO10-AO8)*(1-((AO5+EXP(AO6*(AO4-AO7)))/(AO5+EXP(AO6*(AO4-AJ59))))^AO5)/(1-((AO5+EXP(AO6*(AO4-AO7)))/(AO5+EXP(AO6*(AO4-AO9))))^AO5)))","v":0},0,0]
[49,{"$f":"'daily uptake'!F143","v":"2010-12-19"},{"$f":"5/9*'daily uptake'!Q143","v":6.9444444444444446},{"$f":"5/9*'daily uptake'!N143","v":0.83333333333333337},{"$f":"IF(AND($A60>='daily uptake'!$C$9,$A60<='daily uptake'!$C$10),$C60+E59,0)","v":484.16666666666646},{"$f":"IF(AND($A60>='daily uptake'!$C$18,$A60<='daily uptake'!$C$20),$D60+F59,0)","v":0},{"$f":"IF(AND($A60>='daily uptake'!$C$24,$A60<='daily uptake'!$C$25),$C60+G59,0)","v":0},{"$f":"IF(OR(F60<=I7,F60>I9),0,I8+(I10-I8)*(1-((I5+EXP(I6*(I4-I7)))/(I5+EXP(I6*(I4-F60))))^I5)/(1-((I5+EXP(I6*(I4-I7)))/(I5+EXP(I6*(I4-I9))))^I5))","v":0},{"$f":"IF(OR(F60<=J7,F60>J9),0,J8+(J10-J8)*(1-((J5+EXP(J6*(J4-J7)))/(J5+EXP(J6*(J4-F60))))^J5)/(1-((J5+EXP(J6*(J4-J7)))/(J5+EXP(J6*(J4-J9))))^J5))","v":0},{"$f":"IF(OR(F60<=J9,F60>100000),0,IF(F60<=K7,K8,K8+(K10-K8)*(1-((K5+EXP(K6*(K4-K7)))/(K5+EXP(K6*(K4-F60))))^K5)/(1-((K5+EXP(K6*(K4-K7)))/(K5+EXP(K6*(K4-K9))))^K5)))","v":0},0,0,21.201391649023343,0,"2010-12-19",{"$f":"MAX(L$12:L60)+MAX(M$12:M60)+MAX(N$12:N60)","v":21.201391649023343},"2010-12-19",0.43149558613785288,null,null,null,null,null,null,null,null,null,null,null,null,null,null,null,null,null,0,null,{"$f":"IF(OR(AJ60<=AM7,AJ60>AM9),0,AM8+(AM10-AM8)*(1-((AM5+EXP(AM6*(AM4-AM7)))/(AM5+EXP(AM6*(AM4-AJ60))))^AM5)/(1-((AM5+EXP(AM6*(AM4-AM7)))/(AM5+EXP(AM6*(AM4-AM9))))^AM5))","v":0},{"$f":"IF(OR(AJ60<=AN7,AJ60>AN9),0,AN8+(AN10-AN8)*(1-((AN5+EXP(AN6*(AN4-AN7)))/(AN5+EXP(AN6*(AN4-AJ60))))^AN5)/(1-((AN5+EXP(AN6*(AN4-AN7)))/(AN5+EXP(AN6*(AN4-AN9))))^AN5))","v":0},{"$f":"IF(OR(AJ60<=AN9,AJ60>100000),0,IF(AJ60<=AO7,AO8,AO8+(AO10-AO8)*(1-((AO5+EXP(AO6*(AO4-AO7)))/(AO5+EXP(AO6*(AO4-AJ60))))^AO5)/(1-((AO5+EXP(AO6*(AO4-AO7)))/(AO5+EXP(AO6*(AO4-AO9))))^AO5)))","v":0},0,0]
[50,{"$f":"'daily uptake'!F144","v":"2010-12-20"},{"$f":"5/9*'daily uptake'!Q144","v":6.666666666666667},{"$f":"5/9*'daily uptake'!N144","v":0.55555555555555558},{"$f":"IF(AND($A61>='daily uptake'!$C$9,$A61<='daily uptake'!$C$10),$C61+E60,0)","v":490.83333333333314},{"$f":"IF(AND($A61>='daily uptake'!$C$18,$A61<='daily uptake'!$C$20),$D61+F60,0)","v":0},{"$f":"IF(AND($A61>='daily uptake'!$C$24,$A61<='daily uptake'!$C$25),$C61+G60,0)","v":0},{"$f":"IF(OR(F61<=I7,F61>I9),0,I8+(I10-I8)*(1-((I5+EXP(I6*(I4-I7)))/(I5+EXP(I6*(I4-F61))))^I5)/(1-((I5+EXP(I6*(I4-I7)))/(I5+EXP(I6*(I4-I9))))^I5))","v":0},{"$f":"IF(OR(F61<=J7,F61>J9),0,J8+(J10-J8)*(1-((J5+EXP(J6*(J4-J7)))/(J5+EXP(J6*(J4-F61))))^J5)/(1-((J5+EXP(J6*(J4-J7)))/(J5+EXP(J6*(J4-J9))))^J5))","v":0},{"$f":"IF(OR(F61<=J9,F61>100000),0,IF(F61<=K7,K8,K8+(K10-K8)*(1-((K5+EXP(K6*(K4-K7)))/(K5+EXP(K6*(K4-F61))))^K5)/(1-((K5+EXP(K6*(K4-K7)))/(K5+EXP(K6*(K4-K9))))^K5)))","v":0},0,0,21.619684754758673,0,"2010-12-20",{"$f":"MAX(L$12:L61)+MAX(M$12:M61)+MAX(N$12:N61)","v":21.619684754758673},"2010-12-20",0.41829310573533007,null,null,null,null,null,null,null,null,null,null,null,null,null,null,null,null,null,0,null,{"$f":"IF(OR(AJ61<=AM7,AJ61>AM9),0,AM8+(AM10-AM8)*(1-((AM5+EXP(AM6*(AM4-AM7)))/(AM5+EXP(AM6*(AM4-AJ61))))^AM5)/(1-((AM5+EXP(AM6*(AM4-AM7)))/(AM5+EXP(AM6*(AM4-AM9))))^AM5))","v":0},{"$f":"IF(OR(AJ61<=AN7,AJ61>AN9),0,AN8+(AN10-AN8)*(1-((AN5+EXP(AN6*(AN4-AN7)))/(AN5+EXP(AN6*(AN4-AJ61))))^AN5)/(1-((AN5+EXP(AN6*(AN4-AN7)))/(AN5+EXP(AN6*(AN4-AN9))))^AN5))","v":0},{"$f":"IF(OR(AJ61<=AN9,AJ61>100000),0,IF(AJ61<=AO7,AO8,AO8+(AO10-AO8)*(1-((AO5+EXP(AO6*(AO4-AO7)))/(AO5+EXP(AO6*(AO4-AJ61))))^AO5)/(1-((AO5+EXP(AO6*(AO4-AO7)))/(AO5+EXP(AO6*(AO4-AO9))))^AO5)))","v":0},0,0]
[51,{"$f":"'daily uptake'!F145","v":"2010-12-21"},{"$f":"5/9*'daily uptake'!Q145","v":6.3888888888888893},{"$f":"5/9*'daily uptake'!N145","v":0.55555555555555558},{"$f":"IF(AND($A62>='daily uptake'!$C$9,$A62<='daily uptake'!$C$10),$C62+E61,0)","v":497.22222222222206},{"$f":"IF(AND($A62>='daily uptake'!$C$18,$A62<='daily uptake'!$C$20),$D62+F61,0)","v":0},{"$f":"IF(AND($A62>='daily uptake'!$C$24,$A62<='daily uptake'!$C$25),$C62+G61,0)","v":0},{"$f":"IF(OR(F62<=I7,F62>I9),0,I8+(I10-I8)*(1-((I5+EXP(I6*(I4-I7)))/(I5+EXP(I6*(I4-F62))))^I5)/(1-((I5+EXP(I6*(I4-I7)))/(I5+EXP(I6*(I4-I9))))^I5))","v":0},{"$f":"IF(OR(F62<=J7,F62>J9),0,J8+(J10-J8)*(1-((J5+EXP(J6*(J4-J7)))/(J5+EXP(J6*(J4-F62))))^J5)/(1-((J5+EXP(J6*(J4-J7)))/(J5+EXP(J6*(J4-J9))))^J5))","v":0},{"$f":"IF(OR(F62<=J9,F62>100000),0,IF(F62<=K7,K8,K8+(K10-K8)*(1-((K5+EXP(K6*(K4-K7)))/(K5+EXP(K6*(K4-F62))))^K5)/(1-((K5+EXP(K6*(K4-K7)))/(K5+EXP(K6*(K4-K9))))^K5)))","v":0},0,0,22.024296140243518,0,"2010-12-21",{"$f":"MAX(L$12:L62)+MAX(M$12:M62)+MAX(N$12:N62)","v":22.024296140243518},"2010-12-21",0.40461138548484499,null,null,null,null,null,null,null,null,null,null,null,null,null,null,null,null,null,0,null,{"$f":"IF(OR(AJ62<=AM7,AJ62>AM9),0,AM8+(AM10-AM8)*(1-((AM5+EXP(AM6*(AM4-AM7)))/(AM5+EXP(AM6*(AM4-AJ62))))^AM5)/(1-((AM5+EXP(AM6*(AM4-AM7)))/(AM5+EXP(AM6*(AM4-AM9))))^AM5))","v":0},{"$f":"IF(OR(AJ62<=AN7,AJ62>AN9),0,AN8+(AN10-AN8)*(1-((AN5+EXP(AN6*(AN4-AN7)))/(AN5+EXP(AN6*(AN4-AJ62))))^AN5)/(1-((AN5+EXP(AN6*(AN4-AN7)))/(AN5+EXP(AN6*(AN4-AN9))))^AN5))","v":0},{"$f":"IF(OR(AJ62<=AN9,AJ62>100000),0,IF(AJ62<=AO7,AO8,AO8+(AO10-AO8)*(1-((AO5+EXP(AO6*(AO4-AO7)))/(AO5+EXP(AO6*(AO4-AJ62))))^AO5)/(1-((AO5+EXP(AO6*(AO4-AO7)))/(AO5+EXP(AO6*(AO4-AO9))))^AO5)))","v":0},0,0]
[52,{"$f":"'daily uptake'!F146","v":"2010-12-22"},{"$f":"5/9*'daily uptake'!Q146","v":6.9444444444444446},{"$f":"5/9*'daily uptake'!N146","v":0.83333333333333337},{"$f":"IF(AND($A63>='daily uptake'!$C$9,$A63<='daily uptake'!$C$10),$C63+E62,0)","v":504.16666666666652},{"$f":"IF(AND($A63>='daily uptake'!$C$18,$A63<='daily uptake'!$C$20),$D63+F62,0)","v":0},{"$f":"IF(AND($A63>='daily uptake'!$C$24,$A63<='daily uptake'!$C$25),$C63+G62,0)","v":0},{"$f":"IF(OR(F63<=I7,F63>I9),0,I8+(I10-I8)*(1-((I5+EXP(I6*(I4-I7)))/(I5+EXP(I6*(I4-F63))))^I5)/(1-((I5+EXP(I6*(I4-I7)))/(I5+EXP(I6*(I4-I9))))^I5))","v":0},{"$f":"IF(OR(F63<=J7,F63>J9),0,J8+(J10-J8)*(1-((J5+EXP(J6*(J4-J7)))/(J5+EXP(J6*(J4-F63))))^J5)/(1-((J5+EXP(J6*(J4-J7)))/(J5+EXP(J6*(J4-J9))))^J5))","v":0},{"$f":"IF(OR(F63<=J9,F63>100000),0,IF(F63<=K7,K8,K8+(K10-K8)*(1-((K5+EXP(K6*(K4-K7)))/(K5+EXP(K6*(K4-F63))))^K5)/(1-((K5+EXP(K6*(K4-K7)))/(K5+EXP(K6*(K4-K9))))^K5)))","v":0},0,0,22.468269910990855,0,"2010-12-22",{"$f":"MAX(L$12:L63)+MAX(M$12:M63)+MAX(N$12:N63)","v":22.468269910990855},"2010-12-22",0.44397377074733768,null,null,null,null,null,null,null,null,null,null,null,null,null,null,null,null,null,0,null,{"$f":"IF(OR(AJ63<=AM7,AJ63>AM9),0,AM8+(AM10-AM8)*(1-((AM5+EXP(AM6*(AM4-AM7)))/(AM5+EXP(AM6*(AM4-AJ63))))^AM5)/(1-((AM5+EXP(AM6*(AM4-AM7)))/(AM5+EXP(AM6*(AM4-AM9))))^AM5))","v":0},{"$f":"IF(OR(AJ63<=AN7,AJ63>AN9),0,AN8+(AN10-AN8)*(1-((AN5+EXP(AN6*(AN4-AN7)))/(AN5+EXP(AN6*(AN4-AJ63))))^AN5)/(1-((AN5+EXP(AN6*(AN4-AN7)))/(AN5+EXP(AN6*(AN4-AN9))))^AN5))","v":0},{"$f":"IF(OR(AJ63<=AN9,AJ63>100000),0,IF(AJ63<=AO7,AO8,AO8+(AO10-AO8)*(1-((AO5+EXP(AO6*(AO4-AO7)))/(AO5+EXP(AO6*(AO4-AJ63))))^AO5)/(1-((AO5+EXP(AO6*(AO4-AO7)))/(AO5+EXP(AO6*(AO4-AO9))))^AO5)))","v":0},0,0]
[53,{"$f":"'daily uptake'!F147","v":"2010-12-23"},{"$f":"5/9*'daily uptake'!Q147","v":6.1111111111111116},{"$f":"5/9*'daily uptake'!N147","v":0.83333333333333337},{"$f":"IF(AND($A64>='daily uptake'!$C$9,$A64<='daily uptake'!$C$10),$C64+E63,0)","v":510.2777777777776},{"$f":"IF(AND($A64>='daily uptake'!$C$18,$A64<='daily uptake'!$C$20),$D64+F63,0)","v":0},{"$f":"IF(AND($A64>='daily uptake'!$C$24,$A64<='daily uptake'!$C$25),$C64+G63,0)","v":0},{"$f":"IF(OR(F64<=I7,F64>I9),0,I8+(I10-I8)*(1-((I5+EXP(I6*(I4-I7)))/(I5+EXP(I6*(I4-F64))))^I5)/(1-((I5+EXP(I6*(I4-I7)))/(I5+EXP(I6*(I4-I9))))^I5))","v":0},{"$f":"IF(OR(F64<=J7,F64>J9),0,J8+(J10-J8)*(1-((J5+EXP(J6*(J4-J7)))/(J5+EXP(J6*(J4-F64))))^J5)/(1-((J5+EXP(J6*(J4-J7)))/(J5+EXP(J6*(J4-J9))))^J5))","v":0},{"$f":"IF(OR(F64<=J9,F64>100000),0,IF(F64<=K7,K8,K8+(K10-K8)*(1-((K5+EXP(K6*(K4-K7)))/(K5+EXP(K6*(K4-F64))))^K5)/(1-((K5+EXP(K6*(K4-K7)))/(K5+EXP(K6*(K4-K9))))^K5)))","v":0},0,0,22.862583252174812,0,"2010-12-23",{"$f":"MAX(L$12:L64)+MAX(M$12:M64)+MAX(N$12:N64)","v":22.862583252174812},"2010-12-23",0.39431334118395611,null,null,null,null,null,null,null,null,null,null,null,null,null,null,null,null,null,0,null,{"$f":"IF(OR(AJ64<=AM7,AJ64>AM9),0,AM8+(AM10-AM8)*(1-((AM5+EXP(AM6*(AM4-AM7)))/(AM5+EXP(AM6*(AM4-AJ64))))^AM5)/(1-((AM5+EXP(AM6*(AM4-AM7)))/(AM5+EXP(AM6*(AM4-AM9))))^AM5))","v":0},{"$f":"IF(OR(AJ64<=AN7,AJ64>AN9),0,AN8+(AN10-AN8)*(1-((AN5+EXP(AN6*(AN4-AN7)))/(AN5+EXP(AN6*(AN4-AJ64))))^AN5)/(1-((AN5+EXP(AN6*(AN4-AN7)))/(AN5+EXP(AN6*(AN4-AN9))))^AN5))","v":0},{"$f":"IF(OR(AJ64<=AN9,AJ64>100000),0,IF(AJ64<=AO7,AO8,AO8+(AO10-AO8)*(1-((AO5+EXP(AO6*(AO4-AO7)))/(AO5+EXP(AO6*(AO4-AJ64))))^AO5)/(1-((AO5+EXP(AO6*(AO4-AO7)))/(AO5+EXP(AO6*(AO4-AO9))))^AO5)))","v":0},0,0]
[54,{"$f":"'daily uptake'!F148","v":"2010-12-24"},{"$f":"5/9*'daily uptake'!Q148","v":6.1111111111111116},{"$f":"5/9*'daily uptake'!N148","v":0.55555555555555558},{"$f":"IF(AND($A65>='daily uptake'!$C$9,$A65<='daily uptake'!$C$10),$C65+E64,0)","v":516.38888888888869},{"$f":"IF(AND($A65>='daily uptake'!$C$18,$A65<='daily uptake'!$C$20),$D65+F64,0)","v":0},{"$f":"IF(AND($A65>='daily uptake'!$C$24,$A65<='daily uptake'!$C$25),$C65+G64,0)","v":0},{"$f":"IF(OR(F65<=I7,F65>I9),0,I8+(I10-I8)*(1-((I5+EXP(I6*(I4-I7)))/(I5+EXP(I6*(I4-F65))))^I5)/(1-((I5+EXP(I6*(I4-I7)))/(I5+EXP(I6*(I4-I9))))^I5))","v":0},{"$f":"IF(OR(F65<=J7,F65>J9),0,J8+(J10-J8)*(1-((J5+EXP(J6*(J4-J7)))/(J5+EXP(J6*(J4-F65))))^J5)/(1-((J5+EXP(J6*(J4-J7)))/(J5+EXP(J6*(J4-J9))))^J5))","v":0},{"$f":"IF(OR(F65<=J9,F65>100000),0,IF(F65<=K7,K8,K8+(K10-K8)*(1-((K5+EXP(K6*(K4-K7)))/(K5+EXP(K6*(K4-F65))))^K5)/(1-((K5+EXP(K6*(K4-K7)))/(K5+EXP(K6*(K4-K9))))^K5)))","v":0},0,0,23.260296370769666,0,"2010-12-24",{"$f":"MAX(L$12:L65)+MAX(M$12:M65)+MAX(N$12:N65)","v":23.260296370769666},"2010-12-24",0.39771311859485436,null,null,null,null,null,null,null,null,null,null,null,null,null,null,null,null,null,0,null,{"$f":"IF(OR(AJ65<=AM7,AJ65>AM9),0,AM8+(AM10-AM8)*(1-((AM5+EXP(AM6*(AM4-AM7)))/(AM5+EXP(AM6*(AM4-AJ65))))^AM5)/(1-((AM5+EXP(AM6*(AM4-AM7)))/(AM5+EXP(AM6*(AM4-AM9))))^AM5))","v":0},{"$f":"IF(OR(AJ65<=AN7,AJ65>AN9),0,AN8+(AN10-AN8)*(1-((AN5+EXP(AN6*(AN4-AN7)))/(AN5+EXP(AN6*(AN4-AJ65))))^AN5)/(1-((AN5+EXP(AN6*(AN4-AN7)))/(AN5+EXP(AN6*(AN4-AN9))))^AN5))","v":0},{"$f":"IF(OR(AJ65<=AN9,AJ65>100000),0,IF(AJ65<=AO7,AO8,AO8+(AO10-AO8)*(1-((AO5+EXP(AO6*(AO4-AO7)))/(AO5+EXP(AO6*(AO4-AJ65))))^AO5)/(1-((AO5+EXP(AO6*(AO4-AO7)))/(AO5+EXP(AO6*(AO4-AO9))))^AO5)))","v":0},0,0]
[55,{"$f":"'daily uptake'!F149","v":"2010-12-25"},{"$f":"5/9*'daily uptake'!Q149","v":5.5555555555555554},{"$f":"5/9*'daily uptake'!N149","v":0.55555555555555558},{"$f":"IF(AND($A66>='daily uptake'!$C$9,$A66<='daily uptake'!$C$10),$C66+E65,0)","v":521.94444444444423},{"$f":"IF(AND($A66>='daily uptake'!$C$18,$A66<='daily uptake'!$C$20),$D66+F65,0)","v":0},{"$f":"IF(AND($A66>='daily uptake'!$C$24,$A66<='daily uptake'!$C$25),$C66+G65,0)","v":0},{"$f":"IF(OR(F66<=I7,F66>I9),0,I8+(I10-I8)*(1-((I5+EXP(I6*(I4-I7)))/(I5+EXP(I6*(I4-F66))))^I5)/(1-((I5+EXP(I6*(I4-I7)))/(I5+EXP(I6*(I4-I9))))^I5))","v":0},{"$f":"IF(OR(F66<=J7,F66>J9),0,J8+(J10-J8)*(1-((J5+EXP(J6*(J4-J7)))/(J5+EXP(J6*(J4-F66))))^J5)/(1-((J5+EXP(J6*(J4-J7)))/(J5+EXP(J6*(J4-J9))))^J5))","v":0},{"$f":"IF(OR(F66<=J9,F66>100000),0,IF(F66<=K7,K8,K8+(K10-K8)*(1-((K5+EXP(K6*(K4-K7)))/(K5+EXP(K6*(K4-F66))))^K5)/(1-((K5+EXP(K6*(K4-K7)))/(K5+EXP(K6*(K4-K9))))^K5)))","v":0},0,0,23.62481515284254,0,"2010-12-25",{"$f":"MAX(L$12:L66)+MAX(M$12:M66)+MAX(N$12:N66)","v":23.62481515284254},"2010-12-25",0.36451878207287436,null,null,null,null,null,null,null,null,null,null,null,null,null,null,null,null,null,0,null,{"$f":"IF(OR(AJ66<=AM7,AJ66>AM9),0,AM8+(AM10-AM8)*(1-((AM5+EXP(AM6*(AM4-AM7)))/(AM5+EXP(AM6*(AM4-AJ66))))^AM5)/(1-((AM5+EXP(AM6*(AM4-AM7)))/(AM5+EXP(AM6*(AM4-AM9))))^AM5))","v":0},{"$f":"IF(OR(AJ66<=AN7,AJ66>AN9),0,AN8+(AN10-AN8)*(1-((AN5+EXP(AN6*(AN4-AN7)))/(AN5+EXP(AN6*(AN4-AJ66))))^AN5)/(1-((AN5+EXP(AN6*(AN4-AN7)))/(AN5+EXP(AN6*(AN4-AN9))))^AN5))","v":0},{"$f":"IF(OR(AJ66<=AN9,AJ66>100000),0,IF(AJ66<=AO7,AO8,AO8+(AO10-AO8)*(1-((AO5+EXP(AO6*(AO4-AO7)))/(AO5+EXP(AO6*(AO4-AJ66))))^AO5)/(1-((AO5+EXP(AO6*(AO4-AO7)))/(AO5+EXP(AO6*(AO4-AO9))))^AO5)))","v":0},0,0]
[56,{"$f":"'daily uptake'!F150","v":"2010-12-26"},{"$f":"5/9*'daily uptake'!Q150","v":6.3888888888888893},{"$f":"5/9*'daily uptake'!N150","v":1.1111111111111112},{"$f":"IF(AND($A67>='daily uptake'!$C$9,$A67<='daily uptake'!$C$10),$C67+E66,0)","v":528.33333333333314},{"$f":"IF(AND($A67>='daily uptake'!$C$18,$A67<='daily uptake'!$C$20),$D67+F66,0)","v":0},{"$f":"IF(AND($A67>='daily uptake'!$C$24,$A67<='daily uptake'!$C$25),$C67+G66,0)","v":0},{"$f":"IF(OR(F67<=I7,F67>I9),0,I8+(I10-I8)*(1-((I5+EXP(I6*(I4-I7)))/(I5+EXP(I6*(I4-F67))))^I5)/(1-((I5+EXP(I6*(I4-I7)))/(I5+EXP(I6*(I4-I9))))^I5))","v":0},{"$f":"IF(OR(F67<=J7,F67>J9),0,J8+(J10-J8)*(1-((J5+EXP(J6*(J4-J7)))/(J5+EXP(J6*(J4-F67))))^J5)/(1-((J5+EXP(J6*(J4-J7)))/(J5+EXP(J6*(J4-J9))))^J5))","v":0},{"$f":"IF(OR(F67<=J9,F67>100000),0,IF(F67<=K7,K8,K8+(K10-K8)*(1-((K5+EXP(K6*(K4-K7)))/(K5+EXP(K6*(K4-F67))))^K5)/(1-((K5+EXP(K6*(K4-K7)))/(K5+EXP(K6*(K4-K9))))^K5)))","v":0},0,0,24.047511532427951,0,"2010-12-26",{"$f":"MAX(L$12:L67)+MAX(M$12:M67)+MAX(N$12:N67)","v":24.047511532427951},"2010-12-26",0.4226963795854104,null,null,null,null,null,null,null,null,null,null,null,null,null,null,null,null,null,0,null,{"$f":"IF(OR(AJ67<=AM7,AJ67>AM9),0,AM8+(AM10-AM8)*(1-((AM5+EXP(AM6*(AM4-AM7)))/(AM5+EXP(AM6*(AM4-AJ67))))^AM5)/(1-((AM5+EXP(AM6*(AM4-AM7)))/(AM5+EXP(AM6*(AM4-AM9))))^AM5))","v":0},{"$f":"IF(OR(AJ67<=AN7,AJ67>AN9),0,AN8+(AN10-AN8)*(1-((AN5+EXP(AN6*(AN4-AN7)))/(AN5+EXP(AN6*(AN4-AJ67))))^AN5)/(1-((AN5+EXP(AN6*(AN4-AN7)))/(AN5+EXP(AN6*(AN4-AN9))))^AN5))","v":0},{"$f":"IF(OR(AJ67<=AN9,AJ67>100000),0,IF(AJ67<=AO7,AO8,AO8+(AO10-AO8)*(1-((AO5+EXP(AO6*(AO4-AO7)))/(AO5+EXP(AO6*(AO4-AJ67))))^AO5)/(1-((AO5+EXP(AO6*(AO4-AO7)))/(AO5+EXP(AO6*(AO4-AO9))))^AO5)))","v":0},0,0]
[57,{"$f":"'daily uptake'!F151","v":"2010-12-27"},{"$f":"5/9*'daily uptake'!Q151","v":7.2222222222222223},{"$f":"5/9*'daily uptake'!N151","v":1.6666666666666667},{"$f":"IF(AND($A68>='daily uptake'!$C$9,$A68<='daily uptake'!$C$10),$C68+E67,0)","v":535.55555555555532},{"$f":"IF(AND($A68>='daily uptake'!$C$18,$A68<='daily uptake'!$C$20),$D68+F67,0)","v":0},{"$f":"IF(AND($A68>='daily uptake'!$C$24,$A68<='daily uptake'!$C$25),$C68+G67,0)","v":0},{"$f":"IF(OR(F68<=I7,F68>I9),0,I8+(I10-I8)*(1-((I5+EXP(I6*(I4-I7)))/(I5+EXP(I6*(I4-F68))))^I5)/(1-((I5+EXP(I6*(I4-I7)))/(I5+EXP(I6*(I4-I9))))^I5))","v":0},{"$f":"IF(OR(F68<=J7,F68>J9),0,J8+(J10-J8)*(1-((J5+EXP(J6*(J4-J7)))/(J5+EXP(J6*(J4-F68))))^J5)/(1-((J5+EXP(J6*(J4-J7)))/(J5+EXP(J6*(J4-J9))))^J5))","v":0},{"$f":"IF(OR(F68<=J9,F68>100000),0,IF(F68<=K7,K8,K8+(K10-K8)*(1-((K5+EXP(K6*(K4-K7)))/(K5+EXP(K6*(K4-F68))))^K5)/(1-((K5+EXP(K6*(K4-K7)))/(K5+EXP(K6*(K4-K9))))^K5)))","v":0},0,0,24.529868000019441,0,"2010-12-27",{"$f":"MAX(L$12:L68)+MAX(M$12:M68)+MAX(N$12:N68)","v":24.529868000019441},"2010-12-27",0.4823564675914902,null,null,null,null,null,null,null,null,null,null,null,null,null,null,null,null,null,0,null,{"$f":"IF(OR(AJ68<=AM7,AJ68>AM9),0,AM8+(AM10-AM8)*(1-((AM5+EXP(AM6*(AM4-AM7)))/(AM5+EXP(AM6*(AM4-AJ68))))^AM5)/(1-((AM5+EXP(AM6*(AM4-AM7)))/(AM5+EXP(AM6*(AM4-AM9))))^AM5))","v":0},{"$f":"IF(OR(AJ68<=AN7,AJ68>AN9),0,AN8+(AN10-AN8)*(1-((AN5+EXP(AN6*(AN4-AN7)))/(AN5+EXP(AN6*(AN4-AJ68))))^AN5)/(1-((AN5+EXP(AN6*(AN4-AN7)))/(AN5+EXP(AN6*(AN4-AN9))))^AN5))","v":0},{"$f":"IF(OR(AJ68<=AN9,AJ68>100000),0,IF(AJ68<=AO7,AO8,AO8+(AO10-AO8)*(1-((AO5+EXP(AO6*(AO4-AO7)))/(AO5+EXP(AO6*(AO4-AJ68))))^AO5)/(1-((AO5+EXP(AO6*(AO4-AO7)))/(AO5+EXP(AO6*(AO4-AO9))))^AO5)))","v":0},0,0]
[58,{"$f":"'daily uptake'!F152","v":"2010-12-28"},{"$f":"5/9*'daily uptake'!Q152","v":7.2222222222222223},{"$f":"5/9*'daily uptake'!N152","v":1.1111111111111112},{"$f":"IF(AND($A69>='daily uptake'!$C$9,$A69<='daily uptake'!$C$10),$C69+E68,0)","v":542.77777777777749},{"$f":"IF(AND($A69>='daily uptake'!$C$18,$A69<='daily uptake'!$C$20),$D69+F68,0)","v":0},{"$f":"IF(AND($A69>='daily uptake'!$C$24,$A69<='daily uptake'!$C$25),$C69+G68,0)","v":0},{"$f":"IF(OR(F69<=I7,F69>I9),0,I8+(I10-I8)*(1-((I5+EXP(I6*(I4-I7)))/(I5+EXP(I6*(I4-F69))))^I5)/(1-((I5+EXP(I6*(I4-I7)))/(I5+EXP(I6*(I4-I9))))^I5))","v":0},{"$f":"IF(OR(F69<=J7,F69>J9),0,J8+(J10-J8)*(1-((J5+EXP(J6*(J4-J7)))/(J5+EXP(J6*(J4-F69))))^J5)/(1-((J5+EXP(J6*(J4-J7)))/(J5+EXP(J6*(J4-J9))))^J5))","v":0},{"$f":"IF(OR(F69<=J9,F69>100000),0,IF(F69<=K7,K8,K8+(K10-K8)*(1-((K5+EXP(K6*(K4-K7)))/(K5+EXP(K6*(K4-F69))))^K5)/(1-((K5+EXP(K6*(K4-K7)))/(K5+EXP(K6*(K4-K9))))^K5)))","v":0},0,0,25.017046957324336,0,"2010-12-28",{"$f":"MAX(L$12:L69)+MAX(M$12:M69)+MAX(N$12:N69)","v":25.017046957324336},"2010-12-28",0.48717895730489502,null,null,null,null,null,null,null,null,null,null,null,null,null,null,null,null,null,0,null,{"$f":"IF(OR(AJ69<=AM7,AJ69>AM9),0,AM8+(AM10-AM8)*(1-((AM5+EXP(AM6*(AM4-AM7)))/(AM5+EXP(AM6*(AM4-AJ69))))^AM5)/(1-((AM5+EXP(AM6*(AM4-AM7)))/(AM5+EXP(AM6*(AM4-AM9))))^AM5))","v":0},{"$f":"IF(OR(AJ69<=AN7,AJ69>AN9),0,AN8+(AN10-AN8)*(1-((AN5+EXP(AN6*(AN4-AN7)))/(AN5+EXP(AN6*(AN4-AJ69))))^AN5)/(1-((AN5+EXP(AN6*(AN4-AN7)))/(AN5+EXP(AN6*(AN4-AN9))))^AN5))","v":0},{"$f":"IF(OR(AJ69<=AN9,AJ69>100000),0,IF(AJ69<=AO7,AO8,AO8+(AO10-AO8)*(1-((AO5+EXP(AO6*(AO4-AO7)))/(AO5+EXP(AO6*(AO4-AJ69))))^AO5)/(1-((AO5+EXP(AO6*(AO4-AO7)))/(AO5+EXP(AO6*(AO4-AO9))))^AO5)))","v":0},0,0]
[59,{"$f":"'daily uptake'!F153","v":"2010-12-29"},{"$f":"5/9*'daily uptake'!Q153","v":7.2222222222222223},{"$f":"5/9*'daily uptake'!N153","v":1.1111111111111112},{"$f":"IF(AND($A70>='daily uptake'!$C$9,$A70<='daily uptake'!$C$10),$C70+E69,0)","v":549.99999999999966},{"$f":"IF(AND($A70>='daily uptake'!$C$18,$A70<='daily uptake'!$C$20),$D70+F69,0)","v":0},{"$f":"IF(AND($A70>='daily uptake'!$C$24,$A70<='daily uptake'!$C$25),$C70+G69,0)","v":0},{"$f":"IF(OR(F70<=I7,F70>I9),0,I8+(I10-I8)*(1-((I5+EXP(I6*(I4-I7)))/(I5+EXP(I6*(I4-F70))))^I5)/(1-((I5+EXP(I6*(I4-I7)))/(I5+EXP(I6*(I4-I9))))^I5))","v":0},{"$f":"IF(OR(F70<=J7,F70>J9),0,J8+(J10-J8)*(1-((J5+EXP(J6*(J4-J7)))/(J5+EXP(J6*(J4-F70))))^J5)/(1-((J5+EXP(J6*(J4-J7)))/(J5+EXP(J6*(J4-J9))))^J5))","v":0},{"$f":"IF(OR(F70<=J9,F70>100000),0,IF(F70<=K7,K8,K8+(K10-K8)*(1-((K5+EXP(K6*(K4-K7)))/(K5+EXP(K6*(K4-F70))))^K5)/(1-((K5+EXP(K6*(K4-K7)))/(K5+EXP(K6*(K4-K9))))^K5)))","v":0},0,0,25.509068217789096,0,"2010-12-29",{"$f":"MAX(L$12:L70)+MAX(M$12:M70)+MAX(N$12:N70)","v":25.509068217789096},"2010-12-29",0.49202126046476025,null,null,null,null,null,null,null,null,null,null,null,null,null,null,null,null,null,0,null,{"$f":"IF(OR(AJ70<=AM7,AJ70>AM9),0,AM8+(AM10-AM8)*(1-((AM5+EXP(AM6*(AM4-AM7)))/(AM5+EXP(AM6*(AM4-AJ70))))^AM5)/(1-((AM5+EXP(AM6*(AM4-AM7)))/(AM5+EXP(AM6*(AM4-AM9))))^AM5))","v":0},{"$f":"IF(OR(AJ70<=AN7,AJ70>AN9),0,AN8+(AN10-AN8)*(1-((AN5+EXP(AN6*(AN4-AN7)))/(AN5+EXP(AN6*(AN4-AJ70))))^AN5)/(1-((AN5+EXP(AN6*(AN4-AN7)))/(AN5+EXP(AN6*(AN4-AN9))))^AN5))","v":0},{"$f":"IF(OR(AJ70<=AN9,AJ70>100000),0,IF(AJ70<=AO7,AO8,AO8+(AO10-AO8)*(1-((AO5+EXP(AO6*(AO4-AO7)))/(AO5+EXP(AO6*(AO4-AJ70))))^AO5)/(1-((AO5+EXP(AO6*(AO4-AO7)))/(AO5+EXP(AO6*(AO4-AO9))))^AO5)))","v":0},0,0]
[60,{"$f":"'daily uptake'!F154","v":"2010-12-30"},{"$f":"5/9*'daily uptake'!Q154","v":7.2222222222222223},{"$f":"5/9*'daily uptake'!N154","v":1.1111111111111112},{"$f":"IF(AND($A71>='daily uptake'!$C$9,$A71<='daily uptake'!$C$10),$C71+E70,0)","v":557.22222222222183},{"$f":"IF(AND($A71>='daily uptake'!$C$18,$A71<='daily uptake'!$C$20),$D71+F70,0)","v":0},{"$f":"IF(AND($A71>='daily uptake'!$C$24,$A71<='daily uptake'!$C$25),$C71+G70,0)","v":0},{"$f":"IF(OR(F71<=I7,F71>I9),0,I8+(I10-I8)*(1-((I5+EXP(I6*(I4-I7)))/(I5+EXP(I6*(I4-F71))))^I5)/(1-((I5+EXP(I6*(I4-I7)))/(I5+EXP(I6*(I4-I9))))^I5))","v":0},{"$f":"IF(OR(F71<=J7,F71>J9),0,J8+(J10-J8)*(1-((J5+EXP(J6*(J4-J7)))/(J5+EXP(J6*(J4-F71))))^J5)/(1-((J5+EXP(J6*(J4-J7)))/(J5+EXP(J6*(J4-J9))))^J5))","v":0},{"$f":"IF(OR(F71<=J9,F71>100000),0,IF(F71<=K7,K8,K8+(K10-K8)*(1-((K5+EXP(K6*(K4-K7)))/(K5+EXP(K6*(K4-F71))))^K5)/(1-((K5+EXP(K6*(K4-K7)))/(K5+EXP(K6*(K4-K9))))^K5)))","v":0},0,0,26.005950964545463,0,"2010-12-30",{"$f":"MAX(L$12:L71)+MAX(M$12:M71)+MAX(N$12:N71)","v":26.005950964545463},"2010-12-30",0.49688274675636634,null,null,null,null,null,null,null,null,null,null,null,null,null,null,null,null,null,0,null,{"$f":"IF(OR(AJ71<=AM7,AJ71>AM9),0,AM8+(AM10-AM8)*(1-((AM5+EXP(AM6*(AM4-AM7)))/(AM5+EXP(AM6*(AM4-AJ71))))^AM5)/(1-((AM5+EXP(AM6*(AM4-AM7)))/(AM5+EXP(AM6*(AM4-AM9))))^AM5))","v":0},{"$f":"IF(OR(AJ71<=AN7,AJ71>AN9),0,AN8+(AN10-AN8)*(1-((AN5+EXP(AN6*(AN4-AN7)))/(AN5+EXP(AN6*(AN4-AJ71))))^AN5)/(1-((AN5+EXP(AN6*(AN4-AN7)))/(AN5+EXP(AN6*(AN4-AN9))))^AN5))","v":0},{"$f":"IF(OR(AJ71<=AN9,AJ71>100000),0,IF(AJ71<=AO7,AO8,AO8+(AO10-AO8)*(1-((AO5+EXP(AO6*(AO4-AO7)))/(AO5+EXP(AO6*(AO4-AJ71))))^AO5)/(1-((AO5+EXP(AO6*(AO4-AO7)))/(AO5+EXP(AO6*(AO4-AO9))))^AO5)))","v":0},0,0]
[61,{"$f":"'daily uptake'!F155","v":"2010-12-31"},{"$f":"5/9*'daily uptake'!Q155","v":7.7777777777777786},{"$f":"5/9*'daily uptake'!N155","v":1.3888888888888888},{"$f":"IF(AND($A72>='daily uptake'!$C$9,$A72<='daily uptake'!$C$10),$C72+E71,0)","v":564.99999999999966},{"$f":"IF(AND($A72>='daily uptake'!$C$18,$A72<='daily uptake'!$C$20),$D72+F71,0)","v":0},{"$f":"IF(AND($A72>='daily uptake'!$C$24,$A72<='daily uptake'!$C$25),$C72+G71,0)","v":0},{"$f":"IF(OR(F72<=I7,F72>I9),0,I8+(I10-I8)*(1-((I5+EXP(I6*(I4-I7)))/(I5+EXP(I6*(I4-F72))))^I5)/(1-((I5+EXP(I6*(I4-I7)))/(I5+EXP(I6*(I4-I9))))^I5))","v":0},{"$f":"IF(OR(F72<=J7,F72>J9),0,J8+(J10-J8)*(1-((J5+EXP(J6*(J4-J7)))/(J5+EXP(J6*(J4-F72))))^J5)/(1-((J5+EXP(J6*(J4-J7)))/(J5+EXP(J6*(J4-J9))))^J5))","v":0},{"$f":"IF(OR(F72<=J9,F72>100000),0,IF(F72<=K7,K8,K8+(K10-K8)*(1-((K5+EXP(K6*(K4-K7)))/(K5+EXP(K6*(K4-F72))))^K5)/(1-((K5+EXP(K6*(K4-K7)))/(K5+EXP(K6*(K4-K9))))^K5)))","v":0},0,0,26.54651351637672,0,"2010-12-31",{"$f":"MAX(L$12:L72)+MAX(M$12:M72)+MAX(N$12:N72)","v":26.54651351637672},"2010-12-31",0.54056255183125757,null,null,null,null,null,null,null,null,null,null,null,null,null,null,null,null,null,0,null,{"$f":"IF(OR(AJ72<=AM7,AJ72>AM9),0,AM8+(AM10-AM8)*(1-((AM5+EXP(AM6*(AM4-AM7)))/(AM5+EXP(AM6*(AM4-AJ72))))^AM5)/(1-((AM5+EXP(AM6*(AM4-AM7)))/(AM5+EXP(AM6*(AM4-AM9))))^AM5))","v":0},{"$f":"IF(OR(AJ72<=AN7,AJ72>AN9),0,AN8+(AN10-AN8)*(1-((AN5+EXP(AN6*(AN4-AN7)))/(AN5+EXP(AN6*(AN4-AJ72))))^AN5)/(1-((AN5+EXP(AN6*(AN4-AN7)))/(AN5+EXP(AN6*(AN4-AN9))))^AN5))","v":0},{"$f":"IF(OR(AJ72<=AN9,AJ72>100000),0,IF(AJ72<=AO7,AO8,AO8+(AO10-AO8)*(1-((AO5+EXP(AO6*(AO4-AO7)))/(AO5+EXP(AO6*(AO4-AJ72))))^AO5)/(1-((AO5+EXP(AO6*(AO4-AO7)))/(AO5+EXP(AO6*(AO4-AO9))))^AO5)))","v":0},0,0]
[62,{"$f":"'daily uptake'!F156","v":"2011-01-01"},{"$f":"5/9*'daily uptake'!Q156","v":7.5},{"$f":"5/9*'daily uptake'!N156","v":1.1111111111111112},{"$f":"IF(AND($A73>='daily uptake'!$C$9,$A73<='daily uptake'!$C$10),$C73+E72,0)","v":572.49999999999966},{"$f":"IF(AND($A73>='daily uptake'!$C$18,$A73<='daily uptake'!$C$20),$D73+F72,0)","v":0},{"$f":"IF(AND($A73>='daily uptake'!$C$24,$A73<='daily uptake'!$C$25),$C73+G72,0)","v":0},{"$f":"IF(OR(F73<=I7,F73>I9),0,I8+(I10-I8)*(1-((I5+EXP(I6*(I4-I7)))/(I5+EXP(I6*(I4-F73))))^I5)/(1-((I5+EXP(I6*(I4-I7)))/(I5+EXP(I6*(I4-I9))))^I5))","v":0},{"$f":"IF(OR(F73<=J7,F73>J9),0,J8+(J10-J8)*(1-((J5+EXP(J6*(J4-J7)))/(J5+EXP(J6*(J4-F73))))^J5)/(1-((J5+EXP(J6*(J4-J7)))/(J5+EXP(J6*(J4-J9))))^J5))","v":0},{"$f":"IF(OR(F73<=J9,F73>100000),0,IF(F73<=K7,K8,K8+(K10-K8)*(1-((K5+EXP(K6*(K4-K7)))/(K5+EXP(K6*(K4-F73))))^K5)/(1-((K5+EXP(K6*(K4-K7)))/(K5+EXP(K6*(K4-K9))))^K5)))","v":0},0,0,27.073151196786274,0,"2011-01-01",{"$f":"MAX(L$12:L73)+MAX(M$12:M73)+MAX(N$12:N73)","v":27.073151196786274},"2011-01-01",0.52663768040955361,null,null,null,null,null,null,null,null,null,null,null,null,null,null,null,null,null,0,null,{"$f":"IF(OR(AJ73<=AM7,AJ73>AM9),0,AM8+(AM10-AM8)*(1-((AM5+EXP(AM6*(AM4-AM7)))/(AM5+EXP(AM6*(AM4-AJ73))))^AM5)/(1-((AM5+EXP(AM6*(AM4-AM7)))/(AM5+EXP(AM6*(AM4-AM9))))^AM5))","v":0},{"$f":"IF(OR(AJ73<=AN7,AJ73>AN9),0,AN8+(AN10-AN8)*(1-((AN5+EXP(AN6*(AN4-AN7)))/(AN5+EXP(AN6*(AN4-AJ73))))^AN5)/(1-((AN5+EXP(AN6*(AN4-AN7)))/(AN5+EXP(AN6*(AN4-AN9))))^AN5))","v":0},{"$f":"IF(OR(AJ73<=AN9,AJ73>100000),0,IF(AJ73<=AO7,AO8,AO8+(AO10-AO8)*(1-((AO5+EXP(AO6*(AO4-AO7)))/(AO5+EXP(AO6*(AO4-AJ73))))^AO5)/(1-((AO5+EXP(AO6*(AO4-AO7)))/(AO5+EXP(AO6*(AO4-AO9))))^AO5)))","v":0},0,0]
[63,{"$f":"'daily uptake'!F157","v":"2011-01-02"},{"$f":"5/9*'daily uptake'!Q157","v":7.5},{"$f":"5/9*'daily uptake'!N157","v":1.1111111111111112},{"$f":"IF(AND($A74>='daily uptake'!$C$9,$A74<='daily uptake'!$C$10),$C74+E73,0)","v":579.99999999999966},{"$f":"IF(AND($A74>='daily uptake'!$C$18,$A74<='daily uptake'!$C$20),$D74+F73,0)","v":0},{"$f":"IF(AND($A74>='daily uptake'!$C$24,$A74<='daily uptake'!$C$25),$C74+G73,0)","v":0},{"$f":"IF(OR(F74<=I7,F74>I9),0,I8+(I10-I8)*(1-((I5+EXP(I6*(I4-I7)))/(I5+EXP(I6*(I4-F74))))^I5)/(1-((I5+EXP(I6*(I4-I7)))/(I5+EXP(I6*(I4-I9))))^I5))","v":0},{"$f":"IF(OR(F74<=J7,F74>J9),0,J8+(J10-J8)*(1-((J5+EXP(J6*(J4-J7)))/(J5+EXP(J6*(J4-F74))))^J5)/(1-((J5+EXP(J6*(J4-J7)))/(J5+EXP(J6*(J4-J9))))^J5))","v":0},{"$f":"IF(OR(F74<=J9,F74>100000),0,IF(F74<=K7,K8,K8+(K10-K8)*(1-((K5+EXP(K6*(K4-K7)))/(K5+EXP(K6*(K4-F74))))^K5)/(1-((K5+EXP(K6*(K4-K7)))/(K5+EXP(K6*(K4-K9))))^K5)))","v":0},0,0,27.605091389541567,0,"2011-01-02",{"$f":"MAX(L$12:L74)+MAX(M$12:M74)+MAX(N$12:N74)","v":27.605091389541567},"2011-01-02",0.53194019275529314,null,null,null,null,null,null,null,null,null,null,null,null,null,null,null,null,null,0,null,{"$f":"IF(OR(AJ74<=AM7,AJ74>AM9),0,AM8+(AM10-AM8)*(1-((AM5+EXP(AM6*(AM4-AM7)))/(AM5+EXP(AM6*(AM4-AJ74))))^AM5)/(1-((AM5+EXP(AM6*(AM4-AM7)))/(AM5+EXP(AM6*(AM4-AM9))))^AM5))","v":0},{"$f":"IF(OR(AJ74<=AN7,AJ74>AN9),0,AN8+(AN10-AN8)*(1-((AN5+EXP(AN6*(AN4-AN7)))/(AN5+EXP(AN6*(AN4-AJ74))))^AN5)/(1-((AN5+EXP(AN6*(AN4-AN7)))/(AN5+EXP(AN6*(AN4-AN9))))^AN5))","v":0},{"$f":"IF(OR(AJ74<=AN9,AJ74>100000),0,IF(AJ74<=AO7,AO8,AO8+(AO10-AO8)*(1-((AO5+EXP(AO6*(AO4-AO7)))/(AO5+EXP(AO6*(AO4-AJ74))))^AO5)/(1-((AO5+EXP(AO6*(AO4-AO7)))/(AO5+EXP(AO6*(AO4-AO9))))^AO5)))","v":0},0,0]
[64,{"$f":"'daily uptake'!F158","v":"2011-01-03"},{"$f":"5/9*'daily uptake'!Q158","v":7.2222222222222223},{"$f":"5/9*'daily uptake'!N158","v":1.1111111111111112},{"$f":"IF(AND($A75>='daily uptake'!$C$9,$A75<='daily uptake'!$C$10),$C75+E74,0)","v":587.22222222222183},{"$f":"IF(AND($A75>='daily uptake'!$C$18,$A75<='daily uptake'!$C$20),$D75+F74,0)","v":0},{"$f":"IF(AND($A75>='daily uptake'!$C$24,$A75<='daily uptake'!$C$25),$C75+G74,0)","v":0},{"$f":"IF(OR(F75<=I7,F75>I9),0,I8+(I10-I8)*(1-((I5+EXP(I6*(I4-I7)))/(I5+EXP(I6*(I4-F75))))^I5)/(1-((I5+EXP(I6*(I4-I7)))/(I5+EXP(I6*(I4-I9))))^I5))","v":0},{"$f":"IF(OR(F75<=J7,F75>J9),0,J8+(J10-J8)*(1-((J5+EXP(J6*(J4-J7)))/(J5+EXP(J6*(J4-F75))))^J5)/(1-((J5+EXP(J6*(J4-J7)))/(J5+EXP(J6*(J4-J9))))^J5))","v":0},{"$f":"IF(OR(F75<=J9,F75>100000),0,IF(F75<=K7,K8,K8+(K10-K8)*(1-((K5+EXP(K6*(K4-K7)))/(K5+EXP(K6*(K4-F75))))^K5)/(1-((K5+EXP(K6*(K4-K7)))/(K5+EXP(K6*(K4-K9))))^K5)))","v":0},0,0,28.122358795125852,0,{"$f":"B75","v":"2011-01-03"},{"$f":"MAX(L$12:L75)+MAX(M$12:M75)+MAX(N$12:N75)","v":28.122358795125852},{"$f":"B75","v":"2011-01-03"},0.51726740558428475,null,null,null,null,null,null,null,null,null,null,null,null,null,null,null,null,null,0,null,{"$f":"IF(OR(AJ75<=AM7,AJ75>AM9),0,AM8+(AM10-AM8)*(1-((AM5+EXP(AM6*(AM4-AM7)))/(AM5+EXP(AM6*(AM4-AJ75))))^AM5)/(1-((AM5+EXP(AM6*(AM4-AM7)))/(AM5+EXP(AM6*(AM4-AM9))))^AM5))","v":0},{"$f":"IF(OR(AJ75<=AN7,AJ75>AN9),0,AN8+(AN10-AN8)*(1-((AN5+EXP(AN6*(AN4-AN7)))/(AN5+EXP(AN6*(AN4-AJ75))))^AN5)/(1-((AN5+EXP(AN6*(AN4-AN7)))/(AN5+EXP(AN6*(AN4-AN9))))^AN5))","v":0},{"$f":"IF(OR(AJ75<=AN9,AJ75>100000),0,IF(AJ75<=AO7,AO8,AO8+(AO10-AO8)*(1-((AO5+EXP(AO6*(AO4-AO7)))/(AO5+EXP(AO6*(AO4-AJ75))))^AO5)/(1-((AO5+EXP(AO6*(AO4-AO7)))/(AO5+EXP(AO6*(AO4-AO9))))^AO5)))","v":0},0,0]
[65,{"$f":"'daily uptake'!F159","v":"2011-01-04"},{"$f":"5/9*'daily uptake'!Q159","v":6.666666666666667},{"$f":"5/9*'daily uptake'!N159","v":0.83333333333333337},{"$f":"IF(AND($A76>='daily uptake'!$C$9,$A76<='daily uptake'!$C$10),$C76+E75,0)","v":593.88888888888846},{"$f":"IF(AND($A76>='daily uptake'!$C$18,$A76<='daily uptake'!$C$20),$D76+F75,0)","v":0},{"$f":"IF(AND($A76>='daily uptake'!$C$24,$A76<='daily uptake'!$C$25),$C76+G75,0)","v":0},{"$f":"IF(OR(F76<=I7,F76>I9),0,I8+(I10-I8)*(1-((I5+EXP(I6*(I4-I7)))/(I5+EXP(I6*(I4-F76))))^I5)/(1-((I5+EXP(I6*(I4-I7)))/(I5+EXP(I6*(I4-I9))))^I5))","v":0},{"$f":"IF(OR(F76<=J7,F76>J9),0,J8+(J10-J8)*(1-((J5+EXP(J6*(J4-J7)))/(J5+EXP(J6*(J4-F76))))^J5)/(1-((J5+EXP(J6*(J4-J7)))/(J5+EXP(J6*(J4-J9))))^J5))","v":0},{"$f":"IF(OR(F76<=J9,F76>100000),0,IF(F76<=K7,K8,K8+(K10-K8)*(1-((K5+EXP(K6*(K4-K7)))/(K5+EXP(K6*(K4-F76))))^K5)/(1-((K5+EXP(K6*(K4-K7)))/(K5+EXP(K6*(K4-K9))))^K5)))","v":0},{"$f":"H76+I76+J76","v":0},0,{"$f":"M$10*(1-(($M$5+EXP($M$6*$M$4))/($M$5+EXP($M$6*($M$4-$E76))))^$M$5)/(1-(($M$5+EXP($M$6*$M$4))/($M$5+EXP($M$6*($M$4-M$9))))^$M$5)","v":28.604229260701249},0,"2011-01-04",{"$f":"MAX(L$12:L76)+MAX(M$12:M76)+MAX(N$12:N76)","v":28.604229260701249},"2011-01-04",0.48187046557539759,null,null,null,null,null,null,null,null,null,null,null,null,null,null,null,null,null,0,null,{"$f":"IF(OR(AJ76<=AM7,AJ76>AM9),0,AM8+(AM10-AM8)*(1-((AM5+EXP(AM6*(AM4-AM7)))/(AM5+EXP(AM6*(AM4-AJ76))))^AM5)/(1-((AM5+EXP(AM6*(AM4-AM7)))/(AM5+EXP(AM6*(AM4-AM9))))^AM5))","v":0},{"$f":"IF(OR(AJ76<=AN7,AJ76>AN9),0,AN8+(AN10-AN8)*(1-((AN5+EXP(AN6*(AN4-AN7)))/(AN5+EXP(AN6*(AN4-AJ76))))^AN5)/(1-((AN5+EXP(AN6*(AN4-AN7)))/(AN5+EXP(AN6*(AN4-AN9))))^AN5))","v":0},{"$f":"IF(OR(AJ76<=AN9,AJ76>100000),0,IF(AJ76<=AO7,AO8,AO8+(AO10-AO8)*(1-((AO5+EXP(AO6*(AO4-AO7)))/(AO5+EXP(AO6*(AO4-AJ76))))^AO5)/(1-((AO5+EXP(AO6*(AO4-AO7)))/(AO5+EXP(AO6*(AO4-AO9))))^AO5)))","v":0},{"$f":"AL76+AM76+AN76","v":0},0]
[66,{"$f":"'daily uptake'!F160","v":"2011-01-05"},{"$f":"5/9*'daily uptake'!Q160","v":6.666666666666667},{"$f":"5/9*'daily uptake'!N160","v":0.83333333333333337},{"$f":"IF(AND($A77>='daily uptake'!$C$9,$A77<='daily uptake'!$C$10),$C77+E76,0)","v":600.55555555555509},{"$f":"IF(AND($A77>='daily uptake'!$C$18,$A77<='daily uptake'!$C$20),$D77+F76,0)","v":0},{"$f":"IF(AND($A77>='daily uptake'!$C$24,$A77<='daily uptake'!$C$25),$C77+G76,0)","v":0},{"$f":"IF(OR(F77<=I7,F77>I9),0,I8+(I10-I8)*(1-((I5+EXP(I6*(I4-I7)))/(I5+EXP(I6*(I4-F77))))^I5)/(1-((I5+EXP(I6*(I4-I7)))/(I5+EXP(I6*(I4-I9))))^I5))","v":0},{"$f":"IF(OR(F77<=J7,F77>J9),0,J8+(J10-J8)*(1-((J5+EXP(J6*(J4-J7)))/(J5+EXP(J6*(J4-F77))))^J5)/(1-((J5+EXP(J6*(J4-J7)))/(J5+EXP(J6*(J4-J9))))^J5))","v":0},{"$f":"IF(OR(F77<=J9,F77>100000),0,IF(F77<=K7,K8,K8+(K10-K8)*(1-((K5+EXP(K6*(K4-K7)))/(K5+EXP(K6*(K4-F77))))^K5)/(1-((K5+EXP(K6*(K4-K7)))/(K5+EXP(K6*(K4-K9))))^K5)))","v":0},0,{"$f":"IF(L$8=0,0,K77*L$7/L$8)","v":0},29.090328958229513,{"$f":"N$10*(1-(($N$5+EXP($N$6*$N$4))/($N$5+EXP($N$6*($N$4-$G77))))^$N$5)/(1-(($N$5+EXP($N$6*$N$4))/($N$5+EXP($N$6*($N$4-N$9))))^$N$5)","v":0},"2011-01-05",{"$f":"MAX(L$12:L77)+MAX(M$12:M77)+MAX(N$12:N77)","v":29.090328958229513},"2011-01-05",{"$f":"P77-P76","v":0.48609969752826387},null,null,null,null,null,null,null,null,null,null,null,null,null,null,null,null,null,0,null,{"$f":"IF(OR(AJ77<=AM7,AJ77>AM9),0,AM8+(AM10-AM8)*(1-((AM5+EXP(AM6*(AM4-AM7)))/(AM5+EXP(AM6*(AM4-AJ77))))^AM5)/(1-((AM5+EXP(AM6*(AM4-AM7)))/(AM5+EXP(AM6*(AM4-AM9))))^AM5))","v":0},{"$f":"IF(OR(AJ77<=AN7,AJ77>AN9),0,AN8+(AN10-AN8)*(1-((AN5+EXP(AN6*(AN4-AN7)))/(AN5+EXP(AN6*(AN4-AJ77))))^AN5)/(1-((AN5+EXP(AN6*(AN4-AN7)))/(AN5+EXP(AN6*(AN4-AN9))))^AN5))","v":0},{"$f":"IF(OR(AJ77<=AN9,AJ77>100000),0,IF(AJ77<=AO7,AO8,AO8+(AO10-AO8)*(1-((AO5+EXP(AO6*(AO4-AO7)))/(AO5+EXP(AO6*(AO4-AJ77))))^AO5)/(1-((AO5+EXP(AO6*(AO4-AO7)))/(AO5+EXP(AO6*(AO4-AO9))))^AO5)))","v":0},0,{"$f":"IF(AP$8=0,0,AO77*AP$7/AP$8)","v":0}]
[67,{"$f":"'daily uptake'!F161","v":"2011-01-06"},{"$f":"5/9*'daily uptake'!Q161","v":6.1111111111111116},{"$f":"5/9*'daily uptake'!N161","v":0.55555555555555558},{"$f":"IF(AND($A78>='daily uptake'!$C$9,$A78<='daily uptake'!$C$10),$C78+E77,0)","v":606.66666666666617},{"$f":"IF(AND($A78>='daily uptake'!$C$18,$A78<='daily uptake'!$C$20),$D78+F77,0)","v":0},{"$f":"IF(AND($A78>='daily uptake'!$C$24,$A78<='daily uptake'!$C$25),$C78+G77,0)","v":0},{"$f":"IF(OR(F78<=I7,F78>I9),0,I8+(I10-I8)*(1-((I5+EXP(I6*(I4-I7)))/(I5+EXP(I6*(I4-F78))))^I5)/(1-((I5+EXP(I6*(I4-I7)))/(I5+EXP(I6*(I4-I9))))^I5))","v":0},{"$f":"IF(OR(F78<=J7,F78>J9),0,J8+(J10-J8)*(1-((J5+EXP(J6*(J4-J7)))/(J5+EXP(J6*(J4-F78))))^J5)/(1-((J5+EXP(J6*(J4-J7)))/(J5+EXP(J6*(J4-J9))))^J5))","v":0},{"$f":"IF(OR(F78<=J9,F78>100000),0,IF(F78<=K7,K8,K8+(K10-K8)*(1-((K5+EXP(K6*(K4-K7)))/(K5+EXP(K6*(K4-F78))))^K5)/(1-((K5+EXP(K6*(K4-K7)))/(K5+EXP(K6*(K4-K9))))^K5)))","v":0},0,0,29.539645183927774,0,"2011-01-06",{"$f":"MAX(L$12:L78)+MAX(M$12:M78)+MAX(N$12:N78)","v":29.539645183927774},"2011-01-06",0.44931622569826146,null,null,null,null,null,null,null,null,null,null,null,null,null,null,null,null,null,0,null,{"$f":"IF(OR(AJ78<=AM7,AJ78>AM9),0,AM8+(AM10-AM8)*(1-((AM5+EXP(AM6*(AM4-AM7)))/(AM5+EXP(AM6*(AM4-AJ78))))^AM5)/(1-((AM5+EXP(AM6*(AM4-AM7)))/(AM5+EXP(AM6*(AM4-AM9))))^AM5))","v":0},{"$f":"IF(OR(AJ78<=AN7,AJ78>AN9),0,AN8+(AN10-AN8)*(1-((AN5+EXP(AN6*(AN4-AN7)))/(AN5+EXP(AN6*(AN4-AJ78))))^AN5)/(1-((AN5+EXP(AN6*(AN4-AN7)))/(AN5+EXP(AN6*(AN4-AN9))))^AN5))","v":0},{"$f":"IF(OR(AJ78<=AN9,AJ78>100000),0,IF(AJ78<=AO7,AO8,AO8+(AO10-AO8)*(1-((AO5+EXP(AO6*(AO4-AO7)))/(AO5+EXP(AO6*(AO4-AJ78))))^AO5)/(1-((AO5+EXP(AO6*(AO4-AO7)))/(AO5+EXP(AO6*(AO4-AO9))))^AO5)))","v":0},0,0]
[68,{"$f":"'daily uptake'!F162","v":"2011-01-07"},{"$f":"5/9*'daily uptake'!Q162","v":6.666666666666667},{"$f":"5/9*'daily uptake'!N162","v":0.55555555555555558},{"$f":"IF(AND($A79>='daily uptake'!$C$9,$A79<='daily uptake'!$C$10),$C79+E78,0)","v":613.3333333333328},{"$f":"IF(AND($A79>='daily uptake'!$C$18,$A79<='daily uptake'!$C$20),$D79+F78,0)","v":0},{"$f":"IF(AND($A79>='daily uptake'!$C$24,$A79<='daily uptake'!$C$25),$C79+G78,0)","v":0},{"$f":"IF(OR(F79<=I7,F79>I9),0,I8+(I10-I8)*(1-((I5+EXP(I6*(I4-I7)))/(I5+EXP(I6*(I4-F79))))^I5)/(1-((I5+EXP(I6*(I4-I7)))/(I5+EXP(I6*(I4-I9))))^I5))","v":0},{"$f":"IF(OR(F79<=J7,F79>J9),0,J8+(J10-J8)*(1-((J5+EXP(J6*(J4-J7)))/(J5+EXP(J6*(J4-F79))))^J5)/(1-((J5+EXP(J6*(J4-J7)))/(J5+EXP(J6*(J4-J9))))^J5))","v":0},{"$f":"IF(OR(F79<=J9,F79>100000),0,IF(F79<=K7,K8,K8+(K10-K8)*(1-((K5+EXP(K6*(K4-K7)))/(K5+EXP(K6*(K4-F79))))^K5)/(1-((K5+EXP(K6*(K4-K7)))/(K5+EXP(K6*(K4-K9))))^K5)))","v":0},0,0,30.033881727982504,0,"2011-01-07",{"$f":"MAX(L$12:L79)+MAX(M$12:M79)+MAX(N$12:N79)","v":30.033881727982504},"2011-01-07",0.49423654405472917,null,null,null,null,null,null,null,null,null,null,null,null,null,null,null,null,null,0,null,{"$f":"IF(OR(AJ79<=AM7,AJ79>AM9),0,AM8+(AM10-AM8)*(1-((AM5+EXP(AM6*(AM4-AM7)))/(AM5+EXP(AM6*(AM4-AJ79))))^AM5)/(1-((AM5+EXP(AM6*(AM4-AM7)))/(AM5+EXP(AM6*(AM4-AM9))))^AM5))","v":0},{"$f":"IF(OR(AJ79<=AN7,AJ79>AN9),0,AN8+(AN10-AN8)*(1-((AN5+EXP(AN6*(AN4-AN7)))/(AN5+EXP(AN6*(AN4-AJ79))))^AN5)/(1-((AN5+EXP(AN6*(AN4-AN7)))/(AN5+EXP(AN6*(AN4-AN9))))^AN5))","v":0},{"$f":"IF(OR(AJ79<=AN9,AJ79>100000),0,IF(AJ79<=AO7,AO8,AO8+(AO10-AO8)*(1-((AO5+EXP(AO6*(AO4-AO7)))/(AO5+EXP(AO6*(AO4-AJ79))))^AO5)/(1-((AO5+EXP(AO6*(AO4-AO7)))/(AO5+EXP(AO6*(AO4-AO9))))^AO5)))","v":0},0,0]
[69,{"$f":"'daily uptake'!F163","v":"2011-01-08"},{"$f":"5/9*'daily uptake'!Q163","v":7.5},{"$f":"5/9*'daily uptake'!N163","v":0.83333333333333337},{"$f":"IF(AND($A80>='daily uptake'!$C$9,$A80<='daily uptake'!$C$10),$C80+E79,0)","v":620.8333333333328},{"$f":"IF(AND($A80>='daily uptake'!$C$18,$A80<='daily uptake'!$C$20),$D80+F79,0)","v":0},{"$f":"IF(AND($A80>='daily uptake'!$C$24,$A80<='daily uptake'!$C$25),$C80+G79,0)","v":0},{"$f":"IF(OR(F80<=I7,F80>I9),0,I8+(I10-I8)*(1-((I5+EXP(I6*(I4-I7)))/(I5+EXP(I6*(I4-F80))))^I5)/(1-((I5+EXP(I6*(I4-I7)))/(I5+EXP(I6*(I4-I9))))^I5))","v":0},{"$f":"IF(OR(F80<=J7,F80>J9),0,J8+(J10-J8)*(1-((J5+EXP(J6*(J4-J7)))/(J5+EXP(J6*(J4-F80))))^J5)/(1-((J5+EXP(J6*(J4-J7)))/(J5+EXP(J6*(J4-J9))))^J5))","v":0},{"$f":"IF(OR(F80<=J9,F80>100000),0,IF(F80<=K7,K8,K8+(K10-K8)*(1-((K5+EXP(K6*(K4-K7)))/(K5+EXP(K6*(K4-F80))))^K5)/(1-((K5+EXP(K6*(K4-K7)))/(K5+EXP(K6*(K4-K9))))^K5)))","v":0},0,0,30.594990721245075,0,"2011-01-08",{"$f":"MAX(L$12:L80)+MAX(M$12:M80)+MAX(N$12:N80)","v":30.594990721245075},"2011-01-08",0.56110899326257169,null,null,null,null,null,null,null,null,null,null,null,null,null,null,null,null,null,0,null,{"$f":"IF(OR(AJ80<=AM7,AJ80>AM9),0,AM8+(AM10-AM8)*(1-((AM5+EXP(AM6*(AM4-AM7)))/(AM5+EXP(AM6*(AM4-AJ80))))^AM5)/(1-((AM5+EXP(AM6*(AM4-AM7)))/(AM5+EXP(AM6*(AM4-AM9))))^AM5))","v":0},{"$f":"IF(OR(AJ80<=AN7,AJ80>AN9),0,AN8+(AN10-AN8)*(1-((AN5+EXP(AN6*(AN4-AN7)))/(AN5+EXP(AN6*(AN4-AJ80))))^AN5)/(1-((AN5+EXP(AN6*(AN4-AN7)))/(AN5+EXP(AN6*(AN4-AN9))))^AN5))","v":0},{"$f":"IF(OR(AJ80<=AN9,AJ80>100000),0,IF(AJ80<=AO7,AO8,AO8+(AO10-AO8)*(1-((AO5+EXP(AO6*(AO4-AO7)))/(AO5+EXP(AO6*(AO4-AJ80))))^AO5)/(1-((AO5+EXP(AO6*(AO4-AO7)))/(AO5+EXP(AO6*(AO4-AO9))))^AO5)))","v":0},0,0]
[70,{"$f":"'daily uptake'!F164","v":"2011-01-09"},{"$f":"5/9*'daily uptake'!Q164","v":7.7777777777777786},{"$f":"5/9*'daily uptake'!N164","v":1.1111111111111112},{"$f":"IF(AND($A81>='daily uptake'!$C$9,$A81<='daily uptake'!$C$10),$C81+E80,0)","v":628.61111111111063},{"$f":"IF(AND($A81>='daily uptake'!$C$18,$A81<='daily uptake'!$C$20),$D81+F80,0)","v":0},{"$f":"IF(AND($A81>='daily uptake'!$C$24,$A81<='daily uptake'!$C$25),$C81+G80,0)","v":0},{"$f":"IF(OR(F81<=I7,F81>I9),0,I8+(I10-I8)*(1-((I5+EXP(I6*(I4-I7)))/(I5+EXP(I6*(I4-F81))))^I5)/(1-((I5+EXP(I6*(I4-I7)))/(I5+EXP(I6*(I4-I9))))^I5))","v":0},{"$f":"IF(OR(F81<=J7,F81>J9),0,J8+(J10-J8)*(1-((J5+EXP(J6*(J4-J7)))/(J5+EXP(J6*(J4-F81))))^J5)/(1-((J5+EXP(J6*(J4-J7)))/(J5+EXP(J6*(J4-J9))))^J5))","v":0},{"$f":"IF(OR(F81<=J9,F81>100000),0,IF(F81<=K7,K8,K8+(K10-K8)*(1-((K5+EXP(K6*(K4-K7)))/(K5+EXP(K6*(K4-F81))))^K5)/(1-((K5+EXP(K6*(K4-K7)))/(K5+EXP(K6*(K4-K9))))^K5)))","v":0},0,0,31.182591148404441,0,"2011-01-09",{"$f":"MAX(L$12:L81)+MAX(M$12:M81)+MAX(N$12:N81)","v":31.182591148404441},"2011-01-09",0.58760042715936578,null,null,null,null,null,null,null,null,null,null,null,null,null,null,null,null,null,0,null,{"$f":"IF(OR(AJ81<=AM7,AJ81>AM9),0,AM8+(AM10-AM8)*(1-((AM5+EXP(AM6*(AM4-AM7)))/(AM5+EXP(AM6*(AM4-AJ81))))^AM5)/(1-((AM5+EXP(AM6*(AM4-AM7)))/(AM5+EXP(AM6*(AM4-AM9))))^AM5))","v":0},{"$f":"IF(OR(AJ81<=AN7,AJ81>AN9),0,AN8+(AN10-AN8)*(1-((AN5+EXP(AN6*(AN4-AN7)))/(AN5+EXP(AN6*(AN4-AJ81))))^AN5)/(1-((AN5+EXP(AN6*(AN4-AN7)))/(AN5+EXP(AN6*(AN4-AN9))))^AN5))","v":0},{"$f":"IF(OR(AJ81<=AN9,AJ81>100000),0,IF(AJ81<=AO7,AO8,AO8+(AO10-AO8)*(1-((AO5+EXP(AO6*(AO4-AO7)))/(AO5+EXP(AO6*(AO4-AJ81))))^AO5)/(1-((AO5+EXP(AO6*(AO4-AO7)))/(AO5+EXP(AO6*(AO4-AO9))))^AO5)))","v":0},0,0]
[71,{"$f":"'daily uptake'!F165","v":"2011-01-10"},{"$f":"5/9*'daily uptake'!Q165","v":7.7777777777777786},{"$f":"5/9*'daily uptake'!N165","v":1.1111111111111112},{"$f":"IF(AND($A82>='daily uptake'!$C$9,$A82<='daily uptake'!$C$10),$C82+E81,0)","v":636.38888888888846},{"$f":"IF(AND($A82>='daily uptake'!$C$18,$A82<='daily uptake'!$C$20),$D82+F81,0)","v":0},{"$f":"IF(AND($A82>='daily uptake'!$C$24,$A82<='daily uptake'!$C$25),$C82+G81,0)","v":0},{"$f":"IF(OR(F82<=I7,F82>I9),0,I8+(I10-I8)*(1-((I5+EXP(I6*(I4-I7)))/(I5+EXP(I6*(I4-F82))))^I5)/(1-((I5+EXP(I6*(I4-I7)))/(I5+EXP(I6*(I4-I9))))^I5))","v":0},{"$f":"IF(OR(F82<=J7,F82>J9),0,J8+(J10-J8)*(1-((J5+EXP(J6*(J4-J7)))/(J5+EXP(J6*(J4-F82))))^J5)/(1-((J5+EXP(J6*(J4-J7)))/(J5+EXP(J6*(J4-J9))))^J5))","v":0},{"$f":"IF(OR(F82<=J9,F82>100000),0,IF(F82<=K7,K8,K8+(K10-K8)*(1-((K5+EXP(K6*(K4-K7)))/(K5+EXP(K6*(K4-F82))))^K5)/(1-((K5+EXP(K6*(K4-K7)))/(K5+EXP(K6*(K4-K9))))^K5)))","v":0},0,0,31.776018801888071,0,"2011-01-10",{"$f":"MAX(L$12:L82)+MAX(M$12:M82)+MAX(N$12:N82)","v":31.776018801888071},"2011-01-10",0.59342765348363002,null,null,null,null,null,null,null,null,null,null,null,null,null,null,null,null,null,0,null,{"$f":"IF(OR(AJ82<=AM7,AJ82>AM9),0,AM8+(AM10-AM8)*(1-((AM5+EXP(AM6*(AM4-AM7)))/(AM5+EXP(AM6*(AM4-AJ82))))^AM5)/(1-((AM5+EXP(AM6*(AM4-AM7)))/(AM5+EXP(AM6*(AM4-AM9))))^AM5))","v":0},{"$f":"IF(OR(AJ82<=AN7,AJ82>AN9),0,AN8+(AN10-AN8)*(1-((AN5+EXP(AN6*(AN4-AN7)))/(AN5+EXP(AN6*(AN4-AJ82))))^AN5)/(1-((AN5+EXP(AN6*(AN4-AN7)))/(AN5+EXP(AN6*(AN4-AN9))))^AN5))","v":0},{"$f":"IF(OR(AJ82<=AN9,AJ82>100000),0,IF(AJ82<=AO7,AO8,AO8+(AO10-AO8)*(1-((AO5+EXP(AO6*(AO4-AO7)))/(AO5+EXP(AO6*(AO4-AJ82))))^AO5)/(1-((AO5+EXP(AO6*(AO4-AO7)))/(AO5+EXP(AO6*(AO4-AO9))))^AO5)))","v":0},0,0]
[72,{"$f":"'daily uptake'!F166","v":"2011-01-11"},{"$f":"5/9*'daily uptake'!Q166","v":7.2222222222222223},{"$f":"5/9*'daily uptake'!N166","v":0.55555555555555558},{"$f":"IF(AND($A83>='daily uptake'!$C$9,$A83<='daily uptake'!$C$10),$C83+E82,0)","v":643.61111111111063},{"$f":"IF(AND($A83>='daily uptake'!$C$18,$A83<='daily uptake'!$C$20),$D83+F82,0)","v":0},{"$f":"IF(AND($A83>='daily uptake'!$C$24,$A83<='daily uptake'!$C$25),$C83+G82,0)","v":0},{"$f":"IF(OR(F83<=I7,F83>I9),0,I8+(I10-I8)*(1-((I5+EXP(I6*(I4-I7)))/(I5+EXP(I6*(I4-F83))))^I5)/(1-((I5+EXP(I6*(I4-I7)))/(I5+EXP(I6*(I4-I9))))^I5))","v":0},{"$f":"IF(OR(F83<=J7,F83>J9),0,J8+(J10-J8)*(1-((J5+EXP(J6*(J4-J7)))/(J5+EXP(J6*(J4-F83))))^J5)/(1-((J5+EXP(J6*(J4-J7)))/(J5+EXP(J6*(J4-J9))))^J5))","v":0},{"$f":"IF(OR(F83<=J9,F83>100000),0,IF(F83<=K7,K8,K8+(K10-K8)*(1-((K5+EXP(K6*(K4-K7)))/(K5+EXP(K6*(K4-F83))))^K5)/(1-((K5+EXP(K6*(K4-K7)))/(K5+EXP(K6*(K4-K9))))^K5)))","v":0},0,0,32.332287749505497,0,"2011-01-11",{"$f":"MAX(L$12:L83)+MAX(M$12:M83)+MAX(N$12:N83)","v":32.332287749505497},"2011-01-11",0.55626894761742562,null,null,null,null,null,null,null,null,null,null,null,null,null,null,null,null,null,0,null,{"$f":"IF(OR(AJ83<=AM7,AJ83>AM9),0,AM8+(AM10-AM8)*(1-((AM5+EXP(AM6*(AM4-AM7)))/(AM5+EXP(AM6*(AM4-AJ83))))^AM5)/(1-((AM5+EXP(AM6*(AM4-AM7)))/(AM5+EXP(AM6*(AM4-AM9))))^AM5))","v":0},{"$f":"IF(OR(AJ83<=AN7,AJ83>AN9),0,AN8+(AN10-AN8)*(1-((AN5+EXP(AN6*(AN4-AN7)))/(AN5+EXP(AN6*(AN4-AJ83))))^AN5)/(1-((AN5+EXP(AN6*(AN4-AN7)))/(AN5+EXP(AN6*(AN4-AN9))))^AN5))","v":0},{"$f":"IF(OR(AJ83<=AN9,AJ83>100000),0,IF(AJ83<=AO7,AO8,AO8+(AO10-AO8)*(1-((AO5+EXP(AO6*(AO4-AO7)))/(AO5+EXP(AO6*(AO4-AJ83))))^AO5)/(1-((AO5+EXP(AO6*(AO4-AO7)))/(AO5+EXP(AO6*(AO4-AO9))))^AO5)))","v":0},0,0]
[73,{"$f":"'daily uptake'!F167","v":"2011-01-12"},{"$f":"5/9*'daily uptake'!Q167","v":7.5},{"$f":"5/9*'daily uptake'!N167","v":0.83333333333333337},{"$f":"IF(AND($A84>='daily uptake'!$C$9,$A84<='daily uptake'!$C$10),$C84+E83,0)","v":651.11111111111063},{"$f":"IF(AND($A84>='daily uptake'!$C$18,$A84<='daily uptake'!$C$20),$D84+F83,0)","v":0},{"$f":"IF(AND($A84>='daily uptake'!$C$24,$A84<='daily uptake'!$C$25),$C84+G83,0)","v":0},{"$f":"IF(OR(F84<=I7,F84>I9),0,I8+(I10-I8)*(1-((I5+EXP(I6*(I4-I7)))/(I5+EXP(I6*(I4-F84))))^I5)/(1-((I5+EXP(I6*(I4-I7)))/(I5+EXP(I6*(I4-I9))))^I5))","v":0},{"$f":"IF(OR(F84<=J7,F84>J9),0,J8+(J10-J8)*(1-((J5+EXP(J6*(J4-J7)))/(J5+EXP(J6*(J4-F84))))^J5)/(1-((J5+EXP(J6*(J4-J7)))/(J5+EXP(J6*(J4-J9))))^J5))","v":0},{"$f":"IF(OR(F84<=J9,F84>100000),0,IF(F84<=K7,K8,K8+(K10-K8)*(1-((K5+EXP(K6*(K4-K7)))/(K5+EXP(K6*(K4-F84))))^K5)/(1-((K5+EXP(K6*(K4-K7)))/(K5+EXP(K6*(K4-K9))))^K5)))","v":0},0,0,32.91529151741998,0,"2011-01-12",{"$f":"MAX(L$12:L84)+MAX(M$12:M84)+MAX(N$12:N84)","v":32.91529151741998},"2011-01-12",0.58300376791448372,null,null,null,null,null,null,null,null,null,null,null,null,null,null,null,null,null,0,null,{"$f":"IF(OR(AJ84<=AM7,AJ84>AM9),0,AM8+(AM10-AM8)*(1-((AM5+EXP(AM6*(AM4-AM7)))/(AM5+EXP(AM6*(AM4-AJ84))))^AM5)/(1-((AM5+EXP(AM6*(AM4-AM7)))/(AM5+EXP(AM6*(AM4-AM9))))^AM5))","v":0},{"$f":"IF(OR(AJ84<=AN7,AJ84>AN9),0,AN8+(AN10-AN8)*(1-((AN5+EXP(AN6*(AN4-AN7)))/(AN5+EXP(AN6*(AN4-AJ84))))^AN5)/(1-((AN5+EXP(AN6*(AN4-AN7)))/(AN5+EXP(AN6*(AN4-AN9))))^AN5))","v":0},{"$f":"IF(OR(AJ84<=AN9,AJ84>100000),0,IF(AJ84<=AO7,AO8,AO8+(AO10-AO8)*(1-((AO5+EXP(AO6*(AO4-AO7)))/(AO5+EXP(AO6*(AO4-AJ84))))^AO5)/(1-((AO5+EXP(AO6*(AO4-AO7)))/(AO5+EXP(AO6*(AO4-AO9))))^AO5)))","v":0},0,0]
[74,{"$f":"'daily uptake'!F168","v":"2011-01-13"},{"$f":"5/9*'daily uptake'!Q168","v":6.9444444444444446},{"$f":"5/9*'daily uptake'!N168","v":1.1111111111111112},{"$f":"IF(AND($A85>='daily uptake'!$C$9,$A85<='daily uptake'!$C$10),$C85+E84,0)","v":658.05555555555509},{"$f":"IF(AND($A85>='daily uptake'!$C$18,$A85<='daily uptake'!$C$20),$D85+F84,0)","v":0},{"$f":"IF(AND($A85>='daily uptake'!$C$24,$A85<='daily uptake'!$C$25),$C85+G84,0)","v":0},{"$f":"IF(OR(F85<=I7,F85>I9),0,I8+(I10-I8)*(1-((I5+EXP(I6*(I4-I7)))/(I5+EXP(I6*(I4-F85))))^I5)/(1-((I5+EXP(I6*(I4-I7)))/(I5+EXP(I6*(I4-I9))))^I5))","v":0},{"$f":"IF(OR(F85<=J7,F85>J9),0,J8+(J10-J8)*(1-((J5+EXP(J6*(J4-J7)))/(J5+EXP(J6*(J4-F85))))^J5)/(1-((J5+EXP(J6*(J4-J7)))/(J5+EXP(J6*(J4-J9))))^J5))","v":0},{"$f":"IF(OR(F85<=J9,F85>100000),0,IF(F85<=K7,K8,K8+(K10-K8)*(1-((K5+EXP(K6*(K4-K7)))/(K5+EXP(K6*(K4-F85))))^K5)/(1-((K5+EXP(K6*(K4-K7)))/(K5+EXP(K6*(K4-K9))))^K5)))","v":0},0,0,33.459969011603079,0,"2011-01-13",{"$f":"MAX(L$12:L85)+MAX(M$12:M85)+MAX(N$12:N85)","v":33.459969011603079},"2011-01-13",0.54467749418309808,null,null,null,null,null,null,null,null,null,null,null,null,null,null,null,null,null,0,null,{"$f":"IF(OR(AJ85<=AM7,AJ85>AM9),0,AM8+(AM10-AM8)*(1-((AM5+EXP(AM6*(AM4-AM7)))/(AM5+EXP(AM6*(AM4-AJ85))))^AM5)/(1-((AM5+EXP(AM6*(AM4-AM7)))/(AM5+EXP(AM6*(AM4-AM9))))^AM5))","v":0},{"$f":"IF(OR(AJ85<=AN7,AJ85>AN9),0,AN8+(AN10-AN8)*(1-((AN5+EXP(AN6*(AN4-AN7)))/(AN5+EXP(AN6*(AN4-AJ85))))^AN5)/(1-((AN5+EXP(AN6*(AN4-AN7)))/(AN5+EXP(AN6*(AN4-AN9))))^AN5))","v":0},{"$f":"IF(OR(AJ85<=AN9,AJ85>100000),0,IF(AJ85<=AO7,AO8,AO8+(AO10-AO8)*(1-((AO5+EXP(AO6*(AO4-AO7)))/(AO5+EXP(AO6*(AO4-AJ85))))^AO5)/(1-((AO5+EXP(AO6*(AO4-AO7)))/(AO5+EXP(AO6*(AO4-AO9))))^AO5)))","v":0},0,0]
[75,{"$f":"'daily uptake'!F169","v":"2011-01-14"},{"$f":"5/9*'daily uptake'!Q169","v":6.9444444444444446},{"$f":"5/9*'daily uptake'!N169","v":0.83333333333333337},{"$f":"IF(AND($A86>='daily uptake'!$C$9,$A86<='daily uptake'!$C$10),$C86+E85,0)","v":664.99999999999955},{"$f":"IF(AND($A86>='daily uptake'!$C$18,$A86<='daily uptake'!$C$20),$D86+F85,0)","v":0},{"$f":"IF(AND($A86>='daily uptake'!$C$24,$A86<='daily uptake'!$C$25),$C86+G85,0)","v":0},{"$f":"IF(OR(F86<=I7,F86>I9),0,I8+(I10-I8)*(1-((I5+EXP(I6*(I4-I7)))/(I5+EXP(I6*(I4-F86))))^I5)/(1-((I5+EXP(I6*(I4-I7)))/(I5+EXP(I6*(I4-I9))))^I5))","v":0},{"$f":"IF(OR(F86<=J7,F86>J9),0,J8+(J10-J8)*(1-((J5+EXP(J6*(J4-J7)))/(J5+EXP(J6*(J4-F86))))^J5)/(1-((J5+EXP(J6*(J4-J7)))/(J5+EXP(J6*(J4-J9))))^J5))","v":0},{"$f":"IF(OR(F86<=J9,F86>100000),0,IF(F86<=K7,K8,K8+(K10-K8)*(1-((K5+EXP(K6*(K4-K7)))/(K5+EXP(K6*(K4-F86))))^K5)/(1-((K5+EXP(K6*(K4-K7)))/(K5+EXP(K6*(K4-K9))))^K5)))","v":0},0,0,34.009325741047377,0,"2011-01-14",{"$f":"MAX(L$12:L86)+MAX(M$12:M86)+MAX(N$12:N86)","v":34.009325741047377},"2011-01-14",0.54935672944429825,null,null,null,null,null,null,null,null,null,null,null,null,null,null,null,null,null,0,null,{"$f":"IF(OR(AJ86<=AM7,AJ86>AM9),0,AM8+(AM10-AM8)*(1-((AM5+EXP(AM6*(AM4-AM7)))/(AM5+EXP(AM6*(AM4-AJ86))))^AM5)/(1-((AM5+EXP(AM6*(AM4-AM7)))/(AM5+EXP(AM6*(AM4-AM9))))^AM5))","v":0},{"$f":"IF(OR(AJ86<=AN7,AJ86>AN9),0,AN8+(AN10-AN8)*(1-((AN5+EXP(AN6*(AN4-AN7)))/(AN5+EXP(AN6*(AN4-AJ86))))^AN5)/(1-((AN5+EXP(AN6*(AN4-AN7)))/(AN5+EXP(AN6*(AN4-AN9))))^AN5))","v":0},{"$f":"IF(OR(AJ86<=AN9,AJ86>100000),0,IF(AJ86<=AO7,AO8,AO8+(AO10-AO8)*(1-((AO5+EXP(AO6*(AO4-AO7)))/(AO5+EXP(AO6*(AO4-AJ86))))^AO5)/(1-((AO5+EXP(AO6*(AO4-AO7)))/(AO5+EXP(AO6*(AO4-AO9))))^AO5)))","v":0},0,0]
[76,{"$f":"'daily uptake'!F170","v":"2011-01-15"},{"$f":"5/9*'daily uptake'!Q170","v":6.9444444444444446},{"$f":"5/9*'daily uptake'!N170","v":0.83333333333333337},{"$f":"IF(AND($A87>='daily uptake'!$C$9,$A87<='daily uptake'!$C$10),$C87+E86,0)","v":671.944444444444},{"$f":"IF(AND($A87>='daily uptake'!$C$18,$A87<='daily uptake'!$C$20),$D87+F86,0)","v":0},{"$f":"IF(AND($A87>='daily uptake'!$C$24,$A87<='daily uptake'!$C$25),$C87+G86,0)","v":0},{"$f":"IF(OR(F87<=I7,F87>I9),0,I8+(I10-I8)*(1-((I5+EXP(I6*(I4-I7)))/(I5+EXP(I6*(I4-F87))))^I5)/(1-((I5+EXP(I6*(I4-I7)))/(I5+EXP(I6*(I4-I9))))^I5))","v":0},{"$f":"IF(OR(F87<=J7,F87>J9),0,J8+(J10-J8)*(1-((J5+EXP(J6*(J4-J7)))/(J5+EXP(J6*(J4-F87))))^J5)/(1-((J5+EXP(J6*(J4-J7)))/(J5+EXP(J6*(J4-J9))))^J5))","v":0},{"$f":"IF(OR(F87<=J9,F87>100000),0,IF(F87<=K7,K8,K8+(K10-K8)*(1-((K5+EXP(K6*(K4-K7)))/(K5+EXP(K6*(K4-F87))))^K5)/(1-((K5+EXP(K6*(K4-K7)))/(K5+EXP(K6*(K4-K9))))^K5)))","v":0},0,0,34.563367663351798,0,"2011-01-15",{"$f":"MAX(L$12:L87)+MAX(M$12:M87)+MAX(N$12:N87)","v":34.563367663351798},"2011-01-15",0.55404192230442106,null,null,null,null,null,null,null,null,null,null,null,null,null,null,null,null,null,0,null,{"$f":"IF(OR(AJ87<=AM7,AJ87>AM9),0,AM8+(AM10-AM8)*(1-((AM5+EXP(AM6*(AM4-AM7)))/(AM5+EXP(AM6*(AM4-AJ87))))^AM5)/(1-((AM5+EXP(AM6*(AM4-AM7)))/(AM5+EXP(AM6*(AM4-AM9))))^AM5))","v":0},{"$f":"IF(OR(AJ87<=AN7,AJ87>AN9),0,AN8+(AN10-AN8)*(1-((AN5+EXP(AN6*(AN4-AN7)))/(AN5+EXP(AN6*(AN4-AJ87))))^AN5)/(1-((AN5+EXP(AN6*(AN4-AN7)))/(AN5+EXP(AN6*(AN4-AN9))))^AN5))","v":0},{"$f":"IF(OR(AJ87<=AN9,AJ87>100000),0,IF(AJ87<=AO7,AO8,AO8+(AO10-AO8)*(1-((AO5+EXP(AO6*(AO4-AO7)))/(AO5+EXP(AO6*(AO4-AJ87))))^AO5)/(1-((AO5+EXP(AO6*(AO4-AO7)))/(AO5+EXP(AO6*(AO4-AO9))))^AO5)))","v":0},0,0]
[77,{"$f":"'daily uptake'!F171","v":"2011-01-16"},{"$f":"5/9*'daily uptake'!Q171","v":7.5},{"$f":"5/9*'daily uptake'!N171","v":1.3888888888888888},{"$f":"IF(AND($A88>='daily uptake'!$C$9,$A88<='daily uptake'!$C$10),$C88+E87,0)","v":679.444444444444},{"$f":"IF(AND($A88>='daily uptake'!$C$18,$A88<='daily uptake'!$C$20),$D88+F87,0)","v":0},{"$f":"IF(AND($A88>='daily uptake'!$C$24,$A88<='daily uptake'!$C$25),$C88+G87,0)","v":0},{"$f":"IF(OR(F88<=I7,F88>I9),0,I8+(I10-I8)*(1-((I5+EXP(I6*(I4-I7)))/(I5+EXP(I6*(I4-F88))))^I5)/(1-((I5+EXP(I6*(I4-I7)))/(I5+EXP(I6*(I4-I9))))^I5))","v":0},{"$f":"IF(OR(F88<=J7,F88>J9),0,J8+(J10-J8)*(1-((J5+EXP(J6*(J4-J7)))/(J5+EXP(J6*(J4-F88))))^J5)/(1-((J5+EXP(J6*(J4-J7)))/(J5+EXP(J6*(J4-J9))))^J5))","v":0},{"$f":"IF(OR(F88<=J9,F88>100000),0,IF(F88<=K7,K8,K8+(K10-K8)*(1-((K5+EXP(K6*(K4-K7)))/(K5+EXP(K6*(K4-F88))))^K5)/(1-((K5+EXP(K6*(K4-K7)))/(K5+EXP(K6*(K4-K9))))^K5)))","v":0},0,0,35.167001279620415,0,"2011-01-16",{"$f":"MAX(L$12:L88)+MAX(M$12:M88)+MAX(N$12:N88)","v":35.167001279620415},"2011-01-16",0.60363361626861689,null,null,null,null,null,null,null,null,null,null,null,null,null,null,null,null,null,0,null,{"$f":"IF(OR(AJ88<=AM7,AJ88>AM9),0,AM8+(AM10-AM8)*(1-((AM5+EXP(AM6*(AM4-AM7)))/(AM5+EXP(AM6*(AM4-AJ88))))^AM5)/(1-((AM5+EXP(AM6*(AM4-AM7)))/(AM5+EXP(AM6*(AM4-AM9))))^AM5))","v":0},{"$f":"IF(OR(AJ88<=AN7,AJ88>AN9),0,AN8+(AN10-AN8)*(1-((AN5+EXP(AN6*(AN4-AN7)))/(AN5+EXP(AN6*(AN4-AJ88))))^AN5)/(1-((AN5+EXP(AN6*(AN4-AN7)))/(AN5+EXP(AN6*(AN4-AN9))))^AN5))","v":0},{"$f":"IF(OR(AJ88<=AN9,AJ88>100000),0,IF(AJ88<=AO7,AO8,AO8+(AO10-AO8)*(1-((AO5+EXP(AO6*(AO4-AO7)))/(AO5+EXP(AO6*(AO4-AJ88))))^AO5)/(1-((AO5+EXP(AO6*(AO4-AO7)))/(AO5+EXP(AO6*(AO4-AO9))))^AO5)))","v":0},0,0]
[78,{"$f":"'daily uptake'!F172","v":"2011-01-17"},{"$f":"5/9*'daily uptake'!Q172","v":7.5},{"$f":"5/9*'daily uptake'!N172","v":1.1111111111111112},{"$f":"IF(AND($A89>='daily uptake'!$C$9,$A89<='daily uptake'!$C$10),$C89+E88,0)","v":686.944444444444},{"$f":"IF(AND($A89>='daily uptake'!$C$18,$A89<='daily uptake'!$C$20),$D89+F88,0)","v":0},{"$f":"IF(AND($A89>='daily uptake'!$C$24,$A89<='daily uptake'!$C$25),$C89+G88,0)","v":0},{"$f":"IF(OR(F89<=I7,F89>I9),0,I8+(I10-I8)*(1-((I5+EXP(I6*(I4-I7)))/(I5+EXP(I6*(I4-F89))))^I5)/(1-((I5+EXP(I6*(I4-I7)))/(I5+EXP(I6*(I4-I9))))^I5))","v":0},{"$f":"IF(OR(F89<=J7,F89>J9),0,J8+(J10-J8)*(1-((J5+EXP(J6*(J4-J7)))/(J5+EXP(J6*(J4-F89))))^J5)/(1-((J5+EXP(J6*(J4-J7)))/(J5+EXP(J6*(J4-J9))))^J5))","v":0},{"$f":"IF(OR(F89<=J9,F89>100000),0,IF(F89<=K7,K8,K8+(K10-K8)*(1-((K5+EXP(K6*(K4-K7)))/(K5+EXP(K6*(K4-F89))))^K5)/(1-((K5+EXP(K6*(K4-K7)))/(K5+EXP(K6*(K4-K9))))^K5)))","v":0},0,0,35.776111146220046,0,"2011-01-17",{"$f":"MAX(L$12:L89)+MAX(M$12:M89)+MAX(N$12:N89)","v":35.776111146220046},"2011-01-17",0.60910986659963129,null,null,null,null,null,null,null,null,null,null,null,null,null,null,null,null,null,0,null,{"$f":"IF(OR(AJ89<=AM7,AJ89>AM9),0,AM8+(AM10-AM8)*(1-((AM5+EXP(AM6*(AM4-AM7)))/(AM5+EXP(AM6*(AM4-AJ89))))^AM5)/(1-((AM5+EXP(AM6*(AM4-AM7)))/(AM5+EXP(AM6*(AM4-AM9))))^AM5))","v":0},{"$f":"IF(OR(AJ89<=AN7,AJ89>AN9),0,AN8+(AN10-AN8)*(1-((AN5+EXP(AN6*(AN4-AN7)))/(AN5+EXP(AN6*(AN4-AJ89))))^AN5)/(1-((AN5+EXP(AN6*(AN4-AN7)))/(AN5+EXP(AN6*(AN4-AN9))))^AN5))","v":0},{"$f":"IF(OR(AJ89<=AN9,AJ89>100000),0,IF(AJ89<=AO7,AO8,AO8+(AO10-AO8)*(1-((AO5+EXP(AO6*(AO4-AO7)))/(AO5+EXP(AO6*(AO4-AJ89))))^AO5)/(1-((AO5+EXP(AO6*(AO4-AO7)))/(AO5+EXP(AO6*(AO4-AO9))))^AO5)))","v":0},0,0]
[79,{"$f":"'daily uptake'!F173","v":"2011-01-18"},{"$f":"5/9*'daily uptake'!Q173","v":7.7777777777777786},{"$f":"5/9*'daily uptake'!N173","v":1.3888888888888888},{"$f":"IF(AND($A90>='daily uptake'!$C$9,$A90<='daily uptake'!$C$10),$C90+E89,0)","v":694.72222222222183},{"$f":"IF(AND($A90>='daily uptake'!$C$18,$A90<='daily uptake'!$C$20),$D90+F89,0)","v":0},{"$f":"IF(AND($A90>='daily uptake'!$C$24,$A90<='daily uptake'!$C$25),$C90+G89,0)","v":0},{"$f":"IF(OR(F90<=I7,F90>I9),0,I8+(I10-I8)*(1-((I5+EXP(I6*(I4-I7)))/(I5+EXP(I6*(I4-F90))))^I5)/(1-((I5+EXP(I6*(I4-I7)))/(I5+EXP(I6*(I4-I9))))^I5))","v":0},{"$f":"IF(OR(F90<=J7,F90>J9),0,J8+(J10-J8)*(1-((J5+EXP(J6*(J4-J7)))/(J5+EXP(J6*(J4-F90))))^J5)/(1-((J5+EXP(J6*(J4-J7)))/(J5+EXP(J6*(J4-J9))))^J5))","v":0},{"$f":"IF(OR(F90<=J9,F90>100000),0,IF(F90<=K7,K8,K8+(K10-K8)*(1-((K5+EXP(K6*(K4-K7)))/(K5+EXP(K6*(K4-F90))))^K5)/(1-((K5+EXP(K6*(K4-K7)))/(K5+EXP(K6*(K4-K9))))^K5)))","v":0},0,0,36.413569478547501,0,"2011-01-18",{"$f":"MAX(L$12:L90)+MAX(M$12:M90)+MAX(N$12:N90)","v":36.413569478547501},"2011-01-18",0.63745833232745497,null,null,null,null,null,null,null,null,null,null,null,null,null,null,null,null,null,0,null,{"$f":"IF(OR(AJ90<=AM7,AJ90>AM9),0,AM8+(AM10-AM8)*(1-((AM5+EXP(AM6*(AM4-AM7)))/(AM5+EXP(AM6*(AM4-AJ90))))^AM5)/(1-((AM5+EXP(AM6*(AM4-AM7)))/(AM5+EXP(AM6*(AM4-AM9))))^AM5))","v":0},{"$f":"IF(OR(AJ90<=AN7,AJ90>AN9),0,AN8+(AN10-AN8)*(1-((AN5+EXP(AN6*(AN4-AN7)))/(AN5+EXP(AN6*(AN4-AJ90))))^AN5)/(1-((AN5+EXP(AN6*(AN4-AN7)))/(AN5+EXP(AN6*(AN4-AN9))))^AN5))","v":0},{"$f":"IF(OR(AJ90<=AN9,AJ90>100000),0,IF(AJ90<=AO7,AO8,AO8+(AO10-AO8)*(1-((AO5+EXP(AO6*(AO4-AO7)))/(AO5+EXP(AO6*(AO4-AJ90))))^AO5)/(1-((AO5+EXP(AO6*(AO4-AO7)))/(AO5+EXP(AO6*(AO4-AO9))))^AO5)))","v":0},0,0]
[80,{"$f":"'daily uptake'!F174","v":"2011-01-19"},{"$f":"5/9*'daily uptake'!Q174","v":7.5},{"$f":"5/9*'daily uptake'!N174","v":1.3888888888888888},{"$f":"IF(AND($A91>='daily uptake'!$C$9,$A91<='daily uptake'!$C$10),$C91+E90,0)","v":702.22222222222183},{"$f":"IF(AND($A91>='daily uptake'!$C$18,$A91<='daily uptake'!$C$20),$D91+F90,0)","v":0},{"$f":"IF(AND($A91>='daily uptake'!$C$24,$A91<='daily uptake'!$C$25),$C91+G90,0)","v":0},{"$f":"IF(OR(F91<=I7,F91>I9),0,I8+(I10-I8)*(1-((I5+EXP(I6*(I4-I7)))/(I5+EXP(I6*(I4-F91))))^I5)/(1-((I5+EXP(I6*(I4-I7)))/(I5+EXP(I6*(I4-I9))))^I5))","v":0},{"$f":"IF(OR(F91<=J7,F91>J9),0,J8+(J10-J8)*(1-((J5+EXP(J6*(J4-J7)))/(J5+EXP(J6*(J4-F91))))^J5)/(1-((J5+EXP(J6*(J4-J7)))/(J5+EXP(J6*(J4-J9))))^J5))","v":0},{"$f":"IF(OR(F91<=J9,F91>100000),0,IF(F91<=K7,K8,K8+(K10-K8)*(1-((K5+EXP(K6*(K4-K7)))/(K5+EXP(K6*(K4-F91))))^K5)/(1-((K5+EXP(K6*(K4-K7)))/(K5+EXP(K6*(K4-K9))))^K5)))","v":0},0,0,37.033846781163717,0,"2011-01-19",{"$f":"MAX(L$12:L91)+MAX(M$12:M91)+MAX(N$12:N91)","v":37.033846781163717},"2011-01-19",0.62027730261621628,null,null,null,null,null,null,null,null,null,null,null,null,null,null,null,null,null,0,null,{"$f":"IF(OR(AJ91<=AM7,AJ91>AM9),0,AM8+(AM10-AM8)*(1-((AM5+EXP(AM6*(AM4-AM7)))/(AM5+EXP(AM6*(AM4-AJ91))))^AM5)/(1-((AM5+EXP(AM6*(AM4-AM7)))/(AM5+EXP(AM6*(AM4-AM9))))^AM5))","v":0},{"$f":"IF(OR(AJ91<=AN7,AJ91>AN9),0,AN8+(AN10-AN8)*(1-((AN5+EXP(AN6*(AN4-AN7)))/(AN5+EXP(AN6*(AN4-AJ91))))^AN5)/(1-((AN5+EXP(AN6*(AN4-AN7)))/(AN5+EXP(AN6*(AN4-AN9))))^AN5))","v":0},{"$f":"IF(OR(AJ91<=AN9,AJ91>100000),0,IF(AJ91<=AO7,AO8,AO8+(AO10-AO8)*(1-((AO5+EXP(AO6*(AO4-AO7)))/(AO5+EXP(AO6*(AO4-AJ91))))^AO5)/(1-((AO5+EXP(AO6*(AO4-AO7)))/(AO5+EXP(AO6*(AO4-AO9))))^AO5)))","v":0},0,0]
[81,{"$f":"'daily uptake'!F175","v":"2011-01-20"},{"$f":"5/9*'daily uptake'!Q175","v":6.9444444444444446},{"$f":"5/9*'daily uptake'!N175","v":1.1111111111111112},{"$f":"IF(AND($A92>='daily uptake'!$C$9,$A92<='daily uptake'!$C$10),$C92+E91,0)","v":709.16666666666629},{"$f":"IF(AND($A92>='daily uptake'!$C$18,$A92<='daily uptake'!$C$20),$D92+F91,0)","v":0},{"$f":"IF(AND($A92>='daily uptake'!$C$24,$A92<='daily uptake'!$C$25),$C92+G91,0)","v":0},{"$f":"IF(OR(F92<=I7,F92>I9),0,I8+(I10-I8)*(1-((I5+EXP(I6*(I4-I7)))/(I5+EXP(I6*(I4-F92))))^I5)/(1-((I5+EXP(I6*(I4-I7)))/(I5+EXP(I6*(I4-I9))))^I5))","v":0},{"$f":"IF(OR(F92<=J7,F92>J9),0,J8+(J10-J8)*(1-((J5+EXP(J6*(J4-J7)))/(J5+EXP(J6*(J4-F92))))^J5)/(1-((J5+EXP(J6*(J4-J7)))/(J5+EXP(J6*(J4-J9))))^J5))","v":0},{"$f":"IF(OR(F92<=J9,F92>100000),0,IF(F92<=K7,K8,K8+(K10-K8)*(1-((K5+EXP(K6*(K4-K7)))/(K5+EXP(K6*(K4-F92))))^K5)/(1-((K5+EXP(K6*(K4-K7)))/(K5+EXP(K6*(K4-K9))))^K5)))","v":0},0,0,37.613068892527721,0,"2011-01-20",{"$f":"MAX(L$12:L92)+MAX(M$12:M92)+MAX(N$12:N92)","v":37.613068892527721},"2011-01-20",0.57922211136400392,null,null,null,null,null,null,null,null,null,null,null,null,null,null,null,null,null,0,null,{"$f":"IF(OR(AJ92<=AM7,AJ92>AM9),0,AM8+(AM10-AM8)*(1-((AM5+EXP(AM6*(AM4-AM7)))/(AM5+EXP(AM6*(AM4-AJ92))))^AM5)/(1-((AM5+EXP(AM6*(AM4-AM7)))/(AM5+EXP(AM6*(AM4-AM9))))^AM5))","v":0},{"$f":"IF(OR(AJ92<=AN7,AJ92>AN9),0,AN8+(AN10-AN8)*(1-((AN5+EXP(AN6*(AN4-AN7)))/(AN5+EXP(AN6*(AN4-AJ92))))^AN5)/(1-((AN5+EXP(AN6*(AN4-AN7)))/(AN5+EXP(AN6*(AN4-AN9))))^AN5))","v":0},{"$f":"IF(OR(AJ92<=AN9,AJ92>100000),0,IF(AJ92<=AO7,AO8,AO8+(AO10-AO8)*(1-((AO5+EXP(AO6*(AO4-AO7)))/(AO5+EXP(AO6*(AO4-AJ92))))^AO5)/(1-((AO5+EXP(AO6*(AO4-AO7)))/(AO5+EXP(AO6*(AO4-AO9))))^AO5)))","v":0},0,0]
[82,{"$f":"'daily uptake'!F176","v":"2011-01-21"},{"$f":"5/9*'daily uptake'!Q176","v":7.5},{"$f":"5/9*'daily uptake'!N176","v":1.3888888888888888},{"$f":"IF(AND($A93>='daily uptake'!$C$9,$A93<='daily uptake'!$C$10),$C93+E92,0)","v":716.66666666666629},{"$f":"IF(AND($A93>='daily uptake'!$C$18,$A93<='daily uptake'!$C$20),$D93+F92,0)","v":0},{"$f":"IF(AND($A93>='daily uptake'!$C$24,$A93<='daily uptake'!$C$25),$C93+G92,0)","v":0},{"$f":"IF(OR(F93<=I7,F93>I9),0,I8+(I10-I8)*(1-((I5+EXP(I6*(I4-I7)))/(I5+EXP(I6*(I4-F93))))^I5)/(1-((I5+EXP(I6*(I4-I7)))/(I5+EXP(I6*(I4-I9))))^I5))","v":0},{"$f":"IF(OR(F93<=J7,F93>J9),0,J8+(J10-J8)*(1-((J5+EXP(J6*(J4-J7)))/(J5+EXP(J6*(J4-F93))))^J5)/(1-((J5+EXP(J6*(J4-J7)))/(J5+EXP(J6*(J4-J9))))^J5))","v":0},{"$f":"IF(OR(F93<=J9,F93>100000),0,IF(F93<=K7,K8,K8+(K10-K8)*(1-((K5+EXP(K6*(K4-K7)))/(K5+EXP(K6*(K4-F93))))^K5)/(1-((K5+EXP(K6*(K4-K7)))/(K5+EXP(K6*(K4-K9))))^K5)))","v":0},0,0,38.243912117920402,0,"2011-01-21",{"$f":"MAX(L$12:L93)+MAX(M$12:M93)+MAX(N$12:N93)","v":38.243912117920402},"2011-01-21",0.63084322539268101,null,null,null,null,null,null,null,null,null,null,null,null,null,null,null,null,null,0,null,{"$f":"IF(OR(AJ93<=AM7,AJ93>AM9),0,AM8+(AM10-AM8)*(1-((AM5+EXP(AM6*(AM4-AM7)))/(AM5+EXP(AM6*(AM4-AJ93))))^AM5)/(1-((AM5+EXP(AM6*(AM4-AM7)))/(AM5+EXP(AM6*(AM4-AM9))))^AM5))","v":0},{"$f":"IF(OR(AJ93<=AN7,AJ93>AN9),0,AN8+(AN10-AN8)*(1-((AN5+EXP(AN6*(AN4-AN7)))/(AN5+EXP(AN6*(AN4-AJ93))))^AN5)/(1-((AN5+EXP(AN6*(AN4-AN7)))/(AN5+EXP(AN6*(AN4-AN9))))^AN5))","v":0},{"$f":"IF(OR(AJ93<=AN9,AJ93>100000),0,IF(AJ93<=AO7,AO8,AO8+(AO10-AO8)*(1-((AO5+EXP(AO6*(AO4-AO7)))/(AO5+EXP(AO6*(AO4-AJ93))))^AO5)/(1-((AO5+EXP(AO6*(AO4-AO7)))/(AO5+EXP(AO6*(AO4-AO9))))^AO5)))","v":0},0,0]
[83,{"$f":"'daily uptake'!F177","v":"2011-01-22"},{"$f":"5/9*'daily uptake'!Q177","v":7.5},{"$f":"5/9*'daily uptake'!N177","v":1.1111111111111112},{"$f":"IF(AND($A94>='daily uptake'!$C$9,$A94<='daily uptake'!$C$10),$C94+E93,0)","v":724.16666666666629},{"$f":"IF(AND($A94>='daily uptake'!$C$18,$A94<='daily uptake'!$C$20),$D94+F93,0)","v":0},{"$f":"IF(AND($A94>='daily uptake'!$C$24,$A94<='daily uptake'!$C$25),$C94+G93,0)","v":0},{"$f":"IF(OR(F94<=I7,F94>I9),0,I8+(I10-I8)*(1-((I5+EXP(I6*(I4-I7)))/(I5+EXP(I6*(I4-F94))))^I5)/(1-((I5+EXP(I6*(I4-I7)))/(I5+EXP(I6*(I4-I9))))^I5))","v":0},{"$f":"IF(OR(F94<=J7,F94>J9),0,J8+(J10-J8)*(1-((J5+EXP(J6*(J4-J7)))/(J5+EXP(J6*(J4-F94))))^J5)/(1-((J5+EXP(J6*(J4-J7)))/(J5+EXP(J6*(J4-J9))))^J5))","v":0},{"$f":"IF(OR(F94<=J9,F94>100000),0,IF(F94<=K7,K8,K8+(K10-K8)*(1-((K5+EXP(K6*(K4-K7)))/(K5+EXP(K6*(K4-F94))))^K5)/(1-((K5+EXP(K6*(K4-K7)))/(K5+EXP(K6*(K4-K9))))^K5)))","v":0},0,0,38.880241538881933,0,"2011-01-22",{"$f":"MAX(L$12:L94)+MAX(M$12:M94)+MAX(N$12:N94)","v":38.880241538881933},"2011-01-22",0.63632942096153045,null,null,null,null,null,null,null,null,null,null,null,null,null,null,null,null,null,0,null,{"$f":"IF(OR(AJ94<=AM7,AJ94>AM9),0,AM8+(AM10-AM8)*(1-((AM5+EXP(AM6*(AM4-AM7)))/(AM5+EXP(AM6*(AM4-AJ94))))^AM5)/(1-((AM5+EXP(AM6*(AM4-AM7)))/(AM5+EXP(AM6*(AM4-AM9))))^AM5))","v":0},{"$f":"IF(OR(AJ94<=AN7,AJ94>AN9),0,AN8+(AN10-AN8)*(1-((AN5+EXP(AN6*(AN4-AN7)))/(AN5+EXP(AN6*(AN4-AJ94))))^AN5)/(1-((AN5+EXP(AN6*(AN4-AN7)))/(AN5+EXP(AN6*(AN4-AN9))))^AN5))","v":0},{"$f":"IF(OR(AJ94<=AN9,AJ94>100000),0,IF(AJ94<=AO7,AO8,AO8+(AO10-AO8)*(1-((AO5+EXP(AO6*(AO4-AO7)))/(AO5+EXP(AO6*(AO4-AJ94))))^AO5)/(1-((AO5+EXP(AO6*(AO4-AO7)))/(AO5+EXP(AO6*(AO4-AO9))))^AO5)))","v":0},0,0]
[84,{"$f":"'daily uptake'!F178","v":"2011-01-23"},{"$f":"5/9*'daily uptake'!Q178","v":7.7777777777777786},{"$f":"5/9*'daily uptake'!N178","v":1.1111111111111112},{"$f":"IF(AND($A95>='daily uptake'!$C$9,$A95<='daily uptake'!$C$10),$C95+E94,0)","v":731.94444444444412},{"$f":"IF(AND($A95>='daily uptake'!$C$18,$A95<='daily uptake'!$C$20),$D95+F94,0)","v":0},{"$f":"IF(AND($A95>='daily uptake'!$C$24,$A95<='daily uptake'!$C$25),$C95+G94,0)","v":0},{"$f":"IF(OR(F95<=I7,F95>I9),0,I8+(I10-I8)*(1-((I5+EXP(I6*(I4-I7)))/(I5+EXP(I6*(I4-F95))))^I5)/(1-((I5+EXP(I6*(I4-I7)))/(I5+EXP(I6*(I4-I9))))^I5))","v":0},{"$f":"IF(OR(F95<=J7,F95>J9),0,J8+(J10-J8)*(1-((J5+EXP(J6*(J4-J7)))/(J5+EXP(J6*(J4-F95))))^J5)/(1-((J5+EXP(J6*(J4-J7)))/(J5+EXP(J6*(J4-J9))))^J5))","v":0},{"$f":"IF(OR(F95<=J9,F95>100000),0,IF(F95<=K7,K8,K8+(K10-K8)*(1-((K5+EXP(K6*(K4-K7)))/(K5+EXP(K6*(K4-F95))))^K5)/(1-((K5+EXP(K6*(K4-K7)))/(K5+EXP(K6*(K4-K9))))^K5)))","v":0},0,0,39.545931778910543,0,"2011-01-23",{"$f":"MAX(L$12:L95)+MAX(M$12:M95)+MAX(N$12:N95)","v":39.545931778910543},"2011-01-23",0.66569024002860999,null,null,null,null,null,null,null,null,null,null,null,null,null,null,null,null,null,0,null,{"$f":"IF(OR(AJ95<=AM7,AJ95>AM9),0,AM8+(AM10-AM8)*(1-((AM5+EXP(AM6*(AM4-AM7)))/(AM5+EXP(AM6*(AM4-AJ95))))^AM5)/(1-((AM5+EXP(AM6*(AM4-AM7)))/(AM5+EXP(AM6*(AM4-AM9))))^AM5))","v":0},{"$f":"IF(OR(AJ95<=AN7,AJ95>AN9),0,AN8+(AN10-AN8)*(1-((AN5+EXP(AN6*(AN4-AN7)))/(AN5+EXP(AN6*(AN4-AJ95))))^AN5)/(1-((AN5+EXP(AN6*(AN4-AN7)))/(AN5+EXP(AN6*(AN4-AN9))))^AN5))","v":0},{"$f":"IF(OR(AJ95<=AN9,AJ95>100000),0,IF(AJ95<=AO7,AO8,AO8+(AO10-AO8)*(1-((AO5+EXP(AO6*(AO4-AO7)))/(AO5+EXP(AO6*(AO4-AJ95))))^AO5)/(1-((AO5+EXP(AO6*(AO4-AO7)))/(AO5+EXP(AO6*(AO4-AO9))))^AO5)))","v":0},0,0]
[85,{"$f":"'daily uptake'!F179","v":"2011-01-24"},{"$f":"5/9*'daily uptake'!Q179","v":7.7777777777777786},{"$f":"5/9*'daily uptake'!N179","v":1.1111111111111112},{"$f":"IF(AND($A96>='daily uptake'!$C$9,$A96<='daily uptake'!$C$10),$C96+E95,0)","v":739.72222222222194},{"$f":"IF(AND($A96>='daily uptake'!$C$18,$A96<='daily uptake'!$C$20),$D96+F95,0)","v":0},{"$f":"IF(AND($A96>='daily uptake'!$C$24,$A96<='daily uptake'!$C$25),$C96+G95,0)","v":0},{"$f":"IF(OR(F96<=I7,F96>I9),0,I8+(I10-I8)*(1-((I5+EXP(I6*(I4-I7)))/(I5+EXP(I6*(I4-F96))))^I5)/(1-((I5+EXP(I6*(I4-I7)))/(I5+EXP(I6*(I4-I9))))^I5))","v":0},{"$f":"IF(OR(F96<=J7,F96>J9),0,J8+(J10-J8)*(1-((J5+EXP(J6*(J4-J7)))/(J5+EXP(J6*(J4-F96))))^J5)/(1-((J5+EXP(J6*(J4-J7)))/(J5+EXP(J6*(J4-J9))))^J5))","v":0},{"$f":"IF(OR(F96<=J9,F96>100000),0,IF(F96<=K7,K8,K8+(K10-K8)*(1-((K5+EXP(K6*(K4-K7)))/(K5+EXP(K6*(K4-F96))))^K5)/(1-((K5+EXP(K6*(K4-K7)))/(K5+EXP(K6*(K4-K9))))^K5)))","v":0},0,0,40.217517281421514,0,"2011-01-24",{"$f":"MAX(L$12:L96)+MAX(M$12:M96)+MAX(N$12:N96)","v":40.217517281421514},"2011-01-24",0.67158550251097182,null,null,null,null,null,null,null,null,null,null,null,null,null,null,null,null,null,0,null,{"$f":"IF(OR(AJ96<=AM7,AJ96>AM9),0,AM8+(AM10-AM8)*(1-((AM5+EXP(AM6*(AM4-AM7)))/(AM5+EXP(AM6*(AM4-AJ96))))^AM5)/(1-((AM5+EXP(AM6*(AM4-AM7)))/(AM5+EXP(AM6*(AM4-AM9))))^AM5))","v":0},{"$f":"IF(OR(AJ96<=AN7,AJ96>AN9),0,AN8+(AN10-AN8)*(1-((AN5+EXP(AN6*(AN4-AN7)))/(AN5+EXP(AN6*(AN4-AJ96))))^AN5)/(1-((AN5+EXP(AN6*(AN4-AN7)))/(AN5+EXP(AN6*(AN4-AN9))))^AN5))","v":0},{"$f":"IF(OR(AJ96<=AN9,AJ96>100000),0,IF(AJ96<=AO7,AO8,AO8+(AO10-AO8)*(1-((AO5+EXP(AO6*(AO4-AO7)))/(AO5+EXP(AO6*(AO4-AJ96))))^AO5)/(1-((AO5+EXP(AO6*(AO4-AO7)))/(AO5+EXP(AO6*(AO4-AO9))))^AO5)))","v":0},0,0]
[86,{"$f":"'daily uptake'!F180","v":"2011-01-25"},{"$f":"5/9*'daily uptake'!Q180","v":8.8888888888888893},{"$f":"5/9*'daily uptake'!N180","v":1.9444444444444446},{"$f":"IF(AND($A97>='daily uptake'!$C$9,$A97<='daily uptake'!$C$10),$C97+E96,0)","v":748.61111111111086},{"$f":"IF(AND($A97>='daily uptake'!$C$18,$A97<='daily uptake'!$C$20),$D97+F96,0)","v":0},{"$f":"IF(AND($A97>='daily uptake'!$C$24,$A97<='daily uptake'!$C$25),$C97+G96,0)","v":0},{"$f":"IF(OR(F97<=I7,F97>I9),0,I8+(I10-I8)*(1-((I5+EXP(I6*(I4-I7)))/(I5+EXP(I6*(I4-F97))))^I5)/(1-((I5+EXP(I6*(I4-I7)))/(I5+EXP(I6*(I4-I9))))^I5))","v":0},{"$f":"IF(OR(F97<=J7,F97>J9),0,J8+(J10-J8)*(1-((J5+EXP(J6*(J4-J7)))/(J5+EXP(J6*(J4-F97))))^J5)/(1-((J5+EXP(J6*(J4-J7)))/(J5+EXP(J6*(J4-J9))))^J5))","v":0},{"$f":"IF(OR(F97<=J9,F97>100000),0,IF(F97<=K7,K8,K8+(K10-K8)*(1-((K5+EXP(K6*(K4-K7)))/(K5+EXP(K6*(K4-F97))))^K5)/(1-((K5+EXP(K6*(K4-K7)))/(K5+EXP(K6*(K4-K9))))^K5)))","v":0},0,0,40.992256277414818,0,"2011-01-25",{"$f":"MAX(L$12:L97)+MAX(M$12:M97)+MAX(N$12:N97)","v":40.992256277414818},"2011-01-25",0.77473899599330309,null,null,null,null,null,null,null,null,null,null,null,null,null,null,null,null,null,0,null,{"$f":"IF(OR(AJ97<=AM7,AJ97>AM9),0,AM8+(AM10-AM8)*(1-((AM5+EXP(AM6*(AM4-AM7)))/(AM5+EXP(AM6*(AM4-AJ97))))^AM5)/(1-((AM5+EXP(AM6*(AM4-AM7)))/(AM5+EXP(AM6*(AM4-AM9))))^AM5))","v":0},{"$f":"IF(OR(AJ97<=AN7,AJ97>AN9),0,AN8+(AN10-AN8)*(1-((AN5+EXP(AN6*(AN4-AN7)))/(AN5+EXP(AN6*(AN4-AJ97))))^AN5)/(1-((AN5+EXP(AN6*(AN4-AN7)))/(AN5+EXP(AN6*(AN4-AN9))))^AN5))","v":0},{"$f":"IF(OR(AJ97<=AN9,AJ97>100000),0,IF(AJ97<=AO7,AO8,AO8+(AO10-AO8)*(1-((AO5+EXP(AO6*(AO4-AO7)))/(AO5+EXP(AO6*(AO4-AJ97))))^AO5)/(1-((AO5+EXP(AO6*(AO4-AO7)))/(AO5+EXP(AO6*(AO4-AO9))))^AO5)))","v":0},0,0]
[87,{"$f":"'daily uptake'!F181","v":"2011-01-26"},{"$f":"5/9*'daily uptake'!Q181","v":8.3333333333333339},{"$f":"5/9*'daily uptake'!N181","v":1.3888888888888888},{"$f":"IF(AND($A98>='daily uptake'!$C$9,$A98<='daily uptake'!$C$10),$C98+E97,0)","v":756.94444444444423},{"$f":"IF(AND($A98>='daily uptake'!$C$18,$A98<='daily uptake'!$C$20),$D98+F97,0)","v":0},{"$f":"IF(AND($A98>='daily uptake'!$C$24,$A98<='daily uptake'!$C$25),$C98+G97,0)","v":0},{"$f":"IF(OR(F98<=I7,F98>I9),0,I8+(I10-I8)*(1-((I5+EXP(I6*(I4-I7)))/(I5+EXP(I6*(I4-F98))))^I5)/(1-((I5+EXP(I6*(I4-I7)))/(I5+EXP(I6*(I4-I9))))^I5))","v":0},{"$f":"IF(OR(F98<=J7,F98>J9),0,J8+(J10-J8)*(1-((J5+EXP(J6*(J4-J7)))/(J5+EXP(J6*(J4-F98))))^J5)/(1-((J5+EXP(J6*(J4-J7)))/(J5+EXP(J6*(J4-J9))))^J5))","v":0},{"$f":"IF(OR(F98<=J9,F98>100000),0,IF(F98<=K7,K8,K8+(K10-K8)*(1-((K5+EXP(K6*(K4-K7)))/(K5+EXP(K6*(K4-F98))))^K5)/(1-((K5+EXP(K6*(K4-K7)))/(K5+EXP(K6*(K4-K9))))^K5)))","v":0},0,0,41.725553489442568,0,"2011-01-26",{"$f":"MAX(L$12:L98)+MAX(M$12:M98)+MAX(N$12:N98)","v":41.725553489442568},"2011-01-26",0.73329721202775033,null,null,null,null,null,null,null,null,null,null,null,null,null,null,null,null,null,0,null,{"$f":"IF(OR(AJ98<=AM7,AJ98>AM9),0,AM8+(AM10-AM8)*(1-((AM5+EXP(AM6*(AM4-AM7)))/(AM5+EXP(AM6*(AM4-AJ98))))^AM5)/(1-((AM5+EXP(AM6*(AM4-AM7)))/(AM5+EXP(AM6*(AM4-AM9))))^AM5))","v":0},{"$f":"IF(OR(AJ98<=AN7,AJ98>AN9),0,AN8+(AN10-AN8)*(1-((AN5+EXP(AN6*(AN4-AN7)))/(AN5+EXP(AN6*(AN4-AJ98))))^AN5)/(1-((AN5+EXP(AN6*(AN4-AN7)))/(AN5+EXP(AN6*(AN4-AN9))))^AN5))","v":0},{"$f":"IF(OR(AJ98<=AN9,AJ98>100000),0,IF(AJ98<=AO7,AO8,AO8+(AO10-AO8)*(1-((AO5+EXP(AO6*(AO4-AO7)))/(AO5+EXP(AO6*(AO4-AJ98))))^AO5)/(1-((AO5+EXP(AO6*(AO4-AO7)))/(AO5+EXP(AO6*(AO4-AO9))))^AO5)))","v":0},0,0]
[88,{"$f":"'daily uptake'!F182","v":"2011-01-27"},{"$f":"5/9*'daily uptake'!Q182","v":8.6111111111111107},{"$f":"5/9*'daily uptake'!N182","v":1.9444444444444446},{"$f":"IF(AND($A99>='daily uptake'!$C$9,$A99<='daily uptake'!$C$10),$C99+E98,0)","v":765.55555555555532},{"$f":"IF(AND($A99>='daily uptake'!$C$18,$A99<='daily uptake'!$C$20),$D99+F98,0)","v":0},{"$f":"IF(AND($A99>='daily uptake'!$C$24,$A99<='daily uptake'!$C$25),$C99+G98,0)","v":0},{"$f":"IF(OR(F99<=I7,F99>I9),0,I8+(I10-I8)*(1-((I5+EXP(I6*(I4-I7)))/(I5+EXP(I6*(I4-F99))))^I5)/(1-((I5+EXP(I6*(I4-I7)))/(I5+EXP(I6*(I4-I9))))^I5))","v":0},{"$f":"IF(OR(F99<=J7,F99>J9),0,J8+(J10-J8)*(1-((J5+EXP(J6*(J4-J7)))/(J5+EXP(J6*(J4-F99))))^J5)/(1-((J5+EXP(J6*(J4-J7)))/(J5+EXP(J6*(J4-J9))))^J5))","v":0},{"$f":"IF(OR(F99<=J9,F99>100000),0,IF(F99<=K7,K8,K8+(K10-K8)*(1-((K5+EXP(K6*(K4-K7)))/(K5+EXP(K6*(K4-F99))))^K5)/(1-((K5+EXP(K6*(K4-K7)))/(K5+EXP(K6*(K4-K9))))^K5)))","v":0},0,0,42.490379196093038,0,"2011-01-27",{"$f":"MAX(L$12:L99)+MAX(M$12:M99)+MAX(N$12:N99)","v":42.490379196093038},"2011-01-27",0.76482570665046978,null,null,null,null,null,null,null,null,null,null,null,null,null,null,null,null,null,0,null,{"$f":"IF(OR(AJ99<=AM7,AJ99>AM9),0,AM8+(AM10-AM8)*(1-((AM5+EXP(AM6*(AM4-AM7)))/(AM5+EXP(AM6*(AM4-AJ99))))^AM5)/(1-((AM5+EXP(AM6*(AM4-AM7)))/(AM5+EXP(AM6*(AM4-AM9))))^AM5))","v":0},{"$f":"IF(OR(AJ99<=AN7,AJ99>AN9),0,AN8+(AN10-AN8)*(1-((AN5+EXP(AN6*(AN4-AN7)))/(AN5+EXP(AN6*(AN4-AJ99))))^AN5)/(1-((AN5+EXP(AN6*(AN4-AN7)))/(AN5+EXP(AN6*(AN4-AN9))))^AN5))","v":0},{"$f":"IF(OR(AJ99<=AN9,AJ99>100000),0,IF(AJ99<=AO7,AO8,AO8+(AO10-AO8)*(1-((AO5+EXP(AO6*(AO4-AO7)))/(AO5+EXP(AO6*(AO4-AJ99))))^AO5)/(1-((AO5+EXP(AO6*(AO4-AO7)))/(AO5+EXP(AO6*(AO4-AO9))))^AO5)))","v":0},0,0]
[89,{"$f":"'daily uptake'!F183","v":"2011-01-28"},{"$f":"5/9*'daily uptake'!Q183","v":7.7777777777777786},{"$f":"5/9*'daily uptake'!N183","v":1.6666666666666667},{"$f":"IF(AND($A100>='daily uptake'!$C$9,$A100<='daily uptake'!$C$10),$C100+E99,0)","v":773.33333333333314},{"$f":"IF(AND($A100>='daily uptake'!$C$18,$A100<='daily uptake'!$C$20),$D100+F99,0)","v":0},{"$f":"IF(AND($A100>='daily uptake'!$C$24,$A100<='daily uptake'!$C$25),$C100+G99,0)","v":0},{"$f":"IF(OR(F100<=I7,F100>I9),0,I8+(I10-I8)*(1-((I5+EXP(I6*(I4-I7)))/(I5+EXP(I6*(I4-F100))))^I5)/(1-((I5+EXP(I6*(I4-I7)))/(I5+EXP(I6*(I4-I9))))^I5))","v":0},{"$f":"IF(OR(F100<=J7,F100>J9),0,J8+(J10-J8)*(1-((J5+EXP(J6*(J4-J7)))/(J5+EXP(J6*(J4-F100))))^J5)/(1-((J5+EXP(J6*(J4-J7)))/(J5+EXP(J6*(J4-J9))))^J5))","v":0},{"$f":"IF(OR(F100<=J9,F100>100000),0,IF(F100<=K7,K8,K8+(K10-K8)*(1-((K5+EXP(K6*(K4-K7)))/(K5+EXP(K6*(K4-F100))))^K5)/(1-((K5+EXP(K6*(K4-K7)))/(K5+EXP(K6*(K4-K9))))^K5)))","v":0},0,0,43.187368682100377,0,"2011-01-28",{"$f":"MAX(L$12:L100)+MAX(M$12:M100)+MAX(N$12:N100)","v":43.187368682100377},"2011-01-28",0.69698948600733956,null,null,null,null,null,null,null,null,null,null,null,null,null,null,null,null,null,0,null,{"$f":"IF(OR(AJ100<=AM7,AJ100>AM9),0,AM8+(AM10-AM8)*(1-((AM5+EXP(AM6*(AM4-AM7)))/(AM5+EXP(AM6*(AM4-AJ100))))^AM5)/(1-((AM5+EXP(AM6*(AM4-AM7)))/(AM5+EXP(AM6*(AM4-AM9))))^AM5))","v":0},{"$f":"IF(OR(AJ100<=AN7,AJ100>AN9),0,AN8+(AN10-AN8)*(1-((AN5+EXP(AN6*(AN4-AN7)))/(AN5+EXP(AN6*(AN4-AJ100))))^AN5)/(1-((AN5+EXP(AN6*(AN4-AN7)))/(AN5+EXP(AN6*(AN4-AN9))))^AN5))","v":0},{"$f":"IF(OR(AJ100<=AN9,AJ100>100000),0,IF(AJ100<=AO7,AO8,AO8+(AO10-AO8)*(1-((AO5+EXP(AO6*(AO4-AO7)))/(AO5+EXP(AO6*(AO4-AJ100))))^AO5)/(1-((AO5+EXP(AO6*(AO4-AO7)))/(AO5+EXP(AO6*(AO4-AO9))))^AO5)))","v":0},0,0]
[90,{"$f":"'daily uptake'!F184","v":"2011-01-29"},{"$f":"5/9*'daily uptake'!Q184","v":8.0555555555555554},{"$f":"5/9*'daily uptake'!N184","v":2.2222222222222223},{"$f":"IF(AND($A101>='daily uptake'!$C$9,$A101<='daily uptake'!$C$10),$C101+E100,0)","v":781.38888888888869},{"$f":"IF(AND($A101>='daily uptake'!$C$18,$A101<='daily uptake'!$C$20),$D101+F100,0)","v":0},{"$f":"IF(AND($A101>='daily uptake'!$C$24,$A101<='daily uptake'!$C$25),$C101+G100,0)","v":0},{"$f":"IF(OR(F101<=I7,F101>I9),0,I8+(I10-I8)*(1-((I5+EXP(I6*(I4-I7)))/(I5+EXP(I6*(I4-F101))))^I5)/(1-((I5+EXP(I6*(I4-I7)))/(I5+EXP(I6*(I4-I9))))^I5))","v":0},{"$f":"IF(OR(F101<=J7,F101>J9),0,J8+(J10-J8)*(1-((J5+EXP(J6*(J4-J7)))/(J5+EXP(J6*(J4-F101))))^J5)/(1-((J5+EXP(J6*(J4-J7)))/(J5+EXP(J6*(J4-J9))))^J5))","v":0},{"$f":"IF(OR(F101<=J9,F101>100000),0,IF(F101<=K7,K8,K8+(K10-K8)*(1-((K5+EXP(K6*(K4-K7)))/(K5+EXP(K6*(K4-F101))))^K5)/(1-((K5+EXP(K6*(K4-K7)))/(K5+EXP(K6*(K4-K9))))^K5)))","v":0},0,0,43.915421285518391,0,"2011-01-29",{"$f":"MAX(L$12:L101)+MAX(M$12:M101)+MAX(N$12:N101)","v":43.915421285518391},"2011-01-29",0.72805260341801414,null,null,null,null,null,null,null,null,null,null,null,null,null,null,null,null,null,0,null,{"$f":"IF(OR(AJ101<=AM7,AJ101>AM9),0,AM8+(AM10-AM8)*(1-((AM5+EXP(AM6*(AM4-AM7)))/(AM5+EXP(AM6*(AM4-AJ101))))^AM5)/(1-((AM5+EXP(AM6*(AM4-AM7)))/(AM5+EXP(AM6*(AM4-AM9))))^AM5))","v":0},{"$f":"IF(OR(AJ101<=AN7,AJ101>AN9),0,AN8+(AN10-AN8)*(1-((AN5+EXP(AN6*(AN4-AN7)))/(AN5+EXP(AN6*(AN4-AJ101))))^AN5)/(1-((AN5+EXP(AN6*(AN4-AN7)))/(AN5+EXP(AN6*(AN4-AN9))))^AN5))","v":0},{"$f":"IF(OR(AJ101<=AN9,AJ101>100000),0,IF(AJ101<=AO7,AO8,AO8+(AO10-AO8)*(1-((AO5+EXP(AO6*(AO4-AO7)))/(AO5+EXP(AO6*(AO4-AJ101))))^AO5)/(1-((AO5+EXP(AO6*(AO4-AO7)))/(AO5+EXP(AO6*(AO4-AO9))))^AO5)))","v":0},0,0]
[91,{"$f":"'daily uptake'!F185","v":"2011-01-30"},{"$f":"5/9*'daily uptake'!Q185","v":7.7777777777777786},{"$f":"5/9*'daily uptake'!N185","v":1.3888888888888888},{"$f":"IF(AND($A102>='daily uptake'!$C$9,$A102<='daily uptake'!$C$10),$C102+E101,0)","v":789.16666666666652},{"$f":"IF(AND($A102>='daily uptake'!$C$18,$A102<='daily uptake'!$C$20),$D102+F101,0)","v":0},{"$f":"IF(AND($A102>='daily uptake'!$C$24,$A102<='daily uptake'!$C$25),$C102+G101,0)","v":0},{"$f":"IF(OR(F102<=I7,F102>I9),0,I8+(I10-I8)*(1-((I5+EXP(I6*(I4-I7)))/(I5+EXP(I6*(I4-F102))))^I5)/(1-((I5+EXP(I6*(I4-I7)))/(I5+EXP(I6*(I4-I9))))^I5))","v":0},{"$f":"IF(OR(F102<=J7,F102>J9),0,J8+(J10-J8)*(1-((J5+EXP(J6*(J4-J7)))/(J5+EXP(J6*(J4-F102))))^J5)/(1-((J5+EXP(J6*(J4-J7)))/(J5+EXP(J6*(J4-J9))))^J5))","v":0},{"$f":"IF(OR(F102<=J9,F102>100000),0,IF(F102<=K7,K8,K8+(K10-K8)*(1-((K5+EXP(K6*(K4-K7)))/(K5+EXP(K6*(K4-F102))))^K5)/(1-((K5+EXP(K6*(K4-K7)))/(K5+EXP(K6*(K4-K9))))^K5)))","v":0},0,0,44.624313366973745,0,"2011-01-30",{"$f":"MAX(L$12:L102)+MAX(M$12:M102)+MAX(N$12:N102)","v":44.624313366973745},"2011-01-30",0.70889208145535321,null,null,null,null,null,null,null,null,null,null,null,null,null,null,null,null,null,0,null,{"$f":"IF(OR(AJ102<=AM7,AJ102>AM9),0,AM8+(AM10-AM8)*(1-((AM5+EXP(AM6*(AM4-AM7)))/(AM5+EXP(AM6*(AM4-AJ102))))^AM5)/(1-((AM5+EXP(AM6*(AM4-AM7)))/(AM5+EXP(AM6*(AM4-AM9))))^AM5))","v":0},{"$f":"IF(OR(AJ102<=AN7,AJ102>AN9),0,AN8+(AN10-AN8)*(1-((AN5+EXP(AN6*(AN4-AN7)))/(AN5+EXP(AN6*(AN4-AJ102))))^AN5)/(1-((AN5+EXP(AN6*(AN4-AN7)))/(AN5+EXP(AN6*(AN4-AN9))))^AN5))","v":0},{"$f":"IF(OR(AJ102<=AN9,AJ102>100000),0,IF(AJ102<=AO7,AO8,AO8+(AO10-AO8)*(1-((AO5+EXP(AO6*(AO4-AO7)))/(AO5+EXP(AO6*(AO4-AJ102))))^AO5)/(1-((AO5+EXP(AO6*(AO4-AO7)))/(AO5+EXP(AO6*(AO4-AO9))))^AO5)))","v":0},0,0]
[92,{"$f":"'daily uptake'!F186","v":"2011-01-31"},{"$f":"5/9*'daily uptake'!Q186","v":8.6111111111111107},{"$f":"5/9*'daily uptake'!N186","v":1.9444444444444446},{"$f":"IF(AND($A103>='daily uptake'!$C$9,$A103<='daily uptake'!$C$10),$C103+E102,0)","v":797.7777777777776},{"$f":"IF(AND($A103>='daily uptake'!$C$18,$A103<='daily uptake'!$C$20),$D103+F102,0)","v":0},{"$f":"IF(AND($A103>='daily uptake'!$C$24,$A103<='daily uptake'!$C$25),$C103+G102,0)","v":0},{"$f":"IF(OR(F103<=I7,F103>I9),0,I8+(I10-I8)*(1-((I5+EXP(I6*(I4-I7)))/(I5+EXP(I6*(I4-F103))))^I5)/(1-((I5+EXP(I6*(I4-I7)))/(I5+EXP(I6*(I4-I9))))^I5))","v":0},{"$f":"IF(OR(F103<=J7,F103>J9),0,J8+(J10-J8)*(1-((J5+EXP(J6*(J4-J7)))/(J5+EXP(J6*(J4-F103))))^J5)/(1-((J5+EXP(J6*(J4-J7)))/(J5+EXP(J6*(J4-J9))))^J5))","v":0},{"$f":"IF(OR(F103<=J9,F103>100000),0,IF(F103<=K7,K8,K8+(K10-K8)*(1-((K5+EXP(K6*(K4-K7)))/(K5+EXP(K6*(K4-F103))))^K5)/(1-((K5+EXP(K6*(K4-K7)))/(K5+EXP(K6*(K4-K9))))^K5)))","v":0},0,0,45.41595322191862,0,"2011-01-31",{"$f":"MAX(L$12:L103)+MAX(M$12:M103)+MAX(N$12:N103)","v":45.41595322191862},"2011-01-31",0.79163985494487576,null,null,null,null,null,null,null,null,null,null,null,null,null,null,null,null,null,0,null,{"$f":"IF(OR(AJ103<=AM7,AJ103>AM9),0,AM8+(AM10-AM8)*(1-((AM5+EXP(AM6*(AM4-AM7)))/(AM5+EXP(AM6*(AM4-AJ103))))^AM5)/(1-((AM5+EXP(AM6*(AM4-AM7)))/(AM5+EXP(AM6*(AM4-AM9))))^AM5))","v":0},{"$f":"IF(OR(AJ103<=AN7,AJ103>AN9),0,AN8+(AN10-AN8)*(1-((AN5+EXP(AN6*(AN4-AN7)))/(AN5+EXP(AN6*(AN4-AJ103))))^AN5)/(1-((AN5+EXP(AN6*(AN4-AN7)))/(AN5+EXP(AN6*(AN4-AN9))))^AN5))","v":0},{"$f":"IF(OR(AJ103<=AN9,AJ103>100000),0,IF(AJ103<=AO7,AO8,AO8+(AO10-AO8)*(1-((AO5+EXP(AO6*(AO4-AO7)))/(AO5+EXP(AO6*(AO4-AJ103))))^AO5)/(1-((AO5+EXP(AO6*(AO4-AO7)))/(AO5+EXP(AO6*(AO4-AO9))))^AO5)))","v":0},0,0]
[93,{"$f":"'daily uptake'!F187","v":"2011-02-01"},{"$f":"5/9*'daily uptake'!Q187","v":8.8888888888888893},{"$f":"5/9*'daily uptake'!N187","v":2.2222222222222223},{"$f":"IF(AND($A104>='daily uptake'!$C$9,$A104<='daily uptake'!$C$10),$C104+E103,0)","v":806.66666666666652},{"$f":"IF(AND($A104>='daily uptake'!$C$18,$A104<='daily uptake'!$C$20),$D104+F103,0)","v":0},{"$f":"IF(AND($A104>='daily uptake'!$C$24,$A104<='daily uptake'!$C$25),$C104+G103,0)","v":0},{"$f":"IF(OR(F104<=I7,F104>I9),0,I8+(I10-I8)*(1-((I5+EXP(I6*(I4-I7)))/(I5+EXP(I6*(I4-F104))))^I5)/(1-((I5+EXP(I6*(I4-I7)))/(I5+EXP(I6*(I4-I9))))^I5))","v":0},{"$f":"IF(OR(F104<=J7,F104>J9),0,J8+(J10-J8)*(1-((J5+EXP(J6*(J4-J7)))/(J5+EXP(J6*(J4-F104))))^J5)/(1-((J5+EXP(J6*(J4-J7)))/(J5+EXP(J6*(J4-J9))))^J5))","v":0},{"$f":"IF(OR(F104<=J9,F104>100000),0,IF(F104<=K7,K8,K8+(K10-K8)*(1-((K5+EXP(K6*(K4-K7)))/(K5+EXP(K6*(K4-F104))))^K5)/(1-((K5+EXP(K6*(K4-K7)))/(K5+EXP(K6*(K4-K9))))^K5)))","v":0},0,0,46.240597228443946,0,"2011-02-01",{"$f":"MAX(L$12:L104)+MAX(M$12:M104)+MAX(N$12:N104)","v":46.240597228443946},"2011-02-01",0.82464400652532532,null,null,null,null,null,null,null,null,null,null,null,null,null,null,null,null,null,0,null,{"$f":"IF(OR(AJ104<=AM7,AJ104>AM9),0,AM8+(AM10-AM8)*(1-((AM5+EXP(AM6*(AM4-AM7)))/(AM5+EXP(AM6*(AM4-AJ104))))^AM5)/(1-((AM5+EXP(AM6*(AM4-AM7)))/(AM5+EXP(AM6*(AM4-AM9))))^AM5))","v":0},{"$f":"IF(OR(AJ104<=AN7,AJ104>AN9),0,AN8+(AN10-AN8)*(1-((AN5+EXP(AN6*(AN4-AN7)))/(AN5+EXP(AN6*(AN4-AJ104))))^AN5)/(1-((AN5+EXP(AN6*(AN4-AN7)))/(AN5+EXP(AN6*(AN4-AN9))))^AN5))","v":0},{"$f":"IF(OR(AJ104<=AN9,AJ104>100000),0,IF(AJ104<=AO7,AO8,AO8+(AO10-AO8)*(1-((AO5+EXP(AO6*(AO4-AO7)))/(AO5+EXP(AO6*(AO4-AJ104))))^AO5)/(1-((AO5+EXP(AO6*(AO4-AO7)))/(AO5+EXP(AO6*(AO4-AO9))))^AO5)))","v":0},0,0]
[94,{"$f":"'daily uptake'!F188","v":"2011-02-02"},{"$f":"5/9*'daily uptake'!Q188","v":9.1666666666666679},{"$f":"5/9*'daily uptake'!N188","v":2.5},{"$f":"IF(AND($A105>='daily uptake'!$C$9,$A105<='daily uptake'!$C$10),$C105+E104,0)","v":815.83333333333314},{"$f":"IF(AND($A105>='daily uptake'!$C$18,$A105<='daily uptake'!$C$20),$D105+F104,0)","v":0},{"$f":"IF(AND($A105>='daily uptake'!$C$24,$A105<='daily uptake'!$C$25),$C105+G104,0)","v":0},{"$f":"IF(OR(F105<=I7,F105>I9),0,I8+(I10-I8)*(1-((I5+EXP(I6*(I4-I7)))/(I5+EXP(I6*(I4-F105))))^I5)/(1-((I5+EXP(I6*(I4-I7)))/(I5+EXP(I6*(I4-I9))))^I5))","v":0},{"$f":"IF(OR(F105<=J7,F105>J9),0,J8+(J10-J8)*(1-((J5+EXP(J6*(J4-J7)))/(J5+EXP(J6*(J4-F105))))^J5)/(1-((J5+EXP(J6*(J4-J7)))/(J5+EXP(J6*(J4-J9))))^J5))","v":0},{"$f":"IF(OR(F105<=J9,F105>100000),0,IF(F105<=K7,K8,K8+(K10-K8)*(1-((K5+EXP(K6*(K4-K7)))/(K5+EXP(K6*(K4-F105))))^K5)/(1-((K5+EXP(K6*(K4-K7)))/(K5+EXP(K6*(K4-K9))))^K5)))","v":0},0,0,47.098928615823333,0,"2011-02-02",{"$f":"MAX(L$12:L105)+MAX(M$12:M105)+MAX(N$12:N105)","v":47.098928615823333},"2011-02-02",0.85833138737938697,null,null,null,null,null,null,null,null,null,null,null,null,null,null,null,null,null,0,null,{"$f":"IF(OR(AJ105<=AM7,AJ105>AM9),0,AM8+(AM10-AM8)*(1-((AM5+EXP(AM6*(AM4-AM7)))/(AM5+EXP(AM6*(AM4-AJ105))))^AM5)/(1-((AM5+EXP(AM6*(AM4-AM7)))/(AM5+EXP(AM6*(AM4-AM9))))^AM5))","v":0},{"$f":"IF(OR(AJ105<=AN7,AJ105>AN9),0,AN8+(AN10-AN8)*(1-((AN5+EXP(AN6*(AN4-AN7)))/(AN5+EXP(AN6*(AN4-AJ105))))^AN5)/(1-((AN5+EXP(AN6*(AN4-AN7)))/(AN5+EXP(AN6*(AN4-AN9))))^AN5))","v":0},{"$f":"IF(OR(AJ105<=AN9,AJ105>100000),0,IF(AJ105<=AO7,AO8,AO8+(AO10-AO8)*(1-((AO5+EXP(AO6*(AO4-AO7)))/(AO5+EXP(AO6*(AO4-AJ105))))^AO5)/(1-((AO5+EXP(AO6*(AO4-AO7)))/(AO5+EXP(AO6*(AO4-AO9))))^AO5)))","v":0},0,0]
[95,{"$f":"'daily uptake'!F189","v":"2011-02-03"},{"$f":"5/9*'daily uptake'!Q189","v":9.4444444444444446},{"$f":"5/9*'daily uptake'!N189","v":2.7777777777777777},{"$f":"IF(AND($A106>='daily uptake'!$C$9,$A106<='daily uptake'!$C$10),$C106+E105,0)","v":825.2777777777776},{"$f":"IF(AND($A106>='daily uptake'!$C$18,$A106<='daily uptake'!$C$20),$D106+F105,0)","v":0},{"$f":"IF(AND($A106>='daily uptake'!$C$24,$A106<='daily uptake'!$C$25),$C106+G105,0)","v":0},{"$f":"IF(OR(F106<=I7,F106>I9),0,I8+(I10-I8)*(1-((I5+EXP(I6*(I4-I7)))/(I5+EXP(I6*(I4-F106))))^I5)/(1-((I5+EXP(I6*(I4-I7)))/(I5+EXP(I6*(I4-I9))))^I5))","v":0},{"$f":"IF(OR(F106<=J7,F106>J9),0,J8+(J10-J8)*(1-((J5+EXP(J6*(J4-J7)))/(J5+EXP(J6*(J4-F106))))^J5)/(1-((J5+EXP(J6*(J4-J7)))/(J5+EXP(J6*(J4-J9))))^J5))","v":0},{"$f":"IF(OR(F106<=J9,F106>100000),0,IF(F106<=K7,K8,K8+(K10-K8)*(1-((K5+EXP(K6*(K4-K7)))/(K5+EXP(K6*(K4-F106))))^K5)/(1-((K5+EXP(K6*(K4-K7)))/(K5+EXP(K6*(K4-K9))))^K5)))","v":0},0,0,47.991644346360147,0,"2011-02-03",{"$f":"MAX(L$12:L106)+MAX(M$12:M106)+MAX(N$12:N106)","v":47.991644346360147},"2011-02-03",0.89271573053681408,null,null,null,null,null,null,null,null,null,null,null,null,null,null,null,null,null,0,null,{"$f":"IF(OR(AJ106<=AM7,AJ106>AM9),0,AM8+(AM10-AM8)*(1-((AM5+EXP(AM6*(AM4-AM7)))/(AM5+EXP(AM6*(AM4-AJ106))))^AM5)/(1-((AM5+EXP(AM6*(AM4-AM7)))/(AM5+EXP(AM6*(AM4-AM9))))^AM5))","v":0},{"$f":"IF(OR(AJ106<=AN7,AJ106>AN9),0,AN8+(AN10-AN8)*(1-((AN5+EXP(AN6*(AN4-AN7)))/(AN5+EXP(AN6*(AN4-AJ106))))^AN5)/(1-((AN5+EXP(AN6*(AN4-AN7)))/(AN5+EXP(AN6*(AN4-AN9))))^AN5))","v":0},{"$f":"IF(OR(AJ106<=AN9,AJ106>100000),0,IF(AJ106<=AO7,AO8,AO8+(AO10-AO8)*(1-((AO5+EXP(AO6*(AO4-AO7)))/(AO5+EXP(AO6*(AO4-AJ106))))^AO5)/(1-((AO5+EXP(AO6*(AO4-AO7)))/(AO5+EXP(AO6*(AO4-AO9))))^AO5)))","v":0},0,0]
[96,{"$f":"'daily uptake'!F190","v":"2011-02-04"},{"$f":"5/9*'daily uptake'!Q190","v":9.7222222222222232},{"$f":"5/9*'daily uptake'!N190","v":3.0555555555555558},{"$f":"IF(AND($A107>='daily uptake'!$C$9,$A107<='daily uptake'!$C$10),$C107+E106,0)","v":834.99999999999977},{"$f":"IF(AND($A107>='daily uptake'!$C$18,$A107<='daily uptake'!$C$20),$D107+F106,0)","v":0},{"$f":"IF(AND($A107>='daily uptake'!$C$24,$A107<='daily uptake'!$C$25),$C107+G106,0)","v":0},{"$f":"IF(OR(F107<=I7,F107>I9),0,I8+(I10-I8)*(1-((I5+EXP(I6*(I4-I7)))/(I5+EXP(I6*(I4-F107))))^I5)/(1-((I5+EXP(I6*(I4-I7)))/(I5+EXP(I6*(I4-I9))))^I5))","v":0},{"$f":"IF(OR(F107<=J7,F107>J9),0,J8+(J10-J8)*(1-((J5+EXP(J6*(J4-J7)))/(J5+EXP(J6*(J4-F107))))^J5)/(1-((J5+EXP(J6*(J4-J7)))/(J5+EXP(J6*(J4-J9))))^J5))","v":0},{"$f":"IF(OR(F107<=J9,F107>100000),0,IF(F107<=K7,K8,K8+(K10-K8)*(1-((K5+EXP(K6*(K4-K7)))/(K5+EXP(K6*(K4-F107))))^K5)/(1-((K5+EXP(K6*(K4-K7)))/(K5+EXP(K6*(K4-K9))))^K5)))","v":0},0,0,48.91945367345668,0,"2011-02-04",{"$f":"MAX(L$12:L107)+MAX(M$12:M107)+MAX(N$12:N107)","v":48.91945367345668},"2011-02-04",0.92780932709653285,null,null,null,null,null,null,null,null,null,null,null,null,null,null,null,null,null,0,null,{"$f":"IF(OR(AJ107<=AM7,AJ107>AM9),0,AM8+(AM10-AM8)*(1-((AM5+EXP(AM6*(AM4-AM7)))/(AM5+EXP(AM6*(AM4-AJ107))))^AM5)/(1-((AM5+EXP(AM6*(AM4-AM7)))/(AM5+EXP(AM6*(AM4-AM9))))^AM5))","v":0},{"$f":"IF(OR(AJ107<=AN7,AJ107>AN9),0,AN8+(AN10-AN8)*(1-((AN5+EXP(AN6*(AN4-AN7)))/(AN5+EXP(AN6*(AN4-AJ107))))^AN5)/(1-((AN5+EXP(AN6*(AN4-AN7)))/(AN5+EXP(AN6*(AN4-AN9))))^AN5))","v":0},{"$f":"IF(OR(AJ107<=AN9,AJ107>100000),0,IF(AJ107<=AO7,AO8,AO8+(AO10-AO8)*(1-((AO5+EXP(AO6*(AO4-AO7)))/(AO5+EXP(AO6*(AO4-AJ107))))^AO5)/(1-((AO5+EXP(AO6*(AO4-AO7)))/(AO5+EXP(AO6*(AO4-AO9))))^AO5)))","v":0},0,0]
[97,{"$f":"'daily uptake'!F191","v":"2011-02-05"},{"$f":"5/9*'daily uptake'!Q191","v":9.4444444444444446},{"$f":"5/9*'daily uptake'!N191","v":2.7777777777777777},{"$f":"IF(AND($A108>='daily uptake'!$C$9,$A108<='daily uptake'!$C$10),$C108+E107,0)","v":844.44444444444423},{"$f":"IF(AND($A108>='daily uptake'!$C$18,$A108<='daily uptake'!$C$20),$D108+F107,0)","v":0},{"$f":"IF(AND($A108>='daily uptake'!$C$24,$A108<='daily uptake'!$C$25),$C108+G107,0)","v":0},{"$f":"IF(OR(F108<=I7,F108>I9),0,I8+(I10-I8)*(1-((I5+EXP(I6*(I4-I7)))/(I5+EXP(I6*(I4-F108))))^I5)/(1-((I5+EXP(I6*(I4-I7)))/(I5+EXP(I6*(I4-I9))))^I5))","v":0},{"$f":"IF(OR(F108<=J7,F108>J9),0,J8+(J10-J8)*(1-((J5+EXP(J6*(J4-J7)))/(J5+EXP(J6*(J4-F108))))^J5)/(1-((J5+EXP(J6*(J4-J7)))/(J5+EXP(J6*(J4-J9))))^J5))","v":0},{"$f":"IF(OR(F108<=J9,F108>100000),0,IF(F108<=K7,K8,K8+(K10-K8)*(1-((K5+EXP(K6*(K4-K7)))/(K5+EXP(K6*(K4-F108))))^K5)/(1-((K5+EXP(K6*(K4-K7)))/(K5+EXP(K6*(K4-K9))))^K5)))","v":0},0,0,49.829295293588537,0,"2011-02-05",{"$f":"MAX(L$12:L108)+MAX(M$12:M108)+MAX(N$12:N108)","v":49.829295293588537},"2011-02-05",0.9098416201318571,null,null,null,null,null,null,null,null,null,null,null,null,null,null,null,null,null,0,null,{"$f":"IF(OR(AJ108<=AM7,AJ108>AM9),0,AM8+(AM10-AM8)*(1-((AM5+EXP(AM6*(AM4-AM7)))/(AM5+EXP(AM6*(AM4-AJ108))))^AM5)/(1-((AM5+EXP(AM6*(AM4-AM7)))/(AM5+EXP(AM6*(AM4-AM9))))^AM5))","v":0},{"$f":"IF(OR(AJ108<=AN7,AJ108>AN9),0,AN8+(AN10-AN8)*(1-((AN5+EXP(AN6*(AN4-AN7)))/(AN5+EXP(AN6*(AN4-AJ108))))^AN5)/(1-((AN5+EXP(AN6*(AN4-AN7)))/(AN5+EXP(AN6*(AN4-AN9))))^AN5))","v":0},{"$f":"IF(OR(AJ108<=AN9,AJ108>100000),0,IF(AJ108<=AO7,AO8,AO8+(AO10-AO8)*(1-((AO5+EXP(AO6*(AO4-AO7)))/(AO5+EXP(AO6*(AO4-AJ108))))^AO5)/(1-((AO5+EXP(AO6*(AO4-AO7)))/(AO5+EXP(AO6*(AO4-AO9))))^AO5)))","v":0},0,0]
[98,{"$f":"'daily uptake'!F192","v":"2011-02-06"},{"$f":"5/9*'daily uptake'!Q192","v":9.1666666666666679},{"$f":"5/9*'daily uptake'!N192","v":2.5},{"$f":"IF(AND($A109>='daily uptake'!$C$9,$A109<='daily uptake'!$C$10),$C109+E108,0)","v":853.61111111111086},{"$f":"IF(AND($A109>='daily uptake'!$C$18,$A109<='daily uptake'!$C$20),$D109+F108,0)","v":0},{"$f":"IF(AND($A109>='daily uptake'!$C$24,$A109<='daily uptake'!$C$25),$C109+G108,0)","v":0},{"$f":"IF(OR(F109<=I7,F109>I9),0,I8+(I10-I8)*(1-((I5+EXP(I6*(I4-I7)))/(I5+EXP(I6*(I4-F109))))^I5)/(1-((I5+EXP(I6*(I4-I7)))/(I5+EXP(I6*(I4-I9))))^I5))","v":0},{"$f":"IF(OR(F109<=J7,F109>J9),0,J8+(J10-J8)*(1-((J5+EXP(J6*(J4-J7)))/(J5+EXP(J6*(J4-F109))))^J5)/(1-((J5+EXP(J6*(J4-J7)))/(J5+EXP(J6*(J4-J9))))^J5))","v":0},{"$f":"IF(OR(F109<=J9,F109>100000),0,IF(F109<=K7,K8,K8+(K10-K8)*(1-((K5+EXP(K6*(K4-K7)))/(K5+EXP(K6*(K4-F109))))^K5)/(1-((K5+EXP(K6*(K4-K7)))/(K5+EXP(K6*(K4-K9))))^K5)))","v":0},0,0,50.720382279598901,0,"2011-02-06",{"$f":"MAX(L$12:L109)+MAX(M$12:M109)+MAX(N$12:N109)","v":50.720382279598901},"2011-02-06",0.89108698601036451,null,null,null,null,null,null,null,null,null,null,null,null,null,null,null,null,null,0,null,{"$f":"IF(OR(AJ109<=AM7,AJ109>AM9),0,AM8+(AM10-AM8)*(1-((AM5+EXP(AM6*(AM4-AM7)))/(AM5+EXP(AM6*(AM4-AJ109))))^AM5)/(1-((AM5+EXP(AM6*(AM4-AM7)))/(AM5+EXP(AM6*(AM4-AM9))))^AM5))","v":0},{"$f":"IF(OR(AJ109<=AN7,AJ109>AN9),0,AN8+(AN10-AN8)*(1-((AN5+EXP(AN6*(AN4-AN7)))/(AN5+EXP(AN6*(AN4-AJ109))))^AN5)/(1-((AN5+EXP(AN6*(AN4-AN7)))/(AN5+EXP(AN6*(AN4-AN9))))^AN5))","v":0},{"$f":"IF(OR(AJ109<=AN9,AJ109>100000),0,IF(AJ109<=AO7,AO8,AO8+(AO10-AO8)*(1-((AO5+EXP(AO6*(AO4-AO7)))/(AO5+EXP(AO6*(AO4-AJ109))))^AO5)/(1-((AO5+EXP(AO6*(AO4-AO7)))/(AO5+EXP(AO6*(AO4-AO9))))^AO5)))","v":0},0,0]
[99,{"$f":"'daily uptake'!F193","v":"2011-02-07"},{"$f":"5/9*'daily uptake'!Q193","v":10},{"$f":"5/9*'daily uptake'!N193","v":2.5},{"$f":"IF(AND($A110>='daily uptake'!$C$9,$A110<='daily uptake'!$C$10),$C110+E109,0)","v":863.61111111111086},{"$f":"IF(AND($A110>='daily uptake'!$C$18,$A110<='daily uptake'!$C$20),$D110+F109,0)","v":0},{"$f":"IF(AND($A110>='daily uptake'!$C$24,$A110<='daily uptake'!$C$25),$C110+G109,0)","v":0},{"$f":"IF(OR(F110<=I7,F110>I9),0,I8+(I10-I8)*(1-((I5+EXP(I6*(I4-I7)))/(I5+EXP(I6*(I4-F110))))^I5)/(1-((I5+EXP(I6*(I4-I7)))/(I5+EXP(I6*(I4-I9))))^I5))","v":0},{"$f":"IF(OR(F110<=J7,F110>J9),0,J8+(J10-J8)*(1-((J5+EXP(J6*(J4-J7)))/(J5+EXP(J6*(J4-F110))))^J5)/(1-((J5+EXP(J6*(J4-J7)))/(J5+EXP(J6*(J4-J9))))^J5))","v":0},{"$f":"IF(OR(F110<=J9,F110>100000),0,IF(F110<=K7,K8,K8+(K10-K8)*(1-((K5+EXP(K6*(K4-K7)))/(K5+EXP(K6*(K4-F110))))^K5)/(1-((K5+EXP(K6*(K4-K7)))/(K5+EXP(K6*(K4-K9))))^K5)))","v":0},0,0,51.701416811225634,0,"2011-02-07",{"$f":"MAX(L$12:L110)+MAX(M$12:M110)+MAX(N$12:N110)","v":51.701416811225634},"2011-02-07",0.98103453162673304,null,null,null,null,null,null,null,null,null,null,null,null,null,null,null,null,null,0,null,{"$f":"IF(OR(AJ110<=AM7,AJ110>AM9),0,AM8+(AM10-AM8)*(1-((AM5+EXP(AM6*(AM4-AM7)))/(AM5+EXP(AM6*(AM4-AJ110))))^AM5)/(1-((AM5+EXP(AM6*(AM4-AM7)))/(AM5+EXP(AM6*(AM4-AM9))))^AM5))","v":0},{"$f":"IF(OR(AJ110<=AN7,AJ110>AN9),0,AN8+(AN10-AN8)*(1-((AN5+EXP(AN6*(AN4-AN7)))/(AN5+EXP(AN6*(AN4-AJ110))))^AN5)/(1-((AN5+EXP(AN6*(AN4-AN7)))/(AN5+EXP(AN6*(AN4-AN9))))^AN5))","v":0},{"$f":"IF(OR(AJ110<=AN9,AJ110>100000),0,IF(AJ110<=AO7,AO8,AO8+(AO10-AO8)*(1-((AO5+EXP(AO6*(AO4-AO7)))/(AO5+EXP(AO6*(AO4-AJ110))))^AO5)/(1-((AO5+EXP(AO6*(AO4-AO7)))/(AO5+EXP(AO6*(AO4-AO9))))^AO5)))","v":0},0,0]
[100,{"$f":"'daily uptake'!F194","v":"2011-02-08"},{"$f":"5/9*'daily uptake'!Q194","v":9.4444444444444446},{"$f":"5/9*'daily uptake'!N194","v":2.5},{"$f":"IF(AND($A111>='daily uptake'!$C$9,$A111<='daily uptake'!$C$10),$C111+E110,0)","v":873.05555555555532},{"$f":"IF(AND($A111>='daily uptake'!$C$18,$A111<='daily uptake'!$C$20),$D111+F110,0)","v":0},{"$f":"IF(AND($A111>='daily uptake'!$C$24,$A111<='daily uptake'!$C$25),$C111+G110,0)","v":0},{"$f":"IF(OR(F111<=I7,F111>I9),0,I8+(I10-I8)*(1-((I5+EXP(I6*(I4-I7)))/(I5+EXP(I6*(I4-F111))))^I5)/(1-((I5+EXP(I6*(I4-I7)))/(I5+EXP(I6*(I4-I9))))^I5))","v":0},{"$f":"IF(OR(F111<=J7,F111>J9),0,J8+(J10-J8)*(1-((J5+EXP(J6*(J4-J7)))/(J5+EXP(J6*(J4-F111))))^J5)/(1-((J5+EXP(J6*(J4-J7)))/(J5+EXP(J6*(J4-J9))))^J5))","v":0},{"$f":"IF(OR(F111<=J9,F111>100000),0,IF(F111<=K7,K8,K8+(K10-K8)*(1-((K5+EXP(K6*(K4-K7)))/(K5+EXP(K6*(K4-F111))))^K5)/(1-((K5+EXP(K6*(K4-K7)))/(K5+EXP(K6*(K4-K9))))^K5)))","v":0},0,0,52.63645892031208,0,"2011-02-08",{"$f":"MAX(L$12:L111)+MAX(M$12:M111)+MAX(N$12:N111)","v":52.63645892031208},"2011-02-08",0.93504210908644581,null,null,null,null,null,null,null,null,null,null,null,null,null,null,null,null,null,0,null,{"$f":"IF(OR(AJ111<=AM7,AJ111>AM9),0,AM8+(AM10-AM8)*(1-((AM5+EXP(AM6*(AM4-AM7)))/(AM5+EXP(AM6*(AM4-AJ111))))^AM5)/(1-((AM5+EXP(AM6*(AM4-AM7)))/(AM5+EXP(AM6*(AM4-AM9))))^AM5))","v":0},{"$f":"IF(OR(AJ111<=AN7,AJ111>AN9),0,AN8+(AN10-AN8)*(1-((AN5+EXP(AN6*(AN4-AN7)))/(AN5+EXP(AN6*(AN4-AJ111))))^AN5)/(1-((AN5+EXP(AN6*(AN4-AN7)))/(AN5+EXP(AN6*(AN4-AN9))))^AN5))","v":0},{"$f":"IF(OR(AJ111<=AN9,AJ111>100000),0,IF(AJ111<=AO7,AO8,AO8+(AO10-AO8)*(1-((AO5+EXP(AO6*(AO4-AO7)))/(AO5+EXP(AO6*(AO4-AJ111))))^AO5)/(1-((AO5+EXP(AO6*(AO4-AO7)))/(AO5+EXP(AO6*(AO4-AO9))))^AO5)))","v":0},0,0]
[101,{"$f":"'daily uptake'!F195","v":"2011-02-09"},{"$f":"5/9*'daily uptake'!Q195","v":9.1666666666666679},{"$f":"5/9*'daily uptake'!N195","v":2.7777777777777777},{"$f":"IF(AND($A112>='daily uptake'!$C$9,$A112<='daily uptake'!$C$10),$C112+E111,0)","v":882.22222222222194},{"$f":"IF(AND($A112>='daily uptake'!$C$18,$A112<='daily uptake'!$C$20),$D112+F111,0)","v":0},{"$f":"IF(AND($A112>='daily uptake'!$C$24,$A112<='daily uptake'!$C$25),$C112+G111,0)","v":0},{"$f":"IF(OR(F112<=I7,F112>I9),0,I8+(I10-I8)*(1-((I5+EXP(I6*(I4-I7)))/(I5+EXP(I6*(I4-F112))))^I5)/(1-((I5+EXP(I6*(I4-I7)))/(I5+EXP(I6*(I4-I9))))^I5))","v":0},{"$f":"IF(OR(F112<=J7,F112>J9),0,J8+(J10-J8)*(1-((J5+EXP(J6*(J4-J7)))/(J5+EXP(J6*(J4-F112))))^J5)/(1-((J5+EXP(J6*(J4-J7)))/(J5+EXP(J6*(J4-J9))))^J5))","v":0},{"$f":"IF(OR(F112<=J9,F112>100000),0,IF(F112<=K7,K8,K8+(K10-K8)*(1-((K5+EXP(K6*(K4-K7)))/(K5+EXP(K6*(K4-F112))))^K5)/(1-((K5+EXP(K6*(K4-K7)))/(K5+EXP(K6*(K4-K9))))^K5)))","v":0},0,0,53.551849534018594,0,"2011-02-09",{"$f":"MAX(L$12:L112)+MAX(M$12:M112)+MAX(N$12:N112)","v":53.551849534018594},"2011-02-09",0.91539061370651353,null,null,null,null,null,null,null,null,null,null,null,null,null,null,null,null,null,0,null,{"$f":"IF(OR(AJ112<=AM7,AJ112>AM9),0,AM8+(AM10-AM8)*(1-((AM5+EXP(AM6*(AM4-AM7)))/(AM5+EXP(AM6*(AM4-AJ112))))^AM5)/(1-((AM5+EXP(AM6*(AM4-AM7)))/(AM5+EXP(AM6*(AM4-AM9))))^AM5))","v":0},{"$f":"IF(OR(AJ112<=AN7,AJ112>AN9),0,AN8+(AN10-AN8)*(1-((AN5+EXP(AN6*(AN4-AN7)))/(AN5+EXP(AN6*(AN4-AJ112))))^AN5)/(1-((AN5+EXP(AN6*(AN4-AN7)))/(AN5+EXP(AN6*(AN4-AN9))))^AN5))","v":0},{"$f":"IF(OR(AJ112<=AN9,AJ112>100000),0,IF(AJ112<=AO7,AO8,AO8+(AO10-AO8)*(1-((AO5+EXP(AO6*(AO4-AO7)))/(AO5+EXP(AO6*(AO4-AJ112))))^AO5)/(1-((AO5+EXP(AO6*(AO4-AO7)))/(AO5+EXP(AO6*(AO4-AO9))))^AO5)))","v":0},0,0]
[102,{"$f":"'daily uptake'!F196","v":"2011-02-10"},{"$f":"5/9*'daily uptake'!Q196","v":9.1666666666666679},{"$f":"5/9*'daily uptake'!N196","v":2.7777777777777777},{"$f":"IF(AND($A113>='daily uptake'!$C$9,$A113<='daily uptake'!$C$10),$C113+E112,0)","v":891.38888888888857},{"$f":"IF(AND($A113>='daily uptake'!$C$18,$A113<='daily uptake'!$C$20),$D113+F112,0)","v":0},{"$f":"IF(AND($A113>='daily uptake'!$C$24,$A113<='daily uptake'!$C$25),$C113+G112,0)","v":0},{"$f":"IF(OR(F113<=I7,F113>I9),0,I8+(I10-I8)*(1-((I5+EXP(I6*(I4-I7)))/(I5+EXP(I6*(I4-F113))))^I5)/(1-((I5+EXP(I6*(I4-I7)))/(I5+EXP(I6*(I4-I9))))^I5))","v":0},{"$f":"IF(OR(F113<=J7,F113>J9),0,J8+(J10-J8)*(1-((J5+EXP(J6*(J4-J7)))/(J5+EXP(J6*(J4-F113))))^J5)/(1-((J5+EXP(J6*(J4-J7)))/(J5+EXP(J6*(J4-J9))))^J5))","v":0},{"$f":"IF(OR(F113<=J9,F113>100000),0,IF(F113<=K7,K8,K8+(K10-K8)*(1-((K5+EXP(K6*(K4-K7)))/(K5+EXP(K6*(K4-F113))))^K5)/(1-((K5+EXP(K6*(K4-K7)))/(K5+EXP(K6*(K4-K9))))^K5)))","v":0},0,0,54.474916167272916,0,"2011-02-10",{"$f":"MAX(L$12:L113)+MAX(M$12:M113)+MAX(N$12:N113)","v":54.474916167272916},"2011-02-10",0.92306663325432226,null,null,null,null,null,null,null,null,null,null,null,null,null,null,null,null,null,0,null,{"$f":"IF(OR(AJ113<=AM7,AJ113>AM9),0,AM8+(AM10-AM8)*(1-((AM5+EXP(AM6*(AM4-AM7)))/(AM5+EXP(AM6*(AM4-AJ113))))^AM5)/(1-((AM5+EXP(AM6*(AM4-AM7)))/(AM5+EXP(AM6*(AM4-AM9))))^AM5))","v":0},{"$f":"IF(OR(AJ113<=AN7,AJ113>AN9),0,AN8+(AN10-AN8)*(1-((AN5+EXP(AN6*(AN4-AN7)))/(AN5+EXP(AN6*(AN4-AJ113))))^AN5)/(1-((AN5+EXP(AN6*(AN4-AN7)))/(AN5+EXP(AN6*(AN4-AN9))))^AN5))","v":0},{"$f":"IF(OR(AJ113<=AN9,AJ113>100000),0,IF(AJ113<=AO7,AO8,AO8+(AO10-AO8)*(1-((AO5+EXP(AO6*(AO4-AO7)))/(AO5+EXP(AO6*(AO4-AJ113))))^AO5)/(1-((AO5+EXP(AO6*(AO4-AO7)))/(AO5+EXP(AO6*(AO4-AO9))))^AO5)))","v":0},0,0]
[103,{"$f":"'daily uptake'!F197","v":"2011-02-11"},{"$f":"5/9*'daily uptake'!Q197","v":9.7222222222222232},{"$f":"5/9*'daily uptake'!N197","v":2.7777777777777777},{"$f":"IF(AND($A114>='daily uptake'!$C$9,$A114<='daily uptake'!$C$10),$C114+E113,0)","v":901.11111111111074},{"$f":"IF(AND($A114>='daily uptake'!$C$18,$A114<='daily uptake'!$C$20),$D114+F113,0)","v":0},{"$f":"IF(AND($A114>='daily uptake'!$C$24,$A114<='daily uptake'!$C$25),$C114+G113,0)","v":0},{"$f":"IF(OR(F114<=I7,F114>I9),0,I8+(I10-I8)*(1-((I5+EXP(I6*(I4-I7)))/(I5+EXP(I6*(I4-F114))))^I5)/(1-((I5+EXP(I6*(I4-I7)))/(I5+EXP(I6*(I4-I9))))^I5))","v":0},{"$f":"IF(OR(F114<=J7,F114>J9),0,J8+(J10-J8)*(1-((J5+EXP(J6*(J4-J7)))/(J5+EXP(J6*(J4-F114))))^J5)/(1-((J5+EXP(J6*(J4-J7)))/(J5+EXP(J6*(J4-J9))))^J5))","v":0},{"$f":"IF(OR(F114<=J9,F114>100000),0,IF(F114<=K7,K8,K8+(K10-K8)*(1-((K5+EXP(K6*(K4-K7)))/(K5+EXP(K6*(K4-F114))))^K5)/(1-((K5+EXP(K6*(K4-K7)))/(K5+EXP(K6*(K4-K9))))^K5)))","v":0},0,0,55.46224791513152,0,"2011-02-11",{"$f":"MAX(L$12:L114)+MAX(M$12:M114)+MAX(N$12:N114)","v":55.46224791513152},"2011-02-11",0.98733174785860456,null,null,null,null,null,null,null,null,null,null,null,null,null,null,null,null,null,0,null,{"$f":"IF(OR(AJ114<=AM7,AJ114>AM9),0,AM8+(AM10-AM8)*(1-((AM5+EXP(AM6*(AM4-AM7)))/(AM5+EXP(AM6*(AM4-AJ114))))^AM5)/(1-((AM5+EXP(AM6*(AM4-AM7)))/(AM5+EXP(AM6*(AM4-AM9))))^AM5))","v":0},{"$f":"IF(OR(AJ114<=AN7,AJ114>AN9),0,AN8+(AN10-AN8)*(1-((AN5+EXP(AN6*(AN4-AN7)))/(AN5+EXP(AN6*(AN4-AJ114))))^AN5)/(1-((AN5+EXP(AN6*(AN4-AN7)))/(AN5+EXP(AN6*(AN4-AN9))))^AN5))","v":0},{"$f":"IF(OR(AJ114<=AN9,AJ114>100000),0,IF(AJ114<=AO7,AO8,AO8+(AO10-AO8)*(1-((AO5+EXP(AO6*(AO4-AO7)))/(AO5+EXP(AO6*(AO4-AJ114))))^AO5)/(1-((AO5+EXP(AO6*(AO4-AO7)))/(AO5+EXP(AO6*(AO4-AO9))))^AO5)))","v":0},0,0]
[104,{"$f":"'daily uptake'!F198","v":"2011-02-12"},{"$f":"5/9*'daily uptake'!Q198","v":9.7222222222222232},{"$f":"5/9*'daily uptake'!N198","v":3.0555555555555558},{"$f":"IF(AND($A115>='daily uptake'!$C$9,$A115<='daily uptake'!$C$10),$C115+E114,0)","v":910.83333333333292},{"$f":"IF(AND($A115>='daily uptake'!$C$18,$A115<='daily uptake'!$C$20),$D115+F114,0)","v":0},{"$f":"IF(AND($A115>='daily uptake'!$C$24,$A115<='daily uptake'!$C$25),$C115+G114,0)","v":0},{"$f":"IF(OR(F115<=I7,F115>I9),0,I8+(I10-I8)*(1-((I5+EXP(I6*(I4-I7)))/(I5+EXP(I6*(I4-F115))))^I5)/(1-((I5+EXP(I6*(I4-I7)))/(I5+EXP(I6*(I4-I9))))^I5))","v":0},{"$f":"IF(OR(F115<=J7,F115>J9),0,J8+(J10-J8)*(1-((J5+EXP(J6*(J4-J7)))/(J5+EXP(J6*(J4-F115))))^J5)/(1-((J5+EXP(J6*(J4-J7)))/(J5+EXP(J6*(J4-J9))))^J5))","v":0},{"$f":"IF(OR(F115<=J9,F115>100000),0,IF(F115<=K7,K8,K8+(K10-K8)*(1-((K5+EXP(K6*(K4-K7)))/(K5+EXP(K6*(K4-F115))))^K5)/(1-((K5+EXP(K6*(K4-K7)))/(K5+EXP(K6*(K4-K9))))^K5)))","v":0},0,0,56.458072484217233,0,"2011-02-12",{"$f":"MAX(L$12:L115)+MAX(M$12:M115)+MAX(N$12:N115)","v":56.458072484217233},"2011-02-12",0.9958245690857126,null,null,null,null,null,null,null,null,null,null,null,null,null,null,null,null,null,0,null,{"$f":"IF(OR(AJ115<=AM7,AJ115>AM9),0,AM8+(AM10-AM8)*(1-((AM5+EXP(AM6*(AM4-AM7)))/(AM5+EXP(AM6*(AM4-AJ115))))^AM5)/(1-((AM5+EXP(AM6*(AM4-AM7)))/(AM5+EXP(AM6*(AM4-AM9))))^AM5))","v":0},{"$f":"IF(OR(AJ115<=AN7,AJ115>AN9),0,AN8+(AN10-AN8)*(1-((AN5+EXP(AN6*(AN4-AN7)))/(AN5+EXP(AN6*(AN4-AJ115))))^AN5)/(1-((AN5+EXP(AN6*(AN4-AN7)))/(AN5+EXP(AN6*(AN4-AN9))))^AN5))","v":0},{"$f":"IF(OR(AJ115<=AN9,AJ115>100000),0,IF(AJ115<=AO7,AO8,AO8+(AO10-AO8)*(1-((AO5+EXP(AO6*(AO4-AO7)))/(AO5+EXP(AO6*(AO4-AJ115))))^AO5)/(1-((AO5+EXP(AO6*(AO4-AO7)))/(AO5+EXP(AO6*(AO4-AO9))))^AO5)))","v":0},0,0]
[105,{"$f":"'daily uptake'!F199","v":"2011-02-13"},{"$f":"5/9*'daily uptake'!Q199","v":10},{"$f":"5/9*'daily uptake'!N199","v":2.7777777777777777},{"$f":"IF(AND($A116>='daily uptake'!$C$9,$A116<='daily uptake'!$C$10),$C116+E115,0)","v":920.83333333333292},{"$f":"IF(AND($A116>='daily uptake'!$C$18,$A116<='daily uptake'!$C$20),$D116+F115,0)","v":0},{"$f":"IF(AND($A116>='daily uptake'!$C$24,$A116<='daily uptake'!$C$25),$C116+G115,0)","v":0},{"$f":"IF(OR(F116<=I7,F116>I9),0,I8+(I10-I8)*(1-((I5+EXP(I6*(I4-I7)))/(I5+EXP(I6*(I4-F116))))^I5)/(1-((I5+EXP(I6*(I4-I7)))/(I5+EXP(I6*(I4-I9))))^I5))","v":0},{"$f":"IF(OR(F116<=J7,F116>J9),0,J8+(J10-J8)*(1-((J5+EXP(J6*(J4-J7)))/(J5+EXP(J6*(J4-F116))))^J5)/(1-((J5+EXP(J6*(J4-J7)))/(J5+EXP(J6*(J4-J9))))^J5))","v":0},{"$f":"IF(OR(F116<=J9,F116>100000),0,IF(F116<=K7,K8,K8+(K10-K8)*(1-((K5+EXP(K6*(K4-K7)))/(K5+EXP(K6*(K4-F116))))^K5)/(1-((K5+EXP(K6*(K4-K7)))/(K5+EXP(K6*(K4-K9))))^K5)))","v":0},0,0,57.491125940754557,0,"2011-02-13",{"$f":"MAX(L$12:L116)+MAX(M$12:M116)+MAX(N$12:N116)","v":57.491125940754557},"2011-02-13",1.0330534565373242,null,null,null,null,null,null,null,null,null,null,null,null,null,null,null,null,null,0,null,{"$f":"IF(OR(AJ116<=AM7,AJ116>AM9),0,AM8+(AM10-AM8)*(1-((AM5+EXP(AM6*(AM4-AM7)))/(AM5+EXP(AM6*(AM4-AJ116))))^AM5)/(1-((AM5+EXP(AM6*(AM4-AM7)))/(AM5+EXP(AM6*(AM4-AM9))))^AM5))","v":0},{"$f":"IF(OR(AJ116<=AN7,AJ116>AN9),0,AN8+(AN10-AN8)*(1-((AN5+EXP(AN6*(AN4-AN7)))/(AN5+EXP(AN6*(AN4-AJ116))))^AN5)/(1-((AN5+EXP(AN6*(AN4-AN7)))/(AN5+EXP(AN6*(AN4-AN9))))^AN5))","v":0},{"$f":"IF(OR(AJ116<=AN9,AJ116>100000),0,IF(AJ116<=AO7,AO8,AO8+(AO10-AO8)*(1-((AO5+EXP(AO6*(AO4-AO7)))/(AO5+EXP(AO6*(AO4-AJ116))))^AO5)/(1-((AO5+EXP(AO6*(AO4-AO7)))/(AO5+EXP(AO6*(AO4-AO9))))^AO5)))","v":0},0,0]
[106,{"$f":"'daily uptake'!F200","v":"2011-02-14"},{"$f":"5/9*'daily uptake'!Q200","v":10},{"$f":"5/9*'daily uptake'!N200","v":3.3333333333333335},{"$f":"IF(AND($A117>='daily uptake'!$C$9,$A117<='daily uptake'!$C$10),$C117+E116,0)","v":930.83333333333292},{"$f":"IF(AND($A117>='daily uptake'!$C$18,$A117<='daily uptake'!$C$20),$D117+F116,0)","v":0},{"$f":"IF(AND($A117>='daily uptake'!$C$24,$A117<='daily uptake'!$C$25),$C117+G116,0)","v":0},{"$f":"IF(OR(F117<=I7,F117>I9),0,I8+(I10-I8)*(1-((I5+EXP(I6*(I4-I7)))/(I5+EXP(I6*(I4-F117))))^I5)/(1-((I5+EXP(I6*(I4-I7)))/(I5+EXP(I6*(I4-I9))))^I5))","v":0},{"$f":"IF(OR(F117<=J7,F117>J9),0,J8+(J10-J8)*(1-((J5+EXP(J6*(J4-J7)))/(J5+EXP(J6*(J4-F117))))^J5)/(1-((J5+EXP(J6*(J4-J7)))/(J5+EXP(J6*(J4-J9))))^J5))","v":0},{"$f":"IF(OR(F117<=J9,F117>100000),0,IF(F117<=K7,K8,K8+(K10-K8)*(1-((K5+EXP(K6*(K4-K7)))/(K5+EXP(K6*(K4-F117))))^K5)/(1-((K5+EXP(K6*(K4-K7)))/(K5+EXP(K6*(K4-K9))))^K5)))","v":0},0,0,58.532989603084019,0,"2011-02-14",{"$f":"MAX(L$12:L117)+MAX(M$12:M117)+MAX(N$12:N117)","v":58.532989603084019},"2011-02-14",1.0418636623294617,null,null,null,null,null,null,null,null,null,null,null,null,null,null,null,null,null,0,null,{"$f":"IF(OR(AJ117<=AM7,AJ117>AM9),0,AM8+(AM10-AM8)*(1-((AM5+EXP(AM6*(AM4-AM7)))/(AM5+EXP(AM6*(AM4-AJ117))))^AM5)/(1-((AM5+EXP(AM6*(AM4-AM7)))/(AM5+EXP(AM6*(AM4-AM9))))^AM5))","v":0},{"$f":"IF(OR(AJ117<=AN7,AJ117>AN9),0,AN8+(AN10-AN8)*(1-((AN5+EXP(AN6*(AN4-AN7)))/(AN5+EXP(AN6*(AN4-AJ117))))^AN5)/(1-((AN5+EXP(AN6*(AN4-AN7)))/(AN5+EXP(AN6*(AN4-AN9))))^AN5))","v":0},{"$f":"IF(OR(AJ117<=AN9,AJ117>100000),0,IF(AJ117<=AO7,AO8,AO8+(AO10-AO8)*(1-((AO5+EXP(AO6*(AO4-AO7)))/(AO5+EXP(AO6*(AO4-AJ117))))^AO5)/(1-((AO5+EXP(AO6*(AO4-AO7)))/(AO5+EXP(AO6*(AO4-AO9))))^AO5)))","v":0},0,0]
[107,{"$f":"'daily uptake'!F201","v":"2011-02-15"},{"$f":"5/9*'daily uptake'!Q201","v":9.1666666666666679},{"$f":"5/9*'daily uptake'!N201","v":2.7777777777777777},{"$f":"IF(AND($A118>='daily uptake'!$C$9,$A118<='daily uptake'!$C$10),$C118+E117,0)","v":939.99999999999955},{"$f":"IF(AND($A118>='daily uptake'!$C$18,$A118<='daily uptake'!$C$20),$D118+F117,0)","v":0},{"$f":"IF(AND($A118>='daily uptake'!$C$24,$A118<='daily uptake'!$C$25),$C118+G117,0)","v":0},{"$f":"IF(OR(F118<=I7,F118>I9),0,I8+(I10-I8)*(1-((I5+EXP(I6*(I4-I7)))/(I5+EXP(I6*(I4-F118))))^I5)/(1-((I5+EXP(I6*(I4-I7)))/(I5+EXP(I6*(I4-I9))))^I5))","v":0},{"$f":"IF(OR(F118<=J7,F118>J9),0,J8+(J10-J8)*(1-((J5+EXP(J6*(J4-J7)))/(J5+EXP(J6*(J4-F118))))^J5)/(1-((J5+EXP(J6*(J4-J7)))/(J5+EXP(J6*(J4-J9))))^J5))","v":0},{"$f":"IF(OR(F118<=J9,F118>100000),0,IF(F118<=K7,K8,K8+(K10-K8)*(1-((K5+EXP(K6*(K4-K7)))/(K5+EXP(K6*(K4-F118))))^K5)/(1-((K5+EXP(K6*(K4-K7)))/(K5+EXP(K6*(K4-K9))))^K5)))","v":0},0,0,59.495689101837606,0,"2011-02-15",{"$f":"MAX(L$12:L118)+MAX(M$12:M118)+MAX(N$12:N118)","v":59.495689101837606},"2011-02-15",0.96269949875358662,null,null,null,null,null,null,null,null,null,null,null,null,null,null,null,null,null,0,null,{"$f":"IF(OR(AJ118<=AM7,AJ118>AM9),0,AM8+(AM10-AM8)*(1-((AM5+EXP(AM6*(AM4-AM7)))/(AM5+EXP(AM6*(AM4-AJ118))))^AM5)/(1-((AM5+EXP(AM6*(AM4-AM7)))/(AM5+EXP(AM6*(AM4-AM9))))^AM5))","v":0},{"$f":"IF(OR(AJ118<=AN7,AJ118>AN9),0,AN8+(AN10-AN8)*(1-((AN5+EXP(AN6*(AN4-AN7)))/(AN5+EXP(AN6*(AN4-AJ118))))^AN5)/(1-((AN5+EXP(AN6*(AN4-AN7)))/(AN5+EXP(AN6*(AN4-AN9))))^AN5))","v":0},{"$f":"IF(OR(AJ118<=AN9,AJ118>100000),0,IF(AJ118<=AO7,AO8,AO8+(AO10-AO8)*(1-((AO5+EXP(AO6*(AO4-AO7)))/(AO5+EXP(AO6*(AO4-AJ118))))^AO5)/(1-((AO5+EXP(AO6*(AO4-AO7)))/(AO5+EXP(AO6*(AO4-AO9))))^AO5)))","v":0},0,0]
[108,{"$f":"'daily uptake'!F202","v":"2011-02-16"},{"$f":"5/9*'daily uptake'!Q202","v":10.277777777777779},{"$f":"5/9*'daily uptake'!N202","v":3.0555555555555558},{"$f":"IF(AND($A119>='daily uptake'!$C$9,$A119<='daily uptake'!$C$10),$C119+E118,0)","v":950.27777777777737},{"$f":"IF(AND($A119>='daily uptake'!$C$18,$A119<='daily uptake'!$C$20),$D119+F118,0)","v":0},{"$f":"IF(AND($A119>='daily uptake'!$C$24,$A119<='daily uptake'!$C$25),$C119+G118,0)","v":0},{"$f":"IF(OR(F119<=I7,F119>I9),0,I8+(I10-I8)*(1-((I5+EXP(I6*(I4-I7)))/(I5+EXP(I6*(I4-F119))))^I5)/(1-((I5+EXP(I6*(I4-I7)))/(I5+EXP(I6*(I4-I9))))^I5))","v":0},{"$f":"IF(OR(F119<=J7,F119>J9),0,J8+(J10-J8)*(1-((J5+EXP(J6*(J4-J7)))/(J5+EXP(J6*(J4-F119))))^J5)/(1-((J5+EXP(J6*(J4-J7)))/(J5+EXP(J6*(J4-J9))))^J5))","v":0},{"$f":"IF(OR(F119<=J9,F119>100000),0,IF(F119<=K7,K8,K8+(K10-K8)*(1-((K5+EXP(K6*(K4-K7)))/(K5+EXP(K6*(K4-F119))))^K5)/(1-((K5+EXP(K6*(K4-K7)))/(K5+EXP(K6*(K4-K9))))^K5)))","v":0},0,0,60.583691442509263,0,"2011-02-16",{"$f":"MAX(L$12:L119)+MAX(M$12:M119)+MAX(N$12:N119)","v":60.583691442509263},"2011-02-16",1.0880023406716575,null,null,null,null,null,null,null,null,null,null,null,null,null,null,null,null,null,0,null,{"$f":"IF(OR(AJ119<=AM7,AJ119>AM9),0,AM8+(AM10-AM8)*(1-((AM5+EXP(AM6*(AM4-AM7)))/(AM5+EXP(AM6*(AM4-AJ119))))^AM5)/(1-((AM5+EXP(AM6*(AM4-AM7)))/(AM5+EXP(AM6*(AM4-AM9))))^AM5))","v":0},{"$f":"IF(OR(AJ119<=AN7,AJ119>AN9),0,AN8+(AN10-AN8)*(1-((AN5+EXP(AN6*(AN4-AN7)))/(AN5+EXP(AN6*(AN4-AJ119))))^AN5)/(1-((AN5+EXP(AN6*(AN4-AN7)))/(AN5+EXP(AN6*(AN4-AN9))))^AN5))","v":0},{"$f":"IF(OR(AJ119<=AN9,AJ119>100000),0,IF(AJ119<=AO7,AO8,AO8+(AO10-AO8)*(1-((AO5+EXP(AO6*(AO4-AO7)))/(AO5+EXP(AO6*(AO4-AJ119))))^AO5)/(1-((AO5+EXP(AO6*(AO4-AO7)))/(AO5+EXP(AO6*(AO4-AO9))))^AO5)))","v":0},0,0]
[109,{"$f":"'daily uptake'!F203","v":"2011-02-17"},{"$f":"5/9*'daily uptake'!Q203","v":11.111111111111111},{"$f":"5/9*'daily uptake'!N203","v":3.3333333333333335},{"$f":"IF(AND($A120>='daily uptake'!$C$9,$A120<='daily uptake'!$C$10),$C120+E119,0)","v":961.38888888888846},{"$f":"IF(AND($A120>='daily uptake'!$C$18,$A120<='daily uptake'!$C$20),$D120+F119,0)","v":0},{"$f":"IF(AND($A120>='daily uptake'!$C$24,$A120<='daily uptake'!$C$25),$C120+G119,0)","v":0},{"$f":"IF(OR(F120<=I7,F120>I9),0,I8+(I10-I8)*(1-((I5+EXP(I6*(I4-I7)))/(I5+EXP(I6*(I4-F120))))^I5)/(1-((I5+EXP(I6*(I4-I7)))/(I5+EXP(I6*(I4-I9))))^I5))","v":0},{"$f":"IF(OR(F120<=J7,F120>J9),0,J8+(J10-J8)*(1-((J5+EXP(J6*(J4-J7)))/(J5+EXP(J6*(J4-F120))))^J5)/(1-((J5+EXP(J6*(J4-J7)))/(J5+EXP(J6*(J4-J9))))^J5))","v":0},{"$f":"IF(OR(F120<=J9,F120>100000),0,IF(F120<=K7,K8,K8+(K10-K8)*(1-((K5+EXP(K6*(K4-K7)))/(K5+EXP(K6*(K4-F120))))^K5)/(1-((K5+EXP(K6*(K4-K7)))/(K5+EXP(K6*(K4-K9))))^K5)))","v":0},0,0,61.770024084180406,0,"2011-02-17",{"$f":"MAX(L$12:L120)+MAX(M$12:M120)+MAX(N$12:N120)","v":61.770024084180406},"2011-02-17",1.1863326416711431,null,null,null,null,null,null,null,null,null,null,null,null,null,null,null,null,null,0,null,{"$f":"IF(OR(AJ120<=AM7,AJ120>AM9),0,AM8+(AM10-AM8)*(1-((AM5+EXP(AM6*(AM4-AM7)))/(AM5+EXP(AM6*(AM4-AJ120))))^AM5)/(1-((AM5+EXP(AM6*(AM4-AM7)))/(AM5+EXP(AM6*(AM4-AM9))))^AM5))","v":0},{"$f":"IF(OR(AJ120<=AN7,AJ120>AN9),0,AN8+(AN10-AN8)*(1-((AN5+EXP(AN6*(AN4-AN7)))/(AN5+EXP(AN6*(AN4-AJ120))))^AN5)/(1-((AN5+EXP(AN6*(AN4-AN7)))/(AN5+EXP(AN6*(AN4-AN9))))^AN5))","v":0},{"$f":"IF(OR(AJ120<=AN9,AJ120>100000),0,IF(AJ120<=AO7,AO8,AO8+(AO10-AO8)*(1-((AO5+EXP(AO6*(AO4-AO7)))/(AO5+EXP(AO6*(AO4-AJ120))))^AO5)/(1-((AO5+EXP(AO6*(AO4-AO7)))/(AO5+EXP(AO6*(AO4-AO9))))^AO5)))","v":0},0,0]
[110,{"$f":"'daily uptake'!F204","v":"2011-02-18"},{"$f":"5/9*'daily uptake'!Q204","v":10.555555555555555},{"$f":"5/9*'daily uptake'!N204","v":3.3333333333333335},{"$f":"IF(AND($A121>='daily uptake'!$C$9,$A121<='daily uptake'!$C$10),$C121+E120,0)","v":971.944444444444},{"$f":"IF(AND($A121>='daily uptake'!$C$18,$A121<='daily uptake'!$C$20),$D121+F120,0)","v":0},{"$f":"IF(AND($A121>='daily uptake'!$C$24,$A121<='daily uptake'!$C$25),$C121+G120,0)","v":0},{"$f":"IF(OR(F121<=I7,F121>I9),0,I8+(I10-I8)*(1-((I5+EXP(I6*(I4-I7)))/(I5+EXP(I6*(I4-F121))))^I5)/(1-((I5+EXP(I6*(I4-I7)))/(I5+EXP(I6*(I4-I9))))^I5))","v":0},{"$f":"IF(OR(F121<=J7,F121>J9),0,J8+(J10-J8)*(1-((J5+EXP(J6*(J4-J7)))/(J5+EXP(J6*(J4-F121))))^J5)/(1-((J5+EXP(J6*(J4-J7)))/(J5+EXP(J6*(J4-J9))))^J5))","v":0},{"$f":"IF(OR(F121<=J9,F121>100000),0,IF(F121<=K7,K8,K8+(K10-K8)*(1-((K5+EXP(K6*(K4-K7)))/(K5+EXP(K6*(K4-F121))))^K5)/(1-((K5+EXP(K6*(K4-K7)))/(K5+EXP(K6*(K4-K9))))^K5)))","v":0},0,0,62.906638927971251,0,"2011-02-18",{"$f":"MAX(L$12:L121)+MAX(M$12:M121)+MAX(N$12:N121)","v":62.906638927971251},"2011-02-18",1.136614843790845,null,null,null,null,null,null,null,null,null,null,null,null,null,null,null,null,null,0,null,{"$f":"IF(OR(AJ121<=AM7,AJ121>AM9),0,AM8+(AM10-AM8)*(1-((AM5+EXP(AM6*(AM4-AM7)))/(AM5+EXP(AM6*(AM4-AJ121))))^AM5)/(1-((AM5+EXP(AM6*(AM4-AM7)))/(AM5+EXP(AM6*(AM4-AM9))))^AM5))","v":0},{"$f":"IF(OR(AJ121<=AN7,AJ121>AN9),0,AN8+(AN10-AN8)*(1-((AN5+EXP(AN6*(AN4-AN7)))/(AN5+EXP(AN6*(AN4-AJ121))))^AN5)/(1-((AN5+EXP(AN6*(AN4-AN7)))/(AN5+EXP(AN6*(AN4-AN9))))^AN5))","v":0},{"$f":"IF(OR(AJ121<=AN9,AJ121>100000),0,IF(AJ121<=AO7,AO8,AO8+(AO10-AO8)*(1-((AO5+EXP(AO6*(AO4-AO7)))/(AO5+EXP(AO6*(AO4-AJ121))))^AO5)/(1-((AO5+EXP(AO6*(AO4-AO7)))/(AO5+EXP(AO6*(AO4-AO9))))^AO5)))","v":0},0,0]
[111,{"$f":"'daily uptake'!F205","v":"2011-02-19"},{"$f":"5/9*'daily uptake'!Q205","v":9.7222222222222232},{"$f":"5/9*'daily uptake'!N205","v":2.5},{"$f":"IF(AND($A122>='daily uptake'!$C$9,$A122<='daily uptake'!$C$10),$C122+E121,0)","v":981.66666666666617},{"$f":"IF(AND($A122>='daily uptake'!$C$18,$A122<='daily uptake'!$C$20),$D122+F121,0)","v":0},{"$f":"IF(AND($A122>='daily uptake'!$C$24,$A122<='daily uptake'!$C$25),$C122+G121,0)","v":0},{"$f":"IF(OR(F122<=I7,F122>I9),0,I8+(I10-I8)*(1-((I5+EXP(I6*(I4-I7)))/(I5+EXP(I6*(I4-F122))))^I5)/(1-((I5+EXP(I6*(I4-I7)))/(I5+EXP(I6*(I4-I9))))^I5))","v":0},{"$f":"IF(OR(F122<=J7,F122>J9),0,J8+(J10-J8)*(1-((J5+EXP(J6*(J4-J7)))/(J5+EXP(J6*(J4-F122))))^J5)/(1-((J5+EXP(J6*(J4-J7)))/(J5+EXP(J6*(J4-J9))))^J5))","v":0},{"$f":"IF(OR(F122<=J9,F122>100000),0,IF(F122<=K7,K8,K8+(K10-K8)*(1-((K5+EXP(K6*(K4-K7)))/(K5+EXP(K6*(K4-F122))))^K5)/(1-((K5+EXP(K6*(K4-K7)))/(K5+EXP(K6*(K4-K9))))^K5)))","v":0},0,0,63.961676580929719,0,"2011-02-19",{"$f":"MAX(L$12:L122)+MAX(M$12:M122)+MAX(N$12:N122)","v":63.961676580929719},"2011-02-19",1.0550376529584682,null,null,null,null,null,null,null,null,null,null,null,null,null,null,null,null,null,0,null,{"$f":"IF(OR(AJ122<=AM7,AJ122>AM9),0,AM8+(AM10-AM8)*(1-((AM5+EXP(AM6*(AM4-AM7)))/(AM5+EXP(AM6*(AM4-AJ122))))^AM5)/(1-((AM5+EXP(AM6*(AM4-AM7)))/(AM5+EXP(AM6*(AM4-AM9))))^AM5))","v":0},{"$f":"IF(OR(AJ122<=AN7,AJ122>AN9),0,AN8+(AN10-AN8)*(1-((AN5+EXP(AN6*(AN4-AN7)))/(AN5+EXP(AN6*(AN4-AJ122))))^AN5)/(1-((AN5+EXP(AN6*(AN4-AN7)))/(AN5+EXP(AN6*(AN4-AN9))))^AN5))","v":0},{"$f":"IF(OR(AJ122<=AN9,AJ122>100000),0,IF(AJ122<=AO7,AO8,AO8+(AO10-AO8)*(1-((AO5+EXP(AO6*(AO4-AO7)))/(AO5+EXP(AO6*(AO4-AJ122))))^AO5)/(1-((AO5+EXP(AO6*(AO4-AO7)))/(AO5+EXP(AO6*(AO4-AO9))))^AO5)))","v":0},0,0]
[112,{"$f":"'daily uptake'!F206","v":"2011-02-20"},{"$f":"5/9*'daily uptake'!Q206","v":10.277777777777779},{"$f":"5/9*'daily uptake'!N206","v":2.7777777777777777},{"$f":"IF(AND($A123>='daily uptake'!$C$9,$A123<='daily uptake'!$C$10),$C123+E122,0)","v":991.944444444444},{"$f":"IF(AND($A123>='daily uptake'!$C$18,$A123<='daily uptake'!$C$20),$D123+F122,0)","v":0},{"$f":"IF(AND($A123>='daily uptake'!$C$24,$A123<='daily uptake'!$C$25),$C123+G122,0)","v":0},{"$f":"IF(OR(F123<=I7,F123>I9),0,I8+(I10-I8)*(1-((I5+EXP(I6*(I4-I7)))/(I5+EXP(I6*(I4-F123))))^I5)/(1-((I5+EXP(I6*(I4-I7)))/(I5+EXP(I6*(I4-I9))))^I5))","v":0},{"$f":"IF(OR(F123<=J7,F123>J9),0,J8+(J10-J8)*(1-((J5+EXP(J6*(J4-J7)))/(J5+EXP(J6*(J4-F123))))^J5)/(1-((J5+EXP(J6*(J4-J7)))/(J5+EXP(J6*(J4-J9))))^J5))","v":0},{"$f":"IF(OR(F123<=J9,F123>100000),0,IF(F123<=K7,K8,K8+(K10-K8)*(1-((K5+EXP(K6*(K4-K7)))/(K5+EXP(K6*(K4-F123))))^K5)/(1-((K5+EXP(K6*(K4-K7)))/(K5+EXP(K6*(K4-K9))))^K5)))","v":0},0,0,65.085379907615163,0,"2011-02-20",{"$f":"MAX(L$12:L123)+MAX(M$12:M123)+MAX(N$12:N123)","v":65.085379907615163},"2011-02-20",1.1237033266854439,null,null,null,null,null,null,null,null,null,null,null,null,null,null,null,null,null,0,null,{"$f":"IF(OR(AJ123<=AM7,AJ123>AM9),0,AM8+(AM10-AM8)*(1-((AM5+EXP(AM6*(AM4-AM7)))/(AM5+EXP(AM6*(AM4-AJ123))))^AM5)/(1-((AM5+EXP(AM6*(AM4-AM7)))/(AM5+EXP(AM6*(AM4-AM9))))^AM5))","v":0},{"$f":"IF(OR(AJ123<=AN7,AJ123>AN9),0,AN8+(AN10-AN8)*(1-((AN5+EXP(AN6*(AN4-AN7)))/(AN5+EXP(AN6*(AN4-AJ123))))^AN5)/(1-((AN5+EXP(AN6*(AN4-AN7)))/(AN5+EXP(AN6*(AN4-AN9))))^AN5))","v":0},{"$f":"IF(OR(AJ123<=AN9,AJ123>100000),0,IF(AJ123<=AO7,AO8,AO8+(AO10-AO8)*(1-((AO5+EXP(AO6*(AO4-AO7)))/(AO5+EXP(AO6*(AO4-AJ123))))^AO5)/(1-((AO5+EXP(AO6*(AO4-AO7)))/(AO5+EXP(AO6*(AO4-AO9))))^AO5)))","v":0},0,0]
[113,{"$f":"'daily uptake'!F207","v":"2011-02-21"},{"$f":"5/9*'daily uptake'!Q207","v":9.1666666666666679},{"$f":"5/9*'daily uptake'!N207","v":2.5},{"$f":"IF(AND($A124>='daily uptake'!$C$9,$A124<='daily uptake'!$C$10),$C124+E123,0)","v":1001.1111111111106},{"$f":"IF(AND($A124>='daily uptake'!$C$18,$A124<='daily uptake'!$C$20),$D124+F123,0)","v":0},{"$f":"IF(AND($A124>='daily uptake'!$C$24,$A124<='daily uptake'!$C$25),$C124+G123,0)","v":0},{"$f":"IF(OR(F124<=I7,F124>I9),0,I8+(I10-I8)*(1-((I5+EXP(I6*(I4-I7)))/(I5+EXP(I6*(I4-F124))))^I5)/(1-((I5+EXP(I6*(I4-I7)))/(I5+EXP(I6*(I4-I9))))^I5))","v":0},{"$f":"IF(OR(F124<=J7,F124>J9),0,J8+(J10-J8)*(1-((J5+EXP(J6*(J4-J7)))/(J5+EXP(J6*(J4-F124))))^J5)/(1-((J5+EXP(J6*(J4-J7)))/(J5+EXP(J6*(J4-J9))))^J5))","v":0},{"$f":"IF(OR(F124<=J9,F124>100000),0,IF(F124<=K7,K8,K8+(K10-K8)*(1-((K5+EXP(K6*(K4-K7)))/(K5+EXP(K6*(K4-F124))))^K5)/(1-((K5+EXP(K6*(K4-K7)))/(K5+EXP(K6*(K4-K9))))^K5)))","v":0},0,0,66.094758260358432,0,"2011-02-21",{"$f":"MAX(L$12:L124)+MAX(M$12:M124)+MAX(N$12:N124)","v":66.094758260358432},"2011-02-21",1.0093783527432691,null,null,null,null,null,null,null,null,null,null,null,null,null,null,null,null,null,0,null,{"$f":"IF(OR(AJ124<=AM7,AJ124>AM9),0,AM8+(AM10-AM8)*(1-((AM5+EXP(AM6*(AM4-AM7)))/(AM5+EXP(AM6*(AM4-AJ124))))^AM5)/(1-((AM5+EXP(AM6*(AM4-AM7)))/(AM5+EXP(AM6*(AM4-AM9))))^AM5))","v":0},{"$f":"IF(OR(AJ124<=AN7,AJ124>AN9),0,AN8+(AN10-AN8)*(1-((AN5+EXP(AN6*(AN4-AN7)))/(AN5+EXP(AN6*(AN4-AJ124))))^AN5)/(1-((AN5+EXP(AN6*(AN4-AN7)))/(AN5+EXP(AN6*(AN4-AN9))))^AN5))","v":0},{"$f":"IF(OR(AJ124<=AN9,AJ124>100000),0,IF(AJ124<=AO7,AO8,AO8+(AO10-AO8)*(1-((AO5+EXP(AO6*(AO4-AO7)))/(AO5+EXP(AO6*(AO4-AJ124))))^AO5)/(1-((AO5+EXP(AO6*(AO4-AO7)))/(AO5+EXP(AO6*(AO4-AO9))))^AO5)))","v":0},0,0]
[114,{"$f":"'daily uptake'!F208","v":"2011-02-22"},{"$f":"5/9*'daily uptake'!Q208","v":9.7222222222222232},{"$f":"5/9*'daily uptake'!N208","v":2.5},{"$f":"IF(AND($A125>='daily uptake'!$C$9,$A125<='daily uptake'!$C$10),$C125+E124,0)","v":1010.8333333333328},{"$f":"IF(AND($A125>='daily uptake'!$C$18,$A125<='daily uptake'!$C$20),$D125+F124,0)","v":0},{"$f":"IF(AND($A125>='daily uptake'!$C$24,$A125<='daily uptake'!$C$25),$C125+G124,0)","v":0},{"$f":"IF(OR(F125<=I7,F125>I9),0,I8+(I10-I8)*(1-((I5+EXP(I6*(I4-I7)))/(I5+EXP(I6*(I4-F125))))^I5)/(1-((I5+EXP(I6*(I4-I7)))/(I5+EXP(I6*(I4-I9))))^I5))","v":0},{"$f":"IF(OR(F125<=J7,F125>J9),0,J8+(J10-J8)*(1-((J5+EXP(J6*(J4-J7)))/(J5+EXP(J6*(J4-F125))))^J5)/(1-((J5+EXP(J6*(J4-J7)))/(J5+EXP(J6*(J4-J9))))^J5))","v":0},{"$f":"IF(OR(F125<=J9,F125>100000),0,IF(F125<=K7,K8,K8+(K10-K8)*(1-((K5+EXP(K6*(K4-K7)))/(K5+EXP(K6*(K4-F125))))^K5)/(1-((K5+EXP(K6*(K4-K7)))/(K5+EXP(K6*(K4-K9))))^K5)))","v":0},0,0,67.172568986449676,0,"2011-02-22",{"$f":"MAX(L$12:L125)+MAX(M$12:M125)+MAX(N$12:N125)","v":67.172568986449676},"2011-02-22",1.0778107260912435,null,null,null,null,null,null,null,null,null,null,null,null,null,null,null,null,null,0,null,{"$f":"IF(OR(AJ125<=AM7,AJ125>AM9),0,AM8+(AM10-AM8)*(1-((AM5+EXP(AM6*(AM4-AM7)))/(AM5+EXP(AM6*(AM4-AJ125))))^AM5)/(1-((AM5+EXP(AM6*(AM4-AM7)))/(AM5+EXP(AM6*(AM4-AM9))))^AM5))","v":0},{"$f":"IF(OR(AJ125<=AN7,AJ125>AN9),0,AN8+(AN10-AN8)*(1-((AN5+EXP(AN6*(AN4-AN7)))/(AN5+EXP(AN6*(AN4-AJ125))))^AN5)/(1-((AN5+EXP(AN6*(AN4-AN7)))/(AN5+EXP(AN6*(AN4-AN9))))^AN5))","v":0},{"$f":"IF(OR(AJ125<=AN9,AJ125>100000),0,IF(AJ125<=AO7,AO8,AO8+(AO10-AO8)*(1-((AO5+EXP(AO6*(AO4-AO7)))/(AO5+EXP(AO6*(AO4-AJ125))))^AO5)/(1-((AO5+EXP(AO6*(AO4-AO7)))/(AO5+EXP(AO6*(AO4-AO9))))^AO5)))","v":0},0,0]
[115,{"$f":"'daily uptake'!F209","v":"2011-02-23"},{"$f":"5/9*'daily uptake'!Q209","v":9.4444444444444446},{"$f":"5/9*'daily uptake'!N209","v":2.7777777777777777},{"$f":"IF(AND($A126>='daily uptake'!$C$9,$A126<='daily uptake'!$C$10),$C126+E125,0)","v":1020.2777777777773},{"$f":"IF(AND($A126>='daily uptake'!$C$18,$A126<='daily uptake'!$C$20),$D126+F125,0)","v":0},{"$f":"IF(AND($A126>='daily uptake'!$C$24,$A126<='daily uptake'!$C$25),$C126+G125,0)","v":0},{"$f":"IF(OR(F126<=I7,F126>I9),0,I8+(I10-I8)*(1-((I5+EXP(I6*(I4-I7)))/(I5+EXP(I6*(I4-F126))))^I5)/(1-((I5+EXP(I6*(I4-I7)))/(I5+EXP(I6*(I4-I9))))^I5))","v":0},{"$f":"IF(OR(F126<=J7,F126>J9),0,J8+(J10-J8)*(1-((J5+EXP(J6*(J4-J7)))/(J5+EXP(J6*(J4-F126))))^J5)/(1-((J5+EXP(J6*(J4-J7)))/(J5+EXP(J6*(J4-J9))))^J5))","v":0},{"$f":"IF(OR(F126<=J9,F126>100000),0,IF(F126<=K7,K8,K8+(K10-K8)*(1-((K5+EXP(K6*(K4-K7)))/(K5+EXP(K6*(K4-F126))))^K5)/(1-((K5+EXP(K6*(K4-K7)))/(K5+EXP(K6*(K4-K9))))^K5)))","v":0},0,0,68.226625039917494,0,"2011-02-23",{"$f":"MAX(L$12:L126)+MAX(M$12:M126)+MAX(N$12:N126)","v":68.226625039917494},"2011-02-23",1.0540560534678178,null,null,null,null,null,null,null,null,null,null,null,null,null,null,null,null,null,0,null,{"$f":"IF(OR(AJ126<=AM7,AJ126>AM9),0,AM8+(AM10-AM8)*(1-((AM5+EXP(AM6*(AM4-AM7)))/(AM5+EXP(AM6*(AM4-AJ126))))^AM5)/(1-((AM5+EXP(AM6*(AM4-AM7)))/(AM5+EXP(AM6*(AM4-AM9))))^AM5))","v":0},{"$f":"IF(OR(AJ126<=AN7,AJ126>AN9),0,AN8+(AN10-AN8)*(1-((AN5+EXP(AN6*(AN4-AN7)))/(AN5+EXP(AN6*(AN4-AJ126))))^AN5)/(1-((AN5+EXP(AN6*(AN4-AN7)))/(AN5+EXP(AN6*(AN4-AN9))))^AN5))","v":0},{"$f":"IF(OR(AJ126<=AN9,AJ126>100000),0,IF(AJ126<=AO7,AO8,AO8+(AO10-AO8)*(1-((AO5+EXP(AO6*(AO4-AO7)))/(AO5+EXP(AO6*(AO4-AJ126))))^AO5)/(1-((AO5+EXP(AO6*(AO4-AO7)))/(AO5+EXP(AO6*(AO4-AO9))))^AO5)))","v":0},0,0]
[116,{"$f":"'daily uptake'!F210","v":"2011-02-24"},{"$f":"5/9*'daily uptake'!Q210","v":9.7222222222222232},{"$f":"5/9*'daily uptake'!N210","v":2.7777777777777777},{"$f":"IF(AND($A127>='daily uptake'!$C$9,$A127<='daily uptake'!$C$10),$C127+E126,0)","v":1029.9999999999995},{"$f":"IF(AND($A127>='daily uptake'!$C$18,$A127<='daily uptake'!$C$20),$D127+F126,0)","v":0},{"$f":"IF(AND($A127>='daily uptake'!$C$24,$A127<='daily uptake'!$C$25),$C127+G126,0)","v":0},{"$f":"IF(OR(F127<=I7,F127>I9),0,I8+(I10-I8)*(1-((I5+EXP(I6*(I4-I7)))/(I5+EXP(I6*(I4-F127))))^I5)/(1-((I5+EXP(I6*(I4-I7)))/(I5+EXP(I6*(I4-I9))))^I5))","v":0},{"$f":"IF(OR(F127<=J7,F127>J9),0,J8+(J10-J8)*(1-((J5+EXP(J6*(J4-J7)))/(J5+EXP(J6*(J4-F127))))^J5)/(1-((J5+EXP(J6*(J4-J7)))/(J5+EXP(J6*(J4-J9))))^J5))","v":0},{"$f":"IF(OR(F127<=J9,F127>100000),0,IF(F127<=K7,K8,K8+(K10-K8)*(1-((K5+EXP(K6*(K4-K7)))/(K5+EXP(K6*(K4-F127))))^K5)/(1-((K5+EXP(K6*(K4-K7)))/(K5+EXP(K6*(K4-K9))))^K5)))","v":0},0,0,69.31880581065279,0,"2011-02-24",{"$f":"MAX(L$12:L127)+MAX(M$12:M127)+MAX(N$12:N127)","v":69.31880581065279},"2011-02-24",1.0921807707352968,null,null,null,null,null,null,null,null,null,null,null,null,null,null,null,null,null,0,null,{"$f":"IF(OR(AJ127<=AM7,AJ127>AM9),0,AM8+(AM10-AM8)*(1-((AM5+EXP(AM6*(AM4-AM7)))/(AM5+EXP(AM6*(AM4-AJ127))))^AM5)/(1-((AM5+EXP(AM6*(AM4-AM7)))/(AM5+EXP(AM6*(AM4-AM9))))^AM5))","v":0},{"$f":"IF(OR(AJ127<=AN7,AJ127>AN9),0,AN8+(AN10-AN8)*(1-((AN5+EXP(AN6*(AN4-AN7)))/(AN5+EXP(AN6*(AN4-AJ127))))^AN5)/(1-((AN5+EXP(AN6*(AN4-AN7)))/(AN5+EXP(AN6*(AN4-AN9))))^AN5))","v":0},{"$f":"IF(OR(AJ127<=AN9,AJ127>100000),0,IF(AJ127<=AO7,AO8,AO8+(AO10-AO8)*(1-((AO5+EXP(AO6*(AO4-AO7)))/(AO5+EXP(AO6*(AO4-AJ127))))^AO5)/(1-((AO5+EXP(AO6*(AO4-AO7)))/(AO5+EXP(AO6*(AO4-AO9))))^AO5)))","v":0},0,0]
[117,{"$f":"'daily uptake'!F211","v":"2011-02-25"},{"$f":"5/9*'daily uptake'!Q211","v":10.277777777777779},{"$f":"5/9*'daily uptake'!N211","v":3.0555555555555558},{"$f":"IF(AND($A128>='daily uptake'!$C$9,$A128<='daily uptake'!$C$10),$C128+E127,0)","v":1040.2777777777774},{"$f":"IF(AND($A128>='daily uptake'!$C$18,$A128<='daily uptake'!$C$20),$D128+F127,0)","v":0},{"$f":"IF(AND($A128>='daily uptake'!$C$24,$A128<='daily uptake'!$C$25),$C128+G127,0)","v":0},{"$f":"IF(OR(F128<=I7,F128>I9),0,I8+(I10-I8)*(1-((I5+EXP(I6*(I4-I7)))/(I5+EXP(I6*(I4-F128))))^I5)/(1-((I5+EXP(I6*(I4-I7)))/(I5+EXP(I6*(I4-I9))))^I5))","v":0},{"$f":"IF(OR(F128<=J7,F128>J9),0,J8+(J10-J8)*(1-((J5+EXP(J6*(J4-J7)))/(J5+EXP(J6*(J4-F128))))^J5)/(1-((J5+EXP(J6*(J4-J7)))/(J5+EXP(J6*(J4-J9))))^J5))","v":0},{"$f":"IF(OR(F128<=J9,F128>100000),0,IF(F128<=K7,K8,K8+(K10-K8)*(1-((K5+EXP(K6*(K4-K7)))/(K5+EXP(K6*(K4-F128))))^K5)/(1-((K5+EXP(K6*(K4-K7)))/(K5+EXP(K6*(K4-K9))))^K5)))","v":0},0,0,70.481110617543536,0,"2011-02-25",{"$f":"MAX(L$12:L128)+MAX(M$12:M128)+MAX(N$12:N128)","v":70.481110617543536},"2011-02-25",1.1623048068907451,null,null,null,null,null,null,null,null,null,null,null,null,null,null,null,null,null,0,null,{"$f":"IF(OR(AJ128<=AM7,AJ128>AM9),0,AM8+(AM10-AM8)*(1-((AM5+EXP(AM6*(AM4-AM7)))/(AM5+EXP(AM6*(AM4-AJ128))))^AM5)/(1-((AM5+EXP(AM6*(AM4-AM7)))/(AM5+EXP(AM6*(AM4-AM9))))^AM5))","v":0},{"$f":"IF(OR(AJ128<=AN7,AJ128>AN9),0,AN8+(AN10-AN8)*(1-((AN5+EXP(AN6*(AN4-AN7)))/(AN5+EXP(AN6*(AN4-AJ128))))^AN5)/(1-((AN5+EXP(AN6*(AN4-AN7)))/(AN5+EXP(AN6*(AN4-AN9))))^AN5))","v":0},{"$f":"IF(OR(AJ128<=AN9,AJ128>100000),0,IF(AJ128<=AO7,AO8,AO8+(AO10-AO8)*(1-((AO5+EXP(AO6*(AO4-AO7)))/(AO5+EXP(AO6*(AO4-AJ128))))^AO5)/(1-((AO5+EXP(AO6*(AO4-AO7)))/(AO5+EXP(AO6*(AO4-AO9))))^AO5)))","v":0},0,0]
[118,{"$f":"'daily uptake'!F212","v":"2011-02-26"},{"$f":"5/9*'daily uptake'!Q212","v":10.277777777777779},{"$f":"5/9*'daily uptake'!N212","v":3.0555555555555558},{"$f":"IF(AND($A129>='daily uptake'!$C$9,$A129<='daily uptake'!$C$10),$C129+E128,0)","v":1050.5555555555552},{"$f":"IF(AND($A129>='daily uptake'!$C$18,$A129<='daily uptake'!$C$20),$D129+F128,0)","v":0},{"$f":"IF(AND($A129>='daily uptake'!$C$24,$A129<='daily uptake'!$C$25),$C129+G128,0)","v":0},{"$f":"IF(OR(F129<=I7,F129>I9),0,I8+(I10-I8)*(1-((I5+EXP(I6*(I4-I7)))/(I5+EXP(I6*(I4-F129))))^I5)/(1-((I5+EXP(I6*(I4-I7)))/(I5+EXP(I6*(I4-I9))))^I5))","v":0},{"$f":"IF(OR(F129<=J7,F129>J9),0,J8+(J10-J8)*(1-((J5+EXP(J6*(J4-J7)))/(J5+EXP(J6*(J4-F129))))^J5)/(1-((J5+EXP(J6*(J4-J7)))/(J5+EXP(J6*(J4-J9))))^J5))","v":0},{"$f":"IF(OR(F129<=J9,F129>100000),0,IF(F129<=K7,K8,K8+(K10-K8)*(1-((K5+EXP(K6*(K4-K7)))/(K5+EXP(K6*(K4-F129))))^K5)/(1-((K5+EXP(K6*(K4-K7)))/(K5+EXP(K6*(K4-K9))))^K5)))","v":0},0,0,71.651186693093052,0,"2011-02-26",{"$f":"MAX(L$12:L129)+MAX(M$12:M129)+MAX(N$12:N129)","v":71.651186693093052},"2011-02-26",1.1700760755495168,null,null,null,null,null,null,null,null,null,null,null,null,null,null,null,null,null,0,null,{"$f":"IF(OR(AJ129<=AM7,AJ129>AM9),0,AM8+(AM10-AM8)*(1-((AM5+EXP(AM6*(AM4-AM7)))/(AM5+EXP(AM6*(AM4-AJ129))))^AM5)/(1-((AM5+EXP(AM6*(AM4-AM7)))/(AM5+EXP(AM6*(AM4-AM9))))^AM5))","v":0},{"$f":"IF(OR(AJ129<=AN7,AJ129>AN9),0,AN8+(AN10-AN8)*(1-((AN5+EXP(AN6*(AN4-AN7)))/(AN5+EXP(AN6*(AN4-AJ129))))^AN5)/(1-((AN5+EXP(AN6*(AN4-AN7)))/(AN5+EXP(AN6*(AN4-AN9))))^AN5))","v":0},{"$f":"IF(OR(AJ129<=AN9,AJ129>100000),0,IF(AJ129<=AO7,AO8,AO8+(AO10-AO8)*(1-((AO5+EXP(AO6*(AO4-AO7)))/(AO5+EXP(AO6*(AO4-AJ129))))^AO5)/(1-((AO5+EXP(AO6*(AO4-AO7)))/(AO5+EXP(AO6*(AO4-AO9))))^AO5)))","v":0},0,0]
[119,{"$f":"'daily uptake'!F213","v":"2011-02-27"},{"$f":"5/9*'daily uptake'!Q213","v":10.555555555555555},{"$f":"5/9*'daily uptake'!N213","v":3.0555555555555558},{"$f":"IF(AND($A130>='daily uptake'!$C$9,$A130<='daily uptake'!$C$10),$C130+E129,0)","v":1061.1111111111109},{"$f":"IF(AND($A130>='daily uptake'!$C$18,$A130<='daily uptake'!$C$20),$D130+F129,0)","v":0},{"$f":"IF(AND($A130>='daily uptake'!$C$24,$A130<='daily uptake'!$C$25),$C130+G129,0)","v":0},{"$f":"IF(OR(F130<=I7,F130>I9),0,I8+(I10-I8)*(1-((I5+EXP(I6*(I4-I7)))/(I5+EXP(I6*(I4-F130))))^I5)/(1-((I5+EXP(I6*(I4-I7)))/(I5+EXP(I6*(I4-I9))))^I5))","v":0},{"$f":"IF(OR(F130<=J7,F130>J9),0,J8+(J10-J8)*(1-((J5+EXP(J6*(J4-J7)))/(J5+EXP(J6*(J4-F130))))^J5)/(1-((J5+EXP(J6*(J4-J7)))/(J5+EXP(J6*(J4-J9))))^J5))","v":0},{"$f":"IF(OR(F130<=J9,F130>100000),0,IF(F130<=K7,K8,K8+(K10-K8)*(1-((K5+EXP(K6*(K4-K7)))/(K5+EXP(K6*(K4-F130))))^K5)/(1-((K5+EXP(K6*(K4-K7)))/(K5+EXP(K6*(K4-K9))))^K5)))","v":0},0,0,72.860802860639993,0,"2011-02-27",{"$f":"MAX(L$12:L130)+MAX(M$12:M130)+MAX(N$12:N130)","v":72.860802860639993},"2011-02-27",1.2096161675469403,null,null,null,null,null,null,null,null,null,null,null,null,null,null,null,null,null,0,null,{"$f":"IF(OR(AJ130<=AM7,AJ130>AM9),0,AM8+(AM10-AM8)*(1-((AM5+EXP(AM6*(AM4-AM7)))/(AM5+EXP(AM6*(AM4-AJ130))))^AM5)/(1-((AM5+EXP(AM6*(AM4-AM7)))/(AM5+EXP(AM6*(AM4-AM9))))^AM5))","v":0},{"$f":"IF(OR(AJ130<=AN7,AJ130>AN9),0,AN8+(AN10-AN8)*(1-((AN5+EXP(AN6*(AN4-AN7)))/(AN5+EXP(AN6*(AN4-AJ130))))^AN5)/(1-((AN5+EXP(AN6*(AN4-AN7)))/(AN5+EXP(AN6*(AN4-AN9))))^AN5))","v":0},{"$f":"IF(OR(AJ130<=AN9,AJ130>100000),0,IF(AJ130<=AO7,AO8,AO8+(AO10-AO8)*(1-((AO5+EXP(AO6*(AO4-AO7)))/(AO5+EXP(AO6*(AO4-AJ130))))^AO5)/(1-((AO5+EXP(AO6*(AO4-AO7)))/(AO5+EXP(AO6*(AO4-AO9))))^AO5)))","v":0},0,0]
[120,{"$f":"'daily uptake'!F214","v":"2011-02-28"},{"$f":"5/9*'daily uptake'!Q214","v":10.555555555555555},{"$f":"5/9*'daily uptake'!N214","v":3.6111111111111112},{"$f":"IF(AND($A131>='daily uptake'!$C$9,$A131<='daily uptake'!$C$10),$C131+E130,0)","v":1071.6666666666665},{"$f":"IF(AND($A131>='daily uptake'!$C$18,$A131<='daily uptake'!$C$20),$D131+F130,0)","v":0},{"$f":"IF(AND($A131>='daily uptake'!$C$24,$A131<='daily uptake'!$C$25),$C131+G130,0)","v":0},{"$f":"IF(OR(F131<=I7,F131>I9),0,I8+(I10-I8)*(1-((I5+EXP(I6*(I4-I7)))/(I5+EXP(I6*(I4-F131))))^I5)/(1-((I5+EXP(I6*(I4-I7)))/(I5+EXP(I6*(I4-I9))))^I5))","v":0},{"$f":"IF(OR(F131<=J7,F131>J9),0,J8+(J10-J8)*(1-((J5+EXP(J6*(J4-J7)))/(J5+EXP(J6*(J4-F131))))^J5)/(1-((J5+EXP(J6*(J4-J7)))/(J5+EXP(J6*(J4-J9))))^J5))","v":0},{"$f":"IF(OR(F131<=J9,F131>100000),0,IF(F131<=K7,K8,K8+(K10-K8)*(1-((K5+EXP(K6*(K4-K7)))/(K5+EXP(K6*(K4-F131))))^K5)/(1-((K5+EXP(K6*(K4-K7)))/(K5+EXP(K6*(K4-K9))))^K5)))","v":0},0,0,74.078259112094941,0,"2011-02-28",{"$f":"MAX(L$12:L131)+MAX(M$12:M131)+MAX(N$12:N131)","v":74.078259112094941},"2011-02-28",1.2174562514549478,null,null,null,null,null,null,null,null,null,null,null,null,null,null,null,null,null,6.3888888888888857,null,{"$f":"IF(OR(AJ131<=AM7,AJ131>AM9),0,AM8+(AM10-AM8)*(1-((AM5+EXP(AM6*(AM4-AM7)))/(AM5+EXP(AM6*(AM4-AJ131))))^AM5)/(1-((AM5+EXP(AM6*(AM4-AM7)))/(AM5+EXP(AM6*(AM4-AM9))))^AM5))","v":0},{"$f":"IF(OR(AJ131<=AN7,AJ131>AN9),0,AN8+(AN10-AN8)*(1-((AN5+EXP(AN6*(AN4-AN7)))/(AN5+EXP(AN6*(AN4-AJ131))))^AN5)/(1-((AN5+EXP(AN6*(AN4-AN7)))/(AN5+EXP(AN6*(AN4-AN9))))^AN5))","v":0},{"$f":"IF(OR(AJ131<=AN9,AJ131>100000),0,IF(AJ131<=AO7,AO8,AO8+(AO10-AO8)*(1-((AO5+EXP(AO6*(AO4-AO7)))/(AO5+EXP(AO6*(AO4-AJ131))))^AO5)/(1-((AO5+EXP(AO6*(AO4-AO7)))/(AO5+EXP(AO6*(AO4-AO9))))^AO5)))","v":0},0,0]
[121,{"$f":"'daily uptake'!F215","v":"2011-03-01"},{"$f":"5/9*'daily uptake'!Q215","v":10.833333333333334},{"$f":"5/9*'daily uptake'!N215","v":3.6111111111111112},{"$f":"IF(AND($A132>='daily uptake'!$C$9,$A132<='daily uptake'!$C$10),$C132+E131,0)","v":1082.4999999999998},{"$f":"IF(AND($A132>='daily uptake'!$C$18,$A132<='daily uptake'!$C$20),$D132+F131,0)","v":0},{"$f":"IF(AND($A132>='daily uptake'!$C$24,$A132<='daily uptake'!$C$25),$C132+G131,0)","v":0},{"$f":"IF(OR(F132<=I7,F132>I9),0,I8+(I10-I8)*(1-((I5+EXP(I6*(I4-I7)))/(I5+EXP(I6*(I4-F132))))^I5)/(1-((I5+EXP(I6*(I4-I7)))/(I5+EXP(I6*(I4-I9))))^I5))","v":0},{"$f":"IF(OR(F132<=J7,F132>J9),0,J8+(J10-J8)*(1-((J5+EXP(J6*(J4-J7)))/(J5+EXP(J6*(J4-F132))))^J5)/(1-((J5+EXP(J6*(J4-J7)))/(J5+EXP(J6*(J4-J9))))^J5))","v":0},{"$f":"IF(OR(F132<=J9,F132>100000),0,IF(F132<=K7,K8,K8+(K10-K8)*(1-((K5+EXP(K6*(K4-K7)))/(K5+EXP(K6*(K4-F132))))^K5)/(1-((K5+EXP(K6*(K4-K7)))/(K5+EXP(K6*(K4-K9))))^K5)))","v":0},0,0,75.335707938854867,0,"2011-03-01",{"$f":"MAX(L$12:L132)+MAX(M$12:M132)+MAX(N$12:N132)","v":75.335707938854867},"2011-03-01",1.2574488267599264,null,null,null,null,null,null,null,null,null,null,null,null,null,null,null,null,null,12.489898989898979,null,{"$f":"IF(OR(AJ132<=AM7,AJ132>AM9),0,AM8+(AM10-AM8)*(1-((AM5+EXP(AM6*(AM4-AM7)))/(AM5+EXP(AM6*(AM4-AJ132))))^AM5)/(1-((AM5+EXP(AM6*(AM4-AM7)))/(AM5+EXP(AM6*(AM4-AM9))))^AM5))","v":0},{"$f":"IF(OR(AJ132<=AN7,AJ132>AN9),0,AN8+(AN10-AN8)*(1-((AN5+EXP(AN6*(AN4-AN7)))/(AN5+EXP(AN6*(AN4-AJ132))))^AN5)/(1-((AN5+EXP(AN6*(AN4-AN7)))/(AN5+EXP(AN6*(AN4-AN9))))^AN5))","v":0},{"$f":"IF(OR(AJ132<=AN9,AJ132>100000),0,IF(AJ132<=AO7,AO8,AO8+(AO10-AO8)*(1-((AO5+EXP(AO6*(AO4-AO7)))/(AO5+EXP(AO6*(AO4-AJ132))))^AO5)/(1-((AO5+EXP(AO6*(AO4-AO7)))/(AO5+EXP(AO6*(AO4-AO9))))^AO5)))","v":0},0,0]
[122,{"$f":"'daily uptake'!F216","v":"2011-03-02"},{"$f":"5/9*'daily uptake'!Q216","v":11.666666666666668},{"$f":"5/9*'daily uptake'!N216","v":3.8888888888888893},{"$f":"IF(AND($A133>='daily uptake'!$C$9,$A133<='daily uptake'!$C$10),$C133+E132,0)","v":1094.1666666666665},{"$f":"IF(AND($A133>='daily uptake'!$C$18,$A133<='daily uptake'!$C$20),$D133+F132,0)","v":0},{"$f":"IF(AND($A133>='daily uptake'!$C$24,$A133<='daily uptake'!$C$25),$C133+G132,0)","v":0},{"$f":"IF(OR(F133<=I7,F133>I9),0,I8+(I10-I8)*(1-((I5+EXP(I6*(I4-I7)))/(I5+EXP(I6*(I4-F133))))^I5)/(1-((I5+EXP(I6*(I4-I7)))/(I5+EXP(I6*(I4-I9))))^I5))","v":0},{"$f":"IF(OR(F133<=J7,F133>J9),0,J8+(J10-J8)*(1-((J5+EXP(J6*(J4-J7)))/(J5+EXP(J6*(J4-F133))))^J5)/(1-((J5+EXP(J6*(J4-J7)))/(J5+EXP(J6*(J4-J9))))^J5))","v":0},{"$f":"IF(OR(F133<=J9,F133>100000),0,IF(F133<=K7,K8,K8+(K10-K8)*(1-((K5+EXP(K6*(K4-K7)))/(K5+EXP(K6*(K4-F133))))^K5)/(1-((K5+EXP(K6*(K4-K7)))/(K5+EXP(K6*(K4-K9))))^K5)))","v":0},0,0,76.698655992201367,0,"2011-03-02",{"$f":"MAX(L$12:L133)+MAX(M$12:M133)+MAX(N$12:N133)","v":76.698655992201367},"2011-03-02",1.3629480533464999,null,null,null,null,null,null,null,null,null,null,null,null,null,null,null,null,null,18.686868686868674,null,{"$f":"IF(OR(AJ133<=AM7,AJ133>AM9),0,AM8+(AM10-AM8)*(1-((AM5+EXP(AM6*(AM4-AM7)))/(AM5+EXP(AM6*(AM4-AJ133))))^AM5)/(1-((AM5+EXP(AM6*(AM4-AM7)))/(AM5+EXP(AM6*(AM4-AM9))))^AM5))","v":0},{"$f":"IF(OR(AJ133<=AN7,AJ133>AN9),0,AN8+(AN10-AN8)*(1-((AN5+EXP(AN6*(AN4-AN7)))/(AN5+EXP(AN6*(AN4-AJ133))))^AN5)/(1-((AN5+EXP(AN6*(AN4-AN7)))/(AN5+EXP(AN6*(AN4-AN9))))^AN5))","v":0},{"$f":"IF(OR(AJ133<=AN9,AJ133>100000),0,IF(AJ133<=AO7,AO8,AO8+(AO10-AO8)*(1-((AO5+EXP(AO6*(AO4-AO7)))/(AO5+EXP(AO6*(AO4-AJ133))))^AO5)/(1-((AO5+EXP(AO6*(AO4-AO7)))/(AO5+EXP(AO6*(AO4-AO9))))^AO5)))","v":0},0,0]
[123,{"$f":"'daily uptake'!F217","v":"2011-03-03"},{"$f":"5/9*'daily uptake'!Q217","v":10.277777777777779},{"$f":"5/9*'daily uptake'!N217","v":3.0555555555555558},{"$f":"IF(AND($A134>='daily uptake'!$C$9,$A134<='daily uptake'!$C$10),$C134+E133,0)","v":1104.4444444444443},{"$f":"IF(AND($A134>='daily uptake'!$C$18,$A134<='daily uptake'!$C$20),$D134+F133,0)","v":0},{"$f":"IF(AND($A134>='daily uptake'!$C$24,$A134<='daily uptake'!$C$25),$C134+G133,0)","v":0},{"$f":"IF(OR(F134<=I7,F134>I9),0,I8+(I10-I8)*(1-((I5+EXP(I6*(I4-I7)))/(I5+EXP(I6*(I4-F134))))^I5)/(1-((I5+EXP(I6*(I4-I7)))/(I5+EXP(I6*(I4-I9))))^I5))","v":0},{"$f":"IF(OR(F134<=J7,F134>J9),0,J8+(J10-J8)*(1-((J5+EXP(J6*(J4-J7)))/(J5+EXP(J6*(J4-F134))))^J5)/(1-((J5+EXP(J6*(J4-J7)))/(J5+EXP(J6*(J4-J9))))^J5))","v":0},{"$f":"IF(OR(F134<=J9,F134>100000),0,IF(F134<=K7,K8,K8+(K10-K8)*(1-((K5+EXP(K6*(K4-K7)))/(K5+EXP(K6*(K4-F134))))^K5)/(1-((K5+EXP(K6*(K4-K7)))/(K5+EXP(K6*(K4-K9))))^K5)))","v":0},0,0,77.90667674132068,0,"2011-03-03",{"$f":"MAX(L$12:L134)+MAX(M$12:M134)+MAX(N$12:N134)","v":77.90667674132068},"2011-03-03",1.2080207491193136,null,null,null,null,null,null,null,null,null,null,null,null,null,null,null,null,null,25.363636363636349,null,{"$f":"IF(OR(AJ134<=AM7,AJ134>AM9),0,AM8+(AM10-AM8)*(1-((AM5+EXP(AM6*(AM4-AM7)))/(AM5+EXP(AM6*(AM4-AJ134))))^AM5)/(1-((AM5+EXP(AM6*(AM4-AM7)))/(AM5+EXP(AM6*(AM4-AM9))))^AM5))","v":0},{"$f":"IF(OR(AJ134<=AN7,AJ134>AN9),0,AN8+(AN10-AN8)*(1-((AN5+EXP(AN6*(AN4-AN7)))/(AN5+EXP(AN6*(AN4-AJ134))))^AN5)/(1-((AN5+EXP(AN6*(AN4-AN7)))/(AN5+EXP(AN6*(AN4-AN9))))^AN5))","v":0},{"$f":"IF(OR(AJ134<=AN9,AJ134>100000),0,IF(AJ134<=AO7,AO8,AO8+(AO10-AO8)*(1-((AO5+EXP(AO6*(AO4-AO7)))/(AO5+EXP(AO6*(AO4-AJ134))))^AO5)/(1-((AO5+EXP(AO6*(AO4-AO7)))/(AO5+EXP(AO6*(AO4-AO9))))^AO5)))","v":0},0,0]
[124,{"$f":"'daily uptake'!F218","v":"2011-03-04"},{"$f":"5/9*'daily uptake'!Q218","v":10.277777777777779},{"$f":"5/9*'daily uptake'!N218","v":3.6111111111111112},{"$f":"IF(AND($A135>='daily uptake'!$C$9,$A135<='daily uptake'!$C$10),$C135+E134,0)","v":1114.7222222222222},{"$f":"IF(AND($A135>='daily uptake'!$C$18,$A135<='daily uptake'!$C$20),$D135+F134,0)","v":0},{"$f":"IF(AND($A135>='daily uptake'!$C$24,$A135<='daily uptake'!$C$25),$C135+G134,0)","v":0},{"$f":"IF(OR(F135<=I7,F135>I9),0,I8+(I10-I8)*(1-((I5+EXP(I6*(I4-I7)))/(I5+EXP(I6*(I4-F135))))^I5)/(1-((I5+EXP(I6*(I4-I7)))/(I5+EXP(I6*(I4-I9))))^I5))","v":0},{"$f":"IF(OR(F135<=J7,F135>J9),0,J8+(J10-J8)*(1-((J5+EXP(J6*(J4-J7)))/(J5+EXP(J6*(J4-F135))))^J5)/(1-((J5+EXP(J6*(J4-J7)))/(J5+EXP(J6*(J4-J9))))^J5))","v":0},{"$f":"IF(OR(F135<=J9,F135>100000),0,IF(F135<=K7,K8,K8+(K10-K8)*(1-((K5+EXP(K6*(K4-K7)))/(K5+EXP(K6*(K4-F135))))^K5)/(1-((K5+EXP(K6*(K4-K7)))/(K5+EXP(K6*(K4-K9))))^K5)))","v":0},0,0,79.121364927428644,0,"2011-03-04",{"$f":"MAX(L$12:L135)+MAX(M$12:M135)+MAX(N$12:N135)","v":79.121364927428644},"2011-03-04",1.2146881861079635,null,null,null,null,null,null,null,null,null,null,null,null,null,null,null,null,null,31.813131313131301,null,{"$f":"IF(OR(AJ135<=AM7,AJ135>AM9),0,AM8+(AM10-AM8)*(1-((AM5+EXP(AM6*(AM4-AM7)))/(AM5+EXP(AM6*(AM4-AJ135))))^AM5)/(1-((AM5+EXP(AM6*(AM4-AM7)))/(AM5+EXP(AM6*(AM4-AM9))))^AM5))","v":0},{"$f":"IF(OR(AJ135<=AN7,AJ135>AN9),0,AN8+(AN10-AN8)*(1-((AN5+EXP(AN6*(AN4-AN7)))/(AN5+EXP(AN6*(AN4-AJ135))))^AN5)/(1-((AN5+EXP(AN6*(AN4-AN7)))/(AN5+EXP(AN6*(AN4-AN9))))^AN5))","v":0},{"$f":"IF(OR(AJ135<=AN9,AJ135>100000),0,IF(AJ135<=AO7,AO8,AO8+(AO10-AO8)*(1-((AO5+EXP(AO6*(AO4-AO7)))/(AO5+EXP(AO6*(AO4-AJ135))))^AO5)/(1-((AO5+EXP(AO6*(AO4-AO7)))/(AO5+EXP(AO6*(AO4-AO9))))^AO5)))","v":0},0,0]
[125,{"$f":"'daily uptake'!F219","v":"2011-03-05"},{"$f":"5/9*'daily uptake'!Q219","v":10.555555555555555},{"$f":"5/9*'daily uptake'!N219","v":3.3333333333333335},{"$f":"IF(AND($A136>='daily uptake'!$C$9,$A136<='daily uptake'!$C$10),$C136+E135,0)","v":1125.2777777777778},{"$f":"IF(AND($A136>='daily uptake'!$C$18,$A136<='daily uptake'!$C$20),$D136+F135,0)","v":0},{"$f":"IF(AND($A136>='daily uptake'!$C$24,$A136<='daily uptake'!$C$25),$C136+G135,0)","v":0},{"$f":"IF(OR(F136<=I7,F136>I9),0,I8+(I10-I8)*(1-((I5+EXP(I6*(I4-I7)))/(I5+EXP(I6*(I4-F136))))^I5)/(1-((I5+EXP(I6*(I4-I7)))/(I5+EXP(I6*(I4-I9))))^I5))","v":0},{"$f":"IF(OR(F136<=J7,F136>J9),0,J8+(J10-J8)*(1-((J5+EXP(J6*(J4-J7)))/(J5+EXP(J6*(J4-F136))))^J5)/(1-((J5+EXP(J6*(J4-J7)))/(J5+EXP(J6*(J4-J9))))^J5))","v":0},{"$f":"IF(OR(F136<=J9,F136>100000),0,IF(F136<=K7,K8,K8+(K10-K8)*(1-((K5+EXP(K6*(K4-K7)))/(K5+EXP(K6*(K4-F136))))^K5)/(1-((K5+EXP(K6*(K4-K7)))/(K5+EXP(K6*(K4-K9))))^K5)))","v":0},0,0,80.375619831377975,0,"2011-03-05",{"$f":"MAX(L$12:L136)+MAX(M$12:M136)+MAX(N$12:N136)","v":80.375619831377975},"2011-03-05",1.2542549039493309,null,null,null,null,null,null,null,null,null,null,null,null,null,null,null,null,null,38.338383838383834,null,{"$f":"IF(OR(AJ136<=AM7,AJ136>AM9),0,AM8+(AM10-AM8)*(1-((AM5+EXP(AM6*(AM4-AM7)))/(AM5+EXP(AM6*(AM4-AJ136))))^AM5)/(1-((AM5+EXP(AM6*(AM4-AM7)))/(AM5+EXP(AM6*(AM4-AM9))))^AM5))","v":0},{"$f":"IF(OR(AJ136<=AN7,AJ136>AN9),0,AN8+(AN10-AN8)*(1-((AN5+EXP(AN6*(AN4-AN7)))/(AN5+EXP(AN6*(AN4-AJ136))))^AN5)/(1-((AN5+EXP(AN6*(AN4-AN7)))/(AN5+EXP(AN6*(AN4-AN9))))^AN5))","v":0},{"$f":"IF(OR(AJ136<=AN9,AJ136>100000),0,IF(AJ136<=AO7,AO8,AO8+(AO10-AO8)*(1-((AO5+EXP(AO6*(AO4-AO7)))/(AO5+EXP(AO6*(AO4-AJ136))))^AO5)/(1-((AO5+EXP(AO6*(AO4-AO7)))/(AO5+EXP(AO6*(AO4-AO9))))^AO5)))","v":0},0,0]
[126,{"$f":"'daily uptake'!F220","v":"2011-03-06"},{"$f":"5/9*'daily uptake'!Q220","v":10.833333333333334},{"$f":"5/9*'daily uptake'!N220","v":3.8888888888888893},{"$f":"IF(AND($A137>='daily uptake'!$C$9,$A137<='daily uptake'!$C$10),$C137+E136,0)","v":1136.1111111111111},{"$f":"IF(AND($A137>='daily uptake'!$C$18,$A137<='daily uptake'!$C$20),$D137+F136,0)","v":0},{"$f":"IF(AND($A137>='daily uptake'!$C$24,$A137<='daily uptake'!$C$25),$C137+G136,0)","v":0},{"$f":"IF(OR(F137<=I7,F137>I9),0,I8+(I10-I8)*(1-((I5+EXP(I6*(I4-I7)))/(I5+EXP(I6*(I4-F137))))^I5)/(1-((I5+EXP(I6*(I4-I7)))/(I5+EXP(I6*(I4-I9))))^I5))","v":0},{"$f":"IF(OR(F137<=J7,F137>J9),0,J8+(J10-J8)*(1-((J5+EXP(J6*(J4-J7)))/(J5+EXP(J6*(J4-F137))))^J5)/(1-((J5+EXP(J6*(J4-J7)))/(J5+EXP(J6*(J4-J9))))^J5))","v":0},{"$f":"IF(OR(F137<=J9,F137>100000),0,IF(F137<=K7,K8,K8+(K10-K8)*(1-((K5+EXP(K6*(K4-K7)))/(K5+EXP(K6*(K4-F137))))^K5)/(1-((K5+EXP(K6*(K4-K7)))/(K5+EXP(K6*(K4-K9))))^K5)))","v":0},0,0,81.669758042250763,0,"2011-03-06",{"$f":"MAX(L$12:L137)+MAX(M$12:M137)+MAX(N$12:N137)","v":81.669758042250763},"2011-03-06",1.2941382108727879,null,null,null,null,null,null,null,null,null,null,null,null,null,null,null,null,null,44.585858585858581,null,{"$f":"IF(OR(AJ137<=AM7,AJ137>AM9),0,AM8+(AM10-AM8)*(1-((AM5+EXP(AM6*(AM4-AM7)))/(AM5+EXP(AM6*(AM4-AJ137))))^AM5)/(1-((AM5+EXP(AM6*(AM4-AM7)))/(AM5+EXP(AM6*(AM4-AM9))))^AM5))","v":0},{"$f":"IF(OR(AJ137<=AN7,AJ137>AN9),0,AN8+(AN10-AN8)*(1-((AN5+EXP(AN6*(AN4-AN7)))/(AN5+EXP(AN6*(AN4-AJ137))))^AN5)/(1-((AN5+EXP(AN6*(AN4-AN7)))/(AN5+EXP(AN6*(AN4-AN9))))^AN5))","v":0},{"$f":"IF(OR(AJ137<=AN9,AJ137>100000),0,IF(AJ137<=AO7,AO8,AO8+(AO10-AO8)*(1-((AO5+EXP(AO6*(AO4-AO7)))/(AO5+EXP(AO6*(AO4-AJ137))))^AO5)/(1-((AO5+EXP(AO6*(AO4-AO7)))/(AO5+EXP(AO6*(AO4-AO9))))^AO5)))","v":0},0,0]
[127,{"$f":"'daily uptake'!F221","v":"2011-03-07"},{"$f":"5/9*'daily uptake'!Q221","v":11.111111111111111},{"$f":"5/9*'daily uptake'!N221","v":4.4444444444444446},{"$f":"IF(AND($A138>='daily uptake'!$C$9,$A138<='daily uptake'!$C$10),$C138+E137,0)","v":1147.2222222222222},{"$f":"IF(AND($A138>='daily uptake'!$C$18,$A138<='daily uptake'!$C$20),$D138+F137,0)","v":0},{"$f":"IF(AND($A138>='daily uptake'!$C$24,$A138<='daily uptake'!$C$25),$C138+G137,0)","v":0},{"$f":"IF(OR(F138<=I7,F138>I9),0,I8+(I10-I8)*(1-((I5+EXP(I6*(I4-I7)))/(I5+EXP(I6*(I4-F138))))^I5)/(1-((I5+EXP(I6*(I4-I7)))/(I5+EXP(I6*(I4-I9))))^I5))","v":0},{"$f":"IF(OR(F138<=J7,F138>J9),0,J8+(J10-J8)*(1-((J5+EXP(J6*(J4-J7)))/(J5+EXP(J6*(J4-F138))))^J5)/(1-((J5+EXP(J6*(J4-J7)))/(J5+EXP(J6*(J4-J9))))^J5))","v":0},{"$f":"IF(OR(F138<=J9,F138>100000),0,IF(F138<=K7,K8,K8+(K10-K8)*(1-((K5+EXP(K6*(K4-K7)))/(K5+EXP(K6*(K4-F138))))^K5)/(1-((K5+EXP(K6*(K4-K7)))/(K5+EXP(K6*(K4-K9))))^K5)))","v":0},0,0,83.004070073384369,0,"2011-03-07",{"$f":"MAX(L$12:L138)+MAX(M$12:M138)+MAX(N$12:N138)","v":83.004070073384369},"2011-03-07",1.3343120311336065,null,null,null,null,null,null,null,null,null,null,null,null,null,null,null,null,null,51.303030303030297,null,{"$f":"IF(OR(AJ138<=AM7,AJ138>AM9),0,AM8+(AM10-AM8)*(1-((AM5+EXP(AM6*(AM4-AM7)))/(AM5+EXP(AM6*(AM4-AJ138))))^AM5)/(1-((AM5+EXP(AM6*(AM4-AM7)))/(AM5+EXP(AM6*(AM4-AM9))))^AM5))","v":0},{"$f":"IF(OR(AJ138<=AN7,AJ138>AN9),0,AN8+(AN10-AN8)*(1-((AN5+EXP(AN6*(AN4-AN7)))/(AN5+EXP(AN6*(AN4-AJ138))))^AN5)/(1-((AN5+EXP(AN6*(AN4-AN7)))/(AN5+EXP(AN6*(AN4-AN9))))^AN5))","v":0},{"$f":"IF(OR(AJ138<=AN9,AJ138>100000),0,IF(AJ138<=AO7,AO8,AO8+(AO10-AO8)*(1-((AO5+EXP(AO6*(AO4-AO7)))/(AO5+EXP(AO6*(AO4-AJ138))))^AO5)/(1-((AO5+EXP(AO6*(AO4-AO7)))/(AO5+EXP(AO6*(AO4-AO9))))^AO5)))","v":0},0,0]
[128,{"$f":"'daily uptake'!F222","v":"2011-03-08"},{"$f":"5/9*'daily uptake'!Q222","v":11.944444444444445},{"$f":"5/9*'daily uptake'!N222","v":4.7222222222222223},{"$f":"IF(AND($A139>='daily uptake'!$C$9,$A139<='daily uptake'!$C$10),$C139+E138,0)","v":1159.1666666666665},{"$f":"IF(AND($A139>='daily uptake'!$C$18,$A139<='daily uptake'!$C$20),$D139+F138,0)","v":0},{"$f":"IF(AND($A139>='daily uptake'!$C$24,$A139<='daily uptake'!$C$25),$C139+G138,0)","v":0},{"$f":"IF(OR(F139<=I7,F139>I9),0,I8+(I10-I8)*(1-((I5+EXP(I6*(I4-I7)))/(I5+EXP(I6*(I4-F139))))^I5)/(1-((I5+EXP(I6*(I4-I7)))/(I5+EXP(I6*(I4-I9))))^I5))","v":0},{"$f":"IF(OR(F139<=J7,F139>J9),0,J8+(J10-J8)*(1-((J5+EXP(J6*(J4-J7)))/(J5+EXP(J6*(J4-F139))))^J5)/(1-((J5+EXP(J6*(J4-J7)))/(J5+EXP(J6*(J4-J9))))^J5))","v":0},{"$f":"IF(OR(F139<=J9,F139>100000),0,IF(F139<=K7,K8,K8+(K10-K8)*(1-((K5+EXP(K6*(K4-K7)))/(K5+EXP(K6*(K4-F139))))^K5)/(1-((K5+EXP(K6*(K4-K7)))/(K5+EXP(K6*(K4-K9))))^K5)))","v":0},0,0,84.446056122723022,0,{"$f":"B139","v":"2011-03-08"},{"$f":"MAX(L$12:L139)+MAX(M$12:M139)+MAX(N$12:N139)","v":84.446056122723022},{"$f":"B139","v":"2011-03-08"},1.4419860493386523,null,null,null,null,null,null,null,null,null,null,null,null,null,null,null,null,null,58.252525252525245,null,{"$f":"IF(OR(AJ139<=AM7,AJ139>AM9),0,AM8+(AM10-AM8)*(1-((AM5+EXP(AM6*(AM4-AM7)))/(AM5+EXP(AM6*(AM4-AJ139))))^AM5)/(1-((AM5+EXP(AM6*(AM4-AM7)))/(AM5+EXP(AM6*(AM4-AM9))))^AM5))","v":0},{"$f":"IF(OR(AJ139<=AN7,AJ139>AN9),0,AN8+(AN10-AN8)*(1-((AN5+EXP(AN6*(AN4-AN7)))/(AN5+EXP(AN6*(AN4-AJ139))))^AN5)/(1-((AN5+EXP(AN6*(AN4-AN7)))/(AN5+EXP(AN6*(AN4-AN9))))^AN5))","v":0},{"$f":"IF(OR(AJ139<=AN9,AJ139>100000),0,IF(AJ139<=AO7,AO8,AO8+(AO10-AO8)*(1-((AO5+EXP(AO6*(AO4-AO7)))/(AO5+EXP(AO6*(AO4-AJ139))))^AO5)/(1-((AO5+EXP(AO6*(AO4-AO7)))/(AO5+EXP(AO6*(AO4-AO9))))^AO5)))","v":0},0,0]
[129,{"$f":"'daily uptake'!F223","v":"2011-03-09"},{"$f":"5/9*'daily uptake'!Q223","v":11.666666666666668},{"$f":"5/9*'daily uptake'!N223","v":4.4444444444444446},{"$f":"IF(AND($A140>='daily uptake'!$C$9,$A140<='daily uptake'!$C$10),$C140+E139,0)","v":1170.8333333333333},{"$f":"IF(AND($A140>='daily uptake'!$C$18,$A140<='daily uptake'!$C$20),$D140+F139,0)","v":0},{"$f":"IF(AND($A140>='daily uptake'!$C$24,$A140<='daily uptake'!$C$25),$C140+G139,0)","v":0},{"$f":"IF(OR(F140<=I7,F140>I9),0,I8+(I10-I8)*(1-((I5+EXP(I6*(I4-I7)))/(I5+EXP(I6*(I4-F140))))^I5)/(1-((I5+EXP(I6*(I4-I7)))/(I5+EXP(I6*(I4-I9))))^I5))","v":0},{"$f":"IF(OR(F140<=J7,F140>J9),0,J8+(J10-J8)*(1-((J5+EXP(J6*(J4-J7)))/(J5+EXP(J6*(J4-F140))))^J5)/(1-((J5+EXP(J6*(J4-J7)))/(J5+EXP(J6*(J4-J9))))^J5))","v":0},{"$f":"IF(OR(F140<=J9,F140>100000),0,IF(F140<=K7,K8,K8+(K10-K8)*(1-((K5+EXP(K6*(K4-K7)))/(K5+EXP(K6*(K4-F140))))^K5)/(1-((K5+EXP(K6*(K4-K7)))/(K5+EXP(K6*(K4-K9))))^K5)))","v":0},{"$f":"H140+I140+J140","v":0},0,{"$f":"M$10*(1-(($M$5+EXP($M$6*$M$4))/($M$5+EXP($M$6*($M$4-$E140))))^$M$5)/(1-(($M$5+EXP($M$6*$M$4))/($M$5+EXP($M$6*($M$4-M$9))))^$M$5)","v":85.861801892097958},0,"2011-03-09",{"$f":"MAX(L$12:L140)+MAX(M$12:M140)+MAX(N$12:N140)","v":85.861801892097958},"2011-03-09",1.4157457693749365,null,null,null,null,null,null,null,null,null,null,null,null,null,null,null,null,null,65.005050505050491,null,{"$f":"IF(OR(AJ140<=AM7,AJ140>AM9),0,AM8+(AM10-AM8)*(1-((AM5+EXP(AM6*(AM4-AM7)))/(AM5+EXP(AM6*(AM4-AJ140))))^AM5)/(1-((AM5+EXP(AM6*(AM4-AM7)))/(AM5+EXP(AM6*(AM4-AM9))))^AM5))","v":0},{"$f":"IF(OR(AJ140<=AN7,AJ140>AN9),0,AN8+(AN10-AN8)*(1-((AN5+EXP(AN6*(AN4-AN7)))/(AN5+EXP(AN6*(AN4-AJ140))))^AN5)/(1-((AN5+EXP(AN6*(AN4-AN7)))/(AN5+EXP(AN6*(AN4-AN9))))^AN5))","v":0},{"$f":"IF(OR(AJ140<=AN9,AJ140>100000),0,IF(AJ140<=AO7,AO8,AO8+(AO10-AO8)*(1-((AO5+EXP(AO6*(AO4-AO7)))/(AO5+EXP(AO6*(AO4-AJ140))))^AO5)/(1-((AO5+EXP(AO6*(AO4-AO7)))/(AO5+EXP(AO6*(AO4-AO9))))^AO5)))","v":0},{"$f":"AL140+AM140+AN140","v":0},0]
[130,{"$f":"'daily uptake'!F224","v":"2011-03-10"},{"$f":"5/9*'daily uptake'!Q224","v":11.944444444444445},{"$f":"5/9*'daily uptake'!N224","v":4.7222222222222223},{"$f":"IF(AND($A141>='daily uptake'!$C$9,$A141<='daily uptake'!$C$10),$C141+E140,0)","v":1182.7777777777776},{"$f":"IF(AND($A141>='daily uptake'!$C$18,$A141<='daily uptake'!$C$20),$D141+F140,0)","v":0},{"$f":"IF(AND($A141>='daily uptake'!$C$24,$A141<='daily uptake'!$C$25),$C141+G140,0)","v":0},{"$f":"IF(OR(F141<=I7,F141>I9),0,I8+(I10-I8)*(1-((I5+EXP(I6*(I4-I7)))/(I5+EXP(I6*(I4-F141))))^I5)/(1-((I5+EXP(I6*(I4-I7)))/(I5+EXP(I6*(I4-I9))))^I5))","v":0},{"$f":"IF(OR(F141<=J7,F141>J9),0,J8+(J10-J8)*(1-((J5+EXP(J6*(J4-J7)))/(J5+EXP(J6*(J4-F141))))^J5)/(1-((J5+EXP(J6*(J4-J7)))/(J5+EXP(J6*(J4-J9))))^J5))","v":0},{"$f":"IF(OR(F141<=J9,F141>100000),0,IF(F141<=K7,K8,K8+(K10-K8)*(1-((K5+EXP(K6*(K4-K7)))/(K5+EXP(K6*(K4-F141))))^K5)/(1-((K5+EXP(K6*(K4-K7)))/(K5+EXP(K6*(K4-K9))))^K5)))","v":0},0,{"$f":"IF(L$8=0,0,K141*L$7/L$8)","v":0},87.318394154118579,{"$f":"N$10*(1-(($N$5+EXP($N$6*$N$4))/($N$5+EXP($N$6*($N$4-$G141))))^$N$5)/(1-(($N$5+EXP($N$6*$N$4))/($N$5+EXP($N$6*($N$4-N$9))))^$N$5)","v":0},"2011-03-10",{"$f":"MAX(L$12:L141)+MAX(M$12:M141)+MAX(N$12:N141)","v":87.318394154118579},"2011-03-10",{"$f":"P141-P140","v":1.4565922620206209},null,null,null,null,null,null,null,null,null,null,null,null,null,null,null,null,null,72.313131313131294,null,{"$f":"IF(OR(AJ141<=AM7,AJ141>AM9),0,AM8+(AM10-AM8)*(1-((AM5+EXP(AM6*(AM4-AM7)))/(AM5+EXP(AM6*(AM4-AJ141))))^AM5)/(1-((AM5+EXP(AM6*(AM4-AM7)))/(AM5+EXP(AM6*(AM4-AM9))))^AM5))","v":0},{"$f":"IF(OR(AJ141<=AN7,AJ141>AN9),0,AN8+(AN10-AN8)*(1-((AN5+EXP(AN6*(AN4-AN7)))/(AN5+EXP(AN6*(AN4-AJ141))))^AN5)/(1-((AN5+EXP(AN6*(AN4-AN7)))/(AN5+EXP(AN6*(AN4-AN9))))^AN5))","v":0},{"$f":"IF(OR(AJ141<=AN9,AJ141>100000),0,IF(AJ141<=AO7,AO8,AO8+(AO10-AO8)*(1-((AO5+EXP(AO6*(AO4-AO7)))/(AO5+EXP(AO6*(AO4-AJ141))))^AO5)/(1-((AO5+EXP(AO6*(AO4-AO7)))/(AO5+EXP(AO6*(AO4-AO9))))^AO5)))","v":0},0,{"$f":"IF(AP$8=0,0,AO141*AP$7/AP$8)","v":0}]
[131,{"$f":"'daily uptake'!F225","v":"2011-03-11"},{"$f":"5/9*'daily uptake'!Q225","v":12.5},{"$f":"5/9*'daily uptake'!N225","v":5},{"$f":"IF(AND($A142>='daily uptake'!$C$9,$A142<='daily uptake'!$C$10),$C142+E141,0)","v":1195.2777777777776},{"$f":"IF(AND($A142>='daily uptake'!$C$18,$A142<='daily uptake'!$C$20),$D142+F141,0)","v":0},{"$f":"IF(AND($A142>='daily uptake'!$C$24,$A142<='daily uptake'!$C$25),$C142+G141,0)","v":0},{"$f":"IF(OR(F142<=I7,F142>I9),0,I8+(I10-I8)*(1-((I5+EXP(I6*(I4-I7)))/(I5+EXP(I6*(I4-F142))))^I5)/(1-((I5+EXP(I6*(I4-I7)))/(I5+EXP(I6*(I4-I9))))^I5))","v":0},{"$f":"IF(OR(F142<=J7,F142>J9),0,J8+(J10-J8)*(1-((J5+EXP(J6*(J4-J7)))/(J5+EXP(J6*(J4-F142))))^J5)/(1-((J5+EXP(J6*(J4-J7)))/(J5+EXP(J6*(J4-J9))))^J5))","v":0},{"$f":"IF(OR(F142<=J9,F142>100000),0,IF(F142<=K7,K8,K8+(K10-K8)*(1-((K5+EXP(K6*(K4-K7)))/(K5+EXP(K6*(K4-F142))))^K5)/(1-((K5+EXP(K6*(K4-K7)))/(K5+EXP(K6*(K4-K9))))^K5)))","v":0},0,0,88.850099240493009,0,"2011-03-11",{"$f":"MAX(L$12:L142)+MAX(M$12:M142)+MAX(N$12:N142)","v":88.850099240493009},"2011-03-11",1.5317050863744299,null,null,null,null,null,null,null,null,null,null,null,null,null,null,null,null,null,79.828282828282795,null,{"$f":"IF(OR(AJ142<=AM7,AJ142>AM9),0,AM8+(AM10-AM8)*(1-((AM5+EXP(AM6*(AM4-AM7)))/(AM5+EXP(AM6*(AM4-AJ142))))^AM5)/(1-((AM5+EXP(AM6*(AM4-AM7)))/(AM5+EXP(AM6*(AM4-AM9))))^AM5))","v":0},{"$f":"IF(OR(AJ142<=AN7,AJ142>AN9),0,AN8+(AN10-AN8)*(1-((AN5+EXP(AN6*(AN4-AN7)))/(AN5+EXP(AN6*(AN4-AJ142))))^AN5)/(1-((AN5+EXP(AN6*(AN4-AN7)))/(AN5+EXP(AN6*(AN4-AN9))))^AN5))","v":0},{"$f":"IF(OR(AJ142<=AN9,AJ142>100000),0,IF(AJ142<=AO7,AO8,AO8+(AO10-AO8)*(1-((AO5+EXP(AO6*(AO4-AO7)))/(AO5+EXP(AO6*(AO4-AJ142))))^AO5)/(1-((AO5+EXP(AO6*(AO4-AO7)))/(AO5+EXP(AO6*(AO4-AO9))))^AO5)))","v":0},0,0]
[132,{"$f":"'daily uptake'!F226","v":"2011-03-12"},{"$f":"5/9*'daily uptake'!Q226","v":12.222222222222223},{"$f":"5/9*'daily uptake'!N226","v":5},{"$f":"IF(AND($A143>='daily uptake'!$C$9,$A143<='daily uptake'!$C$10),$C143+E142,0)","v":1207.4999999999998},{"$f":"IF(AND($A143>='daily uptake'!$C$18,$A143<='daily uptake'!$C$20),$D143+F142,0)","v":0},{"$f":"IF(AND($A143>='daily uptake'!$C$24,$A143<='daily uptake'!$C$25),$C143+G142,0)","v":0},{"$f":"IF(OR(F143<=I7,F143>I9),0,I8+(I10-I8)*(1-((I5+EXP(I6*(I4-I7)))/(I5+EXP(I6*(I4-F143))))^I5)/(1-((I5+EXP(I6*(I4-I7)))/(I5+EXP(I6*(I4-I9))))^I5))","v":0},{"$f":"IF(OR(F143<=J7,F143>J9),0,J8+(J10-J8)*(1-((J5+EXP(J6*(J4-J7)))/(J5+EXP(J6*(J4-F143))))^J5)/(1-((J5+EXP(J6*(J4-J7)))/(J5+EXP(J6*(J4-J9))))^J5))","v":0},{"$f":"IF(OR(F143<=J9,F143>100000),0,IF(F143<=K7,K8,K8+(K10-K8)*(1-((K5+EXP(K6*(K4-K7)))/(K5+EXP(K6*(K4-F143))))^K5)/(1-((K5+EXP(K6*(K4-K7)))/(K5+EXP(K6*(K4-K9))))^K5)))","v":0},0,0,90.354671365238758,0,"2011-03-12",{"$f":"MAX(L$12:L143)+MAX(M$12:M143)+MAX(N$12:N143)","v":90.354671365238758},"2011-03-12",1.5045721247457493,null,null,null,null,null,null,null,null,null,null,null,null,null,null,null,null,null,87.09595959595957,null,{"$f":"IF(OR(AJ143<=AM7,AJ143>AM9),0,AM8+(AM10-AM8)*(1-((AM5+EXP(AM6*(AM4-AM7)))/(AM5+EXP(AM6*(AM4-AJ143))))^AM5)/(1-((AM5+EXP(AM6*(AM4-AM7)))/(AM5+EXP(AM6*(AM4-AM9))))^AM5))","v":0},{"$f":"IF(OR(AJ143<=AN7,AJ143>AN9),0,AN8+(AN10-AN8)*(1-((AN5+EXP(AN6*(AN4-AN7)))/(AN5+EXP(AN6*(AN4-AJ143))))^AN5)/(1-((AN5+EXP(AN6*(AN4-AN7)))/(AN5+EXP(AN6*(AN4-AN9))))^AN5))","v":0},{"$f":"IF(OR(AJ143<=AN9,AJ143>100000),0,IF(AJ143<=AO7,AO8,AO8+(AO10-AO8)*(1-((AO5+EXP(AO6*(AO4-AO7)))/(AO5+EXP(AO6*(AO4-AJ143))))^AO5)/(1-((AO5+EXP(AO6*(AO4-AO7)))/(AO5+EXP(AO6*(AO4-AO9))))^AO5)))","v":0},0,0]
[133,{"$f":"'daily uptake'!F227","v":"2011-03-13"},{"$f":"5/9*'daily uptake'!Q227","v":12.5},{"$f":"5/9*'daily uptake'!N227","v":5},{"$f":"IF(AND($A144>='daily uptake'!$C$9,$A144<='daily uptake'!$C$10),$C144+E143,0)","v":1219.9999999999998},{"$f":"IF(AND($A144>='daily uptake'!$C$18,$A144<='daily uptake'!$C$20),$D144+F143,0)","v":0},{"$f":"IF(AND($A144>='daily uptake'!$C$24,$A144<='daily uptake'!$C$25),$C144+G143,0)","v":0},{"$f":"IF(OR(F144<=I7,F144>I9),0,I8+(I10-I8)*(1-((I5+EXP(I6*(I4-I7)))/(I5+EXP(I6*(I4-F144))))^I5)/(1-((I5+EXP(I6*(I4-I7)))/(I5+EXP(I6*(I4-I9))))^I5))","v":0},{"$f":"IF(OR(F144<=J7,F144>J9),0,J8+(J10-J8)*(1-((J5+EXP(J6*(J4-J7)))/(J5+EXP(J6*(J4-F144))))^J5)/(1-((J5+EXP(J6*(J4-J7)))/(J5+EXP(J6*(J4-J9))))^J5))","v":0},{"$f":"IF(OR(F144<=J9,F144>100000),0,IF(F144<=K7,K8,K8+(K10-K8)*(1-((K5+EXP(K6*(K4-K7)))/(K5+EXP(K6*(K4-F144))))^K5)/(1-((K5+EXP(K6*(K4-K7)))/(K5+EXP(K6*(K4-K9))))^K5)))","v":0},0,0,91.900101695314333,0,"2011-03-13",{"$f":"MAX(L$12:L144)+MAX(M$12:M144)+MAX(N$12:N144)","v":91.900101695314333},"2011-03-13",1.5454303300755754,null,null,null,null,null,null,null,null,null,null,null,null,null,null,null,null,null,94.96969696969694,null,{"$f":"IF(OR(AJ144<=AM7,AJ144>AM9),0,AM8+(AM10-AM8)*(1-((AM5+EXP(AM6*(AM4-AM7)))/(AM5+EXP(AM6*(AM4-AJ144))))^AM5)/(1-((AM5+EXP(AM6*(AM4-AM7)))/(AM5+EXP(AM6*(AM4-AM9))))^AM5))","v":0},{"$f":"IF(OR(AJ144<=AN7,AJ144>AN9),0,AN8+(AN10-AN8)*(1-((AN5+EXP(AN6*(AN4-AN7)))/(AN5+EXP(AN6*(AN4-AJ144))))^AN5)/(1-((AN5+EXP(AN6*(AN4-AN7)))/(AN5+EXP(AN6*(AN4-AN9))))^AN5))","v":0},{"$f":"IF(OR(AJ144<=AN9,AJ144>100000),0,IF(AJ144<=AO7,AO8,AO8+(AO10-AO8)*(1-((AO5+EXP(AO6*(AO4-AO7)))/(AO5+EXP(AO6*(AO4-AJ144))))^AO5)/(1-((AO5+EXP(AO6*(AO4-AO7)))/(AO5+EXP(AO6*(AO4-AO9))))^AO5)))","v":0},0,0]
[134,{"$f":"'daily uptake'!F228","v":"2011-03-14"},{"$f":"5/9*'daily uptake'!Q228","v":12.777777777777779},{"$f":"5/9*'daily uptake'!N228","v":5.2777777777777777},{"$f":"IF(AND($A145>='daily uptake'!$C$9,$A145<='daily uptake'!$C$10),$C145+E144,0)","v":1232.7777777777776},{"$f":"IF(AND($A145>='daily uptake'!$C$18,$A145<='daily uptake'!$C$20),$D145+F144,0)","v":0},{"$f":"IF(AND($A145>='daily uptake'!$C$24,$A145<='daily uptake'!$C$25),$C145+G144,0)","v":0},{"$f":"IF(OR(F145<=I7,F145>I9),0,I8+(I10-I8)*(1-((I5+EXP(I6*(I4-I7)))/(I5+EXP(I6*(I4-F145))))^I5)/(1-((I5+EXP(I6*(I4-I7)))/(I5+EXP(I6*(I4-I9))))^I5))","v":0},{"$f":"IF(OR(F145<=J7,F145>J9),0,J8+(J10-J8)*(1-((J5+EXP(J6*(J4-J7)))/(J5+EXP(J6*(J4-F145))))^J5)/(1-((J5+EXP(J6*(J4-J7)))/(J5+EXP(J6*(J4-J9))))^J5))","v":0},{"$f":"IF(OR(F145<=J9,F145>100000),0,IF(F145<=K7,K8,K8+(K10-K8)*(1-((K5+EXP(K6*(K4-K7)))/(K5+EXP(K6*(K4-F145))))^K5)/(1-((K5+EXP(K6*(K4-K7)))/(K5+EXP(K6*(K4-K9))))^K5)))","v":0},0,0,93.486413407542457,0,"2011-03-14",{"$f":"MAX(L$12:L145)+MAX(M$12:M145)+MAX(N$12:N145)","v":93.486413407542457},"2011-03-14",1.5863117122281238,null,null,null,null,null,null,null,null,null,null,null,null,null,null,null,null,null,102.74747474747471,null,{"$f":"IF(OR(AJ145<=AM7,AJ145>AM9),0,AM8+(AM10-AM8)*(1-((AM5+EXP(AM6*(AM4-AM7)))/(AM5+EXP(AM6*(AM4-AJ145))))^AM5)/(1-((AM5+EXP(AM6*(AM4-AM7)))/(AM5+EXP(AM6*(AM4-AM9))))^AM5))","v":0},{"$f":"IF(OR(AJ145<=AN7,AJ145>AN9),0,AN8+(AN10-AN8)*(1-((AN5+EXP(AN6*(AN4-AN7)))/(AN5+EXP(AN6*(AN4-AJ145))))^AN5)/(1-((AN5+EXP(AN6*(AN4-AN7)))/(AN5+EXP(AN6*(AN4-AN9))))^AN5))","v":0},{"$f":"IF(OR(AJ145<=AN9,AJ145>100000),0,IF(AJ145<=AO7,AO8,AO8+(AO10-AO8)*(1-((AO5+EXP(AO6*(AO4-AO7)))/(AO5+EXP(AO6*(AO4-AJ145))))^AO5)/(1-((AO5+EXP(AO6*(AO4-AO7)))/(AO5+EXP(AO6*(AO4-AO9))))^AO5)))","v":0},0,0]
[135,{"$f":"'daily uptake'!F229","v":"2011-03-15"},{"$f":"5/9*'daily uptake'!Q229","v":13.055555555555555},{"$f":"5/9*'daily uptake'!N229","v":5.2777777777777777},{"$f":"IF(AND($A146>='daily uptake'!$C$9,$A146<='daily uptake'!$C$10),$C146+E145,0)","v":1245.8333333333333},{"$f":"IF(AND($A146>='daily uptake'!$C$18,$A146<='daily uptake'!$C$20),$D146+F145,0)","v":0},{"$f":"IF(AND($A146>='daily uptake'!$C$24,$A146<='daily uptake'!$C$25),$C146+G145,0)","v":0},{"$f":"IF(OR(F146<=I7,F146>I9),0,I8+(I10-I8)*(1-((I5+EXP(I6*(I4-I7)))/(I5+EXP(I6*(I4-F146))))^I5)/(1-((I5+EXP(I6*(I4-I7)))/(I5+EXP(I6*(I4-I9))))^I5))","v":0},{"$f":"IF(OR(F146<=J7,F146>J9),0,J8+(J10-J8)*(1-((J5+EXP(J6*(J4-J7)))/(J5+EXP(J6*(J4-F146))))^J5)/(1-((J5+EXP(J6*(J4-J7)))/(J5+EXP(J6*(J4-J9))))^J5))","v":0},{"$f":"IF(OR(F146<=J9,F146>100000),0,IF(F146<=K7,K8,K8+(K10-K8)*(1-((K5+EXP(K6*(K4-K7)))/(K5+EXP(K6*(K4-F146))))^K5)/(1-((K5+EXP(K6*(K4-K7)))/(K5+EXP(K6*(K4-K9))))^K5)))","v":0},0,0,95.113576415763589,0,"2011-03-15",{"$f":"MAX(L$12:L146)+MAX(M$12:M146)+MAX(N$12:N146)","v":95.113576415763589},"2011-03-15",1.6271630082211317,null,null,null,null,null,null,null,null,null,null,null,null,null,null,null,null,null,110.68181818181814,null,{"$f":"IF(OR(AJ146<=AM7,AJ146>AM9),0,AM8+(AM10-AM8)*(1-((AM5+EXP(AM6*(AM4-AM7)))/(AM5+EXP(AM6*(AM4-AJ146))))^AM5)/(1-((AM5+EXP(AM6*(AM4-AM7)))/(AM5+EXP(AM6*(AM4-AM9))))^AM5))","v":0},{"$f":"IF(OR(AJ146<=AN7,AJ146>AN9),0,AN8+(AN10-AN8)*(1-((AN5+EXP(AN6*(AN4-AN7)))/(AN5+EXP(AN6*(AN4-AJ146))))^AN5)/(1-((AN5+EXP(AN6*(AN4-AN7)))/(AN5+EXP(AN6*(AN4-AN9))))^AN5))","v":0},{"$f":"IF(OR(AJ146<=AN9,AJ146>100000),0,IF(AJ146<=AO7,AO8,AO8+(AO10-AO8)*(1-((AO5+EXP(AO6*(AO4-AO7)))/(AO5+EXP(AO6*(AO4-AJ146))))^AO5)/(1-((AO5+EXP(AO6*(AO4-AO7)))/(AO5+EXP(AO6*(AO4-AO9))))^AO5)))","v":0},0,0]
[136,{"$f":"'daily uptake'!F230","v":"2011-03-16"},{"$f":"5/9*'daily uptake'!Q230","v":13.333333333333334},{"$f":"5/9*'daily uptake'!N230","v":5.2777777777777777},{"$f":"IF(AND($A147>='daily uptake'!$C$9,$A147<='daily uptake'!$C$10),$C147+E146,0)","v":1259.1666666666665},{"$f":"IF(AND($A147>='daily uptake'!$C$18,$A147<='daily uptake'!$C$20),$D147+F146,0)","v":0},{"$f":"IF(AND($A147>='daily uptake'!$C$24,$A147<='daily uptake'!$C$25),$C147+G146,0)","v":0},{"$f":"IF(OR(F147<=I7,F147>I9),0,I8+(I10-I8)*(1-((I5+EXP(I6*(I4-I7)))/(I5+EXP(I6*(I4-F147))))^I5)/(1-((I5+EXP(I6*(I4-I7)))/(I5+EXP(I6*(I4-I9))))^I5))","v":0},{"$f":"IF(OR(F147<=J7,F147>J9),0,J8+(J10-J8)*(1-((J5+EXP(J6*(J4-J7)))/(J5+EXP(J6*(J4-F147))))^J5)/(1-((J5+EXP(J6*(J4-J7)))/(J5+EXP(J6*(J4-J9))))^J5))","v":0},{"$f":"IF(OR(F147<=J9,F147>100000),0,IF(F147<=K7,K8,K8+(K10-K8)*(1-((K5+EXP(K6*(K4-K7)))/(K5+EXP(K6*(K4-F147))))^K5)/(1-((K5+EXP(K6*(K4-K7)))/(K5+EXP(K6*(K4-K9))))^K5)))","v":0},0,0,96.78150342283061,0,"2011-03-16",{"$f":"MAX(L$12:L147)+MAX(M$12:M147)+MAX(N$12:N147)","v":96.78150342283061},"2011-03-16",1.6679270070670213,null,null,null,null,null,null,null,null,null,null,null,null,null,null,null,null,null,119.02020202020198,null,{"$f":"IF(OR(AJ147<=AM7,AJ147>AM9),0,AM8+(AM10-AM8)*(1-((AM5+EXP(AM6*(AM4-AM7)))/(AM5+EXP(AM6*(AM4-AJ147))))^AM5)/(1-((AM5+EXP(AM6*(AM4-AM7)))/(AM5+EXP(AM6*(AM4-AM9))))^AM5))","v":0},{"$f":"IF(OR(AJ147<=AN7,AJ147>AN9),0,AN8+(AN10-AN8)*(1-((AN5+EXP(AN6*(AN4-AN7)))/(AN5+EXP(AN6*(AN4-AJ147))))^AN5)/(1-((AN5+EXP(AN6*(AN4-AN7)))/(AN5+EXP(AN6*(AN4-AN9))))^AN5))","v":0},{"$f":"IF(OR(AJ147<=AN9,AJ147>100000),0,IF(AJ147<=AO7,AO8,AO8+(AO10-AO8)*(1-((AO5+EXP(AO6*(AO4-AO7)))/(AO5+EXP(AO6*(AO4-AJ147))))^AO5)/(1-((AO5+EXP(AO6*(AO4-AO7)))/(AO5+EXP(AO6*(AO4-AO9))))^AO5)))","v":0},0,0]
[137,{"$f":"'daily uptake'!F231","v":"2011-03-17"},{"$f":"5/9*'daily uptake'!Q231","v":13.333333333333334},{"$f":"5/9*'daily uptake'!N231","v":5.8333333333333339},{"$f":"IF(AND($A148>='daily uptake'!$C$9,$A148<='daily uptake'!$C$10),$C148+E147,0)","v":1272.4999999999998},{"$f":"IF(AND($A148>='daily uptake'!$C$18,$A148<='daily uptake'!$C$20),$D148+F147,0)","v":0},{"$f":"IF(AND($A148>='daily uptake'!$C$24,$A148<='daily uptake'!$C$25),$C148+G147,0)","v":0},{"$f":"IF(OR(F148<=I7,F148>I9),0,I8+(I10-I8)*(1-((I5+EXP(I6*(I4-I7)))/(I5+EXP(I6*(I4-F148))))^I5)/(1-((I5+EXP(I6*(I4-I7)))/(I5+EXP(I6*(I4-I9))))^I5))","v":0},{"$f":"IF(OR(F148<=J7,F148>J9),0,J8+(J10-J8)*(1-((J5+EXP(J6*(J4-J7)))/(J5+EXP(J6*(J4-F148))))^J5)/(1-((J5+EXP(J6*(J4-J7)))/(J5+EXP(J6*(J4-J9))))^J5))","v":0},{"$f":"IF(OR(F148<=J9,F148>100000),0,IF(F148<=K7,K8,K8+(K10-K8)*(1-((K5+EXP(K6*(K4-K7)))/(K5+EXP(K6*(K4-F148))))^K5)/(1-((K5+EXP(K6*(K4-K7)))/(K5+EXP(K6*(K4-K9))))^K5)))","v":0},0,0,98.455122148782664,0,"2011-03-17",{"$f":"MAX(L$12:L148)+MAX(M$12:M148)+MAX(N$12:N148)","v":98.455122148782664},"2011-03-17",1.6736187259520534,null,null,null,null,null,null,null,null,null,null,null,null,null,null,null,null,null,127.49494949494945,null,{"$f":"IF(OR(AJ148<=AM7,AJ148>AM9),0,AM8+(AM10-AM8)*(1-((AM5+EXP(AM6*(AM4-AM7)))/(AM5+EXP(AM6*(AM4-AJ148))))^AM5)/(1-((AM5+EXP(AM6*(AM4-AM7)))/(AM5+EXP(AM6*(AM4-AM9))))^AM5))","v":0},{"$f":"IF(OR(AJ148<=AN7,AJ148>AN9),0,AN8+(AN10-AN8)*(1-((AN5+EXP(AN6*(AN4-AN7)))/(AN5+EXP(AN6*(AN4-AJ148))))^AN5)/(1-((AN5+EXP(AN6*(AN4-AN7)))/(AN5+EXP(AN6*(AN4-AN9))))^AN5))","v":0},{"$f":"IF(OR(AJ148<=AN9,AJ148>100000),0,IF(AJ148<=AO7,AO8,AO8+(AO10-AO8)*(1-((AO5+EXP(AO6*(AO4-AO7)))/(AO5+EXP(AO6*(AO4-AJ148))))^AO5)/(1-((AO5+EXP(AO6*(AO4-AO7)))/(AO5+EXP(AO6*(AO4-AO9))))^AO5)))","v":0},0,0]
[138,{"$f":"'daily uptake'!F232","v":"2011-03-18"},{"$f":"5/9*'daily uptake'!Q232","v":14.166666666666668},{"$f":"5/9*'daily uptake'!N232","v":6.1111111111111116},{"$f":"IF(AND($A149>='daily uptake'!$C$9,$A149<='daily uptake'!$C$10),$C149+E148,0)","v":1286.6666666666665},{"$f":"IF(AND($A149>='daily uptake'!$C$18,$A149<='daily uptake'!$C$20),$D149+F148,0)","v":0},{"$f":"IF(AND($A149>='daily uptake'!$C$24,$A149<='daily uptake'!$C$25),$C149+G148,0)","v":0},{"$f":"IF(OR(F149<=I7,F149>I9),0,I8+(I10-I8)*(1-((I5+EXP(I6*(I4-I7)))/(I5+EXP(I6*(I4-F149))))^I5)/(1-((I5+EXP(I6*(I4-I7)))/(I5+EXP(I6*(I4-I9))))^I5))","v":0},{"$f":"IF(OR(F149<=J7,F149>J9),0,J8+(J10-J8)*(1-((J5+EXP(J6*(J4-J7)))/(J5+EXP(J6*(J4-F149))))^J5)/(1-((J5+EXP(J6*(J4-J7)))/(J5+EXP(J6*(J4-J9))))^J5))","v":0},{"$f":"IF(OR(F149<=J9,F149>100000),0,IF(F149<=K7,K8,K8+(K10-K8)*(1-((K5+EXP(K6*(K4-K7)))/(K5+EXP(K6*(K4-F149))))^K5)/(1-((K5+EXP(K6*(K4-K7)))/(K5+EXP(K6*(K4-K9))))^K5)))","v":0},0,0,100.23899053778571,0,"2011-03-18",{"$f":"MAX(L$12:L149)+MAX(M$12:M149)+MAX(N$12:N149)","v":100.23899053778571},"2011-03-18",1.7838683890030467,null,null,null,null,null,null,null,null,null,null,null,null,null,null,null,null,null,136.05050505050502,null,{"$f":"IF(OR(AJ149<=AM7,AJ149>AM9),0,AM8+(AM10-AM8)*(1-((AM5+EXP(AM6*(AM4-AM7)))/(AM5+EXP(AM6*(AM4-AJ149))))^AM5)/(1-((AM5+EXP(AM6*(AM4-AM7)))/(AM5+EXP(AM6*(AM4-AM9))))^AM5))","v":0},{"$f":"IF(OR(AJ149<=AN7,AJ149>AN9),0,AN8+(AN10-AN8)*(1-((AN5+EXP(AN6*(AN4-AN7)))/(AN5+EXP(AN6*(AN4-AJ149))))^AN5)/(1-((AN5+EXP(AN6*(AN4-AN7)))/(AN5+EXP(AN6*(AN4-AN9))))^AN5))","v":0},{"$f":"IF(OR(AJ149<=AN9,AJ149>100000),0,IF(AJ149<=AO7,AO8,AO8+(AO10-AO8)*(1-((AO5+EXP(AO6*(AO4-AO7)))/(AO5+EXP(AO6*(AO4-AJ149))))^AO5)/(1-((AO5+EXP(AO6*(AO4-AO7)))/(AO5+EXP(AO6*(AO4-AO9))))^AO5)))","v":0},0,0]
[139,{"$f":"'daily uptake'!F233","v":"2011-03-19"},{"$f":"5/9*'daily uptake'!Q233","v":13.888888888888889},{"$f":"5/9*'daily uptake'!N233","v":6.1111111111111116},{"$f":"IF(AND($A150>='daily uptake'!$C$9,$A150<='daily uptake'!$C$10),$C150+E149,0)","v":1300.5555555555554},{"$f":"IF(AND($A150>='daily uptake'!$C$18,$A150<='daily uptake'!$C$20),$D150+F149,0)","v":0},{"$f":"IF(AND($A150>='daily uptake'!$C$24,$A150<='daily uptake'!$C$25),$C150+G149,0)","v":0},{"$f":"IF(OR(F150<=I7,F150>I9),0,I8+(I10-I8)*(1-((I5+EXP(I6*(I4-I7)))/(I5+EXP(I6*(I4-F150))))^I5)/(1-((I5+EXP(I6*(I4-I7)))/(I5+EXP(I6*(I4-I9))))^I5))","v":0},{"$f":"IF(OR(F150<=J7,F150>J9),0,J8+(J10-J8)*(1-((J5+EXP(J6*(J4-J7)))/(J5+EXP(J6*(J4-F150))))^J5)/(1-((J5+EXP(J6*(J4-J7)))/(J5+EXP(J6*(J4-J9))))^J5))","v":0},{"$f":"IF(OR(F150<=J9,F150>100000),0,IF(F150<=K7,K8,K8+(K10-K8)*(1-((K5+EXP(K6*(K4-K7)))/(K5+EXP(K6*(K4-F150))))^K5)/(1-((K5+EXP(K6*(K4-K7)))/(K5+EXP(K6*(K4-K9))))^K5)))","v":0},0,0,101.99292908136418,0,"2011-03-19",{"$f":"MAX(L$12:L150)+MAX(M$12:M150)+MAX(N$12:N150)","v":101.99292908136418},"2011-03-19",1.7539385435784709,null,null,null,null,null,null,null,null,null,null,null,null,null,null,null,null,null,144.76262626262624,null,{"$f":"IF(OR(AJ150<=AM7,AJ150>AM9),0,AM8+(AM10-AM8)*(1-((AM5+EXP(AM6*(AM4-AM7)))/(AM5+EXP(AM6*(AM4-AJ150))))^AM5)/(1-((AM5+EXP(AM6*(AM4-AM7)))/(AM5+EXP(AM6*(AM4-AM9))))^AM5))","v":0},{"$f":"IF(OR(AJ150<=AN7,AJ150>AN9),0,AN8+(AN10-AN8)*(1-((AN5+EXP(AN6*(AN4-AN7)))/(AN5+EXP(AN6*(AN4-AJ150))))^AN5)/(1-((AN5+EXP(AN6*(AN4-AN7)))/(AN5+EXP(AN6*(AN4-AN9))))^AN5))","v":0},{"$f":"IF(OR(AJ150<=AN9,AJ150>100000),0,IF(AJ150<=AO7,AO8,AO8+(AO10-AO8)*(1-((AO5+EXP(AO6*(AO4-AO7)))/(AO5+EXP(AO6*(AO4-AJ150))))^AO5)/(1-((AO5+EXP(AO6*(AO4-AO7)))/(AO5+EXP(AO6*(AO4-AO9))))^AO5)))","v":0},0,0]
[140,{"$f":"'daily uptake'!F234","v":"2011-03-20"},{"$f":"5/9*'daily uptake'!Q234","v":13.611111111111112},{"$f":"5/9*'daily uptake'!N234","v":5.2777777777777777},{"$f":"IF(AND($A151>='daily uptake'!$C$9,$A151<='daily uptake'!$C$10),$C151+E150,0)","v":1314.1666666666665},{"$f":"IF(AND($A151>='daily uptake'!$C$18,$A151<='daily uptake'!$C$20),$D151+F150,0)","v":0},{"$f":"IF(AND($A151>='daily uptake'!$C$24,$A151<='daily uptake'!$C$25),$C151+G150,0)","v":0},{"$f":"IF(OR(F151<=I7,F151>I9),0,I8+(I10-I8)*(1-((I5+EXP(I6*(I4-I7)))/(I5+EXP(I6*(I4-F151))))^I5)/(1-((I5+EXP(I6*(I4-I7)))/(I5+EXP(I6*(I4-I9))))^I5))","v":0},{"$f":"IF(OR(F151<=J7,F151>J9),0,J8+(J10-J8)*(1-((J5+EXP(J6*(J4-J7)))/(J5+EXP(J6*(J4-F151))))^J5)/(1-((J5+EXP(J6*(J4-J7)))/(J5+EXP(J6*(J4-J9))))^J5))","v":0},{"$f":"IF(OR(F151<=J9,F151>100000),0,IF(F151<=K7,K8,K8+(K10-K8)*(1-((K5+EXP(K6*(K4-K7)))/(K5+EXP(K6*(K4-F151))))^K5)/(1-((K5+EXP(K6*(K4-K7)))/(K5+EXP(K6*(K4-K9))))^K5)))","v":0},0,0,103.71605147427248,0,"2011-03-20",{"$f":"MAX(L$12:L151)+MAX(M$12:M151)+MAX(N$12:N151)","v":103.71605147427248},"2011-03-20",1.7231223929082944,null,null,null,null,null,null,null,null,null,null,null,null,null,null,null,null,null,153.33838383838383,null,{"$f":"IF(OR(AJ151<=AM7,AJ151>AM9),0,AM8+(AM10-AM8)*(1-((AM5+EXP(AM6*(AM4-AM7)))/(AM5+EXP(AM6*(AM4-AJ151))))^AM5)/(1-((AM5+EXP(AM6*(AM4-AM7)))/(AM5+EXP(AM6*(AM4-AM9))))^AM5))","v":0},{"$f":"IF(OR(AJ151<=AN7,AJ151>AN9),0,AN8+(AN10-AN8)*(1-((AN5+EXP(AN6*(AN4-AN7)))/(AN5+EXP(AN6*(AN4-AJ151))))^AN5)/(1-((AN5+EXP(AN6*(AN4-AN7)))/(AN5+EXP(AN6*(AN4-AN9))))^AN5))","v":0},{"$f":"IF(OR(AJ151<=AN9,AJ151>100000),0,IF(AJ151<=AO7,AO8,AO8+(AO10-AO8)*(1-((AO5+EXP(AO6*(AO4-AO7)))/(AO5+EXP(AO6*(AO4-AJ151))))^AO5)/(1-((AO5+EXP(AO6*(AO4-AO7)))/(AO5+EXP(AO6*(AO4-AO9))))^AO5)))","v":0},0,0]
[141,{"$f":"'daily uptake'!F235","v":"2011-03-21"},{"$f":"5/9*'daily uptake'!Q235","v":13.611111111111112},{"$f":"5/9*'daily uptake'!N235","v":5.5555555555555554},{"$f":"IF(AND($A152>='daily uptake'!$C$9,$A152<='daily uptake'!$C$10),$C152+E151,0)","v":1327.7777777777776},{"$f":"IF(AND($A152>='daily uptake'!$C$18,$A152<='daily uptake'!$C$20),$D152+F151,0)","v":0},{"$f":"IF(AND($A152>='daily uptake'!$C$24,$A152<='daily uptake'!$C$25),$C152+G151,0)","v":0},{"$f":"IF(OR(F152<=I7,F152>I9),0,I8+(I10-I8)*(1-((I5+EXP(I6*(I4-I7)))/(I5+EXP(I6*(I4-F152))))^I5)/(1-((I5+EXP(I6*(I4-I7)))/(I5+EXP(I6*(I4-I9))))^I5))","v":0},{"$f":"IF(OR(F152<=J7,F152>J9),0,J8+(J10-J8)*(1-((J5+EXP(J6*(J4-J7)))/(J5+EXP(J6*(J4-F152))))^J5)/(1-((J5+EXP(J6*(J4-J7)))/(J5+EXP(J6*(J4-J9))))^J5))","v":0},{"$f":"IF(OR(F152<=J9,F152>100000),0,IF(F152<=K7,K8,K8+(K10-K8)*(1-((K5+EXP(K6*(K4-K7)))/(K5+EXP(K6*(K4-F152))))^K5)/(1-((K5+EXP(K6*(K4-K7)))/(K5+EXP(K6*(K4-K9))))^K5)))","v":0},0,0,105.44281695959342,0,"2011-03-21",{"$f":"MAX(L$12:L152)+MAX(M$12:M152)+MAX(N$12:N152)","v":105.44281695959342},"2011-03-21",1.7267654853209393,null,null,null,null,null,null,null,null,null,null,null,null,null,null,null,null,null,161.94949494949495,null,{"$f":"IF(OR(AJ152<=AM7,AJ152>AM9),0,AM8+(AM10-AM8)*(1-((AM5+EXP(AM6*(AM4-AM7)))/(AM5+EXP(AM6*(AM4-AJ152))))^AM5)/(1-((AM5+EXP(AM6*(AM4-AM7)))/(AM5+EXP(AM6*(AM4-AM9))))^AM5))","v":0},{"$f":"IF(OR(AJ152<=AN7,AJ152>AN9),0,AN8+(AN10-AN8)*(1-((AN5+EXP(AN6*(AN4-AN7)))/(AN5+EXP(AN6*(AN4-AJ152))))^AN5)/(1-((AN5+EXP(AN6*(AN4-AN7)))/(AN5+EXP(AN6*(AN4-AN9))))^AN5))","v":0},{"$f":"IF(OR(AJ152<=AN9,AJ152>100000),0,IF(AJ152<=AO7,AO8,AO8+(AO10-AO8)*(1-((AO5+EXP(AO6*(AO4-AO7)))/(AO5+EXP(AO6*(AO4-AJ152))))^AO5)/(1-((AO5+EXP(AO6*(AO4-AO7)))/(AO5+EXP(AO6*(AO4-AO9))))^AO5)))","v":0},0,0]
[142,{"$f":"'daily uptake'!F236","v":"2011-03-22"},{"$f":"5/9*'daily uptake'!Q236","v":13.055555555555555},{"$f":"5/9*'daily uptake'!N236","v":5.2777777777777777},{"$f":"IF(AND($A153>='daily uptake'!$C$9,$A153<='daily uptake'!$C$10),$C153+E152,0)","v":1340.8333333333333},{"$f":"IF(AND($A153>='daily uptake'!$C$18,$A153<='daily uptake'!$C$20),$D153+F152,0)","v":0},{"$f":"IF(AND($A153>='daily uptake'!$C$24,$A153<='daily uptake'!$C$25),$C153+G152,0)","v":0},{"$f":"IF(OR(F153<=I7,F153>I9),0,I8+(I10-I8)*(1-((I5+EXP(I6*(I4-I7)))/(I5+EXP(I6*(I4-F153))))^I5)/(1-((I5+EXP(I6*(I4-I7)))/(I5+EXP(I6*(I4-I9))))^I5))","v":0},{"$f":"IF(OR(F153<=J7,F153>J9),0,J8+(J10-J8)*(1-((J5+EXP(J6*(J4-J7)))/(J5+EXP(J6*(J4-F153))))^J5)/(1-((J5+EXP(J6*(J4-J7)))/(J5+EXP(J6*(J4-J9))))^J5))","v":0},{"$f":"IF(OR(F153<=J9,F153>100000),0,IF(F153<=K7,K8,K8+(K10-K8)*(1-((K5+EXP(K6*(K4-K7)))/(K5+EXP(K6*(K4-F153))))^K5)/(1-((K5+EXP(K6*(K4-K7)))/(K5+EXP(K6*(K4-K9))))^K5)))","v":0},0,0,107.10199201937537,0,"2011-03-22",{"$f":"MAX(L$12:L153)+MAX(M$12:M153)+MAX(N$12:N153)","v":107.10199201937537},"2011-03-22",1.6591750597819583,null,null,null,null,null,null,null,null,null,null,null,null,null,null,null,null,null,170.76767676767676,null,{"$f":"IF(OR(AJ153<=AM7,AJ153>AM9),0,AM8+(AM10-AM8)*(1-((AM5+EXP(AM6*(AM4-AM7)))/(AM5+EXP(AM6*(AM4-AJ153))))^AM5)/(1-((AM5+EXP(AM6*(AM4-AM7)))/(AM5+EXP(AM6*(AM4-AM9))))^AM5))","v":0},{"$f":"IF(OR(AJ153<=AN7,AJ153>AN9),0,AN8+(AN10-AN8)*(1-((AN5+EXP(AN6*(AN4-AN7)))/(AN5+EXP(AN6*(AN4-AJ153))))^AN5)/(1-((AN5+EXP(AN6*(AN4-AN7)))/(AN5+EXP(AN6*(AN4-AN9))))^AN5))","v":0},{"$f":"IF(OR(AJ153<=AN9,AJ153>100000),0,IF(AJ153<=AO7,AO8,AO8+(AO10-AO8)*(1-((AO5+EXP(AO6*(AO4-AO7)))/(AO5+EXP(AO6*(AO4-AJ153))))^AO5)/(1-((AO5+EXP(AO6*(AO4-AO7)))/(AO5+EXP(AO6*(AO4-AO9))))^AO5)))","v":0},0,0]
[143,{"$f":"'daily uptake'!F237","v":"2011-03-23"},{"$f":"5/9*'daily uptake'!Q237","v":13.055555555555555},{"$f":"5/9*'daily uptake'!N237","v":5.2777777777777777},{"$f":"IF(AND($A154>='daily uptake'!$C$9,$A154<='daily uptake'!$C$10),$C154+E153,0)","v":1353.8888888888889},{"$f":"IF(AND($A154>='daily uptake'!$C$18,$A154<='daily uptake'!$C$20),$D154+F153,0)","v":0},{"$f":"IF(AND($A154>='daily uptake'!$C$24,$A154<='daily uptake'!$C$25),$C154+G153,0)","v":0},{"$f":"IF(OR(F154<=I7,F154>I9),0,I8+(I10-I8)*(1-((I5+EXP(I6*(I4-I7)))/(I5+EXP(I6*(I4-F154))))^I5)/(1-((I5+EXP(I6*(I4-I7)))/(I5+EXP(I6*(I4-I9))))^I5))","v":0},{"$f":"IF(OR(F154<=J7,F154>J9),0,J8+(J10-J8)*(1-((J5+EXP(J6*(J4-J7)))/(J5+EXP(J6*(J4-F154))))^J5)/(1-((J5+EXP(J6*(J4-J7)))/(J5+EXP(J6*(J4-J9))))^J5))","v":0},{"$f":"IF(OR(F154<=J9,F154>100000),0,IF(F154<=K7,K8,K8+(K10-K8)*(1-((K5+EXP(K6*(K4-K7)))/(K5+EXP(K6*(K4-F154))))^K5)/(1-((K5+EXP(K6*(K4-K7)))/(K5+EXP(K6*(K4-K9))))^K5)))","v":0},0,0,108.76347992350469,0,"2011-03-23",{"$f":"MAX(L$12:L154)+MAX(M$12:M154)+MAX(N$12:N154)","v":108.76347992350469},"2011-03-23",1.6614879041293165,null,null,null,null,null,null,null,null,null,null,null,null,null,null,null,null,null,179.75757575757575,null,{"$f":"IF(OR(AJ154<=AM7,AJ154>AM9),0,AM8+(AM10-AM8)*(1-((AM5+EXP(AM6*(AM4-AM7)))/(AM5+EXP(AM6*(AM4-AJ154))))^AM5)/(1-((AM5+EXP(AM6*(AM4-AM7)))/(AM5+EXP(AM6*(AM4-AM9))))^AM5))","v":0},{"$f":"IF(OR(AJ154<=AN7,AJ154>AN9),0,AN8+(AN10-AN8)*(1-((AN5+EXP(AN6*(AN4-AN7)))/(AN5+EXP(AN6*(AN4-AJ154))))^AN5)/(1-((AN5+EXP(AN6*(AN4-AN7)))/(AN5+EXP(AN6*(AN4-AN9))))^AN5))","v":0},{"$f":"IF(OR(AJ154<=AN9,AJ154>100000),0,IF(AJ154<=AO7,AO8,AO8+(AO10-AO8)*(1-((AO5+EXP(AO6*(AO4-AO7)))/(AO5+EXP(AO6*(AO4-AJ154))))^AO5)/(1-((AO5+EXP(AO6*(AO4-AO7)))/(AO5+EXP(AO6*(AO4-AO9))))^AO5)))","v":0},0,0]
[144,{"$f":"'daily uptake'!F238","v":"2011-03-24"},{"$f":"5/9*'daily uptake'!Q238","v":13.611111111111112},{"$f":"5/9*'daily uptake'!N238","v":5.8333333333333339},{"$f":"IF(AND($A155>='daily uptake'!$C$9,$A155<='daily uptake'!$C$10),$C155+E154,0)","v":1367.5},{"$f":"IF(AND($A155>='daily uptake'!$C$18,$A155<='daily uptake'!$C$20),$D155+F154,0)","v":0},{"$f":"IF(AND($A155>='daily uptake'!$C$24,$A155<='daily uptake'!$C$25),$C155+G154,0)","v":0},{"$f":"IF(OR(F155<=I7,F155>I9),0,I8+(I10-I8)*(1-((I5+EXP(I6*(I4-I7)))/(I5+EXP(I6*(I4-F155))))^I5)/(1-((I5+EXP(I6*(I4-I7)))/(I5+EXP(I6*(I4-I9))))^I5))","v":0},{"$f":"IF(OR(F155<=J7,F155>J9),0,J8+(J10-J8)*(1-((J5+EXP(J6*(J4-J7)))/(J5+EXP(J6*(J4-F155))))^J5)/(1-((J5+EXP(J6*(J4-J7)))/(J5+EXP(J6*(J4-J9))))^J5))","v":0},{"$f":"IF(OR(F155<=J9,F155>100000),0,IF(F155<=K7,K8,K8+(K10-K8)*(1-((K5+EXP(K6*(K4-K7)))/(K5+EXP(K6*(K4-F155))))^K5)/(1-((K5+EXP(K6*(K4-K7)))/(K5+EXP(K6*(K4-K9))))^K5)))","v":0},0,0,110.49758065057006,0,"2011-03-24",{"$f":"MAX(L$12:L155)+MAX(M$12:M155)+MAX(N$12:N155)","v":110.49758065057006},"2011-03-24",1.7341007270653677,null,null,null,null,null,null,null,null,null,null,null,null,null,null,null,null,null,188.83838383838383,null,{"$f":"IF(OR(AJ155<=AM7,AJ155>AM9),0,AM8+(AM10-AM8)*(1-((AM5+EXP(AM6*(AM4-AM7)))/(AM5+EXP(AM6*(AM4-AJ155))))^AM5)/(1-((AM5+EXP(AM6*(AM4-AM7)))/(AM5+EXP(AM6*(AM4-AM9))))^AM5))","v":0.34206038472691119},{"$f":"IF(OR(AJ155<=AN7,AJ155>AN9),0,AN8+(AN10-AN8)*(1-((AN5+EXP(AN6*(AN4-AN7)))/(AN5+EXP(AN6*(AN4-AJ155))))^AN5)/(1-((AN5+EXP(AN6*(AN4-AN7)))/(AN5+EXP(AN6*(AN4-AN9))))^AN5))","v":0},{"$f":"IF(OR(AJ155<=AN9,AJ155>100000),0,IF(AJ155<=AO7,AO8,AO8+(AO10-AO8)*(1-((AO5+EXP(AO6*(AO4-AO7)))/(AO5+EXP(AO6*(AO4-AJ155))))^AO5)/(1-((AO5+EXP(AO6*(AO4-AO7)))/(AO5+EXP(AO6*(AO4-AO9))))^AO5)))","v":0},0.34206038472691119,0.26152654795380653]
[145,{"$f":"'daily uptake'!F239","v":"2011-03-25"},{"$f":"5/9*'daily uptake'!Q239","v":13.055555555555555},{"$f":"5/9*'daily uptake'!N239","v":5},{"$f":"IF(AND($A156>='daily uptake'!$C$9,$A156<='daily uptake'!$C$10),$C156+E155,0)","v":1380.5555555555557},{"$f":"IF(AND($A156>='daily uptake'!$C$18,$A156<='daily uptake'!$C$20),$D156+F155,0)","v":0},{"$f":"IF(AND($A156>='daily uptake'!$C$24,$A156<='daily uptake'!$C$25),$C156+G155,0)","v":0},{"$f":"IF(OR(F156<=I7,F156>I9),0,I8+(I10-I8)*(1-((I5+EXP(I6*(I4-I7)))/(I5+EXP(I6*(I4-F156))))^I5)/(1-((I5+EXP(I6*(I4-I7)))/(I5+EXP(I6*(I4-I9))))^I5))","v":0},{"$f":"IF(OR(F156<=J7,F156>J9),0,J8+(J10-J8)*(1-((J5+EXP(J6*(J4-J7)))/(J5+EXP(J6*(J4-F156))))^J5)/(1-((J5+EXP(J6*(J4-J7)))/(J5+EXP(J6*(J4-J9))))^J5))","v":0},{"$f":"IF(OR(F156<=J9,F156>100000),0,IF(F156<=K7,K8,K8+(K10-K8)*(1-((K5+EXP(K6*(K4-K7)))/(K5+EXP(K6*(K4-F156))))^K5)/(1-((K5+EXP(K6*(K4-K7)))/(K5+EXP(K6*(K4-K9))))^K5)))","v":0},0,0,112.16220570538979,0,"2011-03-25",{"$f":"MAX(L$12:L156)+MAX(M$12:M156)+MAX(N$12:N156)","v":112.16220570538979},"2011-03-25",1.6646250548197372,null,null,null,null,null,null,null,null,null,null,null,null,null,null,null,null,null,198.02525252525251,null,{"$f":"IF(OR(AJ156<=AM7,AJ156>AM9),0,AM8+(AM10-AM8)*(1-((AM5+EXP(AM6*(AM4-AM7)))/(AM5+EXP(AM6*(AM4-AJ156))))^AM5)/(1-((AM5+EXP(AM6*(AM4-AM7)))/(AM5+EXP(AM6*(AM4-AM9))))^AM5))","v":0.88509508040462914},{"$f":"IF(OR(AJ156<=AN7,AJ156>AN9),0,AN8+(AN10-AN8)*(1-((AN5+EXP(AN6*(AN4-AN7)))/(AN5+EXP(AN6*(AN4-AJ156))))^AN5)/(1-((AN5+EXP(AN6*(AN4-AN7)))/(AN5+EXP(AN6*(AN4-AN9))))^AN5))","v":0},{"$f":"IF(OR(AJ156<=AN9,AJ156>100000),0,IF(AJ156<=AO7,AO8,AO8+(AO10-AO8)*(1-((AO5+EXP(AO6*(AO4-AO7)))/(AO5+EXP(AO6*(AO4-AJ156))))^AO5)/(1-((AO5+EXP(AO6*(AO4-AO7)))/(AO5+EXP(AO6*(AO4-AO9))))^AO5)))","v":0},0.88509508040462914,0.6767105204945657]
[146,{"$f":"'daily uptake'!F240","v":"2011-03-26"},{"$f":"5/9*'daily uptake'!Q240","v":13.055555555555555},{"$f":"5/9*'daily uptake'!N240","v":5.2777777777777777},{"$f":"IF(AND($A157>='daily uptake'!$C$9,$A157<='daily uptake'!$C$10),$C157+E156,0)","v":1393.6111111111113},{"$f":"IF(AND($A157>='daily uptake'!$C$18,$A157<='daily uptake'!$C$20),$D157+F156,0)","v":0},{"$f":"IF(AND($A157>='daily uptake'!$C$24,$A157<='daily uptake'!$C$25),$C157+G156,0)","v":0},{"$f":"IF(OR(F157<=I7,F157>I9),0,I8+(I10-I8)*(1-((I5+EXP(I6*(I4-I7)))/(I5+EXP(I6*(I4-F157))))^I5)/(1-((I5+EXP(I6*(I4-I7)))/(I5+EXP(I6*(I4-I9))))^I5))","v":0},{"$f":"IF(OR(F157<=J7,F157>J9),0,J8+(J10-J8)*(1-((J5+EXP(J6*(J4-J7)))/(J5+EXP(J6*(J4-F157))))^J5)/(1-((J5+EXP(J6*(J4-J7)))/(J5+EXP(J6*(J4-J9))))^J5))","v":0},{"$f":"IF(OR(F157<=J9,F157>100000),0,IF(F157<=K7,K8,K8+(K10-K8)*(1-((K5+EXP(K6*(K4-K7)))/(K5+EXP(K6*(K4-F157))))^K5)/(1-((K5+EXP(K6*(K4-K7)))/(K5+EXP(K6*(K4-K9))))^K5)))","v":0},0,0,113.82758960035018,0,"2011-03-26",{"$f":"MAX(L$12:L157)+MAX(M$12:M157)+MAX(N$12:N157)","v":113.82758960035018},"2011-03-26",1.6653838949603852,null,null,null,null,null,null,null,null,null,null,null,null,null,null,null,null,null,207.37373737373736,null,{"$f":"IF(OR(AJ157<=AM7,AJ157>AM9),0,AM8+(AM10-AM8)*(1-((AM5+EXP(AM6*(AM4-AM7)))/(AM5+EXP(AM6*(AM4-AJ157))))^AM5)/(1-((AM5+EXP(AM6*(AM4-AM7)))/(AM5+EXP(AM6*(AM4-AM9))))^AM5))","v":1.5347078314521543},{"$f":"IF(OR(AJ157<=AN7,AJ157>AN9),0,AN8+(AN10-AN8)*(1-((AN5+EXP(AN6*(AN4-AN7)))/(AN5+EXP(AN6*(AN4-AJ157))))^AN5)/(1-((AN5+EXP(AN6*(AN4-AN7)))/(AN5+EXP(AN6*(AN4-AN9))))^AN5))","v":0},{"$f":"IF(OR(AJ157<=AN9,AJ157>100000),0,IF(AJ157<=AO7,AO8,AO8+(AO10-AO8)*(1-((AO5+EXP(AO6*(AO4-AO7)))/(AO5+EXP(AO6*(AO4-AJ157))))^AO5)/(1-((AO5+EXP(AO6*(AO4-AO7)))/(AO5+EXP(AO6*(AO4-AO9))))^AO5)))","v":0},1.5347078314521543,1.1733800790693467]
[147,{"$f":"'daily uptake'!F241","v":"2011-03-27"},{"$f":"5/9*'daily uptake'!Q241","v":12.5},{"$f":"5/9*'daily uptake'!N241","v":5},{"$f":"IF(AND($A158>='daily uptake'!$C$9,$A158<='daily uptake'!$C$10),$C158+E157,0)","v":1406.1111111111113},{"$f":"IF(AND($A158>='daily uptake'!$C$18,$A158<='daily uptake'!$C$20),$D158+F157,0)","v":0},{"$f":"IF(AND($A158>='daily uptake'!$C$24,$A158<='daily uptake'!$C$25),$C158+G157,0)","v":0},{"$f":"IF(OR(F158<=I7,F158>I9),0,I8+(I10-I8)*(1-((I5+EXP(I6*(I4-I7)))/(I5+EXP(I6*(I4-F158))))^I5)/(1-((I5+EXP(I6*(I4-I7)))/(I5+EXP(I6*(I4-I9))))^I5))","v":0},{"$f":"IF(OR(F158<=J7,F158>J9),0,J8+(J10-J8)*(1-((J5+EXP(J6*(J4-J7)))/(J5+EXP(J6*(J4-F158))))^J5)/(1-((J5+EXP(J6*(J4-J7)))/(J5+EXP(J6*(J4-J9))))^J5))","v":0},{"$f":"IF(OR(F158<=J9,F158>100000),0,IF(F158<=K7,K8,K8+(K10-K8)*(1-((K5+EXP(K6*(K4-K7)))/(K5+EXP(K6*(K4-F158))))^K5)/(1-((K5+EXP(K6*(K4-K7)))/(K5+EXP(K6*(K4-K9))))^K5)))","v":0},0,0,115.42234626346435,0,"2011-03-27",{"$f":"MAX(L$12:L158)+MAX(M$12:M158)+MAX(N$12:N158)","v":115.42234626346435},"2011-03-27",1.5947566631141683,null,null,null,null,null,null,null,null,null,null,null,null,null,null,null,null,null,217.08585858585857,null,{"$f":"IF(OR(AJ158<=AM7,AJ158>AM9),0,AM8+(AM10-AM8)*(1-((AM5+EXP(AM6*(AM4-AM7)))/(AM5+EXP(AM6*(AM4-AJ158))))^AM5)/(1-((AM5+EXP(AM6*(AM4-AM7)))/(AM5+EXP(AM6*(AM4-AM9))))^AM5))","v":2.3195432953486943},{"$f":"IF(OR(AJ158<=AN7,AJ158>AN9),0,AN8+(AN10-AN8)*(1-((AN5+EXP(AN6*(AN4-AN7)))/(AN5+EXP(AN6*(AN4-AJ158))))^AN5)/(1-((AN5+EXP(AN6*(AN4-AN7)))/(AN5+EXP(AN6*(AN4-AN9))))^AN5))","v":0},{"$f":"IF(OR(AJ158<=AN9,AJ158>100000),0,IF(AJ158<=AO7,AO8,AO8+(AO10-AO8)*(1-((AO5+EXP(AO6*(AO4-AO7)))/(AO5+EXP(AO6*(AO4-AJ158))))^AO5)/(1-((AO5+EXP(AO6*(AO4-AO7)))/(AO5+EXP(AO6*(AO4-AO9))))^AO5)))","v":0},2.3195432953486943,1.7734358550354967]
[148,{"$f":"'daily uptake'!F242","v":"2011-03-28"},{"$f":"5/9*'daily uptake'!Q242","v":12.5},{"$f":"5/9*'daily uptake'!N242","v":5.2777777777777777},{"$f":"IF(AND($A159>='daily uptake'!$C$9,$A159<='daily uptake'!$C$10),$C159+E158,0)","v":1418.6111111111113},{"$f":"IF(AND($A159>='daily uptake'!$C$18,$A159<='daily uptake'!$C$20),$D159+F158,0)","v":0},{"$f":"IF(AND($A159>='daily uptake'!$C$24,$A159<='daily uptake'!$C$25),$C159+G158,0)","v":0},{"$f":"IF(OR(F159<=I7,F159>I9),0,I8+(I10-I8)*(1-((I5+EXP(I6*(I4-I7)))/(I5+EXP(I6*(I4-F159))))^I5)/(1-((I5+EXP(I6*(I4-I7)))/(I5+EXP(I6*(I4-I9))))^I5))","v":0},{"$f":"IF(OR(F159<=J7,F159>J9),0,J8+(J10-J8)*(1-((J5+EXP(J6*(J4-J7)))/(J5+EXP(J6*(J4-F159))))^J5)/(1-((J5+EXP(J6*(J4-J7)))/(J5+EXP(J6*(J4-J9))))^J5))","v":0},{"$f":"IF(OR(F159<=J9,F159>100000),0,IF(F159<=K7,K8,K8+(K10-K8)*(1-((K5+EXP(K6*(K4-K7)))/(K5+EXP(K6*(K4-F159))))^K5)/(1-((K5+EXP(K6*(K4-K7)))/(K5+EXP(K6*(K4-K9))))^K5)))","v":0},0,0,117.01688517727129,0,"2011-03-28",{"$f":"MAX(L$12:L159)+MAX(M$12:M159)+MAX(N$12:N159)","v":117.01688517727129},"2011-03-28",1.594538913806943,null,null,null,null,null,null,null,null,null,null,null,null,null,null,null,null,null,226.76262626262624,null,{"$f":"IF(OR(AJ159<=AM7,AJ159>AM9),0,AM8+(AM10-AM8)*(1-((AM5+EXP(AM6*(AM4-AM7)))/(AM5+EXP(AM6*(AM4-AJ159))))^AM5)/(1-((AM5+EXP(AM6*(AM4-AM7)))/(AM5+EXP(AM6*(AM4-AM9))))^AM5))","v":3.2160543684094725},{"$f":"IF(OR(AJ159<=AN7,AJ159>AN9),0,AN8+(AN10-AN8)*(1-((AN5+EXP(AN6*(AN4-AN7)))/(AN5+EXP(AN6*(AN4-AJ159))))^AN5)/(1-((AN5+EXP(AN6*(AN4-AN7)))/(AN5+EXP(AN6*(AN4-AN9))))^AN5))","v":0},{"$f":"IF(OR(AJ159<=AN9,AJ159>100000),0,IF(AJ159<=AO7,AO8,AO8+(AO10-AO8)*(1-((AO5+EXP(AO6*(AO4-AO7)))/(AO5+EXP(AO6*(AO4-AJ159))))^AO5)/(1-((AO5+EXP(AO6*(AO4-AO7)))/(AO5+EXP(AO6*(AO4-AO9))))^AO5)))","v":0},3.2160543684094725,2.4588746155839702]
[149,{"$f":"'daily uptake'!F243","v":"2011-03-29"},{"$f":"5/9*'daily uptake'!Q243","v":12.5},{"$f":"5/9*'daily uptake'!N243","v":5.2777777777777777},{"$f":"IF(AND($A160>='daily uptake'!$C$9,$A160<='daily uptake'!$C$10),$C160+E159,0)","v":1431.1111111111113},{"$f":"IF(AND($A160>='daily uptake'!$C$18,$A160<='daily uptake'!$C$20),$D160+F159,0)","v":0},{"$f":"IF(AND($A160>='daily uptake'!$C$24,$A160<='daily uptake'!$C$25),$C160+G159,0)","v":0},{"$f":"IF(OR(F160<=I7,F160>I9),0,I8+(I10-I8)*(1-((I5+EXP(I6*(I4-I7)))/(I5+EXP(I6*(I4-F160))))^I5)/(1-((I5+EXP(I6*(I4-I7)))/(I5+EXP(I6*(I4-I9))))^I5))","v":0},{"$f":"IF(OR(F160<=J7,F160>J9),0,J8+(J10-J8)*(1-((J5+EXP(J6*(J4-J7)))/(J5+EXP(J6*(J4-F160))))^J5)/(1-((J5+EXP(J6*(J4-J7)))/(J5+EXP(J6*(J4-J9))))^J5))","v":0},{"$f":"IF(OR(F160<=J9,F160>100000),0,IF(F160<=K7,K8,K8+(K10-K8)*(1-((K5+EXP(K6*(K4-K7)))/(K5+EXP(K6*(K4-F160))))^K5)/(1-((K5+EXP(K6*(K4-K7)))/(K5+EXP(K6*(K4-K9))))^K5)))","v":0},0,0,118.61076210602056,0,"2011-03-29",{"$f":"MAX(L$12:L160)+MAX(M$12:M160)+MAX(N$12:N160)","v":118.61076210602056},"2011-03-29",1.5938769287492676,null,null,null,null,null,null,null,null,null,null,null,null,null,null,null,null,null,236.38383838383837,null,{"$f":"IF(OR(AJ160<=AM7,AJ160>AM9),0,AM8+(AM10-AM8)*(1-((AM5+EXP(AM6*(AM4-AM7)))/(AM5+EXP(AM6*(AM4-AJ160))))^AM5)/(1-((AM5+EXP(AM6*(AM4-AM7)))/(AM5+EXP(AM6*(AM4-AM9))))^AM5))","v":4.2199609337895323},{"$f":"IF(OR(AJ160<=AN7,AJ160>AN9),0,AN8+(AN10-AN8)*(1-((AN5+EXP(AN6*(AN4-AN7)))/(AN5+EXP(AN6*(AN4-AJ160))))^AN5)/(1-((AN5+EXP(AN6*(AN4-AN7)))/(AN5+EXP(AN6*(AN4-AN9))))^AN5))","v":0},{"$f":"IF(OR(AJ160<=AN9,AJ160>100000),0,IF(AJ160<=AO7,AO8,AO8+(AO10-AO8)*(1-((AO5+EXP(AO6*(AO4-AO7)))/(AO5+EXP(AO6*(AO4-AJ160))))^AO5)/(1-((AO5+EXP(AO6*(AO4-AO7)))/(AO5+EXP(AO6*(AO4-AO9))))^AO5)))","v":0},4.2199609337895323,3.2264239438162319]
[150,{"$f":"'daily uptake'!F244","v":"2011-03-30"},{"$f":"5/9*'daily uptake'!Q244","v":13.055555555555555},{"$f":"5/9*'daily uptake'!N244","v":5.5555555555555554},{"$f":"IF(AND($A161>='daily uptake'!$C$9,$A161<='daily uptake'!$C$10),$C161+E160,0)","v":1444.166666666667},{"$f":"IF(AND($A161>='daily uptake'!$C$18,$A161<='daily uptake'!$C$20),$D161+F160,0)","v":0},{"$f":"IF(AND($A161>='daily uptake'!$C$24,$A161<='daily uptake'!$C$25),$C161+G160,0)","v":0},{"$f":"IF(OR(F161<=I7,F161>I9),0,I8+(I10-I8)*(1-((I5+EXP(I6*(I4-I7)))/(I5+EXP(I6*(I4-F161))))^I5)/(1-((I5+EXP(I6*(I4-I7)))/(I5+EXP(I6*(I4-I9))))^I5))","v":0},{"$f":"IF(OR(F161<=J7,F161>J9),0,J8+(J10-J8)*(1-((J5+EXP(J6*(J4-J7)))/(J5+EXP(J6*(J4-F161))))^J5)/(1-((J5+EXP(J6*(J4-J7)))/(J5+EXP(J6*(J4-J9))))^J5))","v":0},{"$f":"IF(OR(F161<=J9,F161>100000),0,IF(F161<=K7,K8,K8+(K10-K8)*(1-((K5+EXP(K6*(K4-K7)))/(K5+EXP(K6*(K4-F161))))^K5)/(1-((K5+EXP(K6*(K4-K7)))/(K5+EXP(K6*(K4-K9))))^K5)))","v":0},0,0,120.27429248938863,0,"2011-03-30",{"$f":"MAX(L$12:L161)+MAX(M$12:M161)+MAX(N$12:N161)","v":120.27429248938863},"2011-03-30",1.6635303833680695,null,null,null,null,null,null,null,null,null,null,null,null,null,null,null,null,null,246.3232323232323,null,{"$f":"IF(OR(AJ161<=AM7,AJ161>AM9),0,AM8+(AM10-AM8)*(1-((AM5+EXP(AM6*(AM4-AM7)))/(AM5+EXP(AM6*(AM4-AJ161))))^AM5)/(1-((AM5+EXP(AM6*(AM4-AM7)))/(AM5+EXP(AM6*(AM4-AM9))))^AM5))","v":5.3699450789388354},{"$f":"IF(OR(AJ161<=AN7,AJ161>AN9),0,AN8+(AN10-AN8)*(1-((AN5+EXP(AN6*(AN4-AN7)))/(AN5+EXP(AN6*(AN4-AJ161))))^AN5)/(1-((AN5+EXP(AN6*(AN4-AN7)))/(AN5+EXP(AN6*(AN4-AN9))))^AN5))","v":0},{"$f":"IF(OR(AJ161<=AN9,AJ161>100000),0,IF(AJ161<=AO7,AO8,AO8+(AO10-AO8)*(1-((AO5+EXP(AO6*(AO4-AO7)))/(AO5+EXP(AO6*(AO4-AJ161))))^AO5)/(1-((AO5+EXP(AO6*(AO4-AO7)))/(AO5+EXP(AO6*(AO4-AO9))))^AO5)))","v":0},5.3699450789388354,4.1056587137900058]
[151,{"$f":"'daily uptake'!F245","v":"2011-03-31"},{"$f":"5/9*'daily uptake'!Q245","v":12.777777777777779},{"$f":"5/9*'daily uptake'!N245","v":5.5555555555555554},{"$f":"IF(AND($A162>='daily uptake'!$C$9,$A162<='daily uptake'!$C$10),$C162+E161,0)","v":1456.9444444444448},{"$f":"IF(AND($A162>='daily uptake'!$C$18,$A162<='daily uptake'!$C$20),$D162+F161,0)","v":0},{"$f":"IF(AND($A162>='daily uptake'!$C$24,$A162<='daily uptake'!$C$25),$C162+G161,0)","v":0},{"$f":"IF(OR(F162<=I7,F162>I9),0,I8+(I10-I8)*(1-((I5+EXP(I6*(I4-I7)))/(I5+EXP(I6*(I4-F162))))^I5)/(1-((I5+EXP(I6*(I4-I7)))/(I5+EXP(I6*(I4-I9))))^I5))","v":0},{"$f":"IF(OR(F162<=J7,F162>J9),0,J8+(J10-J8)*(1-((J5+EXP(J6*(J4-J7)))/(J5+EXP(J6*(J4-F162))))^J5)/(1-((J5+EXP(J6*(J4-J7)))/(J5+EXP(J6*(J4-J9))))^J5))","v":0},{"$f":"IF(OR(F162<=J9,F162>100000),0,IF(F162<=K7,K8,K8+(K10-K8)*(1-((K5+EXP(K6*(K4-K7)))/(K5+EXP(K6*(K4-F162))))^K5)/(1-((K5+EXP(K6*(K4-K7)))/(K5+EXP(K6*(K4-K9))))^K5)))","v":0},0,0,121.90078171237282,0,"2011-03-31",{"$f":"MAX(L$12:L162)+MAX(M$12:M162)+MAX(N$12:N162)","v":121.90078171237282},"2011-03-31",1.6264892229841905,null,null,null,null,null,null,null,null,null,null,null,null,null,null,null,null,null,256.43434343434342,null,{"$f":"IF(OR(AJ162<=AM7,AJ162>AM9),0,AM8+(AM10-AM8)*(1-((AM5+EXP(AM6*(AM4-AM7)))/(AM5+EXP(AM6*(AM4-AJ162))))^AM5)/(1-((AM5+EXP(AM6*(AM4-AM7)))/(AM5+EXP(AM6*(AM4-AM9))))^AM5))","v":6.6484471381517274},{"$f":"IF(OR(AJ162<=AN7,AJ162>AN9),0,AN8+(AN10-AN8)*(1-((AN5+EXP(AN6*(AN4-AN7)))/(AN5+EXP(AN6*(AN4-AJ162))))^AN5)/(1-((AN5+EXP(AN6*(AN4-AN7)))/(AN5+EXP(AN6*(AN4-AN9))))^AN5))","v":0},{"$f":"IF(OR(AJ162<=AN9,AJ162>100000),0,IF(AJ162<=AO7,AO8,AO8+(AO10-AO8)*(1-((AO5+EXP(AO6*(AO4-AO7)))/(AO5+EXP(AO6*(AO4-AJ162))))^AO5)/(1-((AO5+EXP(AO6*(AO4-AO7)))/(AO5+EXP(AO6*(AO4-AO9))))^AO5)))","v":0},6.6484471381517274,5.0831534633346616]
[152,{"$f":"'daily uptake'!F246","v":"2011-04-01"},{"$f":"5/9*'daily uptake'!Q246","v":12.777777777777779},{"$f":"5/9*'daily uptake'!N246","v":5.2777777777777777},{"$f":"IF(AND($A163>='daily uptake'!$C$9,$A163<='daily uptake'!$C$10),$C163+E162,0)","v":1469.7222222222226},{"$f":"IF(AND($A163>='daily uptake'!$C$18,$A163<='daily uptake'!$C$20),$D163+F162,0)","v":0},{"$f":"IF(AND($A163>='daily uptake'!$C$24,$A163<='daily uptake'!$C$25),$C163+G162,0)","v":0},{"$f":"IF(OR(F163<=I7,F163>I9),0,I8+(I10-I8)*(1-((I5+EXP(I6*(I4-I7)))/(I5+EXP(I6*(I4-F163))))^I5)/(1-((I5+EXP(I6*(I4-I7)))/(I5+EXP(I6*(I4-I9))))^I5))","v":0},{"$f":"IF(OR(F163<=J7,F163>J9),0,J8+(J10-J8)*(1-((J5+EXP(J6*(J4-J7)))/(J5+EXP(J6*(J4-F163))))^J5)/(1-((J5+EXP(J6*(J4-J7)))/(J5+EXP(J6*(J4-J9))))^J5))","v":0},{"$f":"IF(OR(F163<=J9,F163>100000),0,IF(F163<=K7,K8,K8+(K10-K8)*(1-((K5+EXP(K6*(K4-K7)))/(K5+EXP(K6*(K4-F163))))^K5)/(1-((K5+EXP(K6*(K4-K7)))/(K5+EXP(K6*(K4-K9))))^K5)))","v":0},0,0,123.5251731308134,0,"2011-04-01",{"$f":"MAX(L$12:L163)+MAX(M$12:M163)+MAX(N$12:N163)","v":123.5251731308134},"2011-04-01",1.624391418440581,null,null,null,null,null,null,null,null,null,null,null,null,null,null,null,null,null,266.56565656565652,null,{"$f":"IF(OR(AJ163<=AM7,AJ163>AM9),0,AM8+(AM10-AM8)*(1-((AM5+EXP(AM6*(AM4-AM7)))/(AM5+EXP(AM6*(AM4-AJ163))))^AM5)/(1-((AM5+EXP(AM6*(AM4-AM7)))/(AM5+EXP(AM6*(AM4-AM9))))^AM5))","v":8.0272369651278535},{"$f":"IF(OR(AJ163<=AN7,AJ163>AN9),0,AN8+(AN10-AN8)*(1-((AN5+EXP(AN6*(AN4-AN7)))/(AN5+EXP(AN6*(AN4-AJ163))))^AN5)/(1-((AN5+EXP(AN6*(AN4-AN7)))/(AN5+EXP(AN6*(AN4-AN9))))^AN5))","v":0},{"$f":"IF(OR(AJ163<=AN9,AJ163>100000),0,IF(AJ163<=AO7,AO8,AO8+(AO10-AO8)*(1-((AO5+EXP(AO6*(AO4-AO7)))/(AO5+EXP(AO6*(AO4-AJ163))))^AO5)/(1-((AO5+EXP(AO6*(AO4-AO7)))/(AO5+EXP(AO6*(AO4-AO9))))^AO5)))","v":0},8.0272369651278535,6.1373244808021612]
[153,{"$f":"'daily uptake'!F247","v":"2011-04-02"},{"$f":"5/9*'daily uptake'!Q247","v":12.777777777777779},{"$f":"5/9*'daily uptake'!N247","v":5.2777777777777777},{"$f":"IF(AND($A164>='daily uptake'!$C$9,$A164<='daily uptake'!$C$10),$C164+E163,0)","v":1482.5000000000005},{"$f":"IF(AND($A164>='daily uptake'!$C$18,$A164<='daily uptake'!$C$20),$D164+F163,0)","v":0},{"$f":"IF(AND($A164>='daily uptake'!$C$24,$A164<='daily uptake'!$C$25),$C164+G163,0)","v":0},{"$f":"IF(OR(F164<=I7,F164>I9),0,I8+(I10-I8)*(1-((I5+EXP(I6*(I4-I7)))/(I5+EXP(I6*(I4-F164))))^I5)/(1-((I5+EXP(I6*(I4-I7)))/(I5+EXP(I6*(I4-I9))))^I5))","v":0},{"$f":"IF(OR(F164<=J7,F164>J9),0,J8+(J10-J8)*(1-((J5+EXP(J6*(J4-J7)))/(J5+EXP(J6*(J4-F164))))^J5)/(1-((J5+EXP(J6*(J4-J7)))/(J5+EXP(J6*(J4-J9))))^J5))","v":0},{"$f":"IF(OR(F164<=J9,F164>100000),0,IF(F164<=K7,K8,K8+(K10-K8)*(1-((K5+EXP(K6*(K4-K7)))/(K5+EXP(K6*(K4-F164))))^K5)/(1-((K5+EXP(K6*(K4-K7)))/(K5+EXP(K6*(K4-K9))))^K5)))","v":0},0,0,125.14700569999324,0,"2011-04-02",{"$f":"MAX(L$12:L164)+MAX(M$12:M164)+MAX(N$12:N164)","v":125.14700569999324},"2011-04-02",1.6218325691798441,null,null,null,null,null,null,null,null,null,null,null,null,null,null,null,null,null,276.69191919191917,null,{"$f":"IF(OR(AJ164<=AM7,AJ164>AM9),0,AM8+(AM10-AM8)*(1-((AM5+EXP(AM6*(AM4-AM7)))/(AM5+EXP(AM6*(AM4-AJ164))))^AM5)/(1-((AM5+EXP(AM6*(AM4-AM7)))/(AM5+EXP(AM6*(AM4-AM9))))^AM5))","v":9.4892343547300939},{"$f":"IF(OR(AJ164<=AN7,AJ164>AN9),0,AN8+(AN10-AN8)*(1-((AN5+EXP(AN6*(AN4-AN7)))/(AN5+EXP(AN6*(AN4-AJ164))))^AN5)/(1-((AN5+EXP(AN6*(AN4-AN7)))/(AN5+EXP(AN6*(AN4-AN9))))^AN5))","v":0},{"$f":"IF(OR(AJ164<=AN9,AJ164>100000),0,IF(AJ164<=AO7,AO8,AO8+(AO10-AO8)*(1-((AO5+EXP(AO6*(AO4-AO7)))/(AO5+EXP(AO6*(AO4-AJ164))))^AO5)/(1-((AO5+EXP(AO6*(AO4-AO7)))/(AO5+EXP(AO6*(AO4-AO9))))^AO5)))","v":0},9.4892343547300939,7.2551128815998913]
[154,{"$f":"'daily uptake'!F248","v":"2011-04-03"},{"$f":"5/9*'daily uptake'!Q248","v":13.055555555555555},{"$f":"5/9*'daily uptake'!N248","v":5.5555555555555554},{"$f":"IF(AND($A165>='daily uptake'!$C$9,$A165<='daily uptake'!$C$10),$C165+E164,0)","v":1495.5555555555561},{"$f":"IF(AND($A165>='daily uptake'!$C$18,$A165<='daily uptake'!$C$20),$D165+F164,0)","v":0},{"$f":"IF(AND($A165>='daily uptake'!$C$24,$A165<='daily uptake'!$C$25),$C165+G164,0)","v":0},{"$f":"IF(OR(F165<=I7,F165>I9),0,I8+(I10-I8)*(1-((I5+EXP(I6*(I4-I7)))/(I5+EXP(I6*(I4-F165))))^I5)/(1-((I5+EXP(I6*(I4-I7)))/(I5+EXP(I6*(I4-I9))))^I5))","v":0},{"$f":"IF(OR(F165<=J7,F165>J9),0,J8+(J10-J8)*(1-((J5+EXP(J6*(J4-J7)))/(J5+EXP(J6*(J4-F165))))^J5)/(1-((J5+EXP(J6*(J4-J7)))/(J5+EXP(J6*(J4-J9))))^J5))","v":0},{"$f":"IF(OR(F165<=J9,F165>100000),0,IF(F165<=K7,K8,K8+(K10-K8)*(1-((K5+EXP(K6*(K4-K7)))/(K5+EXP(K6*(K4-F165))))^K5)/(1-((K5+EXP(K6*(K4-K7)))/(K5+EXP(K6*(K4-K9))))^K5)))","v":0},0,0,126.8009778807222,0,"2011-04-03",{"$f":"MAX(L$12:L165)+MAX(M$12:M165)+MAX(N$12:N165)","v":126.8009778807222},"2011-04-03",1.6539721807289567,null,null,null,null,null,null,null,null,null,null,null,null,null,null,null,null,null,286.96464646464642,null,{"$f":"IF(OR(AJ165<=AM7,AJ165>AM9),0,AM8+(AM10-AM8)*(1-((AM5+EXP(AM6*(AM4-AM7)))/(AM5+EXP(AM6*(AM4-AJ165))))^AM5)/(1-((AM5+EXP(AM6*(AM4-AM7)))/(AM5+EXP(AM6*(AM4-AM9))))^AM5))","v":11.043467911401887},{"$f":"IF(OR(AJ165<=AN7,AJ165>AN9),0,AN8+(AN10-AN8)*(1-((AN5+EXP(AN6*(AN4-AN7)))/(AN5+EXP(AN6*(AN4-AJ165))))^AN5)/(1-((AN5+EXP(AN6*(AN4-AN7)))/(AN5+EXP(AN6*(AN4-AN9))))^AN5))","v":0},{"$f":"IF(OR(AJ165<=AN9,AJ165>100000),0,IF(AJ165<=AO7,AO8,AO8+(AO10-AO8)*(1-((AO5+EXP(AO6*(AO4-AO7)))/(AO5+EXP(AO6*(AO4-AJ165))))^AO5)/(1-((AO5+EXP(AO6*(AO4-AO7)))/(AO5+EXP(AO6*(AO4-AO9))))^AO5)))","v":0},11.043467911401887,8.4434215982460898]
[155,{"$f":"'daily uptake'!F249","v":"2011-04-04"},{"$f":"5/9*'daily uptake'!Q249","v":12.777777777777779},{"$f":"5/9*'daily uptake'!N249","v":5.2777777777777777},{"$f":"IF(AND($A166>='daily uptake'!$C$9,$A166<='daily uptake'!$C$10),$C166+E165,0)","v":1508.3333333333339},{"$f":"IF(AND($A166>='daily uptake'!$C$18,$A166<='daily uptake'!$C$20),$D166+F165,0)","v":0},{"$f":"IF(AND($A166>='daily uptake'!$C$24,$A166<='daily uptake'!$C$25),$C166+G165,0)","v":0},{"$f":"IF(OR(F166<=I7,F166>I9),0,I8+(I10-I8)*(1-((I5+EXP(I6*(I4-I7)))/(I5+EXP(I6*(I4-F166))))^I5)/(1-((I5+EXP(I6*(I4-I7)))/(I5+EXP(I6*(I4-I9))))^I5))","v":0},{"$f":"IF(OR(F166<=J7,F166>J9),0,J8+(J10-J8)*(1-((J5+EXP(J6*(J4-J7)))/(J5+EXP(J6*(J4-F166))))^J5)/(1-((J5+EXP(J6*(J4-J7)))/(J5+EXP(J6*(J4-J9))))^J5))","v":0},{"$f":"IF(OR(F166<=J9,F166>100000),0,IF(F166<=K7,K8,K8+(K10-K8)*(1-((K5+EXP(K6*(K4-K7)))/(K5+EXP(K6*(K4-F166))))^K5)/(1-((K5+EXP(K6*(K4-K7)))/(K5+EXP(K6*(K4-K9))))^K5)))","v":0},0,0,128.41624858157724,0,"2011-04-04",{"$f":"MAX(L$12:L166)+MAX(M$12:M166)+MAX(N$12:N166)","v":128.41624858157724},"2011-04-04",1.6152707008550351,null,null,null,null,null,null,null,null,null,null,null,null,null,null,null,null,null,297.37878787878782,null,{"$f":"IF(OR(AJ166<=AM7,AJ166>AM9),0,AM8+(AM10-AM8)*(1-((AM5+EXP(AM6*(AM4-AM7)))/(AM5+EXP(AM6*(AM4-AJ166))))^AM5)/(1-((AM5+EXP(AM6*(AM4-AM7)))/(AM5+EXP(AM6*(AM4-AM9))))^AM5))","v":12.677699222918204},{"$f":"IF(OR(AJ166<=AN7,AJ166>AN9),0,AN8+(AN10-AN8)*(1-((AN5+EXP(AN6*(AN4-AN7)))/(AN5+EXP(AN6*(AN4-AJ166))))^AN5)/(1-((AN5+EXP(AN6*(AN4-AN7)))/(AN5+EXP(AN6*(AN4-AN9))))^AN5))","v":0},{"$f":"IF(OR(AJ166<=AN9,AJ166>100000),0,IF(AJ166<=AO7,AO8,AO8+(AO10-AO8)*(1-((AO5+EXP(AO6*(AO4-AO7)))/(AO5+EXP(AO6*(AO4-AJ166))))^AO5)/(1-((AO5+EXP(AO6*(AO4-AO7)))/(AO5+EXP(AO6*(AO4-AO9))))^AO5)))","v":0},12.677699222918204,9.6928935995130612]
[156,{"$f":"'daily uptake'!F250","v":"2011-04-05"},{"$f":"5/9*'daily uptake'!Q250","v":13.055555555555555},{"$f":"5/9*'daily uptake'!N250","v":5.5555555555555554},{"$f":"IF(AND($A167>='daily uptake'!$C$9,$A167<='daily uptake'!$C$10),$C167+E166,0)","v":1521.3888888888896},{"$f":"IF(AND($A167>='daily uptake'!$C$18,$A167<='daily uptake'!$C$20),$D167+F166,0)","v":0},{"$f":"IF(AND($A167>='daily uptake'!$C$24,$A167<='daily uptake'!$C$25),$C167+G166,0)","v":0},{"$f":"IF(OR(F167<=I7,F167>I9),0,I8+(I10-I8)*(1-((I5+EXP(I6*(I4-I7)))/(I5+EXP(I6*(I4-F167))))^I5)/(1-((I5+EXP(I6*(I4-I7)))/(I5+EXP(I6*(I4-I9))))^I5))","v":0},{"$f":"IF(OR(F167<=J7,F167>J9),0,J8+(J10-J8)*(1-((J5+EXP(J6*(J4-J7)))/(J5+EXP(J6*(J4-F167))))^J5)/(1-((J5+EXP(J6*(J4-J7)))/(J5+EXP(J6*(J4-J9))))^J5))","v":0},{"$f":"IF(OR(F167<=J9,F167>100000),0,IF(F167<=K7,K8,K8+(K10-K8)*(1-((K5+EXP(K6*(K4-K7)))/(K5+EXP(K6*(K4-F167))))^K5)/(1-((K5+EXP(K6*(K4-K7)))/(K5+EXP(K6*(K4-K9))))^K5)))","v":0},0,0,130.0625803370786,0,"2011-04-05",{"$f":"MAX(L$12:L167)+MAX(M$12:M167)+MAX(N$12:N167)","v":130.0625803370786},"2011-04-05",1.6463317555013646,null,null,null,null,null,null,null,null,null,null,null,null,null,null,null,null,null,307.73737373737367,null,{"$f":"IF(OR(AJ167<=AM7,AJ167>AM9),0,AM8+(AM10-AM8)*(1-((AM5+EXP(AM6*(AM4-AM7)))/(AM5+EXP(AM6*(AM4-AJ167))))^AM5)/(1-((AM5+EXP(AM6*(AM4-AM7)))/(AM5+EXP(AM6*(AM4-AM9))))^AM5))","v":14.348567072459122},{"$f":"IF(OR(AJ167<=AN7,AJ167>AN9),0,AN8+(AN10-AN8)*(1-((AN5+EXP(AN6*(AN4-AN7)))/(AN5+EXP(AN6*(AN4-AJ167))))^AN5)/(1-((AN5+EXP(AN6*(AN4-AN7)))/(AN5+EXP(AN6*(AN4-AN9))))^AN5))","v":0},{"$f":"IF(OR(AJ167<=AN9,AJ167>100000),0,IF(AJ167<=AO7,AO8,AO8+(AO10-AO8)*(1-((AO5+EXP(AO6*(AO4-AO7)))/(AO5+EXP(AO6*(AO4-AJ167))))^AO5)/(1-((AO5+EXP(AO6*(AO4-AO7)))/(AO5+EXP(AO6*(AO4-AO9))))^AO5)))","v":0},14.348567072459122,10.970376524424998]
[157,{"$f":"'daily uptake'!F251","v":"2011-04-06"},{"$f":"5/9*'daily uptake'!Q251","v":13.055555555555555},{"$f":"5/9*'daily uptake'!N251","v":5.5555555555555554},{"$f":"IF(AND($A168>='daily uptake'!$C$9,$A168<='daily uptake'!$C$10),$C168+E167,0)","v":1534.4444444444453},{"$f":"IF(AND($A168>='daily uptake'!$C$18,$A168<='daily uptake'!$C$20),$D168+F167,0)","v":0},{"$f":"IF(AND($A168>='daily uptake'!$C$24,$A168<='daily uptake'!$C$25),$C168+G167,0)","v":0},{"$f":"IF(OR(F168<=I7,F168>I9),0,I8+(I10-I8)*(1-((I5+EXP(I6*(I4-I7)))/(I5+EXP(I6*(I4-F168))))^I5)/(1-((I5+EXP(I6*(I4-I7)))/(I5+EXP(I6*(I4-I9))))^I5))","v":0},{"$f":"IF(OR(F168<=J7,F168>J9),0,J8+(J10-J8)*(1-((J5+EXP(J6*(J4-J7)))/(J5+EXP(J6*(J4-F168))))^J5)/(1-((J5+EXP(J6*(J4-J7)))/(J5+EXP(J6*(J4-J9))))^J5))","v":0},{"$f":"IF(OR(F168<=J9,F168>100000),0,IF(F168<=K7,K8,K8+(K10-K8)*(1-((K5+EXP(K6*(K4-K7)))/(K5+EXP(K6*(K4-F168))))^K5)/(1-((K5+EXP(K6*(K4-K7)))/(K5+EXP(K6*(K4-K9))))^K5)))","v":0},0,0,131.70434997731655,0,"2011-04-06",{"$f":"MAX(L$12:L168)+MAX(M$12:M168)+MAX(N$12:N168)","v":131.70434997731655},"2011-04-06",1.6417696402379534,null,null,null,null,null,null,null,null,null,null,null,null,null,null,null,null,null,318.15151515151507,null,{"$f":"IF(OR(AJ168<=AM7,AJ168>AM9),0,AM8+(AM10-AM8)*(1-((AM5+EXP(AM6*(AM4-AM7)))/(AM5+EXP(AM6*(AM4-AJ168))))^AM5)/(1-((AM5+EXP(AM6*(AM4-AM7)))/(AM5+EXP(AM6*(AM4-AM9))))^AM5))","v":16.062473734503804},{"$f":"IF(OR(AJ168<=AN7,AJ168>AN9),0,AN8+(AN10-AN8)*(1-((AN5+EXP(AN6*(AN4-AN7)))/(AN5+EXP(AN6*(AN4-AJ168))))^AN5)/(1-((AN5+EXP(AN6*(AN4-AN7)))/(AN5+EXP(AN6*(AN4-AN9))))^AN5))","v":0},{"$f":"IF(OR(AJ168<=AN9,AJ168>100000),0,IF(AJ168<=AO7,AO8,AO8+(AO10-AO8)*(1-((AO5+EXP(AO6*(AO4-AO7)))/(AO5+EXP(AO6*(AO4-AJ168))))^AO5)/(1-((AO5+EXP(AO6*(AO4-AO7)))/(AO5+EXP(AO6*(AO4-AO9))))^AO5)))","v":0},16.062473734503804,12.280765312058005]
[158,{"$f":"'daily uptake'!F252","v":"2011-04-07"},{"$f":"5/9*'daily uptake'!Q252","v":13.333333333333334},{"$f":"5/9*'daily uptake'!N252","v":5.5555555555555554},{"$f":"IF(AND($A169>='daily uptake'!$C$9,$A169<='daily uptake'!$C$10),$C169+E168,0)","v":1547.7777777777785},{"$f":"IF(AND($A169>='daily uptake'!$C$18,$A169<='daily uptake'!$C$20),$D169+F168,0)","v":0},{"$f":"IF(AND($A169>='daily uptake'!$C$24,$A169<='daily uptake'!$C$25),$C169+G168,0)","v":0},{"$f":"IF(OR(F169<=I7,F169>I9),0,I8+(I10-I8)*(1-((I5+EXP(I6*(I4-I7)))/(I5+EXP(I6*(I4-F169))))^I5)/(1-((I5+EXP(I6*(I4-I7)))/(I5+EXP(I6*(I4-I9))))^I5))","v":0},{"$f":"IF(OR(F169<=J7,F169>J9),0,J8+(J10-J8)*(1-((J5+EXP(J6*(J4-J7)))/(J5+EXP(J6*(J4-F169))))^J5)/(1-((J5+EXP(J6*(J4-J7)))/(J5+EXP(J6*(J4-J9))))^J5))","v":0},{"$f":"IF(OR(F169<=J9,F169>100000),0,IF(F169<=K7,K8,K8+(K10-K8)*(1-((K5+EXP(K6*(K4-K7)))/(K5+EXP(K6*(K4-F169))))^K5)/(1-((K5+EXP(K6*(K4-K7)))/(K5+EXP(K6*(K4-K9))))^K5)))","v":0},0,0,133.37586284601966,0,"2011-04-07",{"$f":"MAX(L$12:L169)+MAX(M$12:M169)+MAX(N$12:N169)","v":133.37586284601966},"2011-04-07",1.671512868703104,null,null,null,null,null,null,null,null,null,null,null,null,null,null,null,null,null,328.50505050505041,null,{"$f":"IF(OR(AJ169<=AM7,AJ169>AM9),0,AM8+(AM10-AM8)*(1-((AM5+EXP(AM6*(AM4-AM7)))/(AM5+EXP(AM6*(AM4-AJ169))))^AM5)/(1-((AM5+EXP(AM6*(AM4-AM7)))/(AM5+EXP(AM6*(AM4-AM9))))^AM5))","v":17.790711293895651},{"$f":"IF(OR(AJ169<=AN7,AJ169>AN9),0,AN8+(AN10-AN8)*(1-((AN5+EXP(AN6*(AN4-AN7)))/(AN5+EXP(AN6*(AN4-AJ169))))^AN5)/(1-((AN5+EXP(AN6*(AN4-AN7)))/(AN5+EXP(AN6*(AN4-AN9))))^AN5))","v":0},{"$f":"IF(OR(AJ169<=AN9,AJ169>100000),0,IF(AJ169<=AO7,AO8,AO8+(AO10-AO8)*(1-((AO5+EXP(AO6*(AO4-AO7)))/(AO5+EXP(AO6*(AO4-AJ169))))^AO5)/(1-((AO5+EXP(AO6*(AO4-AO7)))/(AO5+EXP(AO6*(AO4-AO9))))^AO5)))","v":0},17.790711293895651,13.602110966605832]
[159,{"$f":"'daily uptake'!F253","v":"2011-04-08"},{"$f":"5/9*'daily uptake'!Q253","v":12.777777777777779},{"$f":"5/9*'daily uptake'!N253","v":5},{"$f":"IF(AND($A170>='daily uptake'!$C$9,$A170<='daily uptake'!$C$10),$C170+E169,0)","v":1560.5555555555563},{"$f":"IF(AND($A170>='daily uptake'!$C$18,$A170<='daily uptake'!$C$20),$D170+F169,0)","v":0},{"$f":"IF(AND($A170>='daily uptake'!$C$24,$A170<='daily uptake'!$C$25),$C170+G169,0)","v":0},{"$f":"IF(OR(F170<=I7,F170>I9),0,I8+(I10-I8)*(1-((I5+EXP(I6*(I4-I7)))/(I5+EXP(I6*(I4-F170))))^I5)/(1-((I5+EXP(I6*(I4-I7)))/(I5+EXP(I6*(I4-I9))))^I5))","v":0},{"$f":"IF(OR(F170<=J7,F170>J9),0,J8+(J10-J8)*(1-((J5+EXP(J6*(J4-J7)))/(J5+EXP(J6*(J4-F170))))^J5)/(1-((J5+EXP(J6*(J4-J7)))/(J5+EXP(J6*(J4-J9))))^J5))","v":0},{"$f":"IF(OR(F170<=J9,F170>100000),0,IF(F170<=K7,K8,K8+(K10-K8)*(1-((K5+EXP(K6*(K4-K7)))/(K5+EXP(K6*(K4-F170))))^K5)/(1-((K5+EXP(K6*(K4-K7)))/(K5+EXP(K6*(K4-K9))))^K5)))","v":0},0,0,134.97236606462934,0,"2011-04-08",{"$f":"MAX(L$12:L170)+MAX(M$12:M170)+MAX(N$12:N170)","v":134.97236606462934},"2011-04-08",1.5965032186096835,null,null,null,null,null,null,null,null,null,null,null,null,null,null,null,null,null,338.8181818181817,null,{"$f":"IF(OR(AJ170<=AM7,AJ170>AM9),0,AM8+(AM10-AM8)*(1-((AM5+EXP(AM6*(AM4-AM7)))/(AM5+EXP(AM6*(AM4-AJ170))))^AM5)/(1-((AM5+EXP(AM6*(AM4-AM7)))/(AM5+EXP(AM6*(AM4-AM9))))^AM5))","v":19.528570670949463},{"$f":"IF(OR(AJ170<=AN7,AJ170>AN9),0,AN8+(AN10-AN8)*(1-((AN5+EXP(AN6*(AN4-AN7)))/(AN5+EXP(AN6*(AN4-AJ170))))^AN5)/(1-((AN5+EXP(AN6*(AN4-AN7)))/(AN5+EXP(AN6*(AN4-AN9))))^AN5))","v":0},{"$f":"IF(OR(AJ170<=AN9,AJ170>100000),0,IF(AJ170<=AO7,AO8,AO8+(AO10-AO8)*(1-((AO5+EXP(AO6*(AO4-AO7)))/(AO5+EXP(AO6*(AO4-AJ170))))^AO5)/(1-((AO5+EXP(AO6*(AO4-AO7)))/(AO5+EXP(AO6*(AO4-AO9))))^AO5)))","v":0},19.528570670949463,14.930813102262052]
[160,{"$f":"'daily uptake'!F254","v":"2011-04-09"},{"$f":"5/9*'daily uptake'!Q254","v":13.055555555555555},{"$f":"5/9*'daily uptake'!N254","v":5},{"$f":"IF(AND($A171>='daily uptake'!$C$9,$A171<='daily uptake'!$C$10),$C171+E170,0)","v":1573.611111111112},{"$f":"IF(AND($A171>='daily uptake'!$C$18,$A171<='daily uptake'!$C$20),$D171+F170,0)","v":0},{"$f":"IF(AND($A171>='daily uptake'!$C$24,$A171<='daily uptake'!$C$25),$C171+G170,0)","v":0},{"$f":"IF(OR(F171<=I7,F171>I9),0,I8+(I10-I8)*(1-((I5+EXP(I6*(I4-I7)))/(I5+EXP(I6*(I4-F171))))^I5)/(1-((I5+EXP(I6*(I4-I7)))/(I5+EXP(I6*(I4-I9))))^I5))","v":0},{"$f":"IF(OR(F171<=J7,F171>J9),0,J8+(J10-J8)*(1-((J5+EXP(J6*(J4-J7)))/(J5+EXP(J6*(J4-F171))))^J5)/(1-((J5+EXP(J6*(J4-J7)))/(J5+EXP(J6*(J4-J9))))^J5))","v":0},{"$f":"IF(OR(F171<=J9,F171>100000),0,IF(F171<=K7,K8,K8+(K10-K8)*(1-((K5+EXP(K6*(K4-K7)))/(K5+EXP(K6*(K4-F171))))^K5)/(1-((K5+EXP(K6*(K4-K7)))/(K5+EXP(K6*(K4-K9))))^K5)))","v":0},0,0,136.59771381107225,0,"2011-04-09",{"$f":"MAX(L$12:L171)+MAX(M$12:M171)+MAX(N$12:N171)","v":136.59771381107225},"2011-04-09",1.6253477464429125,null,null,null,null,null,null,null,null,null,null,null,null,null,null,null,null,null,349.18686868686859,null,{"$f":"IF(OR(AJ171<=AM7,AJ171>AM9),0,AM8+(AM10-AM8)*(1-((AM5+EXP(AM6*(AM4-AM7)))/(AM5+EXP(AM6*(AM4-AJ171))))^AM5)/(1-((AM5+EXP(AM6*(AM4-AM7)))/(AM5+EXP(AM6*(AM4-AM9))))^AM5))","v":21.286050409117671},{"$f":"IF(OR(AJ171<=AN7,AJ171>AN9),0,AN8+(AN10-AN8)*(1-((AN5+EXP(AN6*(AN4-AN7)))/(AN5+EXP(AN6*(AN4-AJ171))))^AN5)/(1-((AN5+EXP(AN6*(AN4-AN7)))/(AN5+EXP(AN6*(AN4-AN9))))^AN5))","v":0},{"$f":"IF(OR(AJ171<=AN9,AJ171>100000),0,IF(AJ171<=AO7,AO8,AO8+(AO10-AO8)*(1-((AO5+EXP(AO6*(AO4-AO7)))/(AO5+EXP(AO6*(AO4-AJ171))))^AO5)/(1-((AO5+EXP(AO6*(AO4-AO7)))/(AO5+EXP(AO6*(AO4-AO9))))^AO5)))","v":0},21.286050409117671,16.274516230552813]
[161,{"$f":"'daily uptake'!F255","v":"2011-04-10"},{"$f":"5/9*'daily uptake'!Q255","v":13.611111111111112},{"$f":"5/9*'daily uptake'!N255","v":5.5555555555555554},{"$f":"IF(AND($A172>='daily uptake'!$C$9,$A172<='daily uptake'!$C$10),$C172+E171,0)","v":1587.2222222222231},{"$f":"IF(AND($A172>='daily uptake'!$C$18,$A172<='daily uptake'!$C$20),$D172+F171,0)","v":0},{"$f":"IF(AND($A172>='daily uptake'!$C$24,$A172<='daily uptake'!$C$25),$C172+G171,0)","v":0},{"$f":"IF(OR(F172<=I7,F172>I9),0,I8+(I10-I8)*(1-((I5+EXP(I6*(I4-I7)))/(I5+EXP(I6*(I4-F172))))^I5)/(1-((I5+EXP(I6*(I4-I7)))/(I5+EXP(I6*(I4-I9))))^I5))","v":0},{"$f":"IF(OR(F172<=J7,F172>J9),0,J8+(J10-J8)*(1-((J5+EXP(J6*(J4-J7)))/(J5+EXP(J6*(J4-F172))))^J5)/(1-((J5+EXP(J6*(J4-J7)))/(J5+EXP(J6*(J4-J9))))^J5))","v":0},{"$f":"IF(OR(F172<=J9,F172>100000),0,IF(F172<=K7,K8,K8+(K10-K8)*(1-((K5+EXP(K6*(K4-K7)))/(K5+EXP(K6*(K4-F172))))^K5)/(1-((K5+EXP(K6*(K4-K7)))/(K5+EXP(K6*(K4-K9))))^K5)))","v":0},0,0,138.28544855448439,0,"2011-04-10",{"$f":"MAX(L$12:L172)+MAX(M$12:M172)+MAX(N$12:N172)","v":138.28544855448439},"2011-04-10",1.6877347434121361,null,null,null,null,null,null,null,null,null,null,null,null,null,null,null,null,null,359.24242424242414,null,{"$f":"IF(OR(AJ172<=AM7,AJ172>AM9),0,AM8+(AM10-AM8)*(1-((AM5+EXP(AM6*(AM4-AM7)))/(AM5+EXP(AM6*(AM4-AJ172))))^AM5)/(1-((AM5+EXP(AM6*(AM4-AM7)))/(AM5+EXP(AM6*(AM4-AM9))))^AM5))","v":22.995635141414176},{"$f":"IF(OR(AJ172<=AN7,AJ172>AN9),0,AN8+(AN10-AN8)*(1-((AN5+EXP(AN6*(AN4-AN7)))/(AN5+EXP(AN6*(AN4-AJ172))))^AN5)/(1-((AN5+EXP(AN6*(AN4-AN7)))/(AN5+EXP(AN6*(AN4-AN9))))^AN5))","v":0},{"$f":"IF(OR(AJ172<=AN9,AJ172>100000),0,IF(AJ172<=AO7,AO8,AO8+(AO10-AO8)*(1-((AO5+EXP(AO6*(AO4-AO7)))/(AO5+EXP(AO6*(AO4-AJ172))))^AO5)/(1-((AO5+EXP(AO6*(AO4-AO7)))/(AO5+EXP(AO6*(AO4-AO9))))^AO5)))","v":0},22.995635141414176,17.581600632708845]
[162,{"$f":"'daily uptake'!F256","v":"2011-04-11"},{"$f":"5/9*'daily uptake'!Q256","v":13.888888888888889},{"$f":"5/9*'daily uptake'!N256","v":5.5555555555555554},{"$f":"IF(AND($A173>='daily uptake'!$C$9,$A173<='daily uptake'!$C$10),$C173+E172,0)","v":1601.111111111112},{"$f":"IF(AND($A173>='daily uptake'!$C$18,$A173<='daily uptake'!$C$20),$D173+F172,0)","v":0},{"$f":"IF(AND($A173>='daily uptake'!$C$24,$A173<='daily uptake'!$C$25),$C173+G172,0)","v":0},{"$f":"IF(OR(F173<=I7,F173>I9),0,I8+(I10-I8)*(1-((I5+EXP(I6*(I4-I7)))/(I5+EXP(I6*(I4-F173))))^I5)/(1-((I5+EXP(I6*(I4-I7)))/(I5+EXP(I6*(I4-I9))))^I5))","v":0},{"$f":"IF(OR(F173<=J7,F173>J9),0,J8+(J10-J8)*(1-((J5+EXP(J6*(J4-J7)))/(J5+EXP(J6*(J4-F173))))^J5)/(1-((J5+EXP(J6*(J4-J7)))/(J5+EXP(J6*(J4-J9))))^J5))","v":0},{"$f":"IF(OR(F173<=J9,F173>100000),0,IF(F173<=K7,K8,K8+(K10-K8)*(1-((K5+EXP(K6*(K4-K7)))/(K5+EXP(K6*(K4-F173))))^K5)/(1-((K5+EXP(K6*(K4-K7)))/(K5+EXP(K6*(K4-K9))))^K5)))","v":0},0,0,140,0,"2011-04-11",{"$f":"MAX(L$12:L173)+MAX(M$12:M173)+MAX(N$12:N173)","v":140},"2011-04-11",1.7145514455156103,null,null,null,null,null,null,null,null,null,null,null,null,null,null,null,null,null,369.4191919191918,null,{"$f":"IF(OR(AJ173<=AM7,AJ173>AM9),0,AM8+(AM10-AM8)*(1-((AM5+EXP(AM6*(AM4-AM7)))/(AM5+EXP(AM6*(AM4-AJ173))))^AM5)/(1-((AM5+EXP(AM6*(AM4-AM7)))/(AM5+EXP(AM6*(AM4-AM9))))^AM5))","v":24.727405154622961},{"$f":"IF(OR(AJ173<=AN7,AJ173>AN9),0,AN8+(AN10-AN8)*(1-((AN5+EXP(AN6*(AN4-AN7)))/(AN5+EXP(AN6*(AN4-AJ173))))^AN5)/(1-((AN5+EXP(AN6*(AN4-AN7)))/(AN5+EXP(AN6*(AN4-AN9))))^AN5))","v":0},{"$f":"IF(OR(AJ173<=AN9,AJ173>100000),0,IF(AJ173<=AO7,AO8,AO8+(AO10-AO8)*(1-((AO5+EXP(AO6*(AO4-AO7)))/(AO5+EXP(AO6*(AO4-AJ173))))^AO5)/(1-((AO5+EXP(AO6*(AO4-AO7)))/(AO5+EXP(AO6*(AO4-AO9))))^AO5)))","v":0},24.727405154622961,18.905647069030294]
[163,{"$f":"'daily uptake'!F257","v":"2011-04-12"},{"$f":"5/9*'daily uptake'!Q257","v":14.722222222222223},{"$f":"5/9*'daily uptake'!N257","v":6.3888888888888893},{"$f":"IF(AND($A174>='daily uptake'!$C$9,$A174<='daily uptake'!$C$10),$C174+E173,0)","v":0},{"$f":"IF(AND($A174>='daily uptake'!$C$18,$A174<='daily uptake'!$C$20),$D174+F173,0)","v":0},{"$f":"IF(AND($A174>='daily uptake'!$C$24,$A174<='daily uptake'!$C$25),$C174+G173,0)","v":0},{"$f":"IF(OR(F174<=I7,F174>I9),0,I8+(I10-I8)*(1-((I5+EXP(I6*(I4-I7)))/(I5+EXP(I6*(I4-F174))))^I5)/(1-((I5+EXP(I6*(I4-I7)))/(I5+EXP(I6*(I4-I9))))^I5))","v":0},{"$f":"IF(OR(F174<=J7,F174>J9),0,J8+(J10-J8)*(1-((J5+EXP(J6*(J4-J7)))/(J5+EXP(J6*(J4-F174))))^J5)/(1-((J5+EXP(J6*(J4-J7)))/(J5+EXP(J6*(J4-J9))))^J5))","v":0},{"$f":"IF(OR(F174<=J9,F174>100000),0,IF(F174<=K7,K8,K8+(K10-K8)*(1-((K5+EXP(K6*(K4-K7)))/(K5+EXP(K6*(K4-F174))))^K5)/(1-((K5+EXP(K6*(K4-K7)))/(K5+EXP(K6*(K4-K9))))^K5)))","v":0},0,0,0,0,"2011-04-12",{"$f":"MAX(L$12:L174)+MAX(M$12:M174)+MAX(N$12:N174)","v":140},"2011-04-12",0,null,null,null,null,null,null,null,null,null,null,null,null,null,null,null,null,null,379.72727272727263,null,{"$f":"IF(OR(AJ174<=AM7,AJ174>AM9),0,AM8+(AM10-AM8)*(1-((AM5+EXP(AM6*(AM4-AM7)))/(AM5+EXP(AM6*(AM4-AJ174))))^AM5)/(1-((AM5+EXP(AM6*(AM4-AM7)))/(AM5+EXP(AM6*(AM4-AM9))))^AM5))","v":26.480279538782625},{"$f":"IF(OR(AJ174<=AN7,AJ174>AN9),0,AN8+(AN10-AN8)*(1-((AN5+EXP(AN6*(AN4-AN7)))/(AN5+EXP(AN6*(AN4-AJ174))))^AN5)/(1-((AN5+EXP(AN6*(AN4-AN7)))/(AN5+EXP(AN6*(AN4-AN9))))^AN5))","v":0},{"$f":"IF(OR(AJ174<=AN9,AJ174>100000),0,IF(AJ174<=AO7,AO8,AO8+(AO10-AO8)*(1-((AO5+EXP(AO6*(AO4-AO7)))/(AO5+EXP(AO6*(AO4-AJ174))))^AO5)/(1-((AO5+EXP(AO6*(AO4-AO7)))/(AO5+EXP(AO6*(AO4-AO9))))^AO5)))","v":0},26.480279538782625,20.245829116278827]
[164,{"$f":"'daily uptake'!F258","v":"2011-04-13"},{"$f":"5/9*'daily uptake'!Q258","v":14.166666666666668},{"$f":"5/9*'daily uptake'!N258","v":5.8333333333333339},{"$f":"IF(AND($A175>='daily uptake'!$C$9,$A175<='daily uptake'!$C$10),$C175+E174,0)","v":0},{"$f":"IF(AND($A175>='daily uptake'!$C$18,$A175<='daily uptake'!$C$20),$D175+F174,0)","v":0},{"$f":"IF(AND($A175>='daily uptake'!$C$24,$A175<='daily uptake'!$C$25),$C175+G174,0)","v":0},{"$f":"IF(OR(F175<=I7,F175>I9),0,I8+(I10-I8)*(1-((I5+EXP(I6*(I4-I7)))/(I5+EXP(I6*(I4-F175))))^I5)/(1-((I5+EXP(I6*(I4-I7)))/(I5+EXP(I6*(I4-I9))))^I5))","v":0},{"$f":"IF(OR(F175<=J7,F175>J9),0,J8+(J10-J8)*(1-((J5+EXP(J6*(J4-J7)))/(J5+EXP(J6*(J4-F175))))^J5)/(1-((J5+EXP(J6*(J4-J7)))/(J5+EXP(J6*(J4-J9))))^J5))","v":0},{"$f":"IF(OR(F175<=J9,F175>100000),0,IF(F175<=K7,K8,K8+(K10-K8)*(1-((K5+EXP(K6*(K4-K7)))/(K5+EXP(K6*(K4-F175))))^K5)/(1-((K5+EXP(K6*(K4-K7)))/(K5+EXP(K6*(K4-K9))))^K5)))","v":0},0,0,0,0,"2011-04-13",{"$f":"MAX(L$12:L175)+MAX(M$12:M175)+MAX(N$12:N175)","v":140},"2011-04-13",0,null,null,null,null,null,null,null,null,null,null,null,null,null,null,null,null,null,390.68686868686859,null,{"$f":"IF(OR(AJ175<=AM7,AJ175>AM9),0,AM8+(AM10-AM8)*(1-((AM5+EXP(AM6*(AM4-AM7)))/(AM5+EXP(AM6*(AM4-AJ175))))^AM5)/(1-((AM5+EXP(AM6*(AM4-AM7)))/(AM5+EXP(AM6*(AM4-AM9))))^AM5))","v":28.340092522322212},{"$f":"IF(OR(AJ175<=AN7,AJ175>AN9),0,AN8+(AN10-AN8)*(1-((AN5+EXP(AN6*(AN4-AN7)))/(AN5+EXP(AN6*(AN4-AJ175))))^AN5)/(1-((AN5+EXP(AN6*(AN4-AN7)))/(AN5+EXP(AN6*(AN4-AN9))))^AN5))","v":0},{"$f":"IF(OR(AJ175<=AN9,AJ175>100000),0,IF(AJ175<=AO7,AO8,AO8+(AO10-AO8)*(1-((AO5+EXP(AO6*(AO4-AO7)))/(AO5+EXP(AO6*(AO4-AJ175))))^AO5)/(1-((AO5+EXP(AO6*(AO4-AO7)))/(AO5+EXP(AO6*(AO4-AO9))))^AO5)))","v":0},28.340092522322212,21.667772407996441]
[165,{"$f":"'daily uptake'!F259","v":"2011-04-14"},{"$f":"5/9*'daily uptake'!Q259","v":13.611111111111112},{"$f":"5/9*'daily uptake'!N259","v":5.5555555555555554},{"$f":"IF(AND($A176>='daily uptake'!$C$9,$A176<='daily uptake'!$C$10),$C176+E175,0)","v":0},{"$f":"IF(AND($A176>='daily uptake'!$C$18,$A176<='daily uptake'!$C$20),$D176+F175,0)","v":0},{"$f":"IF(AND($A176>='daily uptake'!$C$24,$A176<='daily uptake'!$C$25),$C176+G175,0)","v":0},{"$f":"IF(OR(F176<=I7,F176>I9),0,I8+(I10-I8)*(1-((I5+EXP(I6*(I4-I7)))/(I5+EXP(I6*(I4-F176))))^I5)/(1-((I5+EXP(I6*(I4-I7)))/(I5+EXP(I6*(I4-I9))))^I5))","v":0},{"$f":"IF(OR(F176<=J7,F176>J9),0,J8+(J10-J8)*(1-((J5+EXP(J6*(J4-J7)))/(J5+EXP(J6*(J4-F176))))^J5)/(1-((J5+EXP(J6*(J4-J7)))/(J5+EXP(J6*(J4-J9))))^J5))","v":0},{"$f":"IF(OR(F176<=J9,F176>100000),0,IF(F176<=K7,K8,K8+(K10-K8)*(1-((K5+EXP(K6*(K4-K7)))/(K5+EXP(K6*(K4-F176))))^K5)/(1-((K5+EXP(K6*(K4-K7)))/(K5+EXP(K6*(K4-K9))))^K5)))","v":0},0,0,0,0,"2011-04-14",{"$f":"MAX(L$12:L176)+MAX(M$12:M176)+MAX(N$12:N176)","v":140},"2011-04-14",0,null,null,null,null,null,null,null,null,null,null,null,null,null,null,null,null,null,402.06060606060595,null,{"$f":"IF(OR(AJ176<=AM7,AJ176>AM9),0,AM8+(AM10-AM8)*(1-((AM5+EXP(AM6*(AM4-AM7)))/(AM5+EXP(AM6*(AM4-AJ176))))^AM5)/(1-((AM5+EXP(AM6*(AM4-AM7)))/(AM5+EXP(AM6*(AM4-AM9))))^AM5))","v":30.263879184711058},{"$f":"IF(OR(AJ176<=AN7,AJ176>AN9),0,AN8+(AN10-AN8)*(1-((AN5+EXP(AN6*(AN4-AN7)))/(AN5+EXP(AN6*(AN4-AJ176))))^AN5)/(1-((AN5+EXP(AN6*(AN4-AN7)))/(AN5+EXP(AN6*(AN4-AN9))))^AN5))","v":0},{"$f":"IF(OR(AJ176<=AN9,AJ176>100000),0,IF(AJ176<=AO7,AO8,AO8+(AO10-AO8)*(1-((AO5+EXP(AO6*(AO4-AO7)))/(AO5+EXP(AO6*(AO4-AJ176))))^AO5)/(1-((AO5+EXP(AO6*(AO4-AO7)))/(AO5+EXP(AO6*(AO4-AO9))))^AO5)))","v":0},30.263879184711058,23.138627576494844]
[166,{"$f":"'daily uptake'!F260","v":"2011-04-15"},{"$f":"5/9*'daily uptake'!Q260","v":14.166666666666668},{"$f":"5/9*'daily uptake'!N260","v":6.1111111111111116},{"$f":"IF(AND($A177>='daily uptake'!$C$9,$A177<='daily uptake'!$C$10),$C177+E176,0)","v":0},{"$f":"IF(AND($A177>='daily uptake'!$C$18,$A177<='daily uptake'!$C$20),$D177+F176,0)","v":6.1111111111111116},{"$f":"IF(AND($A177>='daily uptake'!$C$24,$A177<='daily uptake'!$C$25),$C177+G176,0)","v":0},{"$f":"IF(OR(F177<=I7,F177>I9),0,I8+(I10-I8)*(1-((I5+EXP(I6*(I4-I7)))/(I5+EXP(I6*(I4-F177))))^I5)/(1-((I5+EXP(I6*(I4-I7)))/(I5+EXP(I6*(I4-I9))))^I5))","v":3.0338366606803249E-3},{"$f":"IF(OR(F177<=J7,F177>J9),0,J8+(J10-J8)*(1-((J5+EXP(J6*(J4-J7)))/(J5+EXP(J6*(J4-F177))))^J5)/(1-((J5+EXP(J6*(J4-J7)))/(J5+EXP(J6*(J4-J9))))^J5))","v":0},{"$f":"IF(OR(F177<=J9,F177>100000),0,IF(F177<=K7,K8,K8+(K10-K8)*(1-((K5+EXP(K6*(K4-K7)))/(K5+EXP(K6*(K4-F177))))^K5)/(1-((K5+EXP(K6*(K4-K7)))/(K5+EXP(K6*(K4-K9))))^K5)))","v":0},3.0338366606803249E-3,1.9908919585253163E-3,0,0,"2011-04-15",{"$f":"MAX(L$12:L177)+MAX(M$12:M177)+MAX(N$12:N177)","v":140.00199089195851},"2011-04-15",1.9908919585134299E-3,null,null,null,null,null,null,null,null,null,null,null,null,null,null,null,null,null,414.07070707070699,null,{"$f":"IF(OR(AJ177<=AM7,AJ177>AM9),0,AM8+(AM10-AM8)*(1-((AM5+EXP(AM6*(AM4-AM7)))/(AM5+EXP(AM6*(AM4-AJ177))))^AM5)/(1-((AM5+EXP(AM6*(AM4-AM7)))/(AM5+EXP(AM6*(AM4-AM9))))^AM5))","v":32.286524360917049},{"$f":"IF(OR(AJ177<=AN7,AJ177>AN9),0,AN8+(AN10-AN8)*(1-((AN5+EXP(AN6*(AN4-AN7)))/(AN5+EXP(AN6*(AN4-AJ177))))^AN5)/(1-((AN5+EXP(AN6*(AN4-AN7)))/(AN5+EXP(AN6*(AN4-AN9))))^AN5))","v":0},{"$f":"IF(OR(AJ177<=AN9,AJ177>100000),0,IF(AJ177<=AO7,AO8,AO8+(AO10-AO8)*(1-((AO5+EXP(AO6*(AO4-AO7)))/(AO5+EXP(AO6*(AO4-AJ177))))^AO5)/(1-((AO5+EXP(AO6*(AO4-AO7)))/(AO5+EXP(AO6*(AO4-AO9))))^AO5)))","v":0},32.286524360917049,24.68506625892481]
[167,{"$f":"'daily uptake'!F261","v":"2011-04-16"},{"$f":"5/9*'daily uptake'!Q261","v":14.444444444444445},{"$f":"5/9*'daily uptake'!N261","v":6.1111111111111116},{"$f":"IF(AND($A178>='daily uptake'!$C$9,$A178<='daily uptake'!$C$10),$C178+E177,0)","v":0},{"$f":"IF(AND($A178>='daily uptake'!$C$18,$A178<='daily uptake'!$C$20),$D178+F177,0)","v":12.222222222222223},{"$f":"IF(AND($A178>='daily uptake'!$C$24,$A178<='daily uptake'!$C$25),$C178+G177,0)","v":0},{"$f":"IF(OR(F178<=I7,F178>I9),0,I8+(I10-I8)*(1-((I5+EXP(I6*(I4-I7)))/(I5+EXP(I6*(I4-F178))))^I5)/(1-((I5+EXP(I6*(I4-I7)))/(I5+EXP(I6*(I4-I9))))^I5))","v":6.6077825400538319E-3},{"$f":"IF(OR(F178<=J7,F178>J9),0,J8+(J10-J8)*(1-((J5+EXP(J6*(J4-J7)))/(J5+EXP(J6*(J4-F178))))^J5)/(1-((J5+EXP(J6*(J4-J7)))/(J5+EXP(J6*(J4-J9))))^J5))","v":0},{"$f":"IF(OR(F178<=J9,F178>100000),0,IF(F178<=K7,K8,K8+(K10-K8)*(1-((K5+EXP(K6*(K4-K7)))/(K5+EXP(K6*(K4-F178))))^K5)/(1-((K5+EXP(K6*(K4-K7)))/(K5+EXP(K6*(K4-K9))))^K5)))","v":0},6.6077825400538319E-3,4.3362193137079187E-3,0,0,"2011-04-16",{"$f":"MAX(L$12:L178)+MAX(M$12:M178)+MAX(N$12:N178)","v":140.0043362193137},"2011-04-16",2.345327355186555E-3,null,null,null,null,null,null,null,null,null,null,null,null,null,null,null,null,null,425.71717171717165,null,{"$f":"IF(OR(AJ178<=AM7,AJ178>AM9),0,AM8+(AM10-AM8)*(1-((AM5+EXP(AM6*(AM4-AM7)))/(AM5+EXP(AM6*(AM4-AJ178))))^AM5)/(1-((AM5+EXP(AM6*(AM4-AM7)))/(AM5+EXP(AM6*(AM4-AM9))))^AM5))","v":34.238009506482811},{"$f":"IF(OR(AJ178<=AN7,AJ178>AN9),0,AN8+(AN10-AN8)*(1-((AN5+EXP(AN6*(AN4-AN7)))/(AN5+EXP(AN6*(AN4-AJ178))))^AN5)/(1-((AN5+EXP(AN6*(AN4-AN7)))/(AN5+EXP(AN6*(AN4-AN9))))^AN5))","v":0},{"$f":"IF(OR(AJ178<=AN9,AJ178>100000),0,IF(AJ178<=AO7,AO8,AO8+(AO10-AO8)*(1-((AO5+EXP(AO6*(AO4-AO7)))/(AO5+EXP(AO6*(AO4-AJ178))))^AO5)/(1-((AO5+EXP(AO6*(AO4-AO7)))/(AO5+EXP(AO6*(AO4-AO9))))^AO5)))","v":0},34.238009506482811,26.177098649376582]
[168,{"$f":"'daily uptake'!F262","v":"2011-04-17"},{"$f":"5/9*'daily uptake'!Q262","v":14.444444444444445},{"$f":"5/9*'daily uptake'!N262","v":6.1111111111111116},{"$f":"IF(AND($A179>='daily uptake'!$C$9,$A179<='daily uptake'!$C$10),$C179+E178,0)","v":0},{"$f":"IF(AND($A179>='daily uptake'!$C$18,$A179<='daily uptake'!$C$20),$D179+F178,0)","v":18.333333333333336},{"$f":"IF(AND($A179>='daily uptake'!$C$24,$A179<='daily uptake'!$C$25),$C179+G178,0)","v":0},{"$f":"IF(OR(F179<=I7,F179>I9),0,I8+(I10-I8)*(1-((I5+EXP(I6*(I4-I7)))/(I5+EXP(I6*(I4-F179))))^I5)/(1-((I5+EXP(I6*(I4-I7)))/(I5+EXP(I6*(I4-I9))))^I5))","v":1.0817616505394976E-2},{"$f":"IF(OR(F179<=J7,F179>J9),0,J8+(J10-J8)*(1-((J5+EXP(J6*(J4-J7)))/(J5+EXP(J6*(J4-F179))))^J5)/(1-((J5+EXP(J6*(J4-J7)))/(J5+EXP(J6*(J4-J9))))^J5))","v":0},{"$f":"IF(OR(F179<=J9,F179>100000),0,IF(F179<=K7,K8,K8+(K10-K8)*(1-((K5+EXP(K6*(K4-K7)))/(K5+EXP(K6*(K4-F179))))^K5)/(1-((K5+EXP(K6*(K4-K7)))/(K5+EXP(K6*(K4-K9))))^K5)))","v":0},1.0817616505394976E-2,7.0988349472222659E-3,0,0,"2011-04-17",{"$f":"MAX(L$12:L179)+MAX(M$12:M179)+MAX(N$12:N179)","v":140.00709883494721},"2011-04-17",2.7626156335145424E-3,null,null,null,null,null,null,null,null,null,null,null,null,null,null,null,null,null,437.64646464646461,null,{"$f":"IF(OR(AJ179<=AM7,AJ179>AM9),0,AM8+(AM10-AM8)*(1-((AM5+EXP(AM6*(AM4-AM7)))/(AM5+EXP(AM6*(AM4-AJ179))))^AM5)/(1-((AM5+EXP(AM6*(AM4-AM7)))/(AM5+EXP(AM6*(AM4-AM9))))^AM5))","v":36.225795742827302},{"$f":"IF(OR(AJ179<=AN7,AJ179>AN9),0,AN8+(AN10-AN8)*(1-((AN5+EXP(AN6*(AN4-AN7)))/(AN5+EXP(AN6*(AN4-AJ179))))^AN5)/(1-((AN5+EXP(AN6*(AN4-AN7)))/(AN5+EXP(AN6*(AN4-AN9))))^AN5))","v":0},{"$f":"IF(OR(AJ179<=AN9,AJ179>100000),0,IF(AJ179<=AO7,AO8,AO8+(AO10-AO8)*(1-((AO5+EXP(AO6*(AO4-AO7)))/(AO5+EXP(AO6*(AO4-AJ179))))^AO5)/(1-((AO5+EXP(AO6*(AO4-AO7)))/(AO5+EXP(AO6*(AO4-AO9))))^AO5)))","v":0},36.225795742827302,27.696885493083432]
[169,{"$f":"'daily uptake'!F263","v":"2011-04-18"},{"$f":"5/9*'daily uptake'!Q263","v":14.444444444444445},{"$f":"5/9*'daily uptake'!N263","v":6.3888888888888893},{"$f":"IF(AND($A180>='daily uptake'!$C$9,$A180<='daily uptake'!$C$10),$C180+E179,0)","v":0},{"$f":"IF(AND($A180>='daily uptake'!$C$18,$A180<='daily uptake'!$C$20),$D180+F179,0)","v":24.722222222222225},{"$f":"IF(AND($A180>='daily uptake'!$C$24,$A180<='daily uptake'!$C$25),$C180+G179,0)","v":0},{"$f":"IF(OR(F180<=I7,F180>I9),0,I8+(I10-I8)*(1-((I5+EXP(I6*(I4-I7)))/(I5+EXP(I6*(I4-F180))))^I5)/(1-((I5+EXP(I6*(I4-I7)))/(I5+EXP(I6*(I4-I9))))^I5))","v":1.6021180809684718E-2},{"$f":"IF(OR(F180<=J7,F180>J9),0,J8+(J10-J8)*(1-((J5+EXP(J6*(J4-J7)))/(J5+EXP(J6*(J4-F180))))^J5)/(1-((J5+EXP(J6*(J4-J7)))/(J5+EXP(J6*(J4-J9))))^J5))","v":0},{"$f":"IF(OR(F180<=J9,F180>100000),0,IF(F180<=K7,K8,K8+(K10-K8)*(1-((K5+EXP(K6*(K4-K7)))/(K5+EXP(K6*(K4-F180))))^K5)/(1-((K5+EXP(K6*(K4-K7)))/(K5+EXP(K6*(K4-K9))))^K5)))","v":0},1.6021180809684718E-2,1.051356536542372E-2,0,0,"2011-04-18",{"$f":"MAX(L$12:L180)+MAX(M$12:M180)+MAX(N$12:N180)","v":140.01051356536541},"2011-04-18",3.4147304181999516E-3,null,null,null,null,null,null,null,null,null,null,null,null,null,null,null,null,null,449.43939393939388,null,{"$f":"IF(OR(AJ180<=AM7,AJ180>AM9),0,AM8+(AM10-AM8)*(1-((AM5+EXP(AM6*(AM4-AM7)))/(AM5+EXP(AM6*(AM4-AJ180))))^AM5)/(1-((AM5+EXP(AM6*(AM4-AM7)))/(AM5+EXP(AM6*(AM4-AM9))))^AM5))","v":38.179162032148369},{"$f":"IF(OR(AJ180<=AN7,AJ180>AN9),0,AN8+(AN10-AN8)*(1-((AN5+EXP(AN6*(AN4-AN7)))/(AN5+EXP(AN6*(AN4-AJ180))))^AN5)/(1-((AN5+EXP(AN6*(AN4-AN7)))/(AN5+EXP(AN6*(AN4-AN9))))^AN5))","v":0},{"$f":"IF(OR(AJ180<=AN9,AJ180>100000),0,IF(AJ180<=AO7,AO8,AO8+(AO10-AO8)*(1-((AO5+EXP(AO6*(AO4-AO7)))/(AO5+EXP(AO6*(AO4-AJ180))))^AO5)/(1-((AO5+EXP(AO6*(AO4-AO7)))/(AO5+EXP(AO6*(AO4-AO9))))^AO5)))","v":0},38.179162032148369,29.190356135535424]
[170,{"$f":"'daily uptake'!F264","v":"2011-04-19"},{"$f":"5/9*'daily uptake'!Q264","v":14.166666666666668},{"$f":"5/9*'daily uptake'!N264","v":6.1111111111111116},{"$f":"IF(AND($A181>='daily uptake'!$C$9,$A181<='daily uptake'!$C$10),$C181+E180,0)","v":0},{"$f":"IF(AND($A181>='daily uptake'!$C$18,$A181<='daily uptake'!$C$20),$D181+F180,0)","v":30.833333333333336},{"$f":"IF(AND($A181>='daily uptake'!$C$24,$A181<='daily uptake'!$C$25),$C181+G180,0)","v":0},{"$f":"IF(OR(F181<=I7,F181>I9),0,I8+(I10-I8)*(1-((I5+EXP(I6*(I4-I7)))/(I5+EXP(I6*(I4-F181))))^I5)/(1-((I5+EXP(I6*(I4-I7)))/(I5+EXP(I6*(I4-I9))))^I5))","v":2.1903933151073057E-2},{"$f":"IF(OR(F181<=J7,F181>J9),0,J8+(J10-J8)*(1-((J5+EXP(J6*(J4-J7)))/(J5+EXP(J6*(J4-F181))))^J5)/(1-((J5+EXP(J6*(J4-J7)))/(J5+EXP(J6*(J4-J9))))^J5))","v":0},{"$f":"IF(OR(F181<=J9,F181>100000),0,IF(F181<=K7,K8,K8+(K10-K8)*(1-((K5+EXP(K6*(K4-K7)))/(K5+EXP(K6*(K4-F181))))^K5)/(1-((K5+EXP(K6*(K4-K7)))/(K5+EXP(K6*(K4-K9))))^K5)))","v":0},2.1903933151073057E-2,1.4373998750733157E-2,0,0,"2011-04-19",{"$f":"MAX(L$12:L181)+MAX(M$12:M181)+MAX(N$12:N181)","v":140.01437399875073},"2011-04-19",3.8604333853129447E-3,null,null,null,null,null,null,null,null,null,null,null,null,null,null,null,null,null,461.60101010101005,null,{"$f":"IF(OR(AJ181<=AM7,AJ181>AM9),0,AM8+(AM10-AM8)*(1-((AM5+EXP(AM6*(AM4-AM7)))/(AM5+EXP(AM6*(AM4-AJ181))))^AM5)/(1-((AM5+EXP(AM6*(AM4-AM7)))/(AM5+EXP(AM6*(AM4-AM9))))^AM5))","v":40.180932539473169},{"$f":"IF(OR(AJ181<=AN7,AJ181>AN9),0,AN8+(AN10-AN8)*(1-((AN5+EXP(AN6*(AN4-AN7)))/(AN5+EXP(AN6*(AN4-AJ181))))^AN5)/(1-((AN5+EXP(AN6*(AN4-AN7)))/(AN5+EXP(AN6*(AN4-AN9))))^AN5))","v":0},{"$f":"IF(OR(AJ181<=AN9,AJ181>100000),0,IF(AJ181<=AO7,AO8,AO8+(AO10-AO8)*(1-((AO5+EXP(AO6*(AO4-AO7)))/(AO5+EXP(AO6*(AO4-AJ181))))^AO5)/(1-((AO5+EXP(AO6*(AO4-AO7)))/(AO5+EXP(AO6*(AO4-AO9))))^AO5)))","v":0},40.180932539473169,30.720834828630363]
[171,{"$f":"'daily uptake'!F265","v":"2011-04-20"},{"$f":"5/9*'daily uptake'!Q265","v":14.166666666666668},{"$f":"5/9*'daily uptake'!N265","v":5.8333333333333339},{"$f":"IF(AND($A182>='daily uptake'!$C$9,$A182<='daily uptake'!$C$10),$C182+E181,0)","v":0},{"$f":"IF(AND($A182>='daily uptake'!$C$18,$A182<='daily uptake'!$C$20),$D182+F181,0)","v":36.666666666666671},{"$f":"IF(AND($A182>='daily uptake'!$C$24,$A182<='daily uptake'!$C$25),$C182+G181,0)","v":0},{"$f":"IF(OR(F182<=I7,F182>I9),0,I8+(I10-I8)*(1-((I5+EXP(I6*(I4-I7)))/(I5+EXP(I6*(I4-F182))))^I5)/(1-((I5+EXP(I6*(I4-I7)))/(I5+EXP(I6*(I4-I9))))^I5))","v":2.8490727632981137E-2},{"$f":"IF(OR(F182<=J7,F182>J9),0,J8+(J10-J8)*(1-((J5+EXP(J6*(J4-J7)))/(J5+EXP(J6*(J4-F182))))^J5)/(1-((J5+EXP(J6*(J4-J7)))/(J5+EXP(J6*(J4-J9))))^J5))","v":0},{"$f":"IF(OR(F182<=J9,F182>100000),0,IF(F182<=K7,K8,K8+(K10-K8)*(1-((K5+EXP(K6*(K4-K7)))/(K5+EXP(K6*(K4-F182))))^K5)/(1-((K5+EXP(K6*(K4-K7)))/(K5+EXP(K6*(K4-K9))))^K5)))","v":0},2.8490727632981137E-2,1.8696445089538046E-2,0,0,"2011-04-20",{"$f":"MAX(L$12:L182)+MAX(M$12:M182)+MAX(N$12:N182)","v":140.01869644508955},"2011-04-20",4.3224463388185086E-3,null,null,null,null,null,null,null,null,null,null,null,null,null,null,null,null,null,473.96464646464642,null,{"$f":"IF(OR(AJ182<=AM7,AJ182>AM9),0,AM8+(AM10-AM8)*(1-((AM5+EXP(AM6*(AM4-AM7)))/(AM5+EXP(AM6*(AM4-AJ182))))^AM5)/(1-((AM5+EXP(AM6*(AM4-AM7)))/(AM5+EXP(AM6*(AM4-AM9))))^AM5))","v":42.202435421365522},{"$f":"IF(OR(AJ182<=AN7,AJ182>AN9),0,AN8+(AN10-AN8)*(1-((AN5+EXP(AN6*(AN4-AN7)))/(AN5+EXP(AN6*(AN4-AJ182))))^AN5)/(1-((AN5+EXP(AN6*(AN4-AN7)))/(AN5+EXP(AN6*(AN4-AN9))))^AN5))","v":0},{"$f":"IF(OR(AJ182<=AN9,AJ182>100000),0,IF(AJ182<=AO7,AO8,AO8+(AO10-AO8)*(1-((AO5+EXP(AO6*(AO4-AO7)))/(AO5+EXP(AO6*(AO4-AJ182))))^AO5)/(1-((AO5+EXP(AO6*(AO4-AO7)))/(AO5+EXP(AO6*(AO4-AO9))))^AO5)))","v":0},42.202435421365522,32.266400155647275]
[172,{"$f":"'daily uptake'!F266","v":"2011-04-21"},{"$f":"5/9*'daily uptake'!Q266","v":14.444444444444445},{"$f":"5/9*'daily uptake'!N266","v":6.1111111111111116},{"$f":"IF(AND($A183>='daily uptake'!$C$9,$A183<='daily uptake'!$C$10),$C183+E182,0)","v":0},{"$f":"IF(AND($A183>='daily uptake'!$C$18,$A183<='daily uptake'!$C$20),$D183+F182,0)","v":42.777777777777786},{"$f":"IF(AND($A183>='daily uptake'!$C$24,$A183<='daily uptake'!$C$25),$C183+G182,0)","v":0},{"$f":"IF(OR(F183<=I7,F183>I9),0,I8+(I10-I8)*(1-((I5+EXP(I6*(I4-I7)))/(I5+EXP(I6*(I4-F183))))^I5)/(1-((I5+EXP(I6*(I4-I7)))/(I5+EXP(I6*(I4-I9))))^I5))","v":3.6585195230880586E-2},{"$f":"IF(OR(F183<=J7,F183>J9),0,J8+(J10-J8)*(1-((J5+EXP(J6*(J4-J7)))/(J5+EXP(J6*(J4-F183))))^J5)/(1-((J5+EXP(J6*(J4-J7)))/(J5+EXP(J6*(J4-J9))))^J5))","v":0},{"$f":"IF(OR(F183<=J9,F183>100000),0,IF(F183<=K7,K8,K8+(K10-K8)*(1-((K5+EXP(K6*(K4-K7)))/(K5+EXP(K6*(K4-F183))))^K5)/(1-((K5+EXP(K6*(K4-K7)))/(K5+EXP(K6*(K4-K9))))^K5)))","v":0},3.6585195230880586E-2,2.4008270428740049E-2,0,0,"2011-04-21",{"$f":"MAX(L$12:L183)+MAX(M$12:M183)+MAX(N$12:N183)","v":140.02400827042874},"2011-04-21",5.3118253391915005E-3,null,null,null,null,null,null,null,null,null,null,null,null,null,null,null,null,null,486.49494949494942,null,{"$f":"IF(OR(AJ183<=AM7,AJ183>AM9),0,AM8+(AM10-AM8)*(1-((AM5+EXP(AM6*(AM4-AM7)))/(AM5+EXP(AM6*(AM4-AJ183))))^AM5)/(1-((AM5+EXP(AM6*(AM4-AM7)))/(AM5+EXP(AM6*(AM4-AM9))))^AM5))","v":44.237057172362128},{"$f":"IF(OR(AJ183<=AN7,AJ183>AN9),0,AN8+(AN10-AN8)*(1-((AN5+EXP(AN6*(AN4-AN7)))/(AN5+EXP(AN6*(AN4-AJ183))))^AN5)/(1-((AN5+EXP(AN6*(AN4-AN7)))/(AN5+EXP(AN6*(AN4-AN9))))^AN5))","v":0},{"$f":"IF(OR(AJ183<=AN9,AJ183>100000),0,IF(AJ183<=AO7,AO8,AO8+(AO10-AO8)*(1-((AO5+EXP(AO6*(AO4-AO7)))/(AO5+EXP(AO6*(AO4-AJ183))))^AO5)/(1-((AO5+EXP(AO6*(AO4-AO7)))/(AO5+EXP(AO6*(AO4-AO9))))^AO5)))","v":0},44.237057172362128,33.821995678217611]
[173,{"$f":"'daily uptake'!F267","v":"2011-04-22"},{"$f":"5/9*'daily uptake'!Q267","v":15},{"$f":"5/9*'daily uptake'!N267","v":6.3888888888888893},{"$f":"IF(AND($A184>='daily uptake'!$C$9,$A184<='daily uptake'!$C$10),$C184+E183,0)","v":0},{"$f":"IF(AND($A184>='daily uptake'!$C$18,$A184<='daily uptake'!$C$20),$D184+F183,0)","v":49.166666666666671},{"$f":"IF(AND($A184>='daily uptake'!$C$24,$A184<='daily uptake'!$C$25),$C184+G183,0)","v":0},{"$f":"IF(OR(F184<=I7,F184>I9),0,I8+(I10-I8)*(1-((I5+EXP(I6*(I4-I7)))/(I5+EXP(I6*(I4-F184))))^I5)/(1-((I5+EXP(I6*(I4-I7)))/(I5+EXP(I6*(I4-I9))))^I5))","v":4.6583767239572457E-2},{"$f":"IF(OR(F184<=J7,F184>J9),0,J8+(J10-J8)*(1-((J5+EXP(J6*(J4-J7)))/(J5+EXP(J6*(J4-F184))))^J5)/(1-((J5+EXP(J6*(J4-J7)))/(J5+EXP(J6*(J4-J9))))^J5))","v":0},{"$f":"IF(OR(F184<=J9,F184>100000),0,IF(F184<=K7,K8,K8+(K10-K8)*(1-((K5+EXP(K6*(K4-K7)))/(K5+EXP(K6*(K4-F184))))^K5)/(1-((K5+EXP(K6*(K4-K7)))/(K5+EXP(K6*(K4-K9))))^K5)))","v":0},4.6583767239572457E-2,3.056962452760479E-2,0,0,"2011-04-22",{"$f":"MAX(L$12:L184)+MAX(M$12:M184)+MAX(N$12:N184)","v":140.0305696245276},"2011-04-22",6.5613540988636032E-3,null,null,null,null,null,null,null,null,null,null,null,null,null,null,null,null,null,499.23232323232315,null,{"$f":"IF(OR(AJ184<=AM7,AJ184>AM9),0,AM8+(AM10-AM8)*(1-((AM5+EXP(AM6*(AM4-AM7)))/(AM5+EXP(AM6*(AM4-AJ184))))^AM5)/(1-((AM5+EXP(AM6*(AM4-AM7)))/(AM5+EXP(AM6*(AM4-AM9))))^AM5))","v":0},{"$f":"IF(OR(AJ184<=AN7,AJ184>AN9),0,AN8+(AN10-AN8)*(1-((AN5+EXP(AN6*(AN4-AN7)))/(AN5+EXP(AN6*(AN4-AJ184))))^AN5)/(1-((AN5+EXP(AN6*(AN4-AN7)))/(AN5+EXP(AN6*(AN4-AN9))))^AN5))","v":48.624973503073946},{"$f":"IF(OR(AJ184<=AN9,AJ184>100000),0,IF(AJ184<=AO7,AO8,AO8+(AO10-AO8)*(1-((AO5+EXP(AO6*(AO4-AO7)))/(AO5+EXP(AO6*(AO4-AJ184))))^AO5)/(1-((AO5+EXP(AO6*(AO4-AO7)))/(AO5+EXP(AO6*(AO4-AO9))))^AO5)))","v":0},48.624973503073946,37.176832022675811]
[174,{"$f":"'daily uptake'!F268","v":"2011-04-23"},{"$f":"5/9*'daily uptake'!Q268","v":14.722222222222223},{"$f":"5/9*'daily uptake'!N268","v":6.1111111111111116},{"$f":"IF(AND($A185>='daily uptake'!$C$9,$A185<='daily uptake'!$C$10),$C185+E184,0)","v":0},{"$f":"IF(AND($A185>='daily uptake'!$C$18,$A185<='daily uptake'!$C$20),$D185+F184,0)","v":55.277777777777786},{"$f":"IF(AND($A185>='daily uptake'!$C$24,$A185<='daily uptake'!$C$25),$C185+G184,0)","v":0},{"$f":"IF(OR(F185<=I7,F185>I9),0,I8+(I10-I8)*(1-((I5+EXP(I6*(I4-I7)))/(I5+EXP(I6*(I4-F185))))^I5)/(1-((I5+EXP(I6*(I4-I7)))/(I5+EXP(I6*(I4-I9))))^I5))","v":5.7878630014132133E-2},{"$f":"IF(OR(F185<=J7,F185>J9),0,J8+(J10-J8)*(1-((J5+EXP(J6*(J4-J7)))/(J5+EXP(J6*(J4-F185))))^J5)/(1-((J5+EXP(J6*(J4-J7)))/(J5+EXP(J6*(J4-J9))))^J5))","v":0},{"$f":"IF(OR(F185<=J9,F185>100000),0,IF(F185<=K7,K8,K8+(K10-K8)*(1-((K5+EXP(K6*(K4-K7)))/(K5+EXP(K6*(K4-F185))))^K5)/(1-((K5+EXP(K6*(K4-K7)))/(K5+EXP(K6*(K4-K9))))^K5)))","v":0},5.7878630014132133E-2,3.7981642373507943E-2,0,0,"2011-04-23",{"$f":"MAX(L$12:L185)+MAX(M$12:M185)+MAX(N$12:N185)","v":140.0379816423735},"2011-04-23",7.41201784589407E-3,null,null,null,null,null,null,null,null,null,null,null,null,null,null,null,null,null,511.69191919191911,null,{"$f":"IF(OR(AJ185<=AM7,AJ185>AM9),0,AM8+(AM10-AM8)*(1-((AM5+EXP(AM6*(AM4-AM7)))/(AM5+EXP(AM6*(AM4-AJ185))))^AM5)/(1-((AM5+EXP(AM6*(AM4-AM7)))/(AM5+EXP(AM6*(AM4-AM9))))^AM5))","v":0},{"$f":"IF(OR(AJ185<=AN7,AJ185>AN9),0,AN8+(AN10-AN8)*(1-((AN5+EXP(AN6*(AN4-AN7)))/(AN5+EXP(AN6*(AN4-AJ185))))^AN5)/(1-((AN5+EXP(AN6*(AN4-AN7)))/(AN5+EXP(AN6*(AN4-AN9))))^AN5))","v":54.934323236101896},{"$f":"IF(OR(AJ185<=AN9,AJ185>100000),0,IF(AJ185<=AO7,AO8,AO8+(AO10-AO8)*(1-((AO5+EXP(AO6*(AO4-AO7)))/(AO5+EXP(AO6*(AO4-AJ185))))^AO5)/(1-((AO5+EXP(AO6*(AO4-AO7)))/(AO5+EXP(AO6*(AO4-AO9))))^AO5)))","v":0},54.934323236101896,42.000724321193282]
[175,{"$f":"'daily uptake'!F269","v":"2011-04-24"},{"$f":"5/9*'daily uptake'!Q269","v":15},{"$f":"5/9*'daily uptake'!N269","v":6.3888888888888893},{"$f":"IF(AND($A186>='daily uptake'!$C$9,$A186<='daily uptake'!$C$10),$C186+E185,0)","v":0},{"$f":"IF(AND($A186>='daily uptake'!$C$18,$A186<='daily uptake'!$C$20),$D186+F185,0)","v":61.666666666666671},{"$f":"IF(AND($A186>='daily uptake'!$C$24,$A186<='daily uptake'!$C$25),$C186+G185,0)","v":0},{"$f":"IF(OR(F186<=I7,F186>I9),0,I8+(I10-I8)*(1-((I5+EXP(I6*(I4-I7)))/(I5+EXP(I6*(I4-F186))))^I5)/(1-((I5+EXP(I6*(I4-I7)))/(I5+EXP(I6*(I4-I9))))^I5))","v":7.1822872248096442E-2},{"$f":"IF(OR(F186<=J7,F186>J9),0,J8+(J10-J8)*(1-((J5+EXP(J6*(J4-J7)))/(J5+EXP(J6*(J4-F186))))^J5)/(1-((J5+EXP(J6*(J4-J7)))/(J5+EXP(J6*(J4-J9))))^J5))","v":0},{"$f":"IF(OR(F186<=J9,F186>100000),0,IF(F186<=K7,K8,K8+(K10-K8)*(1-((K5+EXP(K6*(K4-K7)))/(K5+EXP(K6*(K4-F186))))^K5)/(1-((K5+EXP(K6*(K4-K7)))/(K5+EXP(K6*(K4-K9))))^K5)))","v":0},7.1822872248096442E-2,4.7132260167513783E-2,0,0,"2011-04-24",{"$f":"MAX(L$12:L186)+MAX(M$12:M186)+MAX(N$12:N186)","v":140.0471322601675},"2011-04-24",9.1506177940061662E-3,null,null,null,null,null,null,null,null,null,null,null,null,null,null,null,null,null,524.17676767676755,null,{"$f":"IF(OR(AJ186<=AM7,AJ186>AM9),0,AM8+(AM10-AM8)*(1-((AM5+EXP(AM6*(AM4-AM7)))/(AM5+EXP(AM6*(AM4-AJ186))))^AM5)/(1-((AM5+EXP(AM6*(AM4-AM7)))/(AM5+EXP(AM6*(AM4-AM9))))^AM5))","v":0},{"$f":"IF(OR(AJ186<=AN7,AJ186>AN9),0,AN8+(AN10-AN8)*(1-((AN5+EXP(AN6*(AN4-AN7)))/(AN5+EXP(AN6*(AN4-AJ186))))^AN5)/(1-((AN5+EXP(AN6*(AN4-AN7)))/(AN5+EXP(AN6*(AN4-AN9))))^AN5))","v":62.22918236625307},{"$f":"IF(OR(AJ186<=AN9,AJ186>100000),0,IF(AJ186<=AO7,AO8,AO8+(AO10-AO8)*(1-((AO5+EXP(AO6*(AO4-AO7)))/(AO5+EXP(AO6*(AO4-AJ186))))^AO5)/(1-((AO5+EXP(AO6*(AO4-AO7)))/(AO5+EXP(AO6*(AO4-AO9))))^AO5)))","v":0},62.22918236625307,47.578100162715721]
[176,{"$f":"'daily uptake'!F270","v":"2011-04-25"},{"$f":"5/9*'daily uptake'!Q270","v":15.555555555555557},{"$f":"5/9*'daily uptake'!N270","v":7.2222222222222223},{"$f":"IF(AND($A187>='daily uptake'!$C$9,$A187<='daily uptake'!$C$10),$C187+E186,0)","v":0},{"$f":"IF(AND($A187>='daily uptake'!$C$18,$A187<='daily uptake'!$C$20),$D187+F186,0)","v":68.8888888888889},{"$f":"IF(AND($A187>='daily uptake'!$C$24,$A187<='daily uptake'!$C$25),$C187+G186,0)","v":0},{"$f":"IF(OR(F187<=I7,F187>I9),0,I8+(I10-I8)*(1-((I5+EXP(I6*(I4-I7)))/(I5+EXP(I6*(I4-F187))))^I5)/(1-((I5+EXP(I6*(I4-I7)))/(I5+EXP(I6*(I4-I9))))^I5))","v":9.0711054767885713E-2},{"$f":"IF(OR(F187<=J7,F187>J9),0,J8+(J10-J8)*(1-((J5+EXP(J6*(J4-J7)))/(J5+EXP(J6*(J4-F187))))^J5)/(1-((J5+EXP(J6*(J4-J7)))/(J5+EXP(J6*(J4-J9))))^J5))","v":0},{"$f":"IF(OR(F187<=J9,F187>100000),0,IF(F187<=K7,K8,K8+(K10-K8)*(1-((K5+EXP(K6*(K4-K7)))/(K5+EXP(K6*(K4-F187))))^K5)/(1-((K5+EXP(K6*(K4-K7)))/(K5+EXP(K6*(K4-K9))))^K5)))","v":0},9.0711054767885713E-2,5.9527235538855722E-2,0,0,"2011-04-25",{"$f":"MAX(L$12:L187)+MAX(M$12:M187)+MAX(N$12:N187)","v":140.05952723553887},"2011-04-25",1.239497537136458E-2,null,null,null,null,null,null,null,null,null,null,null,null,null,null,null,null,null,536.63131313131305,null,{"$f":"IF(OR(AJ187<=AM7,AJ187>AM9),0,AM8+(AM10-AM8)*(1-((AM5+EXP(AM6*(AM4-AM7)))/(AM5+EXP(AM6*(AM4-AJ187))))^AM5)/(1-((AM5+EXP(AM6*(AM4-AM7)))/(AM5+EXP(AM6*(AM4-AM9))))^AM5))","v":0},{"$f":"IF(OR(AJ187<=AN7,AJ187>AN9),0,AN8+(AN10-AN8)*(1-((AN5+EXP(AN6*(AN4-AN7)))/(AN5+EXP(AN6*(AN4-AJ187))))^AN5)/(1-((AN5+EXP(AN6*(AN4-AN7)))/(AN5+EXP(AN6*(AN4-AN9))))^AN5))","v":70.535951284879602},{"$f":"IF(OR(AJ187<=AN9,AJ187>100000),0,IF(AJ187<=AO7,AO8,AO8+(AO10-AO8)*(1-((AO5+EXP(AO6*(AO4-AO7)))/(AO5+EXP(AO6*(AO4-AJ187))))^AO5)/(1-((AO5+EXP(AO6*(AO4-AO7)))/(AO5+EXP(AO6*(AO4-AO9))))^AO5)))","v":0},70.535951284879602,53.929144296846509]
[177,{"$f":"'daily uptake'!F271","v":"2011-04-26"},{"$f":"5/9*'daily uptake'!Q271","v":16.666666666666668},{"$f":"5/9*'daily uptake'!N271","v":7.7777777777777786},{"$f":"IF(AND($A188>='daily uptake'!$C$9,$A188<='daily uptake'!$C$10),$C188+E187,0)","v":0},{"$f":"IF(AND($A188>='daily uptake'!$C$18,$A188<='daily uptake'!$C$20),$D188+F187,0)","v":76.666666666666686},{"$f":"IF(AND($A188>='daily uptake'!$C$24,$A188<='daily uptake'!$C$25),$C188+G187,0)","v":0},{"$f":"IF(OR(F188<=I7,F188>I9),0,I8+(I10-I8)*(1-((I5+EXP(I6*(I4-I7)))/(I5+EXP(I6*(I4-F188))))^I5)/(1-((I5+EXP(I6*(I4-I7)))/(I5+EXP(I6*(I4-I9))))^I5))","v":0.11552165941095138},{"$f":"IF(OR(F188<=J7,F188>J9),0,J8+(J10-J8)*(1-((J5+EXP(J6*(J4-J7)))/(J5+EXP(J6*(J4-F188))))^J5)/(1-((J5+EXP(J6*(J4-J7)))/(J5+EXP(J6*(J4-J9))))^J5))","v":0},{"$f":"IF(OR(F188<=J9,F188>100000),0,IF(F188<=K7,K8,K8+(K10-K8)*(1-((K5+EXP(K6*(K4-K7)))/(K5+EXP(K6*(K4-F188))))^K5)/(1-((K5+EXP(K6*(K4-K7)))/(K5+EXP(K6*(K4-K9))))^K5)))","v":0},0.11552165941095138,7.5808676761519853E-2,0,0,"2011-04-26",{"$f":"MAX(L$12:L188)+MAX(M$12:M188)+MAX(N$12:N188)","v":140.07580867676151},"2011-04-26",1.6281441222645299E-2,null,null,null,null,null,null,null,null,null,null,null,null,null,null,null,null,null,549.01515151515139,null,{"$f":"IF(OR(AJ188<=AM7,AJ188>AM9),0,AM8+(AM10-AM8)*(1-((AM5+EXP(AM6*(AM4-AM7)))/(AM5+EXP(AM6*(AM4-AJ188))))^AM5)/(1-((AM5+EXP(AM6*(AM4-AM7)))/(AM5+EXP(AM6*(AM4-AM9))))^AM5))","v":0},{"$f":"IF(OR(AJ188<=AN7,AJ188>AN9),0,AN8+(AN10-AN8)*(1-((AN5+EXP(AN6*(AN4-AN7)))/(AN5+EXP(AN6*(AN4-AJ188))))^AN5)/(1-((AN5+EXP(AN6*(AN4-AN7)))/(AN5+EXP(AN6*(AN4-AN9))))^AN5))","v":79.84244902042235},{"$f":"IF(OR(AJ188<=AN9,AJ188>100000),0,IF(AJ188<=AO7,AO8,AO8+(AO10-AO8)*(1-((AO5+EXP(AO6*(AO4-AO7)))/(AO5+EXP(AO6*(AO4-AJ188))))^AO5)/(1-((AO5+EXP(AO6*(AO4-AO7)))/(AO5+EXP(AO6*(AO4-AO9))))^AO5)))","v":0},79.84244902042235,61.044543609337929]
[178,{"$f":"'daily uptake'!F272","v":"2011-04-27"},{"$f":"5/9*'daily uptake'!Q272","v":16.388888888888889},{"$f":"5/9*'daily uptake'!N272","v":7.2222222222222223},{"$f":"IF(AND($A189>='daily uptake'!$C$9,$A189<='daily uptake'!$C$10),$C189+E188,0)","v":0},{"$f":"IF(AND($A189>='daily uptake'!$C$18,$A189<='daily uptake'!$C$20),$D189+F188,0)","v":83.888888888888914},{"$f":"IF(AND($A189>='daily uptake'!$C$24,$A189<='daily uptake'!$C$25),$C189+G188,0)","v":0},{"$f":"IF(OR(F189<=I7,F189>I9),0,I8+(I10-I8)*(1-((I5+EXP(I6*(I4-I7)))/(I5+EXP(I6*(I4-F189))))^I5)/(1-((I5+EXP(I6*(I4-I7)))/(I5+EXP(I6*(I4-I9))))^I5))","v":0.14358855291965492},{"$f":"IF(OR(F189<=J7,F189>J9),0,J8+(J10-J8)*(1-((J5+EXP(J6*(J4-J7)))/(J5+EXP(J6*(J4-F189))))^J5)/(1-((J5+EXP(J6*(J4-J7)))/(J5+EXP(J6*(J4-J9))))^J5))","v":0},{"$f":"IF(OR(F189<=J9,F189>100000),0,IF(F189<=K7,K8,K8+(K10-K8)*(1-((K5+EXP(K6*(K4-K7)))/(K5+EXP(K6*(K4-F189))))^K5)/(1-((K5+EXP(K6*(K4-K7)))/(K5+EXP(K6*(K4-K9))))^K5)))","v":0},0.14358855291965492,9.4226989557151308E-2,0,0,"2011-04-27",{"$f":"MAX(L$12:L189)+MAX(M$12:M189)+MAX(N$12:N189)","v":140.09422698955714},"2011-04-27",1.8418312795631664E-2,null,null,null,null,null,null,null,null,null,null,null,null,null,null,null,null,null,561.46969696969688,null,{"$f":"IF(OR(AJ189<=AM7,AJ189>AM9),0,AM8+(AM10-AM8)*(1-((AM5+EXP(AM6*(AM4-AM7)))/(AM5+EXP(AM6*(AM4-AJ189))))^AM5)/(1-((AM5+EXP(AM6*(AM4-AM7)))/(AM5+EXP(AM6*(AM4-AM9))))^AM5))","v":0},{"$f":"IF(OR(AJ189<=AN7,AJ189>AN9),0,AN8+(AN10-AN8)*(1-((AN5+EXP(AN6*(AN4-AN7)))/(AN5+EXP(AN6*(AN4-AJ189))))^AN5)/(1-((AN5+EXP(AN6*(AN4-AN7)))/(AN5+EXP(AN6*(AN4-AN9))))^AN5))","v":90.237767350258181},{"$f":"IF(OR(AJ189<=AN9,AJ189>100000),0,IF(AJ189<=AO7,AO8,AO8+(AO10-AO8)*(1-((AO5+EXP(AO6*(AO4-AO7)))/(AO5+EXP(AO6*(AO4-AJ189))))^AO5)/(1-((AO5+EXP(AO6*(AO4-AO7)))/(AO5+EXP(AO6*(AO4-AO9))))^AO5)))","v":0},90.237767350258181,68.992414333547529]
[179,{"$f":"'daily uptake'!F273","v":"2011-04-28"},{"$f":"5/9*'daily uptake'!Q273","v":15.555555555555557},{"$f":"5/9*'daily uptake'!N273","v":6.3888888888888893},{"$f":"IF(AND($A190>='daily uptake'!$C$9,$A190<='daily uptake'!$C$10),$C190+E189,0)","v":0},{"$f":"IF(AND($A190>='daily uptake'!$C$18,$A190<='daily uptake'!$C$20),$D190+F189,0)","v":90.2777777777778},{"$f":"IF(AND($A190>='daily uptake'!$C$24,$A190<='daily uptake'!$C$25),$C190+G189,0)","v":0},{"$f":"IF(OR(F190<=I7,F190>I9),0,I8+(I10-I8)*(1-((I5+EXP(I6*(I4-I7)))/(I5+EXP(I6*(I4-F190))))^I5)/(1-((I5+EXP(I6*(I4-I7)))/(I5+EXP(I6*(I4-I9))))^I5))","v":0.17326281522448456},{"$f":"IF(OR(F190<=J7,F190>J9),0,J8+(J10-J8)*(1-((J5+EXP(J6*(J4-J7)))/(J5+EXP(J6*(J4-F190))))^J5)/(1-((J5+EXP(J6*(J4-J7)))/(J5+EXP(J6*(J4-J9))))^J5))","v":0},{"$f":"IF(OR(F190<=J9,F190>100000),0,IF(F190<=K7,K8,K8+(K10-K8)*(1-((K5+EXP(K6*(K4-K7)))/(K5+EXP(K6*(K4-F190))))^K5)/(1-((K5+EXP(K6*(K4-K7)))/(K5+EXP(K6*(K4-K9))))^K5)))","v":0},0.17326281522448456,0.1137001045615063,0,0,"2011-04-28",{"$f":"MAX(L$12:L190)+MAX(M$12:M190)+MAX(N$12:N190)","v":140.1137001045615},"2011-04-28",1.9473115004359443E-2,null,null,null,null,null,null,null,null,null,null,null,null,null,null,null,null,null,573.63131313131305,null,{"$f":"IF(OR(AJ190<=AM7,AJ190>AM9),0,AM8+(AM10-AM8)*(1-((AM5+EXP(AM6*(AM4-AM7)))/(AM5+EXP(AM6*(AM4-AJ190))))^AM5)/(1-((AM5+EXP(AM6*(AM4-AM7)))/(AM5+EXP(AM6*(AM4-AM9))))^AM5))","v":0},{"$f":"IF(OR(AJ190<=AN7,AJ190>AN9),0,AN8+(AN10-AN8)*(1-((AN5+EXP(AN6*(AN4-AN7)))/(AN5+EXP(AN6*(AN4-AJ190))))^AN5)/(1-((AN5+EXP(AN6*(AN4-AN7)))/(AN5+EXP(AN6*(AN4-AN9))))^AN5))","v":101.31996445181881},{"$f":"IF(OR(AJ190<=AN9,AJ190>100000),0,IF(AJ190<=AO7,AO8,AO8+(AO10-AO8)*(1-((AO5+EXP(AO6*(AO4-AO7)))/(AO5+EXP(AO6*(AO4-AJ190))))^AO5)/(1-((AO5+EXP(AO6*(AO4-AO7)))/(AO5+EXP(AO6*(AO4-AO9))))^AO5)))","v":0},101.31996445181881,77.465446818816815]
[180,{"$f":"'daily uptake'!F274","v":"2011-04-29"},{"$f":"5/9*'daily uptake'!Q274","v":16.111111111111111},{"$f":"5/9*'daily uptake'!N274","v":7.2222222222222223},{"$f":"IF(AND($A191>='daily uptake'!$C$9,$A191<='daily uptake'!$C$10),$C191+E190,0)","v":0},{"$f":"IF(AND($A191>='daily uptake'!$C$18,$A191<='daily uptake'!$C$20),$D191+F190,0)","v":97.500000000000028},{"$f":"IF(AND($A191>='daily uptake'!$C$24,$A191<='daily uptake'!$C$25),$C191+G190,0)","v":0},{"$f":"IF(OR(F191<=I7,F191>I9),0,I8+(I10-I8)*(1-((I5+EXP(I6*(I4-I7)))/(I5+EXP(I6*(I4-F191))))^I5)/(1-((I5+EXP(I6*(I4-I7)))/(I5+EXP(I6*(I4-I9))))^I5))","v":0.21334545914534578},{"$f":"IF(OR(F191<=J7,F191>J9),0,J8+(J10-J8)*(1-((J5+EXP(J6*(J4-J7)))/(J5+EXP(J6*(J4-F191))))^J5)/(1-((J5+EXP(J6*(J4-J7)))/(J5+EXP(J6*(J4-J9))))^J5))","v":0},{"$f":"IF(OR(F191<=J9,F191>100000),0,IF(F191<=K7,K8,K8+(K10-K8)*(1-((K5+EXP(K6*(K4-K7)))/(K5+EXP(K6*(K4-F191))))^K5)/(1-((K5+EXP(K6*(K4-K7)))/(K5+EXP(K6*(K4-K9))))^K5)))","v":0},0.21334545914534578,0.14000350266224038,0,0,"2011-04-29",{"$f":"MAX(L$12:L191)+MAX(M$12:M191)+MAX(N$12:N191)","v":140.14000350266224},"2011-04-29",2.6303398100736786E-2,null,null,null,null,null,null,null,null,null,null,null,null,null,null,null,null,null,585.65656565656559,null,{"$f":"IF(OR(AJ191<=AM7,AJ191>AM9),0,AM8+(AM10-AM8)*(1-((AM5+EXP(AM6*(AM4-AM7)))/(AM5+EXP(AM6*(AM4-AJ191))))^AM5)/(1-((AM5+EXP(AM6*(AM4-AM7)))/(AM5+EXP(AM6*(AM4-AM9))))^AM5))","v":0},{"$f":"IF(OR(AJ191<=AN7,AJ191>AN9),0,AN8+(AN10-AN8)*(1-((AN5+EXP(AN6*(AN4-AN7)))/(AN5+EXP(AN6*(AN4-AJ191))))^AN5)/(1-((AN5+EXP(AN6*(AN4-AN7)))/(AN5+EXP(AN6*(AN4-AN9))))^AN5))","v":113.05397499112914},{"$f":"IF(OR(AJ191<=AN9,AJ191>100000),0,IF(AJ191<=AO7,AO8,AO8+(AO10-AO8)*(1-((AO5+EXP(AO6*(AO4-AO7)))/(AO5+EXP(AO6*(AO4-AJ191))))^AO5)/(1-((AO5+EXP(AO6*(AO4-AO7)))/(AO5+EXP(AO6*(AO4-AO9))))^AO5)))","v":0},113.05397499112914,86.436831425220163]
[181,{"$f":"'daily uptake'!F275","v":"2011-04-30"},{"$f":"5/9*'daily uptake'!Q275","v":16.944444444444446},{"$f":"5/9*'daily uptake'!N275","v":8.0555555555555554},{"$f":"IF(AND($A192>='daily uptake'!$C$9,$A192<='daily uptake'!$C$10),$C192+E191,0)","v":0},{"$f":"IF(AND($A192>='daily uptake'!$C$18,$A192<='daily uptake'!$C$20),$D192+F191,0)","v":105.55555555555559},{"$f":"IF(AND($A192>='daily uptake'!$C$24,$A192<='daily uptake'!$C$25),$C192+G191,0)","v":0},{"$f":"IF(OR(F192<=I7,F192>I9),0,I8+(I10-I8)*(1-((I5+EXP(I6*(I4-I7)))/(I5+EXP(I6*(I4-F192))))^I5)/(1-((I5+EXP(I6*(I4-I7)))/(I5+EXP(I6*(I4-I9))))^I5))","v":0.2678762853925325},{"$f":"IF(OR(F192<=J7,F192>J9),0,J8+(J10-J8)*(1-((J5+EXP(J6*(J4-J7)))/(J5+EXP(J6*(J4-F192))))^J5)/(1-((J5+EXP(J6*(J4-J7)))/(J5+EXP(J6*(J4-J9))))^J5))","v":0},{"$f":"IF(OR(F192<=J9,F192>100000),0,IF(F192<=K7,K8,K8+(K10-K8)*(1-((K5+EXP(K6*(K4-K7)))/(K5+EXP(K6*(K4-F192))))^K5)/(1-((K5+EXP(K6*(K4-K7)))/(K5+EXP(K6*(K4-K9))))^K5)))","v":0},0.2678762853925325,0.17578821871973571,0,0,"2011-04-30",{"$f":"MAX(L$12:L192)+MAX(M$12:M192)+MAX(N$12:N192)","v":140.17578821871973},"2011-04-30",3.5784716057492005E-2,null,null,null,null,null,null,null,null,null,null,null,null,null,null,null,null,null,597.82323232323222,null,{"$f":"IF(OR(AJ192<=AM7,AJ192>AM9),0,AM8+(AM10-AM8)*(1-((AM5+EXP(AM6*(AM4-AM7)))/(AM5+EXP(AM6*(AM4-AJ192))))^AM5)/(1-((AM5+EXP(AM6*(AM4-AM7)))/(AM5+EXP(AM6*(AM4-AM9))))^AM5))","v":0},{"$f":"IF(OR(AJ192<=AN7,AJ192>AN9),0,AN8+(AN10-AN8)*(1-((AN5+EXP(AN6*(AN4-AN7)))/(AN5+EXP(AN6*(AN4-AJ192))))^AN5)/(1-((AN5+EXP(AN6*(AN4-AN7)))/(AN5+EXP(AN6*(AN4-AN9))))^AN5))","v":125.51800227749652},{"$f":"IF(OR(AJ192<=AN9,AJ192>100000),0,IF(AJ192<=AO7,AO8,AO8+(AO10-AO8)*(1-((AO5+EXP(AO6*(AO4-AO7)))/(AO5+EXP(AO6*(AO4-AJ192))))^AO5)/(1-((AO5+EXP(AO6*(AO4-AO7)))/(AO5+EXP(AO6*(AO4-AO9))))^AO5)))","v":0},125.51800227749652,95.966359471585776]
[182,{"$f":"'daily uptake'!F276","v":"2011-05-01"},{"$f":"5/9*'daily uptake'!Q276","v":17.222222222222221},{"$f":"5/9*'daily uptake'!N276","v":7.7777777777777786},{"$f":"IF(AND($A193>='daily uptake'!$C$9,$A193<='daily uptake'!$C$10),$C193+E192,0)","v":0},{"$f":"IF(AND($A193>='daily uptake'!$C$18,$A193<='daily uptake'!$C$20),$D193+F192,0)","v":113.33333333333337},{"$f":"IF(AND($A193>='daily uptake'!$C$24,$A193<='daily uptake'!$C$25),$C193+G192,0)","v":0},{"$f":"IF(OR(F193<=I7,F193>I9),0,I8+(I10-I8)*(1-((I5+EXP(I6*(I4-I7)))/(I5+EXP(I6*(I4-F193))))^I5)/(1-((I5+EXP(I6*(I4-I7)))/(I5+EXP(I6*(I4-I9))))^I5))","v":0.33242321295381239},{"$f":"IF(OR(F193<=J7,F193>J9),0,J8+(J10-J8)*(1-((J5+EXP(J6*(J4-J7)))/(J5+EXP(J6*(J4-F193))))^J5)/(1-((J5+EXP(J6*(J4-J7)))/(J5+EXP(J6*(J4-J9))))^J5))","v":0},{"$f":"IF(OR(F193<=J9,F193>100000),0,IF(F193<=K7,K8,K8+(K10-K8)*(1-((K5+EXP(K6*(K4-K7)))/(K5+EXP(K6*(K4-F193))))^K5)/(1-((K5+EXP(K6*(K4-K7)))/(K5+EXP(K6*(K4-K9))))^K5)))","v":0},0.33242321295381239,0.21814579211673304,0,0,"2011-05-01",{"$f":"MAX(L$12:L193)+MAX(M$12:M193)+MAX(N$12:N193)","v":140.21814579211673},"2011-05-01",4.2357573396998305E-2,null,null,null,null,null,null,null,null,null,null,null,null,null,null,null,null,null,610.45454545454538,null,{"$f":"IF(OR(AJ193<=AM7,AJ193>AM9),0,AM8+(AM10-AM8)*(1-((AM5+EXP(AM6*(AM4-AM7)))/(AM5+EXP(AM6*(AM4-AJ193))))^AM5)/(1-((AM5+EXP(AM6*(AM4-AM7)))/(AM5+EXP(AM6*(AM4-AM9))))^AM5))","v":0},{"$f":"IF(OR(AJ193<=AN7,AJ193>AN9),0,AN8+(AN10-AN8)*(1-((AN5+EXP(AN6*(AN4-AN7)))/(AN5+EXP(AN6*(AN4-AJ193))))^AN5)/(1-((AN5+EXP(AN6*(AN4-AN7)))/(AN5+EXP(AN6*(AN4-AN9))))^AN5))","v":138.81509717671895},{"$f":"IF(OR(AJ193<=AN9,AJ193>100000),0,IF(AJ193<=AO7,AO8,AO8+(AO10-AO8)*(1-((AO5+EXP(AO6*(AO4-AO7)))/(AO5+EXP(AO6*(AO4-AJ193))))^AO5)/(1-((AO5+EXP(AO6*(AO4-AO7)))/(AO5+EXP(AO6*(AO4-AO9))))^AO5)))","v":0},138.81509717671895,106.13281978701856]
[183,{"$f":"'daily uptake'!F277","v":"2011-05-02"},{"$f":"5/9*'daily uptake'!Q277","v":16.944444444444446},{"$f":"5/9*'daily uptake'!N277","v":7.2222222222222223},{"$f":"IF(AND($A194>='daily uptake'!$C$9,$A194<='daily uptake'!$C$10),$C194+E193,0)","v":0},{"$f":"IF(AND($A194>='daily uptake'!$C$18,$A194<='daily uptake'!$C$20),$D194+F193,0)","v":120.5555555555556},{"$f":"IF(AND($A194>='daily uptake'!$C$24,$A194<='daily uptake'!$C$25),$C194+G193,0)","v":0},{"$f":"IF(OR(F194<=I7,F194>I9),0,I8+(I10-I8)*(1-((I5+EXP(I6*(I4-I7)))/(I5+EXP(I6*(I4-F194))))^I5)/(1-((I5+EXP(I6*(I4-I7)))/(I5+EXP(I6*(I4-I9))))^I5))","v":0.40497545664909512},{"$f":"IF(OR(F194<=J7,F194>J9),0,J8+(J10-J8)*(1-((J5+EXP(J6*(J4-J7)))/(J5+EXP(J6*(J4-F194))))^J5)/(1-((J5+EXP(J6*(J4-J7)))/(J5+EXP(J6*(J4-J9))))^J5))","v":0},{"$f":"IF(OR(F194<=J9,F194>100000),0,IF(F194<=K7,K8,K8+(K10-K8)*(1-((K5+EXP(K6*(K4-K7)))/(K5+EXP(K6*(K4-F194))))^K5)/(1-((K5+EXP(K6*(K4-K7)))/(K5+EXP(K6*(K4-K9))))^K5)))","v":0},0.40497545664909512,0.26575668706633676,0,0,"2011-05-02",{"$f":"MAX(L$12:L194)+MAX(M$12:M194)+MAX(N$12:N194)","v":140.26575668706633},"2011-05-02",4.7610894949599469E-2,null,null,null,null,null,null,null,null,null,null,null,null,null,null,null,null,null,622.83333333333326,null,{"$f":"IF(OR(AJ194<=AM7,AJ194>AM9),0,AM8+(AM10-AM8)*(1-((AM5+EXP(AM6*(AM4-AM7)))/(AM5+EXP(AM6*(AM4-AJ194))))^AM5)/(1-((AM5+EXP(AM6*(AM4-AM7)))/(AM5+EXP(AM6*(AM4-AM9))))^AM5))","v":0},{"$f":"IF(OR(AJ194<=AN7,AJ194>AN9),0,AN8+(AN10-AN8)*(1-((AN5+EXP(AN6*(AN4-AN7)))/(AN5+EXP(AN6*(AN4-AJ194))))^AN5)/(1-((AN5+EXP(AN6*(AN4-AN7)))/(AN5+EXP(AN6*(AN4-AN9))))^AN5))","v":151.87715215766909},{"$f":"IF(OR(AJ194<=AN9,AJ194>100000),0,IF(AJ194<=AO7,AO8,AO8+(AO10-AO8)*(1-((AO5+EXP(AO6*(AO4-AO7)))/(AO5+EXP(AO6*(AO4-AJ194))))^AO5)/(1-((AO5+EXP(AO6*(AO4-AO7)))/(AO5+EXP(AO6*(AO4-AO9))))^AO5)))","v":0},151.87715215766909,116.11957739146312]
[184,{"$f":"'daily uptake'!F278","v":"2011-05-03"},{"$f":"5/9*'daily uptake'!Q278","v":16.944444444444446},{"$f":"5/9*'daily uptake'!N278","v":7.5},{"$f":"IF(AND($A195>='daily uptake'!$C$9,$A195<='daily uptake'!$C$10),$C195+E194,0)","v":0},{"$f":"IF(AND($A195>='daily uptake'!$C$18,$A195<='daily uptake'!$C$20),$D195+F194,0)","v":128.0555555555556},{"$f":"IF(AND($A195>='daily uptake'!$C$24,$A195<='daily uptake'!$C$25),$C195+G194,0)","v":0},{"$f":"IF(OR(F195<=I7,F195>I9),0,I8+(I10-I8)*(1-((I5+EXP(I6*(I4-I7)))/(I5+EXP(I6*(I4-F195))))^I5)/(1-((I5+EXP(I6*(I4-I7)))/(I5+EXP(I6*(I4-I9))))^I5))","v":0.4956897413933713},{"$f":"IF(OR(F195<=J7,F195>J9),0,J8+(J10-J8)*(1-((J5+EXP(J6*(J4-J7)))/(J5+EXP(J6*(J4-F195))))^J5)/(1-((J5+EXP(J6*(J4-J7)))/(J5+EXP(J6*(J4-J9))))^J5))","v":0},{"$f":"IF(OR(F195<=J9,F195>100000),0,IF(F195<=K7,K8,K8+(K10-K8)*(1-((K5+EXP(K6*(K4-K7)))/(K5+EXP(K6*(K4-F195))))^K5)/(1-((K5+EXP(K6*(K4-K7)))/(K5+EXP(K6*(K4-K9))))^K5)))","v":0},0.4956897413933713,0.3252860422097531,0,0,"2011-05-03",{"$f":"MAX(L$12:L195)+MAX(M$12:M195)+MAX(N$12:N195)","v":140.32528604220974},"2011-05-03",5.9529355143411067E-2,null,null,null,null,null,null,null,null,null,null,null,null,null,null,null,null,null,635.44444444444434,null,{"$f":"IF(OR(AJ195<=AM7,AJ195>AM9),0,AM8+(AM10-AM8)*(1-((AM5+EXP(AM6*(AM4-AM7)))/(AM5+EXP(AM6*(AM4-AJ195))))^AM5)/(1-((AM5+EXP(AM6*(AM4-AM7)))/(AM5+EXP(AM6*(AM4-AM9))))^AM5))","v":0},{"$f":"IF(OR(AJ195<=AN7,AJ195>AN9),0,AN8+(AN10-AN8)*(1-((AN5+EXP(AN6*(AN4-AN7)))/(AN5+EXP(AN6*(AN4-AJ195))))^AN5)/(1-((AN5+EXP(AN6*(AN4-AN7)))/(AN5+EXP(AN6*(AN4-AN9))))^AN5))","v":164.85830940449401},{"$f":"IF(OR(AJ195<=AN9,AJ195>100000),0,IF(AJ195<=AO7,AO8,AO8+(AO10-AO8)*(1-((AO5+EXP(AO6*(AO4-AO7)))/(AO5+EXP(AO6*(AO4-AJ195))))^AO5)/(1-((AO5+EXP(AO6*(AO4-AO7)))/(AO5+EXP(AO6*(AO4-AO9))))^AO5)))","v":0},164.85830940449401,126.04448362086481]
[185,{"$f":"'daily uptake'!F279","v":"2011-05-04"},{"$f":"5/9*'daily uptake'!Q279","v":16.388888888888889},{"$f":"5/9*'daily uptake'!N279","v":7.2222222222222223},{"$f":"IF(AND($A196>='daily uptake'!$C$9,$A196<='daily uptake'!$C$10),$C196+E195,0)","v":0},{"$f":"IF(AND($A196>='daily uptake'!$C$18,$A196<='daily uptake'!$C$20),$D196+F195,0)","v":135.27777777777783},{"$f":"IF(AND($A196>='daily uptake'!$C$24,$A196<='daily uptake'!$C$25),$C196+G195,0)","v":0},{"$f":"IF(OR(F196<=I7,F196>I9),0,I8+(I10-I8)*(1-((I5+EXP(I6*(I4-I7)))/(I5+EXP(I6*(I4-F196))))^I5)/(1-((I5+EXP(I6*(I4-I7)))/(I5+EXP(I6*(I4-I9))))^I5))","v":0.60058192583335268},{"$f":"IF(OR(F196<=J7,F196>J9),0,J8+(J10-J8)*(1-((J5+EXP(J6*(J4-J7)))/(J5+EXP(J6*(J4-F196))))^J5)/(1-((J5+EXP(J6*(J4-J7)))/(J5+EXP(J6*(J4-J9))))^J5))","v":0},{"$f":"IF(OR(F196<=J9,F196>100000),0,IF(F196<=K7,K8,K8+(K10-K8)*(1-((K5+EXP(K6*(K4-K7)))/(K5+EXP(K6*(K4-F196))))^K5)/(1-((K5+EXP(K6*(K4-K7)))/(K5+EXP(K6*(K4-K9))))^K5)))","v":0},0.60058192583335268,0.39411934797740245,0,0,"2011-05-04",{"$f":"MAX(L$12:L196)+MAX(M$12:M196)+MAX(N$12:N196)","v":140.39411934797741},"2011-05-04",6.8833305767668662E-2,null,null,null,null,null,null,null,null,null,null,null,null,null,null,null,null,null,648.40909090909076,null,{"$f":"IF(OR(AJ196<=AM7,AJ196>AM9),0,AM8+(AM10-AM8)*(1-((AM5+EXP(AM6*(AM4-AM7)))/(AM5+EXP(AM6*(AM4-AJ196))))^AM5)/(1-((AM5+EXP(AM6*(AM4-AM7)))/(AM5+EXP(AM6*(AM4-AM9))))^AM5))","v":0},{"$f":"IF(OR(AJ196<=AN7,AJ196>AN9),0,AN8+(AN10-AN8)*(1-((AN5+EXP(AN6*(AN4-AN7)))/(AN5+EXP(AN6*(AN4-AJ196))))^AN5)/(1-((AN5+EXP(AN6*(AN4-AN7)))/(AN5+EXP(AN6*(AN4-AN9))))^AN5))","v":177.49033727219353},{"$f":"IF(OR(AJ196<=AN9,AJ196>100000),0,IF(AJ196<=AO7,AO8,AO8+(AO10-AO8)*(1-((AO5+EXP(AO6*(AO4-AO7)))/(AO5+EXP(AO6*(AO4-AJ196))))^AO5)/(1-((AO5+EXP(AO6*(AO4-AO7)))/(AO5+EXP(AO6*(AO4-AO9))))^AO5)))","v":0},177.49033727219353,135.7024586141784]
[186,{"$f":"'daily uptake'!F280","v":"2011-05-05"},{"$f":"5/9*'daily uptake'!Q280","v":16.666666666666668},{"$f":"5/9*'daily uptake'!N280","v":6.9444444444444446},{"$f":"IF(AND($A197>='daily uptake'!$C$9,$A197<='daily uptake'!$C$10),$C197+E196,0)","v":0},{"$f":"IF(AND($A197>='daily uptake'!$C$18,$A197<='daily uptake'!$C$20),$D197+F196,0)","v":142.22222222222229},{"$f":"IF(AND($A197>='daily uptake'!$C$24,$A197<='daily uptake'!$C$25),$C197+G196,0)","v":0},{"$f":"IF(OR(F197<=I7,F197>I9),0,I8+(I10-I8)*(1-((I5+EXP(I6*(I4-I7)))/(I5+EXP(I6*(I4-F197))))^I5)/(1-((I5+EXP(I6*(I4-I7)))/(I5+EXP(I6*(I4-I9))))^I5))","v":0.72052010067668548},{"$f":"IF(OR(F197<=J7,F197>J9),0,J8+(J10-J8)*(1-((J5+EXP(J6*(J4-J7)))/(J5+EXP(J6*(J4-F197))))^J5)/(1-((J5+EXP(J6*(J4-J7)))/(J5+EXP(J6*(J4-J9))))^J5))","v":0},{"$f":"IF(OR(F197<=J9,F197>100000),0,IF(F197<=K7,K8,K8+(K10-K8)*(1-((K5+EXP(K6*(K4-K7)))/(K5+EXP(K6*(K4-F197))))^K5)/(1-((K5+EXP(K6*(K4-K7)))/(K5+EXP(K6*(K4-K9))))^K5)))","v":0},0.72052010067668548,0.4728262707694319,0,0,"2011-05-05",{"$f":"MAX(L$12:L197)+MAX(M$12:M197)+MAX(N$12:N197)","v":140.47282627076945},"2011-05-05",7.8706922792036949E-2,null,null,null,null,null,null,null,null,null,null,null,null,null,null,null,null,null,661.44949494949481,null,{"$f":"IF(OR(AJ197<=AM7,AJ197>AM9),0,AM8+(AM10-AM8)*(1-((AM5+EXP(AM6*(AM4-AM7)))/(AM5+EXP(AM6*(AM4-AJ197))))^AM5)/(1-((AM5+EXP(AM6*(AM4-AM7)))/(AM5+EXP(AM6*(AM4-AM9))))^AM5))","v":0},{"$f":"IF(OR(AJ197<=AN7,AJ197>AN9),0,AN8+(AN10-AN8)*(1-((AN5+EXP(AN6*(AN4-AN7)))/(AN5+EXP(AN6*(AN4-AJ197))))^AN5)/(1-((AN5+EXP(AN6*(AN4-AN7)))/(AN5+EXP(AN6*(AN4-AN9))))^AN5))","v":189.13286656612061},{"$f":"IF(OR(AJ197<=AN9,AJ197>100000),0,IF(AJ197<=AO7,AO8,AO8+(AO10-AO8)*(1-((AO5+EXP(AO6*(AO4-AO7)))/(AO5+EXP(AO6*(AO4-AJ197))))^AO5)/(1-((AO5+EXP(AO6*(AO4-AO7)))/(AO5+EXP(AO6*(AO4-AO9))))^AO5)))","v":0},189.13286656612061,144.60390008955622]
[187,{"$f":"'daily uptake'!F281","v":"2011-05-06"},{"$f":"5/9*'daily uptake'!Q281","v":16.666666666666668},{"$f":"5/9*'daily uptake'!N281","v":7.5},{"$f":"IF(AND($A198>='daily uptake'!$C$9,$A198<='daily uptake'!$C$10),$C198+E197,0)","v":0},{"$f":"IF(AND($A198>='daily uptake'!$C$18,$A198<='daily uptake'!$C$20),$D198+F197,0)","v":149.72222222222229},{"$f":"IF(AND($A198>='daily uptake'!$C$24,$A198<='daily uptake'!$C$25),$C198+G197,0)","v":0},{"$f":"IF(OR(F198<=I7,F198>I9),0,I8+(I10-I8)*(1-((I5+EXP(I6*(I4-I7)))/(I5+EXP(I6*(I4-F198))))^I5)/(1-((I5+EXP(I6*(I4-I7)))/(I5+EXP(I6*(I4-I9))))^I5))","v":0.87461055041777813},{"$f":"IF(OR(F198<=J7,F198>J9),0,J8+(J10-J8)*(1-((J5+EXP(J6*(J4-J7)))/(J5+EXP(J6*(J4-F198))))^J5)/(1-((J5+EXP(J6*(J4-J7)))/(J5+EXP(J6*(J4-J9))))^J5))","v":0},{"$f":"IF(OR(F198<=J9,F198>100000),0,IF(F198<=K7,K8,K8+(K10-K8)*(1-((K5+EXP(K6*(K4-K7)))/(K5+EXP(K6*(K4-F198))))^K5)/(1-((K5+EXP(K6*(K4-K7)))/(K5+EXP(K6*(K4-K9))))^K5)))","v":0},0.87461055041777813,0.5739449108238035,0,0,"2011-05-06",{"$f":"MAX(L$12:L198)+MAX(M$12:M198)+MAX(N$12:N198)","v":140.5739449108238},"2011-05-06",0.10111864005435223,null,null,null,null,null,null,null,null,null,null,null,null,null,null,null,null,null,674.37373737373719,null,{"$f":"IF(OR(AJ198<=AM7,AJ198>AM9),0,AM8+(AM10-AM8)*(1-((AM5+EXP(AM6*(AM4-AM7)))/(AM5+EXP(AM6*(AM4-AJ198))))^AM5)/(1-((AM5+EXP(AM6*(AM4-AM7)))/(AM5+EXP(AM6*(AM4-AM9))))^AM5))","v":0},{"$f":"IF(OR(AJ198<=AN7,AJ198>AN9),0,AN8+(AN10-AN8)*(1-((AN5+EXP(AN6*(AN4-AN7)))/(AN5+EXP(AN6*(AN4-AJ198))))^AN5)/(1-((AN5+EXP(AN6*(AN4-AN7)))/(AN5+EXP(AN6*(AN4-AN9))))^AN5))","v":199.372401322759},{"$f":"IF(OR(AJ198<=AN9,AJ198>100000),0,IF(AJ198<=AO7,AO8,AO8+(AO10-AO8)*(1-((AO5+EXP(AO6*(AO4-AO7)))/(AO5+EXP(AO6*(AO4-AJ198))))^AO5)/(1-((AO5+EXP(AO6*(AO4-AO7)))/(AO5+EXP(AO6*(AO4-AO9))))^AO5)))","v":0},199.372401322759,152.43266453328042]
[188,{"$f":"'daily uptake'!F282","v":"2011-05-07"},{"$f":"5/9*'daily uptake'!Q282","v":16.944444444444446},{"$f":"5/9*'daily uptake'!N282","v":7.5},{"$f":"IF(AND($A199>='daily uptake'!$C$9,$A199<='daily uptake'!$C$10),$C199+E198,0)","v":0},{"$f":"IF(AND($A199>='daily uptake'!$C$18,$A199<='daily uptake'!$C$20),$D199+F198,0)","v":157.22222222222229},{"$f":"IF(AND($A199>='daily uptake'!$C$24,$A199<='daily uptake'!$C$25),$C199+G198,0)","v":0},{"$f":"IF(OR(F199<=I7,F199>I9),0,I8+(I10-I8)*(1-((I5+EXP(I6*(I4-I7)))/(I5+EXP(I6*(I4-F199))))^I5)/(1-((I5+EXP(I6*(I4-I7)))/(I5+EXP(I6*(I4-I9))))^I5))","v":1.0583468931843063},{"$f":"IF(OR(F199<=J7,F199>J9),0,J8+(J10-J8)*(1-((J5+EXP(J6*(J4-J7)))/(J5+EXP(J6*(J4-F199))))^J5)/(1-((J5+EXP(J6*(J4-J7)))/(J5+EXP(J6*(J4-J9))))^J5))","v":0},{"$f":"IF(OR(F199<=J9,F199>100000),0,IF(F199<=K7,K8,K8+(K10-K8)*(1-((K5+EXP(K6*(K4-K7)))/(K5+EXP(K6*(K4-F199))))^K5)/(1-((K5+EXP(K6*(K4-K7)))/(K5+EXP(K6*(K4-K9))))^K5)))","v":0},1.0583468931843063,0.69451804913531145,0,0,"2011-05-07",{"$f":"MAX(L$12:L199)+MAX(M$12:M199)+MAX(N$12:N199)","v":140.69451804913533},"2011-05-07",0.12057313831152783,null,null,null,null,null,null,null,null,null,null,null,null,null,null,null,null,null,687.09090909090889,null,{"$f":"IF(OR(AJ199<=AM7,AJ199>AM9),0,AM8+(AM10-AM8)*(1-((AM5+EXP(AM6*(AM4-AM7)))/(AM5+EXP(AM6*(AM4-AJ199))))^AM5)/(1-((AM5+EXP(AM6*(AM4-AM7)))/(AM5+EXP(AM6*(AM4-AM9))))^AM5))","v":0},{"$f":"IF(OR(AJ199<=AN7,AJ199>AN9),0,AN8+(AN10-AN8)*(1-((AN5+EXP(AN6*(AN4-AN7)))/(AN5+EXP(AN6*(AN4-AJ199))))^AN5)/(1-((AN5+EXP(AN6*(AN4-AN7)))/(AN5+EXP(AN6*(AN4-AN9))))^AN5))","v":208.05014917993253},{"$f":"IF(OR(AJ199<=AN9,AJ199>100000),0,IF(AJ199<=AO7,AO8,AO8+(AO10-AO8)*(1-((AO5+EXP(AO6*(AO4-AO7)))/(AO5+EXP(AO6*(AO4-AJ199))))^AO5)/(1-((AO5+EXP(AO6*(AO4-AO7)))/(AO5+EXP(AO6*(AO4-AO9))))^AO5)))","v":0},208.05014917993253,159.06734525759754]
[189,{"$f":"'daily uptake'!F283","v":"2011-05-08"},{"$f":"5/9*'daily uptake'!Q283","v":17.5},{"$f":"5/9*'daily uptake'!N283","v":7.7777777777777786},{"$f":"IF(AND($A200>='daily uptake'!$C$9,$A200<='daily uptake'!$C$10),$C200+E199,0)","v":0},{"$f":"IF(AND($A200>='daily uptake'!$C$18,$A200<='daily uptake'!$C$20),$D200+F199,0)","v":165.00000000000006},{"$f":"IF(AND($A200>='daily uptake'!$C$24,$A200<='daily uptake'!$C$25),$C200+G199,0)","v":0},{"$f":"IF(OR(F200<=I7,F200>I9),0,I8+(I10-I8)*(1-((I5+EXP(I6*(I4-I7)))/(I5+EXP(I6*(I4-F200))))^I5)/(1-((I5+EXP(I6*(I4-I7)))/(I5+EXP(I6*(I4-I9))))^I5))","v":1.2851609089814551},{"$f":"IF(OR(F200<=J7,F200>J9),0,J8+(J10-J8)*(1-((J5+EXP(J6*(J4-J7)))/(J5+EXP(J6*(J4-F200))))^J5)/(1-((J5+EXP(J6*(J4-J7)))/(J5+EXP(J6*(J4-J9))))^J5))","v":0},{"$f":"IF(OR(F200<=J9,F200>100000),0,IF(F200<=K7,K8,K8+(K10-K8)*(1-((K5+EXP(K6*(K4-K7)))/(K5+EXP(K6*(K4-F200))))^K5)/(1-((K5+EXP(K6*(K4-K7)))/(K5+EXP(K6*(K4-K9))))^K5)))","v":0},1.2851609089814551,0.84336001086113377,0,0,"2011-05-08",{"$f":"MAX(L$12:L200)+MAX(M$12:M200)+MAX(N$12:N200)","v":140.84336001086115},"2011-05-08",0.14884196172582165,null,null,null,null,null,null,null,null,null,null,null,null,null,null,null,null,null,700.45454545454527,null,{"$f":"IF(OR(AJ200<=AM7,AJ200>AM9),0,AM8+(AM10-AM8)*(1-((AM5+EXP(AM6*(AM4-AM7)))/(AM5+EXP(AM6*(AM4-AJ200))))^AM5)/(1-((AM5+EXP(AM6*(AM4-AM7)))/(AM5+EXP(AM6*(AM4-AM9))))^AM5))","v":0},{"$f":"IF(OR(AJ200<=AN7,AJ200>AN9),0,AN8+(AN10-AN8)*(1-((AN5+EXP(AN6*(AN4-AN7)))/(AN5+EXP(AN6*(AN4-AJ200))))^AN5)/(1-((AN5+EXP(AN6*(AN4-AN7)))/(AN5+EXP(AN6*(AN4-AN9))))^AN5))","v":215.64440270717114},{"$f":"IF(OR(AJ200<=AN9,AJ200>100000),0,IF(AJ200<=AO7,AO8,AO8+(AO10-AO8)*(1-((AO5+EXP(AO6*(AO4-AO7)))/(AO5+EXP(AO6*(AO4-AJ200))))^AO5)/(1-((AO5+EXP(AO6*(AO4-AO7)))/(AO5+EXP(AO6*(AO4-AO9))))^AO5)))","v":0},215.64440270717114,164.87362683226851]
[190,{"$f":"'daily uptake'!F284","v":"2011-05-09"},{"$f":"5/9*'daily uptake'!Q284","v":16.944444444444446},{"$f":"5/9*'daily uptake'!N284","v":7.7777777777777786},{"$f":"IF(AND($A201>='daily uptake'!$C$9,$A201<='daily uptake'!$C$10),$C201+E200,0)","v":0},{"$f":"IF(AND($A201>='daily uptake'!$C$18,$A201<='daily uptake'!$C$20),$D201+F200,0)","v":172.77777777777783},{"$f":"IF(AND($A201>='daily uptake'!$C$24,$A201<='daily uptake'!$C$25),$C201+G200,0)","v":0},{"$f":"IF(OR(F201<=I7,F201>I9),0,I8+(I10-I8)*(1-((I5+EXP(I6*(I4-I7)))/(I5+EXP(I6*(I4-F201))))^I5)/(1-((I5+EXP(I6*(I4-I7)))/(I5+EXP(I6*(I4-I9))))^I5))","v":1.5543612536994535},{"$f":"IF(OR(F201<=J7,F201>J9),0,J8+(J10-J8)*(1-((J5+EXP(J6*(J4-J7)))/(J5+EXP(J6*(J4-F201))))^J5)/(1-((J5+EXP(J6*(J4-J7)))/(J5+EXP(J6*(J4-J9))))^J5))","v":0},{"$f":"IF(OR(F201<=J9,F201>100000),0,IF(F201<=K7,K8,K8+(K10-K8)*(1-((K5+EXP(K6*(K4-K7)))/(K5+EXP(K6*(K4-F201))))^K5)/(1-((K5+EXP(K6*(K4-K7)))/(K5+EXP(K6*(K4-K9))))^K5)))","v":0},1.5543612536994535,1.0200171158653042,0,0,"2011-05-09",{"$f":"MAX(L$12:L201)+MAX(M$12:M201)+MAX(N$12:N201)","v":141.0200171158653},"2011-05-09",0.17665710500415344,null,null,null,null,null,null,null,null,null,null,null,null,null,null,null,null,null,713.91919191919169,null,{"$f":"IF(OR(AJ201<=AM7,AJ201>AM9),0,AM8+(AM10-AM8)*(1-((AM5+EXP(AM6*(AM4-AM7)))/(AM5+EXP(AM6*(AM4-AJ201))))^AM5)/(1-((AM5+EXP(AM6*(AM4-AM7)))/(AM5+EXP(AM6*(AM4-AM9))))^AM5))","v":0},{"$f":"IF(OR(AJ201<=AN7,AJ201>AN9),0,AN8+(AN10-AN8)*(1-((AN5+EXP(AN6*(AN4-AN7)))/(AN5+EXP(AN6*(AN4-AJ201))))^AN5)/(1-((AN5+EXP(AN6*(AN4-AN7)))/(AN5+EXP(AN6*(AN4-AN9))))^AN5))","v":221.78937653278257},{"$f":"IF(OR(AJ201<=AN9,AJ201>100000),0,IF(AJ201<=AO7,AO8,AO8+(AO10-AO8)*(1-((AO5+EXP(AO6*(AO4-AO7)))/(AO5+EXP(AO6*(AO4-AJ201))))^AO5)/(1-((AO5+EXP(AO6*(AO4-AO7)))/(AO5+EXP(AO6*(AO4-AO9))))^AO5)))","v":0},221.78937653278257,169.57184347364219]
[191,{"$f":"'daily uptake'!F285","v":"2011-05-10"},{"$f":"5/9*'daily uptake'!Q285","v":16.666666666666668},{"$f":"5/9*'daily uptake'!N285","v":7.7777777777777786},{"$f":"IF(AND($A202>='daily uptake'!$C$9,$A202<='daily uptake'!$C$10),$C202+E201,0)","v":0},{"$f":"IF(AND($A202>='daily uptake'!$C$18,$A202<='daily uptake'!$C$20),$D202+F201,0)","v":180.5555555555556},{"$f":"IF(AND($A202>='daily uptake'!$C$24,$A202<='daily uptake'!$C$25),$C202+G201,0)","v":0},{"$f":"IF(OR(F202<=I7,F202>I9),0,I8+(I10-I8)*(1-((I5+EXP(I6*(I4-I7)))/(I5+EXP(I6*(I4-F202))))^I5)/(1-((I5+EXP(I6*(I4-I7)))/(I5+EXP(I6*(I4-I9))))^I5))","v":1.8716574896499445},{"$f":"IF(OR(F202<=J7,F202>J9),0,J8+(J10-J8)*(1-((J5+EXP(J6*(J4-J7)))/(J5+EXP(J6*(J4-F202))))^J5)/(1-((J5+EXP(J6*(J4-J7)))/(J5+EXP(J6*(J4-J9))))^J5))","v":0},{"$f":"IF(OR(F202<=J9,F202>100000),0,IF(F202<=K7,K8,K8+(K10-K8)*(1-((K5+EXP(K6*(K4-K7)))/(K5+EXP(K6*(K4-F202))))^K5)/(1-((K5+EXP(K6*(K4-K7)))/(K5+EXP(K6*(K4-K9))))^K5)))","v":0},1.8716574896499445,1.2282361451925217,0,0,"2011-05-10",{"$f":"MAX(L$12:L202)+MAX(M$12:M202)+MAX(N$12:N202)","v":141.22823614519251},"2011-05-10",0.20821902932721059,null,null,null,null,null,null,null,null,null,null,null,null,null,null,null,null,null,727.28787878787853,null,{"$f":"IF(OR(AJ202<=AM7,AJ202>AM9),0,AM8+(AM10-AM8)*(1-((AM5+EXP(AM6*(AM4-AM7)))/(AM5+EXP(AM6*(AM4-AJ202))))^AM5)/(1-((AM5+EXP(AM6*(AM4-AM7)))/(AM5+EXP(AM6*(AM4-AM9))))^AM5))","v":0},{"$f":"IF(OR(AJ202<=AN7,AJ202>AN9),0,AN8+(AN10-AN8)*(1-((AN5+EXP(AN6*(AN4-AN7)))/(AN5+EXP(AN6*(AN4-AJ202))))^AN5)/(1-((AN5+EXP(AN6*(AN4-AN7)))/(AN5+EXP(AN6*(AN4-AN9))))^AN5))","v":226.54670069253413},{"$f":"IF(OR(AJ202<=AN9,AJ202>100000),0,IF(AJ202<=AO7,AO8,AO8+(AO10-AO8)*(1-((AO5+EXP(AO6*(AO4-AO7)))/(AO5+EXP(AO6*(AO4-AJ202))))^AO5)/(1-((AO5+EXP(AO6*(AO4-AO7)))/(AO5+EXP(AO6*(AO4-AO9))))^AO5)))","v":0},226.54670069253413,173.20911519685083]
[192,{"$f":"'daily uptake'!F286","v":"2011-05-11"},{"$f":"5/9*'daily uptake'!Q286","v":18.055555555555557},{"$f":"5/9*'daily uptake'!N286","v":8.6111111111111107},{"$f":"IF(AND($A203>='daily uptake'!$C$9,$A203<='daily uptake'!$C$10),$C203+E202,0)","v":0},{"$f":"IF(AND($A203>='daily uptake'!$C$18,$A203<='daily uptake'!$C$20),$D203+F202,0)","v":189.16666666666671},{"$f":"IF(AND($A203>='daily uptake'!$C$24,$A203<='daily uptake'!$C$25),$C203+G202,0)","v":0},{"$f":"IF(OR(F203<=I7,F203>I9),0,I8+(I10-I8)*(1-((I5+EXP(I6*(I4-I7)))/(I5+EXP(I6*(I4-F203))))^I5)/(1-((I5+EXP(I6*(I4-I7)))/(I5+EXP(I6*(I4-I9))))^I5))","v":2.2858968321448203},{"$f":"IF(OR(F203<=J7,F203>J9),0,J8+(J10-J8)*(1-((J5+EXP(J6*(J4-J7)))/(J5+EXP(J6*(J4-F203))))^J5)/(1-((J5+EXP(J6*(J4-J7)))/(J5+EXP(J6*(J4-J9))))^J5))","v":0},{"$f":"IF(OR(F203<=J9,F203>100000),0,IF(F203<=K7,K8,K8+(K10-K8)*(1-((K5+EXP(K6*(K4-K7)))/(K5+EXP(K6*(K4-F203))))^K5)/(1-((K5+EXP(K6*(K4-K7)))/(K5+EXP(K6*(K4-K9))))^K5)))","v":0},2.2858968321448203,1.5000720639044161,0,0,{"$f":"B203","v":"2011-05-11"},{"$f":"MAX(L$12:L203)+MAX(M$12:M203)+MAX(N$12:N203)","v":141.50007206390441},{"$f":"B203","v":"2011-05-11"},0.2718359187119006,null,null,null,null,null,null,null,null,null,null,null,null,null,null,null,null,null,740.96969696969666,null,{"$f":"IF(OR(AJ203<=AM7,AJ203>AM9),0,AM8+(AM10-AM8)*(1-((AM5+EXP(AM6*(AM4-AM7)))/(AM5+EXP(AM6*(AM4-AJ203))))^AM5)/(1-((AM5+EXP(AM6*(AM4-AM7)))/(AM5+EXP(AM6*(AM4-AM9))))^AM5))","v":0},{"$f":"IF(OR(AJ203<=AN7,AJ203>AN9),0,AN8+(AN10-AN8)*(1-((AN5+EXP(AN6*(AN4-AN7)))/(AN5+EXP(AN6*(AN4-AJ203))))^AN5)/(1-((AN5+EXP(AN6*(AN4-AN7)))/(AN5+EXP(AN6*(AN4-AN9))))^AN5))","v":230.23410503176308},{"$f":"IF(OR(AJ203<=AN9,AJ203>100000),0,IF(AJ203<=AO7,AO8,AO8+(AO10-AO8)*(1-((AO5+EXP(AO6*(AO4-AO7)))/(AO5+EXP(AO6*(AO4-AJ203))))^AO5)/(1-((AO5+EXP(AO6*(AO4-AO7)))/(AO5+EXP(AO6*(AO4-AO9))))^AO5)))","v":0},230.23410503176308,176.02836633146657]
[193,{"$f":"'daily uptake'!F287","v":"2011-05-12"},{"$f":"5/9*'daily uptake'!Q287","v":17.777777777777779},{"$f":"5/9*'daily uptake'!N287","v":8.0555555555555554},{"$f":"IF(AND($A204>='daily uptake'!$C$9,$A204<='daily uptake'!$C$10),$C204+E203,0)","v":0},{"$f":"IF(AND($A204>='daily uptake'!$C$18,$A204<='daily uptake'!$C$20),$D204+F203,0)","v":197.22222222222226},{"$f":"IF(AND($A204>='daily uptake'!$C$24,$A204<='daily uptake'!$C$25),$C204+G203,0)","v":0},{"$f":"IF(OR(F204<=I7,F204>I9),0,I8+(I10-I8)*(1-((I5+EXP(I6*(I4-I7)))/(I5+EXP(I6*(I4-F204))))^I5)/(1-((I5+EXP(I6*(I4-I7)))/(I5+EXP(I6*(I4-I9))))^I5))","v":2.7394722381364272},{"$f":"IF(OR(F204<=J7,F204>J9),0,J8+(J10-J8)*(1-((J5+EXP(J6*(J4-J7)))/(J5+EXP(J6*(J4-F204))))^J5)/(1-((J5+EXP(J6*(J4-J7)))/(J5+EXP(J6*(J4-J9))))^J5))","v":0},{"$f":"IF(OR(F204<=J9,F204>100000),0,IF(F204<=K7,K8,K8+(K10-K8)*(1-((K5+EXP(K6*(K4-K7)))/(K5+EXP(K6*(K4-F204))))^K5)/(1-((K5+EXP(K6*(K4-K7)))/(K5+EXP(K6*(K4-K9))))^K5)))","v":0},{"$f":"H204+I204+J204","v":2.7394722381364272},1.7977214529031791,{"$f":"M$10*(1-(($M$5+EXP($M$6*$M$4))/($M$5+EXP($M$6*($M$4-$E204))))^$M$5)/(1-(($M$5+EXP($M$6*$M$4))/($M$5+EXP($M$6*($M$4-M$9))))^$M$5)","v":0},0,"2011-05-12",{"$f":"MAX(L$12:L204)+MAX(M$12:M204)+MAX(N$12:N204)","v":141.79772145290318},"2011-05-12",0.2976493889987637,null,null,null,null,null,null,null,null,null,null,null,null,null,null,null,null,null,755.03535353535324,null,{"$f":"IF(OR(AJ204<=AM7,AJ204>AM9),0,AM8+(AM10-AM8)*(1-((AM5+EXP(AM6*(AM4-AM7)))/(AM5+EXP(AM6*(AM4-AJ204))))^AM5)/(1-((AM5+EXP(AM6*(AM4-AM7)))/(AM5+EXP(AM6*(AM4-AM9))))^AM5))","v":0},{"$f":"IF(OR(AJ204<=AN7,AJ204>AN9),0,AN8+(AN10-AN8)*(1-((AN5+EXP(AN6*(AN4-AN7)))/(AN5+EXP(AN6*(AN4-AJ204))))^AN5)/(1-((AN5+EXP(AN6*(AN4-AN7)))/(AN5+EXP(AN6*(AN4-AN9))))^AN5))","v":233.01323469181909},{"$f":"IF(OR(AJ204<=AN9,AJ204>100000),0,IF(AJ204<=AO7,AO8,AO8+(AO10-AO8)*(1-((AO5+EXP(AO6*(AO4-AO7)))/(AO5+EXP(AO6*(AO4-AJ204))))^AO5)/(1-((AO5+EXP(AO6*(AO4-AO7)))/(AO5+EXP(AO6*(AO4-AO9))))^AO5)))","v":0},{"$f":"AL204+AM204+AN204","v":233.01323469181909},178.15318469326181]
[194,{"$f":"'daily uptake'!F288","v":"2011-05-13"},{"$f":"5/9*'daily uptake'!Q288","v":18.333333333333336},{"$f":"5/9*'daily uptake'!N288","v":8.6111111111111107},{"$f":"IF(AND($A205>='daily uptake'!$C$9,$A205<='daily uptake'!$C$10),$C205+E204,0)","v":0},{"$f":"IF(AND($A205>='daily uptake'!$C$18,$A205<='daily uptake'!$C$20),$D205+F204,0)","v":205.83333333333337},{"$f":"IF(AND($A205>='daily uptake'!$C$24,$A205<='daily uptake'!$C$25),$C205+G204,0)","v":0},{"$f":"IF(OR(F205<=I7,F205>I9),0,I8+(I10-I8)*(1-((I5+EXP(I6*(I4-I7)))/(I5+EXP(I6*(I4-F205))))^I5)/(1-((I5+EXP(I6*(I4-I7)))/(I5+EXP(I6*(I4-I9))))^I5))","v":3.3008363754781924},{"$f":"IF(OR(F205<=J7,F205>J9),0,J8+(J10-J8)*(1-((J5+EXP(J6*(J4-J7)))/(J5+EXP(J6*(J4-F205))))^J5)/(1-((J5+EXP(J6*(J4-J7)))/(J5+EXP(J6*(J4-J9))))^J5))","v":0},{"$f":"IF(OR(F205<=J9,F205>100000),0,IF(F205<=K7,K8,K8+(K10-K8)*(1-((K5+EXP(K6*(K4-K7)))/(K5+EXP(K6*(K4-F205))))^K5)/(1-((K5+EXP(K6*(K4-K7)))/(K5+EXP(K6*(K4-K9))))^K5)))","v":0},3.3008363754781924,{"$f":"IF(L$8=0,0,K205*L$7/L$8)","v":2.166104946096119},0,{"$f":"N$10*(1-(($N$5+EXP($N$6*$N$4))/($N$5+EXP($N$6*($N$4-$G205))))^$N$5)/(1-(($N$5+EXP($N$6*$N$4))/($N$5+EXP($N$6*($N$4-N$9))))^$N$5)","v":0},"2011-05-13",{"$f":"MAX(L$12:L205)+MAX(M$12:M205)+MAX(N$12:N205)","v":142.16610494609611},"2011-05-13",{"$f":"P205-P204","v":0.36838349319293684},null,null,null,null,null,null,null,null,null,null,null,null,null,null,null,null,null,769.25757575757541,null,{"$f":"IF(OR(AJ205<=AM7,AJ205>AM9),0,AM8+(AM10-AM8)*(1-((AM5+EXP(AM6*(AM4-AM7)))/(AM5+EXP(AM6*(AM4-AJ205))))^AM5)/(1-((AM5+EXP(AM6*(AM4-AM7)))/(AM5+EXP(AM6*(AM4-AM9))))^AM5))","v":0},{"$f":"IF(OR(AJ205<=AN7,AJ205>AN9),0,AN8+(AN10-AN8)*(1-((AN5+EXP(AN6*(AN4-AN7)))/(AN5+EXP(AN6*(AN4-AJ205))))^AN5)/(1-((AN5+EXP(AN6*(AN4-AN7)))/(AN5+EXP(AN6*(AN4-AN9))))^AN5))","v":0},{"$f":"IF(OR(AJ205<=AN9,AJ205>100000),0,IF(AJ205<=AO7,AO8,AO8+(AO10-AO8)*(1-((AO5+EXP(AO6*(AO4-AO7)))/(AO5+EXP(AO6*(AO4-AJ205))))^AO5)/(1-((AO5+EXP(AO6*(AO4-AO7)))/(AO5+EXP(AO6*(AO4-AO9))))^AO5)))","v":234.38544210000001},234.38544210000001,{"$f":"IF(AP$8=0,0,AO205*AP$7/AP$8)","v":179.20232304006188}]
[195,{"$f":"'daily uptake'!F289","v":"2011-05-14"},{"$f":"5/9*'daily uptake'!Q289","v":18.333333333333336},{"$f":"5/9*'daily uptake'!N289","v":8.6111111111111107},{"$f":"IF(AND($A206>='daily uptake'!$C$9,$A206<='daily uptake'!$C$10),$C206+E205,0)","v":0},{"$f":"IF(AND($A206>='daily uptake'!$C$18,$A206<='daily uptake'!$C$20),$D206+F205,0)","v":214.44444444444449},{"$f":"IF(AND($A206>='daily uptake'!$C$24,$A206<='daily uptake'!$C$25),$C206+G205,0)","v":0},{"$f":"IF(OR(F206<=I7,F206>I9),0,I8+(I10-I8)*(1-((I5+EXP(I6*(I4-I7)))/(I5+EXP(I6*(I4-F206))))^I5)/(1-((I5+EXP(I6*(I4-I7)))/(I5+EXP(I6*(I4-I9))))^I5))","v":3.9458371018110237},{"$f":"IF(OR(F206<=J7,F206>J9),0,J8+(J10-J8)*(1-((J5+EXP(J6*(J4-J7)))/(J5+EXP(J6*(J4-F206))))^J5)/(1-((J5+EXP(J6*(J4-J7)))/(J5+EXP(J6*(J4-J9))))^J5))","v":0},{"$f":"IF(OR(F206<=J9,F206>100000),0,IF(F206<=K7,K8,K8+(K10-K8)*(1-((K5+EXP(K6*(K4-K7)))/(K5+EXP(K6*(K4-F206))))^K5)/(1-((K5+EXP(K6*(K4-K7)))/(K5+EXP(K6*(K4-K9))))^K5)))","v":0},3.9458371018110237,2.5893732043849687,0,0,"2011-05-14",{"$f":"MAX(L$12:L206)+MAX(M$12:M206)+MAX(N$12:N206)","v":142.58937320438497},"2011-05-14",0.42326825828885717,null,null,null,null,null,null,null,null,null,null,null,null,null,null,null,null,null,783.5252525252522,null,{"$f":"IF(OR(AJ206<=AM7,AJ206>AM9),0,AM8+(AM10-AM8)*(1-((AM5+EXP(AM6*(AM4-AM7)))/(AM5+EXP(AM6*(AM4-AJ206))))^AM5)/(1-((AM5+EXP(AM6*(AM4-AM7)))/(AM5+EXP(AM6*(AM4-AM9))))^AM5))","v":0},{"$f":"IF(OR(AJ206<=AN7,AJ206>AN9),0,AN8+(AN10-AN8)*(1-((AN5+EXP(AN6*(AN4-AN7)))/(AN5+EXP(AN6*(AN4-AJ206))))^AN5)/(1-((AN5+EXP(AN6*(AN4-AN7)))/(AN5+EXP(AN6*(AN4-AN9))))^AN5))","v":0},{"$f":"IF(OR(AJ206<=AN9,AJ206>100000),0,IF(AJ206<=AO7,AO8,AO8+(AO10-AO8)*(1-((AO5+EXP(AO6*(AO4-AO7)))/(AO5+EXP(AO6*(AO4-AJ206))))^AO5)/(1-((AO5+EXP(AO6*(AO4-AO7)))/(AO5+EXP(AO6*(AO4-AO9))))^AO5)))","v":234.38544210000001},234.38544210000001,179.20232304006188]
[196,{"$f":"'daily uptake'!F290","v":"2011-05-15"},{"$f":"5/9*'daily uptake'!Q290","v":19.166666666666668},{"$f":"5/9*'daily uptake'!N290","v":9.1666666666666679},{"$f":"IF(AND($A207>='daily uptake'!$C$9,$A207<='daily uptake'!$C$10),$C207+E206,0)","v":0},{"$f":"IF(AND($A207>='daily uptake'!$C$18,$A207<='daily uptake'!$C$20),$D207+F206,0)","v":223.61111111111114},{"$f":"IF(AND($A207>='daily uptake'!$C$24,$A207<='daily uptake'!$C$25),$C207+G206,0)","v":0},{"$f":"IF(OR(F207<=I7,F207>I9),0,I8+(I10-I8)*(1-((I5+EXP(I6*(I4-I7)))/(I5+EXP(I6*(I4-F207))))^I5)/(1-((I5+EXP(I6*(I4-I7)))/(I5+EXP(I6*(I4-I9))))^I5))","v":4.7273200222034069},{"$f":"IF(OR(F207<=J7,F207>J9),0,J8+(J10-J8)*(1-((J5+EXP(J6*(J4-J7)))/(J5+EXP(J6*(J4-F207))))^J5)/(1-((J5+EXP(J6*(J4-J7)))/(J5+EXP(J6*(J4-J9))))^J5))","v":0},{"$f":"IF(OR(F207<=J9,F207>100000),0,IF(F207<=K7,K8,K8+(K10-K8)*(1-((K5+EXP(K6*(K4-K7)))/(K5+EXP(K6*(K4-F207))))^K5)/(1-((K5+EXP(K6*(K4-K7)))/(K5+EXP(K6*(K4-K9))))^K5)))","v":0},4.7273200222034069,3.1022050526180847,0,0,"2011-05-15",{"$f":"MAX(L$12:L207)+MAX(M$12:M207)+MAX(N$12:N207)","v":143.10220505261807},"2011-05-15",0.51283184823310535,null,null,null,null,null,null,null,null,null,null,null,null,null,null,null,null,null,797.48484848484816,null,{"$f":"IF(OR(AJ207<=AM7,AJ207>AM9),0,AM8+(AM10-AM8)*(1-((AM5+EXP(AM6*(AM4-AM7)))/(AM5+EXP(AM6*(AM4-AJ207))))^AM5)/(1-((AM5+EXP(AM6*(AM4-AM7)))/(AM5+EXP(AM6*(AM4-AM9))))^AM5))","v":0},{"$f":"IF(OR(AJ207<=AN7,AJ207>AN9),0,AN8+(AN10-AN8)*(1-((AN5+EXP(AN6*(AN4-AN7)))/(AN5+EXP(AN6*(AN4-AJ207))))^AN5)/(1-((AN5+EXP(AN6*(AN4-AN7)))/(AN5+EXP(AN6*(AN4-AN9))))^AN5))","v":0},{"$f":"IF(OR(AJ207<=AN9,AJ207>100000),0,IF(AJ207<=AO7,AO8,AO8+(AO10-AO8)*(1-((AO5+EXP(AO6*(AO4-AO7)))/(AO5+EXP(AO6*(AO4-AJ207))))^AO5)/(1-((AO5+EXP(AO6*(AO4-AO7)))/(AO5+EXP(AO6*(AO4-AO9))))^AO5)))","v":234.38544210000001},234.38544210000001,179.20232304006188]
[197,{"$f":"'daily uptake'!F291","v":"2011-05-16"},{"$f":"5/9*'daily uptake'!Q291","v":18.611111111111111},{"$f":"5/9*'daily uptake'!N291","v":8.6111111111111107},{"$f":"IF(AND($A208>='daily uptake'!$C$9,$A208<='daily uptake'!$C$10),$C208+E207,0)","v":0},{"$f":"IF(AND($A208>='daily uptake'!$C$18,$A208<='daily uptake'!$C$20),$D208+F207,0)","v":232.22222222222226},{"$f":"IF(AND($A208>='daily uptake'!$C$24,$A208<='daily uptake'!$C$25),$C208+G207,0)","v":0},{"$f":"IF(OR(F208<=I7,F208>I9),0,I8+(I10-I8)*(1-((I5+EXP(I6*(I4-I7)))/(I5+EXP(I6*(I4-F208))))^I5)/(1-((I5+EXP(I6*(I4-I7)))/(I5+EXP(I6*(I4-I9))))^I5))","v":5.5508388567735087},{"$f":"IF(OR(F208<=J7,F208>J9),0,J8+(J10-J8)*(1-((J5+EXP(J6*(J4-J7)))/(J5+EXP(J6*(J4-F208))))^J5)/(1-((J5+EXP(J6*(J4-J7)))/(J5+EXP(J6*(J4-J9))))^J5))","v":0},{"$f":"IF(OR(F208<=J9,F208>100000),0,IF(F208<=K7,K8,K8+(K10-K8)*(1-((K5+EXP(K6*(K4-K7)))/(K5+EXP(K6*(K4-F208))))^K5)/(1-((K5+EXP(K6*(K4-K7)))/(K5+EXP(K6*(K4-K9))))^K5)))","v":0},5.5508388567735087,3.6426220917714378,0,0,"2011-05-16",{"$f":"MAX(L$12:L208)+MAX(M$12:M208)+MAX(N$12:N208)","v":143.64262209177144},"2011-05-16",0.54041703915336825,null,null,null,null,null,null,null,null,null,null,null,null,null,null,null,null,null,811.42929292929261,null,{"$f":"IF(OR(AJ208<=AM7,AJ208>AM9),0,AM8+(AM10-AM8)*(1-((AM5+EXP(AM6*(AM4-AM7)))/(AM5+EXP(AM6*(AM4-AJ208))))^AM5)/(1-((AM5+EXP(AM6*(AM4-AM7)))/(AM5+EXP(AM6*(AM4-AM9))))^AM5))","v":0},{"$f":"IF(OR(AJ208<=AN7,AJ208>AN9),0,AN8+(AN10-AN8)*(1-((AN5+EXP(AN6*(AN4-AN7)))/(AN5+EXP(AN6*(AN4-AJ208))))^AN5)/(1-((AN5+EXP(AN6*(AN4-AN7)))/(AN5+EXP(AN6*(AN4-AN9))))^AN5))","v":0},{"$f":"IF(OR(AJ208<=AN9,AJ208>100000),0,IF(AJ208<=AO7,AO8,AO8+(AO10-AO8)*(1-((AO5+EXP(AO6*(AO4-AO7)))/(AO5+EXP(AO6*(AO4-AJ208))))^AO5)/(1-((AO5+EXP(AO6*(AO4-AO7)))/(AO5+EXP(AO6*(AO4-AO9))))^AO5)))","v":234.38544210000001},234.38544210000001,179.20232304006188]
[198,{"$f":"'daily uptake'!F292","v":"2011-05-17"},{"$f":"5/9*'daily uptake'!Q292","v":18.888888888888889},{"$f":"5/9*'daily uptake'!N292","v":8.8888888888888893},{"$f":"IF(AND($A209>='daily uptake'!$C$9,$A209<='daily uptake'!$C$10),$C209+E208,0)","v":0},{"$f":"IF(AND($A209>='daily uptake'!$C$18,$A209<='daily uptake'!$C$20),$D209+F208,0)","v":241.11111111111114},{"$f":"IF(AND($A209>='daily uptake'!$C$24,$A209<='daily uptake'!$C$25),$C209+G208,0)","v":0},{"$f":"IF(OR(F209<=I7,F209>I9),0,I8+(I10-I8)*(1-((I5+EXP(I6*(I4-I7)))/(I5+EXP(I6*(I4-F209))))^I5)/(1-((I5+EXP(I6*(I4-I7)))/(I5+EXP(I6*(I4-I9))))^I5))","v":6.4893817559772193},{"$f":"IF(OR(F209<=J7,F209>J9),0,J8+(J10-J8)*(1-((J5+EXP(J6*(J4-J7)))/(J5+EXP(J6*(J4-F209))))^J5)/(1-((J5+EXP(J6*(J4-J7)))/(J5+EXP(J6*(J4-J9))))^J5))","v":0},{"$f":"IF(OR(F209<=J9,F209>100000),0,IF(F209<=K7,K8,K8+(K10-K8)*(1-((K5+EXP(K6*(K4-K7)))/(K5+EXP(K6*(K4-F209))))^K5)/(1-((K5+EXP(K6*(K4-K7)))/(K5+EXP(K6*(K4-K9))))^K5)))","v":0},6.4893817559772193,4.2585212715040379,0,0,"2011-05-17",{"$f":"MAX(L$12:L209)+MAX(M$12:M209)+MAX(N$12:N209)","v":144.25852127150404},"2011-05-17",0.61589917973259389,null,null,null,null,null,null,null,null,null,null,null,null,null,null,null,null,null,825.14646464646432,null,{"$f":"IF(OR(AJ209<=AM7,AJ209>AM9),0,AM8+(AM10-AM8)*(1-((AM5+EXP(AM6*(AM4-AM7)))/(AM5+EXP(AM6*(AM4-AJ209))))^AM5)/(1-((AM5+EXP(AM6*(AM4-AM7)))/(AM5+EXP(AM6*(AM4-AM9))))^AM5))","v":0},{"$f":"IF(OR(AJ209<=AN7,AJ209>AN9),0,AN8+(AN10-AN8)*(1-((AN5+EXP(AN6*(AN4-AN7)))/(AN5+EXP(AN6*(AN4-AJ209))))^AN5)/(1-((AN5+EXP(AN6*(AN4-AN7)))/(AN5+EXP(AN6*(AN4-AN9))))^AN5))","v":0},{"$f":"IF(OR(AJ209<=AN9,AJ209>100000),0,IF(AJ209<=AO7,AO8,AO8+(AO10-AO8)*(1-((AO5+EXP(AO6*(AO4-AO7)))/(AO5+EXP(AO6*(AO4-AJ209))))^AO5)/(1-((AO5+EXP(AO6*(AO4-AO7)))/(AO5+EXP(AO6*(AO4-AO9))))^AO5)))","v":234.38544210000001},234.38544210000001,179.20232304006188]
[199,{"$f":"'daily uptake'!F293","v":"2011-05-18"},{"$f":"5/9*'daily uptake'!Q293","v":19.444444444444446},{"$f":"5/9*'daily uptake'!N293","v":9.4444444444444446},{"$f":"IF(AND($A210>='daily uptake'!$C$9,$A210<='daily uptake'!$C$10),$C210+E209,0)","v":0},{"$f":"IF(AND($A210>='daily uptake'!$C$18,$A210<='daily uptake'!$C$20),$D210+F209,0)","v":250.5555555555556},{"$f":"IF(AND($A210>='daily uptake'!$C$24,$A210<='daily uptake'!$C$25),$C210+G209,0)","v":0},{"$f":"IF(OR(F210<=I7,F210>I9),0,I8+(I10-I8)*(1-((I5+EXP(I6*(I4-I7)))/(I5+EXP(I6*(I4-F210))))^I5)/(1-((I5+EXP(I6*(I4-I7)))/(I5+EXP(I6*(I4-I9))))^I5))","v":7.579551288573886},{"$f":"IF(OR(F210<=J7,F210>J9),0,J8+(J10-J8)*(1-((J5+EXP(J6*(J4-J7)))/(J5+EXP(J6*(J4-F210))))^J5)/(1-((J5+EXP(J6*(J4-J7)))/(J5+EXP(J6*(J4-J9))))^J5))","v":0},{"$f":"IF(OR(F210<=J9,F210>100000),0,IF(F210<=K7,K8,K8+(K10-K8)*(1-((K5+EXP(K6*(K4-K7)))/(K5+EXP(K6*(K4-F210))))^K5)/(1-((K5+EXP(K6*(K4-K7)))/(K5+EXP(K6*(K4-K9))))^K5)))","v":0},7.579551288573886,4.9739222632599027,0,0,"2011-05-18",{"$f":"MAX(L$12:L210)+MAX(M$12:M210)+MAX(N$12:N210)","v":144.97392226325991},"2011-05-18",0.71540099175587102,null,null,null,null,null,null,null,null,null,null,null,null,null,null,null,null,null,839.21717171717137,null,{"$f":"IF(OR(AJ210<=AM7,AJ210>AM9),0,AM8+(AM10-AM8)*(1-((AM5+EXP(AM6*(AM4-AM7)))/(AM5+EXP(AM6*(AM4-AJ210))))^AM5)/(1-((AM5+EXP(AM6*(AM4-AM7)))/(AM5+EXP(AM6*(AM4-AM9))))^AM5))","v":0},{"$f":"IF(OR(AJ210<=AN7,AJ210>AN9),0,AN8+(AN10-AN8)*(1-((AN5+EXP(AN6*(AN4-AN7)))/(AN5+EXP(AN6*(AN4-AJ210))))^AN5)/(1-((AN5+EXP(AN6*(AN4-AN7)))/(AN5+EXP(AN6*(AN4-AN9))))^AN5))","v":0},{"$f":"IF(OR(AJ210<=AN9,AJ210>100000),0,IF(AJ210<=AO7,AO8,AO8+(AO10-AO8)*(1-((AO5+EXP(AO6*(AO4-AO7)))/(AO5+EXP(AO6*(AO4-AJ210))))^AO5)/(1-((AO5+EXP(AO6*(AO4-AO7)))/(AO5+EXP(AO6*(AO4-AO9))))^AO5)))","v":234.38544210000001},234.38544210000001,179.20232304006188]
[200,{"$f":"'daily uptake'!F294","v":"2011-05-19"},{"$f":"5/9*'daily uptake'!Q294","v":19.166666666666668},{"$f":"5/9*'daily uptake'!N294","v":9.1666666666666679},{"$f":"IF(AND($A211>='daily uptake'!$C$9,$A211<='daily uptake'!$C$10),$C211+E210,0)","v":0},{"$f":"IF(AND($A211>='daily uptake'!$C$18,$A211<='daily uptake'!$C$20),$D211+F210,0)","v":259.72222222222229},{"$f":"IF(AND($A211>='daily uptake'!$C$24,$A211<='daily uptake'!$C$25),$C211+G210,0)","v":0},{"$f":"IF(OR(F211<=I7,F211>I9),0,I8+(I10-I8)*(1-((I5+EXP(I6*(I4-I7)))/(I5+EXP(I6*(I4-F211))))^I5)/(1-((I5+EXP(I6*(I4-I7)))/(I5+EXP(I6*(I4-I9))))^I5))","v":8.7214510950116555},{"$f":"IF(OR(F211<=J7,F211>J9),0,J8+(J10-J8)*(1-((J5+EXP(J6*(J4-J7)))/(J5+EXP(J6*(J4-F211))))^J5)/(1-((J5+EXP(J6*(J4-J7)))/(J5+EXP(J6*(J4-J9))))^J5))","v":0},{"$f":"IF(OR(F211<=J9,F211>100000),0,IF(F211<=K7,K8,K8+(K10-K8)*(1-((K5+EXP(K6*(K4-K7)))/(K5+EXP(K6*(K4-F211))))^K5)/(1-((K5+EXP(K6*(K4-K7)))/(K5+EXP(K6*(K4-K9))))^K5)))","v":0},8.7214510950116555,5.7232701670355688,0,0,"2011-05-19",{"$f":"MAX(L$12:L211)+MAX(M$12:M211)+MAX(N$12:N211)","v":145.72327016703557},"2011-05-19",0.74934790377565719,null,null,null,null,null,null,null,null,null,null,null,null,null,null,null,null,null,853.33333333333303,null,{"$f":"IF(OR(AJ211<=AM7,AJ211>AM9),0,AM8+(AM10-AM8)*(1-((AM5+EXP(AM6*(AM4-AM7)))/(AM5+EXP(AM6*(AM4-AJ211))))^AM5)/(1-((AM5+EXP(AM6*(AM4-AM7)))/(AM5+EXP(AM6*(AM4-AM9))))^AM5))","v":0},{"$f":"IF(OR(AJ211<=AN7,AJ211>AN9),0,AN8+(AN10-AN8)*(1-((AN5+EXP(AN6*(AN4-AN7)))/(AN5+EXP(AN6*(AN4-AJ211))))^AN5)/(1-((AN5+EXP(AN6*(AN4-AN7)))/(AN5+EXP(AN6*(AN4-AN9))))^AN5))","v":0},{"$f":"IF(OR(AJ211<=AN9,AJ211>100000),0,IF(AJ211<=AO7,AO8,AO8+(AO10-AO8)*(1-((AO5+EXP(AO6*(AO4-AO7)))/(AO5+EXP(AO6*(AO4-AJ211))))^AO5)/(1-((AO5+EXP(AO6*(AO4-AO7)))/(AO5+EXP(AO6*(AO4-AO9))))^AO5)))","v":234.38544210000001},234.38544210000001,179.20232304006188]
[201,{"$f":"'daily uptake'!F295","v":"2011-05-20"},{"$f":"5/9*'daily uptake'!Q295","v":18.611111111111111},{"$f":"5/9*'daily uptake'!N295","v":8.6111111111111107},{"$f":"IF(AND($A212>='daily uptake'!$C$9,$A212<='daily uptake'!$C$10),$C212+E211,0)","v":0},{"$f":"IF(AND($A212>='daily uptake'!$C$18,$A212<='daily uptake'!$C$20),$D212+F211,0)","v":268.33333333333337},{"$f":"IF(AND($A212>='daily uptake'!$C$24,$A212<='daily uptake'!$C$25),$C212+G211,0)","v":0},{"$f":"IF(OR(F212<=I7,F212>I9),0,I8+(I10-I8)*(1-((I5+EXP(I6*(I4-I7)))/(I5+EXP(I6*(I4-F212))))^I5)/(1-((I5+EXP(I6*(I4-I7)))/(I5+EXP(I6*(I4-I9))))^I5))","v":9.8610173196900668},{"$f":"IF(OR(F212<=J7,F212>J9),0,J8+(J10-J8)*(1-((J5+EXP(J6*(J4-J7)))/(J5+EXP(J6*(J4-F212))))^J5)/(1-((J5+EXP(J6*(J4-J7)))/(J5+EXP(J6*(J4-J9))))^J5))","v":0},{"$f":"IF(OR(F212<=J9,F212>100000),0,IF(F212<=K7,K8,K8+(K10-K8)*(1-((K5+EXP(K6*(K4-K7)))/(K5+EXP(K6*(K4-F212))))^K5)/(1-((K5+EXP(K6*(K4-K7)))/(K5+EXP(K6*(K4-K9))))^K5)))","v":0},9.8610173196900668,6.4710867065095652,0,0,"2011-05-20",{"$f":"MAX(L$12:L212)+MAX(M$12:M212)+MAX(N$12:N212)","v":146.47108670650957},"2011-05-20",0.74781653947400173,null,null,null,null,null,null,null,null,null,null,null,null,null,null,null,null,null,867.5101010101007,null,{"$f":"IF(OR(AJ212<=AM7,AJ212>AM9),0,AM8+(AM10-AM8)*(1-((AM5+EXP(AM6*(AM4-AM7)))/(AM5+EXP(AM6*(AM4-AJ212))))^AM5)/(1-((AM5+EXP(AM6*(AM4-AM7)))/(AM5+EXP(AM6*(AM4-AM9))))^AM5))","v":0},{"$f":"IF(OR(AJ212<=AN7,AJ212>AN9),0,AN8+(AN10-AN8)*(1-((AN5+EXP(AN6*(AN4-AN7)))/(AN5+EXP(AN6*(AN4-AJ212))))^AN5)/(1-((AN5+EXP(AN6*(AN4-AN7)))/(AN5+EXP(AN6*(AN4-AN9))))^AN5))","v":0},{"$f":"IF(OR(AJ212<=AN9,AJ212>100000),0,IF(AJ212<=AO7,AO8,AO8+(AO10-AO8)*(1-((AO5+EXP(AO6*(AO4-AO7)))/(AO5+EXP(AO6*(AO4-AJ212))))^AO5)/(1-((AO5+EXP(AO6*(AO4-AO7)))/(AO5+EXP(AO6*(AO4-AO9))))^AO5)))","v":234.38544210000001},234.38544210000001,179.20232304006188]
[202,{"$f":"'daily uptake'!F296","v":"2011-05-21"},{"$f":"5/9*'daily uptake'!Q296","v":18.333333333333336},{"$f":"5/9*'daily uptake'!N296","v":8.3333333333333339},{"$f":"IF(AND($A213>='daily uptake'!$C$9,$A213<='daily uptake'!$C$10),$C213+E212,0)","v":0},{"$f":"IF(AND($A213>='daily uptake'!$C$18,$A213<='daily uptake'!$C$20),$D213+F212,0)","v":276.66666666666669},{"$f":"IF(AND($A213>='daily uptake'!$C$24,$A213<='daily uptake'!$C$25),$C213+G212,0)","v":0},{"$f":"IF(OR(F213<=I7,F213>I9),0,I8+(I10-I8)*(1-((I5+EXP(I6*(I4-I7)))/(I5+EXP(I6*(I4-F213))))^I5)/(1-((I5+EXP(I6*(I4-I7)))/(I5+EXP(I6*(I4-I9))))^I5))","v":11.017525982953247},{"$f":"IF(OR(F213<=J7,F213>J9),0,J8+(J10-J8)*(1-((J5+EXP(J6*(J4-J7)))/(J5+EXP(J6*(J4-F213))))^J5)/(1-((J5+EXP(J6*(J4-J7)))/(J5+EXP(J6*(J4-J9))))^J5))","v":0},{"$f":"IF(OR(F213<=J9,F213>100000),0,IF(F213<=K7,K8,K8+(K10-K8)*(1-((K5+EXP(K6*(K4-K7)))/(K5+EXP(K6*(K4-F213))))^K5)/(1-((K5+EXP(K6*(K4-K7)))/(K5+EXP(K6*(K4-K9))))^K5)))","v":0},11.017525982953247,7.2300213675269465,0,0,"2011-05-21",{"$f":"MAX(L$12:L213)+MAX(M$12:M213)+MAX(N$12:N213)","v":147.23002136752694},"2011-05-21",0.75893466101737772,null,null,null,null,null,null,null,null,null,null,null,null,null,null,null,null,null,881.31313131313095,null,{"$f":"IF(OR(AJ213<=AM7,AJ213>AM9),0,AM8+(AM10-AM8)*(1-((AM5+EXP(AM6*(AM4-AM7)))/(AM5+EXP(AM6*(AM4-AJ213))))^AM5)/(1-((AM5+EXP(AM6*(AM4-AM7)))/(AM5+EXP(AM6*(AM4-AM9))))^AM5))","v":0},{"$f":"IF(OR(AJ213<=AN7,AJ213>AN9),0,AN8+(AN10-AN8)*(1-((AN5+EXP(AN6*(AN4-AN7)))/(AN5+EXP(AN6*(AN4-AJ213))))^AN5)/(1-((AN5+EXP(AN6*(AN4-AN7)))/(AN5+EXP(AN6*(AN4-AN9))))^AN5))","v":0},{"$f":"IF(OR(AJ213<=AN9,AJ213>100000),0,IF(AJ213<=AO7,AO8,AO8+(AO10-AO8)*(1-((AO5+EXP(AO6*(AO4-AO7)))/(AO5+EXP(AO6*(AO4-AJ213))))^AO5)/(1-((AO5+EXP(AO6*(AO4-AO7)))/(AO5+EXP(AO6*(AO4-AO9))))^AO5)))","v":234.38544210000001},234.38544210000001,179.20232304006188]
[203,{"$f":"'daily uptake'!F297","v":"2011-05-22"},{"$f":"5/9*'daily uptake'!Q297","v":19.166666666666668},{"$f":"5/9*'daily uptake'!N297","v":9.1666666666666679},{"$f":"IF(AND($A214>='daily uptake'!$C$9,$A214<='daily uptake'!$C$10),$C214+E213,0)","v":0},{"$f":"IF(AND($A214>='daily uptake'!$C$18,$A214<='daily uptake'!$C$20),$D214+F213,0)","v":285.83333333333337},{"$f":"IF(AND($A214>='daily uptake'!$C$24,$A214<='daily uptake'!$C$25),$C214+G213,0)","v":0},{"$f":"IF(OR(F214<=I7,F214>I9),0,I8+(I10-I8)*(1-((I5+EXP(I6*(I4-I7)))/(I5+EXP(I6*(I4-F214))))^I5)/(1-((I5+EXP(I6*(I4-I7)))/(I5+EXP(I6*(I4-I9))))^I5))","v":12.3415342163494},{"$f":"IF(OR(F214<=J7,F214>J9),0,J8+(J10-J8)*(1-((J5+EXP(J6*(J4-J7)))/(J5+EXP(J6*(J4-F214))))^J5)/(1-((J5+EXP(J6*(J4-J7)))/(J5+EXP(J6*(J4-J9))))^J5))","v":0},{"$f":"IF(OR(F214<=J9,F214>100000),0,IF(F214<=K7,K8,K8+(K10-K8)*(1-((K5+EXP(K6*(K4-K7)))/(K5+EXP(K6*(K4-F214))))^K5)/(1-((K5+EXP(K6*(K4-K7)))/(K5+EXP(K6*(K4-K9))))^K5)))","v":0},12.3415342163494,8.0988741238578061,0,0,"2011-05-22",{"$f":"MAX(L$12:L214)+MAX(M$12:M214)+MAX(N$12:N214)","v":148.0988741238578},"2011-05-22",0.86885275633085257,null,null,null,null,null,null,null,null,null,null,null,null,null,null,null,null,null,895.3989898989895,null,{"$f":"IF(OR(AJ214<=AM7,AJ214>AM9),0,AM8+(AM10-AM8)*(1-((AM5+EXP(AM6*(AM4-AM7)))/(AM5+EXP(AM6*(AM4-AJ214))))^AM5)/(1-((AM5+EXP(AM6*(AM4-AM7)))/(AM5+EXP(AM6*(AM4-AM9))))^AM5))","v":0},{"$f":"IF(OR(AJ214<=AN7,AJ214>AN9),0,AN8+(AN10-AN8)*(1-((AN5+EXP(AN6*(AN4-AN7)))/(AN5+EXP(AN6*(AN4-AJ214))))^AN5)/(1-((AN5+EXP(AN6*(AN4-AN7)))/(AN5+EXP(AN6*(AN4-AN9))))^AN5))","v":0},{"$f":"IF(OR(AJ214<=AN9,AJ214>100000),0,IF(AJ214<=AO7,AO8,AO8+(AO10-AO8)*(1-((AO5+EXP(AO6*(AO4-AO7)))/(AO5+EXP(AO6*(AO4-AJ214))))^AO5)/(1-((AO5+EXP(AO6*(AO4-AO7)))/(AO5+EXP(AO6*(AO4-AO9))))^AO5)))","v":234.38544210000001},234.38544210000001,179.20232304006188]
[204,{"$f":"'daily uptake'!F298","v":"2011-05-23"},{"$f":"5/9*'daily uptake'!Q298","v":19.444444444444446},{"$f":"5/9*'daily uptake'!N298","v":9.4444444444444446},{"$f":"IF(AND($A215>='daily uptake'!$C$9,$A215<='daily uptake'!$C$10),$C215+E214,0)","v":0},{"$f":"IF(AND($A215>='daily uptake'!$C$18,$A215<='daily uptake'!$C$20),$D215+F214,0)","v":295.27777777777783},{"$f":"IF(AND($A215>='daily uptake'!$C$24,$A215<='daily uptake'!$C$25),$C215+G214,0)","v":0},{"$f":"IF(OR(F215<=I7,F215>I9),0,I8+(I10-I8)*(1-((I5+EXP(I6*(I4-I7)))/(I5+EXP(I6*(I4-F215))))^I5)/(1-((I5+EXP(I6*(I4-I7)))/(I5+EXP(I6*(I4-I9))))^I5))","v":13.752547208499823},{"$f":"IF(OR(F215<=J7,F215>J9),0,J8+(J10-J8)*(1-((J5+EXP(J6*(J4-J7)))/(J5+EXP(J6*(J4-F215))))^J5)/(1-((J5+EXP(J6*(J4-J7)))/(J5+EXP(J6*(J4-J9))))^J5))","v":0},{"$f":"IF(OR(F215<=J9,F215>100000),0,IF(F215<=K7,K8,K8+(K10-K8)*(1-((K5+EXP(K6*(K4-K7)))/(K5+EXP(K6*(K4-F215))))^K5)/(1-((K5+EXP(K6*(K4-K7)))/(K5+EXP(K6*(K4-K9))))^K5)))","v":0},13.752547208499823,9.0248219363603681,0,0,"2011-05-23",{"$f":"MAX(L$12:L215)+MAX(M$12:M215)+MAX(N$12:N215)","v":149.02482193636035},"2011-05-23",0.92594781250255664,null,null,null,null,null,null,null,null,null,null,null,null,null,null,null,null,null,909.53535353535312,null,{"$f":"IF(OR(AJ215<=AM7,AJ215>AM9),0,AM8+(AM10-AM8)*(1-((AM5+EXP(AM6*(AM4-AM7)))/(AM5+EXP(AM6*(AM4-AJ215))))^AM5)/(1-((AM5+EXP(AM6*(AM4-AM7)))/(AM5+EXP(AM6*(AM4-AM9))))^AM5))","v":0},{"$f":"IF(OR(AJ215<=AN7,AJ215>AN9),0,AN8+(AN10-AN8)*(1-((AN5+EXP(AN6*(AN4-AN7)))/(AN5+EXP(AN6*(AN4-AJ215))))^AN5)/(1-((AN5+EXP(AN6*(AN4-AN7)))/(AN5+EXP(AN6*(AN4-AN9))))^AN5))","v":0},{"$f":"IF(OR(AJ215<=AN9,AJ215>100000),0,IF(AJ215<=AO7,AO8,AO8+(AO10-AO8)*(1-((AO5+EXP(AO6*(AO4-AO7)))/(AO5+EXP(AO6*(AO4-AJ215))))^AO5)/(1-((AO5+EXP(AO6*(AO4-AO7)))/(AO5+EXP(AO6*(AO4-AO9))))^AO5)))","v":234.38544210000001},234.38544210000001,179.20232304006188]
[205,{"$f":"'daily uptake'!F299","v":"2011-05-24"},{"$f":"5/9*'daily uptake'!Q299","v":19.166666666666668},{"$f":"5/9*'daily uptake'!N299","v":9.1666666666666679},{"$f":"IF(AND($A216>='daily uptake'!$C$9,$A216<='daily uptake'!$C$10),$C216+E215,0)","v":0},{"$f":"IF(AND($A216>='daily uptake'!$C$18,$A216<='daily uptake'!$C$20),$D216+F215,0)","v":304.44444444444451},{"$f":"IF(AND($A216>='daily uptake'!$C$24,$A216<='daily uptake'!$C$25),$C216+G215,0)","v":0},{"$f":"IF(OR(F216<=I7,F216>I9),0,I8+(I10-I8)*(1-((I5+EXP(I6*(I4-I7)))/(I5+EXP(I6*(I4-F216))))^I5)/(1-((I5+EXP(I6*(I4-I7)))/(I5+EXP(I6*(I4-I9))))^I5))","v":15.158440309826432},{"$f":"IF(OR(F216<=J7,F216>J9),0,J8+(J10-J8)*(1-((J5+EXP(J6*(J4-J7)))/(J5+EXP(J6*(J4-F216))))^J5)/(1-((J5+EXP(J6*(J4-J7)))/(J5+EXP(J6*(J4-J9))))^J5))","v":0},{"$f":"IF(OR(F216<=J9,F216>100000),0,IF(F216<=K7,K8,K8+(K10-K8)*(1-((K5+EXP(K6*(K4-K7)))/(K5+EXP(K6*(K4-F216))))^K5)/(1-((K5+EXP(K6*(K4-K7)))/(K5+EXP(K6*(K4-K9))))^K5)))","v":0},15.158440309826432,9.9474099274190895,0,0,"2011-05-24",{"$f":"MAX(L$12:L216)+MAX(M$12:M216)+MAX(N$12:N216)","v":149.9474099274191},"2011-05-24",0.922587991058748,null,null,null,null,null,null,null,null,null,null,null,null,null,null,null,null,null,923.49999999999955,null,{"$f":"IF(OR(AJ216<=AM7,AJ216>AM9),0,AM8+(AM10-AM8)*(1-((AM5+EXP(AM6*(AM4-AM7)))/(AM5+EXP(AM6*(AM4-AJ216))))^AM5)/(1-((AM5+EXP(AM6*(AM4-AM7)))/(AM5+EXP(AM6*(AM4-AM9))))^AM5))","v":0},{"$f":"IF(OR(AJ216<=AN7,AJ216>AN9),0,AN8+(AN10-AN8)*(1-((AN5+EXP(AN6*(AN4-AN7)))/(AN5+EXP(AN6*(AN4-AJ216))))^AN5)/(1-((AN5+EXP(AN6*(AN4-AN7)))/(AN5+EXP(AN6*(AN4-AN9))))^AN5))","v":0},{"$f":"IF(OR(AJ216<=AN9,AJ216>100000),0,IF(AJ216<=AO7,AO8,AO8+(AO10-AO8)*(1-((AO5+EXP(AO6*(AO4-AO7)))/(AO5+EXP(AO6*(AO4-AJ216))))^AO5)/(1-((AO5+EXP(AO6*(AO4-AO7)))/(AO5+EXP(AO6*(AO4-AO9))))^AO5)))","v":234.38544210000001},234.38544210000001,179.20232304006188]
[206,{"$f":"'daily uptake'!F300","v":"2011-05-25"},{"$f":"5/9*'daily uptake'!Q300","v":18.888888888888889},{"$f":"5/9*'daily uptake'!N300","v":8.8888888888888893},{"$f":"IF(AND($A217>='daily uptake'!$C$9,$A217<='daily uptake'!$C$10),$C217+E216,0)","v":0},{"$f":"IF(AND($A217>='daily uptake'!$C$18,$A217<='daily uptake'!$C$20),$D217+F216,0)","v":313.33333333333343},{"$f":"IF(AND($A217>='daily uptake'!$C$24,$A217<='daily uptake'!$C$25),$C217+G216,0)","v":0},{"$f":"IF(OR(F217<=I7,F217>I9),0,I8+(I10-I8)*(1-((I5+EXP(I6*(I4-I7)))/(I5+EXP(I6*(I4-F217))))^I5)/(1-((I5+EXP(I6*(I4-I7)))/(I5+EXP(I6*(I4-I9))))^I5))","v":16.548424260589446},{"$f":"IF(OR(F217<=J7,F217>J9),0,J8+(J10-J8)*(1-((J5+EXP(J6*(J4-J7)))/(J5+EXP(J6*(J4-F217))))^J5)/(1-((J5+EXP(J6*(J4-J7)))/(J5+EXP(J6*(J4-J9))))^J5))","v":0},{"$f":"IF(OR(F217<=J9,F217>100000),0,IF(F217<=K7,K8,K8+(K10-K8)*(1-((K5+EXP(K6*(K4-K7)))/(K5+EXP(K6*(K4-F217))))^K5)/(1-((K5+EXP(K6*(K4-K7)))/(K5+EXP(K6*(K4-K9))))^K5)))","v":0},16.548424260589446,10.859557870622064,0,0,"2011-05-25",{"$f":"MAX(L$12:L217)+MAX(M$12:M217)+MAX(N$12:N217)","v":150.85955787062207},"2011-05-25",0.91214794320296733,null,null,null,null,null,null,null,null,null,null,null,null,null,null,null,null,null,937.48989898989851,null,{"$f":"IF(OR(AJ217<=AM7,AJ217>AM9),0,AM8+(AM10-AM8)*(1-((AM5+EXP(AM6*(AM4-AM7)))/(AM5+EXP(AM6*(AM4-AJ217))))^AM5)/(1-((AM5+EXP(AM6*(AM4-AM7)))/(AM5+EXP(AM6*(AM4-AM9))))^AM5))","v":0},{"$f":"IF(OR(AJ217<=AN7,AJ217>AN9),0,AN8+(AN10-AN8)*(1-((AN5+EXP(AN6*(AN4-AN7)))/(AN5+EXP(AN6*(AN4-AJ217))))^AN5)/(1-((AN5+EXP(AN6*(AN4-AN7)))/(AN5+EXP(AN6*(AN4-AN9))))^AN5))","v":0},{"$f":"IF(OR(AJ217<=AN9,AJ217>100000),0,IF(AJ217<=AO7,AO8,AO8+(AO10-AO8)*(1-((AO5+EXP(AO6*(AO4-AO7)))/(AO5+EXP(AO6*(AO4-AJ217))))^AO5)/(1-((AO5+EXP(AO6*(AO4-AO7)))/(AO5+EXP(AO6*(AO4-AO9))))^AO5)))","v":234.38544210000001},234.38544210000001,179.20232304006188]
[207,{"$f":"'daily uptake'!F301","v":"2011-05-26"},{"$f":"5/9*'daily uptake'!Q301","v":19.444444444444446},{"$f":"5/9*'daily uptake'!N301","v":9.4444444444444446},{"$f":"IF(AND($A218>='daily uptake'!$C$9,$A218<='daily uptake'!$C$10),$C218+E217,0)","v":0},{"$f":"IF(AND($A218>='daily uptake'!$C$18,$A218<='daily uptake'!$C$20),$D218+F217,0)","v":322.77777777777789},{"$f":"IF(AND($A218>='daily uptake'!$C$24,$A218<='daily uptake'!$C$25),$C218+G217,0)","v":0},{"$f":"IF(OR(F218<=I7,F218>I9),0,I8+(I10-I8)*(1-((I5+EXP(I6*(I4-I7)))/(I5+EXP(I6*(I4-F218))))^I5)/(1-((I5+EXP(I6*(I4-I7)))/(I5+EXP(I6*(I4-I9))))^I5))","v":18.047085670228356},{"$f":"IF(OR(F218<=J7,F218>J9),0,J8+(J10-J8)*(1-((J5+EXP(J6*(J4-J7)))/(J5+EXP(J6*(J4-F218))))^J5)/(1-((J5+EXP(J6*(J4-J7)))/(J5+EXP(J6*(J4-J9))))^J5))","v":0},{"$f":"IF(OR(F218<=J9,F218>100000),0,IF(F218<=K7,K8,K8+(K10-K8)*(1-((K5+EXP(K6*(K4-K7)))/(K5+EXP(K6*(K4-F218))))^K5)/(1-((K5+EXP(K6*(K4-K7)))/(K5+EXP(K6*(K4-K9))))^K5)))","v":0},18.047085670228356,11.843023126900311,0,0,"2011-05-26",{"$f":"MAX(L$12:L218)+MAX(M$12:M218)+MAX(N$12:N218)","v":151.84302312690031},"2011-05-26",0.98346525627823667,null,null,null,null,null,null,null,null,null,null,null,null,null,null,null,null,null,951.93434343434296,null,{"$f":"IF(OR(AJ218<=AM7,AJ218>AM9),0,AM8+(AM10-AM8)*(1-((AM5+EXP(AM6*(AM4-AM7)))/(AM5+EXP(AM6*(AM4-AJ218))))^AM5)/(1-((AM5+EXP(AM6*(AM4-AM7)))/(AM5+EXP(AM6*(AM4-AM9))))^AM5))","v":0},{"$f":"IF(OR(AJ218<=AN7,AJ218>AN9),0,AN8+(AN10-AN8)*(1-((AN5+EXP(AN6*(AN4-AN7)))/(AN5+EXP(AN6*(AN4-AJ218))))^AN5)/(1-((AN5+EXP(AN6*(AN4-AN7)))/(AN5+EXP(AN6*(AN4-AN9))))^AN5))","v":0},{"$f":"IF(OR(AJ218<=AN9,AJ218>100000),0,IF(AJ218<=AO7,AO8,AO8+(AO10-AO8)*(1-((AO5+EXP(AO6*(AO4-AO7)))/(AO5+EXP(AO6*(AO4-AJ218))))^AO5)/(1-((AO5+EXP(AO6*(AO4-AO7)))/(AO5+EXP(AO6*(AO4-AO9))))^AO5)))","v":234.38544210000001},234.38544210000001,179.20232304006188]
[208,{"$f":"'daily uptake'!F302","v":"2011-05-27"},{"$f":"5/9*'daily uptake'!Q302","v":19.444444444444446},{"$f":"5/9*'daily uptake'!N302","v":9.4444444444444446},{"$f":"IF(AND($A219>='daily uptake'!$C$9,$A219<='daily uptake'!$C$10),$C219+E218,0)","v":0},{"$f":"IF(AND($A219>='daily uptake'!$C$18,$A219<='daily uptake'!$C$20),$D219+F218,0)","v":332.22222222222234},{"$f":"IF(AND($A219>='daily uptake'!$C$24,$A219<='daily uptake'!$C$25),$C219+G218,0)","v":0},{"$f":"IF(OR(F219<=I7,F219>I9),0,I8+(I10-I8)*(1-((I5+EXP(I6*(I4-I7)))/(I5+EXP(I6*(I4-F219))))^I5)/(1-((I5+EXP(I6*(I4-I7)))/(I5+EXP(I6*(I4-I9))))^I5))","v":19.56208344944535},{"$f":"IF(OR(F219<=J7,F219>J9),0,J8+(J10-J8)*(1-((J5+EXP(J6*(J4-J7)))/(J5+EXP(J6*(J4-F219))))^J5)/(1-((J5+EXP(J6*(J4-J7)))/(J5+EXP(J6*(J4-J9))))^J5))","v":0},{"$f":"IF(OR(F219<=J9,F219>100000),0,IF(F219<=K7,K8,K8+(K10-K8)*(1-((K5+EXP(K6*(K4-K7)))/(K5+EXP(K6*(K4-F219))))^K5)/(1-((K5+EXP(K6*(K4-K7)))/(K5+EXP(K6*(K4-K9))))^K5)))","v":0},19.56208344944535,12.837208784591734,0,0,"2011-05-27",{"$f":"MAX(L$12:L219)+MAX(M$12:M219)+MAX(N$12:N219)","v":152.83720878459172},"2011-05-27",0.99418565769141765,null,null,null,null,null,null,null,null,null,null,null,null,null,null,null,null,null,966.34848484848442,null,{"$f":"IF(OR(AJ219<=AM7,AJ219>AM9),0,AM8+(AM10-AM8)*(1-((AM5+EXP(AM6*(AM4-AM7)))/(AM5+EXP(AM6*(AM4-AJ219))))^AM5)/(1-((AM5+EXP(AM6*(AM4-AM7)))/(AM5+EXP(AM6*(AM4-AM9))))^AM5))","v":0},{"$f":"IF(OR(AJ219<=AN7,AJ219>AN9),0,AN8+(AN10-AN8)*(1-((AN5+EXP(AN6*(AN4-AN7)))/(AN5+EXP(AN6*(AN4-AJ219))))^AN5)/(1-((AN5+EXP(AN6*(AN4-AN7)))/(AN5+EXP(AN6*(AN4-AN9))))^AN5))","v":0},{"$f":"IF(OR(AJ219<=AN9,AJ219>100000),0,IF(AJ219<=AO7,AO8,AO8+(AO10-AO8)*(1-((AO5+EXP(AO6*(AO4-AO7)))/(AO5+EXP(AO6*(AO4-AJ219))))^AO5)/(1-((AO5+EXP(AO6*(AO4-AO7)))/(AO5+EXP(AO6*(AO4-AO9))))^AO5)))","v":234.38544210000001},234.38544210000001,179.20232304006188]
[209,{"$f":"'daily uptake'!F303","v":"2011-05-28"},{"$f":"5/9*'daily uptake'!Q303","v":19.166666666666668},{"$f":"5/9*'daily uptake'!N303","v":9.1666666666666679},{"$f":"IF(AND($A220>='daily uptake'!$C$9,$A220<='daily uptake'!$C$10),$C220+E219,0)","v":0},{"$f":"IF(AND($A220>='daily uptake'!$C$18,$A220<='daily uptake'!$C$20),$D220+F219,0)","v":341.38888888888903},{"$f":"IF(AND($A220>='daily uptake'!$C$24,$A220<='daily uptake'!$C$25),$C220+G219,0)","v":0},{"$f":"IF(OR(F220<=I7,F220>I9),0,I8+(I10-I8)*(1-((I5+EXP(I6*(I4-I7)))/(I5+EXP(I6*(I4-F220))))^I5)/(1-((I5+EXP(I6*(I4-I7)))/(I5+EXP(I6*(I4-I9))))^I5))","v":21.043251688248883},{"$f":"IF(OR(F220<=J7,F220>J9),0,J8+(J10-J8)*(1-((J5+EXP(J6*(J4-J7)))/(J5+EXP(J6*(J4-F220))))^J5)/(1-((J5+EXP(J6*(J4-J7)))/(J5+EXP(J6*(J4-J9))))^J5))","v":0},{"$f":"IF(OR(F220<=J9,F220>100000),0,IF(F220<=K7,K8,K8+(K10-K8)*(1-((K5+EXP(K6*(K4-K7)))/(K5+EXP(K6*(K4-F220))))^K5)/(1-((K5+EXP(K6*(K4-K7)))/(K5+EXP(K6*(K4-K9))))^K5)))","v":0},21.043251688248883,13.809194512787066,0,0,"2011-05-28",{"$f":"MAX(L$12:L220)+MAX(M$12:M220)+MAX(N$12:N220)","v":153.80919451278706},"2011-05-28",0.97198572819533524,null,null,null,null,null,null,null,null,null,null,null,null,null,null,null,null,null,980.80808080808038,null,{"$f":"IF(OR(AJ220<=AM7,AJ220>AM9),0,AM8+(AM10-AM8)*(1-((AM5+EXP(AM6*(AM4-AM7)))/(AM5+EXP(AM6*(AM4-AJ220))))^AM5)/(1-((AM5+EXP(AM6*(AM4-AM7)))/(AM5+EXP(AM6*(AM4-AM9))))^AM5))","v":0},{"$f":"IF(OR(AJ220<=AN7,AJ220>AN9),0,AN8+(AN10-AN8)*(1-((AN5+EXP(AN6*(AN4-AN7)))/(AN5+EXP(AN6*(AN4-AJ220))))^AN5)/(1-((AN5+EXP(AN6*(AN4-AN7)))/(AN5+EXP(AN6*(AN4-AN9))))^AN5))","v":0},{"$f":"IF(OR(AJ220<=AN9,AJ220>100000),0,IF(AJ220<=AO7,AO8,AO8+(AO10-AO8)*(1-((AO5+EXP(AO6*(AO4-AO7)))/(AO5+EXP(AO6*(AO4-AJ220))))^AO5)/(1-((AO5+EXP(AO6*(AO4-AO7)))/(AO5+EXP(AO6*(AO4-AO9))))^AO5)))","v":234.38544210000001},234.38544210000001,179.20232304006188]
[210,{"$f":"'daily uptake'!F304","v":"2011-05-29"},{"$f":"5/9*'daily uptake'!Q304","v":19.444444444444446},{"$f":"5/9*'daily uptake'!N304","v":9.4444444444444446},{"$f":"IF(AND($A221>='daily uptake'!$C$9,$A221<='daily uptake'!$C$10),$C221+E220,0)","v":0},{"$f":"IF(AND($A221>='daily uptake'!$C$18,$A221<='daily uptake'!$C$20),$D221+F220,0)","v":350.83333333333348},{"$f":"IF(AND($A221>='daily uptake'!$C$24,$A221<='daily uptake'!$C$25),$C221+G220,0)","v":0},{"$f":"IF(OR(F221<=I7,F221>I9),0,I8+(I10-I8)*(1-((I5+EXP(I6*(I4-I7)))/(I5+EXP(I6*(I4-F221))))^I5)/(1-((I5+EXP(I6*(I4-I7)))/(I5+EXP(I6*(I4-I9))))^I5))","v":22.576262663575449},{"$f":"IF(OR(F221<=J7,F221>J9),0,J8+(J10-J8)*(1-((J5+EXP(J6*(J4-J7)))/(J5+EXP(J6*(J4-F221))))^J5)/(1-((J5+EXP(J6*(J4-J7)))/(J5+EXP(J6*(J4-J9))))^J5))","v":0},{"$f":"IF(OR(F221<=J9,F221>100000),0,IF(F221<=K7,K8,K8+(K10-K8)*(1-((K5+EXP(K6*(K4-K7)))/(K5+EXP(K6*(K4-F221))))^K5)/(1-((K5+EXP(K6*(K4-K7)))/(K5+EXP(K6*(K4-K9))))^K5)))","v":0},22.576262663575449,14.815200954288866,0,0,"2011-05-29",{"$f":"MAX(L$12:L221)+MAX(M$12:M221)+MAX(N$12:N221)","v":154.81520095428885},"2011-05-29",1.0060064415017962,null,null,null,null,null,null,null,null,null,null,null,null,null,null,null,null,null,995.00505050505012,null,{"$f":"IF(OR(AJ221<=AM7,AJ221>AM9),0,AM8+(AM10-AM8)*(1-((AM5+EXP(AM6*(AM4-AM7)))/(AM5+EXP(AM6*(AM4-AJ221))))^AM5)/(1-((AM5+EXP(AM6*(AM4-AM7)))/(AM5+EXP(AM6*(AM4-AM9))))^AM5))","v":0},{"$f":"IF(OR(AJ221<=AN7,AJ221>AN9),0,AN8+(AN10-AN8)*(1-((AN5+EXP(AN6*(AN4-AN7)))/(AN5+EXP(AN6*(AN4-AJ221))))^AN5)/(1-((AN5+EXP(AN6*(AN4-AN7)))/(AN5+EXP(AN6*(AN4-AN9))))^AN5))","v":0},{"$f":"IF(OR(AJ221<=AN9,AJ221>100000),0,IF(AJ221<=AO7,AO8,AO8+(AO10-AO8)*(1-((AO5+EXP(AO6*(AO4-AO7)))/(AO5+EXP(AO6*(AO4-AJ221))))^AO5)/(1-((AO5+EXP(AO6*(AO4-AO7)))/(AO5+EXP(AO6*(AO4-AO9))))^AO5)))","v":234.91049894648728},234.91049894648728,179.60376182301525]
[211,{"$f":"'daily uptake'!F305","v":"2011-05-30"},{"$f":"5/9*'daily uptake'!Q305","v":20},{"$f":"5/9*'daily uptake'!N305","v":10},{"$f":"IF(AND($A222>='daily uptake'!$C$9,$A222<='daily uptake'!$C$10),$C222+E221,0)","v":0},{"$f":"IF(AND($A222>='daily uptake'!$C$18,$A222<='daily uptake'!$C$20),$D222+F221,0)","v":360.83333333333348},{"$f":"IF(AND($A222>='daily uptake'!$C$24,$A222<='daily uptake'!$C$25),$C222+G221,0)","v":0},{"$f":"IF(OR(F222<=I7,F222>I9),0,I8+(I10-I8)*(1-((I5+EXP(I6*(I4-I7)))/(I5+EXP(I6*(I4-F222))))^I5)/(1-((I5+EXP(I6*(I4-I7)))/(I5+EXP(I6*(I4-I9))))^I5))","v":24.203451838716255},{"$f":"IF(OR(F222<=J7,F222>J9),0,J8+(J10-J8)*(1-((J5+EXP(J6*(J4-J7)))/(J5+EXP(J6*(J4-F222))))^J5)/(1-((J5+EXP(J6*(J4-J7)))/(J5+EXP(J6*(J4-J9))))^J5))","v":0},{"$f":"IF(OR(F222<=J9,F222>100000),0,IF(F222<=K7,K8,K8+(K10-K8)*(1-((K5+EXP(K6*(K4-K7)))/(K5+EXP(K6*(K4-F222))))^K5)/(1-((K5+EXP(K6*(K4-K7)))/(K5+EXP(K6*(K4-K9))))^K5)))","v":0},24.203451838716255,15.883009872868158,0,0,"2011-05-30",{"$f":"MAX(L$12:L222)+MAX(M$12:M222)+MAX(N$12:N222)","v":155.88300987286817},"2011-05-30",1.0678089185793169,null,null,null,null,null,null,null,null,null,null,null,null,null,null,null,null,null,1008.954545454545,null,{"$f":"IF(OR(AJ222<=AM7,AJ222>AM9),0,AM8+(AM10-AM8)*(1-((AM5+EXP(AM6*(AM4-AM7)))/(AM5+EXP(AM6*(AM4-AJ222))))^AM5)/(1-((AM5+EXP(AM6*(AM4-AM7)))/(AM5+EXP(AM6*(AM4-AM9))))^AM5))","v":0},{"$f":"IF(OR(AJ222<=AN7,AJ222>AN9),0,AN8+(AN10-AN8)*(1-((AN5+EXP(AN6*(AN4-AN7)))/(AN5+EXP(AN6*(AN4-AJ222))))^AN5)/(1-((AN5+EXP(AN6*(AN4-AN7)))/(AN5+EXP(AN6*(AN4-AN9))))^AN5))","v":0},{"$f":"IF(OR(AJ222<=AN9,AJ222>100000),0,IF(AJ222<=AO7,AO8,AO8+(AO10-AO8)*(1-((AO5+EXP(AO6*(AO4-AO7)))/(AO5+EXP(AO6*(AO4-AJ222))))^AO5)/(1-((AO5+EXP(AO6*(AO4-AO7)))/(AO5+EXP(AO6*(AO4-AO9))))^AO5)))","v":237.35091455080115},237.35091455080115,181.46961211456056]
[212,{"$f":"'daily uptake'!F306","v":"2011-05-31"},{"$f":"5/9*'daily uptake'!Q306","v":20.833333333333336},{"$f":"5/9*'daily uptake'!N306","v":10.833333333333334},{"$f":"IF(AND($A223>='daily uptake'!$C$9,$A223<='daily uptake'!$C$10),$C223+E222,0)","v":0},{"$f":"IF(AND($A223>='daily uptake'!$C$18,$A223<='daily uptake'!$C$20),$D223+F222,0)","v":371.6666666666668},{"$f":"IF(AND($A223>='daily uptake'!$C$24,$A223<='daily uptake'!$C$25),$C223+G222,0)","v":0},{"$f":"IF(OR(F223<=I7,F223>I9),0,I8+(I10-I8)*(1-((I5+EXP(I6*(I4-I7)))/(I5+EXP(I6*(I4-F223))))^I5)/(1-((I5+EXP(I6*(I4-I7)))/(I5+EXP(I6*(I4-I9))))^I5))","v":25.967315683994617},{"$f":"IF(OR(F223<=J7,F223>J9),0,J8+(J10-J8)*(1-((J5+EXP(J6*(J4-J7)))/(J5+EXP(J6*(J4-F223))))^J5)/(1-((J5+EXP(J6*(J4-J7)))/(J5+EXP(J6*(J4-J9))))^J5))","v":0},{"$f":"IF(OR(F223<=J9,F223>100000),0,IF(F223<=K7,K8,K8+(K10-K8)*(1-((K5+EXP(K6*(K4-K7)))/(K5+EXP(K6*(K4-F223))))^K5)/(1-((K5+EXP(K6*(K4-K7)))/(K5+EXP(K6*(K4-K9))))^K5)))","v":0},25.967315683994617,17.040508689798784,0,0,"2011-05-31",{"$f":"MAX(L$12:L223)+MAX(M$12:M223)+MAX(N$12:N223)","v":157.0405086897988},"2011-05-31",1.1574988169306266,null,null,null,null,null,null,null,null,null,null,null,null,null,null,null,null,null,1022.9646464646461,null,{"$f":"IF(OR(AJ223<=AM7,AJ223>AM9),0,AM8+(AM10-AM8)*(1-((AM5+EXP(AM6*(AM4-AM7)))/(AM5+EXP(AM6*(AM4-AJ223))))^AM5)/(1-((AM5+EXP(AM6*(AM4-AM7)))/(AM5+EXP(AM6*(AM4-AM9))))^AM5))","v":0},{"$f":"IF(OR(AJ223<=AN7,AJ223>AN9),0,AN8+(AN10-AN8)*(1-((AN5+EXP(AN6*(AN4-AN7)))/(AN5+EXP(AN6*(AN4-AJ223))))^AN5)/(1-((AN5+EXP(AN6*(AN4-AN7)))/(AN5+EXP(AN6*(AN4-AN9))))^AN5))","v":0},{"$f":"IF(OR(AJ223<=AN9,AJ223>100000),0,IF(AJ223<=AO7,AO8,AO8+(AO10-AO8)*(1-((AO5+EXP(AO6*(AO4-AO7)))/(AO5+EXP(AO6*(AO4-AJ223))))^AO5)/(1-((AO5+EXP(AO6*(AO4-AO7)))/(AO5+EXP(AO6*(AO4-AO9))))^AO5)))","v":239.97965057898085},239.97965057898085,183.4794451429614]
[213,{"$f":"'daily uptake'!F307","v":"2011-06-01"},{"$f":"5/9*'daily uptake'!Q307","v":21.111111111111111},{"$f":"5/9*'daily uptake'!N307","v":11.111111111111111},{"$f":"IF(AND($A224>='daily uptake'!$C$9,$A224<='daily uptake'!$C$10),$C224+E223,0)","v":0},{"$f":"IF(AND($A224>='daily uptake'!$C$18,$A224<='daily uptake'!$C$20),$D224+F223,0)","v":382.77777777777789},{"$f":"IF(AND($A224>='daily uptake'!$C$24,$A224<='daily uptake'!$C$25),$C224+G223,0)","v":0},{"$f":"IF(OR(F224<=I7,F224>I9),0,I8+(I10-I8)*(1-((I5+EXP(I6*(I4-I7)))/(I5+EXP(I6*(I4-F224))))^I5)/(1-((I5+EXP(I6*(I4-I7)))/(I5+EXP(I6*(I4-I9))))^I5))","v":27.77443922927975},{"$f":"IF(OR(F224<=J7,F224>J9),0,J8+(J10-J8)*(1-((J5+EXP(J6*(J4-J7)))/(J5+EXP(J6*(J4-F224))))^J5)/(1-((J5+EXP(J6*(J4-J7)))/(J5+EXP(J6*(J4-J9))))^J5))","v":0},{"$f":"IF(OR(F224<=J9,F224>100000),0,IF(F224<=K7,K8,K8+(K10-K8)*(1-((K5+EXP(K6*(K4-K7)))/(K5+EXP(K6*(K4-F224))))^K5)/(1-((K5+EXP(K6*(K4-K7)))/(K5+EXP(K6*(K4-K9))))^K5)))","v":0},27.77443922927975,18.226395781545886,0,0,"2011-06-01",{"$f":"MAX(L$12:L224)+MAX(M$12:M224)+MAX(N$12:N224)","v":158.22639578154588},"2011-06-01",1.1858870917470767,null,null,null,null,null,null,null,null,null,null,null,null,null,null,null,null,null,1037.30303030303,null,{"$f":"IF(OR(AJ224<=AM7,AJ224>AM9),0,AM8+(AM10-AM8)*(1-((AM5+EXP(AM6*(AM4-AM7)))/(AM5+EXP(AM6*(AM4-AJ224))))^AM5)/(1-((AM5+EXP(AM6*(AM4-AM7)))/(AM5+EXP(AM6*(AM4-AM9))))^AM5))","v":0},{"$f":"IF(OR(AJ224<=AN7,AJ224>AN9),0,AN8+(AN10-AN8)*(1-((AN5+EXP(AN6*(AN4-AN7)))/(AN5+EXP(AN6*(AN4-AJ224))))^AN5)/(1-((AN5+EXP(AN6*(AN4-AN7)))/(AN5+EXP(AN6*(AN4-AN9))))^AN5))","v":0},{"$f":"IF(OR(AJ224<=AN9,AJ224>100000),0,IF(AJ224<=AO7,AO8,AO8+(AO10-AO8)*(1-((AO5+EXP(AO6*(AO4-AO7)))/(AO5+EXP(AO6*(AO4-AJ224))))^AO5)/(1-((AO5+EXP(AO6*(AO4-AO7)))/(AO5+EXP(AO6*(AO4-AO9))))^AO5)))","v":242.86314861525838},242.86314861525838,185.68405965294414]
[214,{"$f":"'daily uptake'!F308","v":"2011-06-02"},{"$f":"5/9*'daily uptake'!Q308","v":20.555555555555557},{"$f":"5/9*'daily uptake'!N308","v":10.555555555555555},{"$f":"IF(AND($A225>='daily uptake'!$C$9,$A225<='daily uptake'!$C$10),$C225+E224,0)","v":0},{"$f":"IF(AND($A225>='daily uptake'!$C$18,$A225<='daily uptake'!$C$20),$D225+F224,0)","v":393.33333333333343},{"$f":"IF(AND($A225>='daily uptake'!$C$24,$A225<='daily uptake'!$C$25),$C225+G224,0)","v":0},{"$f":"IF(OR(F225<=I7,F225>I9),0,I8+(I10-I8)*(1-((I5+EXP(I6*(I4-I7)))/(I5+EXP(I6*(I4-F225))))^I5)/(1-((I5+EXP(I6*(I4-I7)))/(I5+EXP(I6*(I4-I9))))^I5))","v":29.487099689956917},{"$f":"IF(OR(F225<=J7,F225>J9),0,J8+(J10-J8)*(1-((J5+EXP(J6*(J4-J7)))/(J5+EXP(J6*(J4-F225))))^J5)/(1-((J5+EXP(J6*(J4-J7)))/(J5+EXP(J6*(J4-J9))))^J5))","v":0},{"$f":"IF(OR(F225<=J9,F225>100000),0,IF(F225<=K7,K8,K8+(K10-K8)*(1-((K5+EXP(K6*(K4-K7)))/(K5+EXP(K6*(K4-F225))))^K5)/(1-((K5+EXP(K6*(K4-K7)))/(K5+EXP(K6*(K4-K9))))^K5)))","v":0},29.487099689956917,19.350293446518339,0,0,"2011-06-02",{"$f":"MAX(L$12:L225)+MAX(M$12:M225)+MAX(N$12:N225)","v":159.35029344651835},"2011-06-02",1.1238976649724748,null,null,null,null,null,null,null,null,null,null,null,null,null,null,null,null,null,1051.4747474747471,null,{"$f":"IF(OR(AJ225<=AM7,AJ225>AM9),0,AM8+(AM10-AM8)*(1-((AM5+EXP(AM6*(AM4-AM7)))/(AM5+EXP(AM6*(AM4-AJ225))))^AM5)/(1-((AM5+EXP(AM6*(AM4-AM7)))/(AM5+EXP(AM6*(AM4-AM9))))^AM5))","v":0},{"$f":"IF(OR(AJ225<=AN7,AJ225>AN9),0,AN8+(AN10-AN8)*(1-((AN5+EXP(AN6*(AN4-AN7)))/(AN5+EXP(AN6*(AN4-AJ225))))^AN5)/(1-((AN5+EXP(AN6*(AN4-AN7)))/(AN5+EXP(AN6*(AN4-AN9))))^AN5))","v":0},{"$f":"IF(OR(AJ225<=AN9,AJ225>100000),0,IF(AJ225<=AO7,AO8,AO8+(AO10-AO8)*(1-((AO5+EXP(AO6*(AO4-AO7)))/(AO5+EXP(AO6*(AO4-AJ225))))^AO5)/(1-((AO5+EXP(AO6*(AO4-AO7)))/(AO5+EXP(AO6*(AO4-AO9))))^AO5)))","v":245.91339041938434},245.91339041938434,188.01616019739723]
[215,{"$f":"'daily uptake'!F309","v":"2011-06-03"},{"$f":"5/9*'daily uptake'!Q309","v":20.555555555555557},{"$f":"5/9*'daily uptake'!N309","v":10.555555555555555},{"$f":"IF(AND($A226>='daily uptake'!$C$9,$A226<='daily uptake'!$C$10),$C226+E225,0)","v":0},{"$f":"IF(AND($A226>='daily uptake'!$C$18,$A226<='daily uptake'!$C$20),$D226+F225,0)","v":403.88888888888897},{"$f":"IF(AND($A226>='daily uptake'!$C$24,$A226<='daily uptake'!$C$25),$C226+G225,0)","v":0},{"$f":"IF(OR(F226<=I7,F226>I9),0,I8+(I10-I8)*(1-((I5+EXP(I6*(I4-I7)))/(I5+EXP(I6*(I4-F226))))^I5)/(1-((I5+EXP(I6*(I4-I7)))/(I5+EXP(I6*(I4-I9))))^I5))","v":31.194124096957566},{"$f":"IF(OR(F226<=J7,F226>J9),0,J8+(J10-J8)*(1-((J5+EXP(J6*(J4-J7)))/(J5+EXP(J6*(J4-F226))))^J5)/(1-((J5+EXP(J6*(J4-J7)))/(J5+EXP(J6*(J4-J9))))^J5))","v":0},{"$f":"IF(OR(F226<=J9,F226>100000),0,IF(F226<=K7,K8,K8+(K10-K8)*(1-((K5+EXP(K6*(K4-K7)))/(K5+EXP(K6*(K4-F226))))^K5)/(1-((K5+EXP(K6*(K4-K7)))/(K5+EXP(K6*(K4-K9))))^K5)))","v":0},31.194124096957566,20.470492568952945,0,0,"2011-06-03",{"$f":"MAX(L$12:L226)+MAX(M$12:M226)+MAX(N$12:N226)","v":160.47049256895295},"2011-06-03",1.1201991224345988,null,null,null,null,null,null,null,null,null,null,null,null,null,null,null,null,null,1065.1515151515148,null,{"$f":"IF(OR(AJ226<=AM7,AJ226>AM9),0,AM8+(AM10-AM8)*(1-((AM5+EXP(AM6*(AM4-AM7)))/(AM5+EXP(AM6*(AM4-AJ226))))^AM5)/(1-((AM5+EXP(AM6*(AM4-AM7)))/(AM5+EXP(AM6*(AM4-AM9))))^AM5))","v":0},{"$f":"IF(OR(AJ226<=AN7,AJ226>AN9),0,AN8+(AN10-AN8)*(1-((AN5+EXP(AN6*(AN4-AN7)))/(AN5+EXP(AN6*(AN4-AJ226))))^AN5)/(1-((AN5+EXP(AN6*(AN4-AN7)))/(AN5+EXP(AN6*(AN4-AN9))))^AN5))","v":0},{"$f":"IF(OR(AJ226<=AN9,AJ226>100000),0,IF(AJ226<=AO7,AO8,AO8+(AO10-AO8)*(1-((AO5+EXP(AO6*(AO4-AO7)))/(AO5+EXP(AO6*(AO4-AJ226))))^AO5)/(1-((AO5+EXP(AO6*(AO4-AO7)))/(AO5+EXP(AO6*(AO4-AO9))))^AO5)))","v":249.05293843632194},249.05293843632194,190.41654092450312]
[216,{"$f":"'daily uptake'!F310","v":"2011-06-04"},{"$f":"5/9*'daily uptake'!Q310","v":20.555555555555557},{"$f":"5/9*'daily uptake'!N310","v":10.555555555555555},{"$f":"IF(AND($A227>='daily uptake'!$C$9,$A227<='daily uptake'!$C$10),$C227+E226,0)","v":0},{"$f":"IF(AND($A227>='daily uptake'!$C$18,$A227<='daily uptake'!$C$20),$D227+F226,0)","v":414.44444444444451},{"$f":"IF(AND($A227>='daily uptake'!$C$24,$A227<='daily uptake'!$C$25),$C227+G226,0)","v":0},{"$f":"IF(OR(F227<=I7,F227>I9),0,I8+(I10-I8)*(1-((I5+EXP(I6*(I4-I7)))/(I5+EXP(I6*(I4-F227))))^I5)/(1-((I5+EXP(I6*(I4-I7)))/(I5+EXP(I6*(I4-I9))))^I5))","v":32.894317358962233},{"$f":"IF(OR(F227<=J7,F227>J9),0,J8+(J10-J8)*(1-((J5+EXP(J6*(J4-J7)))/(J5+EXP(J6*(J4-F227))))^J5)/(1-((J5+EXP(J6*(J4-J7)))/(J5+EXP(J6*(J4-J9))))^J5))","v":0},{"$f":"IF(OR(F227<=J9,F227>100000),0,IF(F227<=K7,K8,K8+(K10-K8)*(1-((K5+EXP(K6*(K4-K7)))/(K5+EXP(K6*(K4-F227))))^K5)/(1-((K5+EXP(K6*(K4-K7)))/(K5+EXP(K6*(K4-K9))))^K5)))","v":0},32.894317358962233,21.586208895126209,0,0,"2011-06-04",{"$f":"MAX(L$12:L227)+MAX(M$12:M227)+MAX(N$12:N227)","v":161.58620889512622},"2011-06-04",1.1157163261732705,null,null,null,null,null,null,null,null,null,null,null,null,null,null,null,null,null,1078.6414141414139,null,{"$f":"IF(OR(AJ227<=AM7,AJ227>AM9),0,AM8+(AM10-AM8)*(1-((AM5+EXP(AM6*(AM4-AM7)))/(AM5+EXP(AM6*(AM4-AJ227))))^AM5)/(1-((AM5+EXP(AM6*(AM4-AM7)))/(AM5+EXP(AM6*(AM4-AM9))))^AM5))","v":0},{"$f":"IF(OR(AJ227<=AN7,AJ227>AN9),0,AN8+(AN10-AN8)*(1-((AN5+EXP(AN6*(AN4-AN7)))/(AN5+EXP(AN6*(AN4-AJ227))))^AN5)/(1-((AN5+EXP(AN6*(AN4-AN7)))/(AN5+EXP(AN6*(AN4-AN9))))^AN5))","v":0},{"$f":"IF(OR(AJ227<=AN9,AJ227>100000),0,IF(AJ227<=AO7,AO8,AO8+(AO10-AO8)*(1-((AO5+EXP(AO6*(AO4-AO7)))/(AO5+EXP(AO6*(AO4-AJ227))))^AO5)/(1-((AO5+EXP(AO6*(AO4-AO7)))/(AO5+EXP(AO6*(AO4-AO9))))^AO5)))","v":252.3438366219562},252.3438366219562,192.93263831720031]
[217,{"$f":"'daily uptake'!F311","v":"2011-06-05"},{"$f":"5/9*'daily uptake'!Q311","v":19.722222222222221},{"$f":"5/9*'daily uptake'!N311","v":9.7222222222222232},{"$f":"IF(AND($A228>='daily uptake'!$C$9,$A228<='daily uptake'!$C$10),$C228+E227,0)","v":0},{"$f":"IF(AND($A228>='daily uptake'!$C$18,$A228<='daily uptake'!$C$20),$D228+F227,0)","v":424.16666666666674},{"$f":"IF(AND($A228>='daily uptake'!$C$24,$A228<='daily uptake'!$C$25),$C228+G227,0)","v":0},{"$f":"IF(OR(F228<=I7,F228>I9),0,I8+(I10-I8)*(1-((I5+EXP(I6*(I4-I7)))/(I5+EXP(I6*(I4-F228))))^I5)/(1-((I5+EXP(I6*(I4-I7)))/(I5+EXP(I6*(I4-I9))))^I5))","v":34.453473758499555},{"$f":"IF(OR(F228<=J7,F228>J9),0,J8+(J10-J8)*(1-((J5+EXP(J6*(J4-J7)))/(J5+EXP(J6*(J4-F228))))^J5)/(1-((J5+EXP(J6*(J4-J7)))/(J5+EXP(J6*(J4-J9))))^J5))","v":0},{"$f":"IF(OR(F228<=J9,F228>100000),0,IF(F228<=K7,K8,K8+(K10-K8)*(1-((K5+EXP(K6*(K4-K7)))/(K5+EXP(K6*(K4-F228))))^K5)/(1-((K5+EXP(K6*(K4-K7)))/(K5+EXP(K6*(K4-K9))))^K5)))","v":0},34.453473758499555,22.609372725319378,0,0,"2011-06-05",{"$f":"MAX(L$12:L228)+MAX(M$12:M228)+MAX(N$12:N228)","v":162.60937272531939},"2011-06-05",1.0231638301931696,null,null,null,null,null,null,null,null,null,null,null,null,null,null,null,null,null,1091.9595959595956,null,{"$f":"IF(OR(AJ228<=AM7,AJ228>AM9),0,AM8+(AM10-AM8)*(1-((AM5+EXP(AM6*(AM4-AM7)))/(AM5+EXP(AM6*(AM4-AJ228))))^AM5)/(1-((AM5+EXP(AM6*(AM4-AM7)))/(AM5+EXP(AM6*(AM4-AM9))))^AM5))","v":0},{"$f":"IF(OR(AJ228<=AN7,AJ228>AN9),0,AN8+(AN10-AN8)*(1-((AN5+EXP(AN6*(AN4-AN7)))/(AN5+EXP(AN6*(AN4-AJ228))))^AN5)/(1-((AN5+EXP(AN6*(AN4-AN7)))/(AN5+EXP(AN6*(AN4-AN9))))^AN5))","v":0},{"$f":"IF(OR(AJ228<=AN9,AJ228>100000),0,IF(AJ228<=AO7,AO8,AO8+(AO10-AO8)*(1-((AO5+EXP(AO6*(AO4-AO7)))/(AO5+EXP(AO6*(AO4-AJ228))))^AO5)/(1-((AO5+EXP(AO6*(AO4-AO7)))/(AO5+EXP(AO6*(AO4-AO9))))^AO5)))","v":255.78662340234601},255.78662340234601,195.56486403587036]
[218,{"$f":"'daily uptake'!F312","v":"2011-06-06"},{"$f":"5/9*'daily uptake'!Q312","v":20},{"$f":"5/9*'daily uptake'!N312","v":10},{"$f":"IF(AND($A229>='daily uptake'!$C$9,$A229<='daily uptake'!$C$10),$C229+E228,0)","v":0},{"$f":"IF(AND($A229>='daily uptake'!$C$18,$A229<='daily uptake'!$C$20),$D229+F228,0)","v":434.16666666666674},{"$f":"IF(AND($A229>='daily uptake'!$C$24,$A229<='daily uptake'!$C$25),$C229+G228,0)","v":0},{"$f":"IF(OR(F229<=I7,F229>I9),0,I8+(I10-I8)*(1-((I5+EXP(I6*(I4-I7)))/(I5+EXP(I6*(I4-F229))))^I5)/(1-((I5+EXP(I6*(I4-I7)))/(I5+EXP(I6*(I4-I9))))^I5))","v":36.049803775174411},{"$f":"IF(OR(F229<=J7,F229>J9),0,J8+(J10-J8)*(1-((J5+EXP(J6*(J4-J7)))/(J5+EXP(J6*(J4-F229))))^J5)/(1-((J5+EXP(J6*(J4-J7)))/(J5+EXP(J6*(J4-J9))))^J5))","v":0},{"$f":"IF(OR(F229<=J9,F229>100000),0,IF(F229<=K7,K8,K8+(K10-K8)*(1-((K5+EXP(K6*(K4-K7)))/(K5+EXP(K6*(K4-F229))))^K5)/(1-((K5+EXP(K6*(K4-K7)))/(K5+EXP(K6*(K4-K9))))^K5)))","v":0},36.049803775174411,23.656930965530595,0,0,"2011-06-06",{"$f":"MAX(L$12:L229)+MAX(M$12:M229)+MAX(N$12:N229)","v":163.65693096553059},"2011-06-06",1.0475582402112025,null,null,null,null,null,null,null,null,null,null,null,null,null,null,null,null,null,1105.8838383838381,null,{"$f":"IF(OR(AJ229<=AM7,AJ229>AM9),0,AM8+(AM10-AM8)*(1-((AM5+EXP(AM6*(AM4-AM7)))/(AM5+EXP(AM6*(AM4-AJ229))))^AM5)/(1-((AM5+EXP(AM6*(AM4-AM7)))/(AM5+EXP(AM6*(AM4-AM9))))^AM5))","v":0},{"$f":"IF(OR(AJ229<=AN7,AJ229>AN9),0,AN8+(AN10-AN8)*(1-((AN5+EXP(AN6*(AN4-AN7)))/(AN5+EXP(AN6*(AN4-AJ229))))^AN5)/(1-((AN5+EXP(AN6*(AN4-AN7)))/(AN5+EXP(AN6*(AN4-AN9))))^AN5))","v":0},{"$f":"IF(OR(AJ229<=AN9,AJ229>100000),0,IF(AJ229<=AO7,AO8,AO8+(AO10-AO8)*(1-((AO5+EXP(AO6*(AO4-AO7)))/(AO5+EXP(AO6*(AO4-AJ229))))^AO5)/(1-((AO5+EXP(AO6*(AO4-AO7)))/(AO5+EXP(AO6*(AO4-AO9))))^AO5)))","v":259.59546195271128},259.59546195271128,198.47695921633292]
[219,{"$f":"'daily uptake'!F313","v":"2011-06-07"},{"$f":"5/9*'daily uptake'!Q313","v":19.722222222222221},{"$f":"5/9*'daily uptake'!N313","v":9.7222222222222232},{"$f":"IF(AND($A230>='daily uptake'!$C$9,$A230<='daily uptake'!$C$10),$C230+E229,0)","v":0},{"$f":"IF(AND($A230>='daily uptake'!$C$18,$A230<='daily uptake'!$C$20),$D230+F229,0)","v":443.88888888888897},{"$f":"IF(AND($A230>='daily uptake'!$C$24,$A230<='daily uptake'!$C$25),$C230+G229,0)","v":0},{"$f":"IF(OR(F230<=I7,F230>I9),0,I8+(I10-I8)*(1-((I5+EXP(I6*(I4-I7)))/(I5+EXP(I6*(I4-F230))))^I5)/(1-((I5+EXP(I6*(I4-I7)))/(I5+EXP(I6*(I4-I9))))^I5))","v":37.594230536149524},{"$f":"IF(OR(F230<=J7,F230>J9),0,J8+(J10-J8)*(1-((J5+EXP(J6*(J4-J7)))/(J5+EXP(J6*(J4-F230))))^J5)/(1-((J5+EXP(J6*(J4-J7)))/(J5+EXP(J6*(J4-J9))))^J5))","v":0},{"$f":"IF(OR(F230<=J9,F230>100000),0,IF(F230<=K7,K8,K8+(K10-K8)*(1-((K5+EXP(K6*(K4-K7)))/(K5+EXP(K6*(K4-F230))))^K5)/(1-((K5+EXP(K6*(K4-K7)))/(K5+EXP(K6*(K4-K9))))^K5)))","v":0},37.594230536149524,24.67042877798934,0,0,"2011-06-07",{"$f":"MAX(L$12:L230)+MAX(M$12:M230)+MAX(N$12:N230)","v":164.67042877798934},"2011-06-07",1.0134978124587519,null,null,null,null,null,null,null,null,null,null,null,null,null,null,null,null,null,1119.8737373737372,null,{"$f":"IF(OR(AJ230<=AM7,AJ230>AM9),0,AM8+(AM10-AM8)*(1-((AM5+EXP(AM6*(AM4-AM7)))/(AM5+EXP(AM6*(AM4-AJ230))))^AM5)/(1-((AM5+EXP(AM6*(AM4-AM7)))/(AM5+EXP(AM6*(AM4-AM9))))^AM5))","v":0},{"$f":"IF(OR(AJ230<=AN7,AJ230>AN9),0,AN8+(AN10-AN8)*(1-((AN5+EXP(AN6*(AN4-AN7)))/(AN5+EXP(AN6*(AN4-AJ230))))^AN5)/(1-((AN5+EXP(AN6*(AN4-AN7)))/(AN5+EXP(AN6*(AN4-AN9))))^AN5))","v":0},{"$f":"IF(OR(AJ230<=AN9,AJ230>100000),0,IF(AJ230<=AO7,AO8,AO8+(AO10-AO8)*(1-((AO5+EXP(AO6*(AO4-AO7)))/(AO5+EXP(AO6*(AO4-AJ230))))^AO5)/(1-((AO5+EXP(AO6*(AO4-AO7)))/(AO5+EXP(AO6*(AO4-AO9))))^AO5)))","v":263.63974613092392},263.63974613092392,201.56906729811669]
[220,{"$f":"'daily uptake'!F314","v":"2011-06-08"},{"$f":"5/9*'daily uptake'!Q314","v":19.444444444444446},{"$f":"5/9*'daily uptake'!N314","v":9.4444444444444446},{"$f":"IF(AND($A231>='daily uptake'!$C$9,$A231<='daily uptake'!$C$10),$C231+E230,0)","v":0},{"$f":"IF(AND($A231>='daily uptake'!$C$18,$A231<='daily uptake'!$C$20),$D231+F230,0)","v":453.33333333333343},{"$f":"IF(AND($A231>='daily uptake'!$C$24,$A231<='daily uptake'!$C$25),$C231+G230,0)","v":0},{"$f":"IF(OR(F231<=I7,F231>I9),0,I8+(I10-I8)*(1-((I5+EXP(I6*(I4-I7)))/(I5+EXP(I6*(I4-F231))))^I5)/(1-((I5+EXP(I6*(I4-I7)))/(I5+EXP(I6*(I4-I9))))^I5))","v":39.087122507506145},{"$f":"IF(OR(F231<=J7,F231>J9),0,J8+(J10-J8)*(1-((J5+EXP(J6*(J4-J7)))/(J5+EXP(J6*(J4-F231))))^J5)/(1-((J5+EXP(J6*(J4-J7)))/(J5+EXP(J6*(J4-J9))))^J5))","v":0},{"$f":"IF(OR(F231<=J9,F231>100000),0,IF(F231<=K7,K8,K8+(K10-K8)*(1-((K5+EXP(K6*(K4-K7)))/(K5+EXP(K6*(K4-F231))))^K5)/(1-((K5+EXP(K6*(K4-K7)))/(K5+EXP(K6*(K4-K9))))^K5)))","v":0},39.087122507506145,25.650107960867434,0,0,"2011-06-08",{"$f":"MAX(L$12:L231)+MAX(M$12:M231)+MAX(N$12:N231)","v":165.65010796086744},"2011-06-08",0.97967918287810107,null,null,null,null,null,null,null,null,null,null,null,null,null,null,null,null,null,1134.0202020202019,null,{"$f":"IF(OR(AJ231<=AM7,AJ231>AM9),0,AM8+(AM10-AM8)*(1-((AM5+EXP(AM6*(AM4-AM7)))/(AM5+EXP(AM6*(AM4-AJ231))))^AM5)/(1-((AM5+EXP(AM6*(AM4-AM7)))/(AM5+EXP(AM6*(AM4-AM9))))^AM5))","v":0},{"$f":"IF(OR(AJ231<=AN7,AJ231>AN9),0,AN8+(AN10-AN8)*(1-((AN5+EXP(AN6*(AN4-AN7)))/(AN5+EXP(AN6*(AN4-AJ231))))^AN5)/(1-((AN5+EXP(AN6*(AN4-AN7)))/(AN5+EXP(AN6*(AN4-AN9))))^AN5))","v":0},{"$f":"IF(OR(AJ231<=AN9,AJ231>100000),0,IF(AJ231<=AO7,AO8,AO8+(AO10-AO8)*(1-((AO5+EXP(AO6*(AO4-AO7)))/(AO5+EXP(AO6*(AO4-AJ231))))^AO5)/(1-((AO5+EXP(AO6*(AO4-AO7)))/(AO5+EXP(AO6*(AO4-AO9))))^AO5)))","v":267.95079575718222},267.95079575718222,204.86513424171497]
[221,{"$f":"'daily uptake'!F315","v":"2011-06-09"},{"$f":"5/9*'daily uptake'!Q315","v":20.277777777777779},{"$f":"5/9*'daily uptake'!N315","v":10.277777777777779},{"$f":"IF(AND($A232>='daily uptake'!$C$9,$A232<='daily uptake'!$C$10),$C232+E231,0)","v":0},{"$f":"IF(AND($A232>='daily uptake'!$C$18,$A232<='daily uptake'!$C$20),$D232+F231,0)","v":463.6111111111112},{"$f":"IF(AND($A232>='daily uptake'!$C$24,$A232<='daily uptake'!$C$25),$C232+G231,0)","v":0},{"$f":"IF(OR(F232<=I7,F232>I9),0,I8+(I10-I8)*(1-((I5+EXP(I6*(I4-I7)))/(I5+EXP(I6*(I4-F232))))^I5)/(1-((I5+EXP(I6*(I4-I7)))/(I5+EXP(I6*(I4-I9))))^I5))","v":40.703223298933963},{"$f":"IF(OR(F232<=J7,F232>J9),0,J8+(J10-J8)*(1-((J5+EXP(J6*(J4-J7)))/(J5+EXP(J6*(J4-F232))))^J5)/(1-((J5+EXP(J6*(J4-J7)))/(J5+EXP(J6*(J4-J9))))^J5))","v":0},{"$f":"IF(OR(F232<=J9,F232>100000),0,IF(F232<=K7,K8,K8+(K10-K8)*(1-((K5+EXP(K6*(K4-K7)))/(K5+EXP(K6*(K4-F232))))^K5)/(1-((K5+EXP(K6*(K4-K7)))/(K5+EXP(K6*(K4-K9))))^K5)))","v":0},40.703223298933963,26.710640359173457,0,0,"2011-06-09",{"$f":"MAX(L$12:L232)+MAX(M$12:M232)+MAX(N$12:N232)","v":166.71064035917345},"2011-06-09",1.0605323983060089,null,null,null,null,null,null,null,null,null,null,null,null,null,null,null,null,null,1148.1565656565656,null,{"$f":"IF(OR(AJ232<=AM7,AJ232>AM9),0,AM8+(AM10-AM8)*(1-((AM5+EXP(AM6*(AM4-AM7)))/(AM5+EXP(AM6*(AM4-AJ232))))^AM5)/(1-((AM5+EXP(AM6*(AM4-AM7)))/(AM5+EXP(AM6*(AM4-AM9))))^AM5))","v":0},{"$f":"IF(OR(AJ232<=AN7,AJ232>AN9),0,AN8+(AN10-AN8)*(1-((AN5+EXP(AN6*(AN4-AN7)))/(AN5+EXP(AN6*(AN4-AJ232))))^AN5)/(1-((AN5+EXP(AN6*(AN4-AN7)))/(AN5+EXP(AN6*(AN4-AN9))))^AN5))","v":0},{"$f":"IF(OR(AJ232<=AN9,AJ232>100000),0,IF(AJ232<=AO7,AO8,AO8+(AO10-AO8)*(1-((AO5+EXP(AO6*(AO4-AO7)))/(AO5+EXP(AO6*(AO4-AJ232))))^AO5)/(1-((AO5+EXP(AO6*(AO4-AO7)))/(AO5+EXP(AO6*(AO4-AO9))))^AO5)))","v":272.47847984906213},272.47847984906213,208.32683177713716]
[222,{"$f":"'daily uptake'!F316","v":"2011-06-10"},{"$f":"5/9*'daily uptake'!Q316","v":20.277777777777779},{"$f":"5/9*'daily uptake'!N316","v":10.277777777777779},{"$f":"IF(AND($A233>='daily uptake'!$C$9,$A233<='daily uptake'!$C$10),$C233+E232,0)","v":0},{"$f":"IF(AND($A233>='daily uptake'!$C$18,$A233<='daily uptake'!$C$20),$D233+F232,0)","v":473.88888888888897},{"$f":"IF(AND($A233>='daily uptake'!$C$24,$A233<='daily uptake'!$C$25),$C233+G232,0)","v":0},{"$f":"IF(OR(F233<=I7,F233>I9),0,I8+(I10-I8)*(1-((I5+EXP(I6*(I4-I7)))/(I5+EXP(I6*(I4-F233))))^I5)/(1-((I5+EXP(I6*(I4-I7)))/(I5+EXP(I6*(I4-I9))))^I5))","v":42.310281316581687},{"$f":"IF(OR(F233<=J7,F233>J9),0,J8+(J10-J8)*(1-((J5+EXP(J6*(J4-J7)))/(J5+EXP(J6*(J4-F233))))^J5)/(1-((J5+EXP(J6*(J4-J7)))/(J5+EXP(J6*(J4-J9))))^J5))","v":0},{"$f":"IF(OR(F233<=J9,F233>100000),0,IF(F233<=K7,K8,K8+(K10-K8)*(1-((K5+EXP(K6*(K4-K7)))/(K5+EXP(K6*(K4-F233))))^K5)/(1-((K5+EXP(K6*(K4-K7)))/(K5+EXP(K6*(K4-K9))))^K5)))","v":0},42.310281316581687,27.76523862600995,0,0,"2011-06-10",{"$f":"MAX(L$12:L233)+MAX(M$12:M233)+MAX(N$12:N233)","v":167.76523862600996},"2011-06-10",1.054598266836507,null,null,null,null,null,null,null,null,null,null,null,null,null,null,null,null,null,1162.1111111111111,null,{"$f":"IF(OR(AJ233<=AM7,AJ233>AM9),0,AM8+(AM10-AM8)*(1-((AM5+EXP(AM6*(AM4-AM7)))/(AM5+EXP(AM6*(AM4-AJ233))))^AM5)/(1-((AM5+EXP(AM6*(AM4-AM7)))/(AM5+EXP(AM6*(AM4-AM9))))^AM5))","v":0},{"$f":"IF(OR(AJ233<=AN7,AJ233>AN9),0,AN8+(AN10-AN8)*(1-((AN5+EXP(AN6*(AN4-AN7)))/(AN5+EXP(AN6*(AN4-AJ233))))^AN5)/(1-((AN5+EXP(AN6*(AN4-AN7)))/(AN5+EXP(AN6*(AN4-AN9))))^AN5))","v":0},{"$f":"IF(OR(AJ233<=AN9,AJ233>100000),0,IF(AJ233<=AO7,AO8,AO8+(AO10-AO8)*(1-((AO5+EXP(AO6*(AO4-AO7)))/(AO5+EXP(AO6*(AO4-AJ233))))^AO5)/(1-((AO5+EXP(AO6*(AO4-AO7)))/(AO5+EXP(AO6*(AO4-AO9))))^AO5)))","v":277.15764410066788},277.15764410066788,211.90434536441882]
[223,{"$f":"'daily uptake'!F317","v":"2011-06-11"},{"$f":"5/9*'daily uptake'!Q317","v":20.555555555555557},{"$f":"5/9*'daily uptake'!N317","v":10.555555555555555},{"$f":"IF(AND($A234>='daily uptake'!$C$9,$A234<='daily uptake'!$C$10),$C234+E233,0)","v":0},{"$f":"IF(AND($A234>='daily uptake'!$C$18,$A234<='daily uptake'!$C$20),$D234+F233,0)","v":484.44444444444451},{"$f":"IF(AND($A234>='daily uptake'!$C$24,$A234<='daily uptake'!$C$25),$C234+G233,0)","v":0},{"$f":"IF(OR(F234<=I7,F234>I9),0,I8+(I10-I8)*(1-((I5+EXP(I6*(I4-I7)))/(I5+EXP(I6*(I4-F234))))^I5)/(1-((I5+EXP(I6*(I4-I7)))/(I5+EXP(I6*(I4-I9))))^I5))","v":43.95123937967913},{"$f":"IF(OR(F234<=J7,F234>J9),0,J8+(J10-J8)*(1-((J5+EXP(J6*(J4-J7)))/(J5+EXP(J6*(J4-F234))))^J5)/(1-((J5+EXP(J6*(J4-J7)))/(J5+EXP(J6*(J4-J9))))^J5))","v":0},{"$f":"IF(OR(F234<=J9,F234>100000),0,IF(F234<=K7,K8,K8+(K10-K8)*(1-((K5+EXP(K6*(K4-K7)))/(K5+EXP(K6*(K4-F234))))^K5)/(1-((K5+EXP(K6*(K4-K7)))/(K5+EXP(K6*(K4-K9))))^K5)))","v":0},43.95123937967913,28.842083089800358,0,0,"2011-06-11",{"$f":"MAX(L$12:L234)+MAX(M$12:M234)+MAX(N$12:N234)","v":168.84208308980035},"2011-06-11",1.076844463790394,null,null,null,null,null,null,null,null,null,null,null,null,null,null,null,null,null,1175.9191919191919,null,{"$f":"IF(OR(AJ234<=AM7,AJ234>AM9),0,AM8+(AM10-AM8)*(1-((AM5+EXP(AM6*(AM4-AM7)))/(AM5+EXP(AM6*(AM4-AJ234))))^AM5)/(1-((AM5+EXP(AM6*(AM4-AM7)))/(AM5+EXP(AM6*(AM4-AM9))))^AM5))","v":0},{"$f":"IF(OR(AJ234<=AN7,AJ234>AN9),0,AN8+(AN10-AN8)*(1-((AN5+EXP(AN6*(AN4-AN7)))/(AN5+EXP(AN6*(AN4-AJ234))))^AN5)/(1-((AN5+EXP(AN6*(AN4-AN7)))/(AN5+EXP(AN6*(AN4-AN9))))^AN5))","v":0},{"$f":"IF(OR(AJ234<=AN9,AJ234>100000),0,IF(AJ234<=AO7,AO8,AO8+(AO10-AO8)*(1-((AO5+EXP(AO6*(AO4-AO7)))/(AO5+EXP(AO6*(AO4-AJ234))))^AO5)/(1-((AO5+EXP(AO6*(AO4-AO7)))/(AO5+EXP(AO6*(AO4-AO9))))^AO5)))","v":281.98398392920365},281.98398392920365,215.59438388091243]
[224,{"$f":"'daily uptake'!F318","v":"2011-06-12"},{"$f":"5/9*'daily uptake'!Q318","v":20.555555555555557},{"$f":"5/9*'daily uptake'!N318","v":10.555555555555555},{"$f":"IF(AND($A235>='daily uptake'!$C$9,$A235<='daily uptake'!$C$10),$C235+E234,0)","v":0},{"$f":"IF(AND($A235>='daily uptake'!$C$18,$A235<='daily uptake'!$C$20),$D235+F234,0)","v":495.00000000000006},{"$f":"IF(AND($A235>='daily uptake'!$C$24,$A235<='daily uptake'!$C$25),$C235+G234,0)","v":0},{"$f":"IF(OR(F235<=I7,F235>I9),0,I8+(I10-I8)*(1-((I5+EXP(I6*(I4-I7)))/(I5+EXP(I6*(I4-F235))))^I5)/(1-((I5+EXP(I6*(I4-I7)))/(I5+EXP(I6*(I4-I9))))^I5))","v":0},{"$f":"IF(OR(F235<=J7,F235>J9),0,J8+(J10-J8)*(1-((J5+EXP(J6*(J4-J7)))/(J5+EXP(J6*(J4-F235))))^J5)/(1-((J5+EXP(J6*(J4-J7)))/(J5+EXP(J6*(J4-J9))))^J5))","v":46.688717235286745},{"$f":"IF(OR(F235<=J9,F235>100000),0,IF(F235<=K7,K8,K8+(K10-K8)*(1-((K5+EXP(K6*(K4-K7)))/(K5+EXP(K6*(K4-F235))))^K5)/(1-((K5+EXP(K6*(K4-K7)))/(K5+EXP(K6*(K4-K9))))^K5)))","v":0},46.688717235286745,30.638495770814032,0,0,"2011-06-12",{"$f":"MAX(L$12:L235)+MAX(M$12:M235)+MAX(N$12:N235)","v":170.63849577081402},"2011-06-12",1.7964126810136634,null,null,null,null,null,null,null,null,null,null,null,null,null,null,null,null,null,1189.4494949494949,null,{"$f":"IF(OR(AJ235<=AM7,AJ235>AM9),0,AM8+(AM10-AM8)*(1-((AM5+EXP(AM6*(AM4-AM7)))/(AM5+EXP(AM6*(AM4-AJ235))))^AM5)/(1-((AM5+EXP(AM6*(AM4-AM7)))/(AM5+EXP(AM6*(AM4-AM9))))^AM5))","v":0},{"$f":"IF(OR(AJ235<=AN7,AJ235>AN9),0,AN8+(AN10-AN8)*(1-((AN5+EXP(AN6*(AN4-AN7)))/(AN5+EXP(AN6*(AN4-AJ235))))^AN5)/(1-((AN5+EXP(AN6*(AN4-AN7)))/(AN5+EXP(AN6*(AN4-AN9))))^AN5))","v":0},{"$f":"IF(OR(AJ235<=AN9,AJ235>100000),0,IF(AJ235<=AO7,AO8,AO8+(AO10-AO8)*(1-((AO5+EXP(AO6*(AO4-AO7)))/(AO5+EXP(AO6*(AO4-AJ235))))^AO5)/(1-((AO5+EXP(AO6*(AO4-AO7)))/(AO5+EXP(AO6*(AO4-AO9))))^AO5)))","v":286.89082678329521},286.89082678329521,219.34597199307245]
[225,{"$f":"'daily uptake'!F319","v":"2011-06-13"},{"$f":"5/9*'daily uptake'!Q319","v":21.388888888888889},{"$f":"5/9*'daily uptake'!N319","v":11.388888888888889},{"$f":"IF(AND($A236>='daily uptake'!$C$9,$A236<='daily uptake'!$C$10),$C236+E235,0)","v":0},{"$f":"IF(AND($A236>='daily uptake'!$C$18,$A236<='daily uptake'!$C$20),$D236+F235,0)","v":506.38888888888897},{"$f":"IF(AND($A236>='daily uptake'!$C$24,$A236<='daily uptake'!$C$25),$C236+G235,0)","v":0},{"$f":"IF(OR(F236<=I7,F236>I9),0,I8+(I10-I8)*(1-((I5+EXP(I6*(I4-I7)))/(I5+EXP(I6*(I4-F236))))^I5)/(1-((I5+EXP(I6*(I4-I7)))/(I5+EXP(I6*(I4-I9))))^I5))","v":0},{"$f":"IF(OR(F236<=J7,F236>J9),0,J8+(J10-J8)*(1-((J5+EXP(J6*(J4-J7)))/(J5+EXP(J6*(J4-F236))))^J5)/(1-((J5+EXP(J6*(J4-J7)))/(J5+EXP(J6*(J4-J9))))^J5))","v":52.134692954691921},{"$f":"IF(OR(F236<=J9,F236>100000),0,IF(F236<=K7,K8,K8+(K10-K8)*(1-((K5+EXP(K6*(K4-K7)))/(K5+EXP(K6*(K4-F236))))^K5)/(1-((K5+EXP(K6*(K4-K7)))/(K5+EXP(K6*(K4-K9))))^K5)))","v":0},52.134692954691921,34.212303618352053,0,0,"2011-06-13",{"$f":"MAX(L$12:L236)+MAX(M$12:M236)+MAX(N$12:N236)","v":174.21230361835205},"2011-06-13",3.5738078475380348,null,null,null,null,null,null,null,null,null,null,null,null,null,null,null,null,null,1202.5101010101009,null,{"$f":"IF(OR(AJ236<=AM7,AJ236>AM9),0,AM8+(AM10-AM8)*(1-((AM5+EXP(AM6*(AM4-AM7)))/(AM5+EXP(AM6*(AM4-AJ236))))^AM5)/(1-((AM5+EXP(AM6*(AM4-AM7)))/(AM5+EXP(AM6*(AM4-AM9))))^AM5))","v":0},{"$f":"IF(OR(AJ236<=AN7,AJ236>AN9),0,AN8+(AN10-AN8)*(1-((AN5+EXP(AN6*(AN4-AN7)))/(AN5+EXP(AN6*(AN4-AJ236))))^AN5)/(1-((AN5+EXP(AN6*(AN4-AN7)))/(AN5+EXP(AN6*(AN4-AN9))))^AN5))","v":0},{"$f":"IF(OR(AJ236<=AN9,AJ236>100000),0,IF(AJ236<=AO7,AO8,AO8+(AO10-AO8)*(1-((AO5+EXP(AO6*(AO4-AO7)))/(AO5+EXP(AO6*(AO4-AJ236))))^AO5)/(1-((AO5+EXP(AO6*(AO4-AO7)))/(AO5+EXP(AO6*(AO4-AO9))))^AO5)))","v":291.77983927154759},291.77983927154759,223.083927675887]
[226,{"$f":"'daily uptake'!F320","v":"2011-06-14"},{"$f":"5/9*'daily uptake'!Q320","v":21.944444444444446},{"$f":"5/9*'daily uptake'!N320","v":11.944444444444445},{"$f":"IF(AND($A237>='daily uptake'!$C$9,$A237<='daily uptake'!$C$10),$C237+E236,0)","v":0},{"$f":"IF(AND($A237>='daily uptake'!$C$18,$A237<='daily uptake'!$C$20),$D237+F236,0)","v":518.33333333333337},{"$f":"IF(AND($A237>='daily uptake'!$C$24,$A237<='daily uptake'!$C$25),$C237+G236,0)","v":0},{"$f":"IF(OR(F237<=I7,F237>I9),0,I8+(I10-I8)*(1-((I5+EXP(I6*(I4-I7)))/(I5+EXP(I6*(I4-F237))))^I5)/(1-((I5+EXP(I6*(I4-I7)))/(I5+EXP(I6*(I4-I9))))^I5))","v":0},{"$f":"IF(OR(F237<=J7,F237>J9),0,J8+(J10-J8)*(1-((J5+EXP(J6*(J4-J7)))/(J5+EXP(J6*(J4-F237))))^J5)/(1-((J5+EXP(J6*(J4-J7)))/(J5+EXP(J6*(J4-J9))))^J5))","v":58.689269459229457},{"$f":"IF(OR(F237<=J9,F237>100000),0,IF(F237<=K7,K8,K8+(K10-K8)*(1-((K5+EXP(K6*(K4-K7)))/(K5+EXP(K6*(K4-F237))))^K5)/(1-((K5+EXP(K6*(K4-K7)))/(K5+EXP(K6*(K4-K9))))^K5)))","v":0},58.689269459229457,38.513607582256455,0,0,"2011-06-14",{"$f":"MAX(L$12:L237)+MAX(M$12:M237)+MAX(N$12:N237)","v":178.51360758225644},"2011-06-14",4.3013039639043882,null,null,null,null,null,null,null,null,null,null,null,null,null,null,null,null,null,1215.2929292929293,null,{"$f":"IF(OR(AJ237<=AM7,AJ237>AM9),0,AM8+(AM10-AM8)*(1-((AM5+EXP(AM6*(AM4-AM7)))/(AM5+EXP(AM6*(AM4-AJ237))))^AM5)/(1-((AM5+EXP(AM6*(AM4-AM7)))/(AM5+EXP(AM6*(AM4-AM9))))^AM5))","v":0},{"$f":"IF(OR(AJ237<=AN7,AJ237>AN9),0,AN8+(AN10-AN8)*(1-((AN5+EXP(AN6*(AN4-AN7)))/(AN5+EXP(AN6*(AN4-AJ237))))^AN5)/(1-((AN5+EXP(AN6*(AN4-AN7)))/(AN5+EXP(AN6*(AN4-AN9))))^AN5))","v":0},{"$f":"IF(OR(AJ237<=AN9,AJ237>100000),0,IF(AJ237<=AO7,AO8,AO8+(AO10-AO8)*(1-((AO5+EXP(AO6*(AO4-AO7)))/(AO5+EXP(AO6*(AO4-AJ237))))^AO5)/(1-((AO5+EXP(AO6*(AO4-AO7)))/(AO5+EXP(AO6*(AO4-AO9))))^AO5)))","v":296.69343978285468},296.69343978285468,226.84068243944182]
[227,{"$f":"'daily uptake'!F321","v":"2011-06-15"},{"$f":"5/9*'daily uptake'!Q321","v":21.666666666666668},{"$f":"5/9*'daily uptake'!N321","v":11.666666666666668},{"$f":"IF(AND($A238>='daily uptake'!$C$9,$A238<='daily uptake'!$C$10),$C238+E237,0)","v":0},{"$f":"IF(AND($A238>='daily uptake'!$C$18,$A238<='daily uptake'!$C$20),$D238+F237,0)","v":530},{"$f":"IF(AND($A238>='daily uptake'!$C$24,$A238<='daily uptake'!$C$25),$C238+G237,0)","v":0},{"$f":"IF(OR(F238<=I7,F238>I9),0,I8+(I10-I8)*(1-((I5+EXP(I6*(I4-I7)))/(I5+EXP(I6*(I4-F238))))^I5)/(1-((I5+EXP(I6*(I4-I7)))/(I5+EXP(I6*(I4-I9))))^I5))","v":0},{"$f":"IF(OR(F238<=J7,F238>J9),0,J8+(J10-J8)*(1-((J5+EXP(J6*(J4-J7)))/(J5+EXP(J6*(J4-F238))))^J5)/(1-((J5+EXP(J6*(J4-J7)))/(J5+EXP(J6*(J4-J9))))^J5))","v":65.982514279090012},{"$f":"IF(OR(F238<=J9,F238>100000),0,IF(F238<=K7,K8,K8+(K10-K8)*(1-((K5+EXP(K6*(K4-K7)))/(K5+EXP(K6*(K4-F238))))^K5)/(1-((K5+EXP(K6*(K4-K7)))/(K5+EXP(K6*(K4-K9))))^K5)))","v":0},65.982514279090012,43.299647203836059,0,0,"2011-06-15",{"$f":"MAX(L$12:L238)+MAX(M$12:M238)+MAX(N$12:N238)","v":183.29964720383606},"2011-06-15",4.7860396215796186,null,null,null,null,null,null,null,null,null,null,null,null,null,null,null,null,null,1228.2222222222222,null,{"$f":"IF(OR(AJ238<=AM7,AJ238>AM9),0,AM8+(AM10-AM8)*(1-((AM5+EXP(AM6*(AM4-AM7)))/(AM5+EXP(AM6*(AM4-AJ238))))^AM5)/(1-((AM5+EXP(AM6*(AM4-AM7)))/(AM5+EXP(AM6*(AM4-AM9))))^AM5))","v":0},{"$f":"IF(OR(AJ238<=AN7,AJ238>AN9),0,AN8+(AN10-AN8)*(1-((AN5+EXP(AN6*(AN4-AN7)))/(AN5+EXP(AN6*(AN4-AJ238))))^AN5)/(1-((AN5+EXP(AN6*(AN4-AN7)))/(AN5+EXP(AN6*(AN4-AN9))))^AN5))","v":0},{"$f":"IF(OR(AJ238<=AN9,AJ238>100000),0,IF(AJ238<=AO7,AO8,AO8+(AO10-AO8)*(1-((AO5+EXP(AO6*(AO4-AO7)))/(AO5+EXP(AO6*(AO4-AJ238))))^AO5)/(1-((AO5+EXP(AO6*(AO4-AO7)))/(AO5+EXP(AO6*(AO4-AO9))))^AO5)))","v":301.77298782827251},301.77298782827251,230.72431446699801]
[228,{"$f":"'daily uptake'!F322","v":"2011-06-16"},{"$f":"5/9*'daily uptake'!Q322","v":21.111111111111111},{"$f":"5/9*'daily uptake'!N322","v":11.111111111111111},{"$f":"IF(AND($A239>='daily uptake'!$C$9,$A239<='daily uptake'!$C$10),$C239+E238,0)","v":0},{"$f":"IF(AND($A239>='daily uptake'!$C$18,$A239<='daily uptake'!$C$20),$D239+F238,0)","v":541.11111111111109},{"$f":"IF(AND($A239>='daily uptake'!$C$24,$A239<='daily uptake'!$C$25),$C239+G238,0)","v":0},{"$f":"IF(OR(F239<=I7,F239>I9),0,I8+(I10-I8)*(1-((I5+EXP(I6*(I4-I7)))/(I5+EXP(I6*(I4-F239))))^I5)/(1-((I5+EXP(I6*(I4-I7)))/(I5+EXP(I6*(I4-I9))))^I5))","v":0},{"$f":"IF(OR(F239<=J7,F239>J9),0,J8+(J10-J8)*(1-((J5+EXP(J6*(J4-J7)))/(J5+EXP(J6*(J4-F239))))^J5)/(1-((J5+EXP(J6*(J4-J7)))/(J5+EXP(J6*(J4-J9))))^J5))","v":73.781836710090474},{"$f":"IF(OR(F239<=J9,F239>100000),0,IF(F239<=K7,K8,K8+(K10-K8)*(1-((K5+EXP(K6*(K4-K7)))/(K5+EXP(K6*(K4-F239))))^K5)/(1-((K5+EXP(K6*(K4-K7)))/(K5+EXP(K6*(K4-K9))))^K5)))","v":0},73.781836710090474,48.41778969023575,0,0,"2011-06-16",{"$f":"MAX(L$12:L239)+MAX(M$12:M239)+MAX(N$12:N239)","v":188.41778969023574},"2011-06-16",5.1181424863996767,null,null,null,null,null,null,null,null,null,null,null,null,null,null,null,null,null,1241.181818181818,null,{"$f":"IF(OR(AJ239<=AM7,AJ239>AM9),0,AM8+(AM10-AM8)*(1-((AM5+EXP(AM6*(AM4-AM7)))/(AM5+EXP(AM6*(AM4-AJ239))))^AM5)/(1-((AM5+EXP(AM6*(AM4-AM7)))/(AM5+EXP(AM6*(AM4-AM9))))^AM5))","v":0},{"$f":"IF(OR(AJ239<=AN7,AJ239>AN9),0,AN8+(AN10-AN8)*(1-((AN5+EXP(AN6*(AN4-AN7)))/(AN5+EXP(AN6*(AN4-AJ239))))^AN5)/(1-((AN5+EXP(AN6*(AN4-AN7)))/(AN5+EXP(AN6*(AN4-AN9))))^AN5))","v":0},{"$f":"IF(OR(AJ239<=AN9,AJ239>100000),0,IF(AJ239<=AO7,AO8,AO8+(AO10-AO8)*(1-((AO5+EXP(AO6*(AO4-AO7)))/(AO5+EXP(AO6*(AO4-AJ239))))^AO5)/(1-((AO5+EXP(AO6*(AO4-AO7)))/(AO5+EXP(AO6*(AO4-AO9))))^AO5)))","v":306.95177632578543},306.95177632578543,234.68382202417607]
[229,{"$f":"'daily uptake'!F323","v":"2011-06-17"},{"$f":"5/9*'daily uptake'!Q323","v":21.388888888888889},{"$f":"5/9*'daily uptake'!N323","v":11.388888888888889},{"$f":"IF(AND($A240>='daily uptake'!$C$9,$A240<='daily uptake'!$C$10),$C240+E239,0)","v":0},{"$f":"IF(AND($A240>='daily uptake'!$C$18,$A240<='daily uptake'!$C$20),$D240+F239,0)","v":552.5},{"$f":"IF(AND($A240>='daily uptake'!$C$24,$A240<='daily uptake'!$C$25),$C240+G239,0)","v":0},{"$f":"IF(OR(F240<=I7,F240>I9),0,I8+(I10-I8)*(1-((I5+EXP(I6*(I4-I7)))/(I5+EXP(I6*(I4-F240))))^I5)/(1-((I5+EXP(I6*(I4-I7)))/(I5+EXP(I6*(I4-I9))))^I5))","v":0},{"$f":"IF(OR(F240<=J7,F240>J9),0,J8+(J10-J8)*(1-((J5+EXP(J6*(J4-J7)))/(J5+EXP(J6*(J4-F240))))^J5)/(1-((J5+EXP(J6*(J4-J7)))/(J5+EXP(J6*(J4-J9))))^J5))","v":82.648503233166934},{"$f":"IF(OR(F240<=J9,F240>100000),0,IF(F240<=K7,K8,K8+(K10-K8)*(1-((K5+EXP(K6*(K4-K7)))/(K5+EXP(K6*(K4-F240))))^K5)/(1-((K5+EXP(K6*(K4-K7)))/(K5+EXP(K6*(K4-K9))))^K5)))","v":0},82.648503233166934,54.236354449671424,0,0,"2011-06-17",{"$f":"MAX(L$12:L240)+MAX(M$12:M240)+MAX(N$12:N240)","v":194.23635444967141},"2011-06-17",5.8185647594356737,null,null,null,null,null,null,null,null,null,null,null,null,null,null,null,null,null,1254.1060606060605,null,{"$f":"IF(OR(AJ240<=AM7,AJ240>AM9),0,AM8+(AM10-AM8)*(1-((AM5+EXP(AM6*(AM4-AM7)))/(AM5+EXP(AM6*(AM4-AJ240))))^AM5)/(1-((AM5+EXP(AM6*(AM4-AM7)))/(AM5+EXP(AM6*(AM4-AM9))))^AM5))","v":0},{"$f":"IF(OR(AJ240<=AN7,AJ240>AN9),0,AN8+(AN10-AN8)*(1-((AN5+EXP(AN6*(AN4-AN7)))/(AN5+EXP(AN6*(AN4-AJ240))))^AN5)/(1-((AN5+EXP(AN6*(AN4-AN7)))/(AN5+EXP(AN6*(AN4-AN9))))^AN5))","v":0},{"$f":"IF(OR(AJ240<=AN9,AJ240>100000),0,IF(AJ240<=AO7,AO8,AO8+(AO10-AO8)*(1-((AO5+EXP(AO6*(AO4-AO7)))/(AO5+EXP(AO6*(AO4-AJ240))))^AO5)/(1-((AO5+EXP(AO6*(AO4-AO7)))/(AO5+EXP(AO6*(AO4-AO9))))^AO5)))","v":312.17671913116976},312.17671913116976,238.67861743504827]
[230,{"$f":"'daily uptake'!F324","v":"2011-06-18"},{"$f":"5/9*'daily uptake'!Q324","v":21.666666666666668},{"$f":"5/9*'daily uptake'!N324","v":11.666666666666668},{"$f":"IF(AND($A241>='daily uptake'!$C$9,$A241<='daily uptake'!$C$10),$C241+E240,0)","v":0},{"$f":"IF(AND($A241>='daily uptake'!$C$18,$A241<='daily uptake'!$C$20),$D241+F240,0)","v":564.16666666666663},{"$f":"IF(AND($A241>='daily uptake'!$C$24,$A241<='daily uptake'!$C$25),$C241+G240,0)","v":0},{"$f":"IF(OR(F241<=I7,F241>I9),0,I8+(I10-I8)*(1-((I5+EXP(I6*(I4-I7)))/(I5+EXP(I6*(I4-F241))))^I5)/(1-((I5+EXP(I6*(I4-I7)))/(I5+EXP(I6*(I4-I9))))^I5))","v":0},{"$f":"IF(OR(F241<=J7,F241>J9),0,J8+(J10-J8)*(1-((J5+EXP(J6*(J4-J7)))/(J5+EXP(J6*(J4-F241))))^J5)/(1-((J5+EXP(J6*(J4-J7)))/(J5+EXP(J6*(J4-J9))))^J5))","v":92.619615252427408},{"$f":"IF(OR(F241<=J9,F241>100000),0,IF(F241<=K7,K8,K8+(K10-K8)*(1-((K5+EXP(K6*(K4-K7)))/(K5+EXP(K6*(K4-F241))))^K5)/(1-((K5+EXP(K6*(K4-K7)))/(K5+EXP(K6*(K4-K9))))^K5)))","v":0},92.619615252427408,60.7796885038684,0,0,"2011-06-18",{"$f":"MAX(L$12:L241)+MAX(M$12:M241)+MAX(N$12:N241)","v":200.77968850386839},"2011-06-18",6.5433340541969756,null,null,null,null,null,null,null,null,null,null,null,null,null,null,null,null,null,1266.5151515151515,null,{"$f":"IF(OR(AJ241<=AM7,AJ241>AM9),0,AM8+(AM10-AM8)*(1-((AM5+EXP(AM6*(AM4-AM7)))/(AM5+EXP(AM6*(AM4-AJ241))))^AM5)/(1-((AM5+EXP(AM6*(AM4-AM7)))/(AM5+EXP(AM6*(AM4-AM9))))^AM5))","v":0},{"$f":"IF(OR(AJ241<=AN7,AJ241>AN9),0,AN8+(AN10-AN8)*(1-((AN5+EXP(AN6*(AN4-AN7)))/(AN5+EXP(AN6*(AN4-AJ241))))^AN5)/(1-((AN5+EXP(AN6*(AN4-AN7)))/(AN5+EXP(AN6*(AN4-AN9))))^AN5))","v":0},{"$f":"IF(OR(AJ241<=AN9,AJ241>100000),0,IF(AJ241<=AO7,AO8,AO8+(AO10-AO8)*(1-((AO5+EXP(AO6*(AO4-AO7)))/(AO5+EXP(AO6*(AO4-AJ241))))^AO5)/(1-((AO5+EXP(AO6*(AO4-AO7)))/(AO5+EXP(AO6*(AO4-AO9))))^AO5)))","v":317.222118989367},317.222118989367,242.53614103870785]
[231,{"$f":"'daily uptake'!F325","v":"2011-06-19"},{"$f":"5/9*'daily uptake'!Q325","v":21.388888888888889},{"$f":"5/9*'daily uptake'!N325","v":11.388888888888889},{"$f":"IF(AND($A242>='daily uptake'!$C$9,$A242<='daily uptake'!$C$10),$C242+E241,0)","v":0},{"$f":"IF(AND($A242>='daily uptake'!$C$18,$A242<='daily uptake'!$C$20),$D242+F241,0)","v":575.55555555555554},{"$f":"IF(AND($A242>='daily uptake'!$C$24,$A242<='daily uptake'!$C$25),$C242+G241,0)","v":0},{"$f":"IF(OR(F242<=I7,F242>I9),0,I8+(I10-I8)*(1-((I5+EXP(I6*(I4-I7)))/(I5+EXP(I6*(I4-F242))))^I5)/(1-((I5+EXP(I6*(I4-I7)))/(I5+EXP(I6*(I4-I9))))^I5))","v":0},{"$f":"IF(OR(F242<=J7,F242>J9),0,J8+(J10-J8)*(1-((J5+EXP(J6*(J4-J7)))/(J5+EXP(J6*(J4-F242))))^J5)/(1-((J5+EXP(J6*(J4-J7)))/(J5+EXP(J6*(J4-J9))))^J5))","v":103.14994100565146},{"$f":"IF(OR(F242<=J9,F242>100000),0,IF(F242<=K7,K8,K8+(K10-K8)*(1-((K5+EXP(K6*(K4-K7)))/(K5+EXP(K6*(K4-F242))))^K5)/(1-((K5+EXP(K6*(K4-K7)))/(K5+EXP(K6*(K4-K9))))^K5)))","v":0},103.14994100565146,67.689994893944316,0,0,"2011-06-19",{"$f":"MAX(L$12:L242)+MAX(M$12:M242)+MAX(N$12:N242)","v":207.68999489394432},"2011-06-19",6.9103063900759309,null,null,null,null,null,null,null,null,null,null,null,null,null,null,null,null,null,1278.6010101010102,null,{"$f":"IF(OR(AJ242<=AM7,AJ242>AM9),0,AM8+(AM10-AM8)*(1-((AM5+EXP(AM6*(AM4-AM7)))/(AM5+EXP(AM6*(AM4-AJ242))))^AM5)/(1-((AM5+EXP(AM6*(AM4-AM7)))/(AM5+EXP(AM6*(AM4-AM9))))^AM5))","v":0},{"$f":"IF(OR(AJ242<=AN7,AJ242>AN9),0,AN8+(AN10-AN8)*(1-((AN5+EXP(AN6*(AN4-AN7)))/(AN5+EXP(AN6*(AN4-AJ242))))^AN5)/(1-((AN5+EXP(AN6*(AN4-AN7)))/(AN5+EXP(AN6*(AN4-AN9))))^AN5))","v":0},{"$f":"IF(OR(AJ242<=AN9,AJ242>100000),0,IF(AJ242<=AO7,AO8,AO8+(AO10-AO8)*(1-((AO5+EXP(AO6*(AO4-AO7)))/(AO5+EXP(AO6*(AO4-AJ242))))^AO5)/(1-((AO5+EXP(AO6*(AO4-AO7)))/(AO5+EXP(AO6*(AO4-AO9))))^AO5)))","v":322.13484225048239},322.13484225048239,246.29222508965]
[232,{"$f":"'daily uptake'!F326","v":"2011-06-20"},{"$f":"5/9*'daily uptake'!Q326","v":21.388888888888889},{"$f":"5/9*'daily uptake'!N326","v":11.388888888888889},{"$f":"IF(AND($A243>='daily uptake'!$C$9,$A243<='daily uptake'!$C$10),$C243+E242,0)","v":0},{"$f":"IF(AND($A243>='daily uptake'!$C$18,$A243<='daily uptake'!$C$20),$D243+F242,0)","v":586.94444444444446},{"$f":"IF(AND($A243>='daily uptake'!$C$24,$A243<='daily uptake'!$C$25),$C243+G242,0)","v":0},{"$f":"IF(OR(F243<=I7,F243>I9),0,I8+(I10-I8)*(1-((I5+EXP(I6*(I4-I7)))/(I5+EXP(I6*(I4-F243))))^I5)/(1-((I5+EXP(I6*(I4-I7)))/(I5+EXP(I6*(I4-I9))))^I5))","v":0},{"$f":"IF(OR(F243<=J7,F243>J9),0,J8+(J10-J8)*(1-((J5+EXP(J6*(J4-J7)))/(J5+EXP(J6*(J4-F243))))^J5)/(1-((J5+EXP(J6*(J4-J7)))/(J5+EXP(J6*(J4-J9))))^J5))","v":114.34909401824063},{"$f":"IF(OR(F243<=J9,F243>100000),0,IF(F243<=K7,K8,K8+(K10-K8)*(1-((K5+EXP(K6*(K4-K7)))/(K5+EXP(K6*(K4-F243))))^K5)/(1-((K5+EXP(K6*(K4-K7)))/(K5+EXP(K6*(K4-K9))))^K5)))","v":0},114.34909401824063,75.039205207085729,0,0,"2011-06-20",{"$f":"MAX(L$12:L243)+MAX(M$12:M243)+MAX(N$12:N243)","v":215.03920520708573},"2011-06-20",7.3492103131414126,null,null,null,null,null,null,null,null,null,null,null,null,null,null,null,null,null,1290.6060606060607,null,{"$f":"IF(OR(AJ243<=AM7,AJ243>AM9),0,AM8+(AM10-AM8)*(1-((AM5+EXP(AM6*(AM4-AM7)))/(AM5+EXP(AM6*(AM4-AJ243))))^AM5)/(1-((AM5+EXP(AM6*(AM4-AM7)))/(AM5+EXP(AM6*(AM4-AM9))))^AM5))","v":0},{"$f":"IF(OR(AJ243<=AN7,AJ243>AN9),0,AN8+(AN10-AN8)*(1-((AN5+EXP(AN6*(AN4-AN7)))/(AN5+EXP(AN6*(AN4-AJ243))))^AN5)/(1-((AN5+EXP(AN6*(AN4-AN7)))/(AN5+EXP(AN6*(AN4-AN9))))^AN5))","v":0},{"$f":"IF(OR(AJ243<=AN9,AJ243>100000),0,IF(AJ243<=AO7,AO8,AO8+(AO10-AO8)*(1-((AO5+EXP(AO6*(AO4-AO7)))/(AO5+EXP(AO6*(AO4-AJ243))))^AO5)/(1-((AO5+EXP(AO6*(AO4-AO7)))/(AO5+EXP(AO6*(AO4-AO9))))^AO5)))","v":326.98438017402481},326.98438017402481,249.99999999999997]
[233,{"$f":"'daily uptake'!F327","v":"2011-06-21"},{"$f":"5/9*'daily uptake'!Q327","v":21.388888888888889},{"$f":"5/9*'daily uptake'!N327","v":11.388888888888889},{"$f":"IF(AND($A244>='daily uptake'!$C$9,$A244<='daily uptake'!$C$10),$C244+E243,0)","v":0},{"$f":"IF(AND($A244>='daily uptake'!$C$18,$A244<='daily uptake'!$C$20),$D244+F243,0)","v":598.33333333333337},{"$f":"IF(AND($A244>='daily uptake'!$C$24,$A244<='daily uptake'!$C$25),$C244+G243,0)","v":0},{"$f":"IF(OR(F244<=I7,F244>I9),0,I8+(I10-I8)*(1-((I5+EXP(I6*(I4-I7)))/(I5+EXP(I6*(I4-F244))))^I5)/(1-((I5+EXP(I6*(I4-I7)))/(I5+EXP(I6*(I4-I9))))^I5))","v":0},{"$f":"IF(OR(F244<=J7,F244>J9),0,J8+(J10-J8)*(1-((J5+EXP(J6*(J4-J7)))/(J5+EXP(J6*(J4-F244))))^J5)/(1-((J5+EXP(J6*(J4-J7)))/(J5+EXP(J6*(J4-J9))))^J5))","v":126.04999455670918},{"$f":"IF(OR(F244<=J9,F244>100000),0,IF(F244<=K7,K8,K8+(K10-K8)*(1-((K5+EXP(K6*(K4-K7)))/(K5+EXP(K6*(K4-F244))))^K5)/(1-((K5+EXP(K6*(K4-K7)))/(K5+EXP(K6*(K4-K9))))^K5)))","v":0},126.04999455670918,82.717676857012222,0,0,"2011-06-21",{"$f":"MAX(L$12:L244)+MAX(M$12:M244)+MAX(N$12:N244)","v":222.71767685701224},"2011-06-21",7.6784716499265073,null,null,null,null,null,null,null,null,null,null,null,null,null,null,null,null,null,0,null,{"$f":"IF(OR(AJ244<=AM7,AJ244>AM9),0,AM8+(AM10-AM8)*(1-((AM5+EXP(AM6*(AM4-AM7)))/(AM5+EXP(AM6*(AM4-AJ244))))^AM5)/(1-((AM5+EXP(AM6*(AM4-AM7)))/(AM5+EXP(AM6*(AM4-AM9))))^AM5))","v":0},{"$f":"IF(OR(AJ244<=AN7,AJ244>AN9),0,AN8+(AN10-AN8)*(1-((AN5+EXP(AN6*(AN4-AN7)))/(AN5+EXP(AN6*(AN4-AJ244))))^AN5)/(1-((AN5+EXP(AN6*(AN4-AN7)))/(AN5+EXP(AN6*(AN4-AN9))))^AN5))","v":0},{"$f":"IF(OR(AJ244<=AN9,AJ244>100000),0,IF(AJ244<=AO7,AO8,AO8+(AO10-AO8)*(1-((AO5+EXP(AO6*(AO4-AO7)))/(AO5+EXP(AO6*(AO4-AJ244))))^AO5)/(1-((AO5+EXP(AO6*(AO4-AO7)))/(AO5+EXP(AO6*(AO4-AO9))))^AO5)))","v":0},0,0]
[234,{"$f":"'daily uptake'!F328","v":"2011-06-22"},{"$f":"5/9*'daily uptake'!Q328","v":22.5},{"$f":"5/9*'daily uptake'!N328","v":12.5},{"$f":"IF(AND($A245>='daily uptake'!$C$9,$A245<='daily uptake'!$C$10),$C245+E244,0)","v":0},{"$f":"IF(AND($A245>='daily uptake'!$C$18,$A245<='daily uptake'!$C$20),$D245+F244,0)","v":610.83333333333337},{"$f":"IF(AND($A245>='daily uptake'!$C$24,$A245<='daily uptake'!$C$25),$C245+G244,0)","v":0},{"$f":"IF(OR(F245<=I7,F245>I9),0,I8+(I10-I8)*(1-((I5+EXP(I6*(I4-I7)))/(I5+EXP(I6*(I4-F245))))^I5)/(1-((I5+EXP(I6*(I4-I7)))/(I5+EXP(I6*(I4-I9))))^I5))","v":0},{"$f":"IF(OR(F245<=J7,F245>J9),0,J8+(J10-J8)*(1-((J5+EXP(J6*(J4-J7)))/(J5+EXP(J6*(J4-F245))))^J5)/(1-((J5+EXP(J6*(J4-J7)))/(J5+EXP(J6*(J4-J9))))^J5))","v":139.21609140612631},{"$f":"IF(OR(F245<=J9,F245>100000),0,IF(F245<=K7,K8,K8+(K10-K8)*(1-((K5+EXP(K6*(K4-K7)))/(K5+EXP(K6*(K4-F245))))^K5)/(1-((K5+EXP(K6*(K4-K7)))/(K5+EXP(K6*(K4-K9))))^K5)))","v":0},139.21609140612631,91.357652990991724,0,0,"2011-06-22",{"$f":"MAX(L$12:L245)+MAX(M$12:M245)+MAX(N$12:N245)","v":231.35765299099171},"2011-06-22",8.6399761339794736,null,null,null,null,null,null,null,null,null,null,null,null,null,null,null,null,null,0,null,{"$f":"IF(OR(AJ245<=AM7,AJ245>AM9),0,AM8+(AM10-AM8)*(1-((AM5+EXP(AM6*(AM4-AM7)))/(AM5+EXP(AM6*(AM4-AJ245))))^AM5)/(1-((AM5+EXP(AM6*(AM4-AM7)))/(AM5+EXP(AM6*(AM4-AM9))))^AM5))","v":0},{"$f":"IF(OR(AJ245<=AN7,AJ245>AN9),0,AN8+(AN10-AN8)*(1-((AN5+EXP(AN6*(AN4-AN7)))/(AN5+EXP(AN6*(AN4-AJ245))))^AN5)/(1-((AN5+EXP(AN6*(AN4-AN7)))/(AN5+EXP(AN6*(AN4-AN9))))^AN5))","v":0},{"$f":"IF(OR(AJ245<=AN9,AJ245>100000),0,IF(AJ245<=AO7,AO8,AO8+(AO10-AO8)*(1-((AO5+EXP(AO6*(AO4-AO7)))/(AO5+EXP(AO6*(AO4-AJ245))))^AO5)/(1-((AO5+EXP(AO6*(AO4-AO7)))/(AO5+EXP(AO6*(AO4-AO9))))^AO5)))","v":0},0,0]
[235,{"$f":"'daily uptake'!F329","v":"2011-06-23"},{"$f":"5/9*'daily uptake'!Q329","v":22.777777777777779},{"$f":"5/9*'daily uptake'!N329","v":12.777777777777779},{"$f":"IF(AND($A246>='daily uptake'!$C$9,$A246<='daily uptake'!$C$10),$C246+E245,0)","v":0},{"$f":"IF(AND($A246>='daily uptake'!$C$18,$A246<='daily uptake'!$C$20),$D246+F245,0)","v":623.6111111111112},{"$f":"IF(AND($A246>='daily uptake'!$C$24,$A246<='daily uptake'!$C$25),$C246+G245,0)","v":0},{"$f":"IF(OR(F246<=I7,F246>I9),0,I8+(I10-I8)*(1-((I5+EXP(I6*(I4-I7)))/(I5+EXP(I6*(I4-F246))))^I5)/(1-((I5+EXP(I6*(I4-I7)))/(I5+EXP(I6*(I4-I9))))^I5))","v":0},{"$f":"IF(OR(F246<=J7,F246>J9),0,J8+(J10-J8)*(1-((J5+EXP(J6*(J4-J7)))/(J5+EXP(J6*(J4-F246))))^J5)/(1-((J5+EXP(J6*(J4-J7)))/(J5+EXP(J6*(J4-J9))))^J5))","v":152.69095466188645},{"$f":"IF(OR(F246<=J9,F246>100000),0,IF(F246<=K7,K8,K8+(K10-K8)*(1-((K5+EXP(K6*(K4-K7)))/(K5+EXP(K6*(K4-F246))))^K5)/(1-((K5+EXP(K6*(K4-K7)))/(K5+EXP(K6*(K4-K9))))^K5)))","v":0},152.69095466188645,100.20025063173131,0,0,"2011-06-23",{"$f":"MAX(L$12:L246)+MAX(M$12:M246)+MAX(N$12:N246)","v":240.20025063173131},"2011-06-23",8.8425976407395979,null,null,null,null,null,null,null,null,null,null,null,null,null,null,null,null,null,0,null,{"$f":"IF(OR(AJ246<=AM7,AJ246>AM9),0,AM8+(AM10-AM8)*(1-((AM5+EXP(AM6*(AM4-AM7)))/(AM5+EXP(AM6*(AM4-AJ246))))^AM5)/(1-((AM5+EXP(AM6*(AM4-AM7)))/(AM5+EXP(AM6*(AM4-AM9))))^AM5))","v":0},{"$f":"IF(OR(AJ246<=AN7,AJ246>AN9),0,AN8+(AN10-AN8)*(1-((AN5+EXP(AN6*(AN4-AN7)))/(AN5+EXP(AN6*(AN4-AJ246))))^AN5)/(1-((AN5+EXP(AN6*(AN4-AN7)))/(AN5+EXP(AN6*(AN4-AN9))))^AN5))","v":0},{"$f":"IF(OR(AJ246<=AN9,AJ246>100000),0,IF(AJ246<=AO7,AO8,AO8+(AO10-AO8)*(1-((AO5+EXP(AO6*(AO4-AO7)))/(AO5+EXP(AO6*(AO4-AJ246))))^AO5)/(1-((AO5+EXP(AO6*(AO4-AO7)))/(AO5+EXP(AO6*(AO4-AO9))))^AO5)))","v":0},0,0]
[236,{"$f":"'daily uptake'!F330","v":"2011-06-24"},{"$f":"5/9*'daily uptake'!Q330","v":22.5},{"$f":"5/9*'daily uptake'!N330","v":12.5},{"$f":"IF(AND($A247>='daily uptake'!$C$9,$A247<='daily uptake'!$C$10),$C247+E246,0)","v":0},{"$f":"IF(AND($A247>='daily uptake'!$C$18,$A247<='daily uptake'!$C$20),$D247+F246,0)","v":636.1111111111112},{"$f":"IF(AND($A247>='daily uptake'!$C$24,$A247<='daily uptake'!$C$25),$C247+G246,0)","v":0},{"$f":"IF(OR(F247<=I7,F247>I9),0,I8+(I10-I8)*(1-((I5+EXP(I6*(I4-I7)))/(I5+EXP(I6*(I4-F247))))^I5)/(1-((I5+EXP(I6*(I4-I7)))/(I5+EXP(I6*(I4-I9))))^I5))","v":0},{"$f":"IF(OR(F247<=J7,F247>J9),0,J8+(J10-J8)*(1-((J5+EXP(J6*(J4-J7)))/(J5+EXP(J6*(J4-F247))))^J5)/(1-((J5+EXP(J6*(J4-J7)))/(J5+EXP(J6*(J4-J9))))^J5))","v":165.52855615667227},{"$f":"IF(OR(F247<=J9,F247>100000),0,IF(F247<=K7,K8,K8+(K10-K8)*(1-((K5+EXP(K6*(K4-K7)))/(K5+EXP(K6*(K4-F247))))^K5)/(1-((K5+EXP(K6*(K4-K7)))/(K5+EXP(K6*(K4-K9))))^K5)))","v":0},165.52855615667227,108.62465854859997,0,0,"2011-06-24",{"$f":"MAX(L$12:L247)+MAX(M$12:M247)+MAX(N$12:N247)","v":248.62465854859997},"2011-06-24",8.4244079168686596,null,null,null,null,null,null,null,null,null,null,null,null,null,null,null,null,null,0,null,{"$f":"IF(OR(AJ247<=AM7,AJ247>AM9),0,AM8+(AM10-AM8)*(1-((AM5+EXP(AM6*(AM4-AM7)))/(AM5+EXP(AM6*(AM4-AJ247))))^AM5)/(1-((AM5+EXP(AM6*(AM4-AM7)))/(AM5+EXP(AM6*(AM4-AM9))))^AM5))","v":0},{"$f":"IF(OR(AJ247<=AN7,AJ247>AN9),0,AN8+(AN10-AN8)*(1-((AN5+EXP(AN6*(AN4-AN7)))/(AN5+EXP(AN6*(AN4-AJ247))))^AN5)/(1-((AN5+EXP(AN6*(AN4-AN7)))/(AN5+EXP(AN6*(AN4-AN9))))^AN5))","v":0},{"$f":"IF(OR(AJ247<=AN9,AJ247>100000),0,IF(AJ247<=AO7,AO8,AO8+(AO10-AO8)*(1-((AO5+EXP(AO6*(AO4-AO7)))/(AO5+EXP(AO6*(AO4-AJ247))))^AO5)/(1-((AO5+EXP(AO6*(AO4-AO7)))/(AO5+EXP(AO6*(AO4-AO9))))^AO5)))","v":0},0,0]
[237,{"$f":"'daily uptake'!F331","v":"2011-06-25"},{"$f":"5/9*'daily uptake'!Q331","v":22.5},{"$f":"5/9*'daily uptake'!N331","v":12.5},{"$f":"IF(AND($A248>='daily uptake'!$C$9,$A248<='daily uptake'!$C$10),$C248+E247,0)","v":0},{"$f":"IF(AND($A248>='daily uptake'!$C$18,$A248<='daily uptake'!$C$20),$D248+F247,0)","v":648.6111111111112},{"$f":"IF(AND($A248>='daily uptake'!$C$24,$A248<='daily uptake'!$C$25),$C248+G247,0)","v":0},{"$f":"IF(OR(F248<=I7,F248>I9),0,I8+(I10-I8)*(1-((I5+EXP(I6*(I4-I7)))/(I5+EXP(I6*(I4-F248))))^I5)/(1-((I5+EXP(I6*(I4-I7)))/(I5+EXP(I6*(I4-I9))))^I5))","v":0},{"$f":"IF(OR(F248<=J7,F248>J9),0,J8+(J10-J8)*(1-((J5+EXP(J6*(J4-J7)))/(J5+EXP(J6*(J4-F248))))^J5)/(1-((J5+EXP(J6*(J4-J7)))/(J5+EXP(J6*(J4-J9))))^J5))","v":177.67960793602913},{"$f":"IF(OR(F248<=J9,F248>100000),0,IF(F248<=K7,K8,K8+(K10-K8)*(1-((K5+EXP(K6*(K4-K7)))/(K5+EXP(K6*(K4-F248))))^K5)/(1-((K5+EXP(K6*(K4-K7)))/(K5+EXP(K6*(K4-K9))))^K5)))","v":0},177.67960793602913,116.59853255067675,0,0,"2011-06-25",{"$f":"MAX(L$12:L248)+MAX(M$12:M248)+MAX(N$12:N248)","v":256.59853255067674},"2011-06-25",7.9738740020767693,null,null,null,null,null,null,null,null,null,null,null,null,null,null,null,null,null,0,null,{"$f":"IF(OR(AJ248<=AM7,AJ248>AM9),0,AM8+(AM10-AM8)*(1-((AM5+EXP(AM6*(AM4-AM7)))/(AM5+EXP(AM6*(AM4-AJ248))))^AM5)/(1-((AM5+EXP(AM6*(AM4-AM7)))/(AM5+EXP(AM6*(AM4-AM9))))^AM5))","v":0},{"$f":"IF(OR(AJ248<=AN7,AJ248>AN9),0,AN8+(AN10-AN8)*(1-((AN5+EXP(AN6*(AN4-AN7)))/(AN5+EXP(AN6*(AN4-AJ248))))^AN5)/(1-((AN5+EXP(AN6*(AN4-AN7)))/(AN5+EXP(AN6*(AN4-AN9))))^AN5))","v":0},{"$f":"IF(OR(AJ248<=AN9,AJ248>100000),0,IF(AJ248<=AO7,AO8,AO8+(AO10-AO8)*(1-((AO5+EXP(AO6*(AO4-AO7)))/(AO5+EXP(AO6*(AO4-AJ248))))^AO5)/(1-((AO5+EXP(AO6*(AO4-AO7)))/(AO5+EXP(AO6*(AO4-AO9))))^AO5)))","v":0},0,0]
[238,{"$f":"'daily uptake'!F332","v":"2011-06-26"},{"$f":"5/9*'daily uptake'!Q332","v":22.777777777777779},{"$f":"5/9*'daily uptake'!N332","v":12.777777777777779},{"$f":"IF(AND($A249>='daily uptake'!$C$9,$A249<='daily uptake'!$C$10),$C249+E248,0)","v":0},{"$f":"IF(AND($A249>='daily uptake'!$C$18,$A249<='daily uptake'!$C$20),$D249+F248,0)","v":661.38888888888903},{"$f":"IF(AND($A249>='daily uptake'!$C$24,$A249<='daily uptake'!$C$25),$C249+G248,0)","v":0},{"$f":"IF(OR(F249<=I7,F249>I9),0,I8+(I10-I8)*(1-((I5+EXP(I6*(I4-I7)))/(I5+EXP(I6*(I4-F249))))^I5)/(1-((I5+EXP(I6*(I4-I7)))/(I5+EXP(I6*(I4-I9))))^I5))","v":0},{"$f":"IF(OR(F249<=J7,F249>J9),0,J8+(J10-J8)*(1-((J5+EXP(J6*(J4-J7)))/(J5+EXP(J6*(J4-F249))))^J5)/(1-((J5+EXP(J6*(J4-J7)))/(J5+EXP(J6*(J4-J9))))^J5))","v":189.08164999706293},{"$f":"IF(OR(F249<=J9,F249>100000),0,IF(F249<=K7,K8,K8+(K10-K8)*(1-((K5+EXP(K6*(K4-K7)))/(K5+EXP(K6*(K4-F249))))^K5)/(1-((K5+EXP(K6*(K4-K7)))/(K5+EXP(K6*(K4-K9))))^K5)))","v":0},189.08164999706293,124.08088456530011,0,0,"2011-06-26",{"$f":"MAX(L$12:L249)+MAX(M$12:M249)+MAX(N$12:N249)","v":264.0808845653001},"2011-06-26",7.4823520146233591,null,null,null,null,null,null,null,null,null,null,null,null,null,null,null,null,null,0,null,{"$f":"IF(OR(AJ249<=AM7,AJ249>AM9),0,AM8+(AM10-AM8)*(1-((AM5+EXP(AM6*(AM4-AM7)))/(AM5+EXP(AM6*(AM4-AJ249))))^AM5)/(1-((AM5+EXP(AM6*(AM4-AM7)))/(AM5+EXP(AM6*(AM4-AM9))))^AM5))","v":0},{"$f":"IF(OR(AJ249<=AN7,AJ249>AN9),0,AN8+(AN10-AN8)*(1-((AN5+EXP(AN6*(AN4-AN7)))/(AN5+EXP(AN6*(AN4-AJ249))))^AN5)/(1-((AN5+EXP(AN6*(AN4-AN7)))/(AN5+EXP(AN6*(AN4-AN9))))^AN5))","v":0},{"$f":"IF(OR(AJ249<=AN9,AJ249>100000),0,IF(AJ249<=AO7,AO8,AO8+(AO10-AO8)*(1-((AO5+EXP(AO6*(AO4-AO7)))/(AO5+EXP(AO6*(AO4-AJ249))))^AO5)/(1-((AO5+EXP(AO6*(AO4-AO7)))/(AO5+EXP(AO6*(AO4-AO9))))^AO5)))","v":0},0,0]
[239,{"$f":"'daily uptake'!F333","v":"2011-06-27"},{"$f":"5/9*'daily uptake'!Q333","v":23.333333333333336},{"$f":"5/9*'daily uptake'!N333","v":13.333333333333334},{"$f":"IF(AND($A250>='daily uptake'!$C$9,$A250<='daily uptake'!$C$10),$C250+E249,0)","v":0},{"$f":"IF(AND($A250>='daily uptake'!$C$18,$A250<='daily uptake'!$C$20),$D250+F249,0)","v":674.7222222222224},{"$f":"IF(AND($A250>='daily uptake'!$C$24,$A250<='daily uptake'!$C$25),$C250+G249,0)","v":0},{"$f":"IF(OR(F250<=I7,F250>I9),0,I8+(I10-I8)*(1-((I5+EXP(I6*(I4-I7)))/(I5+EXP(I6*(I4-F250))))^I5)/(1-((I5+EXP(I6*(I4-I7)))/(I5+EXP(I6*(I4-I9))))^I5))","v":0},{"$f":"IF(OR(F250<=J7,F250>J9),0,J8+(J10-J8)*(1-((J5+EXP(J6*(J4-J7)))/(J5+EXP(J6*(J4-F250))))^J5)/(1-((J5+EXP(J6*(J4-J7)))/(J5+EXP(J6*(J4-J9))))^J5))","v":199.62903301143265},{"$f":"IF(OR(F250<=J9,F250>100000),0,IF(F250<=K7,K8,K8+(K10-K8)*(1-((K5+EXP(K6*(K4-K7)))/(K5+EXP(K6*(K4-F250))))^K5)/(1-((K5+EXP(K6*(K4-K7)))/(K5+EXP(K6*(K4-K9))))^K5)))","v":0},199.62903301143265,131.00238442682738,0,0,"2011-06-27",{"$f":"MAX(L$12:L250)+MAX(M$12:M250)+MAX(N$12:N250)","v":271.00238442682735},"2011-06-27",6.9214998615272521,null,null,null,null,null,null,null,null,null,null,null,null,null,null,null,null,null,0,null,{"$f":"IF(OR(AJ250<=AM7,AJ250>AM9),0,AM8+(AM10-AM8)*(1-((AM5+EXP(AM6*(AM4-AM7)))/(AM5+EXP(AM6*(AM4-AJ250))))^AM5)/(1-((AM5+EXP(AM6*(AM4-AM7)))/(AM5+EXP(AM6*(AM4-AM9))))^AM5))","v":0},{"$f":"IF(OR(AJ250<=AN7,AJ250>AN9),0,AN8+(AN10-AN8)*(1-((AN5+EXP(AN6*(AN4-AN7)))/(AN5+EXP(AN6*(AN4-AJ250))))^AN5)/(1-((AN5+EXP(AN6*(AN4-AN7)))/(AN5+EXP(AN6*(AN4-AN9))))^AN5))","v":0},{"$f":"IF(OR(AJ250<=AN9,AJ250>100000),0,IF(AJ250<=AO7,AO8,AO8+(AO10-AO8)*(1-((AO5+EXP(AO6*(AO4-AO7)))/(AO5+EXP(AO6*(AO4-AJ250))))^AO5)/(1-((AO5+EXP(AO6*(AO4-AO7)))/(AO5+EXP(AO6*(AO4-AO9))))^AO5)))","v":0},0,0]
[240,{"$f":"'daily uptake'!F334","v":"2011-06-28"},{"$f":"5/9*'daily uptake'!Q334","v":23.611111111111111},{"$f":"5/9*'daily uptake'!N334","v":13.611111111111112},{"$f":"IF(AND($A251>='daily uptake'!$C$9,$A251<='daily uptake'!$C$10),$C251+E250,0)","v":0},{"$f":"IF(AND($A251>='daily uptake'!$C$18,$A251<='daily uptake'!$C$20),$D251+F250,0)","v":688.33333333333348},{"$f":"IF(AND($A251>='daily uptake'!$C$24,$A251<='daily uptake'!$C$25),$C251+G250,0)","v":0},{"$f":"IF(OR(F251<=I7,F251>I9),0,I8+(I10-I8)*(1-((I5+EXP(I6*(I4-I7)))/(I5+EXP(I6*(I4-F251))))^I5)/(1-((I5+EXP(I6*(I4-I7)))/(I5+EXP(I6*(I4-I9))))^I5))","v":0},{"$f":"IF(OR(F251<=J7,F251>J9),0,J8+(J10-J8)*(1-((J5+EXP(J6*(J4-J7)))/(J5+EXP(J6*(J4-F251))))^J5)/(1-((J5+EXP(J6*(J4-J7)))/(J5+EXP(J6*(J4-J9))))^J5))","v":208.82167316022964},{"$f":"IF(OR(F251<=J9,F251>100000),0,IF(F251<=K7,K8,K8+(K10-K8)*(1-((K5+EXP(K6*(K4-K7)))/(K5+EXP(K6*(K4-F251))))^K5)/(1-((K5+EXP(K6*(K4-K7)))/(K5+EXP(K6*(K4-K9))))^K5)))","v":0},208.82167316022964,137.03486257143283,0,0,"2011-06-28",{"$f":"MAX(L$12:L251)+MAX(M$12:M251)+MAX(N$12:N251)","v":277.03486257143283},"2011-06-28",6.0324781446054772,null,null,null,null,null,null,null,null,null,null,null,null,null,null,null,null,null,0,null,{"$f":"IF(OR(AJ251<=AM7,AJ251>AM9),0,AM8+(AM10-AM8)*(1-((AM5+EXP(AM6*(AM4-AM7)))/(AM5+EXP(AM6*(AM4-AJ251))))^AM5)/(1-((AM5+EXP(AM6*(AM4-AM7)))/(AM5+EXP(AM6*(AM4-AM9))))^AM5))","v":0},{"$f":"IF(OR(AJ251<=AN7,AJ251>AN9),0,AN8+(AN10-AN8)*(1-((AN5+EXP(AN6*(AN4-AN7)))/(AN5+EXP(AN6*(AN4-AJ251))))^AN5)/(1-((AN5+EXP(AN6*(AN4-AN7)))/(AN5+EXP(AN6*(AN4-AN9))))^AN5))","v":0},{"$f":"IF(OR(AJ251<=AN9,AJ251>100000),0,IF(AJ251<=AO7,AO8,AO8+(AO10-AO8)*(1-((AO5+EXP(AO6*(AO4-AO7)))/(AO5+EXP(AO6*(AO4-AJ251))))^AO5)/(1-((AO5+EXP(AO6*(AO4-AO7)))/(AO5+EXP(AO6*(AO4-AO9))))^AO5)))","v":0},0,0]
[241,{"$f":"'daily uptake'!F335","v":"2011-06-29"},{"$f":"5/9*'daily uptake'!Q335","v":23.333333333333336},{"$f":"5/9*'daily uptake'!N335","v":13.333333333333334},{"$f":"IF(AND($A252>='daily uptake'!$C$9,$A252<='daily uptake'!$C$10),$C252+E251,0)","v":0},{"$f":"IF(AND($A252>='daily uptake'!$C$18,$A252<='daily uptake'!$C$20),$D252+F251,0)","v":701.66666666666686},{"$f":"IF(AND($A252>='daily uptake'!$C$24,$A252<='daily uptake'!$C$25),$C252+G251,0)","v":0},{"$f":"IF(OR(F252<=I7,F252>I9),0,I8+(I10-I8)*(1-((I5+EXP(I6*(I4-I7)))/(I5+EXP(I6*(I4-F252))))^I5)/(1-((I5+EXP(I6*(I4-I7)))/(I5+EXP(I6*(I4-I9))))^I5))","v":0},{"$f":"IF(OR(F252<=J7,F252>J9),0,J8+(J10-J8)*(1-((J5+EXP(J6*(J4-J7)))/(J5+EXP(J6*(J4-F252))))^J5)/(1-((J5+EXP(J6*(J4-J7)))/(J5+EXP(J6*(J4-J9))))^J5))","v":216.2577136162034},{"$f":"IF(OR(F252<=J9,F252>100000),0,IF(F252<=K7,K8,K8+(K10-K8)*(1-((K5+EXP(K6*(K4-K7)))/(K5+EXP(K6*(K4-F252))))^K5)/(1-((K5+EXP(K6*(K4-K7)))/(K5+EXP(K6*(K4-K9))))^K5)))","v":0},{"$f":"H252+I252+J252","v":216.2577136162034},141.91460884747238,0,0,"2011-06-29",{"$f":"MAX(L$12:L252)+MAX(M$12:M252)+MAX(N$12:N252)","v":281.91460884747238},"2011-06-29",4.8797462760395547,null,null,null,null,null,null,null,null,null,null,null,null,null,null,null,null,null,0,null,{"$f":"IF(OR(AJ252<=AM7,AJ252>AM9),0,AM8+(AM10-AM8)*(1-((AM5+EXP(AM6*(AM4-AM7)))/(AM5+EXP(AM6*(AM4-AJ252))))^AM5)/(1-((AM5+EXP(AM6*(AM4-AM7)))/(AM5+EXP(AM6*(AM4-AM9))))^AM5))","v":0},{"$f":"IF(OR(AJ252<=AN7,AJ252>AN9),0,AN8+(AN10-AN8)*(1-((AN5+EXP(AN6*(AN4-AN7)))/(AN5+EXP(AN6*(AN4-AJ252))))^AN5)/(1-((AN5+EXP(AN6*(AN4-AN7)))/(AN5+EXP(AN6*(AN4-AN9))))^AN5))","v":0},{"$f":"IF(OR(AJ252<=AN9,AJ252>100000),0,IF(AJ252<=AO7,AO8,AO8+(AO10-AO8)*(1-((AO5+EXP(AO6*(AO4-AO7)))/(AO5+EXP(AO6*(AO4-AJ252))))^AO5)/(1-((AO5+EXP(AO6*(AO4-AO7)))/(AO5+EXP(AO6*(AO4-AO9))))^AO5)))","v":0},{"$f":"AL252+AM252+AN252","v":0},0]
[242,{"$f":"'daily uptake'!F336","v":"2011-06-30"},{"$f":"5/9*'daily uptake'!Q336","v":22.777777777777779},{"$f":"5/9*'daily uptake'!N336","v":12.777777777777779},{"$f":"IF(AND($A253>='daily uptake'!$C$9,$A253<='daily uptake'!$C$10),$C253+E252,0)","v":0},{"$f":"IF(AND($A253>='daily uptake'!$C$18,$A253<='daily uptake'!$C$20),$D253+F252,0)","v":714.44444444444468},{"$f":"IF(AND($A253>='daily uptake'!$C$24,$A253<='daily uptake'!$C$25),$C253+G252,0)","v":0},{"$f":"IF(OR(F253<=I7,F253>I9),0,I8+(I10-I8)*(1-((I5+EXP(I6*(I4-I7)))/(I5+EXP(I6*(I4-F253))))^I5)/(1-((I5+EXP(I6*(I4-I7)))/(I5+EXP(I6*(I4-I9))))^I5))","v":0},{"$f":"IF(OR(F253<=J7,F253>J9),0,J8+(J10-J8)*(1-((J5+EXP(J6*(J4-J7)))/(J5+EXP(J6*(J4-F253))))^J5)/(1-((J5+EXP(J6*(J4-J7)))/(J5+EXP(J6*(J4-J9))))^J5))","v":222.0003706353867},{"$f":"IF(OR(F253<=J9,FALSE),0,IF(F253<=K7,K8,K8+(K10-K8)*(1-((K5+EXP(K6*(K4-K7)))/(K5+EXP(K6*(K4-F253))))^K5)/(1-((K5+EXP(K6*(K4-K7)))/(K5+EXP(K6*(K4-K9))))^K5)))","v":0},{"$f":"H253+I253+J253","v":222.0003706353867},145.68310760293841,0,0,"2011-06-30",{"$f":"MAX(L$12:L253)+MAX(M$12:M253)+MAX(N$12:N253)","v":285.68310760293843},"2011-06-30",3.7684987554660552,null,null,null,null,null,null,null,null,null,null,null,null,null,null,null,null,null,0,null,{"$f":"IF(OR(AJ253<=AM7,AJ253>AM9),0,AM8+(AM10-AM8)*(1-((AM5+EXP(AM6*(AM4-AM7)))/(AM5+EXP(AM6*(AM4-AJ253))))^AM5)/(1-((AM5+EXP(AM6*(AM4-AM7)))/(AM5+EXP(AM6*(AM4-AM9))))^AM5))","v":0},{"$f":"IF(OR(AJ253<=AN7,AJ253>AN9),0,AN8+(AN10-AN8)*(1-((AN5+EXP(AN6*(AN4-AN7)))/(AN5+EXP(AN6*(AN4-AJ253))))^AN5)/(1-((AN5+EXP(AN6*(AN4-AN7)))/(AN5+EXP(AN6*(AN4-AN9))))^AN5))","v":0},{"$f":"IF(OR(AJ253<=AN9,FALSE),0,IF(AJ253<=AO7,AO8,AO8+(AO10-AO8)*(1-((AO5+EXP(AO6*(AO4-AO7)))/(AO5+EXP(AO6*(AO4-AJ253))))^AO5)/(1-((AO5+EXP(AO6*(AO4-AO7)))/(AO5+EXP(AO6*(AO4-AO9))))^AO5)))","v":0},{"$f":"AL253+AM253+AN253","v":0},0]
[243,{"$f":"'daily uptake'!F337","v":"2011-07-01"},{"$f":"5/9*'daily uptake'!Q337","v":22.777777777777779},{"$f":"5/9*'daily uptake'!N337","v":12.777777777777779},{"$f":"IF(AND($A254>='daily uptake'!$C$9,$A254<='daily uptake'!$C$10),$C254+E253,0)","v":0},{"$f":"IF(AND($A254>='daily uptake'!$C$18,$A254<='daily uptake'!$C$20),$D254+F253,0)","v":727.22222222222251},{"$f":"IF(AND($A254>='daily uptake'!$C$24,$A254<='daily uptake'!$C$25),$C254+G253,0)","v":0},{"$f":"IF(OR(F254<=I7,F254>I9),0,I8+(I10-I8)*(1-((I5+EXP(I6*(I4-I7)))/(I5+EXP(I6*(I4-F254))))^I5)/(1-((I5+EXP(I6*(I4-I7)))/(I5+EXP(I6*(I4-I9))))^I5))","v":0},{"$f":"IF(OR(F254<=J7,F254>J9),0,J8+(J10-J8)*(1-((J5+EXP(J6*(J4-J7)))/(J5+EXP(J6*(J4-F254))))^J5)/(1-((J5+EXP(J6*(J4-J7)))/(J5+EXP(J6*(J4-J9))))^J5))","v":226.52629881431704},{"$f":"IF(OR(F254<=J9,F254>100000),0,IF(F254<=K7,K8,K8+(K10-K8)*(1-((K5+EXP(K6*(K4-K7)))/(K5+EXP(K6*(K4-F254))))^K5)/(1-((K5+EXP(K6*(K4-K7)))/(K5+EXP(K6*(K4-K9))))^K5)))","v":0},226.52629881431704,148.653153463705,0,0,"2011-07-01",{"$f":"MAX(L$12:L254)+MAX(M$12:M254)+MAX(N$12:N254)","v":288.653153463705},"2011-07-01",2.970045860766561,null,null,null,null,null,null,null,null,null,null,null,null,null,null,null,null,null,0,null,{"$f":"IF(OR(AJ254<=AM7,AJ254>AM9),0,AM8+(AM10-AM8)*(1-((AM5+EXP(AM6*(AM4-AM7)))/(AM5+EXP(AM6*(AM4-AJ254))))^AM5)/(1-((AM5+EXP(AM6*(AM4-AM7)))/(AM5+EXP(AM6*(AM4-AM9))))^AM5))","v":0},{"$f":"IF(OR(AJ254<=AN7,AJ254>AN9),0,AN8+(AN10-AN8)*(1-((AN5+EXP(AN6*(AN4-AN7)))/(AN5+EXP(AN6*(AN4-AJ254))))^AN5)/(1-((AN5+EXP(AN6*(AN4-AN7)))/(AN5+EXP(AN6*(AN4-AN9))))^AN5))","v":0},{"$f":"IF(OR(AJ254<=AN9,AJ254>100000),0,IF(AJ254<=AO7,AO8,AO8+(AO10-AO8)*(1-((AO5+EXP(AO6*(AO4-AO7)))/(AO5+EXP(AO6*(AO4-AJ254))))^AO5)/(1-((AO5+EXP(AO6*(AO4-AO7)))/(AO5+EXP(AO6*(AO4-AO9))))^AO5)))","v":0},0,0]
[244,{"$f":"'daily uptake'!F338","v":"2011-07-02"},{"$f":"5/9*'daily uptake'!Q338","v":22.777777777777779},{"$f":"5/9*'daily uptake'!N338","v":12.777777777777779},{"$f":"IF(AND($A255>='daily uptake'!$C$9,$A255<='daily uptake'!$C$10),$C255+E254,0)","v":0},{"$f":"IF(AND($A255>='daily uptake'!$C$18,$A255<='daily uptake'!$C$20),$D255+F254,0)","v":740.00000000000034},{"$f":"IF(AND($A255>='daily uptake'!$C$24,$A255<='daily uptake'!$C$25),$C255+G254,0)","v":0},{"$f":"IF(OR(F255<=I7,F255>I9),0,I8+(I10-I8)*(1-((I5+EXP(I6*(I4-I7)))/(I5+EXP(I6*(I4-F255))))^I5)/(1-((I5+EXP(I6*(I4-I7)))/(I5+EXP(I6*(I4-I9))))^I5))","v":0},{"$f":"IF(OR(F255<=J7,F255>J9),0,J8+(J10-J8)*(1-((J5+EXP(J6*(J4-J7)))/(J5+EXP(J6*(J4-F255))))^J5)/(1-((J5+EXP(J6*(J4-J7)))/(J5+EXP(J6*(J4-J9))))^J5))","v":230.00740090999687},{"$f":"IF(OR(F255<=J9,F255>100000),0,IF(F255<=K7,K8,K8+(K10-K8)*(1-((K5+EXP(K6*(K4-K7)))/(K5+EXP(K6*(K4-F255))))^K5)/(1-((K5+EXP(K6*(K4-K7)))/(K5+EXP(K6*(K4-K9))))^K5)))","v":0},230.00740090999687,150.93755402452507,0,0,"2011-07-02",{"$f":"MAX(L$12:L255)+MAX(M$12:M255)+MAX(N$12:N255)","v":290.93755402452507},"2011-07-02",2.2844005608200746,null,null,null,null,null,null,null,null,null,null,null,null,null,null,null,null,null,0,null,{"$f":"IF(OR(AJ255<=AM7,AJ255>AM9),0,AM8+(AM10-AM8)*(1-((AM5+EXP(AM6*(AM4-AM7)))/(AM5+EXP(AM6*(AM4-AJ255))))^AM5)/(1-((AM5+EXP(AM6*(AM4-AM7)))/(AM5+EXP(AM6*(AM4-AM9))))^AM5))","v":0},{"$f":"IF(OR(AJ255<=AN7,AJ255>AN9),0,AN8+(AN10-AN8)*(1-((AN5+EXP(AN6*(AN4-AN7)))/(AN5+EXP(AN6*(AN4-AJ255))))^AN5)/(1-((AN5+EXP(AN6*(AN4-AN7)))/(AN5+EXP(AN6*(AN4-AN9))))^AN5))","v":0},{"$f":"IF(OR(AJ255<=AN9,AJ255>100000),0,IF(AJ255<=AO7,AO8,AO8+(AO10-AO8)*(1-((AO5+EXP(AO6*(AO4-AO7)))/(AO5+EXP(AO6*(AO4-AJ255))))^AO5)/(1-((AO5+EXP(AO6*(AO4-AO7)))/(AO5+EXP(AO6*(AO4-AO9))))^AO5)))","v":0},0,0]
[245,{"$f":"'daily uptake'!F339","v":"2011-07-03"},{"$f":"5/9*'daily uptake'!Q339","v":23.055555555555557},{"$f":"5/9*'daily uptake'!N339","v":13.055555555555555},{"$f":"IF(AND($A256>='daily uptake'!$C$9,$A256<='daily uptake'!$C$10),$C256+E255,0)","v":0},{"$f":"IF(AND($A256>='daily uptake'!$C$18,$A256<='daily uptake'!$C$20),$D256+F255,0)","v":753.05555555555588},{"$f":"IF(AND($A256>='daily uptake'!$C$24,$A256<='daily uptake'!$C$25),$C256+G255,0)","v":0},{"$f":"IF(OR(F256<=I7,F256>I9),0,I8+(I10-I8)*(1-((I5+EXP(I6*(I4-I7)))/(I5+EXP(I6*(I4-F256))))^I5)/(1-((I5+EXP(I6*(I4-I7)))/(I5+EXP(I6*(I4-I9))))^I5))","v":0},{"$f":"IF(OR(F256<=J7,F256>J9),0,J8+(J10-J8)*(1-((J5+EXP(J6*(J4-J7)))/(J5+EXP(J6*(J4-F256))))^J5)/(1-((J5+EXP(J6*(J4-J7)))/(J5+EXP(J6*(J4-J9))))^J5))","v":232.67530713582184},{"$f":"IF(OR(F256<=J9,F256>100000),0,IF(F256<=K7,K8,K8+(K10-K8)*(1-((K5+EXP(K6*(K4-K7)))/(K5+EXP(K6*(K4-F256))))^K5)/(1-((K5+EXP(K6*(K4-K7)))/(K5+EXP(K6*(K4-K9))))^K5)))","v":0},232.67530713582184,152.68831177623062,0,0,"2011-07-03",{"$f":"MAX(L$12:L256)+MAX(M$12:M256)+MAX(N$12:N256)","v":292.68831177623065},"2011-07-03",1.7507577517055779,null,null,null,null,null,null,null,null,null,null,null,null,null,null,null,null,null,0,null,{"$f":"IF(OR(AJ256<=AM7,AJ256>AM9),0,AM8+(AM10-AM8)*(1-((AM5+EXP(AM6*(AM4-AM7)))/(AM5+EXP(AM6*(AM4-AJ256))))^AM5)/(1-((AM5+EXP(AM6*(AM4-AM7)))/(AM5+EXP(AM6*(AM4-AM9))))^AM5))","v":0},{"$f":"IF(OR(AJ256<=AN7,AJ256>AN9),0,AN8+(AN10-AN8)*(1-((AN5+EXP(AN6*(AN4-AN7)))/(AN5+EXP(AN6*(AN4-AJ256))))^AN5)/(1-((AN5+EXP(AN6*(AN4-AN7)))/(AN5+EXP(AN6*(AN4-AN9))))^AN5))","v":0},{"$f":"IF(OR(AJ256<=AN9,AJ256>100000),0,IF(AJ256<=AO7,AO8,AO8+(AO10-AO8)*(1-((AO5+EXP(AO6*(AO4-AO7)))/(AO5+EXP(AO6*(AO4-AJ256))))^AO5)/(1-((AO5+EXP(AO6*(AO4-AO7)))/(AO5+EXP(AO6*(AO4-AO9))))^AO5)))","v":0},0,0]
[246,{"$f":"'daily uptake'!F340","v":"2011-07-04"},{"$f":"5/9*'daily uptake'!Q340","v":22.777777777777779},{"$f":"5/9*'daily uptake'!N340","v":12.777777777777779},{"$f":"IF(AND($A257>='daily uptake'!$C$9,$A257<='daily uptake'!$C$10),$C257+E256,0)","v":0},{"$f":"IF(AND($A257>='daily uptake'!$C$18,$A257<='daily uptake'!$C$20),$D257+F256,0)","v":765.83333333333371},{"$f":"IF(AND($A257>='daily uptake'!$C$24,$A257<='daily uptake'!$C$25),$C257+G256,0)","v":0},{"$f":"IF(OR(F257<=I7,F257>I9),0,I8+(I10-I8)*(1-((I5+EXP(I6*(I4-I7)))/(I5+EXP(I6*(I4-F257))))^I5)/(1-((I5+EXP(I6*(I4-I7)))/(I5+EXP(I6*(I4-I9))))^I5))","v":0},{"$f":"IF(OR(F257<=J7,F257>J9),0,J8+(J10-J8)*(1-((J5+EXP(J6*(J4-J7)))/(J5+EXP(J6*(J4-F257))))^J5)/(1-((J5+EXP(J6*(J4-J7)))/(J5+EXP(J6*(J4-J9))))^J5))","v":0},{"$f":"IF(OR(F257<=J9,F257>100000),0,IF(F257<=K7,K8,K8+(K10-K8)*(1-((K5+EXP(K6*(K4-K7)))/(K5+EXP(K6*(K4-F257))))^K5)/(1-((K5+EXP(K6*(K4-K7)))/(K5+EXP(K6*(K4-K9))))^K5)))","v":234.38544210000001},234.38544210000001,153.81055213686091,0,0,"2011-07-04",{"$f":"MAX(L$12:L257)+MAX(M$12:M257)+MAX(N$12:N257)","v":293.81055213686091},"2011-07-04",1.1222403606302578,null,null,null,null,null,null,null,null,null,null,null,null,null,null,null,null,null,0,null,{"$f":"IF(OR(AJ257<=AM7,AJ257>AM9),0,AM8+(AM10-AM8)*(1-((AM5+EXP(AM6*(AM4-AM7)))/(AM5+EXP(AM6*(AM4-AJ257))))^AM5)/(1-((AM5+EXP(AM6*(AM4-AM7)))/(AM5+EXP(AM6*(AM4-AM9))))^AM5))","v":0},{"$f":"IF(OR(AJ257<=AN7,AJ257>AN9),0,AN8+(AN10-AN8)*(1-((AN5+EXP(AN6*(AN4-AN7)))/(AN5+EXP(AN6*(AN4-AJ257))))^AN5)/(1-((AN5+EXP(AN6*(AN4-AN7)))/(AN5+EXP(AN6*(AN4-AN9))))^AN5))","v":0},{"$f":"IF(OR(AJ257<=AN9,AJ257>100000),0,IF(AJ257<=AO7,AO8,AO8+(AO10-AO8)*(1-((AO5+EXP(AO6*(AO4-AO7)))/(AO5+EXP(AO6*(AO4-AJ257))))^AO5)/(1-((AO5+EXP(AO6*(AO4-AO7)))/(AO5+EXP(AO6*(AO4-AO9))))^AO5)))","v":0},0,0]
[247,{"$f":"'daily uptake'!F341","v":"2011-07-05"},{"$f":"5/9*'daily uptake'!Q341","v":23.333333333333336},{"$f":"5/9*'daily uptake'!N341","v":13.333333333333334},{"$f":"IF(AND($A258>='daily uptake'!$C$9,$A258<='daily uptake'!$C$10),$C258+E257,0)","v":0},{"$f":"IF(AND($A258>='daily uptake'!$C$18,$A258<='daily uptake'!$C$20),$D258+F257,0)","v":779.16666666666708},{"$f":"IF(AND($A258>='daily uptake'!$C$24,$A258<='daily uptake'!$C$25),$C258+G257,0)","v":0},{"$f":"IF(OR(F258<=I7,F258>I9),0,I8+(I10-I8)*(1-((I5+EXP(I6*(I4-I7)))/(I5+EXP(I6*(I4-F258))))^I5)/(1-((I5+EXP(I6*(I4-I7)))/(I5+EXP(I6*(I4-I9))))^I5))","v":0},{"$f":"IF(OR(F258<=J7,F258>J9),0,J8+(J10-J8)*(1-((J5+EXP(J6*(J4-J7)))/(J5+EXP(J6*(J4-F258))))^J5)/(1-((J5+EXP(J6*(J4-J7)))/(J5+EXP(J6*(J4-J9))))^J5))","v":0},{"$f":"IF(OR(F258<=J9,F258>100000),0,IF(F258<=K7,K8,K8+(K10-K8)*(1-((K5+EXP(K6*(K4-K7)))/(K5+EXP(K6*(K4-F258))))^K5)/(1-((K5+EXP(K6*(K4-K7)))/(K5+EXP(K6*(K4-K9))))^K5)))","v":234.38544210000001},234.38544210000001,153.81055213686091,0,0,"2011-07-05",{"$f":"MAX(L$12:L258)+MAX(M$12:M258)+MAX(N$12:N258)","v":293.81055213686091},"2011-07-05",0,null,null,null,null,null,null,null,null,null,null,null,null,null,null,null,null,null,0,null,{"$f":"IF(OR(AJ258<=AM7,AJ258>AM9),0,AM8+(AM10-AM8)*(1-((AM5+EXP(AM6*(AM4-AM7)))/(AM5+EXP(AM6*(AM4-AJ258))))^AM5)/(1-((AM5+EXP(AM6*(AM4-AM7)))/(AM5+EXP(AM6*(AM4-AM9))))^AM5))","v":0},{"$f":"IF(OR(AJ258<=AN7,AJ258>AN9),0,AN8+(AN10-AN8)*(1-((AN5+EXP(AN6*(AN4-AN7)))/(AN5+EXP(AN6*(AN4-AJ258))))^AN5)/(1-((AN5+EXP(AN6*(AN4-AN7)))/(AN5+EXP(AN6*(AN4-AN9))))^AN5))","v":0},{"$f":"IF(OR(AJ258<=AN9,AJ258>100000),0,IF(AJ258<=AO7,AO8,AO8+(AO10-AO8)*(1-((AO5+EXP(AO6*(AO4-AO7)))/(AO5+EXP(AO6*(AO4-AJ258))))^AO5)/(1-((AO5+EXP(AO6*(AO4-AO7)))/(AO5+EXP(AO6*(AO4-AO9))))^AO5)))","v":0},0,0]
[248,{"$f":"'daily uptake'!F342","v":"2011-07-06"},{"$f":"5/9*'daily uptake'!Q342","v":23.333333333333336},{"$f":"5/9*'daily uptake'!N342","v":13.333333333333334},{"$f":"IF(AND($A259>='daily uptake'!$C$9,$A259<='daily uptake'!$C$10),$C259+E258,0)","v":0},{"$f":"IF(AND($A259>='daily uptake'!$C$18,$A259<='daily uptake'!$C$20),$D259+F258,0)","v":792.50000000000045},{"$f":"IF(AND($A259>='daily uptake'!$C$24,$A259<='daily uptake'!$C$25),$C259+G258,0)","v":0},{"$f":"IF(OR(F259<=I7,F259>I9),0,I8+(I10-I8)*(1-((I5+EXP(I6*(I4-I7)))/(I5+EXP(I6*(I4-F259))))^I5)/(1-((I5+EXP(I6*(I4-I7)))/(I5+EXP(I6*(I4-I9))))^I5))","v":0},{"$f":"IF(OR(F259<=J7,F259>J9),0,J8+(J10-J8)*(1-((J5+EXP(J6*(J4-J7)))/(J5+EXP(J6*(J4-F259))))^J5)/(1-((J5+EXP(J6*(J4-J7)))/(J5+EXP(J6*(J4-J9))))^J5))","v":0},{"$f":"IF(OR(F259<=J9,F259>100000),0,IF(F259<=K7,K8,K8+(K10-K8)*(1-((K5+EXP(K6*(K4-K7)))/(K5+EXP(K6*(K4-F259))))^K5)/(1-((K5+EXP(K6*(K4-K7)))/(K5+EXP(K6*(K4-K9))))^K5)))","v":234.38544210000001},234.38544210000001,153.81055213686091,0,0,"2011-07-06",{"$f":"MAX(L$12:L259)+MAX(M$12:M259)+MAX(N$12:N259)","v":293.81055213686091},"2011-07-06",0,null,null,null,null,null,null,null,null,null,null,null,null,null,null,null,null,null,0,null,{"$f":"IF(OR(AJ259<=AM7,AJ259>AM9),0,AM8+(AM10-AM8)*(1-((AM5+EXP(AM6*(AM4-AM7)))/(AM5+EXP(AM6*(AM4-AJ259))))^AM5)/(1-((AM5+EXP(AM6*(AM4-AM7)))/(AM5+EXP(AM6*(AM4-AM9))))^AM5))","v":0},{"$f":"IF(OR(AJ259<=AN7,AJ259>AN9),0,AN8+(AN10-AN8)*(1-((AN5+EXP(AN6*(AN4-AN7)))/(AN5+EXP(AN6*(AN4-AJ259))))^AN5)/(1-((AN5+EXP(AN6*(AN4-AN7)))/(AN5+EXP(AN6*(AN4-AN9))))^AN5))","v":0},{"$f":"IF(OR(AJ259<=AN9,AJ259>100000),0,IF(AJ259<=AO7,AO8,AO8+(AO10-AO8)*(1-((AO5+EXP(AO6*(AO4-AO7)))/(AO5+EXP(AO6*(AO4-AJ259))))^AO5)/(1-((AO5+EXP(AO6*(AO4-AO7)))/(AO5+EXP(AO6*(AO4-AO9))))^AO5)))","v":0},0,0]
[249,{"$f":"'daily uptake'!F343","v":"2011-07-07"},{"$f":"5/9*'daily uptake'!Q343","v":23.333333333333336},{"$f":"5/9*'daily uptake'!N343","v":13.333333333333334},{"$f":"IF(AND($A260>='daily uptake'!$C$9,$A260<='daily uptake'!$C$10),$C260+E259,0)","v":0},{"$f":"IF(AND($A260>='daily uptake'!$C$18,$A260<='daily uptake'!$C$20),$D260+F259,0)","v":805.83333333333383},{"$f":"IF(AND($A260>='daily uptake'!$C$24,$A260<='daily uptake'!$C$25),$C260+G259,0)","v":0},{"$f":"IF(OR(F260<=I7,F260>I9),0,I8+(I10-I8)*(1-((I5+EXP(I6*(I4-I7)))/(I5+EXP(I6*(I4-F260))))^I5)/(1-((I5+EXP(I6*(I4-I7)))/(I5+EXP(I6*(I4-I9))))^I5))","v":0},{"$f":"IF(OR(F260<=J7,F260>J9),0,J8+(J10-J8)*(1-((J5+EXP(J6*(J4-J7)))/(J5+EXP(J6*(J4-F260))))^J5)/(1-((J5+EXP(J6*(J4-J7)))/(J5+EXP(J6*(J4-J9))))^J5))","v":0},{"$f":"IF(OR(F260<=J9,F260>100000),0,IF(F260<=K7,K8,K8+(K10-K8)*(1-((K5+EXP(K6*(K4-K7)))/(K5+EXP(K6*(K4-F260))))^K5)/(1-((K5+EXP(K6*(K4-K7)))/(K5+EXP(K6*(K4-K9))))^K5)))","v":234.38544210000001},234.38544210000001,153.81055213686091,0,0,"2011-07-07",{"$f":"MAX(L$12:L260)+MAX(M$12:M260)+MAX(N$12:N260)","v":293.81055213686091},"2011-07-07",0,null,null,null,null,null,null,null,null,null,null,null,null,null,null,null,null,null,0,null,{"$f":"IF(OR(AJ260<=AM7,AJ260>AM9),0,AM8+(AM10-AM8)*(1-((AM5+EXP(AM6*(AM4-AM7)))/(AM5+EXP(AM6*(AM4-AJ260))))^AM5)/(1-((AM5+EXP(AM6*(AM4-AM7)))/(AM5+EXP(AM6*(AM4-AM9))))^AM5))","v":0},{"$f":"IF(OR(AJ260<=AN7,AJ260>AN9),0,AN8+(AN10-AN8)*(1-((AN5+EXP(AN6*(AN4-AN7)))/(AN5+EXP(AN6*(AN4-AJ260))))^AN5)/(1-((AN5+EXP(AN6*(AN4-AN7)))/(AN5+EXP(AN6*(AN4-AN9))))^AN5))","v":0},{"$f":"IF(OR(AJ260<=AN9,AJ260>100000),0,IF(AJ260<=AO7,AO8,AO8+(AO10-AO8)*(1-((AO5+EXP(AO6*(AO4-AO7)))/(AO5+EXP(AO6*(AO4-AJ260))))^AO5)/(1-((AO5+EXP(AO6*(AO4-AO7)))/(AO5+EXP(AO6*(AO4-AO9))))^AO5)))","v":0},0,0]
[250,{"$f":"'daily uptake'!F344","v":"2011-07-08"},{"$f":"5/9*'daily uptake'!Q344","v":23.888888888888889},{"$f":"5/9*'daily uptake'!N344","v":13.888888888888889},{"$f":"IF(AND($A261>='daily uptake'!$C$9,$A261<='daily uptake'!$C$10),$C261+E260,0)","v":0},{"$f":"IF(AND($A261>='daily uptake'!$C$18,$A261<='daily uptake'!$C$20),$D261+F260,0)","v":819.72222222222274},{"$f":"IF(AND($A261>='daily uptake'!$C$24,$A261<='daily uptake'!$C$25),$C261+G260,0)","v":0},{"$f":"IF(OR(F261<=I7,F261>I9),0,I8+(I10-I8)*(1-((I5+EXP(I6*(I4-I7)))/(I5+EXP(I6*(I4-F261))))^I5)/(1-((I5+EXP(I6*(I4-I7)))/(I5+EXP(I6*(I4-I9))))^I5))","v":0},{"$f":"IF(OR(F261<=J7,F261>J9),0,J8+(J10-J8)*(1-((J5+EXP(J6*(J4-J7)))/(J5+EXP(J6*(J4-F261))))^J5)/(1-((J5+EXP(J6*(J4-J7)))/(J5+EXP(J6*(J4-J9))))^J5))","v":0},{"$f":"IF(OR(F261<=J9,F261>100000),0,IF(F261<=K7,K8,K8+(K10-K8)*(1-((K5+EXP(K6*(K4-K7)))/(K5+EXP(K6*(K4-F261))))^K5)/(1-((K5+EXP(K6*(K4-K7)))/(K5+EXP(K6*(K4-K9))))^K5)))","v":234.38544210000001},234.38544210000001,153.81055213686091,0,0,"2011-07-08",{"$f":"MAX(L$12:L261)+MAX(M$12:M261)+MAX(N$12:N261)","v":293.81055213686091},"2011-07-08",0,null,null,null,null,null,null,null,null,null,null,null,null,null,null,null,null,null,0,null,{"$f":"IF(OR(AJ261<=AM7,AJ261>AM9),0,AM8+(AM10-AM8)*(1-((AM5+EXP(AM6*(AM4-AM7)))/(AM5+EXP(AM6*(AM4-AJ261))))^AM5)/(1-((AM5+EXP(AM6*(AM4-AM7)))/(AM5+EXP(AM6*(AM4-AM9))))^AM5))","v":0},{"$f":"IF(OR(AJ261<=AN7,AJ261>AN9),0,AN8+(AN10-AN8)*(1-((AN5+EXP(AN6*(AN4-AN7)))/(AN5+EXP(AN6*(AN4-AJ261))))^AN5)/(1-((AN5+EXP(AN6*(AN4-AN7)))/(AN5+EXP(AN6*(AN4-AN9))))^AN5))","v":0},{"$f":"IF(OR(AJ261<=AN9,AJ261>100000),0,IF(AJ261<=AO7,AO8,AO8+(AO10-AO8)*(1-((AO5+EXP(AO6*(AO4-AO7)))/(AO5+EXP(AO6*(AO4-AJ261))))^AO5)/(1-((AO5+EXP(AO6*(AO4-AO7)))/(AO5+EXP(AO6*(AO4-AO9))))^AO5)))","v":0},0,0]
[251,{"$f":"'daily uptake'!F345","v":"2011-07-09"},{"$f":"5/9*'daily uptake'!Q345","v":23.888888888888889},{"$f":"5/9*'daily uptake'!N345","v":13.888888888888889},{"$f":"IF(AND($A262>='daily uptake'!$C$9,$A262<='daily uptake'!$C$10),$C262+E261,0)","v":0},{"$f":"IF(AND($A262>='daily uptake'!$C$18,$A262<='daily uptake'!$C$20),$D262+F261,0)","v":833.61111111111165},{"$f":"IF(AND($A262>='daily uptake'!$C$24,$A262<='daily uptake'!$C$25),$C262+G261,0)","v":0},{"$f":"IF(OR(F262<=I7,F262>I9),0,I8+(I10-I8)*(1-((I5+EXP(I6*(I4-I7)))/(I5+EXP(I6*(I4-F262))))^I5)/(1-((I5+EXP(I6*(I4-I7)))/(I5+EXP(I6*(I4-I9))))^I5))","v":0},{"$f":"IF(OR(F262<=J7,F262>J9),0,J8+(J10-J8)*(1-((J5+EXP(J6*(J4-J7)))/(J5+EXP(J6*(J4-F262))))^J5)/(1-((J5+EXP(J6*(J4-J7)))/(J5+EXP(J6*(J4-J9))))^J5))","v":0},{"$f":"IF(OR(F262<=J9,F262>100000),0,IF(F262<=K7,K8,K8+(K10-K8)*(1-((K5+EXP(K6*(K4-K7)))/(K5+EXP(K6*(K4-F262))))^K5)/(1-((K5+EXP(K6*(K4-K7)))/(K5+EXP(K6*(K4-K9))))^K5)))","v":234.38544210000001},234.38544210000001,153.81055213686091,0,0,"2011-07-09",{"$f":"MAX(L$12:L262)+MAX(M$12:M262)+MAX(N$12:N262)","v":293.81055213686091},"2011-07-09",0,null,null,null,null,null,null,null,null,null,null,null,null,null,null,null,null,null,0,null,{"$f":"IF(OR(AJ262<=AM7,AJ262>AM9),0,AM8+(AM10-AM8)*(1-((AM5+EXP(AM6*(AM4-AM7)))/(AM5+EXP(AM6*(AM4-AJ262))))^AM5)/(1-((AM5+EXP(AM6*(AM4-AM7)))/(AM5+EXP(AM6*(AM4-AM9))))^AM5))","v":0},{"$f":"IF(OR(AJ262<=AN7,AJ262>AN9),0,AN8+(AN10-AN8)*(1-((AN5+EXP(AN6*(AN4-AN7)))/(AN5+EXP(AN6*(AN4-AJ262))))^AN5)/(1-((AN5+EXP(AN6*(AN4-AN7)))/(AN5+EXP(AN6*(AN4-AN9))))^AN5))","v":0},{"$f":"IF(OR(AJ262<=AN9,AJ262>100000),0,IF(AJ262<=AO7,AO8,AO8+(AO10-AO8)*(1-((AO5+EXP(AO6*(AO4-AO7)))/(AO5+EXP(AO6*(AO4-AJ262))))^AO5)/(1-((AO5+EXP(AO6*(AO4-AO7)))/(AO5+EXP(AO6*(AO4-AO9))))^AO5)))","v":0},0,0]
[252,{"$f":"'daily uptake'!F346","v":"2011-07-10"},{"$f":"5/9*'daily uptake'!Q346","v":23.611111111111111},{"$f":"5/9*'daily uptake'!N346","v":13.611111111111112},{"$f":"IF(AND($A263>='daily uptake'!$C$9,$A263<='daily uptake'!$C$10),$C263+E262,0)","v":0},{"$f":"IF(AND($A263>='daily uptake'!$C$18,$A263<='daily uptake'!$C$20),$D263+F262,0)","v":847.22222222222274},{"$f":"IF(AND($A263>='daily uptake'!$C$24,$A263<='daily uptake'!$C$25),$C263+G262,0)","v":0},{"$f":"IF(OR(F263<=I7,F263>I9),0,I8+(I10-I8)*(1-((I5+EXP(I6*(I4-I7)))/(I5+EXP(I6*(I4-F263))))^I5)/(1-((I5+EXP(I6*(I4-I7)))/(I5+EXP(I6*(I4-I9))))^I5))","v":0},{"$f":"IF(OR(F263<=J7,F263>J9),0,J8+(J10-J8)*(1-((J5+EXP(J6*(J4-J7)))/(J5+EXP(J6*(J4-F263))))^J5)/(1-((J5+EXP(J6*(J4-J7)))/(J5+EXP(J6*(J4-J9))))^J5))","v":0},{"$f":"IF(OR(F263<=J9,F263>100000),0,IF(F263<=K7,K8,K8+(K10-K8)*(1-((K5+EXP(K6*(K4-K7)))/(K5+EXP(K6*(K4-F263))))^K5)/(1-((K5+EXP(K6*(K4-K7)))/(K5+EXP(K6*(K4-K9))))^K5)))","v":234.38544210000001},234.38544210000001,153.81055213686091,0,0,"2011-07-10",{"$f":"MAX(L$12:L263)+MAX(M$12:M263)+MAX(N$12:N263)","v":293.81055213686091},"2011-07-10",0,null,null,null,null,null,null,null,null,null,null,null,null,null,null,null,null,null,0,null,{"$f":"IF(OR(AJ263<=AM7,AJ263>AM9),0,AM8+(AM10-AM8)*(1-((AM5+EXP(AM6*(AM4-AM7)))/(AM5+EXP(AM6*(AM4-AJ263))))^AM5)/(1-((AM5+EXP(AM6*(AM4-AM7)))/(AM5+EXP(AM6*(AM4-AM9))))^AM5))","v":0},{"$f":"IF(OR(AJ263<=AN7,AJ263>AN9),0,AN8+(AN10-AN8)*(1-((AN5+EXP(AN6*(AN4-AN7)))/(AN5+EXP(AN6*(AN4-AJ263))))^AN5)/(1-((AN5+EXP(AN6*(AN4-AN7)))/(AN5+EXP(AN6*(AN4-AN9))))^AN5))","v":0},{"$f":"IF(OR(AJ263<=AN9,AJ263>100000),0,IF(AJ263<=AO7,AO8,AO8+(AO10-AO8)*(1-((AO5+EXP(AO6*(AO4-AO7)))/(AO5+EXP(AO6*(AO4-AJ263))))^AO5)/(1-((AO5+EXP(AO6*(AO4-AO7)))/(AO5+EXP(AO6*(AO4-AO9))))^AO5)))","v":0},0,0]
[253,{"$f":"'daily uptake'!F347","v":"2011-07-11"},{"$f":"5/9*'daily uptake'!Q347","v":23.333333333333336},{"$f":"5/9*'daily uptake'!N347","v":13.333333333333334},{"$f":"IF(AND($A264>='daily uptake'!$C$9,$A264<='daily uptake'!$C$10),$C264+E263,0)","v":0},{"$f":"IF(AND($A264>='daily uptake'!$C$18,$A264<='daily uptake'!$C$20),$D264+F263,0)","v":860.55555555555611},{"$f":"IF(AND($A264>='daily uptake'!$C$24,$A264<='daily uptake'!$C$25),$C264+G263,0)","v":0},{"$f":"IF(OR(F264<=I7,F264>I9),0,I8+(I10-I8)*(1-((I5+EXP(I6*(I4-I7)))/(I5+EXP(I6*(I4-F264))))^I5)/(1-((I5+EXP(I6*(I4-I7)))/(I5+EXP(I6*(I4-I9))))^I5))","v":0},{"$f":"IF(OR(F264<=J7,F264>J9),0,J8+(J10-J8)*(1-((J5+EXP(J6*(J4-J7)))/(J5+EXP(J6*(J4-F264))))^J5)/(1-((J5+EXP(J6*(J4-J7)))/(J5+EXP(J6*(J4-J9))))^J5))","v":0},{"$f":"IF(OR(F264<=J9,F264>100000),0,IF(F264<=K7,K8,K8+(K10-K8)*(1-((K5+EXP(K6*(K4-K7)))/(K5+EXP(K6*(K4-F264))))^K5)/(1-((K5+EXP(K6*(K4-K7)))/(K5+EXP(K6*(K4-K9))))^K5)))","v":234.38544210000001},234.38544210000001,153.81055213686091,0,0,"2011-07-11",{"$f":"MAX(L$12:L264)+MAX(M$12:M264)+MAX(N$12:N264)","v":293.81055213686091},"2011-07-11",0,null,null,null,null,null,null,null,null,null,null,null,null,null,null,null,null,null,0,null,{"$f":"IF(OR(AJ264<=AM7,AJ264>AM9),0,AM8+(AM10-AM8)*(1-((AM5+EXP(AM6*(AM4-AM7)))/(AM5+EXP(AM6*(AM4-AJ264))))^AM5)/(1-((AM5+EXP(AM6*(AM4-AM7)))/(AM5+EXP(AM6*(AM4-AM9))))^AM5))","v":0},{"$f":"IF(OR(AJ264<=AN7,AJ264>AN9),0,AN8+(AN10-AN8)*(1-((AN5+EXP(AN6*(AN4-AN7)))/(AN5+EXP(AN6*(AN4-AJ264))))^AN5)/(1-((AN5+EXP(AN6*(AN4-AN7)))/(AN5+EXP(AN6*(AN4-AN9))))^AN5))","v":0},{"$f":"IF(OR(AJ264<=AN9,AJ264>100000),0,IF(AJ264<=AO7,AO8,AO8+(AO10-AO8)*(1-((AO5+EXP(AO6*(AO4-AO7)))/(AO5+EXP(AO6*(AO4-AJ264))))^AO5)/(1-((AO5+EXP(AO6*(AO4-AO7)))/(AO5+EXP(AO6*(AO4-AO9))))^AO5)))","v":0},0,0]
[254,{"$f":"'daily uptake'!F348","v":"2011-07-12"},{"$f":"5/9*'daily uptake'!Q348","v":23.611111111111111},{"$f":"5/9*'daily uptake'!N348","v":13.611111111111112},{"$f":"IF(AND($A265>='daily uptake'!$C$9,$A265<='daily uptake'!$C$10),$C265+E264,0)","v":0},{"$f":"IF(AND($A265>='daily uptake'!$C$18,$A265<='daily uptake'!$C$20),$D265+F264,0)","v":874.1666666666672},{"$f":"IF(AND($A265>='daily uptake'!$C$24,$A265<='daily uptake'!$C$25),$C265+G264,0)","v":0},{"$f":"IF(OR(F265<=I7,F265>I9),0,I8+(I10-I8)*(1-((I5+EXP(I6*(I4-I7)))/(I5+EXP(I6*(I4-F265))))^I5)/(1-((I5+EXP(I6*(I4-I7)))/(I5+EXP(I6*(I4-I9))))^I5))","v":0},{"$f":"IF(OR(F265<=J7,F265>J9),0,J8+(J10-J8)*(1-((J5+EXP(J6*(J4-J7)))/(J5+EXP(J6*(J4-F265))))^J5)/(1-((J5+EXP(J6*(J4-J7)))/(J5+EXP(J6*(J4-J9))))^J5))","v":0},{"$f":"IF(OR(F265<=J9,F265>100000),0,IF(F265<=K7,K8,K8+(K10-K8)*(1-((K5+EXP(K6*(K4-K7)))/(K5+EXP(K6*(K4-F265))))^K5)/(1-((K5+EXP(K6*(K4-K7)))/(K5+EXP(K6*(K4-K9))))^K5)))","v":234.38544210000001},234.38544210000001,153.81055213686091,0,0,"2011-07-12",{"$f":"MAX(L$12:L265)+MAX(M$12:M265)+MAX(N$12:N265)","v":293.81055213686091},"2011-07-12",0,null,null,null,null,null,null,null,null,null,null,null,null,null,null,null,null,null,0,null,{"$f":"IF(OR(AJ265<=AM7,AJ265>AM9),0,AM8+(AM10-AM8)*(1-((AM5+EXP(AM6*(AM4-AM7)))/(AM5+EXP(AM6*(AM4-AJ265))))^AM5)/(1-((AM5+EXP(AM6*(AM4-AM7)))/(AM5+EXP(AM6*(AM4-AM9))))^AM5))","v":0},{"$f":"IF(OR(AJ265<=AN7,AJ265>AN9),0,AN8+(AN10-AN8)*(1-((AN5+EXP(AN6*(AN4-AN7)))/(AN5+EXP(AN6*(AN4-AJ265))))^AN5)/(1-((AN5+EXP(AN6*(AN4-AN7)))/(AN5+EXP(AN6*(AN4-AN9))))^AN5))","v":0},{"$f":"IF(OR(AJ265<=AN9,AJ265>100000),0,IF(AJ265<=AO7,AO8,AO8+(AO10-AO8)*(1-((AO5+EXP(AO6*(AO4-AO7)))/(AO5+EXP(AO6*(AO4-AJ265))))^AO5)/(1-((AO5+EXP(AO6*(AO4-AO7)))/(AO5+EXP(AO6*(AO4-AO9))))^AO5)))","v":0},0,0]
[255,{"$f":"'daily uptake'!F349","v":"2011-07-13"},{"$f":"5/9*'daily uptake'!Q349","v":24.166666666666668},{"$f":"5/9*'daily uptake'!N349","v":14.166666666666668},{"$f":"IF(AND($A266>='daily uptake'!$C$9,$A266<='daily uptake'!$C$10),$C266+E265,0)","v":0},{"$f":"IF(AND($A266>='daily uptake'!$C$18,$A266<='daily uptake'!$C$20),$D266+F265,0)","v":888.33333333333383},{"$f":"IF(AND($A266>='daily uptake'!$C$24,$A266<='daily uptake'!$C$25),$C266+G265,0)","v":0},{"$f":"IF(OR(F266<=I7,F266>I9),0,I8+(I10-I8)*(1-((I5+EXP(I6*(I4-I7)))/(I5+EXP(I6*(I4-F266))))^I5)/(1-((I5+EXP(I6*(I4-I7)))/(I5+EXP(I6*(I4-I9))))^I5))","v":0},{"$f":"IF(OR(F266<=J7,F266>J9),0,J8+(J10-J8)*(1-((J5+EXP(J6*(J4-J7)))/(J5+EXP(J6*(J4-F266))))^J5)/(1-((J5+EXP(J6*(J4-J7)))/(J5+EXP(J6*(J4-J9))))^J5))","v":0},{"$f":"IF(OR(F266<=J9,F266>100000),0,IF(F266<=K7,K8,K8+(K10-K8)*(1-((K5+EXP(K6*(K4-K7)))/(K5+EXP(K6*(K4-F266))))^K5)/(1-((K5+EXP(K6*(K4-K7)))/(K5+EXP(K6*(K4-K9))))^K5)))","v":234.38544210000001},234.38544210000001,153.81055213686091,0,0,"2011-07-13",{"$f":"MAX(L$12:L266)+MAX(M$12:M266)+MAX(N$12:N266)","v":293.81055213686091},"2011-07-13",0,null,null,null,null,null,null,null,null,null,null,null,null,null,null,null,null,null,0,null,{"$f":"IF(OR(AJ266<=AM7,AJ266>AM9),0,AM8+(AM10-AM8)*(1-((AM5+EXP(AM6*(AM4-AM7)))/(AM5+EXP(AM6*(AM4-AJ266))))^AM5)/(1-((AM5+EXP(AM6*(AM4-AM7)))/(AM5+EXP(AM6*(AM4-AM9))))^AM5))","v":0},{"$f":"IF(OR(AJ266<=AN7,AJ266>AN9),0,AN8+(AN10-AN8)*(1-((AN5+EXP(AN6*(AN4-AN7)))/(AN5+EXP(AN6*(AN4-AJ266))))^AN5)/(1-((AN5+EXP(AN6*(AN4-AN7)))/(AN5+EXP(AN6*(AN4-AN9))))^AN5))","v":0},{"$f":"IF(OR(AJ266<=AN9,AJ266>100000),0,IF(AJ266<=AO7,AO8,AO8+(AO10-AO8)*(1-((AO5+EXP(AO6*(AO4-AO7)))/(AO5+EXP(AO6*(AO4-AJ266))))^AO5)/(1-((AO5+EXP(AO6*(AO4-AO7)))/(AO5+EXP(AO6*(AO4-AO9))))^AO5)))","v":0},0,0]
[256,{"$f":"'daily uptake'!F350","v":"2011-07-14"},{"$f":"5/9*'daily uptake'!Q350","v":25},{"$f":"5/9*'daily uptake'!N350","v":15},{"$f":"IF(AND($A267>='daily uptake'!$C$9,$A267<='daily uptake'!$C$10),$C267+E266,0)","v":0},{"$f":"IF(AND($A267>='daily uptake'!$C$18,$A267<='daily uptake'!$C$20),$D267+F266,0)","v":903.33333333333383},{"$f":"IF(AND($A267>='daily uptake'!$C$24,$A267<='daily uptake'!$C$25),$C267+G266,0)","v":0},{"$f":"IF(OR(F267<=I7,F267>I9),0,I8+(I10-I8)*(1-((I5+EXP(I6*(I4-I7)))/(I5+EXP(I6*(I4-F267))))^I5)/(1-((I5+EXP(I6*(I4-I7)))/(I5+EXP(I6*(I4-I9))))^I5))","v":0},{"$f":"IF(OR(F267<=J7,F267>J9),0,J8+(J10-J8)*(1-((J5+EXP(J6*(J4-J7)))/(J5+EXP(J6*(J4-F267))))^J5)/(1-((J5+EXP(J6*(J4-J7)))/(J5+EXP(J6*(J4-J9))))^J5))","v":0},{"$f":"IF(OR(F267<=J9,F267>100000),0,IF(F267<=K7,K8,K8+(K10-K8)*(1-((K5+EXP(K6*(K4-K7)))/(K5+EXP(K6*(K4-F267))))^K5)/(1-((K5+EXP(K6*(K4-K7)))/(K5+EXP(K6*(K4-K9))))^K5)))","v":234.38544210000001},234.38544210000001,153.81055213686091,0,0,{"$f":"B267","v":"2011-07-14"},{"$f":"MAX(L$12:L267)+MAX(M$12:M267)+MAX(N$12:N267)","v":293.81055213686091},{"$f":"B267","v":"2011-07-14"},0,null,null,null,null,null,null,null,null,null,null,null,null,null,null,null,null,null,0,null,{"$f":"IF(OR(AJ267<=AM7,AJ267>AM9),0,AM8+(AM10-AM8)*(1-((AM5+EXP(AM6*(AM4-AM7)))/(AM5+EXP(AM6*(AM4-AJ267))))^AM5)/(1-((AM5+EXP(AM6*(AM4-AM7)))/(AM5+EXP(AM6*(AM4-AM9))))^AM5))","v":0},{"$f":"IF(OR(AJ267<=AN7,AJ267>AN9),0,AN8+(AN10-AN8)*(1-((AN5+EXP(AN6*(AN4-AN7)))/(AN5+EXP(AN6*(AN4-AJ267))))^AN5)/(1-((AN5+EXP(AN6*(AN4-AN7)))/(AN5+EXP(AN6*(AN4-AN9))))^AN5))","v":0},{"$f":"IF(OR(AJ267<=AN9,AJ267>100000),0,IF(AJ267<=AO7,AO8,AO8+(AO10-AO8)*(1-((AO5+EXP(AO6*(AO4-AO7)))/(AO5+EXP(AO6*(AO4-AJ267))))^AO5)/(1-((AO5+EXP(AO6*(AO4-AO7)))/(AO5+EXP(AO6*(AO4-AO9))))^AO5)))","v":0},0,0]
[257,{"$f":"'daily uptake'!F351","v":"2011-07-15"},{"$f":"5/9*'daily uptake'!Q351","v":24.444444444444446},{"$f":"5/9*'daily uptake'!N351","v":14.444444444444445},{"$f":"IF(AND($A268>='daily uptake'!$C$9,$A268<='daily uptake'!$C$10),$C268+E267,0)","v":0},{"$f":"IF(AND($A268>='daily uptake'!$C$18,$A268<='daily uptake'!$C$20),$D268+F267,0)","v":917.77777777777828},{"$f":"IF(AND($A268>='daily uptake'!$C$24,$A268<='daily uptake'!$C$25),$C268+G267,0)","v":0},{"$f":"IF(OR(F268<=I7,F268>I9),0,I8+(I10-I8)*(1-((I5+EXP(I6*(I4-I7)))/(I5+EXP(I6*(I4-F268))))^I5)/(1-((I5+EXP(I6*(I4-I7)))/(I5+EXP(I6*(I4-I9))))^I5))","v":0},{"$f":"IF(OR(F268<=J7,F268>J9),0,J8+(J10-J8)*(1-((J5+EXP(J6*(J4-J7)))/(J5+EXP(J6*(J4-F268))))^J5)/(1-((J5+EXP(J6*(J4-J7)))/(J5+EXP(J6*(J4-J9))))^J5))","v":0},{"$f":"IF(OR(F268<=J9,F268>100000),0,IF(F268<=K7,K8,K8+(K10-K8)*(1-((K5+EXP(K6*(K4-K7)))/(K5+EXP(K6*(K4-F268))))^K5)/(1-((K5+EXP(K6*(K4-K7)))/(K5+EXP(K6*(K4-K9))))^K5)))","v":234.38544210000001},234.38544210000001,153.81055213686091,{"$f":"M$10*(1-(($M$5+EXP($M$6*$M$4))/($M$5+EXP($M$6*($M$4-$E268))))^$M$5)/(1-(($M$5+EXP($M$6*$M$4))/($M$5+EXP($M$6*($M$4-M$9))))^$M$5)","v":0},0,"2011-07-15",{"$f":"MAX(L$12:L268)+MAX(M$12:M268)+MAX(N$12:N268)","v":293.81055213686091},"2011-07-15",0,null,null,null,null,null,null,null,null,null,null,null,null,null,null,null,null,null,0,null,{"$f":"IF(OR(AJ268<=AM7,AJ268>AM9),0,AM8+(AM10-AM8)*(1-((AM5+EXP(AM6*(AM4-AM7)))/(AM5+EXP(AM6*(AM4-AJ268))))^AM5)/(1-((AM5+EXP(AM6*(AM4-AM7)))/(AM5+EXP(AM6*(AM4-AM9))))^AM5))","v":0},{"$f":"IF(OR(AJ268<=AN7,AJ268>AN9),0,AN8+(AN10-AN8)*(1-((AN5+EXP(AN6*(AN4-AN7)))/(AN5+EXP(AN6*(AN4-AJ268))))^AN5)/(1-((AN5+EXP(AN6*(AN4-AN7)))/(AN5+EXP(AN6*(AN4-AN9))))^AN5))","v":0},{"$f":"IF(OR(AJ268<=AN9,AJ268>100000),0,IF(AJ268<=AO7,AO8,AO8+(AO10-AO8)*(1-((AO5+EXP(AO6*(AO4-AO7)))/(AO5+EXP(AO6*(AO4-AJ268))))^AO5)/(1-((AO5+EXP(AO6*(AO4-AO7)))/(AO5+EXP(AO6*(AO4-AO9))))^AO5)))","v":0},0,0]
[258,{"$f":"'daily uptake'!F352","v":"2011-07-16"},{"$f":"5/9*'daily uptake'!Q352","v":24.166666666666668},{"$f":"5/9*'daily uptake'!N352","v":14.166666666666668},{"$f":"IF(AND($A269>='daily uptake'!$C$9,$A269<='daily uptake'!$C$10),$C269+E268,0)","v":0},{"$f":"IF(AND($A269>='daily uptake'!$C$18,$A269<='daily uptake'!$C$20),$D269+F268,0)","v":931.94444444444491},{"$f":"IF(AND($A269>='daily uptake'!$C$24,$A269<='daily uptake'!$C$25),$C269+G268,0)","v":0},{"$f":"IF(OR(F269<=I7,F269>I9),0,I8+(I10-I8)*(1-((I5+EXP(I6*(I4-I7)))/(I5+EXP(I6*(I4-F269))))^I5)/(1-((I5+EXP(I6*(I4-I7)))/(I5+EXP(I6*(I4-I9))))^I5))","v":0},{"$f":"IF(OR(F269<=J7,F269>J9),0,J8+(J10-J8)*(1-((J5+EXP(J6*(J4-J7)))/(J5+EXP(J6*(J4-F269))))^J5)/(1-((J5+EXP(J6*(J4-J7)))/(J5+EXP(J6*(J4-J9))))^J5))","v":0},{"$f":"IF(OR(F269<=J9,F269>100000),0,IF(F269<=K7,K8,K8+(K10-K8)*(1-((K5+EXP(K6*(K4-K7)))/(K5+EXP(K6*(K4-F269))))^K5)/(1-((K5+EXP(K6*(K4-K7)))/(K5+EXP(K6*(K4-K9))))^K5)))","v":234.38544210000001},234.38544210000001,{"$f":"IF(L$8=0,0,K269*L$7/L$8)","v":153.81055213686091},0,{"$f":"N$10*(1-(($N$5+EXP($N$6*$N$4))/($N$5+EXP($N$6*($N$4-$G269))))^$N$5)/(1-(($N$5+EXP($N$6*$N$4))/($N$5+EXP($N$6*($N$4-N$9))))^$N$5)","v":0},"2011-07-16",{"$f":"MAX(L$12:L269)+MAX(M$12:M269)+MAX(N$12:N269)","v":293.81055213686091},"2011-07-16",{"$f":"P269-P268","v":0},null,null,null,null,null,null,null,null,null,null,null,null,null,null,null,null,null,0,null,{"$f":"IF(OR(AJ269<=AM7,AJ269>AM9),0,AM8+(AM10-AM8)*(1-((AM5+EXP(AM6*(AM4-AM7)))/(AM5+EXP(AM6*(AM4-AJ269))))^AM5)/(1-((AM5+EXP(AM6*(AM4-AM7)))/(AM5+EXP(AM6*(AM4-AM9))))^AM5))","v":0},{"$f":"IF(OR(AJ269<=AN7,AJ269>AN9),0,AN8+(AN10-AN8)*(1-((AN5+EXP(AN6*(AN4-AN7)))/(AN5+EXP(AN6*(AN4-AJ269))))^AN5)/(1-((AN5+EXP(AN6*(AN4-AN7)))/(AN5+EXP(AN6*(AN4-AN9))))^AN5))","v":0},{"$f":"IF(OR(AJ269<=AN9,AJ269>100000),0,IF(AJ269<=AO7,AO8,AO8+(AO10-AO8)*(1-((AO5+EXP(AO6*(AO4-AO7)))/(AO5+EXP(AO6*(AO4-AJ269))))^AO5)/(1-((AO5+EXP(AO6*(AO4-AO7)))/(AO5+EXP(AO6*(AO4-AO9))))^AO5)))","v":0},0,{"$f":"IF(AP$8=0,0,AO269*AP$7/AP$8)","v":0}]
[259,{"$f":"'daily uptake'!F353","v":"2011-07-17"},{"$f":"5/9*'daily uptake'!Q353","v":24.166666666666668},{"$f":"5/9*'daily uptake'!N353","v":14.166666666666668},{"$f":"IF(AND($A270>='daily uptake'!$C$9,$A270<='daily uptake'!$C$10),$C270+E269,0)","v":0},{"$f":"IF(AND($A270>='daily uptake'!$C$18,$A270<='daily uptake'!$C$20),$D270+F269,0)","v":946.11111111111154},{"$f":"IF(AND($A270>='daily uptake'!$C$24,$A270<='daily uptake'!$C$25),$C270+G269,0)","v":0},{"$f":"IF(OR(F270<=I7,F270>I9),0,I8+(I10-I8)*(1-((I5+EXP(I6*(I4-I7)))/(I5+EXP(I6*(I4-F270))))^I5)/(1-((I5+EXP(I6*(I4-I7)))/(I5+EXP(I6*(I4-I9))))^I5))","v":0},{"$f":"IF(OR(F270<=J7,F270>J9),0,J8+(J10-J8)*(1-((J5+EXP(J6*(J4-J7)))/(J5+EXP(J6*(J4-F270))))^J5)/(1-((J5+EXP(J6*(J4-J7)))/(J5+EXP(J6*(J4-J9))))^J5))","v":0},{"$f":"IF(OR(F270<=J9,F270>100000),0,IF(F270<=K7,K8,K8+(K10-K8)*(1-((K5+EXP(K6*(K4-K7)))/(K5+EXP(K6*(K4-F270))))^K5)/(1-((K5+EXP(K6*(K4-K7)))/(K5+EXP(K6*(K4-K9))))^K5)))","v":234.38544210000001},234.38544210000001,153.81055213686091,0,0,"2011-07-17",{"$f":"MAX(L$12:L270)+MAX(M$12:M270)+MAX(N$12:N270)","v":293.81055213686091},"2011-07-17",0,null,null,null,null,null,null,null,null,null,null,null,null,null,null,null,null,null,0,null,{"$f":"IF(OR(AJ270<=AM7,AJ270>AM9),0,AM8+(AM10-AM8)*(1-((AM5+EXP(AM6*(AM4-AM7)))/(AM5+EXP(AM6*(AM4-AJ270))))^AM5)/(1-((AM5+EXP(AM6*(AM4-AM7)))/(AM5+EXP(AM6*(AM4-AM9))))^AM5))","v":0},{"$f":"IF(OR(AJ270<=AN7,AJ270>AN9),0,AN8+(AN10-AN8)*(1-((AN5+EXP(AN6*(AN4-AN7)))/(AN5+EXP(AN6*(AN4-AJ270))))^AN5)/(1-((AN5+EXP(AN6*(AN4-AN7)))/(AN5+EXP(AN6*(AN4-AN9))))^AN5))","v":0},{"$f":"IF(OR(AJ270<=AN9,AJ270>100000),0,IF(AJ270<=AO7,AO8,AO8+(AO10-AO8)*(1-((AO5+EXP(AO6*(AO4-AO7)))/(AO5+EXP(AO6*(AO4-AJ270))))^AO5)/(1-((AO5+EXP(AO6*(AO4-AO7)))/(AO5+EXP(AO6*(AO4-AO9))))^AO5)))","v":0},0,0]
[260,{"$f":"'daily uptake'!F354","v":"2011-07-18"},{"$f":"5/9*'daily uptake'!Q354","v":24.444444444444446},{"$f":"5/9*'daily uptake'!N354","v":14.444444444444445},{"$f":"IF(AND($A271>='daily uptake'!$C$9,$A271<='daily uptake'!$C$10),$C271+E270,0)","v":0},{"$f":"IF(AND($A271>='daily uptake'!$C$18,$A271<='daily uptake'!$C$20),$D271+F270,0)","v":960.555555555556},{"$f":"IF(AND($A271>='daily uptake'!$C$24,$A271<='daily uptake'!$C$25),$C271+G270,0)","v":0},{"$f":"IF(OR(F271<=I7,F271>I9),0,I8+(I10-I8)*(1-((I5+EXP(I6*(I4-I7)))/(I5+EXP(I6*(I4-F271))))^I5)/(1-((I5+EXP(I6*(I4-I7)))/(I5+EXP(I6*(I4-I9))))^I5))","v":0},{"$f":"IF(OR(F271<=J7,F271>J9),0,J8+(J10-J8)*(1-((J5+EXP(J6*(J4-J7)))/(J5+EXP(J6*(J4-F271))))^J5)/(1-((J5+EXP(J6*(J4-J7)))/(J5+EXP(J6*(J4-J9))))^J5))","v":0},{"$f":"IF(OR(F271<=J9,F271>100000),0,IF(F271<=K7,K8,K8+(K10-K8)*(1-((K5+EXP(K6*(K4-K7)))/(K5+EXP(K6*(K4-F271))))^K5)/(1-((K5+EXP(K6*(K4-K7)))/(K5+EXP(K6*(K4-K9))))^K5)))","v":234.38544210000001},234.38544210000001,153.81055213686091,0,0,"2011-07-18",{"$f":"MAX(L$12:L271)+MAX(M$12:M271)+MAX(N$12:N271)","v":293.81055213686091},"2011-07-18",0,null,null,null,null,null,null,null,null,null,null,null,null,null,null,null,null,null,0,null,{"$f":"IF(OR(AJ271<=AM7,AJ271>AM9),0,AM8+(AM10-AM8)*(1-((AM5+EXP(AM6*(AM4-AM7)))/(AM5+EXP(AM6*(AM4-AJ271))))^AM5)/(1-((AM5+EXP(AM6*(AM4-AM7)))/(AM5+EXP(AM6*(AM4-AM9))))^AM5))","v":0},{"$f":"IF(OR(AJ271<=AN7,AJ271>AN9),0,AN8+(AN10-AN8)*(1-((AN5+EXP(AN6*(AN4-AN7)))/(AN5+EXP(AN6*(AN4-AJ271))))^AN5)/(1-((AN5+EXP(AN6*(AN4-AN7)))/(AN5+EXP(AN6*(AN4-AN9))))^AN5))","v":0},{"$f":"IF(OR(AJ271<=AN9,AJ271>100000),0,IF(AJ271<=AO7,AO8,AO8+(AO10-AO8)*(1-((AO5+EXP(AO6*(AO4-AO7)))/(AO5+EXP(AO6*(AO4-AJ271))))^AO5)/(1-((AO5+EXP(AO6*(AO4-AO7)))/(AO5+EXP(AO6*(AO4-AO9))))^AO5)))","v":0},0,0]
[261,{"$f":"'daily uptake'!F355","v":"2011-07-19"},{"$f":"5/9*'daily uptake'!Q355","v":24.444444444444446},{"$f":"5/9*'daily uptake'!N355","v":14.444444444444445},{"$f":"IF(AND($A272>='daily uptake'!$C$9,$A272<='daily uptake'!$C$10),$C272+E271,0)","v":0},{"$f":"IF(AND($A272>='daily uptake'!$C$18,$A272<='daily uptake'!$C$20),$D272+F271,0)","v":975.00000000000045},{"$f":"IF(AND($A272>='daily uptake'!$C$24,$A272<='daily uptake'!$C$25),$C272+G271,0)","v":0},{"$f":"IF(OR(F272<=I7,F272>I9),0,I8+(I10-I8)*(1-((I5+EXP(I6*(I4-I7)))/(I5+EXP(I6*(I4-F272))))^I5)/(1-((I5+EXP(I6*(I4-I7)))/(I5+EXP(I6*(I4-I9))))^I5))","v":0},{"$f":"IF(OR(F272<=J7,F272>J9),0,J8+(J10-J8)*(1-((J5+EXP(J6*(J4-J7)))/(J5+EXP(J6*(J4-F272))))^J5)/(1-((J5+EXP(J6*(J4-J7)))/(J5+EXP(J6*(J4-J9))))^J5))","v":0},{"$f":"IF(OR(F272<=J9,F272>100000),0,IF(F272<=K7,K8,K8+(K10-K8)*(1-((K5+EXP(K6*(K4-K7)))/(K5+EXP(K6*(K4-F272))))^K5)/(1-((K5+EXP(K6*(K4-K7)))/(K5+EXP(K6*(K4-K9))))^K5)))","v":234.38544210000001},234.38544210000001,153.81055213686091,0,0,"2011-07-19",{"$f":"MAX(L$12:L272)+MAX(M$12:M272)+MAX(N$12:N272)","v":293.81055213686091},"2011-07-19",0,null,null,null,null,null,null,null,null,null,null,null,null,null,null,null,null,null,0,null,{"$f":"IF(OR(AJ272<=AM7,AJ272>AM9),0,AM8+(AM10-AM8)*(1-((AM5+EXP(AM6*(AM4-AM7)))/(AM5+EXP(AM6*(AM4-AJ272))))^AM5)/(1-((AM5+EXP(AM6*(AM4-AM7)))/(AM5+EXP(AM6*(AM4-AM9))))^AM5))","v":0},{"$f":"IF(OR(AJ272<=AN7,AJ272>AN9),0,AN8+(AN10-AN8)*(1-((AN5+EXP(AN6*(AN4-AN7)))/(AN5+EXP(AN6*(AN4-AJ272))))^AN5)/(1-((AN5+EXP(AN6*(AN4-AN7)))/(AN5+EXP(AN6*(AN4-AN9))))^AN5))","v":0},{"$f":"IF(OR(AJ272<=AN9,AJ272>100000),0,IF(AJ272<=AO7,AO8,AO8+(AO10-AO8)*(1-((AO5+EXP(AO6*(AO4-AO7)))/(AO5+EXP(AO6*(AO4-AJ272))))^AO5)/(1-((AO5+EXP(AO6*(AO4-AO7)))/(AO5+EXP(AO6*(AO4-AO9))))^AO5)))","v":0},0,0]
[262,{"$f":"'daily uptake'!F356","v":"2011-07-20"},{"$f":"5/9*'daily uptake'!Q356","v":23.888888888888889},{"$f":"5/9*'daily uptake'!N356","v":13.888888888888889},{"$f":"IF(AND($A273>='daily uptake'!$C$9,$A273<='daily uptake'!$C$10),$C273+E272,0)","v":0},{"$f":"IF(AND($A273>='daily uptake'!$C$18,$A273<='daily uptake'!$C$20),$D273+F272,0)","v":988.88888888888937},{"$f":"IF(AND($A273>='daily uptake'!$C$24,$A273<='daily uptake'!$C$25),$C273+G272,0)","v":0},{"$f":"IF(OR(F273<=I7,F273>I9),0,I8+(I10-I8)*(1-((I5+EXP(I6*(I4-I7)))/(I5+EXP(I6*(I4-F273))))^I5)/(1-((I5+EXP(I6*(I4-I7)))/(I5+EXP(I6*(I4-I9))))^I5))","v":0},{"$f":"IF(OR(F273<=J7,F273>J9),0,J8+(J10-J8)*(1-((J5+EXP(J6*(J4-J7)))/(J5+EXP(J6*(J4-F273))))^J5)/(1-((J5+EXP(J6*(J4-J7)))/(J5+EXP(J6*(J4-J9))))^J5))","v":0},{"$f":"IF(OR(F273<=J9,F273>100000),0,IF(F273<=K7,K8,K8+(K10-K8)*(1-((K5+EXP(K6*(K4-K7)))/(K5+EXP(K6*(K4-F273))))^K5)/(1-((K5+EXP(K6*(K4-K7)))/(K5+EXP(K6*(K4-K9))))^K5)))","v":234.38544210000001},234.38544210000001,153.81055213686091,0,0,"2011-07-20",{"$f":"MAX(L$12:L273)+MAX(M$12:M273)+MAX(N$12:N273)","v":293.81055213686091},"2011-07-20",0,null,null,null,null,null,null,null,null,null,null,null,null,null,null,null,null,null,0,null,{"$f":"IF(OR(AJ273<=AM7,AJ273>AM9),0,AM8+(AM10-AM8)*(1-((AM5+EXP(AM6*(AM4-AM7)))/(AM5+EXP(AM6*(AM4-AJ273))))^AM5)/(1-((AM5+EXP(AM6*(AM4-AM7)))/(AM5+EXP(AM6*(AM4-AM9))))^AM5))","v":0},{"$f":"IF(OR(AJ273<=AN7,AJ273>AN9),0,AN8+(AN10-AN8)*(1-((AN5+EXP(AN6*(AN4-AN7)))/(AN5+EXP(AN6*(AN4-AJ273))))^AN5)/(1-((AN5+EXP(AN6*(AN4-AN7)))/(AN5+EXP(AN6*(AN4-AN9))))^AN5))","v":0},{"$f":"IF(OR(AJ273<=AN9,AJ273>100000),0,IF(AJ273<=AO7,AO8,AO8+(AO10-AO8)*(1-((AO5+EXP(AO6*(AO4-AO7)))/(AO5+EXP(AO6*(AO4-AJ273))))^AO5)/(1-((AO5+EXP(AO6*(AO4-AO7)))/(AO5+EXP(AO6*(AO4-AO9))))^AO5)))","v":0},0,0]
[263,{"$f":"'daily uptake'!F357","v":"2011-07-21"},{"$f":"5/9*'daily uptake'!Q357","v":23.611111111111111},{"$f":"5/9*'daily uptake'!N357","v":13.611111111111112},{"$f":"IF(AND($A274>='daily uptake'!$C$9,$A274<='daily uptake'!$C$10),$C274+E273,0)","v":0},{"$f":"IF(AND($A274>='daily uptake'!$C$18,$A274<='daily uptake'!$C$20),$D274+F273,0)","v":1002.5000000000005},{"$f":"IF(AND($A274>='daily uptake'!$C$24,$A274<='daily uptake'!$C$25),$C274+G273,0)","v":0},{"$f":"IF(OR(F274<=I7,F274>I9),0,I8+(I10-I8)*(1-((I5+EXP(I6*(I4-I7)))/(I5+EXP(I6*(I4-F274))))^I5)/(1-((I5+EXP(I6*(I4-I7)))/(I5+EXP(I6*(I4-I9))))^I5))","v":0},{"$f":"IF(OR(F274<=J7,F274>J9),0,J8+(J10-J8)*(1-((J5+EXP(J6*(J4-J7)))/(J5+EXP(J6*(J4-F274))))^J5)/(1-((J5+EXP(J6*(J4-J7)))/(J5+EXP(J6*(J4-J9))))^J5))","v":0},{"$f":"IF(OR(F274<=J9,F274>100000),0,IF(F274<=K7,K8,K8+(K10-K8)*(1-((K5+EXP(K6*(K4-K7)))/(K5+EXP(K6*(K4-F274))))^K5)/(1-((K5+EXP(K6*(K4-K7)))/(K5+EXP(K6*(K4-K9))))^K5)))","v":236.20028327106152},236.20028327106152,155.00150375937073,0,0,"2011-07-21",{"$f":"MAX(L$12:L274)+MAX(M$12:M274)+MAX(N$12:N274)","v":295.00150375937073},"2011-07-21",1.1909516225098287,null,null,null,null,null,null,null,null,null,null,null,null,null,null,null,null,null,0,null,{"$f":"IF(OR(AJ274<=AM7,AJ274>AM9),0,AM8+(AM10-AM8)*(1-((AM5+EXP(AM6*(AM4-AM7)))/(AM5+EXP(AM6*(AM4-AJ274))))^AM5)/(1-((AM5+EXP(AM6*(AM4-AM7)))/(AM5+EXP(AM6*(AM4-AM9))))^AM5))","v":0},{"$f":"IF(OR(AJ274<=AN7,AJ274>AN9),0,AN8+(AN10-AN8)*(1-((AN5+EXP(AN6*(AN4-AN7)))/(AN5+EXP(AN6*(AN4-AJ274))))^AN5)/(1-((AN5+EXP(AN6*(AN4-AN7)))/(AN5+EXP(AN6*(AN4-AN9))))^AN5))","v":0},{"$f":"IF(OR(AJ274<=AN9,AJ274>100000),0,IF(AJ274<=AO7,AO8,AO8+(AO10-AO8)*(1-((AO5+EXP(AO6*(AO4-AO7)))/(AO5+EXP(AO6*(AO4-AJ274))))^AO5)/(1-((AO5+EXP(AO6*(AO4-AO7)))/(AO5+EXP(AO6*(AO4-AO9))))^AO5)))","v":0},0,0]
[264,{"$f":"'daily uptake'!F358","v":"2011-07-22"},{"$f":"5/9*'daily uptake'!Q358","v":23.888888888888889},{"$f":"5/9*'daily uptake'!N358","v":13.888888888888889},{"$f":"IF(AND($A275>='daily uptake'!$C$9,$A275<='daily uptake'!$C$10),$C275+E274,0)","v":0},{"$f":"IF(AND($A275>='daily uptake'!$C$18,$A275<='daily uptake'!$C$20),$D275+F274,0)","v":1016.3888888888894},{"$f":"IF(AND($A275>='daily uptake'!$C$24,$A275<='daily uptake'!$C$25),$C275+G274,0)","v":0},{"$f":"IF(OR(F275<=I7,F275>I9),0,I8+(I10-I8)*(1-((I5+EXP(I6*(I4-I7)))/(I5+EXP(I6*(I4-F275))))^I5)/(1-((I5+EXP(I6*(I4-I7)))/(I5+EXP(I6*(I4-I9))))^I5))","v":0},{"$f":"IF(OR(F275<=J7,F275>J9),0,J8+(J10-J8)*(1-((J5+EXP(J6*(J4-J7)))/(J5+EXP(J6*(J4-F275))))^J5)/(1-((J5+EXP(J6*(J4-J7)))/(J5+EXP(J6*(J4-J9))))^J5))","v":0},{"$f":"IF(OR(F275<=J9,F275>100000),0,IF(F275<=K7,K8,K8+(K10-K8)*(1-((K5+EXP(K6*(K4-K7)))/(K5+EXP(K6*(K4-F275))))^K5)/(1-((K5+EXP(K6*(K4-K7)))/(K5+EXP(K6*(K4-K9))))^K5)))","v":238.72311098562608},238.72311098562608,156.6570567674701,0,0,"2011-07-22",{"$f":"MAX(L$12:L275)+MAX(M$12:M275)+MAX(N$12:N275)","v":296.65705676747007},"2011-07-22",1.6555530080993321,null,null,null,null,null,null,null,null,null,null,null,null,null,null,null,null,null,0,null,{"$f":"IF(OR(AJ275<=AM7,AJ275>AM9),0,AM8+(AM10-AM8)*(1-((AM5+EXP(AM6*(AM4-AM7)))/(AM5+EXP(AM6*(AM4-AJ275))))^AM5)/(1-((AM5+EXP(AM6*(AM4-AM7)))/(AM5+EXP(AM6*(AM4-AM9))))^AM5))","v":0},{"$f":"IF(OR(AJ275<=AN7,AJ275>AN9),0,AN8+(AN10-AN8)*(1-((AN5+EXP(AN6*(AN4-AN7)))/(AN5+EXP(AN6*(AN4-AJ275))))^AN5)/(1-((AN5+EXP(AN6*(AN4-AN7)))/(AN5+EXP(AN6*(AN4-AN9))))^AN5))","v":0},{"$f":"IF(OR(AJ275<=AN9,AJ275>100000),0,IF(AJ275<=AO7,AO8,AO8+(AO10-AO8)*(1-((AO5+EXP(AO6*(AO4-AO7)))/(AO5+EXP(AO6*(AO4-AJ275))))^AO5)/(1-((AO5+EXP(AO6*(AO4-AO7)))/(AO5+EXP(AO6*(AO4-AO9))))^AO5)))","v":0},0,0]
[265,{"$f":"'daily uptake'!F359","v":"2011-07-23"},{"$f":"5/9*'daily uptake'!Q359","v":24.444444444444446},{"$f":"5/9*'daily uptake'!N359","v":14.444444444444445},{"$f":"IF(AND($A276>='daily uptake'!$C$9,$A276<='daily uptake'!$C$10),$C276+E275,0)","v":0},{"$f":"IF(AND($A276>='daily uptake'!$C$18,$A276<='daily uptake'!$C$20),$D276+F275,0)","v":1030.8333333333337},{"$f":"IF(AND($A276>='daily uptake'!$C$24,$A276<='daily uptake'!$C$25),$C276+G275,0)","v":0},{"$f":"IF(OR(F276<=I7,F276>I9),0,I8+(I10-I8)*(1-((I5+EXP(I6*(I4-I7)))/(I5+EXP(I6*(I4-F276))))^I5)/(1-((I5+EXP(I6*(I4-I7)))/(I5+EXP(I6*(I4-I9))))^I5))","v":0},{"$f":"IF(OR(F276<=J7,F276>J9),0,J8+(J10-J8)*(1-((J5+EXP(J6*(J4-J7)))/(J5+EXP(J6*(J4-F276))))^J5)/(1-((J5+EXP(J6*(J4-J7)))/(J5+EXP(J6*(J4-J9))))^J5))","v":0},{"$f":"IF(OR(F276<=J9,F276>100000),0,IF(F276<=K7,K8,K8+(K10-K8)*(1-((K5+EXP(K6*(K4-K7)))/(K5+EXP(K6*(K4-F276))))^K5)/(1-((K5+EXP(K6*(K4-K7)))/(K5+EXP(K6*(K4-K9))))^K5)))","v":241.53732839617626},241.53732839617626,158.50382817900345,0,0,"2011-07-23",{"$f":"MAX(L$12:L276)+MAX(M$12:M276)+MAX(N$12:N276)","v":298.50382817900345},"2011-07-23",1.846771411533382,null,null,null,null,null,null,null,null,null,null,null,null,null,null,null,null,null,0,null,{"$f":"IF(OR(AJ276<=AM7,AJ276>AM9),0,AM8+(AM10-AM8)*(1-((AM5+EXP(AM6*(AM4-AM7)))/(AM5+EXP(AM6*(AM4-AJ276))))^AM5)/(1-((AM5+EXP(AM6*(AM4-AM7)))/(AM5+EXP(AM6*(AM4-AM9))))^AM5))","v":0},{"$f":"IF(OR(AJ276<=AN7,AJ276>AN9),0,AN8+(AN10-AN8)*(1-((AN5+EXP(AN6*(AN4-AN7)))/(AN5+EXP(AN6*(AN4-AJ276))))^AN5)/(1-((AN5+EXP(AN6*(AN4-AN7)))/(AN5+EXP(AN6*(AN4-AN9))))^AN5))","v":0},{"$f":"IF(OR(AJ276<=AN9,AJ276>100000),0,IF(AJ276<=AO7,AO8,AO8+(AO10-AO8)*(1-((AO5+EXP(AO6*(AO4-AO7)))/(AO5+EXP(AO6*(AO4-AJ276))))^AO5)/(1-((AO5+EXP(AO6*(AO4-AO7)))/(AO5+EXP(AO6*(AO4-AO9))))^AO5)))","v":0},0,0]
[266,{"$f":"'daily uptake'!F360","v":"2011-07-24"},{"$f":"5/9*'daily uptake'!Q360","v":24.444444444444446},{"$f":"5/9*'daily uptake'!N360","v":14.444444444444445},{"$f":"IF(AND($A277>='daily uptake'!$C$9,$A277<='daily uptake'!$C$10),$C277+E276,0)","v":0},{"$f":"IF(AND($A277>='daily uptake'!$C$18,$A277<='daily uptake'!$C$20),$D277+F276,0)","v":1045.2777777777781},{"$f":"IF(AND($A277>='daily uptake'!$C$24,$A277<='daily uptake'!$C$25),$C277+G276,0)","v":0},{"$f":"IF(OR(F277<=I7,F277>I9),0,I8+(I10-I8)*(1-((I5+EXP(I6*(I4-I7)))/(I5+EXP(I6*(I4-F277))))^I5)/(1-((I5+EXP(I6*(I4-I7)))/(I5+EXP(I6*(I4-I9))))^I5))","v":0},{"$f":"IF(OR(F277<=J7,F277>J9),0,J8+(J10-J8)*(1-((J5+EXP(J6*(J4-J7)))/(J5+EXP(J6*(J4-F277))))^J5)/(1-((J5+EXP(J6*(J4-J7)))/(J5+EXP(J6*(J4-J9))))^J5))","v":0},{"$f":"IF(OR(F277<=J9,F277>100000),0,IF(F277<=K7,K8,K8+(K10-K8)*(1-((K5+EXP(K6*(K4-K7)))/(K5+EXP(K6*(K4-F277))))^K5)/(1-((K5+EXP(K6*(K4-K7)))/(K5+EXP(K6*(K4-K9))))^K5)))","v":244.55459135748202},244.55459135748202,160.48384399339236,0,0,"2011-07-24",{"$f":"MAX(L$12:L277)+MAX(M$12:M277)+MAX(N$12:N277)","v":300.48384399339238},"2011-07-24",1.9800158143889348,null,null,null,null,null,null,null,null,null,null,null,null,null,null,null,null,null,0,null,{"$f":"IF(OR(AJ277<=AM7,AJ277>AM9),0,AM8+(AM10-AM8)*(1-((AM5+EXP(AM6*(AM4-AM7)))/(AM5+EXP(AM6*(AM4-AJ277))))^AM5)/(1-((AM5+EXP(AM6*(AM4-AM7)))/(AM5+EXP(AM6*(AM4-AM9))))^AM5))","v":0},{"$f":"IF(OR(AJ277<=AN7,AJ277>AN9),0,AN8+(AN10-AN8)*(1-((AN5+EXP(AN6*(AN4-AN7)))/(AN5+EXP(AN6*(AN4-AJ277))))^AN5)/(1-((AN5+EXP(AN6*(AN4-AN7)))/(AN5+EXP(AN6*(AN4-AN9))))^AN5))","v":0},{"$f":"IF(OR(AJ277<=AN9,AJ277>100000),0,IF(AJ277<=AO7,AO8,AO8+(AO10-AO8)*(1-((AO5+EXP(AO6*(AO4-AO7)))/(AO5+EXP(AO6*(AO4-AJ277))))^AO5)/(1-((AO5+EXP(AO6*(AO4-AO7)))/(AO5+EXP(AO6*(AO4-AO9))))^AO5)))","v":0},0,0]
[267,{"$f":"'daily uptake'!F361","v":"2011-07-25"},{"$f":"5/9*'daily uptake'!Q361","v":24.444444444444446},{"$f":"5/9*'daily uptake'!N361","v":14.444444444444445},{"$f":"IF(AND($A278>='daily uptake'!$C$9,$A278<='daily uptake'!$C$10),$C278+E277,0)","v":0},{"$f":"IF(AND($A278>='daily uptake'!$C$18,$A278<='daily uptake'!$C$20),$D278+F277,0)","v":1059.7222222222224},{"$f":"IF(AND($A278>='daily uptake'!$C$24,$A278<='daily uptake'!$C$25),$C278+G277,0)","v":0},{"$f":"IF(OR(F278<=I7,F278>I9),0,I8+(I10-I8)*(1-((I5+EXP(I6*(I4-I7)))/(I5+EXP(I6*(I4-F278))))^I5)/(1-((I5+EXP(I6*(I4-I7)))/(I5+EXP(I6*(I4-I9))))^I5))","v":0},{"$f":"IF(OR(F278<=J7,F278>J9),0,J8+(J10-J8)*(1-((J5+EXP(J6*(J4-J7)))/(J5+EXP(J6*(J4-F278))))^J5)/(1-((J5+EXP(J6*(J4-J7)))/(J5+EXP(J6*(J4-J9))))^J5))","v":0},{"$f":"IF(OR(F278<=J9,F278>100000),0,IF(F278<=K7,K8,K8+(K10-K8)*(1-((K5+EXP(K6*(K4-K7)))/(K5+EXP(K6*(K4-F278))))^K5)/(1-((K5+EXP(K6*(K4-K7)))/(K5+EXP(K6*(K4-K9))))^K5)))","v":247.78319546871546},247.78319546871546,162.60254802437174,0,0,"2011-07-25",{"$f":"MAX(L$12:L278)+MAX(M$12:M278)+MAX(N$12:N278)","v":302.60254802437174},"2011-07-25",2.1187040309793588,null,null,null,null,null,null,null,null,null,null,null,null,null,null,null,null,null,0,null,{"$f":"IF(OR(AJ278<=AM7,AJ278>AM9),0,AM8+(AM10-AM8)*(1-((AM5+EXP(AM6*(AM4-AM7)))/(AM5+EXP(AM6*(AM4-AJ278))))^AM5)/(1-((AM5+EXP(AM6*(AM4-AM7)))/(AM5+EXP(AM6*(AM4-AM9))))^AM5))","v":0},{"$f":"IF(OR(AJ278<=AN7,AJ278>AN9),0,AN8+(AN10-AN8)*(1-((AN5+EXP(AN6*(AN4-AN7)))/(AN5+EXP(AN6*(AN4-AJ278))))^AN5)/(1-((AN5+EXP(AN6*(AN4-AN7)))/(AN5+EXP(AN6*(AN4-AN9))))^AN5))","v":0},{"$f":"IF(OR(AJ278<=AN9,AJ278>100000),0,IF(AJ278<=AO7,AO8,AO8+(AO10-AO8)*(1-((AO5+EXP(AO6*(AO4-AO7)))/(AO5+EXP(AO6*(AO4-AJ278))))^AO5)/(1-((AO5+EXP(AO6*(AO4-AO7)))/(AO5+EXP(AO6*(AO4-AO9))))^AO5)))","v":0},0,0]
[268,{"$f":"'daily uptake'!F362","v":"2011-07-26"},{"$f":"5/9*'daily uptake'!Q362","v":24.444444444444446},{"$f":"5/9*'daily uptake'!N362","v":14.444444444444445},{"$f":"IF(AND($A279>='daily uptake'!$C$9,$A279<='daily uptake'!$C$10),$C279+E278,0)","v":0},{"$f":"IF(AND($A279>='daily uptake'!$C$18,$A279<='daily uptake'!$C$20),$D279+F278,0)","v":1074.1666666666667},{"$f":"IF(AND($A279>='daily uptake'!$C$24,$A279<='daily uptake'!$C$25),$C279+G278,0)","v":0},{"$f":"IF(OR(F279<=I7,F279>I9),0,I8+(I10-I8)*(1-((I5+EXP(I6*(I4-I7)))/(I5+EXP(I6*(I4-F279))))^I5)/(1-((I5+EXP(I6*(I4-I7)))/(I5+EXP(I6*(I4-I9))))^I5))","v":0},{"$f":"IF(OR(F279<=J7,F279>J9),0,J8+(J10-J8)*(1-((J5+EXP(J6*(J4-J7)))/(J5+EXP(J6*(J4-F279))))^J5)/(1-((J5+EXP(J6*(J4-J7)))/(J5+EXP(J6*(J4-J9))))^J5))","v":0},{"$f":"IF(OR(F279<=J9,F279>100000),0,IF(F279<=K7,K8,K8+(K10-K8)*(1-((K5+EXP(K6*(K4-K7)))/(K5+EXP(K6*(K4-F279))))^K5)/(1-((K5+EXP(K6*(K4-K7)))/(K5+EXP(K6*(K4-K9))))^K5)))","v":251.23051665159142},251.23051665159142,164.86478056654911,0,0,"2011-07-26",{"$f":"MAX(L$12:L279)+MAX(M$12:M279)+MAX(N$12:N279)","v":304.86478056654914},"2011-07-26",2.2622325421774008,null,null,null,null,null,null,null,null,null,null,null,null,null,null,null,null,null,0,null,{"$f":"IF(OR(AJ279<=AM7,AJ279>AM9),0,AM8+(AM10-AM8)*(1-((AM5+EXP(AM6*(AM4-AM7)))/(AM5+EXP(AM6*(AM4-AJ279))))^AM5)/(1-((AM5+EXP(AM6*(AM4-AM7)))/(AM5+EXP(AM6*(AM4-AM9))))^AM5))","v":0},{"$f":"IF(OR(AJ279<=AN7,AJ279>AN9),0,AN8+(AN10-AN8)*(1-((AN5+EXP(AN6*(AN4-AN7)))/(AN5+EXP(AN6*(AN4-AJ279))))^AN5)/(1-((AN5+EXP(AN6*(AN4-AN7)))/(AN5+EXP(AN6*(AN4-AN9))))^AN5))","v":0},{"$f":"IF(OR(AJ279<=AN9,AJ279>100000),0,IF(AJ279<=AO7,AO8,AO8+(AO10-AO8)*(1-((AO5+EXP(AO6*(AO4-AO7)))/(AO5+EXP(AO6*(AO4-AJ279))))^AO5)/(1-((AO5+EXP(AO6*(AO4-AO7)))/(AO5+EXP(AO6*(AO4-AO9))))^AO5)))","v":0},0,0]
[269,{"$f":"'daily uptake'!F363","v":"2011-07-27"},{"$f":"5/9*'daily uptake'!Q363","v":24.444444444444446},{"$f":"5/9*'daily uptake'!N363","v":14.444444444444445},{"$f":"IF(AND($A280>='daily uptake'!$C$9,$A280<='daily uptake'!$C$10),$C280+E279,0)","v":0},{"$f":"IF(AND($A280>='daily uptake'!$C$18,$A280<='daily uptake'!$C$20),$D280+F279,0)","v":1088.6111111111111},{"$f":"IF(AND($A280>='daily uptake'!$C$24,$A280<='daily uptake'!$C$25),$C280+G279,0)","v":0},{"$f":"IF(OR(F280<=I7,F280>I9),0,I8+(I10-I8)*(1-((I5+EXP(I6*(I4-I7)))/(I5+EXP(I6*(I4-F280))))^I5)/(1-((I5+EXP(I6*(I4-I7)))/(I5+EXP(I6*(I4-I9))))^I5))","v":0},{"$f":"IF(OR(F280<=J7,F280>J9),0,J8+(J10-J8)*(1-((J5+EXP(J6*(J4-J7)))/(J5+EXP(J6*(J4-F280))))^J5)/(1-((J5+EXP(J6*(J4-J7)))/(J5+EXP(J6*(J4-J9))))^J5))","v":0},{"$f":"IF(OR(F280<=J9,F280>100000),0,IF(F280<=K7,K8,K8+(K10-K8)*(1-((K5+EXP(K6*(K4-K7)))/(K5+EXP(K6*(K4-F280))))^K5)/(1-((K5+EXP(K6*(K4-K7)))/(K5+EXP(K6*(K4-K9))))^K5)))","v":254.90271036139171},254.90271036139171,167.27458100892005,0,0,"2011-07-27",{"$f":"MAX(L$12:L280)+MAX(M$12:M280)+MAX(N$12:N280)","v":307.27458100892005},"2011-07-27",2.4098004423709085,null,null,null,null,null,null,null,null,null,null,null,null,null,null,null,null,null,0,null,{"$f":"IF(OR(AJ280<=AM7,AJ280>AM9),0,AM8+(AM10-AM8)*(1-((AM5+EXP(AM6*(AM4-AM7)))/(AM5+EXP(AM6*(AM4-AJ280))))^AM5)/(1-((AM5+EXP(AM6*(AM4-AM7)))/(AM5+EXP(AM6*(AM4-AM9))))^AM5))","v":0},{"$f":"IF(OR(AJ280<=AN7,AJ280>AN9),0,AN8+(AN10-AN8)*(1-((AN5+EXP(AN6*(AN4-AN7)))/(AN5+EXP(AN6*(AN4-AJ280))))^AN5)/(1-((AN5+EXP(AN6*(AN4-AN7)))/(AN5+EXP(AN6*(AN4-AN9))))^AN5))","v":0},{"$f":"IF(OR(AJ280<=AN9,AJ280>100000),0,IF(AJ280<=AO7,AO8,AO8+(AO10-AO8)*(1-((AO5+EXP(AO6*(AO4-AO7)))/(AO5+EXP(AO6*(AO4-AJ280))))^AO5)/(1-((AO5+EXP(AO6*(AO4-AO7)))/(AO5+EXP(AO6*(AO4-AO9))))^AO5)))","v":0},0,0]
[270,{"$f":"'daily uptake'!F364","v":"2011-07-28"},{"$f":"5/9*'daily uptake'!Q364","v":24.444444444444446},{"$f":"5/9*'daily uptake'!N364","v":14.444444444444445},{"$f":"IF(AND($A281>='daily uptake'!$C$9,$A281<='daily uptake'!$C$10),$C281+E280,0)","v":0},{"$f":"IF(AND($A281>='daily uptake'!$C$18,$A281<='daily uptake'!$C$20),$D281+F280,0)","v":1103.0555555555554},{"$f":"IF(AND($A281>='daily uptake'!$C$24,$A281<='daily uptake'!$C$25),$C281+G280,0)","v":0},{"$f":"IF(OR(F281<=I7,F281>I9),0,I8+(I10-I8)*(1-((I5+EXP(I6*(I4-I7)))/(I5+EXP(I6*(I4-F281))))^I5)/(1-((I5+EXP(I6*(I4-I7)))/(I5+EXP(I6*(I4-I9))))^I5))","v":0},{"$f":"IF(OR(F281<=J7,F281>J9),0,J8+(J10-J8)*(1-((J5+EXP(J6*(J4-J7)))/(J5+EXP(J6*(J4-F281))))^J5)/(1-((J5+EXP(J6*(J4-J7)))/(J5+EXP(J6*(J4-J9))))^J5))","v":0},{"$f":"IF(OR(F281<=J9,F281>100000),0,IF(F281<=K7,K8,K8+(K10-K8)*(1-((K5+EXP(K6*(K4-K7)))/(K5+EXP(K6*(K4-F281))))^K5)/(1-((K5+EXP(K6*(K4-K7)))/(K5+EXP(K6*(K4-K9))))^K5)))","v":258.80437101989088},258.80437101989088,169.83496434483726,0,0,"2011-07-28",{"$f":"MAX(L$12:L281)+MAX(M$12:M281)+MAX(N$12:N281)","v":309.83496434483726},"2011-07-28",2.5603833359172086,null,null,null,null,null,null,null,null,null,null,null,null,null,null,null,null,null,0,null,{"$f":"IF(OR(AJ281<=AM7,AJ281>AM9),0,AM8+(AM10-AM8)*(1-((AM5+EXP(AM6*(AM4-AM7)))/(AM5+EXP(AM6*(AM4-AJ281))))^AM5)/(1-((AM5+EXP(AM6*(AM4-AM7)))/(AM5+EXP(AM6*(AM4-AM9))))^AM5))","v":0},{"$f":"IF(OR(AJ281<=AN7,AJ281>AN9),0,AN8+(AN10-AN8)*(1-((AN5+EXP(AN6*(AN4-AN7)))/(AN5+EXP(AN6*(AN4-AJ281))))^AN5)/(1-((AN5+EXP(AN6*(AN4-AN7)))/(AN5+EXP(AN6*(AN4-AN9))))^AN5))","v":0},{"$f":"IF(OR(AJ281<=AN9,AJ281>100000),0,IF(AJ281<=AO7,AO8,AO8+(AO10-AO8)*(1-((AO5+EXP(AO6*(AO4-AO7)))/(AO5+EXP(AO6*(AO4-AJ281))))^AO5)/(1-((AO5+EXP(AO6*(AO4-AO7)))/(AO5+EXP(AO6*(AO4-AO9))))^AO5)))","v":0},0,0]
[271,{"$f":"'daily uptake'!F365","v":"2011-07-29"},{"$f":"5/9*'daily uptake'!Q365","v":23.611111111111111},{"$f":"5/9*'daily uptake'!N365","v":13.611111111111112},{"$f":"IF(AND($A282>='daily uptake'!$C$9,$A282<='daily uptake'!$C$10),$C282+E281,0)","v":0},{"$f":"IF(AND($A282>='daily uptake'!$C$18,$A282<='daily uptake'!$C$20),$D282+F281,0)","v":1116.6666666666665},{"$f":"IF(AND($A282>='daily uptake'!$C$24,$A282<='daily uptake'!$C$25),$C282+G281,0)","v":0},{"$f":"IF(OR(F282<=I7,F282>I9),0,I8+(I10-I8)*(1-((I5+EXP(I6*(I4-I7)))/(I5+EXP(I6*(I4-F282))))^I5)/(1-((I5+EXP(I6*(I4-I7)))/(I5+EXP(I6*(I4-I9))))^I5))","v":0},{"$f":"IF(OR(F282<=J7,F282>J9),0,J8+(J10-J8)*(1-((J5+EXP(J6*(J4-J7)))/(J5+EXP(J6*(J4-F282))))^J5)/(1-((J5+EXP(J6*(J4-J7)))/(J5+EXP(J6*(J4-J9))))^J5))","v":0},{"$f":"IF(OR(F282<=J9,F282>100000),0,IF(F282<=K7,K8,K8+(K10-K8)*(1-((K5+EXP(K6*(K4-K7)))/(K5+EXP(K6*(K4-F282))))^K5)/(1-((K5+EXP(K6*(K4-K7)))/(K5+EXP(K6*(K4-K9))))^K5)))","v":262.6933383026099},262.6933383026099,172.38701791795123,0,0,"2011-07-29",{"$f":"MAX(L$12:L282)+MAX(M$12:M282)+MAX(N$12:N282)","v":312.3870179179512},"2011-07-29",2.5520535731139375,null,null,null,null,null,null,null,null,null,null,null,null,null,null,null,null,null,0,null,{"$f":"IF(OR(AJ282<=AM7,AJ282>AM9),0,AM8+(AM10-AM8)*(1-((AM5+EXP(AM6*(AM4-AM7)))/(AM5+EXP(AM6*(AM4-AJ282))))^AM5)/(1-((AM5+EXP(AM6*(AM4-AM7)))/(AM5+EXP(AM6*(AM4-AM9))))^AM5))","v":0},{"$f":"IF(OR(AJ282<=AN7,AJ282>AN9),0,AN8+(AN10-AN8)*(1-((AN5+EXP(AN6*(AN4-AN7)))/(AN5+EXP(AN6*(AN4-AJ282))))^AN5)/(1-((AN5+EXP(AN6*(AN4-AN7)))/(AN5+EXP(AN6*(AN4-AN9))))^AN5))","v":0},{"$f":"IF(OR(AJ282<=AN9,AJ282>100000),0,IF(AJ282<=AO7,AO8,AO8+(AO10-AO8)*(1-((AO5+EXP(AO6*(AO4-AO7)))/(AO5+EXP(AO6*(AO4-AJ282))))^AO5)/(1-((AO5+EXP(AO6*(AO4-AO7)))/(AO5+EXP(AO6*(AO4-AO9))))^AO5)))","v":0},0,0]
[272,{"$f":"'daily uptake'!F366","v":"2011-07-30"},{"$f":"5/9*'daily uptake'!Q366","v":23.611111111111111},{"$f":"5/9*'daily uptake'!N366","v":13.611111111111112},{"$f":"IF(AND($A283>='daily uptake'!$C$9,$A283<='daily uptake'!$C$10),$C283+E282,0)","v":0},{"$f":"IF(AND($A283>='daily uptake'!$C$18,$A283<='daily uptake'!$C$20),$D283+F282,0)","v":1130.2777777777776},{"$f":"IF(AND($A283>='daily uptake'!$C$24,$A283<='daily uptake'!$C$25),$C283+G282,0)","v":0},{"$f":"IF(OR(F283<=I7,F283>I9),0,I8+(I10-I8)*(1-((I5+EXP(I6*(I4-I7)))/(I5+EXP(I6*(I4-F283))))^I5)/(1-((I5+EXP(I6*(I4-I7)))/(I5+EXP(I6*(I4-I9))))^I5))","v":0},{"$f":"IF(OR(F283<=J7,F283>J9),0,J8+(J10-J8)*(1-((J5+EXP(J6*(J4-J7)))/(J5+EXP(J6*(J4-F283))))^J5)/(1-((J5+EXP(J6*(J4-J7)))/(J5+EXP(J6*(J4-J9))))^J5))","v":0},{"$f":"IF(OR(F283<=J9,F283>100000),0,IF(F283<=K7,K8,K8+(K10-K8)*(1-((K5+EXP(K6*(K4-K7)))/(K5+EXP(K6*(K4-F283))))^K5)/(1-((K5+EXP(K6*(K4-K7)))/(K5+EXP(K6*(K4-K9))))^K5)))","v":266.78875218281411},266.78875218281411,175.07454775981921,0,0,"2011-07-30",{"$f":"MAX(L$12:L283)+MAX(M$12:M283)+MAX(N$12:N283)","v":315.07454775981921},"2011-07-30",2.6875298418680131,null,null,null,null,null,null,null,null,null,null,null,null,null,null,null,null,null,0,null,{"$f":"IF(OR(AJ283<=AM7,AJ283>AM9),0,AM8+(AM10-AM8)*(1-((AM5+EXP(AM6*(AM4-AM7)))/(AM5+EXP(AM6*(AM4-AJ283))))^AM5)/(1-((AM5+EXP(AM6*(AM4-AM7)))/(AM5+EXP(AM6*(AM4-AM9))))^AM5))","v":0},{"$f":"IF(OR(AJ283<=AN7,AJ283>AN9),0,AN8+(AN10-AN8)*(1-((AN5+EXP(AN6*(AN4-AN7)))/(AN5+EXP(AN6*(AN4-AJ283))))^AN5)/(1-((AN5+EXP(AN6*(AN4-AN7)))/(AN5+EXP(AN6*(AN4-AN9))))^AN5))","v":0},{"$f":"IF(OR(AJ283<=AN9,AJ283>100000),0,IF(AJ283<=AO7,AO8,AO8+(AO10-AO8)*(1-((AO5+EXP(AO6*(AO4-AO7)))/(AO5+EXP(AO6*(AO4-AJ283))))^AO5)/(1-((AO5+EXP(AO6*(AO4-AO7)))/(AO5+EXP(AO6*(AO4-AO9))))^AO5)))","v":0},0,0]
[273,{"$f":"'daily uptake'!F367","v":"2011-07-31"},{"$f":"5/9*'daily uptake'!Q367","v":23.611111111111111},{"$f":"5/9*'daily uptake'!N367","v":13.611111111111112},{"$f":"IF(AND($A284>='daily uptake'!$C$9,$A284<='daily uptake'!$C$10),$C284+E283,0)","v":0},{"$f":"IF(AND($A284>='daily uptake'!$C$18,$A284<='daily uptake'!$C$20),$D284+F283,0)","v":1143.8888888888887},{"$f":"IF(AND($A284>='daily uptake'!$C$24,$A284<='daily uptake'!$C$25),$C284+G283,0)","v":0},{"$f":"IF(OR(F284<=I7,F284>I9),0,I8+(I10-I8)*(1-((I5+EXP(I6*(I4-I7)))/(I5+EXP(I6*(I4-F284))))^I5)/(1-((I5+EXP(I6*(I4-I7)))/(I5+EXP(I6*(I4-I9))))^I5))","v":0},{"$f":"IF(OR(F284<=J7,F284>J9),0,J8+(J10-J8)*(1-((J5+EXP(J6*(J4-J7)))/(J5+EXP(J6*(J4-F284))))^J5)/(1-((J5+EXP(J6*(J4-J7)))/(J5+EXP(J6*(J4-J9))))^J5))","v":0},{"$f":"IF(OR(F284<=J9,F284>100000),0,IF(F284<=K7,K8,K8+(K10-K8)*(1-((K5+EXP(K6*(K4-K7)))/(K5+EXP(K6*(K4-F284))))^K5)/(1-((K5+EXP(K6*(K4-K7)))/(K5+EXP(K6*(K4-K9))))^K5)))","v":271.08874194057978},271.08874194057978,177.89632624955411,0,0,"2011-07-31",{"$f":"MAX(L$12:L284)+MAX(M$12:M284)+MAX(N$12:N284)","v":317.89632624955414},"2011-07-31",2.8217784897349247,null,null,null,null,null,null,null,null,null,null,null,null,null,null,null,null,null,0,null,{"$f":"IF(OR(AJ284<=AM7,AJ284>AM9),0,AM8+(AM10-AM8)*(1-((AM5+EXP(AM6*(AM4-AM7)))/(AM5+EXP(AM6*(AM4-AJ284))))^AM5)/(1-((AM5+EXP(AM6*(AM4-AM7)))/(AM5+EXP(AM6*(AM4-AM9))))^AM5))","v":0},{"$f":"IF(OR(AJ284<=AN7,AJ284>AN9),0,AN8+(AN10-AN8)*(1-((AN5+EXP(AN6*(AN4-AN7)))/(AN5+EXP(AN6*(AN4-AJ284))))^AN5)/(1-((AN5+EXP(AN6*(AN4-AN7)))/(AN5+EXP(AN6*(AN4-AN9))))^AN5))","v":0},{"$f":"IF(OR(AJ284<=AN9,AJ284>100000),0,IF(AJ284<=AO7,AO8,AO8+(AO10-AO8)*(1-((AO5+EXP(AO6*(AO4-AO7)))/(AO5+EXP(AO6*(AO4-AJ284))))^AO5)/(1-((AO5+EXP(AO6*(AO4-AO7)))/(AO5+EXP(AO6*(AO4-AO9))))^AO5)))","v":0},0,0]
[274,{"$f":"'daily uptake'!F368","v":"2011-08-01"},{"$f":"5/9*'daily uptake'!Q368","v":23.611111111111111},{"$f":"5/9*'daily uptake'!N368","v":13.611111111111112},{"$f":"IF(AND($A285>='daily uptake'!$C$9,$A285<='daily uptake'!$C$10),$C285+E284,0)","v":0},{"$f":"IF(AND($A285>='daily uptake'!$C$18,$A285<='daily uptake'!$C$20),$D285+F284,0)","v":1157.4999999999998},{"$f":"IF(AND($A285>='daily uptake'!$C$24,$A285<='daily uptake'!$C$25),$C285+G284,0)","v":0},{"$f":"IF(OR(F285<=I7,F285>I9),0,I8+(I10-I8)*(1-((I5+EXP(I6*(I4-I7)))/(I5+EXP(I6*(I4-F285))))^I5)/(1-((I5+EXP(I6*(I4-I7)))/(I5+EXP(I6*(I4-I9))))^I5))","v":0},{"$f":"IF(OR(F285<=J7,F285>J9),0,J8+(J10-J8)*(1-((J5+EXP(J6*(J4-J7)))/(J5+EXP(J6*(J4-F285))))^J5)/(1-((J5+EXP(J6*(J4-J7)))/(J5+EXP(J6*(J4-J9))))^J5))","v":0},{"$f":"IF(OR(F285<=J9,F285>100000),0,IF(F285<=K7,K8,K8+(K10-K8)*(1-((K5+EXP(K6*(K4-K7)))/(K5+EXP(K6*(K4-F285))))^K5)/(1-((K5+EXP(K6*(K4-K7)))/(K5+EXP(K6*(K4-K9))))^K5)))","v":275.58890363837332},275.58890363837332,180.84946339510884,0,0,"2011-08-01",{"$f":"MAX(L$12:L285)+MAX(M$12:M285)+MAX(N$12:N285)","v":320.84946339510884},"2011-08-01",2.953137145554706,null,null,null,null,null,null,null,null,null,null,null,null,null,null,null,null,null,0,null,{"$f":"IF(OR(AJ285<=AM7,AJ285>AM9),0,AM8+(AM10-AM8)*(1-((AM5+EXP(AM6*(AM4-AM7)))/(AM5+EXP(AM6*(AM4-AJ285))))^AM5)/(1-((AM5+EXP(AM6*(AM4-AM7)))/(AM5+EXP(AM6*(AM4-AM9))))^AM5))","v":0},{"$f":"IF(OR(AJ285<=AN7,AJ285>AN9),0,AN8+(AN10-AN8)*(1-((AN5+EXP(AN6*(AN4-AN7)))/(AN5+EXP(AN6*(AN4-AJ285))))^AN5)/(1-((AN5+EXP(AN6*(AN4-AN7)))/(AN5+EXP(AN6*(AN4-AN9))))^AN5))","v":0},{"$f":"IF(OR(AJ285<=AN9,AJ285>100000),0,IF(AJ285<=AO7,AO8,AO8+(AO10-AO8)*(1-((AO5+EXP(AO6*(AO4-AO7)))/(AO5+EXP(AO6*(AO4-AJ285))))^AO5)/(1-((AO5+EXP(AO6*(AO4-AO7)))/(AO5+EXP(AO6*(AO4-AO9))))^AO5)))","v":0},0,0]
[275,{"$f":"'daily uptake'!F369","v":"2011-08-02"},{"$f":"5/9*'daily uptake'!Q369","v":23.611111111111111},{"$f":"5/9*'daily uptake'!N369","v":13.611111111111112},{"$f":"IF(AND($A286>='daily uptake'!$C$9,$A286<='daily uptake'!$C$10),$C286+E285,0)","v":0},{"$f":"IF(AND($A286>='daily uptake'!$C$18,$A286<='daily uptake'!$C$20),$D286+F285,0)","v":1171.1111111111109},{"$f":"IF(AND($A286>='daily uptake'!$C$24,$A286<='daily uptake'!$C$25),$C286+G285,0)","v":0},{"$f":"IF(OR(F286<=I7,F286>I9),0,I8+(I10-I8)*(1-((I5+EXP(I6*(I4-I7)))/(I5+EXP(I6*(I4-F286))))^I5)/(1-((I5+EXP(I6*(I4-I7)))/(I5+EXP(I6*(I4-I9))))^I5))","v":0},{"$f":"IF(OR(F286<=J7,F286>J9),0,J8+(J10-J8)*(1-((J5+EXP(J6*(J4-J7)))/(J5+EXP(J6*(J4-F286))))^J5)/(1-((J5+EXP(J6*(J4-J7)))/(J5+EXP(J6*(J4-J9))))^J5))","v":0},{"$f":"IF(OR(F286<=J9,F286>100000),0,IF(F286<=K7,K8,K8+(K10-K8)*(1-((K5+EXP(K6*(K4-K7)))/(K5+EXP(K6*(K4-F286))))^K5)/(1-((K5+EXP(K6*(K4-K7)))/(K5+EXP(K6*(K4-K9))))^K5)))","v":280.28194765849304},280.28194765849304,183.92917553708241,0,0,"2011-08-02",{"$f":"MAX(L$12:L286)+MAX(M$12:M286)+MAX(N$12:N286)","v":323.92917553708241},"2011-08-02",3.0797121419735731,null,null,null,null,null,null,null,null,null,null,null,null,null,null,null,null,null,0,null,{"$f":"IF(OR(AJ286<=AM7,AJ286>AM9),0,AM8+(AM10-AM8)*(1-((AM5+EXP(AM6*(AM4-AM7)))/(AM5+EXP(AM6*(AM4-AJ286))))^AM5)/(1-((AM5+EXP(AM6*(AM4-AM7)))/(AM5+EXP(AM6*(AM4-AM9))))^AM5))","v":0},{"$f":"IF(OR(AJ286<=AN7,AJ286>AN9),0,AN8+(AN10-AN8)*(1-((AN5+EXP(AN6*(AN4-AN7)))/(AN5+EXP(AN6*(AN4-AJ286))))^AN5)/(1-((AN5+EXP(AN6*(AN4-AN7)))/(AN5+EXP(AN6*(AN4-AN9))))^AN5))","v":0},{"$f":"IF(OR(AJ286<=AN9,AJ286>100000),0,IF(AJ286<=AO7,AO8,AO8+(AO10-AO8)*(1-((AO5+EXP(AO6*(AO4-AO7)))/(AO5+EXP(AO6*(AO4-AJ286))))^AO5)/(1-((AO5+EXP(AO6*(AO4-AO7)))/(AO5+EXP(AO6*(AO4-AO9))))^AO5)))","v":0},0,0]
[276,{"$f":"'daily uptake'!F370","v":"2011-08-03"},{"$f":"5/9*'daily uptake'!Q370","v":23.888888888888889},{"$f":"5/9*'daily uptake'!N370","v":13.888888888888889},{"$f":"IF(AND($A287>='daily uptake'!$C$9,$A287<='daily uptake'!$C$10),$C287+E286,0)","v":0},{"$f":"IF(AND($A287>='daily uptake'!$C$18,$A287<='daily uptake'!$C$20),$D287+F286,0)","v":1184.9999999999998},{"$f":"IF(AND($A287>='daily uptake'!$C$24,$A287<='daily uptake'!$C$25),$C287+G286,0)","v":0},{"$f":"IF(OR(F287<=I7,F287>I9),0,I8+(I10-I8)*(1-((I5+EXP(I6*(I4-I7)))/(I5+EXP(I6*(I4-F287))))^I5)/(1-((I5+EXP(I6*(I4-I7)))/(I5+EXP(I6*(I4-I9))))^I5))","v":0},{"$f":"IF(OR(F287<=J7,F287>J9),0,J8+(J10-J8)*(1-((J5+EXP(J6*(J4-J7)))/(J5+EXP(J6*(J4-F287))))^J5)/(1-((J5+EXP(J6*(J4-J7)))/(J5+EXP(J6*(J4-J9))))^J5))","v":0},{"$f":"IF(OR(F287<=J9,F287>100000),0,IF(F287<=K7,K8,K8+(K10-K8)*(1-((K5+EXP(K6*(K4-K7)))/(K5+EXP(K6*(K4-F287))))^K5)/(1-((K5+EXP(K6*(K4-K7)))/(K5+EXP(K6*(K4-K9))))^K5)))","v":285.25865553124294},285.25865553124294,187.19503615911259,0,0,"2011-08-03",{"$f":"MAX(L$12:L287)+MAX(M$12:M287)+MAX(N$12:N287)","v":327.19503615911259},"2011-08-03",3.2658606220301749,null,null,null,null,null,null,null,null,null,null,null,null,null,null,null,null,null,0,null,{"$f":"IF(OR(AJ287<=AM7,AJ287>AM9),0,AM8+(AM10-AM8)*(1-((AM5+EXP(AM6*(AM4-AM7)))/(AM5+EXP(AM6*(AM4-AJ287))))^AM5)/(1-((AM5+EXP(AM6*(AM4-AM7)))/(AM5+EXP(AM6*(AM4-AM9))))^AM5))","v":0},{"$f":"IF(OR(AJ287<=AN7,AJ287>AN9),0,AN8+(AN10-AN8)*(1-((AN5+EXP(AN6*(AN4-AN7)))/(AN5+EXP(AN6*(AN4-AJ287))))^AN5)/(1-((AN5+EXP(AN6*(AN4-AN7)))/(AN5+EXP(AN6*(AN4-AN9))))^AN5))","v":0},{"$f":"IF(OR(AJ287<=AN9,AJ287>100000),0,IF(AJ287<=AO7,AO8,AO8+(AO10-AO8)*(1-((AO5+EXP(AO6*(AO4-AO7)))/(AO5+EXP(AO6*(AO4-AJ287))))^AO5)/(1-((AO5+EXP(AO6*(AO4-AO7)))/(AO5+EXP(AO6*(AO4-AO9))))^AO5)))","v":0},0,0]
[277,{"$f":"'daily uptake'!F371","v":"2011-08-04"},{"$f":"5/9*'daily uptake'!Q371","v":23.888888888888889},{"$f":"5/9*'daily uptake'!N371","v":13.888888888888889},{"$f":"IF(AND($A288>='daily uptake'!$C$9,$A288<='daily uptake'!$C$10),$C288+E287,0)","v":0},{"$f":"IF(AND($A288>='daily uptake'!$C$18,$A288<='daily uptake'!$C$20),$D288+F287,0)","v":1198.8888888888887},{"$f":"IF(AND($A288>='daily uptake'!$C$24,$A288<='daily uptake'!$C$25),$C288+G287,0)","v":0},{"$f":"IF(OR(F288<=I7,F288>I9),0,I8+(I10-I8)*(1-((I5+EXP(I6*(I4-I7)))/(I5+EXP(I6*(I4-F288))))^I5)/(1-((I5+EXP(I6*(I4-I7)))/(I5+EXP(I6*(I4-I9))))^I5))","v":0},{"$f":"IF(OR(F288<=J7,F288>J9),0,J8+(J10-J8)*(1-((J5+EXP(J6*(J4-J7)))/(J5+EXP(J6*(J4-F288))))^J5)/(1-((J5+EXP(J6*(J4-J7)))/(J5+EXP(J6*(J4-J9))))^J5))","v":0},{"$f":"IF(OR(F288<=J9,F288>100000),0,IF(F288<=K7,K8,K8+(K10-K8)*(1-((K5+EXP(K6*(K4-K7)))/(K5+EXP(K6*(K4-F288))))^K5)/(1-((K5+EXP(K6*(K4-K7)))/(K5+EXP(K6*(K4-K9))))^K5)))","v":290.41022298712892},290.41022298712892,190.5756447313039,0,0,"2011-08-04",{"$f":"MAX(L$12:L288)+MAX(M$12:M288)+MAX(N$12:N288)","v":330.5756447313039},"2011-08-04",3.3806085721913064,null,null,null,null,null,null,null,null,null,null,null,null,null,null,null,null,null,0,null,{"$f":"IF(OR(AJ288<=AM7,AJ288>AM9),0,AM8+(AM10-AM8)*(1-((AM5+EXP(AM6*(AM4-AM7)))/(AM5+EXP(AM6*(AM4-AJ288))))^AM5)/(1-((AM5+EXP(AM6*(AM4-AM7)))/(AM5+EXP(AM6*(AM4-AM9))))^AM5))","v":0},{"$f":"IF(OR(AJ288<=AN7,AJ288>AN9),0,AN8+(AN10-AN8)*(1-((AN5+EXP(AN6*(AN4-AN7)))/(AN5+EXP(AN6*(AN4-AJ288))))^AN5)/(1-((AN5+EXP(AN6*(AN4-AN7)))/(AN5+EXP(AN6*(AN4-AN9))))^AN5))","v":0},{"$f":"IF(OR(AJ288<=AN9,AJ288>100000),0,IF(AJ288<=AO7,AO8,AO8+(AO10-AO8)*(1-((AO5+EXP(AO6*(AO4-AO7)))/(AO5+EXP(AO6*(AO4-AJ288))))^AO5)/(1-((AO5+EXP(AO6*(AO4-AO7)))/(AO5+EXP(AO6*(AO4-AO9))))^AO5)))","v":0},0,0]
[278,{"$f":"'daily uptake'!F372","v":"2011-08-05"},{"$f":"5/9*'daily uptake'!Q372","v":23.055555555555557},{"$f":"5/9*'daily uptake'!N372","v":13.055555555555555},{"$f":"IF(AND($A289>='daily uptake'!$C$9,$A289<='daily uptake'!$C$10),$C289+E288,0)","v":0},{"$f":"IF(AND($A289>='daily uptake'!$C$18,$A289<='daily uptake'!$C$20),$D289+F288,0)","v":1211.9444444444443},{"$f":"IF(AND($A289>='daily uptake'!$C$24,$A289<='daily uptake'!$C$25),$C289+G288,0)","v":0},{"$f":"IF(OR(F289<=I7,F289>I9),0,I8+(I10-I8)*(1-((I5+EXP(I6*(I4-I7)))/(I5+EXP(I6*(I4-F289))))^I5)/(1-((I5+EXP(I6*(I4-I7)))/(I5+EXP(I6*(I4-I9))))^I5))","v":0},{"$f":"IF(OR(F289<=J7,F289>J9),0,J8+(J10-J8)*(1-((J5+EXP(J6*(J4-J7)))/(J5+EXP(J6*(J4-F289))))^J5)/(1-((J5+EXP(J6*(J4-J7)))/(J5+EXP(J6*(J4-J9))))^J5))","v":0},{"$f":"IF(OR(F289<=J9,F289>100000),0,IF(F289<=K7,K8,K8+(K10-K8)*(1-((K5+EXP(K6*(K4-K7)))/(K5+EXP(K6*(K4-F289))))^K5)/(1-((K5+EXP(K6*(K4-K7)))/(K5+EXP(K6*(K4-K9))))^K5)))","v":295.39504728081596},295.39504728081596,193.8468315850937,0,0,"2011-08-05",{"$f":"MAX(L$12:L289)+MAX(M$12:M289)+MAX(N$12:N289)","v":333.8468315850937},"2011-08-05",3.2711868537897999,null,null,null,null,null,null,null,null,null,null,null,null,null,null,null,null,null,0,null,{"$f":"IF(OR(AJ289<=AM7,AJ289>AM9),0,AM8+(AM10-AM8)*(1-((AM5+EXP(AM6*(AM4-AM7)))/(AM5+EXP(AM6*(AM4-AJ289))))^AM5)/(1-((AM5+EXP(AM6*(AM4-AM7)))/(AM5+EXP(AM6*(AM4-AM9))))^AM5))","v":0},{"$f":"IF(OR(AJ289<=AN7,AJ289>AN9),0,AN8+(AN10-AN8)*(1-((AN5+EXP(AN6*(AN4-AN7)))/(AN5+EXP(AN6*(AN4-AJ289))))^AN5)/(1-((AN5+EXP(AN6*(AN4-AN7)))/(AN5+EXP(AN6*(AN4-AN9))))^AN5))","v":0},{"$f":"IF(OR(AJ289<=AN9,AJ289>100000),0,IF(AJ289<=AO7,AO8,AO8+(AO10-AO8)*(1-((AO5+EXP(AO6*(AO4-AO7)))/(AO5+EXP(AO6*(AO4-AJ289))))^AO5)/(1-((AO5+EXP(AO6*(AO4-AO7)))/(AO5+EXP(AO6*(AO4-AO9))))^AO5)))","v":0},0,0]
[279,{"$f":"'daily uptake'!F373","v":"2011-08-06"},{"$f":"5/9*'daily uptake'!Q373","v":23.333333333333336},{"$f":"5/9*'daily uptake'!N373","v":13.333333333333334},{"$f":"IF(AND($A290>='daily uptake'!$C$9,$A290<='daily uptake'!$C$10),$C290+E289,0)","v":0},{"$f":"IF(AND($A290>='daily uptake'!$C$18,$A290<='daily uptake'!$C$20),$D290+F289,0)","v":1225.2777777777776},{"$f":"IF(AND($A290>='daily uptake'!$C$24,$A290<='daily uptake'!$C$25),$C290+G289,0)","v":0},{"$f":"IF(OR(F290<=I7,F290>I9),0,I8+(I10-I8)*(1-((I5+EXP(I6*(I4-I7)))/(I5+EXP(I6*(I4-F290))))^I5)/(1-((I5+EXP(I6*(I4-I7)))/(I5+EXP(I6*(I4-I9))))^I5))","v":0},{"$f":"IF(OR(F290<=J7,F290>J9),0,J8+(J10-J8)*(1-((J5+EXP(J6*(J4-J7)))/(J5+EXP(J6*(J4-F290))))^J5)/(1-((J5+EXP(J6*(J4-J7)))/(J5+EXP(J6*(J4-J9))))^J5))","v":0},{"$f":"IF(OR(F290<=J9,F290>100000),0,IF(F290<=K7,K8,K8+(K10-K8)*(1-((K5+EXP(K6*(K4-K7)))/(K5+EXP(K6*(K4-F290))))^K5)/(1-((K5+EXP(K6*(K4-K7)))/(K5+EXP(K6*(K4-K9))))^K5)))","v":300.6076513500974},300.6076513500974,197.26749416031012,0,0,"2011-08-06",{"$f":"MAX(L$12:L290)+MAX(M$12:M290)+MAX(N$12:N290)","v":337.26749416031009},"2011-08-06",3.4206625752163973,null,null,null,null,null,null,null,null,null,null,null,null,null,null,null,null,null,0,null,{"$f":"IF(OR(AJ290<=AM7,AJ290>AM9),0,AM8+(AM10-AM8)*(1-((AM5+EXP(AM6*(AM4-AM7)))/(AM5+EXP(AM6*(AM4-AJ290))))^AM5)/(1-((AM5+EXP(AM6*(AM4-AM7)))/(AM5+EXP(AM6*(AM4-AM9))))^AM5))","v":0},{"$f":"IF(OR(AJ290<=AN7,AJ290>AN9),0,AN8+(AN10-AN8)*(1-((AN5+EXP(AN6*(AN4-AN7)))/(AN5+EXP(AN6*(AN4-AJ290))))^AN5)/(1-((AN5+EXP(AN6*(AN4-AN7)))/(AN5+EXP(AN6*(AN4-AN9))))^AN5))","v":0},{"$f":"IF(OR(AJ290<=AN9,AJ290>100000),0,IF(AJ290<=AO7,AO8,AO8+(AO10-AO8)*(1-((AO5+EXP(AO6*(AO4-AO7)))/(AO5+EXP(AO6*(AO4-AJ290))))^AO5)/(1-((AO5+EXP(AO6*(AO4-AO7)))/(AO5+EXP(AO6*(AO4-AO9))))^AO5)))","v":0},0,0]
[280,{"$f":"'daily uptake'!F374","v":"2011-08-07"},{"$f":"5/9*'daily uptake'!Q374","v":23.333333333333336},{"$f":"5/9*'daily uptake'!N374","v":13.333333333333334},{"$f":"IF(AND($A291>='daily uptake'!$C$9,$A291<='daily uptake'!$C$10),$C291+E290,0)","v":0},{"$f":"IF(AND($A291>='daily uptake'!$C$18,$A291<='daily uptake'!$C$20),$D291+F290,0)","v":1238.6111111111109},{"$f":"IF(AND($A291>='daily uptake'!$C$24,$A291<='daily uptake'!$C$25),$C291+G290,0)","v":0},{"$f":"IF(OR(F291<=I7,F291>I9),0,I8+(I10-I8)*(1-((I5+EXP(I6*(I4-I7)))/(I5+EXP(I6*(I4-F291))))^I5)/(1-((I5+EXP(I6*(I4-I7)))/(I5+EXP(I6*(I4-I9))))^I5))","v":0},{"$f":"IF(OR(F291<=J7,F291>J9),0,J8+(J10-J8)*(1-((J5+EXP(J6*(J4-J7)))/(J5+EXP(J6*(J4-F291))))^J5)/(1-((J5+EXP(J6*(J4-J7)))/(J5+EXP(J6*(J4-J9))))^J5))","v":0},{"$f":"IF(OR(F291<=J9,F291>100000),0,IF(F291<=K7,K8,K8+(K10-K8)*(1-((K5+EXP(K6*(K4-K7)))/(K5+EXP(K6*(K4-F291))))^K5)/(1-((K5+EXP(K6*(K4-K7)))/(K5+EXP(K6*(K4-K9))))^K5)))","v":305.91877930243334},305.91877930243334,200.75281097648752,0,0,"2011-08-07",{"$f":"MAX(L$12:L291)+MAX(M$12:M291)+MAX(N$12:N291)","v":340.75281097648752},"2011-08-07",3.4853168161774306,null,null,null,null,null,null,null,null,null,null,null,null,null,null,null,null,null,0,null,{"$f":"IF(OR(AJ291<=AM7,AJ291>AM9),0,AM8+(AM10-AM8)*(1-((AM5+EXP(AM6*(AM4-AM7)))/(AM5+EXP(AM6*(AM4-AJ291))))^AM5)/(1-((AM5+EXP(AM6*(AM4-AM7)))/(AM5+EXP(AM6*(AM4-AM9))))^AM5))","v":0},{"$f":"IF(OR(AJ291<=AN7,AJ291>AN9),0,AN8+(AN10-AN8)*(1-((AN5+EXP(AN6*(AN4-AN7)))/(AN5+EXP(AN6*(AN4-AJ291))))^AN5)/(1-((AN5+EXP(AN6*(AN4-AN7)))/(AN5+EXP(AN6*(AN4-AN9))))^AN5))","v":0},{"$f":"IF(OR(AJ291<=AN9,AJ291>100000),0,IF(AJ291<=AO7,AO8,AO8+(AO10-AO8)*(1-((AO5+EXP(AO6*(AO4-AO7)))/(AO5+EXP(AO6*(AO4-AJ291))))^AO5)/(1-((AO5+EXP(AO6*(AO4-AO7)))/(AO5+EXP(AO6*(AO4-AO9))))^AO5)))","v":0},0,0]
[281,{"$f":"'daily uptake'!F375","v":"2011-08-08"},{"$f":"5/9*'daily uptake'!Q375","v":23.333333333333336},{"$f":"5/9*'daily uptake'!N375","v":13.333333333333334},{"$f":"IF(AND($A292>='daily uptake'!$C$9,$A292<='daily uptake'!$C$10),$C292+E291,0)","v":0},{"$f":"IF(AND($A292>='daily uptake'!$C$18,$A292<='daily uptake'!$C$20),$D292+F291,0)","v":1251.9444444444441},{"$f":"IF(AND($A292>='daily uptake'!$C$24,$A292<='daily uptake'!$C$25),$C292+G291,0)","v":0},{"$f":"IF(OR(F292<=I7,F292>I9),0,I8+(I10-I8)*(1-((I5+EXP(I6*(I4-I7)))/(I5+EXP(I6*(I4-F292))))^I5)/(1-((I5+EXP(I6*(I4-I7)))/(I5+EXP(I6*(I4-I9))))^I5))","v":0},{"$f":"IF(OR(F292<=J7,F292>J9),0,J8+(J10-J8)*(1-((J5+EXP(J6*(J4-J7)))/(J5+EXP(J6*(J4-F292))))^J5)/(1-((J5+EXP(J6*(J4-J7)))/(J5+EXP(J6*(J4-J9))))^J5))","v":0},{"$f":"IF(OR(F292<=J9,F292>100000),0,IF(F292<=K7,K8,K8+(K10-K8)*(1-((K5+EXP(K6*(K4-K7)))/(K5+EXP(K6*(K4-F292))))^K5)/(1-((K5+EXP(K6*(K4-K7)))/(K5+EXP(K6*(K4-K9))))^K5)))","v":311.29988182631325},311.29988182631325,204.28404714409007,0,0,"2011-08-08",{"$f":"MAX(L$12:L292)+MAX(M$12:M292)+MAX(N$12:N292)","v":344.2840471440901},"2011-08-08",3.5312361676025716,null,null,null,null,null,null,null,null,null,null,null,null,null,null,null,null,null,0,null,{"$f":"IF(OR(AJ292<=AM7,AJ292>AM9),0,AM8+(AM10-AM8)*(1-((AM5+EXP(AM6*(AM4-AM7)))/(AM5+EXP(AM6*(AM4-AJ292))))^AM5)/(1-((AM5+EXP(AM6*(AM4-AM7)))/(AM5+EXP(AM6*(AM4-AM9))))^AM5))","v":0},{"$f":"IF(OR(AJ292<=AN7,AJ292>AN9),0,AN8+(AN10-AN8)*(1-((AN5+EXP(AN6*(AN4-AN7)))/(AN5+EXP(AN6*(AN4-AJ292))))^AN5)/(1-((AN5+EXP(AN6*(AN4-AN7)))/(AN5+EXP(AN6*(AN4-AN9))))^AN5))","v":0},{"$f":"IF(OR(AJ292<=AN9,AJ292>100000),0,IF(AJ292<=AO7,AO8,AO8+(AO10-AO8)*(1-((AO5+EXP(AO6*(AO4-AO7)))/(AO5+EXP(AO6*(AO4-AJ292))))^AO5)/(1-((AO5+EXP(AO6*(AO4-AO7)))/(AO5+EXP(AO6*(AO4-AO9))))^AO5)))","v":0},0,0]
[282,{"$f":"'daily uptake'!F376","v":"2011-08-09"},{"$f":"5/9*'daily uptake'!Q376","v":23.333333333333336},{"$f":"5/9*'daily uptake'!N376","v":13.333333333333334},{"$f":"IF(AND($A293>='daily uptake'!$C$9,$A293<='daily uptake'!$C$10),$C293+E292,0)","v":0},{"$f":"IF(AND($A293>='daily uptake'!$C$18,$A293<='daily uptake'!$C$20),$D293+F292,0)","v":1265.2777777777774},{"$f":"IF(AND($A293>='daily uptake'!$C$24,$A293<='daily uptake'!$C$25),$C293+G292,0)","v":0},{"$f":"IF(OR(F293<=I7,F293>I9),0,I8+(I10-I8)*(1-((I5+EXP(I6*(I4-I7)))/(I5+EXP(I6*(I4-F293))))^I5)/(1-((I5+EXP(I6*(I4-I7)))/(I5+EXP(I6*(I4-I9))))^I5))","v":0},{"$f":"IF(OR(F293<=J7,F293>J9),0,J8+(J10-J8)*(1-((J5+EXP(J6*(J4-J7)))/(J5+EXP(J6*(J4-F293))))^J5)/(1-((J5+EXP(J6*(J4-J7)))/(J5+EXP(J6*(J4-J9))))^J5))","v":0},{"$f":"IF(OR(F293<=J9,F293>100000),0,IF(F293<=K7,K8,K8+(K10-K8)*(1-((K5+EXP(K6*(K4-K7)))/(K5+EXP(K6*(K4-F293))))^K5)/(1-((K5+EXP(K6*(K4-K7)))/(K5+EXP(K6*(K4-K9))))^K5)))","v":316.71858505536375},316.71858505536375,207.83995798931423,0,0,"2011-08-09",{"$f":"MAX(L$12:L293)+MAX(M$12:M293)+MAX(N$12:N293)","v":347.83995798931426},"2011-08-09",3.5559108452241617,null,null,null,null,null,null,null,null,null,null,null,null,null,null,null,null,null,0,null,{"$f":"IF(OR(AJ293<=AM7,AJ293>AM9),0,AM8+(AM10-AM8)*(1-((AM5+EXP(AM6*(AM4-AM7)))/(AM5+EXP(AM6*(AM4-AJ293))))^AM5)/(1-((AM5+EXP(AM6*(AM4-AM7)))/(AM5+EXP(AM6*(AM4-AM9))))^AM5))","v":0},{"$f":"IF(OR(AJ293<=AN7,AJ293>AN9),0,AN8+(AN10-AN8)*(1-((AN5+EXP(AN6*(AN4-AN7)))/(AN5+EXP(AN6*(AN4-AJ293))))^AN5)/(1-((AN5+EXP(AN6*(AN4-AN7)))/(AN5+EXP(AN6*(AN4-AN9))))^AN5))","v":0},{"$f":"IF(OR(AJ293<=AN9,AJ293>100000),0,IF(AJ293<=AO7,AO8,AO8+(AO10-AO8)*(1-((AO5+EXP(AO6*(AO4-AO7)))/(AO5+EXP(AO6*(AO4-AJ293))))^AO5)/(1-((AO5+EXP(AO6*(AO4-AO7)))/(AO5+EXP(AO6*(AO4-AO9))))^AO5)))","v":0},0,0]
[283,{"$f":"'daily uptake'!F377","v":"2011-08-10"},{"$f":"5/9*'daily uptake'!Q377","v":23.333333333333336},{"$f":"5/9*'daily uptake'!N377","v":13.333333333333334},{"$f":"IF(AND($A294>='daily uptake'!$C$9,$A294<='daily uptake'!$C$10),$C294+E293,0)","v":0},{"$f":"IF(AND($A294>='daily uptake'!$C$18,$A294<='daily uptake'!$C$20),$D294+F293,0)","v":1278.6111111111106},{"$f":"IF(AND($A294>='daily uptake'!$C$24,$A294<='daily uptake'!$C$25),$C294+G293,0)","v":0},{"$f":"IF(OR(F294<=I7,F294>I9),0,I8+(I10-I8)*(1-((I5+EXP(I6*(I4-I7)))/(I5+EXP(I6*(I4-F294))))^I5)/(1-((I5+EXP(I6*(I4-I7)))/(I5+EXP(I6*(I4-I9))))^I5))","v":0},{"$f":"IF(OR(F294<=J7,F294>J9),0,J8+(J10-J8)*(1-((J5+EXP(J6*(J4-J7)))/(J5+EXP(J6*(J4-F294))))^J5)/(1-((J5+EXP(J6*(J4-J7)))/(J5+EXP(J6*(J4-J9))))^J5))","v":0},{"$f":"IF(OR(F294<=J9,F294>100000),0,IF(F294<=K7,K8,K8+(K10-K8)*(1-((K5+EXP(K6*(K4-K7)))/(K5+EXP(K6*(K4-F294))))^K5)/(1-((K5+EXP(K6*(K4-K7)))/(K5+EXP(K6*(K4-K9))))^K5)))","v":322.13893952026217},322.13893952026217,211.39695242358385,0,0,"2011-08-10",{"$f":"MAX(L$12:L294)+MAX(M$12:M294)+MAX(N$12:N294)","v":351.39695242358385},"2011-08-10",3.5569944342695976,null,null,null,null,null,null,null,null,null,null,null,null,null,null,null,null,null,0,null,{"$f":"IF(OR(AJ294<=AM7,AJ294>AM9),0,AM8+(AM10-AM8)*(1-((AM5+EXP(AM6*(AM4-AM7)))/(AM5+EXP(AM6*(AM4-AJ294))))^AM5)/(1-((AM5+EXP(AM6*(AM4-AM7)))/(AM5+EXP(AM6*(AM4-AM9))))^AM5))","v":0},{"$f":"IF(OR(AJ294<=AN7,AJ294>AN9),0,AN8+(AN10-AN8)*(1-((AN5+EXP(AN6*(AN4-AN7)))/(AN5+EXP(AN6*(AN4-AJ294))))^AN5)/(1-((AN5+EXP(AN6*(AN4-AN7)))/(AN5+EXP(AN6*(AN4-AN9))))^AN5))","v":0},{"$f":"IF(OR(AJ294<=AN9,AJ294>100000),0,IF(AJ294<=AO7,AO8,AO8+(AO10-AO8)*(1-((AO5+EXP(AO6*(AO4-AO7)))/(AO5+EXP(AO6*(AO4-AJ294))))^AO5)/(1-((AO5+EXP(AO6*(AO4-AO7)))/(AO5+EXP(AO6*(AO4-AO9))))^AO5)))","v":0},0,0]
[284,{"$f":"'daily uptake'!F378","v":"2011-08-11"},{"$f":"5/9*'daily uptake'!Q378","v":23.055555555555557},{"$f":"5/9*'daily uptake'!N378","v":13.055555555555555},{"$f":"IF(AND($A295>='daily uptake'!$C$9,$A295<='daily uptake'!$C$10),$C295+E294,0)","v":0},{"$f":"IF(AND($A295>='daily uptake'!$C$18,$A295<='daily uptake'!$C$20),$D295+F294,0)","v":1291.6666666666663},{"$f":"IF(AND($A295>='daily uptake'!$C$24,$A295<='daily uptake'!$C$25),$C295+G294,0)","v":0},{"$f":"IF(OR(F295<=I7,F295>I9),0,I8+(I10-I8)*(1-((I5+EXP(I6*(I4-I7)))/(I5+EXP(I6*(I4-F295))))^I5)/(1-((I5+EXP(I6*(I4-I7)))/(I5+EXP(I6*(I4-I9))))^I5))","v":0},{"$f":"IF(OR(F295<=J7,F295>J9),0,J8+(J10-J8)*(1-((J5+EXP(J6*(J4-J7)))/(J5+EXP(J6*(J4-F295))))^J5)/(1-((J5+EXP(J6*(J4-J7)))/(J5+EXP(J6*(J4-J9))))^J5))","v":0},{"$f":"IF(OR(F295<=J9,F295>100000),0,IF(F295<=K7,K8,K8+(K10-K8)*(1-((K5+EXP(K6*(K4-K7)))/(K5+EXP(K6*(K4-F295))))^K5)/(1-((K5+EXP(K6*(K4-K7)))/(K5+EXP(K6*(K4-K9))))^K5)))","v":327.41035973204828},327.41035973204828,214.85621186416935,0,0,"2011-08-11",{"$f":"MAX(L$12:L295)+MAX(M$12:M295)+MAX(N$12:N295)","v":354.85621186416938},"2011-08-11",3.4592594405855266,null,null,null,null,null,null,null,null,null,null,null,null,null,null,null,null,null,0,null,{"$f":"IF(OR(AJ295<=AM7,AJ295>AM9),0,AM8+(AM10-AM8)*(1-((AM5+EXP(AM6*(AM4-AM7)))/(AM5+EXP(AM6*(AM4-AJ295))))^AM5)/(1-((AM5+EXP(AM6*(AM4-AM7)))/(AM5+EXP(AM6*(AM4-AM9))))^AM5))","v":0},{"$f":"IF(OR(AJ295<=AN7,AJ295>AN9),0,AN8+(AN10-AN8)*(1-((AN5+EXP(AN6*(AN4-AN7)))/(AN5+EXP(AN6*(AN4-AJ295))))^AN5)/(1-((AN5+EXP(AN6*(AN4-AN7)))/(AN5+EXP(AN6*(AN4-AN9))))^AN5))","v":0},{"$f":"IF(OR(AJ295<=AN9,AJ295>100000),0,IF(AJ295<=AO7,AO8,AO8+(AO10-AO8)*(1-((AO5+EXP(AO6*(AO4-AO7)))/(AO5+EXP(AO6*(AO4-AJ295))))^AO5)/(1-((AO5+EXP(AO6*(AO4-AO7)))/(AO5+EXP(AO6*(AO4-AO9))))^AO5)))","v":0},0,0]
[285,{"$f":"'daily uptake'!F379","v":"2011-08-12"},{"$f":"5/9*'daily uptake'!Q379","v":23.611111111111111},{"$f":"5/9*'daily uptake'!N379","v":13.611111111111112},{"$f":"IF(AND($A296>='daily uptake'!$C$9,$A296<='daily uptake'!$C$10),$C296+E295,0)","v":0},{"$f":"IF(AND($A296>='daily uptake'!$C$18,$A296<='daily uptake'!$C$20),$D296+F295,0)","v":1305.2777777777774},{"$f":"IF(AND($A296>='daily uptake'!$C$24,$A296<='daily uptake'!$C$25),$C296+G295,0)","v":0},{"$f":"IF(OR(F296<=I7,F296>I9),0,I8+(I10-I8)*(1-((I5+EXP(I6*(I4-I7)))/(I5+EXP(I6*(I4-F296))))^I5)/(1-((I5+EXP(I6*(I4-I7)))/(I5+EXP(I6*(I4-I9))))^I5))","v":0},{"$f":"IF(OR(F296<=J7,F296>J9),0,J8+(J10-J8)*(1-((J5+EXP(J6*(J4-J7)))/(J5+EXP(J6*(J4-F296))))^J5)/(1-((J5+EXP(J6*(J4-J7)))/(J5+EXP(J6*(J4-J9))))^J5))","v":0},{"$f":"IF(OR(F296<=J9,F296>100000),0,IF(F296<=K7,K8,K8+(K10-K8)*(1-((K5+EXP(K6*(K4-K7)))/(K5+EXP(K6*(K4-F296))))^K5)/(1-((K5+EXP(K6*(K4-K7)))/(K5+EXP(K6*(K4-K9))))^K5)))","v":332.82567108350571},332.82567108350571,218.4098968605494,0,0,"2011-08-12",{"$f":"MAX(L$12:L296)+MAX(M$12:M296)+MAX(N$12:N296)","v":358.4098968605494},"2011-08-12",3.5536849963800137,null,null,null,null,null,null,null,null,null,null,null,null,null,null,null,null,null,0,null,{"$f":"IF(OR(AJ296<=AM7,AJ296>AM9),0,AM8+(AM10-AM8)*(1-((AM5+EXP(AM6*(AM4-AM7)))/(AM5+EXP(AM6*(AM4-AJ296))))^AM5)/(1-((AM5+EXP(AM6*(AM4-AM7)))/(AM5+EXP(AM6*(AM4-AM9))))^AM5))","v":0},{"$f":"IF(OR(AJ296<=AN7,AJ296>AN9),0,AN8+(AN10-AN8)*(1-((AN5+EXP(AN6*(AN4-AN7)))/(AN5+EXP(AN6*(AN4-AJ296))))^AN5)/(1-((AN5+EXP(AN6*(AN4-AN7)))/(AN5+EXP(AN6*(AN4-AN9))))^AN5))","v":0},{"$f":"IF(OR(AJ296<=AN9,AJ296>100000),0,IF(AJ296<=AO7,AO8,AO8+(AO10-AO8)*(1-((AO5+EXP(AO6*(AO4-AO7)))/(AO5+EXP(AO6*(AO4-AJ296))))^AO5)/(1-((AO5+EXP(AO6*(AO4-AO7)))/(AO5+EXP(AO6*(AO4-AO9))))^AO5)))","v":0},0,0]
[286,{"$f":"'daily uptake'!F380","v":"2011-08-13"},{"$f":"5/9*'daily uptake'!Q380","v":23.611111111111111},{"$f":"5/9*'daily uptake'!N380","v":13.611111111111112},{"$f":"IF(AND($A297>='daily uptake'!$C$9,$A297<='daily uptake'!$C$10),$C297+E296,0)","v":0},{"$f":"IF(AND($A297>='daily uptake'!$C$18,$A297<='daily uptake'!$C$20),$D297+F296,0)","v":1318.8888888888885},{"$f":"IF(AND($A297>='daily uptake'!$C$24,$A297<='daily uptake'!$C$25),$C297+G296,0)","v":0},{"$f":"IF(OR(F297<=I7,F297>I9),0,I8+(I10-I8)*(1-((I5+EXP(I6*(I4-I7)))/(I5+EXP(I6*(I4-F297))))^I5)/(1-((I5+EXP(I6*(I4-I7)))/(I5+EXP(I6*(I4-I9))))^I5))","v":0},{"$f":"IF(OR(F297<=J7,F297>J9),0,J8+(J10-J8)*(1-((J5+EXP(J6*(J4-J7)))/(J5+EXP(J6*(J4-F297))))^J5)/(1-((J5+EXP(J6*(J4-J7)))/(J5+EXP(J6*(J4-J9))))^J5))","v":0},{"$f":"IF(OR(F297<=J9,F297>100000),0,IF(F297<=K7,K8,K8+(K10-K8)*(1-((K5+EXP(K6*(K4-K7)))/(K5+EXP(K6*(K4-F297))))^K5)/(1-((K5+EXP(K6*(K4-K7)))/(K5+EXP(K6*(K4-K9))))^K5)))","v":338.11341276641241},338.11341276641241,221.87986692574646,0,0,"2011-08-13",{"$f":"MAX(L$12:L297)+MAX(M$12:M297)+MAX(N$12:N297)","v":361.87986692574646},"2011-08-13",3.4699700651970602,null,null,null,null,null,null,null,null,null,null,null,null,null,null,null,null,null,0,null,{"$f":"IF(OR(AJ297<=AM7,AJ297>AM9),0,AM8+(AM10-AM8)*(1-((AM5+EXP(AM6*(AM4-AM7)))/(AM5+EXP(AM6*(AM4-AJ297))))^AM5)/(1-((AM5+EXP(AM6*(AM4-AM7)))/(AM5+EXP(AM6*(AM4-AM9))))^AM5))","v":0},{"$f":"IF(OR(AJ297<=AN7,AJ297>AN9),0,AN8+(AN10-AN8)*(1-((AN5+EXP(AN6*(AN4-AN7)))/(AN5+EXP(AN6*(AN4-AJ297))))^AN5)/(1-((AN5+EXP(AN6*(AN4-AN7)))/(AN5+EXP(AN6*(AN4-AN9))))^AN5))","v":0},{"$f":"IF(OR(AJ297<=AN9,AJ297>100000),0,IF(AJ297<=AO7,AO8,AO8+(AO10-AO8)*(1-((AO5+EXP(AO6*(AO4-AO7)))/(AO5+EXP(AO6*(AO4-AJ297))))^AO5)/(1-((AO5+EXP(AO6*(AO4-AO7)))/(AO5+EXP(AO6*(AO4-AO9))))^AO5)))","v":0},0,0]
[287,{"$f":"'daily uptake'!F381","v":"2011-08-14"},{"$f":"5/9*'daily uptake'!Q381","v":23.611111111111111},{"$f":"5/9*'daily uptake'!N381","v":13.611111111111112},{"$f":"IF(AND($A298>='daily uptake'!$C$9,$A298<='daily uptake'!$C$10),$C298+E297,0)","v":0},{"$f":"IF(AND($A298>='daily uptake'!$C$18,$A298<='daily uptake'!$C$20),$D298+F297,0)","v":1332.4999999999995},{"$f":"IF(AND($A298>='daily uptake'!$C$24,$A298<='daily uptake'!$C$25),$C298+G297,0)","v":0},{"$f":"IF(OR(F298<=I7,F298>I9),0,I8+(I10-I8)*(1-((I5+EXP(I6*(I4-I7)))/(I5+EXP(I6*(I4-F298))))^I5)/(1-((I5+EXP(I6*(I4-I7)))/(I5+EXP(I6*(I4-I9))))^I5))","v":0},{"$f":"IF(OR(F298<=J7,F298>J9),0,J8+(J10-J8)*(1-((J5+EXP(J6*(J4-J7)))/(J5+EXP(J6*(J4-F298))))^J5)/(1-((J5+EXP(J6*(J4-J7)))/(J5+EXP(J6*(J4-J9))))^J5))","v":0},{"$f":"IF(OR(F298<=J9,F298>100000),0,IF(F298<=K7,K8,K8+(K10-K8)*(1-((K5+EXP(K6*(K4-K7)))/(K5+EXP(K6*(K4-F298))))^K5)/(1-((K5+EXP(K6*(K4-K7)))/(K5+EXP(K6*(K4-K9))))^K5)))","v":343.2267804790867},343.2267804790867,225.23540771411021,0,0,"2011-08-14",{"$f":"MAX(L$12:L298)+MAX(M$12:M298)+MAX(N$12:N298)","v":365.23540771411024},"2011-08-14",3.3555407883637827,null,null,null,null,null,null,null,null,null,null,null,null,null,null,null,null,null,0,null,{"$f":"IF(OR(AJ298<=AM7,AJ298>AM9),0,AM8+(AM10-AM8)*(1-((AM5+EXP(AM6*(AM4-AM7)))/(AM5+EXP(AM6*(AM4-AJ298))))^AM5)/(1-((AM5+EXP(AM6*(AM4-AM7)))/(AM5+EXP(AM6*(AM4-AM9))))^AM5))","v":0},{"$f":"IF(OR(AJ298<=AN7,AJ298>AN9),0,AN8+(AN10-AN8)*(1-((AN5+EXP(AN6*(AN4-AN7)))/(AN5+EXP(AN6*(AN4-AJ298))))^AN5)/(1-((AN5+EXP(AN6*(AN4-AN7)))/(AN5+EXP(AN6*(AN4-AN9))))^AN5))","v":0},{"$f":"IF(OR(AJ298<=AN9,AJ298>100000),0,IF(AJ298<=AO7,AO8,AO8+(AO10-AO8)*(1-((AO5+EXP(AO6*(AO4-AO7)))/(AO5+EXP(AO6*(AO4-AJ298))))^AO5)/(1-((AO5+EXP(AO6*(AO4-AO7)))/(AO5+EXP(AO6*(AO4-AO9))))^AO5)))","v":0},0,0]
[288,{"$f":"'daily uptake'!F382","v":"2011-08-15"},{"$f":"5/9*'daily uptake'!Q382","v":23.333333333333336},{"$f":"5/9*'daily uptake'!N382","v":13.333333333333334},{"$f":"IF(AND($A299>='daily uptake'!$C$9,$A299<='daily uptake'!$C$10),$C299+E298,0)","v":0},{"$f":"IF(AND($A299>='daily uptake'!$C$18,$A299<='daily uptake'!$C$20),$D299+F298,0)","v":1345.8333333333328},{"$f":"IF(AND($A299>='daily uptake'!$C$24,$A299<='daily uptake'!$C$25),$C299+G298,0)","v":0},{"$f":"IF(OR(F299<=I7,F299>I9),0,I8+(I10-I8)*(1-((I5+EXP(I6*(I4-I7)))/(I5+EXP(I6*(I4-F299))))^I5)/(1-((I5+EXP(I6*(I4-I7)))/(I5+EXP(I6*(I4-I9))))^I5))","v":0},{"$f":"IF(OR(F299<=J7,F299>J9),0,J8+(J10-J8)*(1-((J5+EXP(J6*(J4-J7)))/(J5+EXP(J6*(J4-F299))))^J5)/(1-((J5+EXP(J6*(J4-J7)))/(J5+EXP(J6*(J4-J9))))^J5))","v":0},{"$f":"IF(OR(F299<=J9,F299>100000),0,IF(F299<=K7,K8,K8+(K10-K8)*(1-((K5+EXP(K6*(K4-K7)))/(K5+EXP(K6*(K4-F299))))^K5)/(1-((K5+EXP(K6*(K4-K7)))/(K5+EXP(K6*(K4-K9))))^K5)))","v":348.02225485209175},348.02225485209175,228.38233763629961,0,0,"2011-08-15",{"$f":"MAX(L$12:L299)+MAX(M$12:M299)+MAX(N$12:N299)","v":368.38233763629961},"2011-08-15",3.1469299221893721,null,null,null,null,null,null,null,null,null,null,null,null,null,null,null,null,null,0,null,{"$f":"IF(OR(AJ299<=AM7,AJ299>AM9),0,AM8+(AM10-AM8)*(1-((AM5+EXP(AM6*(AM4-AM7)))/(AM5+EXP(AM6*(AM4-AJ299))))^AM5)/(1-((AM5+EXP(AM6*(AM4-AM7)))/(AM5+EXP(AM6*(AM4-AM9))))^AM5))","v":0},{"$f":"IF(OR(AJ299<=AN7,AJ299>AN9),0,AN8+(AN10-AN8)*(1-((AN5+EXP(AN6*(AN4-AN7)))/(AN5+EXP(AN6*(AN4-AJ299))))^AN5)/(1-((AN5+EXP(AN6*(AN4-AN7)))/(AN5+EXP(AN6*(AN4-AN9))))^AN5))","v":0},{"$f":"IF(OR(AJ299<=AN9,AJ299>100000),0,IF(AJ299<=AO7,AO8,AO8+(AO10-AO8)*(1-((AO5+EXP(AO6*(AO4-AO7)))/(AO5+EXP(AO6*(AO4-AJ299))))^AO5)/(1-((AO5+EXP(AO6*(AO4-AO7)))/(AO5+EXP(AO6*(AO4-AO9))))^AO5)))","v":0},0,0]
[289,{"$f":"'daily uptake'!F383","v":"2011-08-16"},{"$f":"5/9*'daily uptake'!Q383","v":23.333333333333336},{"$f":"5/9*'daily uptake'!N383","v":13.333333333333334},{"$f":"IF(AND($A300>='daily uptake'!$C$9,$A300<='daily uptake'!$C$10),$C300+E299,0)","v":0},{"$f":"IF(AND($A300>='daily uptake'!$C$18,$A300<='daily uptake'!$C$20),$D300+F299,0)","v":1359.1666666666661},{"$f":"IF(AND($A300>='daily uptake'!$C$24,$A300<='daily uptake'!$C$25),$C300+G299,0)","v":0},{"$f":"IF(OR(F300<=I7,F300>I9),0,I8+(I10-I8)*(1-((I5+EXP(I6*(I4-I7)))/(I5+EXP(I6*(I4-F300))))^I5)/(1-((I5+EXP(I6*(I4-I7)))/(I5+EXP(I6*(I4-I9))))^I5))","v":0},{"$f":"IF(OR(F300<=J7,F300>J9),0,J8+(J10-J8)*(1-((J5+EXP(J6*(J4-J7)))/(J5+EXP(J6*(J4-F300))))^J5)/(1-((J5+EXP(J6*(J4-J7)))/(J5+EXP(J6*(J4-J9))))^J5))","v":0},{"$f":"IF(OR(F300<=J9,F300>100000),0,IF(F300<=K7,K8,K8+(K10-K8)*(1-((K5+EXP(K6*(K4-K7)))/(K5+EXP(K6*(K4-F300))))^K5)/(1-((K5+EXP(K6*(K4-K7)))/(K5+EXP(K6*(K4-K9))))^K5)))","v":352.56471123148066},352.56471123148066,231.363229783489,0,0,"2011-08-16",{"$f":"MAX(L$12:L300)+MAX(M$12:M300)+MAX(N$12:N300)","v":371.36322978348903},"2011-08-16",2.9808921471894223,null,null,null,null,null,null,null,null,null,null,null,null,null,null,null,null,null,0,null,{"$f":"IF(OR(AJ300<=AM7,AJ300>AM9),0,AM8+(AM10-AM8)*(1-((AM5+EXP(AM6*(AM4-AM7)))/(AM5+EXP(AM6*(AM4-AJ300))))^AM5)/(1-((AM5+EXP(AM6*(AM4-AM7)))/(AM5+EXP(AM6*(AM4-AM9))))^AM5))","v":0},{"$f":"IF(OR(AJ300<=AN7,AJ300>AN9),0,AN8+(AN10-AN8)*(1-((AN5+EXP(AN6*(AN4-AN7)))/(AN5+EXP(AN6*(AN4-AJ300))))^AN5)/(1-((AN5+EXP(AN6*(AN4-AN7)))/(AN5+EXP(AN6*(AN4-AN9))))^AN5))","v":0},{"$f":"IF(OR(AJ300<=AN9,AJ300>100000),0,IF(AJ300<=AO7,AO8,AO8+(AO10-AO8)*(1-((AO5+EXP(AO6*(AO4-AO7)))/(AO5+EXP(AO6*(AO4-AJ300))))^AO5)/(1-((AO5+EXP(AO6*(AO4-AO7)))/(AO5+EXP(AO6*(AO4-AO9))))^AO5)))","v":0},0,0]
[290,{"$f":"'daily uptake'!F384","v":"2011-08-17"},{"$f":"5/9*'daily uptake'!Q384","v":22.777777777777779},{"$f":"5/9*'daily uptake'!N384","v":12.777777777777779},{"$f":"IF(AND($A301>='daily uptake'!$C$9,$A301<='daily uptake'!$C$10),$C301+E300,0)","v":0},{"$f":"IF(AND($A301>='daily uptake'!$C$18,$A301<='daily uptake'!$C$20),$D301+F300,0)","v":1371.9444444444439},{"$f":"IF(AND($A301>='daily uptake'!$C$24,$A301<='daily uptake'!$C$25),$C301+G300,0)","v":0},{"$f":"IF(OR(F301<=I7,F301>I9),0,I8+(I10-I8)*(1-((I5+EXP(I6*(I4-I7)))/(I5+EXP(I6*(I4-F301))))^I5)/(1-((I5+EXP(I6*(I4-I7)))/(I5+EXP(I6*(I4-I9))))^I5))","v":0},{"$f":"IF(OR(F301<=J7,F301>J9),0,J8+(J10-J8)*(1-((J5+EXP(J6*(J4-J7)))/(J5+EXP(J6*(J4-F301))))^J5)/(1-((J5+EXP(J6*(J4-J7)))/(J5+EXP(J6*(J4-J9))))^J5))","v":0},{"$f":"IF(OR(F301<=J9,F301>100000),0,IF(F301<=K7,K8,K8+(K10-K8)*(1-((K5+EXP(K6*(K4-K7)))/(K5+EXP(K6*(K4-F301))))^K5)/(1-((K5+EXP(K6*(K4-K7)))/(K5+EXP(K6*(K4-K9))))^K5)))","v":356.64538526945722},356.64538526945722,234.04108691168022,0,0,"2011-08-17",{"$f":"MAX(L$12:L301)+MAX(M$12:M301)+MAX(N$12:N301)","v":374.04108691168022},"2011-08-17",2.6778571281911923,null,null,null,null,null,null,null,null,null,null,null,null,null,null,null,null,null,0,null,{"$f":"IF(OR(AJ301<=AM7,AJ301>AM9),0,AM8+(AM10-AM8)*(1-((AM5+EXP(AM6*(AM4-AM7)))/(AM5+EXP(AM6*(AM4-AJ301))))^AM5)/(1-((AM5+EXP(AM6*(AM4-AM7)))/(AM5+EXP(AM6*(AM4-AM9))))^AM5))","v":0},{"$f":"IF(OR(AJ301<=AN7,AJ301>AN9),0,AN8+(AN10-AN8)*(1-((AN5+EXP(AN6*(AN4-AN7)))/(AN5+EXP(AN6*(AN4-AJ301))))^AN5)/(1-((AN5+EXP(AN6*(AN4-AN7)))/(AN5+EXP(AN6*(AN4-AN9))))^AN5))","v":0},{"$f":"IF(OR(AJ301<=AN9,AJ301>100000),0,IF(AJ301<=AO7,AO8,AO8+(AO10-AO8)*(1-((AO5+EXP(AO6*(AO4-AO7)))/(AO5+EXP(AO6*(AO4-AJ301))))^AO5)/(1-((AO5+EXP(AO6*(AO4-AO7)))/(AO5+EXP(AO6*(AO4-AO9))))^AO5)))","v":0},0,0]
[291,{"$f":"'daily uptake'!F385","v":"2011-08-18"},{"$f":"5/9*'daily uptake'!Q385","v":22.222222222222221},{"$f":"5/9*'daily uptake'!N385","v":12.222222222222223},{"$f":"IF(AND($A302>='daily uptake'!$C$9,$A302<='daily uptake'!$C$10),$C302+E301,0)","v":0},{"$f":"IF(AND($A302>='daily uptake'!$C$18,$A302<='daily uptake'!$C$20),$D302+F301,0)","v":1384.1666666666661},{"$f":"IF(AND($A302>='daily uptake'!$C$24,$A302<='daily uptake'!$C$25),$C302+G301,0)","v":0},{"$f":"IF(OR(F302<=I7,F302>I9),0,I8+(I10-I8)*(1-((I5+EXP(I6*(I4-I7)))/(I5+EXP(I6*(I4-F302))))^I5)/(1-((I5+EXP(I6*(I4-I7)))/(I5+EXP(I6*(I4-I9))))^I5))","v":0},{"$f":"IF(OR(F302<=J7,F302>J9),0,J8+(J10-J8)*(1-((J5+EXP(J6*(J4-J7)))/(J5+EXP(J6*(J4-F302))))^J5)/(1-((J5+EXP(J6*(J4-J7)))/(J5+EXP(J6*(J4-J9))))^J5))","v":0},{"$f":"IF(OR(F302<=J9,F302>100000),0,IF(F302<=K7,K8,K8+(K10-K8)*(1-((K5+EXP(K6*(K4-K7)))/(K5+EXP(K6*(K4-F302))))^K5)/(1-((K5+EXP(K6*(K4-K7)))/(K5+EXP(K6*(K4-K9))))^K5)))","v":360.27181725464754},360.27181725464754,236.42085717783405,0,0,"2011-08-18",{"$f":"MAX(L$12:L302)+MAX(M$12:M302)+MAX(N$12:N302)","v":376.42085717783402},"2011-08-18",2.3797702661537983,null,null,null,null,null,null,null,null,null,null,null,null,null,null,null,null,null,0,null,{"$f":"IF(OR(AJ302<=AM7,AJ302>AM9),0,AM8+(AM10-AM8)*(1-((AM5+EXP(AM6*(AM4-AM7)))/(AM5+EXP(AM6*(AM4-AJ302))))^AM5)/(1-((AM5+EXP(AM6*(AM4-AM7)))/(AM5+EXP(AM6*(AM4-AM9))))^AM5))","v":0},{"$f":"IF(OR(AJ302<=AN7,AJ302>AN9),0,AN8+(AN10-AN8)*(1-((AN5+EXP(AN6*(AN4-AN7)))/(AN5+EXP(AN6*(AN4-AJ302))))^AN5)/(1-((AN5+EXP(AN6*(AN4-AN7)))/(AN5+EXP(AN6*(AN4-AN9))))^AN5))","v":0},{"$f":"IF(OR(AJ302<=AN9,AJ302>100000),0,IF(AJ302<=AO7,AO8,AO8+(AO10-AO8)*(1-((AO5+EXP(AO6*(AO4-AO7)))/(AO5+EXP(AO6*(AO4-AJ302))))^AO5)/(1-((AO5+EXP(AO6*(AO4-AO7)))/(AO5+EXP(AO6*(AO4-AO9))))^AO5)))","v":0},0,0]
[292,{"$f":"'daily uptake'!F386","v":"2011-08-19"},{"$f":"5/9*'daily uptake'!Q386","v":22.222222222222221},{"$f":"5/9*'daily uptake'!N386","v":12.222222222222223},{"$f":"IF(AND($A303>='daily uptake'!$C$9,$A303<='daily uptake'!$C$10),$C303+E302,0)","v":0},{"$f":"IF(AND($A303>='daily uptake'!$C$18,$A303<='daily uptake'!$C$20),$D303+F302,0)","v":1396.3888888888882},{"$f":"IF(AND($A303>='daily uptake'!$C$24,$A303<='daily uptake'!$C$25),$C303+G302,0)","v":0},{"$f":"IF(OR(F303<=I7,F303>I9),0,I8+(I10-I8)*(1-((I5+EXP(I6*(I4-I7)))/(I5+EXP(I6*(I4-F303))))^I5)/(1-((I5+EXP(I6*(I4-I7)))/(I5+EXP(I6*(I4-I9))))^I5))","v":0},{"$f":"IF(OR(F303<=J7,F303>J9),0,J8+(J10-J8)*(1-((J5+EXP(J6*(J4-J7)))/(J5+EXP(J6*(J4-F303))))^J5)/(1-((J5+EXP(J6*(J4-J7)))/(J5+EXP(J6*(J4-J9))))^J5))","v":0},{"$f":"IF(OR(F303<=J9,F303>100000),0,IF(F303<=K7,K8,K8+(K10-K8)*(1-((K5+EXP(K6*(K4-K7)))/(K5+EXP(K6*(K4-F303))))^K5)/(1-((K5+EXP(K6*(K4-K7)))/(K5+EXP(K6*(K4-K9))))^K5)))","v":363.60645517724413},363.60645517724413,238.60914368341091,0,0,"2011-08-19",{"$f":"MAX(L$12:L303)+MAX(M$12:M303)+MAX(N$12:N303)","v":378.60914368341093},"2011-08-19",2.1882865055769116,null,null,null,null,null,null,null,null,null,null,null,null,null,null,null,null,null,0,null,{"$f":"IF(OR(AJ303<=AM7,AJ303>AM9),0,AM8+(AM10-AM8)*(1-((AM5+EXP(AM6*(AM4-AM7)))/(AM5+EXP(AM6*(AM4-AJ303))))^AM5)/(1-((AM5+EXP(AM6*(AM4-AM7)))/(AM5+EXP(AM6*(AM4-AM9))))^AM5))","v":0},{"$f":"IF(OR(AJ303<=AN7,AJ303>AN9),0,AN8+(AN10-AN8)*(1-((AN5+EXP(AN6*(AN4-AN7)))/(AN5+EXP(AN6*(AN4-AJ303))))^AN5)/(1-((AN5+EXP(AN6*(AN4-AN7)))/(AN5+EXP(AN6*(AN4-AN9))))^AN5))","v":0},{"$f":"IF(OR(AJ303<=AN9,AJ303>100000),0,IF(AJ303<=AO7,AO8,AO8+(AO10-AO8)*(1-((AO5+EXP(AO6*(AO4-AO7)))/(AO5+EXP(AO6*(AO4-AJ303))))^AO5)/(1-((AO5+EXP(AO6*(AO4-AO7)))/(AO5+EXP(AO6*(AO4-AO9))))^AO5)))","v":0},0,0]
[293,{"$f":"'daily uptake'!F387","v":"2011-08-20"},{"$f":"5/9*'daily uptake'!Q387","v":22.222222222222221},{"$f":"5/9*'daily uptake'!N387","v":12.222222222222223},{"$f":"IF(AND($A304>='daily uptake'!$C$9,$A304<='daily uptake'!$C$10),$C304+E303,0)","v":0},{"$f":"IF(AND($A304>='daily uptake'!$C$18,$A304<='daily uptake'!$C$20),$D304+F303,0)","v":1408.6111111111104},{"$f":"IF(AND($A304>='daily uptake'!$C$24,$A304<='daily uptake'!$C$25),$C304+G303,0)","v":0},{"$f":"IF(OR(F304<=I7,F304>I9),0,I8+(I10-I8)*(1-((I5+EXP(I6*(I4-I7)))/(I5+EXP(I6*(I4-F304))))^I5)/(1-((I5+EXP(I6*(I4-I7)))/(I5+EXP(I6*(I4-I9))))^I5))","v":0},{"$f":"IF(OR(F304<=J7,F304>J9),0,J8+(J10-J8)*(1-((J5+EXP(J6*(J4-J7)))/(J5+EXP(J6*(J4-F304))))^J5)/(1-((J5+EXP(J6*(J4-J7)))/(J5+EXP(J6*(J4-J9))))^J5))","v":0},{"$f":"IF(OR(F304<=J9,F304>100000),0,IF(F304<=K7,K8,K8+(K10-K8)*(1-((K5+EXP(K6*(K4-K7)))/(K5+EXP(K6*(K4-F304))))^K5)/(1-((K5+EXP(K6*(K4-K7)))/(K5+EXP(K6*(K4-K9))))^K5)))","v":366.63394999948127},366.63394999948127,240.59587394288283,0,0,"2011-08-20",{"$f":"MAX(L$12:L304)+MAX(M$12:M304)+MAX(N$12:N304)","v":380.5958739428828},"2011-08-20",1.9867302594718694,null,null,null,null,null,null,null,null,null,null,null,null,null,null,null,null,null,0,null,{"$f":"IF(OR(AJ304<=AM7,AJ304>AM9),0,AM8+(AM10-AM8)*(1-((AM5+EXP(AM6*(AM4-AM7)))/(AM5+EXP(AM6*(AM4-AJ304))))^AM5)/(1-((AM5+EXP(AM6*(AM4-AM7)))/(AM5+EXP(AM6*(AM4-AM9))))^AM5))","v":0},{"$f":"IF(OR(AJ304<=AN7,AJ304>AN9),0,AN8+(AN10-AN8)*(1-((AN5+EXP(AN6*(AN4-AN7)))/(AN5+EXP(AN6*(AN4-AJ304))))^AN5)/(1-((AN5+EXP(AN6*(AN4-AN7)))/(AN5+EXP(AN6*(AN4-AN9))))^AN5))","v":0},{"$f":"IF(OR(AJ304<=AN9,AJ304>100000),0,IF(AJ304<=AO7,AO8,AO8+(AO10-AO8)*(1-((AO5+EXP(AO6*(AO4-AO7)))/(AO5+EXP(AO6*(AO4-AJ304))))^AO5)/(1-((AO5+EXP(AO6*(AO4-AO7)))/(AO5+EXP(AO6*(AO4-AO9))))^AO5)))","v":0},0,0]
[294,{"$f":"'daily uptake'!F388","v":"2011-08-21"},{"$f":"5/9*'daily uptake'!Q388","v":23.055555555555557},{"$f":"5/9*'daily uptake'!N388","v":13.055555555555555},{"$f":"IF(AND($A305>='daily uptake'!$C$9,$A305<='daily uptake'!$C$10),$C305+E304,0)","v":0},{"$f":"IF(AND($A305>='daily uptake'!$C$18,$A305<='daily uptake'!$C$20),$D305+F304,0)","v":1421.6666666666661},{"$f":"IF(AND($A305>='daily uptake'!$C$24,$A305<='daily uptake'!$C$25),$C305+G304,0)","v":0},{"$f":"IF(OR(F305<=I7,F305>I9),0,I8+(I10-I8)*(1-((I5+EXP(I6*(I4-I7)))/(I5+EXP(I6*(I4-F305))))^I5)/(1-((I5+EXP(I6*(I4-I7)))/(I5+EXP(I6*(I4-I9))))^I5))","v":0},{"$f":"IF(OR(F305<=J7,F305>J9),0,J8+(J10-J8)*(1-((J5+EXP(J6*(J4-J7)))/(J5+EXP(J6*(J4-F305))))^J5)/(1-((J5+EXP(J6*(J4-J7)))/(J5+EXP(J6*(J4-J9))))^J5))","v":0},{"$f":"IF(OR(F305<=J9,F305>100000),0,IF(F305<=K7,K8,K8+(K10-K8)*(1-((K5+EXP(K6*(K4-K7)))/(K5+EXP(K6*(K4-F305))))^K5)/(1-((K5+EXP(K6*(K4-K7)))/(K5+EXP(K6*(K4-K9))))^K5)))","v":369.51826217945302},369.51826217945302,242.48864358318863,0,0,"2011-08-21",{"$f":"MAX(L$12:L305)+MAX(M$12:M305)+MAX(N$12:N305)","v":382.4886435831886},"2011-08-21",1.8927696403058007,null,null,null,null,null,null,null,null,null,null,null,null,null,null,null,null,null,0,null,{"$f":"IF(OR(AJ305<=AM7,AJ305>AM9),0,AM8+(AM10-AM8)*(1-((AM5+EXP(AM6*(AM4-AM7)))/(AM5+EXP(AM6*(AM4-AJ305))))^AM5)/(1-((AM5+EXP(AM6*(AM4-AM7)))/(AM5+EXP(AM6*(AM4-AM9))))^AM5))","v":0},{"$f":"IF(OR(AJ305<=AN7,AJ305>AN9),0,AN8+(AN10-AN8)*(1-((AN5+EXP(AN6*(AN4-AN7)))/(AN5+EXP(AN6*(AN4-AJ305))))^AN5)/(1-((AN5+EXP(AN6*(AN4-AN7)))/(AN5+EXP(AN6*(AN4-AN9))))^AN5))","v":0},{"$f":"IF(OR(AJ305<=AN9,AJ305>100000),0,IF(AJ305<=AO7,AO8,AO8+(AO10-AO8)*(1-((AO5+EXP(AO6*(AO4-AO7)))/(AO5+EXP(AO6*(AO4-AJ305))))^AO5)/(1-((AO5+EXP(AO6*(AO4-AO7)))/(AO5+EXP(AO6*(AO4-AO9))))^AO5)))","v":0},0,0]
[295,{"$f":"'daily uptake'!F389","v":"2011-08-22"},{"$f":"5/9*'daily uptake'!Q389","v":23.055555555555557},{"$f":"5/9*'daily uptake'!N389","v":13.055555555555555},{"$f":"IF(AND($A306>='daily uptake'!$C$9,$A306<='daily uptake'!$C$10),$C306+E305,0)","v":0},{"$f":"IF(AND($A306>='daily uptake'!$C$18,$A306<='daily uptake'!$C$20),$D306+F305,0)","v":1434.7222222222217},{"$f":"IF(AND($A306>='daily uptake'!$C$24,$A306<='daily uptake'!$C$25),$C306+G305,0)","v":0},{"$f":"IF(OR(F306<=I7,F306>I9),0,I8+(I10-I8)*(1-((I5+EXP(I6*(I4-I7)))/(I5+EXP(I6*(I4-F306))))^I5)/(1-((I5+EXP(I6*(I4-I7)))/(I5+EXP(I6*(I4-I9))))^I5))","v":0},{"$f":"IF(OR(F306<=J7,F306>J9),0,J8+(J10-J8)*(1-((J5+EXP(J6*(J4-J7)))/(J5+EXP(J6*(J4-F306))))^J5)/(1-((J5+EXP(J6*(J4-J7)))/(J5+EXP(J6*(J4-J9))))^J5))","v":0},{"$f":"IF(OR(F306<=J9,F306>100000),0,IF(F306<=K7,K8,K8+(K10-K8)*(1-((K5+EXP(K6*(K4-K7)))/(K5+EXP(K6*(K4-F306))))^K5)/(1-((K5+EXP(K6*(K4-K7)))/(K5+EXP(K6*(K4-K9))))^K5)))","v":372.038624991853},372.038624991853,244.1425790507125,0,0,"2011-08-22",{"$f":"MAX(L$12:L306)+MAX(M$12:M306)+MAX(N$12:N306)","v":384.14257905071247},"2011-08-22",1.6539354675238656,null,null,null,null,null,null,null,null,null,null,null,null,null,null,null,null,null,0,null,{"$f":"IF(OR(AJ306<=AM7,AJ306>AM9),0,AM8+(AM10-AM8)*(1-((AM5+EXP(AM6*(AM4-AM7)))/(AM5+EXP(AM6*(AM4-AJ306))))^AM5)/(1-((AM5+EXP(AM6*(AM4-AM7)))/(AM5+EXP(AM6*(AM4-AM9))))^AM5))","v":0},{"$f":"IF(OR(AJ306<=AN7,AJ306>AN9),0,AN8+(AN10-AN8)*(1-((AN5+EXP(AN6*(AN4-AN7)))/(AN5+EXP(AN6*(AN4-AJ306))))^AN5)/(1-((AN5+EXP(AN6*(AN4-AN7)))/(AN5+EXP(AN6*(AN4-AN9))))^AN5))","v":0},{"$f":"IF(OR(AJ306<=AN9,AJ306>100000),0,IF(AJ306<=AO7,AO8,AO8+(AO10-AO8)*(1-((AO5+EXP(AO6*(AO4-AO7)))/(AO5+EXP(AO6*(AO4-AJ306))))^AO5)/(1-((AO5+EXP(AO6*(AO4-AO7)))/(AO5+EXP(AO6*(AO4-AO9))))^AO5)))","v":0},0,0]
[296,{"$f":"'daily uptake'!F390","v":"2011-08-23"},{"$f":"5/9*'daily uptake'!Q390","v":23.333333333333336},{"$f":"5/9*'daily uptake'!N390","v":13.333333333333334},{"$f":"IF(AND($A307>='daily uptake'!$C$9,$A307<='daily uptake'!$C$10),$C307+E306,0)","v":0},{"$f":"IF(AND($A307>='daily uptake'!$C$18,$A307<='daily uptake'!$C$20),$D307+F306,0)","v":1448.055555555555},{"$f":"IF(AND($A307>='daily uptake'!$C$24,$A307<='daily uptake'!$C$25),$C307+G306,0)","v":0},{"$f":"IF(OR(F307<=I7,F307>I9),0,I8+(I10-I8)*(1-((I5+EXP(I6*(I4-I7)))/(I5+EXP(I6*(I4-F307))))^I5)/(1-((I5+EXP(I6*(I4-I7)))/(I5+EXP(I6*(I4-I9))))^I5))","v":0},{"$f":"IF(OR(F307<=J7,F307>J9),0,J8+(J10-J8)*(1-((J5+EXP(J6*(J4-J7)))/(J5+EXP(J6*(J4-F307))))^J5)/(1-((J5+EXP(J6*(J4-J7)))/(J5+EXP(J6*(J4-J9))))^J5))","v":0},{"$f":"IF(OR(F307<=J9,F307>100000),0,IF(F307<=K7,K8,K8+(K10-K8)*(1-((K5+EXP(K6*(K4-K7)))/(K5+EXP(K6*(K4-F307))))^K5)/(1-((K5+EXP(K6*(K4-K7)))/(K5+EXP(K6*(K4-K9))))^K5)))","v":374.24296231651357},374.24296231651357,245.58912939088796,0,0,"2011-08-23",{"$f":"MAX(L$12:L307)+MAX(M$12:M307)+MAX(N$12:N307)","v":385.58912939088793},"2011-08-23",1.4465503401754631,null,null,null,null,null,null,null,null,null,null,null,null,null,null,null,null,null,0,null,{"$f":"IF(OR(AJ307<=AM7,AJ307>AM9),0,AM8+(AM10-AM8)*(1-((AM5+EXP(AM6*(AM4-AM7)))/(AM5+EXP(AM6*(AM4-AJ307))))^AM5)/(1-((AM5+EXP(AM6*(AM4-AM7)))/(AM5+EXP(AM6*(AM4-AM9))))^AM5))","v":0},{"$f":"IF(OR(AJ307<=AN7,AJ307>AN9),0,AN8+(AN10-AN8)*(1-((AN5+EXP(AN6*(AN4-AN7)))/(AN5+EXP(AN6*(AN4-AJ307))))^AN5)/(1-((AN5+EXP(AN6*(AN4-AN7)))/(AN5+EXP(AN6*(AN4-AN9))))^AN5))","v":0},{"$f":"IF(OR(AJ307<=AN9,AJ307>100000),0,IF(AJ307<=AO7,AO8,AO8+(AO10-AO8)*(1-((AO5+EXP(AO6*(AO4-AO7)))/(AO5+EXP(AO6*(AO4-AJ307))))^AO5)/(1-((AO5+EXP(AO6*(AO4-AO7)))/(AO5+EXP(AO6*(AO4-AO9))))^AO5)))","v":0},0,0]
[297,{"$f":"'daily uptake'!F391","v":"2011-08-24"},{"$f":"5/9*'daily uptake'!Q391","v":23.055555555555557},{"$f":"5/9*'daily uptake'!N391","v":13.055555555555555},{"$f":"IF(AND($A308>='daily uptake'!$C$9,$A308<='daily uptake'!$C$10),$C308+E307,0)","v":0},{"$f":"IF(AND($A308>='daily uptake'!$C$18,$A308<='daily uptake'!$C$20),$D308+F307,0)","v":1461.1111111111106},{"$f":"IF(AND($A308>='daily uptake'!$C$24,$A308<='daily uptake'!$C$25),$C308+G307,0)","v":0},{"$f":"IF(OR(F308<=I7,F308>I9),0,I8+(I10-I8)*(1-((I5+EXP(I6*(I4-I7)))/(I5+EXP(I6*(I4-F308))))^I5)/(1-((I5+EXP(I6*(I4-I7)))/(I5+EXP(I6*(I4-I9))))^I5))","v":0},{"$f":"IF(OR(F308<=J7,F308>J9),0,J8+(J10-J8)*(1-((J5+EXP(J6*(J4-J7)))/(J5+EXP(J6*(J4-F308))))^J5)/(1-((J5+EXP(J6*(J4-J7)))/(J5+EXP(J6*(J4-J9))))^J5))","v":0},{"$f":"IF(OR(F308<=J9,F308>100000),0,IF(F308<=K7,K8,K8+(K10-K8)*(1-((K5+EXP(K6*(K4-K7)))/(K5+EXP(K6*(K4-F308))))^K5)/(1-((K5+EXP(K6*(K4-K7)))/(K5+EXP(K6*(K4-K9))))^K5)))","v":376.05397966890075},376.05397966890075,246.77757171223857,0,0,"2011-08-24",{"$f":"MAX(L$12:L308)+MAX(M$12:M308)+MAX(N$12:N308)","v":386.77757171223857},"2011-08-24",1.1884423213506352,null,null,null,null,null,null,null,null,null,null,null,null,null,null,null,null,null,0,null,{"$f":"IF(OR(AJ308<=AM7,AJ308>AM9),0,AM8+(AM10-AM8)*(1-((AM5+EXP(AM6*(AM4-AM7)))/(AM5+EXP(AM6*(AM4-AJ308))))^AM5)/(1-((AM5+EXP(AM6*(AM4-AM7)))/(AM5+EXP(AM6*(AM4-AM9))))^AM5))","v":0},{"$f":"IF(OR(AJ308<=AN7,AJ308>AN9),0,AN8+(AN10-AN8)*(1-((AN5+EXP(AN6*(AN4-AN7)))/(AN5+EXP(AN6*(AN4-AJ308))))^AN5)/(1-((AN5+EXP(AN6*(AN4-AN7)))/(AN5+EXP(AN6*(AN4-AN9))))^AN5))","v":0},{"$f":"IF(OR(AJ308<=AN9,AJ308>100000),0,IF(AJ308<=AO7,AO8,AO8+(AO10-AO8)*(1-((AO5+EXP(AO6*(AO4-AO7)))/(AO5+EXP(AO6*(AO4-AJ308))))^AO5)/(1-((AO5+EXP(AO6*(AO4-AO7)))/(AO5+EXP(AO6*(AO4-AO9))))^AO5)))","v":0},0,0]
[298,{"$f":"'daily uptake'!F392","v":"2011-08-25"},{"$f":"5/9*'daily uptake'!Q392","v":23.333333333333336},{"$f":"5/9*'daily uptake'!N392","v":13.333333333333334},{"$f":"IF(AND($A309>='daily uptake'!$C$9,$A309<='daily uptake'!$C$10),$C309+E308,0)","v":0},{"$f":"IF(AND($A309>='daily uptake'!$C$18,$A309<='daily uptake'!$C$20),$D309+F308,0)","v":1474.4444444444439},{"$f":"IF(AND($A309>='daily uptake'!$C$24,$A309<='daily uptake'!$C$25),$C309+G308,0)","v":0},{"$f":"IF(OR(F309<=I7,F309>I9),0,I8+(I10-I8)*(1-((I5+EXP(I6*(I4-I7)))/(I5+EXP(I6*(I4-F309))))^I5)/(1-((I5+EXP(I6*(I4-I7)))/(I5+EXP(I6*(I4-I9))))^I5))","v":0},{"$f":"IF(OR(F309<=J7,F309>J9),0,J8+(J10-J8)*(1-((J5+EXP(J6*(J4-J7)))/(J5+EXP(J6*(J4-F309))))^J5)/(1-((J5+EXP(J6*(J4-J7)))/(J5+EXP(J6*(J4-J9))))^J5))","v":0},{"$f":"IF(OR(F309<=J9,F309>100000),0,IF(F309<=K7,K8,K8+(K10-K8)*(1-((K5+EXP(K6*(K4-K7)))/(K5+EXP(K6*(K4-F309))))^K5)/(1-((K5+EXP(K6*(K4-K7)))/(K5+EXP(K6*(K4-K9))))^K5)))","v":377.57186679462723},377.57186679462723,247.77365344324389,0,0,"2011-08-25",{"$f":"MAX(L$12:L309)+MAX(M$12:M309)+MAX(N$12:N309)","v":387.77365344324392},"2011-08-25",0.99608173100534714,null,null,null,null,null,null,null,null,null,null,null,null,null,null,null,null,null,0,null,{"$f":"IF(OR(AJ309<=AM7,AJ309>AM9),0,AM8+(AM10-AM8)*(1-((AM5+EXP(AM6*(AM4-AM7)))/(AM5+EXP(AM6*(AM4-AJ309))))^AM5)/(1-((AM5+EXP(AM6*(AM4-AM7)))/(AM5+EXP(AM6*(AM4-AM9))))^AM5))","v":0},{"$f":"IF(OR(AJ309<=AN7,AJ309>AN9),0,AN8+(AN10-AN8)*(1-((AN5+EXP(AN6*(AN4-AN7)))/(AN5+EXP(AN6*(AN4-AJ309))))^AN5)/(1-((AN5+EXP(AN6*(AN4-AN7)))/(AN5+EXP(AN6*(AN4-AN9))))^AN5))","v":0},{"$f":"IF(OR(AJ309<=AN9,AJ309>100000),0,IF(AJ309<=AO7,AO8,AO8+(AO10-AO8)*(1-((AO5+EXP(AO6*(AO4-AO7)))/(AO5+EXP(AO6*(AO4-AJ309))))^AO5)/(1-((AO5+EXP(AO6*(AO4-AO7)))/(AO5+EXP(AO6*(AO4-AO9))))^AO5)))","v":0},0,0]
[299,{"$f":"'daily uptake'!F393","v":"2011-08-26"},{"$f":"5/9*'daily uptake'!Q393","v":23.055555555555557},{"$f":"5/9*'daily uptake'!N393","v":13.055555555555555},{"$f":"IF(AND($A310>='daily uptake'!$C$9,$A310<='daily uptake'!$C$10),$C310+E309,0)","v":0},{"$f":"IF(AND($A310>='daily uptake'!$C$18,$A310<='daily uptake'!$C$20),$D310+F309,0)","v":1487.4999999999995},{"$f":"IF(AND($A310>='daily uptake'!$C$24,$A310<='daily uptake'!$C$25),$C310+G309,0)","v":0},{"$f":"IF(OR(F310<=I7,F310>I9),0,I8+(I10-I8)*(1-((I5+EXP(I6*(I4-I7)))/(I5+EXP(I6*(I4-F310))))^I5)/(1-((I5+EXP(I6*(I4-I7)))/(I5+EXP(I6*(I4-I9))))^I5))","v":0},{"$f":"IF(OR(F310<=J7,F310>J9),0,J8+(J10-J8)*(1-((J5+EXP(J6*(J4-J7)))/(J5+EXP(J6*(J4-F310))))^J5)/(1-((J5+EXP(J6*(J4-J7)))/(J5+EXP(J6*(J4-J9))))^J5))","v":0},{"$f":"IF(OR(F310<=J9,F310>100000),0,IF(F310<=K7,K8,K8+(K10-K8)*(1-((K5+EXP(K6*(K4-K7)))/(K5+EXP(K6*(K4-F310))))^K5)/(1-((K5+EXP(K6*(K4-K7)))/(K5+EXP(K6*(K4-K9))))^K5)))","v":378.76250075717167},378.76250075717167,248.55498211933858,0,0,"2011-08-26",{"$f":"MAX(L$12:L310)+MAX(M$12:M310)+MAX(N$12:N310)","v":388.55498211933855},"2011-08-26",0.78132867609463119,null,null,null,null,null,null,null,null,null,null,null,null,null,null,null,null,null,0,null,{"$f":"IF(OR(AJ310<=AM7,AJ310>AM9),0,AM8+(AM10-AM8)*(1-((AM5+EXP(AM6*(AM4-AM7)))/(AM5+EXP(AM6*(AM4-AJ310))))^AM5)/(1-((AM5+EXP(AM6*(AM4-AM7)))/(AM5+EXP(AM6*(AM4-AM9))))^AM5))","v":0},{"$f":"IF(OR(AJ310<=AN7,AJ310>AN9),0,AN8+(AN10-AN8)*(1-((AN5+EXP(AN6*(AN4-AN7)))/(AN5+EXP(AN6*(AN4-AJ310))))^AN5)/(1-((AN5+EXP(AN6*(AN4-AN7)))/(AN5+EXP(AN6*(AN4-AN9))))^AN5))","v":0},{"$f":"IF(OR(AJ310<=AN9,AJ310>100000),0,IF(AJ310<=AO7,AO8,AO8+(AO10-AO8)*(1-((AO5+EXP(AO6*(AO4-AO7)))/(AO5+EXP(AO6*(AO4-AJ310))))^AO5)/(1-((AO5+EXP(AO6*(AO4-AO7)))/(AO5+EXP(AO6*(AO4-AO9))))^AO5)))","v":0},0,0]
[300,{"$f":"'daily uptake'!F394","v":"2011-08-27"},{"$f":"5/9*'daily uptake'!Q394","v":23.333333333333336},{"$f":"5/9*'daily uptake'!N394","v":13.333333333333334},{"$f":"IF(AND($A311>='daily uptake'!$C$9,$A311<='daily uptake'!$C$10),$C311+E310,0)","v":0},{"$f":"IF(AND($A311>='daily uptake'!$C$18,$A311<='daily uptake'!$C$20),$D311+F310,0)","v":1500.8333333333328},{"$f":"IF(AND($A311>='daily uptake'!$C$24,$A311<='daily uptake'!$C$25),$C311+G310,0)","v":0},{"$f":"IF(OR(F311<=I7,F311>I9),0,I8+(I10-I8)*(1-((I5+EXP(I6*(I4-I7)))/(I5+EXP(I6*(I4-F311))))^I5)/(1-((I5+EXP(I6*(I4-I7)))/(I5+EXP(I6*(I4-I9))))^I5))","v":0},{"$f":"IF(OR(F311<=J7,F311>J9),0,J8+(J10-J8)*(1-((J5+EXP(J6*(J4-J7)))/(J5+EXP(J6*(J4-F311))))^J5)/(1-((J5+EXP(J6*(J4-J7)))/(J5+EXP(J6*(J4-J9))))^J5))","v":0},{"$f":"IF(OR(F311<=J9,F311>100000),0,IF(F311<=K7,K8,K8+(K10-K8)*(1-((K5+EXP(K6*(K4-K7)))/(K5+EXP(K6*(K4-F311))))^K5)/(1-((K5+EXP(K6*(K4-K7)))/(K5+EXP(K6*(K4-K9))))^K5)))","v":379.71155543834618},379.71155543834618,249.17777943649125,0,0,"2011-08-27",{"$f":"MAX(L$12:L311)+MAX(M$12:M311)+MAX(N$12:N311)","v":389.17777943649128},"2011-08-27",0.62279731715273101,null,null,null,null,null,null,null,null,null,null,null,null,null,null,null,null,null,0,null,{"$f":"IF(OR(AJ311<=AM7,AJ311>AM9),0,AM8+(AM10-AM8)*(1-((AM5+EXP(AM6*(AM4-AM7)))/(AM5+EXP(AM6*(AM4-AJ311))))^AM5)/(1-((AM5+EXP(AM6*(AM4-AM7)))/(AM5+EXP(AM6*(AM4-AM9))))^AM5))","v":0},{"$f":"IF(OR(AJ311<=AN7,AJ311>AN9),0,AN8+(AN10-AN8)*(1-((AN5+EXP(AN6*(AN4-AN7)))/(AN5+EXP(AN6*(AN4-AJ311))))^AN5)/(1-((AN5+EXP(AN6*(AN4-AN7)))/(AN5+EXP(AN6*(AN4-AN9))))^AN5))","v":0},{"$f":"IF(OR(AJ311<=AN9,AJ311>100000),0,IF(AJ311<=AO7,AO8,AO8+(AO10-AO8)*(1-((AO5+EXP(AO6*(AO4-AO7)))/(AO5+EXP(AO6*(AO4-AJ311))))^AO5)/(1-((AO5+EXP(AO6*(AO4-AO7)))/(AO5+EXP(AO6*(AO4-AO9))))^AO5)))","v":0},0,0]
[301,{"$f":"'daily uptake'!F395","v":"2011-08-28"},{"$f":"5/9*'daily uptake'!Q395","v":23.333333333333336},{"$f":"5/9*'daily uptake'!N395","v":13.333333333333334},{"$f":"IF(AND($A312>='daily uptake'!$C$9,$A312<='daily uptake'!$C$10),$C312+E311,0)","v":0},{"$f":"IF(AND($A312>='daily uptake'!$C$18,$A312<='daily uptake'!$C$20),$D312+F311,0)","v":1514.1666666666661},{"$f":"IF(AND($A312>='daily uptake'!$C$24,$A312<='daily uptake'!$C$25),$C312+G311,0)","v":0},{"$f":"IF(OR(F312<=I7,F312>I9),0,I8+(I10-I8)*(1-((I5+EXP(I6*(I4-I7)))/(I5+EXP(I6*(I4-F312))))^I5)/(1-((I5+EXP(I6*(I4-I7)))/(I5+EXP(I6*(I4-I9))))^I5))","v":0},{"$f":"IF(OR(F312<=J7,F312>J9),0,J8+(J10-J8)*(1-((J5+EXP(J6*(J4-J7)))/(J5+EXP(J6*(J4-F312))))^J5)/(1-((J5+EXP(J6*(J4-J7)))/(J5+EXP(J6*(J4-J9))))^J5))","v":0},{"$f":"IF(OR(F312<=J9,F312>100000),0,IF(F312<=K7,K8,K8+(K10-K8)*(1-((K5+EXP(K6*(K4-K7)))/(K5+EXP(K6*(K4-F312))))^K5)/(1-((K5+EXP(K6*(K4-K7)))/(K5+EXP(K6*(K4-K9))))^K5)))","v":380.42931130111867},380.42931130111867,249.6487917338566,0,0,"2011-08-28",{"$f":"MAX(L$12:L312)+MAX(M$12:M312)+MAX(N$12:N312)","v":389.64879173385657},"2011-08-28",0.47101229736529149,null,null,null,null,null,null,null,null,null,null,null,null,null,null,null,null,null,0,null,{"$f":"IF(OR(AJ312<=AM7,AJ312>AM9),0,AM8+(AM10-AM8)*(1-((AM5+EXP(AM6*(AM4-AM7)))/(AM5+EXP(AM6*(AM4-AJ312))))^AM5)/(1-((AM5+EXP(AM6*(AM4-AM7)))/(AM5+EXP(AM6*(AM4-AM9))))^AM5))","v":0},{"$f":"IF(OR(AJ312<=AN7,AJ312>AN9),0,AN8+(AN10-AN8)*(1-((AN5+EXP(AN6*(AN4-AN7)))/(AN5+EXP(AN6*(AN4-AJ312))))^AN5)/(1-((AN5+EXP(AN6*(AN4-AN7)))/(AN5+EXP(AN6*(AN4-AN9))))^AN5))","v":0},{"$f":"IF(OR(AJ312<=AN9,AJ312>100000),0,IF(AJ312<=AO7,AO8,AO8+(AO10-AO8)*(1-((AO5+EXP(AO6*(AO4-AO7)))/(AO5+EXP(AO6*(AO4-AJ312))))^AO5)/(1-((AO5+EXP(AO6*(AO4-AO7)))/(AO5+EXP(AO6*(AO4-AO9))))^AO5)))","v":0},0,0]
[302,{"$f":"'daily uptake'!F396","v":"2011-08-29"},{"$f":"5/9*'daily uptake'!Q396","v":23.611111111111111},{"$f":"5/9*'daily uptake'!N396","v":13.611111111111112},{"$f":"IF(AND($A313>='daily uptake'!$C$9,$A313<='daily uptake'!$C$10),$C313+E312,0)","v":0},{"$f":"IF(AND($A313>='daily uptake'!$C$18,$A313<='daily uptake'!$C$20),$D313+F312,0)","v":1527.7777777777771},{"$f":"IF(AND($A313>='daily uptake'!$C$24,$A313<='daily uptake'!$C$25),$C313+G312,0)","v":0},{"$f":"IF(OR(F313<=I7,F313>I9),0,I8+(I10-I8)*(1-((I5+EXP(I6*(I4-I7)))/(I5+EXP(I6*(I4-F313))))^I5)/(1-((I5+EXP(I6*(I4-I7)))/(I5+EXP(I6*(I4-I9))))^I5))","v":0},{"$f":"IF(OR(F313<=J7,F313>J9),0,J8+(J10-J8)*(1-((J5+EXP(J6*(J4-J7)))/(J5+EXP(J6*(J4-F313))))^J5)/(1-((J5+EXP(J6*(J4-J7)))/(J5+EXP(J6*(J4-J9))))^J5))","v":0},{"$f":"IF(OR(F313<=J9,F313>100000),0,IF(F313<=K7,K8,K8+(K10-K8)*(1-((K5+EXP(K6*(K4-K7)))/(K5+EXP(K6*(K4-F313))))^K5)/(1-((K5+EXP(K6*(K4-K7)))/(K5+EXP(K6*(K4-K9))))^K5)))","v":380.96450283112472},380.96450283112472,250,0,0,"2011-08-29",{"$f":"MAX(L$12:L313)+MAX(M$12:M313)+MAX(N$12:N313)","v":390},"2011-08-29",0.35120826614343059,null,null,null,null,null,null,null,null,null,null,null,null,null,null,null,null,null,0,null,{"$f":"IF(OR(AJ313<=AM7,AJ313>AM9),0,AM8+(AM10-AM8)*(1-((AM5+EXP(AM6*(AM4-AM7)))/(AM5+EXP(AM6*(AM4-AJ313))))^AM5)/(1-((AM5+EXP(AM6*(AM4-AM7)))/(AM5+EXP(AM6*(AM4-AM9))))^AM5))","v":0},{"$f":"IF(OR(AJ313<=AN7,AJ313>AN9),0,AN8+(AN10-AN8)*(1-((AN5+EXP(AN6*(AN4-AN7)))/(AN5+EXP(AN6*(AN4-AJ313))))^AN5)/(1-((AN5+EXP(AN6*(AN4-AN7)))/(AN5+EXP(AN6*(AN4-AN9))))^AN5))","v":0},{"$f":"IF(OR(AJ313<=AN9,AJ313>100000),0,IF(AJ313<=AO7,AO8,AO8+(AO10-AO8)*(1-((AO5+EXP(AO6*(AO4-AO7)))/(AO5+EXP(AO6*(AO4-AJ313))))^AO5)/(1-((AO5+EXP(AO6*(AO4-AO7)))/(AO5+EXP(AO6*(AO4-AO9))))^AO5)))","v":0},0,0]
[303,{"$f":"'daily uptake'!F397","v":"2011-08-30"},{"$f":"5/9*'daily uptake'!Q397","v":22.777777777777779},{"$f":"5/9*'daily uptake'!N397","v":12.777777777777779},{"$f":"IF(AND($A314>='daily uptake'!$C$9,$A314<='daily uptake'!$C$10),$C314+E313,0)","v":0},{"$f":"IF(AND($A314>='daily uptake'!$C$18,$A314<='daily uptake'!$C$20),$D314+F313,0)","v":0},{"$f":"IF(AND($A314>='daily uptake'!$C$24,$A314<='daily uptake'!$C$25),$C314+G313,0)","v":0},{"$f":"IF(OR(F314<=I7,F314>I9),0,I8+(I10-I8)*(1-((I5+EXP(I6*(I4-I7)))/(I5+EXP(I6*(I4-F314))))^I5)/(1-((I5+EXP(I6*(I4-I7)))/(I5+EXP(I6*(I4-I9))))^I5))","v":0},{"$f":"IF(OR(F314<=J7,F314>J9),0,J8+(J10-J8)*(1-((J5+EXP(J6*(J4-J7)))/(J5+EXP(J6*(J4-F314))))^J5)/(1-((J5+EXP(J6*(J4-J7)))/(J5+EXP(J6*(J4-J9))))^J5))","v":0},{"$f":"IF(OR(F314<=J9,F314>100000),0,IF(F314<=K7,K8,K8+(K10-K8)*(1-((K5+EXP(K6*(K4-K7)))/(K5+EXP(K6*(K4-F314))))^K5)/(1-((K5+EXP(K6*(K4-K7)))/(K5+EXP(K6*(K4-K9))))^K5)))","v":0},0,0,0,0,"2011-08-30",{"$f":"MAX(L$12:L314)+MAX(M$12:M314)+MAX(N$12:N314)","v":390},"2011-08-30",0,null,null,null,null,null,null,null,null,null,null,null,null,null,null,null,null,null,0,null,{"$f":"IF(OR(AJ314<=AM7,AJ314>AM9),0,AM8+(AM10-AM8)*(1-((AM5+EXP(AM6*(AM4-AM7)))/(AM5+EXP(AM6*(AM4-AJ314))))^AM5)/(1-((AM5+EXP(AM6*(AM4-AM7)))/(AM5+EXP(AM6*(AM4-AM9))))^AM5))","v":0},{"$f":"IF(OR(AJ314<=AN7,AJ314>AN9),0,AN8+(AN10-AN8)*(1-((AN5+EXP(AN6*(AN4-AN7)))/(AN5+EXP(AN6*(AN4-AJ314))))^AN5)/(1-((AN5+EXP(AN6*(AN4-AN7)))/(AN5+EXP(AN6*(AN4-AN9))))^AN5))","v":0},{"$f":"IF(OR(AJ314<=AN9,AJ314>100000),0,IF(AJ314<=AO7,AO8,AO8+(AO10-AO8)*(1-((AO5+EXP(AO6*(AO4-AO7)))/(AO5+EXP(AO6*(AO4-AJ314))))^AO5)/(1-((AO5+EXP(AO6*(AO4-AO7)))/(AO5+EXP(AO6*(AO4-AO9))))^AO5)))","v":0},0,0]
[304,{"$f":"'daily uptake'!F398","v":"2011-08-31"},{"$f":"5/9*'daily uptake'!Q398","v":23.055555555555557},{"$f":"5/9*'daily uptake'!N398","v":13.055555555555555},{"$f":"IF(AND($A315>='daily uptake'!$C$9,$A315<='daily uptake'!$C$10),$C315+E314,0)","v":0},{"$f":"IF(AND($A315>='daily uptake'!$C$18,$A315<='daily uptake'!$C$20),$D315+F314,0)","v":0},{"$f":"IF(AND($A315>='daily uptake'!$C$24,$A315<='daily uptake'!$C$25),$C315+G314,0)","v":23.055555555555557},{"$f":"IF(OR(F315<=I7,F315>I9),0,I8+(I10-I8)*(1-((I5+EXP(I6*(I4-I7)))/(I5+EXP(I6*(I4-F315))))^I5)/(1-((I5+EXP(I6*(I4-I7)))/(I5+EXP(I6*(I4-I9))))^I5))","v":0},{"$f":"IF(OR(F315<=J7,F315>J9),0,J8+(J10-J8)*(1-((J5+EXP(J6*(J4-J7)))/(J5+EXP(J6*(J4-F315))))^J5)/(1-((J5+EXP(J6*(J4-J7)))/(J5+EXP(J6*(J4-J9))))^J5))","v":0},{"$f":"IF(OR(F315<=J9,F315>100000),0,IF(F315<=K7,K8,K8+(K10-K8)*(1-((K5+EXP(K6*(K4-K7)))/(K5+EXP(K6*(K4-F315))))^K5)/(1-((K5+EXP(K6*(K4-K7)))/(K5+EXP(K6*(K4-K9))))^K5)))","v":0},0,0,0,1.0011405300060825,"2011-08-31",{"$f":"MAX(L$12:L315)+MAX(M$12:M315)+MAX(N$12:N315)","v":391.00114053000607},"2011-08-31",1.0011405300060687,null,null,null,null,null,null,null,null,null,null,null,null,null,null,null,null,null,0,null,{"$f":"IF(OR(AJ315<=AM7,AJ315>AM9),0,AM8+(AM10-AM8)*(1-((AM5+EXP(AM6*(AM4-AM7)))/(AM5+EXP(AM6*(AM4-AJ315))))^AM5)/(1-((AM5+EXP(AM6*(AM4-AM7)))/(AM5+EXP(AM6*(AM4-AM9))))^AM5))","v":0},{"$f":"IF(OR(AJ315<=AN7,AJ315>AN9),0,AN8+(AN10-AN8)*(1-((AN5+EXP(AN6*(AN4-AN7)))/(AN5+EXP(AN6*(AN4-AJ315))))^AN5)/(1-((AN5+EXP(AN6*(AN4-AN7)))/(AN5+EXP(AN6*(AN4-AN9))))^AN5))","v":0},{"$f":"IF(OR(AJ315<=AN9,AJ315>100000),0,IF(AJ315<=AO7,AO8,AO8+(AO10-AO8)*(1-((AO5+EXP(AO6*(AO4-AO7)))/(AO5+EXP(AO6*(AO4-AJ315))))^AO5)/(1-((AO5+EXP(AO6*(AO4-AO7)))/(AO5+EXP(AO6*(AO4-AO9))))^AO5)))","v":0},0,0]
[305,{"$f":"'daily uptake'!F399","v":"2011-09-01"},{"$f":"5/9*'daily uptake'!Q399","v":23.333333333333336},{"$f":"5/9*'daily uptake'!N399","v":13.333333333333334},{"$f":"IF(AND($A316>='daily uptake'!$C$9,$A316<='daily uptake'!$C$10),$C316+E315,0)","v":0},{"$f":"IF(AND($A316>='daily uptake'!$C$18,$A316<='daily uptake'!$C$20),$D316+F315,0)","v":0},{"$f":"IF(AND($A316>='daily uptake'!$C$24,$A316<='daily uptake'!$C$25),$C316+G315,0)","v":46.388888888888893},{"$f":"IF(OR(F316<=I7,F316>I9),0,I8+(I10-I8)*(1-((I5+EXP(I6*(I4-I7)))/(I5+EXP(I6*(I4-F316))))^I5)/(1-((I5+EXP(I6*(I4-I7)))/(I5+EXP(I6*(I4-I9))))^I5))","v":0},{"$f":"IF(OR(F316<=J7,F316>J9),0,J8+(J10-J8)*(1-((J5+EXP(J6*(J4-J7)))/(J5+EXP(J6*(J4-F316))))^J5)/(1-((J5+EXP(J6*(J4-J7)))/(J5+EXP(J6*(J4-J9))))^J5))","v":0},{"$f":"IF(OR(F316<=J9,F316>100000),0,IF(F316<=K7,K8,K8+(K10-K8)*(1-((K5+EXP(K6*(K4-K7)))/(K5+EXP(K6*(K4-F316))))^K5)/(1-((K5+EXP(K6*(K4-K7)))/(K5+EXP(K6*(K4-K9))))^K5)))","v":0},0,0,0,2.0733794769462288,"2011-09-01",{"$f":"MAX(L$12:L316)+MAX(M$12:M316)+MAX(N$12:N316)","v":392.07337947694623},"2011-09-01",1.0722389469401605,null,null,null,null,null,null,null,null,null,null,null,null,null,null,null,null,null,0,null,{"$f":"IF(OR(AJ316<=AM7,AJ316>AM9),0,AM8+(AM10-AM8)*(1-((AM5+EXP(AM6*(AM4-AM7)))/(AM5+EXP(AM6*(AM4-AJ316))))^AM5)/(1-((AM5+EXP(AM6*(AM4-AM7)))/(AM5+EXP(AM6*(AM4-AM9))))^AM5))","v":0},{"$f":"IF(OR(AJ316<=AN7,AJ316>AN9),0,AN8+(AN10-AN8)*(1-((AN5+EXP(AN6*(AN4-AN7)))/(AN5+EXP(AN6*(AN4-AJ316))))^AN5)/(1-((AN5+EXP(AN6*(AN4-AN7)))/(AN5+EXP(AN6*(AN4-AN9))))^AN5))","v":0},{"$f":"IF(OR(AJ316<=AN9,AJ316>100000),0,IF(AJ316<=AO7,AO8,AO8+(AO10-AO8)*(1-((AO5+EXP(AO6*(AO4-AO7)))/(AO5+EXP(AO6*(AO4-AJ316))))^AO5)/(1-((AO5+EXP(AO6*(AO4-AO7)))/(AO5+EXP(AO6*(AO4-AO9))))^AO5)))","v":0},0,0]
[306,{"$f":"'daily uptake'!F400","v":"2011-09-02"},{"$f":"5/9*'daily uptake'!Q400","v":22.777777777777779},{"$f":"5/9*'daily uptake'!N400","v":12.777777777777779},{"$f":"IF(AND($A317>='daily uptake'!$C$9,$A317<='daily uptake'!$C$10),$C317+E316,0)","v":0},{"$f":"IF(AND($A317>='daily uptake'!$C$18,$A317<='daily uptake'!$C$20),$D317+F316,0)","v":0},{"$f":"IF(AND($A317>='daily uptake'!$C$24,$A317<='daily uptake'!$C$25),$C317+G316,0)","v":69.166666666666671},{"$f":"IF(OR(F317<=I7,F317>I9),0,I8+(I10-I8)*(1-((I5+EXP(I6*(I4-I7)))/(I5+EXP(I6*(I4-F317))))^I5)/(1-((I5+EXP(I6*(I4-I7)))/(I5+EXP(I6*(I4-I9))))^I5))","v":0},{"$f":"IF(OR(F317<=J7,F317>J9),0,J8+(J10-J8)*(1-((J5+EXP(J6*(J4-J7)))/(J5+EXP(J6*(J4-F317))))^J5)/(1-((J5+EXP(J6*(J4-J7)))/(J5+EXP(J6*(J4-J9))))^J5))","v":0},{"$f":"IF(OR(F317<=J9,F317>100000),0,IF(F317<=K7,K8,K8+(K10-K8)*(1-((K5+EXP(K6*(K4-K7)))/(K5+EXP(K6*(K4-F317))))^K5)/(1-((K5+EXP(K6*(K4-K7)))/(K5+EXP(K6*(K4-K9))))^K5)))","v":0},{"$f":"H317+I317+J317","v":0},0,0,3.1806916150982176,"2011-09-02",{"$f":"MAX(L$12:L317)+MAX(M$12:M317)+MAX(N$12:N317)","v":393.18069161509823},"2011-09-02",1.1073121381519968,null,null,null,null,null,null,null,null,null,null,null,null,null,null,null,null,null,0,null,{"$f":"IF(OR(AJ317<=AM7,AJ317>AM9),0,AM8+(AM10-AM8)*(1-((AM5+EXP(AM6*(AM4-AM7)))/(AM5+EXP(AM6*(AM4-AJ317))))^AM5)/(1-((AM5+EXP(AM6*(AM4-AM7)))/(AM5+EXP(AM6*(AM4-AM9))))^AM5))","v":0},{"$f":"IF(OR(AJ317<=AN7,AJ317>AN9),0,AN8+(AN10-AN8)*(1-((AN5+EXP(AN6*(AN4-AN7)))/(AN5+EXP(AN6*(AN4-AJ317))))^AN5)/(1-((AN5+EXP(AN6*(AN4-AN7)))/(AN5+EXP(AN6*(AN4-AN9))))^AN5))","v":0},{"$f":"IF(OR(AJ317<=AN9,AJ317>100000),0,IF(AJ317<=AO7,AO8,AO8+(AO10-AO8)*(1-((AO5+EXP(AO6*(AO4-AO7)))/(AO5+EXP(AO6*(AO4-AJ317))))^AO5)/(1-((AO5+EXP(AO6*(AO4-AO7)))/(AO5+EXP(AO6*(AO4-AO9))))^AO5)))","v":0},{"$f":"AL317+AM317+AN317","v":0},0]
[307,{"$f":"'daily uptake'!F401","v":"2011-09-03"},{"$f":"5/9*'daily uptake'!Q401","v":23.333333333333336},{"$f":"5/9*'daily uptake'!N401","v":13.333333333333334},{"$f":"IF(AND($A318>='daily uptake'!$C$9,$A318<='daily uptake'!$C$10),$C318+E317,0)","v":0},{"$f":"IF(AND($A318>='daily uptake'!$C$18,$A318<='daily uptake'!$C$20),$D318+F317,0)","v":0},{"$f":"IF(AND($A318>='daily uptake'!$C$24,$A318<='daily uptake'!$C$25),$C318+G317,0)","v":92.5},{"$f":"IF(OR(F318<=I7,F318>I9),0,I8+(I10-I8)*(1-((I5+EXP(I6*(I4-I7)))/(I5+EXP(I6*(I4-F318))))^I5)/(1-((I5+EXP(I6*(I4-I7)))/(I5+EXP(I6*(I4-I9))))^I5))","v":0},{"$f":"IF(OR(F318<=J7,F318>J9),0,J8+(J10-J8)*(1-((J5+EXP(J6*(J4-J7)))/(J5+EXP(J6*(J4-F318))))^J5)/(1-((J5+EXP(J6*(J4-J7)))/(J5+EXP(J6*(J4-J9))))^J5))","v":0},{"$f":"IF(OR(F318<=J9,F318>100000),0,IF(F318<=K7,K8,K8+(K10-K8)*(1-((K5+EXP(K6*(K4-K7)))/(K5+EXP(K6*(K4-F318))))^K5)/(1-((K5+EXP(K6*(K4-K7)))/(K5+EXP(K6*(K4-K9))))^K5)))","v":0},0,0,0,4.3807017900342418,"2011-09-03",{"$f":"MAX(L$12:L318)+MAX(M$12:M318)+MAX(N$12:N318)","v":394.38070179003427},"2011-09-03",1.2000101749360397,null,null,null,null,null,null,null,null,null,null,null,null,null,null,null,null,null,0,null,{"$f":"IF(OR(AJ318<=AM7,AJ318>AM9),0,AM8+(AM10-AM8)*(1-((AM5+EXP(AM6*(AM4-AM7)))/(AM5+EXP(AM6*(AM4-AJ318))))^AM5)/(1-((AM5+EXP(AM6*(AM4-AM7)))/(AM5+EXP(AM6*(AM4-AM9))))^AM5))","v":0},{"$f":"IF(OR(AJ318<=AN7,AJ318>AN9),0,AN8+(AN10-AN8)*(1-((AN5+EXP(AN6*(AN4-AN7)))/(AN5+EXP(AN6*(AN4-AJ318))))^AN5)/(1-((AN5+EXP(AN6*(AN4-AN7)))/(AN5+EXP(AN6*(AN4-AN9))))^AN5))","v":0},{"$f":"IF(OR(AJ318<=AN9,AJ318>100000),0,IF(AJ318<=AO7,AO8,AO8+(AO10-AO8)*(1-((AO5+EXP(AO6*(AO4-AO7)))/(AO5+EXP(AO6*(AO4-AJ318))))^AO5)/(1-((AO5+EXP(AO6*(AO4-AO7)))/(AO5+EXP(AO6*(AO4-AO9))))^AO5)))","v":0},0,0]
[308,{"$f":"'daily uptake'!F402","v":"2011-09-04"},{"$f":"5/9*'daily uptake'!Q402","v":22.5},{"$f":"5/9*'daily uptake'!N402","v":12.5},{"$f":"IF(AND($A319>='daily uptake'!$C$9,$A319<='daily uptake'!$C$10),$C319+E318,0)","v":0},{"$f":"IF(AND($A319>='daily uptake'!$C$18,$A319<='daily uptake'!$C$20),$D319+F318,0)","v":0},{"$f":"IF(AND($A319>='daily uptake'!$C$24,$A319<='daily uptake'!$C$25),$C319+G318,0)","v":115},{"$f":"IF(OR(F319<=I7,F319>I9),0,I8+(I10-I8)*(1-((I5+EXP(I6*(I4-I7)))/(I5+EXP(I6*(I4-F319))))^I5)/(1-((I5+EXP(I6*(I4-I7)))/(I5+EXP(I6*(I4-I9))))^I5))","v":0},{"$f":"IF(OR(F319<=J7,F319>J9),0,J8+(J10-J8)*(1-((J5+EXP(J6*(J4-J7)))/(J5+EXP(J6*(J4-F319))))^J5)/(1-((J5+EXP(J6*(J4-J7)))/(J5+EXP(J6*(J4-J9))))^J5))","v":0},{"$f":"IF(OR(F319<=J9,F319>100000),0,IF(F319<=K7,K8,K8+(K10-K8)*(1-((K5+EXP(K6*(K4-K7)))/(K5+EXP(K6*(K4-F319))))^K5)/(1-((K5+EXP(K6*(K4-K7)))/(K5+EXP(K6*(K4-K9))))^K5)))","v":0},0,0,0,5.6044327264432532,"2011-09-04",{"$f":"MAX(L$12:L319)+MAX(M$12:M319)+MAX(N$12:N319)","v":395.60443272644324},"2011-09-04",1.2237309364089697,null,null,null,null,null,null,null,null,null,null,null,null,null,null,null,null,null,0,null,{"$f":"IF(OR(AJ319<=AM7,AJ319>AM9),0,AM8+(AM10-AM8)*(1-((AM5+EXP(AM6*(AM4-AM7)))/(AM5+EXP(AM6*(AM4-AJ319))))^AM5)/(1-((AM5+EXP(AM6*(AM4-AM7)))/(AM5+EXP(AM6*(AM4-AM9))))^AM5))","v":0},{"$f":"IF(OR(AJ319<=AN7,AJ319>AN9),0,AN8+(AN10-AN8)*(1-((AN5+EXP(AN6*(AN4-AN7)))/(AN5+EXP(AN6*(AN4-AJ319))))^AN5)/(1-((AN5+EXP(AN6*(AN4-AN7)))/(AN5+EXP(AN6*(AN4-AN9))))^AN5))","v":0},{"$f":"IF(OR(AJ319<=AN9,AJ319>100000),0,IF(AJ319<=AO7,AO8,AO8+(AO10-AO8)*(1-((AO5+EXP(AO6*(AO4-AO7)))/(AO5+EXP(AO6*(AO4-AJ319))))^AO5)/(1-((AO5+EXP(AO6*(AO4-AO7)))/(AO5+EXP(AO6*(AO4-AO9))))^AO5)))","v":0},0,0]
[309,{"$f":"'daily uptake'!F403","v":"2011-09-05"},{"$f":"5/9*'daily uptake'!Q403","v":21.666666666666668},{"$f":"5/9*'daily uptake'!N403","v":11.666666666666668},{"$f":"IF(AND($A320>='daily uptake'!$C$9,$A320<='daily uptake'!$C$10),$C320+E319,0)","v":0},{"$f":"IF(AND($A320>='daily uptake'!$C$18,$A320<='daily uptake'!$C$20),$D320+F319,0)","v":0},{"$f":"IF(AND($A320>='daily uptake'!$C$24,$A320<='daily uptake'!$C$25),$C320+G319,0)","v":136.66666666666666},{"$f":"IF(OR(F320<=I7,F320>I9),0,I8+(I10-I8)*(1-((I5+EXP(I6*(I4-I7)))/(I5+EXP(I6*(I4-F320))))^I5)/(1-((I5+EXP(I6*(I4-I7)))/(I5+EXP(I6*(I4-I9))))^I5))","v":0},{"$f":"IF(OR(F320<=J7,F320>J9),0,J8+(J10-J8)*(1-((J5+EXP(J6*(J4-J7)))/(J5+EXP(J6*(J4-F320))))^J5)/(1-((J5+EXP(J6*(J4-J7)))/(J5+EXP(J6*(J4-J9))))^J5))","v":0},{"$f":"IF(OR(F320<=J9,F320>100000),0,IF(F320<=K7,K8,K8+(K10-K8)*(1-((K5+EXP(K6*(K4-K7)))/(K5+EXP(K6*(K4-F320))))^K5)/(1-((K5+EXP(K6*(K4-K7)))/(K5+EXP(K6*(K4-K9))))^K5)))","v":0},0,0,0,6.8481089533920478,"2011-09-05",{"$f":"MAX(L$12:L320)+MAX(M$12:M320)+MAX(N$12:N320)","v":396.84810895339206},"2011-09-05",1.2436762269488213,null,null,null,null,null,null,null,null,null,null,null,null,null,null,null,null,null,0,null,{"$f":"IF(OR(AJ320<=AM7,AJ320>AM9),0,AM8+(AM10-AM8)*(1-((AM5+EXP(AM6*(AM4-AM7)))/(AM5+EXP(AM6*(AM4-AJ320))))^AM5)/(1-((AM5+EXP(AM6*(AM4-AM7)))/(AM5+EXP(AM6*(AM4-AM9))))^AM5))","v":0},{"$f":"IF(OR(AJ320<=AN7,AJ320>AN9),0,AN8+(AN10-AN8)*(1-((AN5+EXP(AN6*(AN4-AN7)))/(AN5+EXP(AN6*(AN4-AJ320))))^AN5)/(1-((AN5+EXP(AN6*(AN4-AN7)))/(AN5+EXP(AN6*(AN4-AN9))))^AN5))","v":0},{"$f":"IF(OR(AJ320<=AN9,AJ320>100000),0,IF(AJ320<=AO7,AO8,AO8+(AO10-AO8)*(1-((AO5+EXP(AO6*(AO4-AO7)))/(AO5+EXP(AO6*(AO4-AJ320))))^AO5)/(1-((AO5+EXP(AO6*(AO4-AO7)))/(AO5+EXP(AO6*(AO4-AO9))))^AO5)))","v":0},0,0]
[310,{"$f":"'daily uptake'!F404","v":"2011-09-06"},{"$f":"5/9*'daily uptake'!Q404","v":22.5},{"$f":"5/9*'daily uptake'!N404","v":12.5},{"$f":"IF(AND($A321>='daily uptake'!$C$9,$A321<='daily uptake'!$C$10),$C321+E320,0)","v":0},{"$f":"IF(AND($A321>='daily uptake'!$C$18,$A321<='daily uptake'!$C$20),$D321+F320,0)","v":0},{"$f":"IF(AND($A321>='daily uptake'!$C$24,$A321<='daily uptake'!$C$25),$C321+G320,0)","v":159.16666666666666},{"$f":"IF(OR(F321<=I7,F321>I9),0,I8+(I10-I8)*(1-((I5+EXP(I6*(I4-I7)))/(I5+EXP(I6*(I4-F321))))^I5)/(1-((I5+EXP(I6*(I4-I7)))/(I5+EXP(I6*(I4-I9))))^I5))","v":0},{"$f":"IF(OR(F321<=J7,F321>J9),0,J8+(J10-J8)*(1-((J5+EXP(J6*(J4-J7)))/(J5+EXP(J6*(J4-F321))))^J5)/(1-((J5+EXP(J6*(J4-J7)))/(J5+EXP(J6*(J4-J9))))^J5))","v":0},{"$f":"IF(OR(F321<=J9,F321>100000),0,IF(F321<=K7,K8,K8+(K10-K8)*(1-((K5+EXP(K6*(K4-K7)))/(K5+EXP(K6*(K4-F321))))^K5)/(1-((K5+EXP(K6*(K4-K7)))/(K5+EXP(K6*(K4-K9))))^K5)))","v":0},0,0,0,8.2111768517089043,"2011-09-06",{"$f":"MAX(L$12:L321)+MAX(M$12:M321)+MAX(N$12:N321)","v":398.2111768517089},"2011-09-06",1.3630678983168423,null,null,null,null,null,null,null,null,null,null,null,null,null,null,null,null,null,0,null,{"$f":"IF(OR(AJ321<=AM7,AJ321>AM9),0,AM8+(AM10-AM8)*(1-((AM5+EXP(AM6*(AM4-AM7)))/(AM5+EXP(AM6*(AM4-AJ321))))^AM5)/(1-((AM5+EXP(AM6*(AM4-AM7)))/(AM5+EXP(AM6*(AM4-AM9))))^AM5))","v":0},{"$f":"IF(OR(AJ321<=AN7,AJ321>AN9),0,AN8+(AN10-AN8)*(1-((AN5+EXP(AN6*(AN4-AN7)))/(AN5+EXP(AN6*(AN4-AJ321))))^AN5)/(1-((AN5+EXP(AN6*(AN4-AN7)))/(AN5+EXP(AN6*(AN4-AN9))))^AN5))","v":0},{"$f":"IF(OR(AJ321<=AN9,AJ321>100000),0,IF(AJ321<=AO7,AO8,AO8+(AO10-AO8)*(1-((AO5+EXP(AO6*(AO4-AO7)))/(AO5+EXP(AO6*(AO4-AJ321))))^AO5)/(1-((AO5+EXP(AO6*(AO4-AO7)))/(AO5+EXP(AO6*(AO4-AO9))))^AO5)))","v":0},0,0]
[311,{"$f":"'daily uptake'!F405","v":"2011-09-07"},{"$f":"5/9*'daily uptake'!Q405","v":22.222222222222221},{"$f":"5/9*'daily uptake'!N405","v":12.222222222222223},{"$f":"IF(AND($A322>='daily uptake'!$C$9,$A322<='daily uptake'!$C$10),$C322+E321,0)","v":0},{"$f":"IF(AND($A322>='daily uptake'!$C$18,$A322<='daily uptake'!$C$20),$D322+F321,0)","v":0},{"$f":"IF(AND($A322>='daily uptake'!$C$24,$A322<='daily uptake'!$C$25),$C322+G321,0)","v":181.38888888888889},{"$f":"IF(OR(F322<=I7,F322>I9),0,I8+(I10-I8)*(1-((I5+EXP(I6*(I4-I7)))/(I5+EXP(I6*(I4-F322))))^I5)/(1-((I5+EXP(I6*(I4-I7)))/(I5+EXP(I6*(I4-I9))))^I5))","v":0},{"$f":"IF(OR(F322<=J7,F322>J9),0,J8+(J10-J8)*(1-((J5+EXP(J6*(J4-J7)))/(J5+EXP(J6*(J4-F322))))^J5)/(1-((J5+EXP(J6*(J4-J7)))/(J5+EXP(J6*(J4-J9))))^J5))","v":0},{"$f":"IF(OR(F322<=J9,F322>100000),0,IF(F322<=K7,K8,K8+(K10-K8)*(1-((K5+EXP(K6*(K4-K7)))/(K5+EXP(K6*(K4-F322))))^K5)/(1-((K5+EXP(K6*(K4-K7)))/(K5+EXP(K6*(K4-K9))))^K5)))","v":0},0,0,0,9.6329536507426461,"2011-09-07",{"$f":"MAX(L$12:L322)+MAX(M$12:M322)+MAX(N$12:N322)","v":399.63295365074265},"2011-09-07",1.4217767990337506,null,null,null,null,null,null,null,null,null,null,null,null,null,null,null,null,null,0,null,{"$f":"IF(OR(AJ322<=AM7,AJ322>AM9),0,AM8+(AM10-AM8)*(1-((AM5+EXP(AM6*(AM4-AM7)))/(AM5+EXP(AM6*(AM4-AJ322))))^AM5)/(1-((AM5+EXP(AM6*(AM4-AM7)))/(AM5+EXP(AM6*(AM4-AM9))))^AM5))","v":0},{"$f":"IF(OR(AJ322<=AN7,AJ322>AN9),0,AN8+(AN10-AN8)*(1-((AN5+EXP(AN6*(AN4-AN7)))/(AN5+EXP(AN6*(AN4-AJ322))))^AN5)/(1-((AN5+EXP(AN6*(AN4-AN7)))/(AN5+EXP(AN6*(AN4-AN9))))^AN5))","v":0},{"$f":"IF(OR(AJ322<=AN9,AJ322>100000),0,IF(AJ322<=AO7,AO8,AO8+(AO10-AO8)*(1-((AO5+EXP(AO6*(AO4-AO7)))/(AO5+EXP(AO6*(AO4-AJ322))))^AO5)/(1-((AO5+EXP(AO6*(AO4-AO7)))/(AO5+EXP(AO6*(AO4-AO9))))^AO5)))","v":0},0,0]
[312,{"$f":"'daily uptake'!F406","v":"2011-09-08"},{"$f":"5/9*'daily uptake'!Q406","v":21.666666666666668},{"$f":"5/9*'daily uptake'!N406","v":11.666666666666668},{"$f":"IF(AND($A323>='daily uptake'!$C$9,$A323<='daily uptake'!$C$10),$C323+E322,0)","v":0},{"$f":"IF(AND($A323>='daily uptake'!$C$18,$A323<='daily uptake'!$C$20),$D323+F322,0)","v":0},{"$f":"IF(AND($A323>='daily uptake'!$C$24,$A323<='daily uptake'!$C$25),$C323+G322,0)","v":203.05555555555554},{"$f":"IF(OR(F323<=I7,F323>I9),0,I8+(I10-I8)*(1-((I5+EXP(I6*(I4-I7)))/(I5+EXP(I6*(I4-F323))))^I5)/(1-((I5+EXP(I6*(I4-I7)))/(I5+EXP(I6*(I4-I9))))^I5))","v":0},{"$f":"IF(OR(F323<=J7,F323>J9),0,J8+(J10-J8)*(1-((J5+EXP(J6*(J4-J7)))/(J5+EXP(J6*(J4-F323))))^J5)/(1-((J5+EXP(J6*(J4-J7)))/(J5+EXP(J6*(J4-J9))))^J5))","v":0},{"$f":"IF(OR(F323<=J9,F323>100000),0,IF(F323<=K7,K8,K8+(K10-K8)*(1-((K5+EXP(K6*(K4-K7)))/(K5+EXP(K6*(K4-F323))))^K5)/(1-((K5+EXP(K6*(K4-K7)))/(K5+EXP(K6*(K4-K9))))^K5)))","v":0},0,0,0,11.095473940901718,"2011-09-08",{"$f":"MAX(L$12:L323)+MAX(M$12:M323)+MAX(N$12:N323)","v":401.09547394090174},"2011-09-08",1.462520290159091,null,null,null,null,null,null,null,null,null,null,null,null,null,null,null,null,null,0,null,{"$f":"IF(OR(AJ323<=AM7,AJ323>AM9),0,AM8+(AM10-AM8)*(1-((AM5+EXP(AM6*(AM4-AM7)))/(AM5+EXP(AM6*(AM4-AJ323))))^AM5)/(1-((AM5+EXP(AM6*(AM4-AM7)))/(AM5+EXP(AM6*(AM4-AM9))))^AM5))","v":0},{"$f":"IF(OR(AJ323<=AN7,AJ323>AN9),0,AN8+(AN10-AN8)*(1-((AN5+EXP(AN6*(AN4-AN7)))/(AN5+EXP(AN6*(AN4-AJ323))))^AN5)/(1-((AN5+EXP(AN6*(AN4-AN7)))/(AN5+EXP(AN6*(AN4-AN9))))^AN5))","v":0},{"$f":"IF(OR(AJ323<=AN9,AJ323>100000),0,IF(AJ323<=AO7,AO8,AO8+(AO10-AO8)*(1-((AO5+EXP(AO6*(AO4-AO7)))/(AO5+EXP(AO6*(AO4-AJ323))))^AO5)/(1-((AO5+EXP(AO6*(AO4-AO7)))/(AO5+EXP(AO6*(AO4-AO9))))^AO5)))","v":0},0,0]
[313,{"$f":"'daily uptake'!F407","v":"2011-09-09"},{"$f":"5/9*'daily uptake'!Q407","v":20.833333333333336},{"$f":"5/9*'daily uptake'!N407","v":10.833333333333334},{"$f":"IF(AND($A324>='daily uptake'!$C$9,$A324<='daily uptake'!$C$10),$C324+E323,0)","v":0},{"$f":"IF(AND($A324>='daily uptake'!$C$18,$A324<='daily uptake'!$C$20),$D324+F323,0)","v":0},{"$f":"IF(AND($A324>='daily uptake'!$C$24,$A324<='daily uptake'!$C$25),$C324+G323,0)","v":223.88888888888889},{"$f":"IF(OR(F324<=I7,F324>I9),0,I8+(I10-I8)*(1-((I5+EXP(I6*(I4-I7)))/(I5+EXP(I6*(I4-F324))))^I5)/(1-((I5+EXP(I6*(I4-I7)))/(I5+EXP(I6*(I4-I9))))^I5))","v":0},{"$f":"IF(OR(F324<=J7,F324>J9),0,J8+(J10-J8)*(1-((J5+EXP(J6*(J4-J7)))/(J5+EXP(J6*(J4-F324))))^J5)/(1-((J5+EXP(J6*(J4-J7)))/(J5+EXP(J6*(J4-J9))))^J5))","v":0},{"$f":"IF(OR(F324<=J9,F324>100000),0,IF(F324<=K7,K8,K8+(K10-K8)*(1-((K5+EXP(K6*(K4-K7)))/(K5+EXP(K6*(K4-F324))))^K5)/(1-((K5+EXP(K6*(K4-K7)))/(K5+EXP(K6*(K4-K9))))^K5)))","v":0},0,0,0,12.576616570215439,"2011-09-09",{"$f":"MAX(L$12:L324)+MAX(M$12:M324)+MAX(N$12:N324)","v":402.57661657021544},"2011-09-09",1.4811426293136947,null,null,null,null,null,null,null,null,null,null,null,null,null,null,null,null,null,0,null,{"$f":"IF(OR(AJ324<=AM7,AJ324>AM9),0,AM8+(AM10-AM8)*(1-((AM5+EXP(AM6*(AM4-AM7)))/(AM5+EXP(AM6*(AM4-AJ324))))^AM5)/(1-((AM5+EXP(AM6*(AM4-AM7)))/(AM5+EXP(AM6*(AM4-AM9))))^AM5))","v":0},{"$f":"IF(OR(AJ324<=AN7,AJ324>AN9),0,AN8+(AN10-AN8)*(1-((AN5+EXP(AN6*(AN4-AN7)))/(AN5+EXP(AN6*(AN4-AJ324))))^AN5)/(1-((AN5+EXP(AN6*(AN4-AN7)))/(AN5+EXP(AN6*(AN4-AN9))))^AN5))","v":0},{"$f":"IF(OR(AJ324<=AN9,AJ324>100000),0,IF(AJ324<=AO7,AO8,AO8+(AO10-AO8)*(1-((AO5+EXP(AO6*(AO4-AO7)))/(AO5+EXP(AO6*(AO4-AJ324))))^AO5)/(1-((AO5+EXP(AO6*(AO4-AO7)))/(AO5+EXP(AO6*(AO4-AO9))))^AO5)))","v":0},0,0]
[314,{"$f":"'daily uptake'!F408","v":"2011-09-10"},{"$f":"5/9*'daily uptake'!Q408","v":20.555555555555557},{"$f":"5/9*'daily uptake'!N408","v":10.555555555555555},{"$f":"IF(AND($A325>='daily uptake'!$C$9,$A325<='daily uptake'!$C$10),$C325+E324,0)","v":0},{"$f":"IF(AND($A325>='daily uptake'!$C$18,$A325<='daily uptake'!$C$20),$D325+F324,0)","v":0},{"$f":"IF(AND($A325>='daily uptake'!$C$24,$A325<='daily uptake'!$C$25),$C325+G324,0)","v":244.44444444444446},{"$f":"IF(OR(F325<=I7,F325>I9),0,I8+(I10-I8)*(1-((I5+EXP(I6*(I4-I7)))/(I5+EXP(I6*(I4-F325))))^I5)/(1-((I5+EXP(I6*(I4-I7)))/(I5+EXP(I6*(I4-I9))))^I5))","v":0},{"$f":"IF(OR(F325<=J7,F325>J9),0,J8+(J10-J8)*(1-((J5+EXP(J6*(J4-J7)))/(J5+EXP(J6*(J4-F325))))^J5)/(1-((J5+EXP(J6*(J4-J7)))/(J5+EXP(J6*(J4-J9))))^J5))","v":0},{"$f":"IF(OR(F325<=J9,F325>100000),0,IF(F325<=K7,K8,K8+(K10-K8)*(1-((K5+EXP(K6*(K4-K7)))/(K5+EXP(K6*(K4-F325))))^K5)/(1-((K5+EXP(K6*(K4-K7)))/(K5+EXP(K6*(K4-K9))))^K5)))","v":0},0,0,0,14.113741464423201,"2011-09-10",{"$f":"MAX(L$12:L325)+MAX(M$12:M325)+MAX(N$12:N325)","v":404.11374146442319},"2011-09-10",1.53712489420775,null,null,null,null,null,null,null,null,null,null,null,null,null,null,null,null,null,0,null,{"$f":"IF(OR(AJ325<=AM7,AJ325>AM9),0,AM8+(AM10-AM8)*(1-((AM5+EXP(AM6*(AM4-AM7)))/(AM5+EXP(AM6*(AM4-AJ325))))^AM5)/(1-((AM5+EXP(AM6*(AM4-AM7)))/(AM5+EXP(AM6*(AM4-AM9))))^AM5))","v":0},{"$f":"IF(OR(AJ325<=AN7,AJ325>AN9),0,AN8+(AN10-AN8)*(1-((AN5+EXP(AN6*(AN4-AN7)))/(AN5+EXP(AN6*(AN4-AJ325))))^AN5)/(1-((AN5+EXP(AN6*(AN4-AN7)))/(AN5+EXP(AN6*(AN4-AN9))))^AN5))","v":0},{"$f":"IF(OR(AJ325<=AN9,AJ325>100000),0,IF(AJ325<=AO7,AO8,AO8+(AO10-AO8)*(1-((AO5+EXP(AO6*(AO4-AO7)))/(AO5+EXP(AO6*(AO4-AJ325))))^AO5)/(1-((AO5+EXP(AO6*(AO4-AO7)))/(AO5+EXP(AO6*(AO4-AO9))))^AO5)))","v":0},0,0]
[315,{"$f":"'daily uptake'!F409","v":"2011-09-11"},{"$f":"5/9*'daily uptake'!Q409","v":21.388888888888889},{"$f":"5/9*'daily uptake'!N409","v":11.388888888888889},{"$f":"IF(AND($A326>='daily uptake'!$C$9,$A326<='daily uptake'!$C$10),$C326+E325,0)","v":0},{"$f":"IF(AND($A326>='daily uptake'!$C$18,$A326<='daily uptake'!$C$20),$D326+F325,0)","v":0},{"$f":"IF(AND($A326>='daily uptake'!$C$24,$A326<='daily uptake'!$C$25),$C326+G325,0)","v":265.83333333333337},{"$f":"IF(OR(F326<=I7,F326>I9),0,I8+(I10-I8)*(1-((I5+EXP(I6*(I4-I7)))/(I5+EXP(I6*(I4-F326))))^I5)/(1-((I5+EXP(I6*(I4-I7)))/(I5+EXP(I6*(I4-I9))))^I5))","v":0},{"$f":"IF(OR(F326<=J7,F326>J9),0,J8+(J10-J8)*(1-((J5+EXP(J6*(J4-J7)))/(J5+EXP(J6*(J4-F326))))^J5)/(1-((J5+EXP(J6*(J4-J7)))/(J5+EXP(J6*(J4-J9))))^J5))","v":0},{"$f":"IF(OR(F326<=J9,F326>100000),0,IF(F326<=K7,K8,K8+(K10-K8)*(1-((K5+EXP(K6*(K4-K7)))/(K5+EXP(K6*(K4-F326))))^K5)/(1-((K5+EXP(K6*(K4-K7)))/(K5+EXP(K6*(K4-K9))))^K5)))","v":0},0,0,0,15.797227513596322,"2011-09-11",{"$f":"MAX(L$12:L326)+MAX(M$12:M326)+MAX(N$12:N326)","v":405.79722751359634},"2011-09-11",1.6834860491731547,null,null,null,null,null,null,null,null,null,null,null,null,null,null,null,null,null,0,null,{"$f":"IF(OR(AJ326<=AM7,AJ326>AM9),0,AM8+(AM10-AM8)*(1-((AM5+EXP(AM6*(AM4-AM7)))/(AM5+EXP(AM6*(AM4-AJ326))))^AM5)/(1-((AM5+EXP(AM6*(AM4-AM7)))/(AM5+EXP(AM6*(AM4-AM9))))^AM5))","v":0},{"$f":"IF(OR(AJ326<=AN7,AJ326>AN9),0,AN8+(AN10-AN8)*(1-((AN5+EXP(AN6*(AN4-AN7)))/(AN5+EXP(AN6*(AN4-AJ326))))^AN5)/(1-((AN5+EXP(AN6*(AN4-AN7)))/(AN5+EXP(AN6*(AN4-AN9))))^AN5))","v":0},{"$f":"IF(OR(AJ326<=AN9,AJ326>100000),0,IF(AJ326<=AO7,AO8,AO8+(AO10-AO8)*(1-((AO5+EXP(AO6*(AO4-AO7)))/(AO5+EXP(AO6*(AO4-AJ326))))^AO5)/(1-((AO5+EXP(AO6*(AO4-AO7)))/(AO5+EXP(AO6*(AO4-AO9))))^AO5)))","v":0},0,0]
[316,{"$f":"'daily uptake'!F410","v":"2011-09-12"},{"$f":"5/9*'daily uptake'!Q410","v":21.111111111111111},{"$f":"5/9*'daily uptake'!N410","v":11.111111111111111},{"$f":"IF(AND($A327>='daily uptake'!$C$9,$A327<='daily uptake'!$C$10),$C327+E326,0)","v":0},{"$f":"IF(AND($A327>='daily uptake'!$C$18,$A327<='daily uptake'!$C$20),$D327+F326,0)","v":0},{"$f":"IF(AND($A327>='daily uptake'!$C$24,$A327<='daily uptake'!$C$25),$C327+G326,0)","v":286.94444444444446},{"$f":"IF(OR(F327<=I7,F327>I9),0,I8+(I10-I8)*(1-((I5+EXP(I6*(I4-I7)))/(I5+EXP(I6*(I4-F327))))^I5)/(1-((I5+EXP(I6*(I4-I7)))/(I5+EXP(I6*(I4-I9))))^I5))","v":0},{"$f":"IF(OR(F327<=J7,F327>J9),0,J8+(J10-J8)*(1-((J5+EXP(J6*(J4-J7)))/(J5+EXP(J6*(J4-F327))))^J5)/(1-((J5+EXP(J6*(J4-J7)))/(J5+EXP(J6*(J4-J9))))^J5))","v":0},{"$f":"IF(OR(F327<=J9,F327>100000),0,IF(F327<=K7,K8,K8+(K10-K8)*(1-((K5+EXP(K6*(K4-K7)))/(K5+EXP(K6*(K4-F327))))^K5)/(1-((K5+EXP(K6*(K4-K7)))/(K5+EXP(K6*(K4-K9))))^K5)))","v":0},0,0,0,17.547329012060462,"2011-09-12",{"$f":"MAX(L$12:L327)+MAX(M$12:M327)+MAX(N$12:N327)","v":407.54732901206046},"2011-09-12",1.7501014984641188,null,null,null,null,null,null,null,null,null,null,null,null,null,null,null,null,null,0,null,{"$f":"IF(OR(AJ327<=AM7,AJ327>AM9),0,AM8+(AM10-AM8)*(1-((AM5+EXP(AM6*(AM4-AM7)))/(AM5+EXP(AM6*(AM4-AJ327))))^AM5)/(1-((AM5+EXP(AM6*(AM4-AM7)))/(AM5+EXP(AM6*(AM4-AM9))))^AM5))","v":0},{"$f":"IF(OR(AJ327<=AN7,AJ327>AN9),0,AN8+(AN10-AN8)*(1-((AN5+EXP(AN6*(AN4-AN7)))/(AN5+EXP(AN6*(AN4-AJ327))))^AN5)/(1-((AN5+EXP(AN6*(AN4-AN7)))/(AN5+EXP(AN6*(AN4-AN9))))^AN5))","v":0},{"$f":"IF(OR(AJ327<=AN9,AJ327>100000),0,IF(AJ327<=AO7,AO8,AO8+(AO10-AO8)*(1-((AO5+EXP(AO6*(AO4-AO7)))/(AO5+EXP(AO6*(AO4-AJ327))))^AO5)/(1-((AO5+EXP(AO6*(AO4-AO7)))/(AO5+EXP(AO6*(AO4-AO9))))^AO5)))","v":0},0,0]
[317,{"$f":"'daily uptake'!F411","v":"2011-09-13"},{"$f":"5/9*'daily uptake'!Q411","v":21.111111111111111},{"$f":"5/9*'daily uptake'!N411","v":11.111111111111111},{"$f":"IF(AND($A328>='daily uptake'!$C$9,$A328<='daily uptake'!$C$10),$C328+E327,0)","v":0},{"$f":"IF(AND($A328>='daily uptake'!$C$18,$A328<='daily uptake'!$C$20),$D328+F327,0)","v":0},{"$f":"IF(AND($A328>='daily uptake'!$C$24,$A328<='daily uptake'!$C$25),$C328+G327,0)","v":308.05555555555554},{"$f":"IF(OR(F328<=I7,F328>I9),0,I8+(I10-I8)*(1-((I5+EXP(I6*(I4-I7)))/(I5+EXP(I6*(I4-F328))))^I5)/(1-((I5+EXP(I6*(I4-I7)))/(I5+EXP(I6*(I4-I9))))^I5))","v":0},{"$f":"IF(OR(F328<=J7,F328>J9),0,J8+(J10-J8)*(1-((J5+EXP(J6*(J4-J7)))/(J5+EXP(J6*(J4-F328))))^J5)/(1-((J5+EXP(J6*(J4-J7)))/(J5+EXP(J6*(J4-J9))))^J5))","v":0},{"$f":"IF(OR(F328<=J9,F328>100000),0,IF(F328<=K7,K8,K8+(K10-K8)*(1-((K5+EXP(K6*(K4-K7)))/(K5+EXP(K6*(K4-F328))))^K5)/(1-((K5+EXP(K6*(K4-K7)))/(K5+EXP(K6*(K4-K9))))^K5)))","v":0},0,0,0,19.390001196570832,"2011-09-13",{"$f":"MAX(L$12:L328)+MAX(M$12:M328)+MAX(N$12:N328)","v":409.39000119657084},"2011-09-13",1.8426721845103771,null,null,null,null,null,null,null,null,null,null,null,null,null,null,null,null,null,0,null,{"$f":"IF(OR(AJ328<=AM7,AJ328>AM9),0,AM8+(AM10-AM8)*(1-((AM5+EXP(AM6*(AM4-AM7)))/(AM5+EXP(AM6*(AM4-AJ328))))^AM5)/(1-((AM5+EXP(AM6*(AM4-AM7)))/(AM5+EXP(AM6*(AM4-AM9))))^AM5))","v":0},{"$f":"IF(OR(AJ328<=AN7,AJ328>AN9),0,AN8+(AN10-AN8)*(1-((AN5+EXP(AN6*(AN4-AN7)))/(AN5+EXP(AN6*(AN4-AJ328))))^AN5)/(1-((AN5+EXP(AN6*(AN4-AN7)))/(AN5+EXP(AN6*(AN4-AN9))))^AN5))","v":0},{"$f":"IF(OR(AJ328<=AN9,AJ328>100000),0,IF(AJ328<=AO7,AO8,AO8+(AO10-AO8)*(1-((AO5+EXP(AO6*(AO4-AO7)))/(AO5+EXP(AO6*(AO4-AJ328))))^AO5)/(1-((AO5+EXP(AO6*(AO4-AO7)))/(AO5+EXP(AO6*(AO4-AO9))))^AO5)))","v":0},0,0]
[318,{"$f":"'daily uptake'!F412","v":"2011-09-14"},{"$f":"5/9*'daily uptake'!Q412","v":20.833333333333336},{"$f":"5/9*'daily uptake'!N412","v":10.833333333333334},{"$f":"IF(AND($A329>='daily uptake'!$C$9,$A329<='daily uptake'!$C$10),$C329+E328,0)","v":0},{"$f":"IF(AND($A329>='daily uptake'!$C$18,$A329<='daily uptake'!$C$20),$D329+F328,0)","v":0},{"$f":"IF(AND($A329>='daily uptake'!$C$24,$A329<='daily uptake'!$C$25),$C329+G328,0)","v":328.88888888888886},{"$f":"IF(OR(F329<=I7,F329>I9),0,I8+(I10-I8)*(1-((I5+EXP(I6*(I4-I7)))/(I5+EXP(I6*(I4-F329))))^I5)/(1-((I5+EXP(I6*(I4-I7)))/(I5+EXP(I6*(I4-I9))))^I5))","v":0},{"$f":"IF(OR(F329<=J7,F329>J9),0,J8+(J10-J8)*(1-((J5+EXP(J6*(J4-J7)))/(J5+EXP(J6*(J4-F329))))^J5)/(1-((J5+EXP(J6*(J4-J7)))/(J5+EXP(J6*(J4-J9))))^J5))","v":0},{"$f":"IF(OR(F329<=J9,F329>100000),0,IF(F329<=K7,K8,K8+(K10-K8)*(1-((K5+EXP(K6*(K4-K7)))/(K5+EXP(K6*(K4-F329))))^K5)/(1-((K5+EXP(K6*(K4-K7)))/(K5+EXP(K6*(K4-K9))))^K5)))","v":0},0,0,0,21.30395769610271,"2011-09-14",{"$f":"MAX(L$12:L329)+MAX(M$12:M329)+MAX(N$12:N329)","v":411.30395769610271},"2011-09-14",1.9139564995318779,null,null,null,null,null,null,null,null,null,null,null,null,null,null,null,null,null,0,null,{"$f":"IF(OR(AJ329<=AM7,AJ329>AM9),0,AM8+(AM10-AM8)*(1-((AM5+EXP(AM6*(AM4-AM7)))/(AM5+EXP(AM6*(AM4-AJ329))))^AM5)/(1-((AM5+EXP(AM6*(AM4-AM7)))/(AM5+EXP(AM6*(AM4-AM9))))^AM5))","v":0},{"$f":"IF(OR(AJ329<=AN7,AJ329>AN9),0,AN8+(AN10-AN8)*(1-((AN5+EXP(AN6*(AN4-AN7)))/(AN5+EXP(AN6*(AN4-AJ329))))^AN5)/(1-((AN5+EXP(AN6*(AN4-AN7)))/(AN5+EXP(AN6*(AN4-AN9))))^AN5))","v":0},{"$f":"IF(OR(AJ329<=AN9,AJ329>100000),0,IF(AJ329<=AO7,AO8,AO8+(AO10-AO8)*(1-((AO5+EXP(AO6*(AO4-AO7)))/(AO5+EXP(AO6*(AO4-AJ329))))^AO5)/(1-((AO5+EXP(AO6*(AO4-AO7)))/(AO5+EXP(AO6*(AO4-AO9))))^AO5)))","v":0},0,0]
[319,{"$f":"'daily uptake'!F413","v":"2011-09-15"},{"$f":"5/9*'daily uptake'!Q413","v":20.833333333333336},{"$f":"5/9*'daily uptake'!N413","v":10.833333333333334},{"$f":"IF(AND($A330>='daily uptake'!$C$9,$A330<='daily uptake'!$C$10),$C330+E329,0)","v":0},{"$f":"IF(AND($A330>='daily uptake'!$C$18,$A330<='daily uptake'!$C$20),$D330+F329,0)","v":0},{"$f":"IF(AND($A330>='daily uptake'!$C$24,$A330<='daily uptake'!$C$25),$C330+G329,0)","v":349.72222222222217},{"$f":"IF(OR(F330<=I7,F330>I9),0,I8+(I10-I8)*(1-((I5+EXP(I6*(I4-I7)))/(I5+EXP(I6*(I4-F330))))^I5)/(1-((I5+EXP(I6*(I4-I7)))/(I5+EXP(I6*(I4-I9))))^I5))","v":0},{"$f":"IF(OR(F330<=J7,F330>J9),0,J8+(J10-J8)*(1-((J5+EXP(J6*(J4-J7)))/(J5+EXP(J6*(J4-F330))))^J5)/(1-((J5+EXP(J6*(J4-J7)))/(J5+EXP(J6*(J4-J9))))^J5))","v":0},{"$f":"IF(OR(F330<=J9,F330>100000),0,IF(F330<=K7,K8,K8+(K10-K8)*(1-((K5+EXP(K6*(K4-K7)))/(K5+EXP(K6*(K4-F330))))^K5)/(1-((K5+EXP(K6*(K4-K7)))/(K5+EXP(K6*(K4-K9))))^K5)))","v":0},0,0,0,23.317785599852126,"2011-09-15",{"$f":"MAX(L$12:L330)+MAX(M$12:M330)+MAX(N$12:N330)","v":413.31778559985213},"2011-09-15",2.0138279037494158,null,null,null,null,null,null,null,null,null,null,null,null,null,null,null,null,null,0,null,{"$f":"IF(OR(AJ330<=AM7,AJ330>AM9),0,AM8+(AM10-AM8)*(1-((AM5+EXP(AM6*(AM4-AM7)))/(AM5+EXP(AM6*(AM4-AJ330))))^AM5)/(1-((AM5+EXP(AM6*(AM4-AM7)))/(AM5+EXP(AM6*(AM4-AM9))))^AM5))","v":0},{"$f":"IF(OR(AJ330<=AN7,AJ330>AN9),0,AN8+(AN10-AN8)*(1-((AN5+EXP(AN6*(AN4-AN7)))/(AN5+EXP(AN6*(AN4-AJ330))))^AN5)/(1-((AN5+EXP(AN6*(AN4-AN7)))/(AN5+EXP(AN6*(AN4-AN9))))^AN5))","v":0},{"$f":"IF(OR(AJ330<=AN9,AJ330>100000),0,IF(AJ330<=AO7,AO8,AO8+(AO10-AO8)*(1-((AO5+EXP(AO6*(AO4-AO7)))/(AO5+EXP(AO6*(AO4-AJ330))))^AO5)/(1-((AO5+EXP(AO6*(AO4-AO7)))/(AO5+EXP(AO6*(AO4-AO9))))^AO5)))","v":0},0,0]
[320,{"$f":"'daily uptake'!F414","v":"2011-09-16"},{"$f":"5/9*'daily uptake'!Q414","v":20},{"$f":"5/9*'daily uptake'!N414","v":10},{"$f":"IF(AND($A331>='daily uptake'!$C$9,$A331<='daily uptake'!$C$10),$C331+E330,0)","v":0},{"$f":"IF(AND($A331>='daily uptake'!$C$18,$A331<='daily uptake'!$C$20),$D331+F330,0)","v":0},{"$f":"IF(AND($A331>='daily uptake'!$C$24,$A331<='daily uptake'!$C$25),$C331+G330,0)","v":369.72222222222217},{"$f":"IF(OR(F331<=I7,F331>I9),0,I8+(I10-I8)*(1-((I5+EXP(I6*(I4-I7)))/(I5+EXP(I6*(I4-F331))))^I5)/(1-((I5+EXP(I6*(I4-I7)))/(I5+EXP(I6*(I4-I9))))^I5))","v":0},{"$f":"IF(OR(F331<=J7,F331>J9),0,J8+(J10-J8)*(1-((J5+EXP(J6*(J4-J7)))/(J5+EXP(J6*(J4-F331))))^J5)/(1-((J5+EXP(J6*(J4-J7)))/(J5+EXP(J6*(J4-J9))))^J5))","v":0},{"$f":"IF(OR(F331<=J9,F331>100000),0,IF(F331<=K7,K8,K8+(K10-K8)*(1-((K5+EXP(K6*(K4-K7)))/(K5+EXP(K6*(K4-F331))))^K5)/(1-((K5+EXP(K6*(K4-K7)))/(K5+EXP(K6*(K4-K9))))^K5)))","v":0},0,0,0,25.34985433733446,{"$f":"B331","v":"2011-09-16"},{"$f":"MAX(L$12:L331)+MAX(M$12:M331)+MAX(N$12:N331)","v":415.34985433733448},{"$f":"B331","v":"2011-09-16"},2.0320687374823478,null,null,null,null,null,null,null,null,null,null,null,null,null,null,null,null,null,0,null,{"$f":"IF(OR(AJ331<=AM7,AJ331>AM9),0,AM8+(AM10-AM8)*(1-((AM5+EXP(AM6*(AM4-AM7)))/(AM5+EXP(AM6*(AM4-AJ331))))^AM5)/(1-((AM5+EXP(AM6*(AM4-AM7)))/(AM5+EXP(AM6*(AM4-AM9))))^AM5))","v":0},{"$f":"IF(OR(AJ331<=AN7,AJ331>AN9),0,AN8+(AN10-AN8)*(1-((AN5+EXP(AN6*(AN4-AN7)))/(AN5+EXP(AN6*(AN4-AJ331))))^AN5)/(1-((AN5+EXP(AN6*(AN4-AN7)))/(AN5+EXP(AN6*(AN4-AN9))))^AN5))","v":0},{"$f":"IF(OR(AJ331<=AN9,AJ331>100000),0,IF(AJ331<=AO7,AO8,AO8+(AO10-AO8)*(1-((AO5+EXP(AO6*(AO4-AO7)))/(AO5+EXP(AO6*(AO4-AJ331))))^AO5)/(1-((AO5+EXP(AO6*(AO4-AO7)))/(AO5+EXP(AO6*(AO4-AO9))))^AO5)))","v":0},0,0]
[321,{"$f":"'daily uptake'!F415","v":"2011-09-17"},{"$f":"5/9*'daily uptake'!Q415","v":20.277777777777779},{"$f":"5/9*'daily uptake'!N415","v":10.277777777777779},{"$f":"IF(AND($A332>='daily uptake'!$C$9,$A332<='daily uptake'!$C$10),$C332+E331,0)","v":0},{"$f":"IF(AND($A332>='daily uptake'!$C$18,$A332<='daily uptake'!$C$20),$D332+F331,0)","v":0},{"$f":"IF(AND($A332>='daily uptake'!$C$24,$A332<='daily uptake'!$C$25),$C332+G331,0)","v":389.99999999999994},{"$f":"IF(OR(F332<=I7,F332>I9),0,I8+(I10-I8)*(1-((I5+EXP(I6*(I4-I7)))/(I5+EXP(I6*(I4-F332))))^I5)/(1-((I5+EXP(I6*(I4-I7)))/(I5+EXP(I6*(I4-I9))))^I5))","v":0},{"$f":"IF(OR(F332<=J7,F332>J9),0,J8+(J10-J8)*(1-((J5+EXP(J6*(J4-J7)))/(J5+EXP(J6*(J4-F332))))^J5)/(1-((J5+EXP(J6*(J4-J7)))/(J5+EXP(J6*(J4-J9))))^J5))","v":0},{"$f":"IF(OR(F332<=J9,F332>100000),0,IF(F332<=K7,K8,K8+(K10-K8)*(1-((K5+EXP(K6*(K4-K7)))/(K5+EXP(K6*(K4-F332))))^K5)/(1-((K5+EXP(K6*(K4-K7)))/(K5+EXP(K6*(K4-K9))))^K5)))","v":0},0,0,{"$f":"M$10*(1-(($M$5+EXP($M$6*$M$4))/($M$5+EXP($M$6*($M$4-$E332))))^$M$5)/(1-(($M$5+EXP($M$6*$M$4))/($M$5+EXP($M$6*($M$4-M$9))))^$M$5)","v":0},27.513987086703757,"2011-09-17",{"$f":"MAX(L$12:L332)+MAX(M$12:M332)+MAX(N$12:N332)","v":417.51398708670376},"2011-09-17",2.164132749369287,null,null,null,null,null,null,null,null,null,null,null,null,null,null,null,null,null,0,null,{"$f":"IF(OR(AJ332<=AM7,AJ332>AM9),0,AM8+(AM10-AM8)*(1-((AM5+EXP(AM6*(AM4-AM7)))/(AM5+EXP(AM6*(AM4-AJ332))))^AM5)/(1-((AM5+EXP(AM6*(AM4-AM7)))/(AM5+EXP(AM6*(AM4-AM9))))^AM5))","v":0},{"$f":"IF(OR(AJ332<=AN7,AJ332>AN9),0,AN8+(AN10-AN8)*(1-((AN5+EXP(AN6*(AN4-AN7)))/(AN5+EXP(AN6*(AN4-AJ332))))^AN5)/(1-((AN5+EXP(AN6*(AN4-AN7)))/(AN5+EXP(AN6*(AN4-AN9))))^AN5))","v":0},{"$f":"IF(OR(AJ332<=AN9,AJ332>100000),0,IF(AJ332<=AO7,AO8,AO8+(AO10-AO8)*(1-((AO5+EXP(AO6*(AO4-AO7)))/(AO5+EXP(AO6*(AO4-AJ332))))^AO5)/(1-((AO5+EXP(AO6*(AO4-AO7)))/(AO5+EXP(AO6*(AO4-AO9))))^AO5)))","v":0},0,0]
[322,{"$f":"'daily uptake'!F416","v":"2011-09-18"},{"$f":"5/9*'daily uptake'!Q416","v":20.555555555555557},{"$f":"5/9*'daily uptake'!N416","v":10.555555555555555},{"$f":"IF(AND($A333>='daily uptake'!$C$9,$A333<='daily uptake'!$C$10),$C333+E332,0)","v":0},{"$f":"IF(AND($A333>='daily uptake'!$C$18,$A333<='daily uptake'!$C$20),$D333+F332,0)","v":0},{"$f":"IF(AND($A333>='daily uptake'!$C$24,$A333<='daily uptake'!$C$25),$C333+G332,0)","v":410.55555555555549},{"$f":"IF(OR(F333<=I7,F333>I9),0,I8+(I10-I8)*(1-((I5+EXP(I6*(I4-I7)))/(I5+EXP(I6*(I4-F333))))^I5)/(1-((I5+EXP(I6*(I4-I7)))/(I5+EXP(I6*(I4-I9))))^I5))","v":0},{"$f":"IF(OR(F333<=J7,F333>J9),0,J8+(J10-J8)*(1-((J5+EXP(J6*(J4-J7)))/(J5+EXP(J6*(J4-F333))))^J5)/(1-((J5+EXP(J6*(J4-J7)))/(J5+EXP(J6*(J4-J9))))^J5))","v":0},{"$f":"IF(OR(F333<=J9,F333>100000),0,IF(F333<=K7,K8,K8+(K10-K8)*(1-((K5+EXP(K6*(K4-K7)))/(K5+EXP(K6*(K4-F333))))^K5)/(1-((K5+EXP(K6*(K4-K7)))/(K5+EXP(K6*(K4-K9))))^K5)))","v":0},0,{"$f":"IF(L$8=0,0,K333*L$7/L$8)","v":0},0,{"$f":"N$10*(1-(($N$5+EXP($N$6*$N$4))/($N$5+EXP($N$6*($N$4-$G333))))^$N$5)/(1-(($N$5+EXP($N$6*$N$4))/($N$5+EXP($N$6*($N$4-N$9))))^$N$5)","v":29.819897550424244},"2011-09-18",{"$f":"MAX(L$12:L333)+MAX(M$12:M333)+MAX(N$12:N333)","v":419.81989755042423},"2011-09-18",{"$f":"P333-P332","v":2.3059104637204655},null,null,null,null,null,null,null,null,null,null,null,null,null,null,null,null,null,0,null,{"$f":"IF(OR(AJ333<=AM7,AJ333>AM9),0,AM8+(AM10-AM8)*(1-((AM5+EXP(AM6*(AM4-AM7)))/(AM5+EXP(AM6*(AM4-AJ333))))^AM5)/(1-((AM5+EXP(AM6*(AM4-AM7)))/(AM5+EXP(AM6*(AM4-AM9))))^AM5))","v":0},{"$f":"IF(OR(AJ333<=AN7,AJ333>AN9),0,AN8+(AN10-AN8)*(1-((AN5+EXP(AN6*(AN4-AN7)))/(AN5+EXP(AN6*(AN4-AJ333))))^AN5)/(1-((AN5+EXP(AN6*(AN4-AN7)))/(AN5+EXP(AN6*(AN4-AN9))))^AN5))","v":0},{"$f":"IF(OR(AJ333<=AN9,AJ333>100000),0,IF(AJ333<=AO7,AO8,AO8+(AO10-AO8)*(1-((AO5+EXP(AO6*(AO4-AO7)))/(AO5+EXP(AO6*(AO4-AJ333))))^AO5)/(1-((AO5+EXP(AO6*(AO4-AO7)))/(AO5+EXP(AO6*(AO4-AO9))))^AO5)))","v":0},0,{"$f":"IF(AP$8=0,0,AO333*AP$7/AP$8)","v":0}]
[323,{"$f":"'daily uptake'!F417","v":"2011-09-19"},{"$f":"5/9*'daily uptake'!Q417","v":20.555555555555557},{"$f":"5/9*'daily uptake'!N417","v":10.555555555555555},{"$f":"IF(AND($A334>='daily uptake'!$C$9,$A334<='daily uptake'!$C$10),$C334+E333,0)","v":0},{"$f":"IF(AND($A334>='daily uptake'!$C$18,$A334<='daily uptake'!$C$20),$D334+F333,0)","v":0},{"$f":"IF(AND($A334>='daily uptake'!$C$24,$A334<='daily uptake'!$C$25),$C334+G333,0)","v":431.11111111111103},{"$f":"IF(OR(F334<=I7,F334>I9),0,I8+(I10-I8)*(1-((I5+EXP(I6*(I4-I7)))/(I5+EXP(I6*(I4-F334))))^I5)/(1-((I5+EXP(I6*(I4-I7)))/(I5+EXP(I6*(I4-I9))))^I5))","v":0},{"$f":"IF(OR(F334<=J7,F334>J9),0,J8+(J10-J8)*(1-((J5+EXP(J6*(J4-J7)))/(J5+EXP(J6*(J4-F334))))^J5)/(1-((J5+EXP(J6*(J4-J7)))/(J5+EXP(J6*(J4-J9))))^J5))","v":0},{"$f":"IF(OR(F334<=J9,F334>100000),0,IF(F334<=K7,K8,K8+(K10-K8)*(1-((K5+EXP(K6*(K4-K7)))/(K5+EXP(K6*(K4-F334))))^K5)/(1-((K5+EXP(K6*(K4-K7)))/(K5+EXP(K6*(K4-K9))))^K5)))","v":0},0,0,0,32.244486709802544,"2011-09-19",{"$f":"MAX(L$12:L334)+MAX(M$12:M334)+MAX(N$12:N334)","v":422.24448670980257},"2011-09-19",2.4245891593783426,null,null,null,null,null,null,null,null,null,null,null,null,null,null,null,null,null,0,null,{"$f":"IF(OR(AJ334<=AM7,AJ334>AM9),0,AM8+(AM10-AM8)*(1-((AM5+EXP(AM6*(AM4-AM7)))/(AM5+EXP(AM6*(AM4-AJ334))))^AM5)/(1-((AM5+EXP(AM6*(AM4-AM7)))/(AM5+EXP(AM6*(AM4-AM9))))^AM5))","v":0},{"$f":"IF(OR(AJ334<=AN7,AJ334>AN9),0,AN8+(AN10-AN8)*(1-((AN5+EXP(AN6*(AN4-AN7)))/(AN5+EXP(AN6*(AN4-AJ334))))^AN5)/(1-((AN5+EXP(AN6*(AN4-AN7)))/(AN5+EXP(AN6*(AN4-AN9))))^AN5))","v":0},{"$f":"IF(OR(AJ334<=AN9,AJ334>100000),0,IF(AJ334<=AO7,AO8,AO8+(AO10-AO8)*(1-((AO5+EXP(AO6*(AO4-AO7)))/(AO5+EXP(AO6*(AO4-AJ334))))^AO5)/(1-((AO5+EXP(AO6*(AO4-AO7)))/(AO5+EXP(AO6*(AO4-AO9))))^AO5)))","v":0},0,0]
[324,{"$f":"'daily uptake'!F418","v":"2011-09-20"},{"$f":"5/9*'daily uptake'!Q418","v":20.833333333333336},{"$f":"5/9*'daily uptake'!N418","v":10.833333333333334},{"$f":"IF(AND($A335>='daily uptake'!$C$9,$A335<='daily uptake'!$C$10),$C335+E334,0)","v":0},{"$f":"IF(AND($A335>='daily uptake'!$C$18,$A335<='daily uptake'!$C$20),$D335+F334,0)","v":0},{"$f":"IF(AND($A335>='daily uptake'!$C$24,$A335<='daily uptake'!$C$25),$C335+G334,0)","v":451.94444444444434},{"$f":"IF(OR(F335<=I7,F335>I9),0,I8+(I10-I8)*(1-((I5+EXP(I6*(I4-I7)))/(I5+EXP(I6*(I4-F335))))^I5)/(1-((I5+EXP(I6*(I4-I7)))/(I5+EXP(I6*(I4-I9))))^I5))","v":0},{"$f":"IF(OR(F335<=J7,F335>J9),0,J8+(J10-J8)*(1-((J5+EXP(J6*(J4-J7)))/(J5+EXP(J6*(J4-F335))))^J5)/(1-((J5+EXP(J6*(J4-J7)))/(J5+EXP(J6*(J4-J9))))^J5))","v":0},{"$f":"IF(OR(F335<=J9,F335>100000),0,IF(F335<=K7,K8,K8+(K10-K8)*(1-((K5+EXP(K6*(K4-K7)))/(K5+EXP(K6*(K4-F335))))^K5)/(1-((K5+EXP(K6*(K4-K7)))/(K5+EXP(K6*(K4-K9))))^K5)))","v":0},0,0,0,34.829197291686015,"2011-09-20",{"$f":"MAX(L$12:L335)+MAX(M$12:M335)+MAX(N$12:N335)","v":424.829197291686},"2011-09-20",2.5847105818834279,null,null,null,null,null,null,null,null,null,null,null,null,null,null,null,null,null,0,null,{"$f":"IF(OR(AJ335<=AM7,AJ335>AM9),0,AM8+(AM10-AM8)*(1-((AM5+EXP(AM6*(AM4-AM7)))/(AM5+EXP(AM6*(AM4-AJ335))))^AM5)/(1-((AM5+EXP(AM6*(AM4-AM7)))/(AM5+EXP(AM6*(AM4-AM9))))^AM5))","v":0},{"$f":"IF(OR(AJ335<=AN7,AJ335>AN9),0,AN8+(AN10-AN8)*(1-((AN5+EXP(AN6*(AN4-AN7)))/(AN5+EXP(AN6*(AN4-AJ335))))^AN5)/(1-((AN5+EXP(AN6*(AN4-AN7)))/(AN5+EXP(AN6*(AN4-AN9))))^AN5))","v":0},{"$f":"IF(OR(AJ335<=AN9,AJ335>100000),0,IF(AJ335<=AO7,AO8,AO8+(AO10-AO8)*(1-((AO5+EXP(AO6*(AO4-AO7)))/(AO5+EXP(AO6*(AO4-AJ335))))^AO5)/(1-((AO5+EXP(AO6*(AO4-AO7)))/(AO5+EXP(AO6*(AO4-AO9))))^AO5)))","v":0},0,0]
[325,{"$f":"'daily uptake'!F419","v":"2011-09-21"},{"$f":"5/9*'daily uptake'!Q419","v":20.833333333333336},{"$f":"5/9*'daily uptake'!N419","v":10.833333333333334},{"$f":"IF(AND($A336>='daily uptake'!$C$9,$A336<='daily uptake'!$C$10),$C336+E335,0)","v":0},{"$f":"IF(AND($A336>='daily uptake'!$C$18,$A336<='daily uptake'!$C$20),$D336+F335,0)","v":0},{"$f":"IF(AND($A336>='daily uptake'!$C$24,$A336<='daily uptake'!$C$25),$C336+G335,0)","v":472.77777777777766},{"$f":"IF(OR(F336<=I7,F336>I9),0,I8+(I10-I8)*(1-((I5+EXP(I6*(I4-I7)))/(I5+EXP(I6*(I4-F336))))^I5)/(1-((I5+EXP(I6*(I4-I7)))/(I5+EXP(I6*(I4-I9))))^I5))","v":0},{"$f":"IF(OR(F336<=J7,F336>J9),0,J8+(J10-J8)*(1-((J5+EXP(J6*(J4-J7)))/(J5+EXP(J6*(J4-F336))))^J5)/(1-((J5+EXP(J6*(J4-J7)))/(J5+EXP(J6*(J4-J9))))^J5))","v":0},{"$f":"IF(OR(F336<=J9,F336>100000),0,IF(F336<=K7,K8,K8+(K10-K8)*(1-((K5+EXP(K6*(K4-K7)))/(K5+EXP(K6*(K4-F336))))^K5)/(1-((K5+EXP(K6*(K4-K7)))/(K5+EXP(K6*(K4-K9))))^K5)))","v":0},0,0,0,37.548779272804573,"2011-09-21",{"$f":"MAX(L$12:L336)+MAX(M$12:M336)+MAX(N$12:N336)","v":427.54877927280455},"2011-09-21",2.7195819811185515,null,null,null,null,null,null,null,null,null,null,null,null,null,null,null,null,null,0,null,{"$f":"IF(OR(AJ336<=AM7,AJ336>AM9),0,AM8+(AM10-AM8)*(1-((AM5+EXP(AM6*(AM4-AM7)))/(AM5+EXP(AM6*(AM4-AJ336))))^AM5)/(1-((AM5+EXP(AM6*(AM4-AM7)))/(AM5+EXP(AM6*(AM4-AM9))))^AM5))","v":0},{"$f":"IF(OR(AJ336<=AN7,AJ336>AN9),0,AN8+(AN10-AN8)*(1-((AN5+EXP(AN6*(AN4-AN7)))/(AN5+EXP(AN6*(AN4-AJ336))))^AN5)/(1-((AN5+EXP(AN6*(AN4-AN7)))/(AN5+EXP(AN6*(AN4-AN9))))^AN5))","v":0},{"$f":"IF(OR(AJ336<=AN9,AJ336>100000),0,IF(AJ336<=AO7,AO8,AO8+(AO10-AO8)*(1-((AO5+EXP(AO6*(AO4-AO7)))/(AO5+EXP(AO6*(AO4-AJ336))))^AO5)/(1-((AO5+EXP(AO6*(AO4-AO7)))/(AO5+EXP(AO6*(AO4-AO9))))^AO5)))","v":0},0,0]
[326,{"$f":"'daily uptake'!F420","v":"2011-09-22"},{"$f":"5/9*'daily uptake'!Q420","v":20.833333333333336},{"$f":"5/9*'daily uptake'!N420","v":10.833333333333334},{"$f":"IF(AND($A337>='daily uptake'!$C$9,$A337<='daily uptake'!$C$10),$C337+E336,0)","v":0},{"$f":"IF(AND($A337>='daily uptake'!$C$18,$A337<='daily uptake'!$C$20),$D337+F336,0)","v":0},{"$f":"IF(AND($A337>='daily uptake'!$C$24,$A337<='daily uptake'!$C$25),$C337+G336,0)","v":493.61111111111097},{"$f":"IF(OR(F337<=I7,F337>I9),0,I8+(I10-I8)*(1-((I5+EXP(I6*(I4-I7)))/(I5+EXP(I6*(I4-F337))))^I5)/(1-((I5+EXP(I6*(I4-I7)))/(I5+EXP(I6*(I4-I9))))^I5))","v":0},{"$f":"IF(OR(F337<=J7,F337>J9),0,J8+(J10-J8)*(1-((J5+EXP(J6*(J4-J7)))/(J5+EXP(J6*(J4-F337))))^J5)/(1-((J5+EXP(J6*(J4-J7)))/(J5+EXP(J6*(J4-J9))))^J5))","v":0},{"$f":"IF(OR(F337<=J9,F337>100000),0,IF(F337<=K7,K8,K8+(K10-K8)*(1-((K5+EXP(K6*(K4-K7)))/(K5+EXP(K6*(K4-F337))))^K5)/(1-((K5+EXP(K6*(K4-K7)))/(K5+EXP(K6*(K4-K9))))^K5)))","v":0},0,0,0,40.41027024261188,"2011-09-22",{"$f":"MAX(L$12:L337)+MAX(M$12:M337)+MAX(N$12:N337)","v":430.41027024261189},"2011-09-22",2.8614909698073347,null,null,null,null,null,null,null,null,null,null,null,null,null,null,null,null,null,0,null,{"$f":"IF(OR(AJ337<=AM7,AJ337>AM9),0,AM8+(AM10-AM8)*(1-((AM5+EXP(AM6*(AM4-AM7)))/(AM5+EXP(AM6*(AM4-AJ337))))^AM5)/(1-((AM5+EXP(AM6*(AM4-AM7)))/(AM5+EXP(AM6*(AM4-AM9))))^AM5))","v":0},{"$f":"IF(OR(AJ337<=AN7,AJ337>AN9),0,AN8+(AN10-AN8)*(1-((AN5+EXP(AN6*(AN4-AN7)))/(AN5+EXP(AN6*(AN4-AJ337))))^AN5)/(1-((AN5+EXP(AN6*(AN4-AN7)))/(AN5+EXP(AN6*(AN4-AN9))))^AN5))","v":0},{"$f":"IF(OR(AJ337<=AN9,AJ337>100000),0,IF(AJ337<=AO7,AO8,AO8+(AO10-AO8)*(1-((AO5+EXP(AO6*(AO4-AO7)))/(AO5+EXP(AO6*(AO4-AJ337))))^AO5)/(1-((AO5+EXP(AO6*(AO4-AO7)))/(AO5+EXP(AO6*(AO4-AO9))))^AO5)))","v":0},0,0]
[327,{"$f":"'daily uptake'!F421","v":"2011-09-23"},{"$f":"5/9*'daily uptake'!Q421","v":20.555555555555557},{"$f":"5/9*'daily uptake'!N421","v":10.555555555555555},{"$f":"IF(AND($A338>='daily uptake'!$C$9,$A338<='daily uptake'!$C$10),$C338+E337,0)","v":0},{"$f":"IF(AND($A338>='daily uptake'!$C$18,$A338<='daily uptake'!$C$20),$D338+F337,0)","v":0},{"$f":"IF(AND($A338>='daily uptake'!$C$24,$A338<='daily uptake'!$C$25),$C338+G337,0)","v":514.16666666666652},{"$f":"IF(OR(F338<=I7,F338>I9),0,I8+(I10-I8)*(1-((I5+EXP(I6*(I4-I7)))/(I5+EXP(I6*(I4-F338))))^I5)/(1-((I5+EXP(I6*(I4-I7)))/(I5+EXP(I6*(I4-I9))))^I5))","v":0},{"$f":"IF(OR(F338<=J7,F338>J9),0,J8+(J10-J8)*(1-((J5+EXP(J6*(J4-J7)))/(J5+EXP(J6*(J4-F338))))^J5)/(1-((J5+EXP(J6*(J4-J7)))/(J5+EXP(J6*(J4-J9))))^J5))","v":0},{"$f":"IF(OR(F338<=J9,F338>100000),0,IF(F338<=K7,K8,K8+(K10-K8)*(1-((K5+EXP(K6*(K4-K7)))/(K5+EXP(K6*(K4-F338))))^K5)/(1-((K5+EXP(K6*(K4-K7)))/(K5+EXP(K6*(K4-K9))))^K5)))","v":0},0,0,0,43.379915265522953,"2011-09-23",{"$f":"MAX(L$12:L338)+MAX(M$12:M338)+MAX(N$12:N338)","v":433.37991526552298},"2011-09-23",2.9696450229110951,null,null,null,null,null,null,null,null,null,null,null,null,null,null,null,null,null,0,null,{"$f":"IF(OR(AJ338<=AM7,AJ338>AM9),0,AM8+(AM10-AM8)*(1-((AM5+EXP(AM6*(AM4-AM7)))/(AM5+EXP(AM6*(AM4-AJ338))))^AM5)/(1-((AM5+EXP(AM6*(AM4-AM7)))/(AM5+EXP(AM6*(AM4-AM9))))^AM5))","v":0},{"$f":"IF(OR(AJ338<=AN7,AJ338>AN9),0,AN8+(AN10-AN8)*(1-((AN5+EXP(AN6*(AN4-AN7)))/(AN5+EXP(AN6*(AN4-AJ338))))^AN5)/(1-((AN5+EXP(AN6*(AN4-AN7)))/(AN5+EXP(AN6*(AN4-AN9))))^AN5))","v":0},{"$f":"IF(OR(AJ338<=AN9,AJ338>100000),0,IF(AJ338<=AO7,AO8,AO8+(AO10-AO8)*(1-((AO5+EXP(AO6*(AO4-AO7)))/(AO5+EXP(AO6*(AO4-AJ338))))^AO5)/(1-((AO5+EXP(AO6*(AO4-AO7)))/(AO5+EXP(AO6*(AO4-AO9))))^AO5)))","v":0},0,0]
[328,{"$f":"'daily uptake'!F422","v":"2011-09-24"},{"$f":"5/9*'daily uptake'!Q422","v":20.555555555555557},{"$f":"5/9*'daily uptake'!N422","v":10.555555555555555},{"$f":"IF(AND($A339>='daily uptake'!$C$9,$A339<='daily uptake'!$C$10),$C339+E338,0)","v":0},{"$f":"IF(AND($A339>='daily uptake'!$C$18,$A339<='daily uptake'!$C$20),$D339+F338,0)","v":0},{"$f":"IF(AND($A339>='daily uptake'!$C$24,$A339<='daily uptake'!$C$25),$C339+G338,0)","v":534.72222222222206},{"$f":"IF(OR(F339<=I7,F339>I9),0,I8+(I10-I8)*(1-((I5+EXP(I6*(I4-I7)))/(I5+EXP(I6*(I4-F339))))^I5)/(1-((I5+EXP(I6*(I4-I7)))/(I5+EXP(I6*(I4-I9))))^I5))","v":0},{"$f":"IF(OR(F339<=J7,F339>J9),0,J8+(J10-J8)*(1-((J5+EXP(J6*(J4-J7)))/(J5+EXP(J6*(J4-F339))))^J5)/(1-((J5+EXP(J6*(J4-J7)))/(J5+EXP(J6*(J4-J9))))^J5))","v":0},{"$f":"IF(OR(F339<=J9,F339>100000),0,IF(F339<=K7,K8,K8+(K10-K8)*(1-((K5+EXP(K6*(K4-K7)))/(K5+EXP(K6*(K4-F339))))^K5)/(1-((K5+EXP(K6*(K4-K7)))/(K5+EXP(K6*(K4-K9))))^K5)))","v":0},0,0,0,46.502399132951311,"2011-09-24",{"$f":"MAX(L$12:L339)+MAX(M$12:M339)+MAX(N$12:N339)","v":436.50239913295133},"2011-09-24",3.1224838674283433,null,null,null,null,null,null,null,null,null,null,null,null,null,null,null,null,null,0,null,{"$f":"IF(OR(AJ339<=AM7,AJ339>AM9),0,AM8+(AM10-AM8)*(1-((AM5+EXP(AM6*(AM4-AM7)))/(AM5+EXP(AM6*(AM4-AJ339))))^AM5)/(1-((AM5+EXP(AM6*(AM4-AM7)))/(AM5+EXP(AM6*(AM4-AM9))))^AM5))","v":0},{"$f":"IF(OR(AJ339<=AN7,AJ339>AN9),0,AN8+(AN10-AN8)*(1-((AN5+EXP(AN6*(AN4-AN7)))/(AN5+EXP(AN6*(AN4-AJ339))))^AN5)/(1-((AN5+EXP(AN6*(AN4-AN7)))/(AN5+EXP(AN6*(AN4-AN9))))^AN5))","v":0},{"$f":"IF(OR(AJ339<=AN9,AJ339>100000),0,IF(AJ339<=AO7,AO8,AO8+(AO10-AO8)*(1-((AO5+EXP(AO6*(AO4-AO7)))/(AO5+EXP(AO6*(AO4-AJ339))))^AO5)/(1-((AO5+EXP(AO6*(AO4-AO7)))/(AO5+EXP(AO6*(AO4-AO9))))^AO5)))","v":0},0,0]
[329,{"$f":"'daily uptake'!F423","v":"2011-09-25"},{"$f":"5/9*'daily uptake'!Q423","v":20.833333333333336},{"$f":"5/9*'daily uptake'!N423","v":10.833333333333334},{"$f":"IF(AND($A340>='daily uptake'!$C$9,$A340<='daily uptake'!$C$10),$C340+E339,0)","v":0},{"$f":"IF(AND($A340>='daily uptake'!$C$18,$A340<='daily uptake'!$C$20),$D340+F339,0)","v":0},{"$f":"IF(AND($A340>='daily uptake'!$C$24,$A340<='daily uptake'!$C$25),$C340+G339,0)","v":555.55555555555543},{"$f":"IF(OR(F340<=I7,F340>I9),0,I8+(I10-I8)*(1-((I5+EXP(I6*(I4-I7)))/(I5+EXP(I6*(I4-F340))))^I5)/(1-((I5+EXP(I6*(I4-I7)))/(I5+EXP(I6*(I4-I9))))^I5))","v":0},{"$f":"IF(OR(F340<=J7,F340>J9),0,J8+(J10-J8)*(1-((J5+EXP(J6*(J4-J7)))/(J5+EXP(J6*(J4-F340))))^J5)/(1-((J5+EXP(J6*(J4-J7)))/(J5+EXP(J6*(J4-J9))))^J5))","v":0},{"$f":"IF(OR(F340<=J9,F340>100000),0,IF(F340<=K7,K8,K8+(K10-K8)*(1-((K5+EXP(K6*(K4-K7)))/(K5+EXP(K6*(K4-F340))))^K5)/(1-((K5+EXP(K6*(K4-K7)))/(K5+EXP(K6*(K4-K9))))^K5)))","v":0},0,0,0,49.831093379026065,"2011-09-25",{"$f":"MAX(L$12:L340)+MAX(M$12:M340)+MAX(N$12:N340)","v":439.83109337902607},"2011-09-25",3.3286942460747468,null,null,null,null,null,null,null,null,null,null,null,null,null,null,null,null,null,0,null,{"$f":"IF(OR(AJ340<=AM7,AJ340>AM9),0,AM8+(AM10-AM8)*(1-((AM5+EXP(AM6*(AM4-AM7)))/(AM5+EXP(AM6*(AM4-AJ340))))^AM5)/(1-((AM5+EXP(AM6*(AM4-AM7)))/(AM5+EXP(AM6*(AM4-AM9))))^AM5))","v":0},{"$f":"IF(OR(AJ340<=AN7,AJ340>AN9),0,AN8+(AN10-AN8)*(1-((AN5+EXP(AN6*(AN4-AN7)))/(AN5+EXP(AN6*(AN4-AJ340))))^AN5)/(1-((AN5+EXP(AN6*(AN4-AN7)))/(AN5+EXP(AN6*(AN4-AN9))))^AN5))","v":0},{"$f":"IF(OR(AJ340<=AN9,AJ340>100000),0,IF(AJ340<=AO7,AO8,AO8+(AO10-AO8)*(1-((AO5+EXP(AO6*(AO4-AO7)))/(AO5+EXP(AO6*(AO4-AJ340))))^AO5)/(1-((AO5+EXP(AO6*(AO4-AO7)))/(AO5+EXP(AO6*(AO4-AO9))))^AO5)))","v":0},0,0]
[330,{"$f":"'daily uptake'!F424","v":"2011-09-26"},{"$f":"5/9*'daily uptake'!Q424","v":21.111111111111111},{"$f":"5/9*'daily uptake'!N424","v":11.111111111111111},{"$f":"IF(AND($A341>='daily uptake'!$C$9,$A341<='daily uptake'!$C$10),$C341+E340,0)","v":0},{"$f":"IF(AND($A341>='daily uptake'!$C$18,$A341<='daily uptake'!$C$20),$D341+F340,0)","v":0},{"$f":"IF(AND($A341>='daily uptake'!$C$24,$A341<='daily uptake'!$C$25),$C341+G340,0)","v":576.66666666666652},{"$f":"IF(OR(F341<=I7,F341>I9),0,I8+(I10-I8)*(1-((I5+EXP(I6*(I4-I7)))/(I5+EXP(I6*(I4-F341))))^I5)/(1-((I5+EXP(I6*(I4-I7)))/(I5+EXP(I6*(I4-I9))))^I5))","v":0},{"$f":"IF(OR(F341<=J7,F341>J9),0,J8+(J10-J8)*(1-((J5+EXP(J6*(J4-J7)))/(J5+EXP(J6*(J4-F341))))^J5)/(1-((J5+EXP(J6*(J4-J7)))/(J5+EXP(J6*(J4-J9))))^J5))","v":0},{"$f":"IF(OR(F341<=J9,F341>100000),0,IF(F341<=K7,K8,K8+(K10-K8)*(1-((K5+EXP(K6*(K4-K7)))/(K5+EXP(K6*(K4-F341))))^K5)/(1-((K5+EXP(K6*(K4-K7)))/(K5+EXP(K6*(K4-K9))))^K5)))","v":0},0,0,0,53.381392387777773,"2011-09-26",{"$f":"MAX(L$12:L341)+MAX(M$12:M341)+MAX(N$12:N341)","v":443.38139238777779},"2011-09-26",3.5502990087517219,null,null,null,null,null,null,null,null,null,null,null,null,null,null,null,null,null,0,null,{"$f":"IF(OR(AJ341<=AM7,AJ341>AM9),0,AM8+(AM10-AM8)*(1-((AM5+EXP(AM6*(AM4-AM7)))/(AM5+EXP(AM6*(AM4-AJ341))))^AM5)/(1-((AM5+EXP(AM6*(AM4-AM7)))/(AM5+EXP(AM6*(AM4-AM9))))^AM5))","v":0},{"$f":"IF(OR(AJ341<=AN7,AJ341>AN9),0,AN8+(AN10-AN8)*(1-((AN5+EXP(AN6*(AN4-AN7)))/(AN5+EXP(AN6*(AN4-AJ341))))^AN5)/(1-((AN5+EXP(AN6*(AN4-AN7)))/(AN5+EXP(AN6*(AN4-AN9))))^AN5))","v":0},{"$f":"IF(OR(AJ341<=AN9,AJ341>100000),0,IF(AJ341<=AO7,AO8,AO8+(AO10-AO8)*(1-((AO5+EXP(AO6*(AO4-AO7)))/(AO5+EXP(AO6*(AO4-AJ341))))^AO5)/(1-((AO5+EXP(AO6*(AO4-AO7)))/(AO5+EXP(AO6*(AO4-AO9))))^AO5)))","v":0},0,0]
[331,{"$f":"'daily uptake'!F425","v":"2011-09-27"},{"$f":"5/9*'daily uptake'!Q425","v":20.277777777777779},{"$f":"5/9*'daily uptake'!N425","v":10.277777777777779},{"$f":"IF(AND($A342>='daily uptake'!$C$9,$A342<='daily uptake'!$C$10),$C342+E341,0)","v":0},{"$f":"IF(AND($A342>='daily uptake'!$C$18,$A342<='daily uptake'!$C$20),$D342+F341,0)","v":0},{"$f":"IF(AND($A342>='daily uptake'!$C$24,$A342<='daily uptake'!$C$25),$C342+G341,0)","v":596.94444444444434},{"$f":"IF(OR(F342<=I7,F342>I9),0,I8+(I10-I8)*(1-((I5+EXP(I6*(I4-I7)))/(I5+EXP(I6*(I4-F342))))^I5)/(1-((I5+EXP(I6*(I4-I7)))/(I5+EXP(I6*(I4-I9))))^I5))","v":0},{"$f":"IF(OR(F342<=J7,F342>J9),0,J8+(J10-J8)*(1-((J5+EXP(J6*(J4-J7)))/(J5+EXP(J6*(J4-F342))))^J5)/(1-((J5+EXP(J6*(J4-J7)))/(J5+EXP(J6*(J4-J9))))^J5))","v":0},{"$f":"IF(OR(F342<=J9,F342>100000),0,IF(F342<=K7,K8,K8+(K10-K8)*(1-((K5+EXP(K6*(K4-K7)))/(K5+EXP(K6*(K4-F342))))^K5)/(1-((K5+EXP(K6*(K4-K7)))/(K5+EXP(K6*(K4-K9))))^K5)))","v":0},0,0,0,56.968243659234588,"2011-09-27",{"$f":"MAX(L$12:L342)+MAX(M$12:M342)+MAX(N$12:N342)","v":446.96824365923459},"2011-09-27",3.5868512714567942,null,null,null,null,null,null,null,null,null,null,null,null,null,null,null,null,null,0,null,{"$f":"IF(OR(AJ342<=AM7,AJ342>AM9),0,AM8+(AM10-AM8)*(1-((AM5+EXP(AM6*(AM4-AM7)))/(AM5+EXP(AM6*(AM4-AJ342))))^AM5)/(1-((AM5+EXP(AM6*(AM4-AM7)))/(AM5+EXP(AM6*(AM4-AM9))))^AM5))","v":0},{"$f":"IF(OR(AJ342<=AN7,AJ342>AN9),0,AN8+(AN10-AN8)*(1-((AN5+EXP(AN6*(AN4-AN7)))/(AN5+EXP(AN6*(AN4-AJ342))))^AN5)/(1-((AN5+EXP(AN6*(AN4-AN7)))/(AN5+EXP(AN6*(AN4-AN9))))^AN5))","v":0},{"$f":"IF(OR(AJ342<=AN9,AJ342>100000),0,IF(AJ342<=AO7,AO8,AO8+(AO10-AO8)*(1-((AO5+EXP(AO6*(AO4-AO7)))/(AO5+EXP(AO6*(AO4-AJ342))))^AO5)/(1-((AO5+EXP(AO6*(AO4-AO7)))/(AO5+EXP(AO6*(AO4-AO9))))^AO5)))","v":0},0,0]
[332,{"$f":"'daily uptake'!F426","v":"2011-09-28"},{"$f":"5/9*'daily uptake'!Q426","v":19.722222222222221},{"$f":"5/9*'daily uptake'!N426","v":9.7222222222222232},{"$f":"IF(AND($A343>='daily uptake'!$C$9,$A343<='daily uptake'!$C$10),$C343+E342,0)","v":0},{"$f":"IF(AND($A343>='daily uptake'!$C$18,$A343<='daily uptake'!$C$20),$D343+F342,0)","v":0},{"$f":"IF(AND($A343>='daily uptake'!$C$24,$A343<='daily uptake'!$C$25),$C343+G342,0)","v":616.66666666666652},{"$f":"IF(OR(F343<=I7,F343>I9),0,I8+(I10-I8)*(1-((I5+EXP(I6*(I4-I7)))/(I5+EXP(I6*(I4-F343))))^I5)/(1-((I5+EXP(I6*(I4-I7)))/(I5+EXP(I6*(I4-I9))))^I5))","v":0},{"$f":"IF(OR(F343<=J7,F343>J9),0,J8+(J10-J8)*(1-((J5+EXP(J6*(J4-J7)))/(J5+EXP(J6*(J4-F343))))^J5)/(1-((J5+EXP(J6*(J4-J7)))/(J5+EXP(J6*(J4-J9))))^J5))","v":0},{"$f":"IF(OR(F343<=J9,F343>100000),0,IF(F343<=K7,K8,K8+(K10-K8)*(1-((K5+EXP(K6*(K4-K7)))/(K5+EXP(K6*(K4-F343))))^K5)/(1-((K5+EXP(K6*(K4-K7)))/(K5+EXP(K6*(K4-K9))))^K5)))","v":0},0,0,0,60.631379286168837,"2011-09-28",{"$f":"MAX(L$12:L343)+MAX(M$12:M343)+MAX(N$12:N343)","v":450.63137928616885},"2011-09-28",3.6631356269342632,null,null,null,null,null,null,null,null,null,null,null,null,null,null,null,null,null,0,null,{"$f":"IF(OR(AJ343<=AM7,AJ343>AM9),0,AM8+(AM10-AM8)*(1-((AM5+EXP(AM6*(AM4-AM7)))/(AM5+EXP(AM6*(AM4-AJ343))))^AM5)/(1-((AM5+EXP(AM6*(AM4-AM7)))/(AM5+EXP(AM6*(AM4-AM9))))^AM5))","v":0},{"$f":"IF(OR(AJ343<=AN7,AJ343>AN9),0,AN8+(AN10-AN8)*(1-((AN5+EXP(AN6*(AN4-AN7)))/(AN5+EXP(AN6*(AN4-AJ343))))^AN5)/(1-((AN5+EXP(AN6*(AN4-AN7)))/(AN5+EXP(AN6*(AN4-AN9))))^AN5))","v":0},{"$f":"IF(OR(AJ343<=AN9,AJ343>100000),0,IF(AJ343<=AO7,AO8,AO8+(AO10-AO8)*(1-((AO5+EXP(AO6*(AO4-AO7)))/(AO5+EXP(AO6*(AO4-AJ343))))^AO5)/(1-((AO5+EXP(AO6*(AO4-AO7)))/(AO5+EXP(AO6*(AO4-AO9))))^AO5)))","v":0},0,0]
[333,{"$f":"'daily uptake'!F427","v":"2011-09-29"},{"$f":"5/9*'daily uptake'!Q427","v":20},{"$f":"5/9*'daily uptake'!N427","v":10},{"$f":"IF(AND($A344>='daily uptake'!$C$9,$A344<='daily uptake'!$C$10),$C344+E343,0)","v":0},{"$f":"IF(AND($A344>='daily uptake'!$C$18,$A344<='daily uptake'!$C$20),$D344+F343,0)","v":0},{"$f":"IF(AND($A344>='daily uptake'!$C$24,$A344<='daily uptake'!$C$25),$C344+G343,0)","v":636.66666666666652},{"$f":"IF(OR(F344<=I7,F344>I9),0,I8+(I10-I8)*(1-((I5+EXP(I6*(I4-I7)))/(I5+EXP(I6*(I4-F344))))^I5)/(1-((I5+EXP(I6*(I4-I7)))/(I5+EXP(I6*(I4-I9))))^I5))","v":0},{"$f":"IF(OR(F344<=J7,F344>J9),0,J8+(J10-J8)*(1-((J5+EXP(J6*(J4-J7)))/(J5+EXP(J6*(J4-F344))))^J5)/(1-((J5+EXP(J6*(J4-J7)))/(J5+EXP(J6*(J4-J9))))^J5))","v":0},{"$f":"IF(OR(F344<=J9,F344>100000),0,IF(F344<=K7,K8,K8+(K10-K8)*(1-((K5+EXP(K6*(K4-K7)))/(K5+EXP(K6*(K4-F344))))^K5)/(1-((K5+EXP(K6*(K4-K7)))/(K5+EXP(K6*(K4-K9))))^K5)))","v":0},0,0,0,64.530687739357518,"2011-09-29",{"$f":"MAX(L$12:L344)+MAX(M$12:M344)+MAX(N$12:N344)","v":454.53068773935752},"2011-09-29",3.8993084531886666,null,null,null,null,null,null,null,null,null,null,null,null,null,null,null,null,null,0,null,{"$f":"IF(OR(AJ344<=AM7,AJ344>AM9),0,AM8+(AM10-AM8)*(1-((AM5+EXP(AM6*(AM4-AM7)))/(AM5+EXP(AM6*(AM4-AJ344))))^AM5)/(1-((AM5+EXP(AM6*(AM4-AM7)))/(AM5+EXP(AM6*(AM4-AM9))))^AM5))","v":0},{"$f":"IF(OR(AJ344<=AN7,AJ344>AN9),0,AN8+(AN10-AN8)*(1-((AN5+EXP(AN6*(AN4-AN7)))/(AN5+EXP(AN6*(AN4-AJ344))))^AN5)/(1-((AN5+EXP(AN6*(AN4-AN7)))/(AN5+EXP(AN6*(AN4-AN9))))^AN5))","v":0},{"$f":"IF(OR(AJ344<=AN9,AJ344>100000),0,IF(AJ344<=AO7,AO8,AO8+(AO10-AO8)*(1-((AO5+EXP(AO6*(AO4-AO7)))/(AO5+EXP(AO6*(AO4-AJ344))))^AO5)/(1-((AO5+EXP(AO6*(AO4-AO7)))/(AO5+EXP(AO6*(AO4-AO9))))^AO5)))","v":0},0,0]
[334,{"$f":"'daily uptake'!F428","v":"2011-09-30"},{"$f":"5/9*'daily uptake'!Q428","v":20},{"$f":"5/9*'daily uptake'!N428","v":10},{"$f":"IF(AND($A345>='daily uptake'!$C$9,$A345<='daily uptake'!$C$10),$C345+E344,0)","v":0},{"$f":"IF(AND($A345>='daily uptake'!$C$18,$A345<='daily uptake'!$C$20),$D345+F344,0)","v":0},{"$f":"IF(AND($A345>='daily uptake'!$C$24,$A345<='daily uptake'!$C$25),$C345+G344,0)","v":656.66666666666652},{"$f":"IF(OR(F345<=I7,F345>I9),0,I8+(I10-I8)*(1-((I5+EXP(I6*(I4-I7)))/(I5+EXP(I6*(I4-F345))))^I5)/(1-((I5+EXP(I6*(I4-I7)))/(I5+EXP(I6*(I4-I9))))^I5))","v":0},{"$f":"IF(OR(F345<=J7,F345>J9),0,J8+(J10-J8)*(1-((J5+EXP(J6*(J4-J7)))/(J5+EXP(J6*(J4-F345))))^J5)/(1-((J5+EXP(J6*(J4-J7)))/(J5+EXP(J6*(J4-J9))))^J5))","v":0},{"$f":"IF(OR(F345<=J9,F345>100000),0,IF(F345<=K7,K8,K8+(K10-K8)*(1-((K5+EXP(K6*(K4-K7)))/(K5+EXP(K6*(K4-F345))))^K5)/(1-((K5+EXP(K6*(K4-K7)))/(K5+EXP(K6*(K4-K9))))^K5)))","v":0},0,0,0,68.625123846449682,"2011-09-30",{"$f":"MAX(L$12:L345)+MAX(M$12:M345)+MAX(N$12:N345)","v":458.6251238464497},"2011-09-30",4.0944361070921786,null,null,null,null,null,null,null,null,null,null,null,null,null,null,null,null,null,0,null,{"$f":"IF(OR(AJ345<=AM7,AJ345>AM9),0,AM8+(AM10-AM8)*(1-((AM5+EXP(AM6*(AM4-AM7)))/(AM5+EXP(AM6*(AM4-AJ345))))^AM5)/(1-((AM5+EXP(AM6*(AM4-AM7)))/(AM5+EXP(AM6*(AM4-AM9))))^AM5))","v":0},{"$f":"IF(OR(AJ345<=AN7,AJ345>AN9),0,AN8+(AN10-AN8)*(1-((AN5+EXP(AN6*(AN4-AN7)))/(AN5+EXP(AN6*(AN4-AJ345))))^AN5)/(1-((AN5+EXP(AN6*(AN4-AN7)))/(AN5+EXP(AN6*(AN4-AN9))))^AN5))","v":0},{"$f":"IF(OR(AJ345<=AN9,AJ345>100000),0,IF(AJ345<=AO7,AO8,AO8+(AO10-AO8)*(1-((AO5+EXP(AO6*(AO4-AO7)))/(AO5+EXP(AO6*(AO4-AJ345))))^AO5)/(1-((AO5+EXP(AO6*(AO4-AO7)))/(AO5+EXP(AO6*(AO4-AO9))))^AO5)))","v":0},0,0]
[335,{"$f":"'daily uptake'!F429","v":"2011-10-01"},{"$f":"5/9*'daily uptake'!Q429","v":19.722222222222221},{"$f":"5/9*'daily uptake'!N429","v":9.7222222222222232},{"$f":"IF(AND($A346>='daily uptake'!$C$9,$A346<='daily uptake'!$C$10),$C346+E345,0)","v":0},{"$f":"IF(AND($A346>='daily uptake'!$C$18,$A346<='daily uptake'!$C$20),$D346+F345,0)","v":0},{"$f":"IF(AND($A346>='daily uptake'!$C$24,$A346<='daily uptake'!$C$25),$C346+G345,0)","v":676.38888888888869},{"$f":"IF(OR(F346<=I7,F346>I9),0,I8+(I10-I8)*(1-((I5+EXP(I6*(I4-I7)))/(I5+EXP(I6*(I4-F346))))^I5)/(1-((I5+EXP(I6*(I4-I7)))/(I5+EXP(I6*(I4-I9))))^I5))","v":0},{"$f":"IF(OR(F346<=J7,F346>J9),0,J8+(J10-J8)*(1-((J5+EXP(J6*(J4-J7)))/(J5+EXP(J6*(J4-F346))))^J5)/(1-((J5+EXP(J6*(J4-J7)))/(J5+EXP(J6*(J4-J9))))^J5))","v":0},{"$f":"IF(OR(F346<=J9,F346>100000),0,IF(F346<=K7,K8,K8+(K10-K8)*(1-((K5+EXP(K6*(K4-K7)))/(K5+EXP(K6*(K4-F346))))^K5)/(1-((K5+EXP(K6*(K4-K7)))/(K5+EXP(K6*(K4-K9))))^K5)))","v":0},0,0,0,72.863290050392138,"2011-10-01",{"$f":"MAX(L$12:L346)+MAX(M$12:M346)+MAX(N$12:N346)","v":462.86329005039215},"2011-10-01",4.2381662039424555,null,null,null,null,null,null,null,null,null,null,null,null,null,null,null,null,null,0,null,{"$f":"IF(OR(AJ346<=AM7,AJ346>AM9),0,AM8+(AM10-AM8)*(1-((AM5+EXP(AM6*(AM4-AM7)))/(AM5+EXP(AM6*(AM4-AJ346))))^AM5)/(1-((AM5+EXP(AM6*(AM4-AM7)))/(AM5+EXP(AM6*(AM4-AM9))))^AM5))","v":0},{"$f":"IF(OR(AJ346<=AN7,AJ346>AN9),0,AN8+(AN10-AN8)*(1-((AN5+EXP(AN6*(AN4-AN7)))/(AN5+EXP(AN6*(AN4-AJ346))))^AN5)/(1-((AN5+EXP(AN6*(AN4-AN7)))/(AN5+EXP(AN6*(AN4-AN9))))^AN5))","v":0},{"$f":"IF(OR(AJ346<=AN9,AJ346>100000),0,IF(AJ346<=AO7,AO8,AO8+(AO10-AO8)*(1-((AO5+EXP(AO6*(AO4-AO7)))/(AO5+EXP(AO6*(AO4-AJ346))))^AO5)/(1-((AO5+EXP(AO6*(AO4-AO7)))/(AO5+EXP(AO6*(AO4-AO9))))^AO5)))","v":0},0,0]
[336,{"$f":"'daily uptake'!F430","v":"2011-10-02"},{"$f":"5/9*'daily uptake'!Q430","v":19.166666666666668},{"$f":"5/9*'daily uptake'!N430","v":9.1666666666666679},{"$f":"IF(AND($A347>='daily uptake'!$C$9,$A347<='daily uptake'!$C$10),$C347+E346,0)","v":0},{"$f":"IF(AND($A347>='daily uptake'!$C$18,$A347<='daily uptake'!$C$20),$D347+F346,0)","v":0},{"$f":"IF(AND($A347>='daily uptake'!$C$24,$A347<='daily uptake'!$C$25),$C347+G346,0)","v":695.55555555555532},{"$f":"IF(OR(F347<=I7,F347>I9),0,I8+(I10-I8)*(1-((I5+EXP(I6*(I4-I7)))/(I5+EXP(I6*(I4-F347))))^I5)/(1-((I5+EXP(I6*(I4-I7)))/(I5+EXP(I6*(I4-I9))))^I5))","v":0},{"$f":"IF(OR(F347<=J7,F347>J9),0,J8+(J10-J8)*(1-((J5+EXP(J6*(J4-J7)))/(J5+EXP(J6*(J4-F347))))^J5)/(1-((J5+EXP(J6*(J4-J7)))/(J5+EXP(J6*(J4-J9))))^J5))","v":0},{"$f":"IF(OR(F347<=J9,F347>100000),0,IF(F347<=K7,K8,K8+(K10-K8)*(1-((K5+EXP(K6*(K4-K7)))/(K5+EXP(K6*(K4-F347))))^K5)/(1-((K5+EXP(K6*(K4-K7)))/(K5+EXP(K6*(K4-K9))))^K5)))","v":0},0,0,0,77.182295986712717,"2011-10-02",{"$f":"MAX(L$12:L347)+MAX(M$12:M347)+MAX(N$12:N347)","v":467.18229598671269},"2011-10-02",4.3190059363205364,null,null,null,null,null,null,null,null,null,null,null,null,null,null,null,null,null,0,null,{"$f":"IF(OR(AJ347<=AM7,AJ347>AM9),0,AM8+(AM10-AM8)*(1-((AM5+EXP(AM6*(AM4-AM7)))/(AM5+EXP(AM6*(AM4-AJ347))))^AM5)/(1-((AM5+EXP(AM6*(AM4-AM7)))/(AM5+EXP(AM6*(AM4-AM9))))^AM5))","v":0},{"$f":"IF(OR(AJ347<=AN7,AJ347>AN9),0,AN8+(AN10-AN8)*(1-((AN5+EXP(AN6*(AN4-AN7)))/(AN5+EXP(AN6*(AN4-AJ347))))^AN5)/(1-((AN5+EXP(AN6*(AN4-AN7)))/(AN5+EXP(AN6*(AN4-AN9))))^AN5))","v":0},{"$f":"IF(OR(AJ347<=AN9,AJ347>100000),0,IF(AJ347<=AO7,AO8,AO8+(AO10-AO8)*(1-((AO5+EXP(AO6*(AO4-AO7)))/(AO5+EXP(AO6*(AO4-AJ347))))^AO5)/(1-((AO5+EXP(AO6*(AO4-AO7)))/(AO5+EXP(AO6*(AO4-AO9))))^AO5)))","v":0},0,0]
[337,{"$f":"'daily uptake'!F431","v":"2011-10-03"},{"$f":"5/9*'daily uptake'!Q431","v":18.333333333333336},{"$f":"5/9*'daily uptake'!N431","v":8.6111111111111107},{"$f":"IF(AND($A348>='daily uptake'!$C$9,$A348<='daily uptake'!$C$10),$C348+E347,0)","v":0},{"$f":"IF(AND($A348>='daily uptake'!$C$18,$A348<='daily uptake'!$C$20),$D348+F347,0)","v":0},{"$f":"IF(AND($A348>='daily uptake'!$C$24,$A348<='daily uptake'!$C$25),$C348+G347,0)","v":713.88888888888869},{"$f":"IF(OR(F348<=I7,F348>I9),0,I8+(I10-I8)*(1-((I5+EXP(I6*(I4-I7)))/(I5+EXP(I6*(I4-F348))))^I5)/(1-((I5+EXP(I6*(I4-I7)))/(I5+EXP(I6*(I4-I9))))^I5))","v":0},{"$f":"IF(OR(F348<=J7,F348>J9),0,J8+(J10-J8)*(1-((J5+EXP(J6*(J4-J7)))/(J5+EXP(J6*(J4-F348))))^J5)/(1-((J5+EXP(J6*(J4-J7)))/(J5+EXP(J6*(J4-J9))))^J5))","v":0},{"$f":"IF(OR(F348<=J9,F348>100000),0,IF(F348<=K7,K8,K8+(K10-K8)*(1-((K5+EXP(K6*(K4-K7)))/(K5+EXP(K6*(K4-F348))))^K5)/(1-((K5+EXP(K6*(K4-K7)))/(K5+EXP(K6*(K4-K9))))^K5)))","v":0},0,0,0,81.506999396276512,"2011-10-03",{"$f":"MAX(L$12:L348)+MAX(M$12:M348)+MAX(N$12:N348)","v":471.50699939627651},"2011-10-03",4.3247034095638242,null,null,null,null,null,null,null,null,null,null,null,null,null,null,null,null,null,0,null,{"$f":"IF(OR(AJ348<=AM7,AJ348>AM9),0,AM8+(AM10-AM8)*(1-((AM5+EXP(AM6*(AM4-AM7)))/(AM5+EXP(AM6*(AM4-AJ348))))^AM5)/(1-((AM5+EXP(AM6*(AM4-AM7)))/(AM5+EXP(AM6*(AM4-AM9))))^AM5))","v":0},{"$f":"IF(OR(AJ348<=AN7,AJ348>AN9),0,AN8+(AN10-AN8)*(1-((AN5+EXP(AN6*(AN4-AN7)))/(AN5+EXP(AN6*(AN4-AJ348))))^AN5)/(1-((AN5+EXP(AN6*(AN4-AN7)))/(AN5+EXP(AN6*(AN4-AN9))))^AN5))","v":0},{"$f":"IF(OR(AJ348<=AN9,AJ348>100000),0,IF(AJ348<=AO7,AO8,AO8+(AO10-AO8)*(1-((AO5+EXP(AO6*(AO4-AO7)))/(AO5+EXP(AO6*(AO4-AJ348))))^AO5)/(1-((AO5+EXP(AO6*(AO4-AO7)))/(AO5+EXP(AO6*(AO4-AO9))))^AO5)))","v":0},0,0]
[338,{"$f":"'daily uptake'!F432","v":"2011-10-04"},{"$f":"5/9*'daily uptake'!Q432","v":17.5},{"$f":"5/9*'daily uptake'!N432","v":7.5},{"$f":"IF(AND($A349>='daily uptake'!$C$9,$A349<='daily uptake'!$C$10),$C349+E348,0)","v":0},{"$f":"IF(AND($A349>='daily uptake'!$C$18,$A349<='daily uptake'!$C$20),$D349+F348,0)","v":0},{"$f":"IF(AND($A349>='daily uptake'!$C$24,$A349<='daily uptake'!$C$25),$C349+G348,0)","v":731.38888888888869},{"$f":"IF(OR(F349<=I7,F349>I9),0,I8+(I10-I8)*(1-((I5+EXP(I6*(I4-I7)))/(I5+EXP(I6*(I4-F349))))^I5)/(1-((I5+EXP(I6*(I4-I7)))/(I5+EXP(I6*(I4-I9))))^I5))","v":0},{"$f":"IF(OR(F349<=J7,F349>J9),0,J8+(J10-J8)*(1-((J5+EXP(J6*(J4-J7)))/(J5+EXP(J6*(J4-F349))))^J5)/(1-((J5+EXP(J6*(J4-J7)))/(J5+EXP(J6*(J4-J9))))^J5))","v":0},{"$f":"IF(OR(F349<=J9,F349>100000),0,IF(F349<=K7,K8,K8+(K10-K8)*(1-((K5+EXP(K6*(K4-K7)))/(K5+EXP(K6*(K4-F349))))^K5)/(1-((K5+EXP(K6*(K4-K7)))/(K5+EXP(K6*(K4-K9))))^K5)))","v":0},0,0,0,85.819678620355873,"2011-10-04",{"$f":"MAX(L$12:L349)+MAX(M$12:M349)+MAX(N$12:N349)","v":475.81967862035589},"2011-10-04",4.3126792240793748,null,null,null,null,null,null,null,null,null,null,null,null,null,null,null,null,null,0,null,{"$f":"IF(OR(AJ349<=AM7,AJ349>AM9),0,AM8+(AM10-AM8)*(1-((AM5+EXP(AM6*(AM4-AM7)))/(AM5+EXP(AM6*(AM4-AJ349))))^AM5)/(1-((AM5+EXP(AM6*(AM4-AM7)))/(AM5+EXP(AM6*(AM4-AM9))))^AM5))","v":0},{"$f":"IF(OR(AJ349<=AN7,AJ349>AN9),0,AN8+(AN10-AN8)*(1-((AN5+EXP(AN6*(AN4-AN7)))/(AN5+EXP(AN6*(AN4-AJ349))))^AN5)/(1-((AN5+EXP(AN6*(AN4-AN7)))/(AN5+EXP(AN6*(AN4-AN9))))^AN5))","v":0},{"$f":"IF(OR(AJ349<=AN9,AJ349>100000),0,IF(AJ349<=AO7,AO8,AO8+(AO10-AO8)*(1-((AO5+EXP(AO6*(AO4-AO7)))/(AO5+EXP(AO6*(AO4-AJ349))))^AO5)/(1-((AO5+EXP(AO6*(AO4-AO7)))/(AO5+EXP(AO6*(AO4-AO9))))^AO5)))","v":0},0,0]
[339,{"$f":"'daily uptake'!F433","v":"2011-10-05"},{"$f":"5/9*'daily uptake'!Q433","v":16.666666666666668},{"$f":"5/9*'daily uptake'!N433","v":7.5},{"$f":"IF(AND($A350>='daily uptake'!$C$9,$A350<='daily uptake'!$C$10),$C350+E349,0)","v":0},{"$f":"IF(AND($A350>='daily uptake'!$C$18,$A350<='daily uptake'!$C$20),$D350+F349,0)","v":0},{"$f":"IF(AND($A350>='daily uptake'!$C$24,$A350<='daily uptake'!$C$25),$C350+G349,0)","v":748.05555555555532},{"$f":"IF(OR(F350<=I7,F350>I9),0,I8+(I10-I8)*(1-((I5+EXP(I6*(I4-I7)))/(I5+EXP(I6*(I4-F350))))^I5)/(1-((I5+EXP(I6*(I4-I7)))/(I5+EXP(I6*(I4-I9))))^I5))","v":0},{"$f":"IF(OR(F350<=J7,F350>J9),0,J8+(J10-J8)*(1-((J5+EXP(J6*(J4-J7)))/(J5+EXP(J6*(J4-F350))))^J5)/(1-((J5+EXP(J6*(J4-J7)))/(J5+EXP(J6*(J4-J9))))^J5))","v":0},{"$f":"IF(OR(F350<=J9,F350>100000),0,IF(F350<=K7,K8,K8+(K10-K8)*(1-((K5+EXP(K6*(K4-K7)))/(K5+EXP(K6*(K4-F350))))^K5)/(1-((K5+EXP(K6*(K4-K7)))/(K5+EXP(K6*(K4-K9))))^K5)))","v":0},0,0,0,90.101894978993315,"2011-10-05",{"$f":"MAX(L$12:L350)+MAX(M$12:M350)+MAX(N$12:N350)","v":480.1018949789933},"2011-10-05",4.2822163586374131,null,null,null,null,null,null,null,null,null,null,null,null,null,null,null,null,null,0,null,{"$f":"IF(OR(AJ350<=AM7,AJ350>AM9),0,AM8+(AM10-AM8)*(1-((AM5+EXP(AM6*(AM4-AM7)))/(AM5+EXP(AM6*(AM4-AJ350))))^AM5)/(1-((AM5+EXP(AM6*(AM4-AM7)))/(AM5+EXP(AM6*(AM4-AM9))))^AM5))","v":0},{"$f":"IF(OR(AJ350<=AN7,AJ350>AN9),0,AN8+(AN10-AN8)*(1-((AN5+EXP(AN6*(AN4-AN7)))/(AN5+EXP(AN6*(AN4-AJ350))))^AN5)/(1-((AN5+EXP(AN6*(AN4-AN7)))/(AN5+EXP(AN6*(AN4-AN9))))^AN5))","v":0},{"$f":"IF(OR(AJ350<=AN9,AJ350>100000),0,IF(AJ350<=AO7,AO8,AO8+(AO10-AO8)*(1-((AO5+EXP(AO6*(AO4-AO7)))/(AO5+EXP(AO6*(AO4-AJ350))))^AO5)/(1-((AO5+EXP(AO6*(AO4-AO7)))/(AO5+EXP(AO6*(AO4-AO9))))^AO5)))","v":0},0,0]
[340,{"$f":"'daily uptake'!F434","v":"2011-10-06"},{"$f":"5/9*'daily uptake'!Q434","v":17.777777777777779},{"$f":"5/9*'daily uptake'!N434","v":8.6111111111111107},{"$f":"IF(AND($A351>='daily uptake'!$C$9,$A351<='daily uptake'!$C$10),$C351+E350,0)","v":0},{"$f":"IF(AND($A351>='daily uptake'!$C$18,$A351<='daily uptake'!$C$20),$D351+F350,0)","v":0},{"$f":"IF(AND($A351>='daily uptake'!$C$24,$A351<='daily uptake'!$C$25),$C351+G350,0)","v":765.83333333333314},{"$f":"IF(OR(F351<=I7,F351>I9),0,I8+(I10-I8)*(1-((I5+EXP(I6*(I4-I7)))/(I5+EXP(I6*(I4-F351))))^I5)/(1-((I5+EXP(I6*(I4-I7)))/(I5+EXP(I6*(I4-I9))))^I5))","v":0},{"$f":"IF(OR(F351<=J7,F351>J9),0,J8+(J10-J8)*(1-((J5+EXP(J6*(J4-J7)))/(J5+EXP(J6*(J4-F351))))^J5)/(1-((J5+EXP(J6*(J4-J7)))/(J5+EXP(J6*(J4-J9))))^J5))","v":0},{"$f":"IF(OR(F351<=J9,F351>100000),0,IF(F351<=K7,K8,K8+(K10-K8)*(1-((K5+EXP(K6*(K4-K7)))/(K5+EXP(K6*(K4-F351))))^K5)/(1-((K5+EXP(K6*(K4-K7)))/(K5+EXP(K6*(K4-K9))))^K5)))","v":0},0,0,0,94.865793790576916,"2011-10-06",{"$f":"MAX(L$12:L351)+MAX(M$12:M351)+MAX(N$12:N351)","v":484.8657937905769},"2011-10-06",4.7638988115836014,null,null,null,null,null,null,null,null,null,null,null,null,null,null,null,null,null,0,null,{"$f":"IF(OR(AJ351<=AM7,AJ351>AM9),0,AM8+(AM10-AM8)*(1-((AM5+EXP(AM6*(AM4-AM7)))/(AM5+EXP(AM6*(AM4-AJ351))))^AM5)/(1-((AM5+EXP(AM6*(AM4-AM7)))/(AM5+EXP(AM6*(AM4-AM9))))^AM5))","v":0},{"$f":"IF(OR(AJ351<=AN7,AJ351>AN9),0,AN8+(AN10-AN8)*(1-((AN5+EXP(AN6*(AN4-AN7)))/(AN5+EXP(AN6*(AN4-AJ351))))^AN5)/(1-((AN5+EXP(AN6*(AN4-AN7)))/(AN5+EXP(AN6*(AN4-AN9))))^AN5))","v":0},{"$f":"IF(OR(AJ351<=AN9,AJ351>100000),0,IF(AJ351<=AO7,AO8,AO8+(AO10-AO8)*(1-((AO5+EXP(AO6*(AO4-AO7)))/(AO5+EXP(AO6*(AO4-AJ351))))^AO5)/(1-((AO5+EXP(AO6*(AO4-AO7)))/(AO5+EXP(AO6*(AO4-AO9))))^AO5)))","v":0},0,0]
[341,{"$f":"'daily uptake'!F435","v":"2011-10-07"},{"$f":"5/9*'daily uptake'!Q435","v":18.333333333333336},{"$f":"5/9*'daily uptake'!N435","v":8.8888888888888893},{"$f":"IF(AND($A352>='daily uptake'!$C$9,$A352<='daily uptake'!$C$10),$C352+E351,0)","v":0},{"$f":"IF(AND($A352>='daily uptake'!$C$18,$A352<='daily uptake'!$C$20),$D352+F351,0)","v":0},{"$f":"IF(AND($A352>='daily uptake'!$C$24,$A352<='daily uptake'!$C$25),$C352+G351,0)","v":784.16666666666652},{"$f":"IF(OR(F352<=I7,F352>I9),0,I8+(I10-I8)*(1-((I5+EXP(I6*(I4-I7)))/(I5+EXP(I6*(I4-F352))))^I5)/(1-((I5+EXP(I6*(I4-I7)))/(I5+EXP(I6*(I4-I9))))^I5))","v":0},{"$f":"IF(OR(F352<=J7,F352>J9),0,J8+(J10-J8)*(1-((J5+EXP(J6*(J4-J7)))/(J5+EXP(J6*(J4-F352))))^J5)/(1-((J5+EXP(J6*(J4-J7)))/(J5+EXP(J6*(J4-J9))))^J5))","v":0},{"$f":"IF(OR(F352<=J9,F352>100000),0,IF(F352<=K7,K8,K8+(K10-K8)*(1-((K5+EXP(K6*(K4-K7)))/(K5+EXP(K6*(K4-F352))))^K5)/(1-((K5+EXP(K6*(K4-K7)))/(K5+EXP(K6*(K4-K9))))^K5)))","v":0},0,0,0,100,"2011-10-07",{"$f":"MAX(L$12:L352)+MAX(M$12:M352)+MAX(N$12:N352)","v":490},"2011-10-07",5.1342062094230982,null,null,null,null,null,null,null,null,null,null,null,null,null,null,null,null,null,0,null,{"$f":"IF(OR(AJ352<=AM7,AJ352>AM9),0,AM8+(AM10-AM8)*(1-((AM5+EXP(AM6*(AM4-AM7)))/(AM5+EXP(AM6*(AM4-AJ352))))^AM5)/(1-((AM5+EXP(AM6*(AM4-AM7)))/(AM5+EXP(AM6*(AM4-AM9))))^AM5))","v":0},{"$f":"IF(OR(AJ352<=AN7,AJ352>AN9),0,AN8+(AN10-AN8)*(1-((AN5+EXP(AN6*(AN4-AN7)))/(AN5+EXP(AN6*(AN4-AJ352))))^AN5)/(1-((AN5+EXP(AN6*(AN4-AN7)))/(AN5+EXP(AN6*(AN4-AN9))))^AN5))","v":0},{"$f":"IF(OR(AJ352<=AN9,AJ352>100000),0,IF(AJ352<=AO7,AO8,AO8+(AO10-AO8)*(1-((AO5+EXP(AO6*(AO4-AO7)))/(AO5+EXP(AO6*(AO4-AJ352))))^AO5)/(1-((AO5+EXP(AO6*(AO4-AO7)))/(AO5+EXP(AO6*(AO4-AO9))))^AO5)))","v":0},0,0]
[342,{"$f":"'daily uptake'!F436","v":"2011-10-08"},{"$f":"5/9*'daily uptake'!Q436","v":18.055555555555557},{"$f":"5/9*'daily uptake'!N436","v":8.8888888888888893},{"$f":"IF(AND($A353>='daily uptake'!$C$9,$A353<='daily uptake'!$C$10),$C353+E352,0)","v":0},{"$f":"IF(AND($A353>='daily uptake'!$C$18,$A353<='daily uptake'!$C$20),$D353+F352,0)","v":0},{"$f":"IF(AND($A353>='daily uptake'!$C$24,$A353<='daily uptake'!$C$25),$C353+G352,0)","v":0},{"$f":"IF(OR(F353<=I7,F353>I9),0,I8+(I10-I8)*(1-((I5+EXP(I6*(I4-I7)))/(I5+EXP(I6*(I4-F353))))^I5)/(1-((I5+EXP(I6*(I4-I7)))/(I5+EXP(I6*(I4-I9))))^I5))","v":0},{"$f":"IF(OR(F353<=J7,F353>J9),0,J8+(J10-J8)*(1-((J5+EXP(J6*(J4-J7)))/(J5+EXP(J6*(J4-F353))))^J5)/(1-((J5+EXP(J6*(J4-J7)))/(J5+EXP(J6*(J4-J9))))^J5))","v":0},{"$f":"IF(OR(F353<=J9,F353>100000),0,IF(F353<=K7,K8,K8+(K10-K8)*(1-((K5+EXP(K6*(K4-K7)))/(K5+EXP(K6*(K4-F353))))^K5)/(1-((K5+EXP(K6*(K4-K7)))/(K5+EXP(K6*(K4-K9))))^K5)))","v":0},0,0,0,0,"2011-10-08",{"$f":"MAX(L$12:L353)+MAX(M$12:M353)+MAX(N$12:N353)","v":490},"2011-10-08",0,null,null,null,null,null,null,null,null,null,null,null,null,null,null,null,null,null,0,null,{"$f":"IF(OR(AJ353<=AM7,AJ353>AM9),0,AM8+(AM10-AM8)*(1-((AM5+EXP(AM6*(AM4-AM7)))/(AM5+EXP(AM6*(AM4-AJ353))))^AM5)/(1-((AM5+EXP(AM6*(AM4-AM7)))/(AM5+EXP(AM6*(AM4-AM9))))^AM5))","v":0},{"$f":"IF(OR(AJ353<=AN7,AJ353>AN9),0,AN8+(AN10-AN8)*(1-((AN5+EXP(AN6*(AN4-AN7)))/(AN5+EXP(AN6*(AN4-AJ353))))^AN5)/(1-((AN5+EXP(AN6*(AN4-AN7)))/(AN5+EXP(AN6*(AN4-AN9))))^AN5))","v":0},{"$f":"IF(OR(AJ353<=AN9,AJ353>100000),0,IF(AJ353<=AO7,AO8,AO8+(AO10-AO8)*(1-((AO5+EXP(AO6*(AO4-AO7)))/(AO5+EXP(AO6*(AO4-AJ353))))^AO5)/(1-((AO5+EXP(AO6*(AO4-AO7)))/(AO5+EXP(AO6*(AO4-AO9))))^AO5)))","v":0},0,0]
[343,{"$f":"'daily uptake'!F437","v":"2011-10-09"},{"$f":"5/9*'daily uptake'!Q437","v":18.055555555555557},{"$f":"5/9*'daily uptake'!N437","v":8.6111111111111107},{"$f":"IF(AND($A354>='daily uptake'!$C$9,$A354<='daily uptake'!$C$10),$C354+E353,0)","v":0},{"$f":"IF(AND($A354>='daily uptake'!$C$18,$A354<='daily uptake'!$C$20),$D354+F353,0)","v":0},{"$f":"IF(AND($A354>='daily uptake'!$C$24,$A354<='daily uptake'!$C$25),$C354+G353,0)","v":0},{"$f":"IF(OR(F354<=I7,F354>I9),0,I8+(I10-I8)*(1-((I5+EXP(I6*(I4-I7)))/(I5+EXP(I6*(I4-F354))))^I5)/(1-((I5+EXP(I6*(I4-I7)))/(I5+EXP(I6*(I4-I9))))^I5))","v":0},{"$f":"IF(OR(F354<=J7,F354>J9),0,J8+(J10-J8)*(1-((J5+EXP(J6*(J4-J7)))/(J5+EXP(J6*(J4-F354))))^J5)/(1-((J5+EXP(J6*(J4-J7)))/(J5+EXP(J6*(J4-J9))))^J5))","v":0},{"$f":"IF(OR(F354<=J9,F354>100000),0,IF(F354<=K7,K8,K8+(K10-K8)*(1-((K5+EXP(K6*(K4-K7)))/(K5+EXP(K6*(K4-F354))))^K5)/(1-((K5+EXP(K6*(K4-K7)))/(K5+EXP(K6*(K4-K9))))^K5)))","v":0},0,0,0,0,"2011-10-09",{"$f":"MAX(L$12:L354)+MAX(M$12:M354)+MAX(N$12:N354)","v":490},"2011-10-09",0,null,null,null,null,null,null,null,null,null,null,null,null,null,null,null,null,null,0,null,{"$f":"IF(OR(AJ354<=AM7,AJ354>AM9),0,AM8+(AM10-AM8)*(1-((AM5+EXP(AM6*(AM4-AM7)))/(AM5+EXP(AM6*(AM4-AJ354))))^AM5)/(1-((AM5+EXP(AM6*(AM4-AM7)))/(AM5+EXP(AM6*(AM4-AM9))))^AM5))","v":0},{"$f":"IF(OR(AJ354<=AN7,AJ354>AN9),0,AN8+(AN10-AN8)*(1-((AN5+EXP(AN6*(AN4-AN7)))/(AN5+EXP(AN6*(AN4-AJ354))))^AN5)/(1-((AN5+EXP(AN6*(AN4-AN7)))/(AN5+EXP(AN6*(AN4-AN9))))^AN5))","v":0},{"$f":"IF(OR(AJ354<=AN9,AJ354>100000),0,IF(AJ354<=AO7,AO8,AO8+(AO10-AO8)*(1-((AO5+EXP(AO6*(AO4-AO7)))/(AO5+EXP(AO6*(AO4-AJ354))))^AO5)/(1-((AO5+EXP(AO6*(AO4-AO7)))/(AO5+EXP(AO6*(AO4-AO9))))^AO5)))","v":0},0,0]
[344,{"$f":"'daily uptake'!F438","v":"2011-10-10"},{"$f":"5/9*'daily uptake'!Q438","v":16.944444444444446},{"$f":"5/9*'daily uptake'!N438","v":7.7777777777777786},{"$f":"IF(AND($A355>='daily uptake'!$C$9,$A355<='daily uptake'!$C$10),$C355+E354,0)","v":0},{"$f":"IF(AND($A355>='daily uptake'!$C$18,$A355<='daily uptake'!$C$20),$D355+F354,0)","v":0},{"$f":"IF(AND($A355>='daily uptake'!$C$24,$A355<='daily uptake'!$C$25),$C355+G354,0)","v":0},{"$f":"IF(OR(F355<=I7,F355>I9),0,I8+(I10-I8)*(1-((I5+EXP(I6*(I4-I7)))/(I5+EXP(I6*(I4-F355))))^I5)/(1-((I5+EXP(I6*(I4-I7)))/(I5+EXP(I6*(I4-I9))))^I5))","v":0},{"$f":"IF(OR(F355<=J7,F355>J9),0,J8+(J10-J8)*(1-((J5+EXP(J6*(J4-J7)))/(J5+EXP(J6*(J4-F355))))^J5)/(1-((J5+EXP(J6*(J4-J7)))/(J5+EXP(J6*(J4-J9))))^J5))","v":0},{"$f":"IF(OR(F355<=J9,F355>100000),0,IF(F355<=K7,K8,K8+(K10-K8)*(1-((K5+EXP(K6*(K4-K7)))/(K5+EXP(K6*(K4-F355))))^K5)/(1-((K5+EXP(K6*(K4-K7)))/(K5+EXP(K6*(K4-K9))))^K5)))","v":0},0,0,0,0,"2011-10-10",{"$f":"MAX(L$12:L355)+MAX(M$12:M355)+MAX(N$12:N355)","v":490},"2011-10-10",0,null,null,null,null,null,null,null,null,null,null,null,null,null,null,null,null,null,0,null,{"$f":"IF(OR(AJ355<=AM7,AJ355>AM9),0,AM8+(AM10-AM8)*(1-((AM5+EXP(AM6*(AM4-AM7)))/(AM5+EXP(AM6*(AM4-AJ355))))^AM5)/(1-((AM5+EXP(AM6*(AM4-AM7)))/(AM5+EXP(AM6*(AM4-AM9))))^AM5))","v":0},{"$f":"IF(OR(AJ355<=AN7,AJ355>AN9),0,AN8+(AN10-AN8)*(1-((AN5+EXP(AN6*(AN4-AN7)))/(AN5+EXP(AN6*(AN4-AJ355))))^AN5)/(1-((AN5+EXP(AN6*(AN4-AN7)))/(AN5+EXP(AN6*(AN4-AN9))))^AN5))","v":0},{"$f":"IF(OR(AJ355<=AN9,AJ355>100000),0,IF(AJ355<=AO7,AO8,AO8+(AO10-AO8)*(1-((AO5+EXP(AO6*(AO4-AO7)))/(AO5+EXP(AO6*(AO4-AJ355))))^AO5)/(1-((AO5+EXP(AO6*(AO4-AO7)))/(AO5+EXP(AO6*(AO4-AO9))))^AO5)))","v":0},0,0]
[345,{"$f":"'daily uptake'!F439","v":"2011-10-11"},{"$f":"5/9*'daily uptake'!Q439","v":16.388888888888889},{"$f":"5/9*'daily uptake'!N439","v":7.7777777777777786},{"$f":"IF(AND($A356>='daily uptake'!$C$9,$A356<='daily uptake'!$C$10),$C356+E355,0)","v":0},{"$f":"IF(AND($A356>='daily uptake'!$C$18,$A356<='daily uptake'!$C$20),$D356+F355,0)","v":0},{"$f":"IF(AND($A356>='daily uptake'!$C$24,$A356<='daily uptake'!$C$25),$C356+G355,0)","v":0},{"$f":"IF(OR(F356<=I7,F356>I9),0,I8+(I10-I8)*(1-((I5+EXP(I6*(I4-I7)))/(I5+EXP(I6*(I4-F356))))^I5)/(1-((I5+EXP(I6*(I4-I7)))/(I5+EXP(I6*(I4-I9))))^I5))","v":0},{"$f":"IF(OR(F356<=J7,F356>J9),0,J8+(J10-J8)*(1-((J5+EXP(J6*(J4-J7)))/(J5+EXP(J6*(J4-F356))))^J5)/(1-((J5+EXP(J6*(J4-J7)))/(J5+EXP(J6*(J4-J9))))^J5))","v":0},{"$f":"IF(OR(F356<=J9,F356>100000),0,IF(F356<=K7,K8,K8+(K10-K8)*(1-((K5+EXP(K6*(K4-K7)))/(K5+EXP(K6*(K4-F356))))^K5)/(1-((K5+EXP(K6*(K4-K7)))/(K5+EXP(K6*(K4-K9))))^K5)))","v":0},0,0,0,0,"2011-10-11",{"$f":"MAX(L$12:L356)+MAX(M$12:M356)+MAX(N$12:N356)","v":490},"2011-10-11",0,null,null,null,null,null,null,null,null,null,null,null,null,null,null,null,null,null,0,null,{"$f":"IF(OR(AJ356<=AM7,AJ356>AM9),0,AM8+(AM10-AM8)*(1-((AM5+EXP(AM6*(AM4-AM7)))/(AM5+EXP(AM6*(AM4-AJ356))))^AM5)/(1-((AM5+EXP(AM6*(AM4-AM7)))/(AM5+EXP(AM6*(AM4-AM9))))^AM5))","v":0},{"$f":"IF(OR(AJ356<=AN7,AJ356>AN9),0,AN8+(AN10-AN8)*(1-((AN5+EXP(AN6*(AN4-AN7)))/(AN5+EXP(AN6*(AN4-AJ356))))^AN5)/(1-((AN5+EXP(AN6*(AN4-AN7)))/(AN5+EXP(AN6*(AN4-AN9))))^AN5))","v":0},{"$f":"IF(OR(AJ356<=AN9,AJ356>100000),0,IF(AJ356<=AO7,AO8,AO8+(AO10-AO8)*(1-((AO5+EXP(AO6*(AO4-AO7)))/(AO5+EXP(AO6*(AO4-AJ356))))^AO5)/(1-((AO5+EXP(AO6*(AO4-AO7)))/(AO5+EXP(AO6*(AO4-AO9))))^AO5)))","v":0},0,0]
[346,{"$f":"'daily uptake'!F440","v":"2011-10-12"},{"$f":"5/9*'daily uptake'!Q440","v":16.944444444444446},{"$f":"5/9*'daily uptake'!N440","v":7.5},{"$f":"IF(AND($A357>='daily uptake'!$C$9,$A357<='daily uptake'!$C$10),$C357+E356,0)","v":0},{"$f":"IF(AND($A357>='daily uptake'!$C$18,$A357<='daily uptake'!$C$20),$D357+F356,0)","v":0},{"$f":"IF(AND($A357>='daily uptake'!$C$24,$A357<='daily uptake'!$C$25),$C357+G356,0)","v":0},{"$f":"IF(OR(F357<=I7,F357>I9),0,I8+(I10-I8)*(1-((I5+EXP(I6*(I4-I7)))/(I5+EXP(I6*(I4-F357))))^I5)/(1-((I5+EXP(I6*(I4-I7)))/(I5+EXP(I6*(I4-I9))))^I5))","v":0},{"$f":"IF(OR(F357<=J7,F357>J9),0,J8+(J10-J8)*(1-((J5+EXP(J6*(J4-J7)))/(J5+EXP(J6*(J4-F357))))^J5)/(1-((J5+EXP(J6*(J4-J7)))/(J5+EXP(J6*(J4-J9))))^J5))","v":0},{"$f":"IF(OR(F357<=J9,F357>100000),0,IF(F357<=K7,K8,K8+(K10-K8)*(1-((K5+EXP(K6*(K4-K7)))/(K5+EXP(K6*(K4-F357))))^K5)/(1-((K5+EXP(K6*(K4-K7)))/(K5+EXP(K6*(K4-K9))))^K5)))","v":0},0,0,0,0,"2011-10-12",{"$f":"MAX(L$12:L357)+MAX(M$12:M357)+MAX(N$12:N357)","v":490},"2011-10-12",0,null,null,null,null,null,null,null,null,null,null,null,null,null,null,null,null,null,0,null,{"$f":"IF(OR(AJ357<=AM7,AJ357>AM9),0,AM8+(AM10-AM8)*(1-((AM5+EXP(AM6*(AM4-AM7)))/(AM5+EXP(AM6*(AM4-AJ357))))^AM5)/(1-((AM5+EXP(AM6*(AM4-AM7)))/(AM5+EXP(AM6*(AM4-AM9))))^AM5))","v":0},{"$f":"IF(OR(AJ357<=AN7,AJ357>AN9),0,AN8+(AN10-AN8)*(1-((AN5+EXP(AN6*(AN4-AN7)))/(AN5+EXP(AN6*(AN4-AJ357))))^AN5)/(1-((AN5+EXP(AN6*(AN4-AN7)))/(AN5+EXP(AN6*(AN4-AN9))))^AN5))","v":0},{"$f":"IF(OR(AJ357<=AN9,AJ357>100000),0,IF(AJ357<=AO7,AO8,AO8+(AO10-AO8)*(1-((AO5+EXP(AO6*(AO4-AO7)))/(AO5+EXP(AO6*(AO4-AJ357))))^AO5)/(1-((AO5+EXP(AO6*(AO4-AO7)))/(AO5+EXP(AO6*(AO4-AO9))))^AO5)))","v":0},0,0]
[347,{"$f":"'daily uptake'!F441","v":"2011-10-13"},{"$f":"5/9*'daily uptake'!Q441","v":16.944444444444446},{"$f":"5/9*'daily uptake'!N441","v":8.0555555555555554},{"$f":"IF(AND($A358>='daily uptake'!$C$9,$A358<='daily uptake'!$C$10),$C358+E357,0)","v":0},{"$f":"IF(AND($A358>='daily uptake'!$C$18,$A358<='daily uptake'!$C$20),$D358+F357,0)","v":0},{"$f":"IF(AND($A358>='daily uptake'!$C$24,$A358<='daily uptake'!$C$25),$C358+G357,0)","v":0},{"$f":"IF(OR(F358<=I7,F358>I9),0,I8+(I10-I8)*(1-((I5+EXP(I6*(I4-I7)))/(I5+EXP(I6*(I4-F358))))^I5)/(1-((I5+EXP(I6*(I4-I7)))/(I5+EXP(I6*(I4-I9))))^I5))","v":0},{"$f":"IF(OR(F358<=J7,F358>J9),0,J8+(J10-J8)*(1-((J5+EXP(J6*(J4-J7)))/(J5+EXP(J6*(J4-F358))))^J5)/(1-((J5+EXP(J6*(J4-J7)))/(J5+EXP(J6*(J4-J9))))^J5))","v":0},{"$f":"IF(OR(F358<=J9,F358>100000),0,IF(F358<=K7,K8,K8+(K10-K8)*(1-((K5+EXP(K6*(K4-K7)))/(K5+EXP(K6*(K4-F358))))^K5)/(1-((K5+EXP(K6*(K4-K7)))/(K5+EXP(K6*(K4-K9))))^K5)))","v":0},0,0,0,0,"2011-10-13",{"$f":"MAX(L$12:L358)+MAX(M$12:M358)+MAX(N$12:N358)","v":490},"2011-10-13",0,null,null,null,null,null,null,null,null,null,null,null,null,null,null,null,null,null,0,null,{"$f":"IF(OR(AJ358<=AM7,AJ358>AM9),0,AM8+(AM10-AM8)*(1-((AM5+EXP(AM6*(AM4-AM7)))/(AM5+EXP(AM6*(AM4-AJ358))))^AM5)/(1-((AM5+EXP(AM6*(AM4-AM7)))/(AM5+EXP(AM6*(AM4-AM9))))^AM5))","v":0},{"$f":"IF(OR(AJ358<=AN7,AJ358>AN9),0,AN8+(AN10-AN8)*(1-((AN5+EXP(AN6*(AN4-AN7)))/(AN5+EXP(AN6*(AN4-AJ358))))^AN5)/(1-((AN5+EXP(AN6*(AN4-AN7)))/(AN5+EXP(AN6*(AN4-AN9))))^AN5))","v":0},{"$f":"IF(OR(AJ358<=AN9,AJ358>100000),0,IF(AJ358<=AO7,AO8,AO8+(AO10-AO8)*(1-((AO5+EXP(AO6*(AO4-AO7)))/(AO5+EXP(AO6*(AO4-AJ358))))^AO5)/(1-((AO5+EXP(AO6*(AO4-AO7)))/(AO5+EXP(AO6*(AO4-AO9))))^AO5)))","v":0},0,0]
[348,{"$f":"'daily uptake'!F442","v":"2011-10-14"},{"$f":"5/9*'daily uptake'!Q442","v":18.055555555555557},{"$f":"5/9*'daily uptake'!N442","v":8.8888888888888893},{"$f":"IF(AND($A359>='daily uptake'!$C$9,$A359<='daily uptake'!$C$10),$C359+E358,0)","v":0},{"$f":"IF(AND($A359>='daily uptake'!$C$18,$A359<='daily uptake'!$C$20),$D359+F358,0)","v":0},{"$f":"IF(AND($A359>='daily uptake'!$C$24,$A359<='daily uptake'!$C$25),$C359+G358,0)","v":0},{"$f":"IF(OR(F359<=I7,F359>I9),0,I8+(I10-I8)*(1-((I5+EXP(I6*(I4-I7)))/(I5+EXP(I6*(I4-F359))))^I5)/(1-((I5+EXP(I6*(I4-I7)))/(I5+EXP(I6*(I4-I9))))^I5))","v":0},{"$f":"IF(OR(F359<=J7,F359>J9),0,J8+(J10-J8)*(1-((J5+EXP(J6*(J4-J7)))/(J5+EXP(J6*(J4-F359))))^J5)/(1-((J5+EXP(J6*(J4-J7)))/(J5+EXP(J6*(J4-J9))))^J5))","v":0},{"$f":"IF(OR(F359<=J9,F359>100000),0,IF(F359<=K7,K8,K8+(K10-K8)*(1-((K5+EXP(K6*(K4-K7)))/(K5+EXP(K6*(K4-F359))))^K5)/(1-((K5+EXP(K6*(K4-K7)))/(K5+EXP(K6*(K4-K9))))^K5)))","v":0},0,0,0,0,"2011-10-14",{"$f":"MAX(L$12:L359)+MAX(M$12:M359)+MAX(N$12:N359)","v":490},"2011-10-14",0,null,null,null,null,null,null,null,null,null,null,null,null,null,null,null,null,null,0,null,{"$f":"IF(OR(AJ359<=AM7,AJ359>AM9),0,AM8+(AM10-AM8)*(1-((AM5+EXP(AM6*(AM4-AM7)))/(AM5+EXP(AM6*(AM4-AJ359))))^AM5)/(1-((AM5+EXP(AM6*(AM4-AM7)))/(AM5+EXP(AM6*(AM4-AM9))))^AM5))","v":0},{"$f":"IF(OR(AJ359<=AN7,AJ359>AN9),0,AN8+(AN10-AN8)*(1-((AN5+EXP(AN6*(AN4-AN7)))/(AN5+EXP(AN6*(AN4-AJ359))))^AN5)/(1-((AN5+EXP(AN6*(AN4-AN7)))/(AN5+EXP(AN6*(AN4-AN9))))^AN5))","v":0},{"$f":"IF(OR(AJ359<=AN9,AJ359>100000),0,IF(AJ359<=AO7,AO8,AO8+(AO10-AO8)*(1-((AO5+EXP(AO6*(AO4-AO7)))/(AO5+EXP(AO6*(AO4-AJ359))))^AO5)/(1-((AO5+EXP(AO6*(AO4-AO7)))/(AO5+EXP(AO6*(AO4-AO9))))^AO5)))","v":0},0,0]
[349,{"$f":"'daily uptake'!F443","v":"2011-10-15"},{"$f":"5/9*'daily uptake'!Q443","v":17.222222222222221},{"$f":"5/9*'daily uptake'!N443","v":7.7777777777777786},{"$f":"IF(AND($A360>='daily uptake'!$C$9,$A360<='daily uptake'!$C$10),$C360+E359,0)","v":0},{"$f":"IF(AND($A360>='daily uptake'!$C$18,$A360<='daily uptake'!$C$20),$D360+F359,0)","v":0},{"$f":"IF(AND($A360>='daily uptake'!$C$24,$A360<='daily uptake'!$C$25),$C360+G359,0)","v":0},{"$f":"IF(OR(F360<=I7,F360>I9),0,I8+(I10-I8)*(1-((I5+EXP(I6*(I4-I7)))/(I5+EXP(I6*(I4-F360))))^I5)/(1-((I5+EXP(I6*(I4-I7)))/(I5+EXP(I6*(I4-I9))))^I5))","v":0},{"$f":"IF(OR(F360<=J7,F360>J9),0,J8+(J10-J8)*(1-((J5+EXP(J6*(J4-J7)))/(J5+EXP(J6*(J4-F360))))^J5)/(1-((J5+EXP(J6*(J4-J7)))/(J5+EXP(J6*(J4-J9))))^J5))","v":0},{"$f":"IF(OR(F360<=J9,F360>100000),0,IF(F360<=K7,K8,K8+(K10-K8)*(1-((K5+EXP(K6*(K4-K7)))/(K5+EXP(K6*(K4-F360))))^K5)/(1-((K5+EXP(K6*(K4-K7)))/(K5+EXP(K6*(K4-K9))))^K5)))","v":0},0,0,0,0,"2011-10-15",{"$f":"MAX(L$12:L360)+MAX(M$12:M360)+MAX(N$12:N360)","v":490},"2011-10-15",0,null,null,null,null,null,null,null,null,null,null,null,null,null,null,null,null,null,0,null,{"$f":"IF(OR(AJ360<=AM7,AJ360>AM9),0,AM8+(AM10-AM8)*(1-((AM5+EXP(AM6*(AM4-AM7)))/(AM5+EXP(AM6*(AM4-AJ360))))^AM5)/(1-((AM5+EXP(AM6*(AM4-AM7)))/(AM5+EXP(AM6*(AM4-AM9))))^AM5))","v":0},{"$f":"IF(OR(AJ360<=AN7,AJ360>AN9),0,AN8+(AN10-AN8)*(1-((AN5+EXP(AN6*(AN4-AN7)))/(AN5+EXP(AN6*(AN4-AJ360))))^AN5)/(1-((AN5+EXP(AN6*(AN4-AN7)))/(AN5+EXP(AN6*(AN4-AN9))))^AN5))","v":0},{"$f":"IF(OR(AJ360<=AN9,AJ360>100000),0,IF(AJ360<=AO7,AO8,AO8+(AO10-AO8)*(1-((AO5+EXP(AO6*(AO4-AO7)))/(AO5+EXP(AO6*(AO4-AJ360))))^AO5)/(1-((AO5+EXP(AO6*(AO4-AO7)))/(AO5+EXP(AO6*(AO4-AO9))))^AO5)))","v":0},0,0]
[350,{"$f":"'daily uptake'!F444","v":"2011-10-16"},{"$f":"5/9*'daily uptake'!Q444","v":16.388888888888889},{"$f":"5/9*'daily uptake'!N444","v":7.2222222222222223},{"$f":"IF(AND($A361>='daily uptake'!$C$9,$A361<='daily uptake'!$C$10),$C361+E360,0)","v":0},{"$f":"IF(AND($A361>='daily uptake'!$C$18,$A361<='daily uptake'!$C$20),$D361+F360,0)","v":0},{"$f":"IF(AND($A361>='daily uptake'!$C$24,$A361<='daily uptake'!$C$25),$C361+G360,0)","v":0},{"$f":"IF(OR(F361<=I7,F361>I9),0,I8+(I10-I8)*(1-((I5+EXP(I6*(I4-I7)))/(I5+EXP(I6*(I4-F361))))^I5)/(1-((I5+EXP(I6*(I4-I7)))/(I5+EXP(I6*(I4-I9))))^I5))","v":0},{"$f":"IF(OR(F361<=J7,F361>J9),0,J8+(J10-J8)*(1-((J5+EXP(J6*(J4-J7)))/(J5+EXP(J6*(J4-F361))))^J5)/(1-((J5+EXP(J6*(J4-J7)))/(J5+EXP(J6*(J4-J9))))^J5))","v":0},{"$f":"IF(OR(F361<=J9,F361>100000),0,IF(F361<=K7,K8,K8+(K10-K8)*(1-((K5+EXP(K6*(K4-K7)))/(K5+EXP(K6*(K4-F361))))^K5)/(1-((K5+EXP(K6*(K4-K7)))/(K5+EXP(K6*(K4-K9))))^K5)))","v":0},0,0,0,0,"2011-10-16",{"$f":"MAX(L$12:L361)+MAX(M$12:M361)+MAX(N$12:N361)","v":490},"2011-10-16",0,null,null,null,null,null,null,null,null,null,null,null,null,null,null,null,null,null,0,null,{"$f":"IF(OR(AJ361<=AM7,AJ361>AM9),0,AM8+(AM10-AM8)*(1-((AM5+EXP(AM6*(AM4-AM7)))/(AM5+EXP(AM6*(AM4-AJ361))))^AM5)/(1-((AM5+EXP(AM6*(AM4-AM7)))/(AM5+EXP(AM6*(AM4-AM9))))^AM5))","v":0},{"$f":"IF(OR(AJ361<=AN7,AJ361>AN9),0,AN8+(AN10-AN8)*(1-((AN5+EXP(AN6*(AN4-AN7)))/(AN5+EXP(AN6*(AN4-AJ361))))^AN5)/(1-((AN5+EXP(AN6*(AN4-AN7)))/(AN5+EXP(AN6*(AN4-AN9))))^AN5))","v":0},{"$f":"IF(OR(AJ361<=AN9,AJ361>100000),0,IF(AJ361<=AO7,AO8,AO8+(AO10-AO8)*(1-((AO5+EXP(AO6*(AO4-AO7)))/(AO5+EXP(AO6*(AO4-AJ361))))^AO5)/(1-((AO5+EXP(AO6*(AO4-AO7)))/(AO5+EXP(AO6*(AO4-AO9))))^AO5)))","v":0},0,0]
[351,{"$f":"'daily uptake'!F445","v":"2011-10-17"},{"$f":"5/9*'daily uptake'!Q445","v":16.111111111111111},{"$f":"5/9*'daily uptake'!N445","v":7.7777777777777786},{"$f":"IF(AND($A362>='daily uptake'!$C$9,$A362<='daily uptake'!$C$10),$C362+E361,0)","v":0},{"$f":"IF(AND($A362>='daily uptake'!$C$18,$A362<='daily uptake'!$C$20),$D362+F361,0)","v":0},{"$f":"IF(AND($A362>='daily uptake'!$C$24,$A362<='daily uptake'!$C$25),$C362+G361,0)","v":0},{"$f":"IF(OR(F362<=I7,F362>I9),0,I8+(I10-I8)*(1-((I5+EXP(I6*(I4-I7)))/(I5+EXP(I6*(I4-F362))))^I5)/(1-((I5+EXP(I6*(I4-I7)))/(I5+EXP(I6*(I4-I9))))^I5))","v":0},{"$f":"IF(OR(F362<=J7,F362>J9),0,J8+(J10-J8)*(1-((J5+EXP(J6*(J4-J7)))/(J5+EXP(J6*(J4-F362))))^J5)/(1-((J5+EXP(J6*(J4-J7)))/(J5+EXP(J6*(J4-J9))))^J5))","v":0},{"$f":"IF(OR(F362<=J9,F362>100000),0,IF(F362<=K7,K8,K8+(K10-K8)*(1-((K5+EXP(K6*(K4-K7)))/(K5+EXP(K6*(K4-F362))))^K5)/(1-((K5+EXP(K6*(K4-K7)))/(K5+EXP(K6*(K4-K9))))^K5)))","v":0},0,0,0,0,"2011-10-17",{"$f":"MAX(L$12:L362)+MAX(M$12:M362)+MAX(N$12:N362)","v":490},"2011-10-17",0,null,null,null,null,null,null,null,null,null,null,null,null,null,null,null,null,null,0,null,{"$f":"IF(OR(AJ362<=AM7,AJ362>AM9),0,AM8+(AM10-AM8)*(1-((AM5+EXP(AM6*(AM4-AM7)))/(AM5+EXP(AM6*(AM4-AJ362))))^AM5)/(1-((AM5+EXP(AM6*(AM4-AM7)))/(AM5+EXP(AM6*(AM4-AM9))))^AM5))","v":0},{"$f":"IF(OR(AJ362<=AN7,AJ362>AN9),0,AN8+(AN10-AN8)*(1-((AN5+EXP(AN6*(AN4-AN7)))/(AN5+EXP(AN6*(AN4-AJ362))))^AN5)/(1-((AN5+EXP(AN6*(AN4-AN7)))/(AN5+EXP(AN6*(AN4-AN9))))^AN5))","v":0},{"$f":"IF(OR(AJ362<=AN9,AJ362>100000),0,IF(AJ362<=AO7,AO8,AO8+(AO10-AO8)*(1-((AO5+EXP(AO6*(AO4-AO7)))/(AO5+EXP(AO6*(AO4-AJ362))))^AO5)/(1-((AO5+EXP(AO6*(AO4-AO7)))/(AO5+EXP(AO6*(AO4-AO9))))^AO5)))","v":0},0,0]
[352,{"$f":"'daily uptake'!F446","v":"2011-10-18"},{"$f":"5/9*'daily uptake'!Q446","v":16.111111111111111},{"$f":"5/9*'daily uptake'!N446","v":7.5},{"$f":"IF(AND($A363>='daily uptake'!$C$9,$A363<='daily uptake'!$C$10),$C363+E362,0)","v":0},{"$f":"IF(AND($A363>='daily uptake'!$C$18,$A363<='daily uptake'!$C$20),$D363+F362,0)","v":0},{"$f":"IF(AND($A363>='daily uptake'!$C$24,$A363<='daily uptake'!$C$25),$C363+G362,0)","v":0},{"$f":"IF(OR(F363<=I7,F363>I9),0,I8+(I10-I8)*(1-((I5+EXP(I6*(I4-I7)))/(I5+EXP(I6*(I4-F363))))^I5)/(1-((I5+EXP(I6*(I4-I7)))/(I5+EXP(I6*(I4-I9))))^I5))","v":0},{"$f":"IF(OR(F363<=J7,F363>J9),0,J8+(J10-J8)*(1-((J5+EXP(J6*(J4-J7)))/(J5+EXP(J6*(J4-F363))))^J5)/(1-((J5+EXP(J6*(J4-J7)))/(J5+EXP(J6*(J4-J9))))^J5))","v":0},{"$f":"IF(OR(F363<=J9,F363>100000),0,IF(F363<=K7,K8,K8+(K10-K8)*(1-((K5+EXP(K6*(K4-K7)))/(K5+EXP(K6*(K4-F363))))^K5)/(1-((K5+EXP(K6*(K4-K7)))/(K5+EXP(K6*(K4-K9))))^K5)))","v":0},0,0,0,0,"2011-10-18",{"$f":"MAX(L$12:L363)+MAX(M$12:M363)+MAX(N$12:N363)","v":490},"2011-10-18",0,null,null,null,null,null,null,null,null,null,null,null,null,null,null,null,null,null,0,null,{"$f":"IF(OR(AJ363<=AM7,AJ363>AM9),0,AM8+(AM10-AM8)*(1-((AM5+EXP(AM6*(AM4-AM7)))/(AM5+EXP(AM6*(AM4-AJ363))))^AM5)/(1-((AM5+EXP(AM6*(AM4-AM7)))/(AM5+EXP(AM6*(AM4-AM9))))^AM5))","v":0},{"$f":"IF(OR(AJ363<=AN7,AJ363>AN9),0,AN8+(AN10-AN8)*(1-((AN5+EXP(AN6*(AN4-AN7)))/(AN5+EXP(AN6*(AN4-AJ363))))^AN5)/(1-((AN5+EXP(AN6*(AN4-AN7)))/(AN5+EXP(AN6*(AN4-AN9))))^AN5))","v":0},{"$f":"IF(OR(AJ363<=AN9,AJ363>100000),0,IF(AJ363<=AO7,AO8,AO8+(AO10-AO8)*(1-((AO5+EXP(AO6*(AO4-AO7)))/(AO5+EXP(AO6*(AO4-AJ363))))^AO5)/(1-((AO5+EXP(AO6*(AO4-AO7)))/(AO5+EXP(AO6*(AO4-AO9))))^AO5)))","v":0},0,0]
[353,{"$f":"'daily uptake'!F447","v":"2011-10-19"},{"$f":"5/9*'daily uptake'!Q447","v":15.833333333333334},{"$f":"5/9*'daily uptake'!N447","v":7.2222222222222223},{"$f":"IF(AND($A364>='daily uptake'!$C$9,$A364<='daily uptake'!$C$10),$C364+E363,0)","v":0},{"$f":"IF(AND($A364>='daily uptake'!$C$18,$A364<='daily uptake'!$C$20),$D364+F363,0)","v":0},{"$f":"IF(AND($A364>='daily uptake'!$C$24,$A364<='daily uptake'!$C$25),$C364+G363,0)","v":0},{"$f":"IF(OR(F364<=I7,F364>I9),0,I8+(I10-I8)*(1-((I5+EXP(I6*(I4-I7)))/(I5+EXP(I6*(I4-F364))))^I5)/(1-((I5+EXP(I6*(I4-I7)))/(I5+EXP(I6*(I4-I9))))^I5))","v":0},{"$f":"IF(OR(F364<=J7,F364>J9),0,J8+(J10-J8)*(1-((J5+EXP(J6*(J4-J7)))/(J5+EXP(J6*(J4-F364))))^J5)/(1-((J5+EXP(J6*(J4-J7)))/(J5+EXP(J6*(J4-J9))))^J5))","v":0},{"$f":"IF(OR(F364<=J9,F364>100000),0,IF(F364<=K7,K8,K8+(K10-K8)*(1-((K5+EXP(K6*(K4-K7)))/(K5+EXP(K6*(K4-F364))))^K5)/(1-((K5+EXP(K6*(K4-K7)))/(K5+EXP(K6*(K4-K9))))^K5)))","v":0},0,0,0,0,"2011-10-19",{"$f":"MAX(L$12:L364)+MAX(M$12:M364)+MAX(N$12:N364)","v":490},"2011-10-19",0,null,null,null,null,null,null,null,null,null,null,null,null,null,null,null,null,null,0,null,{"$f":"IF(OR(AJ364<=AM7,AJ364>AM9),0,AM8+(AM10-AM8)*(1-((AM5+EXP(AM6*(AM4-AM7)))/(AM5+EXP(AM6*(AM4-AJ364))))^AM5)/(1-((AM5+EXP(AM6*(AM4-AM7)))/(AM5+EXP(AM6*(AM4-AM9))))^AM5))","v":0},{"$f":"IF(OR(AJ364<=AN7,AJ364>AN9),0,AN8+(AN10-AN8)*(1-((AN5+EXP(AN6*(AN4-AN7)))/(AN5+EXP(AN6*(AN4-AJ364))))^AN5)/(1-((AN5+EXP(AN6*(AN4-AN7)))/(AN5+EXP(AN6*(AN4-AN9))))^AN5))","v":0},{"$f":"IF(OR(AJ364<=AN9,AJ364>100000),0,IF(AJ364<=AO7,AO8,AO8+(AO10-AO8)*(1-((AO5+EXP(AO6*(AO4-AO7)))/(AO5+EXP(AO6*(AO4-AJ364))))^AO5)/(1-((AO5+EXP(AO6*(AO4-AO7)))/(AO5+EXP(AO6*(AO4-AO9))))^AO5)))","v":0},0,0]
[354,{"$f":"'daily uptake'!F448","v":"2011-10-20"},{"$f":"5/9*'daily uptake'!Q448","v":15.833333333333334},{"$f":"5/9*'daily uptake'!N448","v":7.2222222222222223},{"$f":"IF(AND($A365>='daily uptake'!$C$9,$A365<='daily uptake'!$C$10),$C365+E364,0)","v":0},{"$f":"IF(AND($A365>='daily uptake'!$C$18,$A365<='daily uptake'!$C$20),$D365+F364,0)","v":0},{"$f":"IF(AND($A365>='daily uptake'!$C$24,$A365<='daily uptake'!$C$25),$C365+G364,0)","v":0},{"$f":"IF(OR(F365<=I7,F365>I9),0,I8+(I10-I8)*(1-((I5+EXP(I6*(I4-I7)))/(I5+EXP(I6*(I4-F365))))^I5)/(1-((I5+EXP(I6*(I4-I7)))/(I5+EXP(I6*(I4-I9))))^I5))","v":0},{"$f":"IF(OR(F365<=J7,F365>J9),0,J8+(J10-J8)*(1-((J5+EXP(J6*(J4-J7)))/(J5+EXP(J6*(J4-F365))))^J5)/(1-((J5+EXP(J6*(J4-J7)))/(J5+EXP(J6*(J4-J9))))^J5))","v":0},{"$f":"IF(OR(F365<=J9,F365>100000),0,IF(F365<=K7,K8,K8+(K10-K8)*(1-((K5+EXP(K6*(K4-K7)))/(K5+EXP(K6*(K4-F365))))^K5)/(1-((K5+EXP(K6*(K4-K7)))/(K5+EXP(K6*(K4-K9))))^K5)))","v":0},0,0,0,0,"2011-10-20",{"$f":"MAX(L$12:L365)+MAX(M$12:M365)+MAX(N$12:N365)","v":490},"2011-10-20",0,null,null,null,null,null,null,null,null,null,null,null,null,null,null,null,null,null,0,null,{"$f":"IF(OR(AJ365<=AM7,AJ365>AM9),0,AM8+(AM10-AM8)*(1-((AM5+EXP(AM6*(AM4-AM7)))/(AM5+EXP(AM6*(AM4-AJ365))))^AM5)/(1-((AM5+EXP(AM6*(AM4-AM7)))/(AM5+EXP(AM6*(AM4-AM9))))^AM5))","v":0},{"$f":"IF(OR(AJ365<=AN7,AJ365>AN9),0,AN8+(AN10-AN8)*(1-((AN5+EXP(AN6*(AN4-AN7)))/(AN5+EXP(AN6*(AN4-AJ365))))^AN5)/(1-((AN5+EXP(AN6*(AN4-AN7)))/(AN5+EXP(AN6*(AN4-AN9))))^AN5))","v":0},{"$f":"IF(OR(AJ365<=AN9,AJ365>100000),0,IF(AJ365<=AO7,AO8,AO8+(AO10-AO8)*(1-((AO5+EXP(AO6*(AO4-AO7)))/(AO5+EXP(AO6*(AO4-AJ365))))^AO5)/(1-((AO5+EXP(AO6*(AO4-AO7)))/(AO5+EXP(AO6*(AO4-AO9))))^AO5)))","v":0},0,0]
[355,{"$f":"'daily uptake'!F449","v":"2011-10-21"},{"$f":"5/9*'daily uptake'!Q449","v":15.555555555555557},{"$f":"5/9*'daily uptake'!N449","v":7.2222222222222223},{"$f":"IF(AND($A366>='daily uptake'!$C$9,$A366<='daily uptake'!$C$10),$C366+E365,0)","v":0},{"$f":"IF(AND($A366>='daily uptake'!$C$18,$A366<='daily uptake'!$C$20),$D366+F365,0)","v":0},{"$f":"IF(AND($A366>='daily uptake'!$C$24,$A366<='daily uptake'!$C$25),$C366+G365,0)","v":0},{"$f":"IF(OR(F366<=I7,F366>I9),0,I8+(I10-I8)*(1-((I5+EXP(I6*(I4-I7)))/(I5+EXP(I6*(I4-F366))))^I5)/(1-((I5+EXP(I6*(I4-I7)))/(I5+EXP(I6*(I4-I9))))^I5))","v":0},{"$f":"IF(OR(F366<=J7,F366>J9),0,J8+(J10-J8)*(1-((J5+EXP(J6*(J4-J7)))/(J5+EXP(J6*(J4-F366))))^J5)/(1-((J5+EXP(J6*(J4-J7)))/(J5+EXP(J6*(J4-J9))))^J5))","v":0},{"$f":"IF(OR(F366<=J9,F366>100000),0,IF(F366<=K7,K8,K8+(K10-K8)*(1-((K5+EXP(K6*(K4-K7)))/(K5+EXP(K6*(K4-F366))))^K5)/(1-((K5+EXP(K6*(K4-K7)))/(K5+EXP(K6*(K4-K9))))^K5)))","v":0},0,0,0,0,"2011-10-21",{"$f":"MAX(L$12:L366)+MAX(M$12:M366)+MAX(N$12:N366)","v":490},"2011-10-21",0,null,null,null,null,null,null,null,null,null,null,null,null,null,null,null,null,null,0,null,{"$f":"IF(OR(AJ366<=AM7,AJ366>AM9),0,AM8+(AM10-AM8)*(1-((AM5+EXP(AM6*(AM4-AM7)))/(AM5+EXP(AM6*(AM4-AJ366))))^AM5)/(1-((AM5+EXP(AM6*(AM4-AM7)))/(AM5+EXP(AM6*(AM4-AM9))))^AM5))","v":0},{"$f":"IF(OR(AJ366<=AN7,AJ366>AN9),0,AN8+(AN10-AN8)*(1-((AN5+EXP(AN6*(AN4-AN7)))/(AN5+EXP(AN6*(AN4-AJ366))))^AN5)/(1-((AN5+EXP(AN6*(AN4-AN7)))/(AN5+EXP(AN6*(AN4-AN9))))^AN5))","v":0},{"$f":"IF(OR(AJ366<=AN9,AJ366>100000),0,IF(AJ366<=AO7,AO8,AO8+(AO10-AO8)*(1-((AO5+EXP(AO6*(AO4-AO7)))/(AO5+EXP(AO6*(AO4-AJ366))))^AO5)/(1-((AO5+EXP(AO6*(AO4-AO7)))/(AO5+EXP(AO6*(AO4-AO9))))^AO5)))","v":0},0,0]
[356,{"$f":"'daily uptake'!F450","v":"2011-10-22"},{"$f":"5/9*'daily uptake'!Q450","v":15.555555555555557},{"$f":"5/9*'daily uptake'!N450","v":7.5},{"$f":"IF(AND($A367>='daily uptake'!$C$9,$A367<='daily uptake'!$C$10),$C367+E366,0)","v":0},{"$f":"IF(AND($A367>='daily uptake'!$C$18,$A367<='daily uptake'!$C$20),$D367+F366,0)","v":0},{"$f":"IF(AND($A367>='daily uptake'!$C$24,$A367<='daily uptake'!$C$25),$C367+G366,0)","v":0},{"$f":"IF(OR(F367<=I7,F367>I9),0,I8+(I10-I8)*(1-((I5+EXP(I6*(I4-I7)))/(I5+EXP(I6*(I4-F367))))^I5)/(1-((I5+EXP(I6*(I4-I7)))/(I5+EXP(I6*(I4-I9))))^I5))","v":0},{"$f":"IF(OR(F367<=J7,F367>J9),0,J8+(J10-J8)*(1-((J5+EXP(J6*(J4-J7)))/(J5+EXP(J6*(J4-F367))))^J5)/(1-((J5+EXP(J6*(J4-J7)))/(J5+EXP(J6*(J4-J9))))^J5))","v":0},{"$f":"IF(OR(F367<=J9,F367>100000),0,IF(F367<=K7,K8,K8+(K10-K8)*(1-((K5+EXP(K6*(K4-K7)))/(K5+EXP(K6*(K4-F367))))^K5)/(1-((K5+EXP(K6*(K4-K7)))/(K5+EXP(K6*(K4-K9))))^K5)))","v":0},0,0,0,0,"2011-10-22",{"$f":"MAX(L$12:L367)+MAX(M$12:M367)+MAX(N$12:N367)","v":490},"2011-10-22",0,null,null,null,null,null,null,null,null,null,null,null,null,null,null,null,null,null,0,null,{"$f":"IF(OR(AJ367<=AM7,AJ367>AM9),0,AM8+(AM10-AM8)*(1-((AM5+EXP(AM6*(AM4-AM7)))/(AM5+EXP(AM6*(AM4-AJ367))))^AM5)/(1-((AM5+EXP(AM6*(AM4-AM7)))/(AM5+EXP(AM6*(AM4-AM9))))^AM5))","v":0},{"$f":"IF(OR(AJ367<=AN7,AJ367>AN9),0,AN8+(AN10-AN8)*(1-((AN5+EXP(AN6*(AN4-AN7)))/(AN5+EXP(AN6*(AN4-AJ367))))^AN5)/(1-((AN5+EXP(AN6*(AN4-AN7)))/(AN5+EXP(AN6*(AN4-AN9))))^AN5))","v":0},{"$f":"IF(OR(AJ367<=AN9,AJ367>100000),0,IF(AJ367<=AO7,AO8,AO8+(AO10-AO8)*(1-((AO5+EXP(AO6*(AO4-AO7)))/(AO5+EXP(AO6*(AO4-AJ367))))^AO5)/(1-((AO5+EXP(AO6*(AO4-AO7)))/(AO5+EXP(AO6*(AO4-AO9))))^AO5)))","v":0},0,0]
[357,{"$f":"'daily uptake'!F451","v":"2011-10-23"},{"$f":"5/9*'daily uptake'!Q451","v":15.555555555555557},{"$f":"5/9*'daily uptake'!N451","v":7.2222222222222223},{"$f":"IF(AND($A368>='daily uptake'!$C$9,$A368<='daily uptake'!$C$10),$C368+E367,0)","v":0},{"$f":"IF(AND($A368>='daily uptake'!$C$18,$A368<='daily uptake'!$C$20),$D368+F367,0)","v":0},{"$f":"IF(AND($A368>='daily uptake'!$C$24,$A368<='daily uptake'!$C$25),$C368+G367,0)","v":0},{"$f":"IF(OR(F368<=I7,F368>I9),0,I8+(I10-I8)*(1-((I5+EXP(I6*(I4-I7)))/(I5+EXP(I6*(I4-F368))))^I5)/(1-((I5+EXP(I6*(I4-I7)))/(I5+EXP(I6*(I4-I9))))^I5))","v":0},{"$f":"IF(OR(F368<=J7,F368>J9),0,J8+(J10-J8)*(1-((J5+EXP(J6*(J4-J7)))/(J5+EXP(J6*(J4-F368))))^J5)/(1-((J5+EXP(J6*(J4-J7)))/(J5+EXP(J6*(J4-J9))))^J5))","v":0},{"$f":"IF(OR(F368<=J9,F368>100000),0,IF(F368<=K7,K8,K8+(K10-K8)*(1-((K5+EXP(K6*(K4-K7)))/(K5+EXP(K6*(K4-F368))))^K5)/(1-((K5+EXP(K6*(K4-K7)))/(K5+EXP(K6*(K4-K9))))^K5)))","v":0},0,0,0,0,"2011-10-23",{"$f":"MAX(L$12:L368)+MAX(M$12:M368)+MAX(N$12:N368)","v":490},"2011-10-23",0,null,null,null,null,null,null,null,null,null,null,null,null,null,null,null,null,null,0,null,{"$f":"IF(OR(AJ368<=AM7,AJ368>AM9),0,AM8+(AM10-AM8)*(1-((AM5+EXP(AM6*(AM4-AM7)))/(AM5+EXP(AM6*(AM4-AJ368))))^AM5)/(1-((AM5+EXP(AM6*(AM4-AM7)))/(AM5+EXP(AM6*(AM4-AM9))))^AM5))","v":0},{"$f":"IF(OR(AJ368<=AN7,AJ368>AN9),0,AN8+(AN10-AN8)*(1-((AN5+EXP(AN6*(AN4-AN7)))/(AN5+EXP(AN6*(AN4-AJ368))))^AN5)/(1-((AN5+EXP(AN6*(AN4-AN7)))/(AN5+EXP(AN6*(AN4-AN9))))^AN5))","v":0},{"$f":"IF(OR(AJ368<=AN9,AJ368>100000),0,IF(AJ368<=AO7,AO8,AO8+(AO10-AO8)*(1-((AO5+EXP(AO6*(AO4-AO7)))/(AO5+EXP(AO6*(AO4-AJ368))))^AO5)/(1-((AO5+EXP(AO6*(AO4-AO7)))/(AO5+EXP(AO6*(AO4-AO9))))^AO5)))","v":0},0,0]
[358,{"$f":"'daily uptake'!F452","v":"2011-10-24"},{"$f":"5/9*'daily uptake'!Q452","v":15.277777777777779},{"$f":"5/9*'daily uptake'!N452","v":6.666666666666667},{"$f":"IF(AND($A369>='daily uptake'!$C$9,$A369<='daily uptake'!$C$10),$C369+E368,0)","v":0},{"$f":"IF(AND($A369>='daily uptake'!$C$18,$A369<='daily uptake'!$C$20),$D369+F368,0)","v":0},{"$f":"IF(AND($A369>='daily uptake'!$C$24,$A369<='daily uptake'!$C$25),$C369+G368,0)","v":0},{"$f":"IF(OR(F369<=I7,F369>I9),0,I8+(I10-I8)*(1-((I5+EXP(I6*(I4-I7)))/(I5+EXP(I6*(I4-F369))))^I5)/(1-((I5+EXP(I6*(I4-I7)))/(I5+EXP(I6*(I4-I9))))^I5))","v":0},{"$f":"IF(OR(F369<=J7,F369>J9),0,J8+(J10-J8)*(1-((J5+EXP(J6*(J4-J7)))/(J5+EXP(J6*(J4-F369))))^J5)/(1-((J5+EXP(J6*(J4-J7)))/(J5+EXP(J6*(J4-J9))))^J5))","v":0},{"$f":"IF(OR(F369<=J9,F369>100000),0,IF(F369<=K7,K8,K8+(K10-K8)*(1-((K5+EXP(K6*(K4-K7)))/(K5+EXP(K6*(K4-F369))))^K5)/(1-((K5+EXP(K6*(K4-K7)))/(K5+EXP(K6*(K4-K9))))^K5)))","v":0},0,0,0,0,"2011-10-24",{"$f":"MAX(L$12:L369)+MAX(M$12:M369)+MAX(N$12:N369)","v":490},"2011-10-24",0,null,null,null,null,null,null,null,null,null,null,null,null,null,null,null,null,null,0,null,{"$f":"IF(OR(AJ369<=AM7,AJ369>AM9),0,AM8+(AM10-AM8)*(1-((AM5+EXP(AM6*(AM4-AM7)))/(AM5+EXP(AM6*(AM4-AJ369))))^AM5)/(1-((AM5+EXP(AM6*(AM4-AM7)))/(AM5+EXP(AM6*(AM4-AM9))))^AM5))","v":0},{"$f":"IF(OR(AJ369<=AN7,AJ369>AN9),0,AN8+(AN10-AN8)*(1-((AN5+EXP(AN6*(AN4-AN7)))/(AN5+EXP(AN6*(AN4-AJ369))))^AN5)/(1-((AN5+EXP(AN6*(AN4-AN7)))/(AN5+EXP(AN6*(AN4-AN9))))^AN5))","v":0},{"$f":"IF(OR(AJ369<=AN9,AJ369>100000),0,IF(AJ369<=AO7,AO8,AO8+(AO10-AO8)*(1-((AO5+EXP(AO6*(AO4-AO7)))/(AO5+EXP(AO6*(AO4-AJ369))))^AO5)/(1-((AO5+EXP(AO6*(AO4-AO7)))/(AO5+EXP(AO6*(AO4-AO9))))^AO5)))","v":0},0,0]
[359,{"$f":"'daily uptake'!F453","v":"2011-10-25"},{"$f":"5/9*'daily uptake'!Q453","v":14.722222222222223},{"$f":"5/9*'daily uptake'!N453","v":6.3888888888888893},{"$f":"IF(AND($A370>='daily uptake'!$C$9,$A370<='daily uptake'!$C$10),$C370+E369,0)","v":0},{"$f":"IF(AND($A370>='daily uptake'!$C$18,$A370<='daily uptake'!$C$20),$D370+F369,0)","v":0},{"$f":"IF(AND($A370>='daily uptake'!$C$24,$A370<='daily uptake'!$C$25),$C370+G369,0)","v":0},{"$f":"IF(OR(F370<=I7,F370>I9),0,I8+(I10-I8)*(1-((I5+EXP(I6*(I4-I7)))/(I5+EXP(I6*(I4-F370))))^I5)/(1-((I5+EXP(I6*(I4-I7)))/(I5+EXP(I6*(I4-I9))))^I5))","v":0},{"$f":"IF(OR(F370<=J7,F370>J9),0,J8+(J10-J8)*(1-((J5+EXP(J6*(J4-J7)))/(J5+EXP(J6*(J4-F370))))^J5)/(1-((J5+EXP(J6*(J4-J7)))/(J5+EXP(J6*(J4-J9))))^J5))","v":0},{"$f":"IF(OR(F370<=J9,F370>100000),0,IF(F370<=K7,K8,K8+(K10-K8)*(1-((K5+EXP(K6*(K4-K7)))/(K5+EXP(K6*(K4-F370))))^K5)/(1-((K5+EXP(K6*(K4-K7)))/(K5+EXP(K6*(K4-K9))))^K5)))","v":0},0,0,0,0,"2011-10-25",{"$f":"MAX(L$12:L370)+MAX(M$12:M370)+MAX(N$12:N370)","v":490},"2011-10-25",0,null,null,null,null,null,null,null,null,null,null,null,null,null,null,null,null,null,0,null,{"$f":"IF(OR(AJ370<=AM7,AJ370>AM9),0,AM8+(AM10-AM8)*(1-((AM5+EXP(AM6*(AM4-AM7)))/(AM5+EXP(AM6*(AM4-AJ370))))^AM5)/(1-((AM5+EXP(AM6*(AM4-AM7)))/(AM5+EXP(AM6*(AM4-AM9))))^AM5))","v":0},{"$f":"IF(OR(AJ370<=AN7,AJ370>AN9),0,AN8+(AN10-AN8)*(1-((AN5+EXP(AN6*(AN4-AN7)))/(AN5+EXP(AN6*(AN4-AJ370))))^AN5)/(1-((AN5+EXP(AN6*(AN4-AN7)))/(AN5+EXP(AN6*(AN4-AN9))))^AN5))","v":0},{"$f":"IF(OR(AJ370<=AN9,AJ370>100000),0,IF(AJ370<=AO7,AO8,AO8+(AO10-AO8)*(1-((AO5+EXP(AO6*(AO4-AO7)))/(AO5+EXP(AO6*(AO4-AJ370))))^AO5)/(1-((AO5+EXP(AO6*(AO4-AO7)))/(AO5+EXP(AO6*(AO4-AO9))))^AO5)))","v":0},0,0]
[360,{"$f":"'daily uptake'!F454","v":"2011-10-26"},{"$f":"5/9*'daily uptake'!Q454","v":15},{"$f":"5/9*'daily uptake'!N454","v":6.9444444444444446},{"$f":"IF(AND($A371>='daily uptake'!$C$9,$A371<='daily uptake'!$C$10),$C371+E370,0)","v":0},{"$f":"IF(AND($A371>='daily uptake'!$C$18,$A371<='daily uptake'!$C$20),$D371+F370,0)","v":0},{"$f":"IF(AND($A371>='daily uptake'!$C$24,$A371<='daily uptake'!$C$25),$C371+G370,0)","v":0},{"$f":"IF(OR(F371<=I7,F371>I9),0,I8+(I10-I8)*(1-((I5+EXP(I6*(I4-I7)))/(I5+EXP(I6*(I4-F371))))^I5)/(1-((I5+EXP(I6*(I4-I7)))/(I5+EXP(I6*(I4-I9))))^I5))","v":0},{"$f":"IF(OR(F371<=J7,F371>J9),0,J8+(J10-J8)*(1-((J5+EXP(J6*(J4-J7)))/(J5+EXP(J6*(J4-F371))))^J5)/(1-((J5+EXP(J6*(J4-J7)))/(J5+EXP(J6*(J4-J9))))^J5))","v":0},{"$f":"IF(OR(F371<=J9,F371>100000),0,IF(F371<=K7,K8,K8+(K10-K8)*(1-((K5+EXP(K6*(K4-K7)))/(K5+EXP(K6*(K4-F371))))^K5)/(1-((K5+EXP(K6*(K4-K7)))/(K5+EXP(K6*(K4-K9))))^K5)))","v":0},0,0,0,0,"2011-10-26",{"$f":"MAX(L$12:L371)+MAX(M$12:M371)+MAX(N$12:N371)","v":490},"2011-10-26",0,null,null,null,null,null,null,null,null,null,null,null,null,null,null,null,null,null,0,null,{"$f":"IF(OR(AJ371<=AM7,AJ371>AM9),0,AM8+(AM10-AM8)*(1-((AM5+EXP(AM6*(AM4-AM7)))/(AM5+EXP(AM6*(AM4-AJ371))))^AM5)/(1-((AM5+EXP(AM6*(AM4-AM7)))/(AM5+EXP(AM6*(AM4-AM9))))^AM5))","v":0},{"$f":"IF(OR(AJ371<=AN7,AJ371>AN9),0,AN8+(AN10-AN8)*(1-((AN5+EXP(AN6*(AN4-AN7)))/(AN5+EXP(AN6*(AN4-AJ371))))^AN5)/(1-((AN5+EXP(AN6*(AN4-AN7)))/(AN5+EXP(AN6*(AN4-AN9))))^AN5))","v":0},{"$f":"IF(OR(AJ371<=AN9,AJ371>100000),0,IF(AJ371<=AO7,AO8,AO8+(AO10-AO8)*(1-((AO5+EXP(AO6*(AO4-AO7)))/(AO5+EXP(AO6*(AO4-AJ371))))^AO5)/(1-((AO5+EXP(AO6*(AO4-AO7)))/(AO5+EXP(AO6*(AO4-AO9))))^AO5)))","v":0},0,0]
[361,{"$f":"'daily uptake'!F455","v":"2011-10-27"},{"$f":"5/9*'daily uptake'!Q455","v":14.722222222222223},{"$f":"5/9*'daily uptake'!N455","v":6.3888888888888893},{"$f":"IF(AND($A372>='daily uptake'!$C$9,$A372<='daily uptake'!$C$10),$C372+E371,0)","v":0},{"$f":"IF(AND($A372>='daily uptake'!$C$18,$A372<='daily uptake'!$C$20),$D372+F371,0)","v":0},{"$f":"IF(AND($A372>='daily uptake'!$C$24,$A372<='daily uptake'!$C$25),$C372+G371,0)","v":0},{"$f":"IF(OR(F372<=I7,F372>I9),0,I8+(I10-I8)*(1-((I5+EXP(I6*(I4-I7)))/(I5+EXP(I6*(I4-F372))))^I5)/(1-((I5+EXP(I6*(I4-I7)))/(I5+EXP(I6*(I4-I9))))^I5))","v":0},{"$f":"IF(OR(F372<=J7,F372>J9),0,J8+(J10-J8)*(1-((J5+EXP(J6*(J4-J7)))/(J5+EXP(J6*(J4-F372))))^J5)/(1-((J5+EXP(J6*(J4-J7)))/(J5+EXP(J6*(J4-J9))))^J5))","v":0},{"$f":"IF(OR(F372<=J9,F372>100000),0,IF(F372<=K7,K8,K8+(K10-K8)*(1-((K5+EXP(K6*(K4-K7)))/(K5+EXP(K6*(K4-F372))))^K5)/(1-((K5+EXP(K6*(K4-K7)))/(K5+EXP(K6*(K4-K9))))^K5)))","v":0},0,0,0,0,"2011-10-27",{"$f":"MAX(L$12:L372)+MAX(M$12:M372)+MAX(N$12:N372)","v":490},"2011-10-27",0,null,null,null,null,null,null,null,null,null,null,null,null,null,null,null,null,null,0,null,{"$f":"IF(OR(AJ372<=AM7,AJ372>AM9),0,AM8+(AM10-AM8)*(1-((AM5+EXP(AM6*(AM4-AM7)))/(AM5+EXP(AM6*(AM4-AJ372))))^AM5)/(1-((AM5+EXP(AM6*(AM4-AM7)))/(AM5+EXP(AM6*(AM4-AM9))))^AM5))","v":0},{"$f":"IF(OR(AJ372<=AN7,AJ372>AN9),0,AN8+(AN10-AN8)*(1-((AN5+EXP(AN6*(AN4-AN7)))/(AN5+EXP(AN6*(AN4-AJ372))))^AN5)/(1-((AN5+EXP(AN6*(AN4-AN7)))/(AN5+EXP(AN6*(AN4-AN9))))^AN5))","v":0},{"$f":"IF(OR(AJ372<=AN9,AJ372>100000),0,IF(AJ372<=AO7,AO8,AO8+(AO10-AO8)*(1-((AO5+EXP(AO6*(AO4-AO7)))/(AO5+EXP(AO6*(AO4-AJ372))))^AO5)/(1-((AO5+EXP(AO6*(AO4-AO7)))/(AO5+EXP(AO6*(AO4-AO9))))^AO5)))","v":0},0,0]
[362,{"$f":"'daily uptake'!F456","v":"2011-10-28"},{"$f":"5/9*'daily uptake'!Q456","v":14.722222222222223},{"$f":"5/9*'daily uptake'!N456","v":6.3888888888888893},{"$f":"IF(AND($A373>='daily uptake'!$C$9,$A373<='daily uptake'!$C$10),$C373+E372,0)","v":0},{"$f":"IF(AND($A373>='daily uptake'!$C$18,$A373<='daily uptake'!$C$20),$D373+F372,0)","v":0},{"$f":"IF(AND($A373>='daily uptake'!$C$24,$A373<='daily uptake'!$C$25),$C373+G372,0)","v":0},{"$f":"IF(OR(F373<=I7,F373>I9),0,I8+(I10-I8)*(1-((I5+EXP(I6*(I4-I7)))/(I5+EXP(I6*(I4-F373))))^I5)/(1-((I5+EXP(I6*(I4-I7)))/(I5+EXP(I6*(I4-I9))))^I5))","v":0},{"$f":"IF(OR(F373<=J7,F373>J9),0,J8+(J10-J8)*(1-((J5+EXP(J6*(J4-J7)))/(J5+EXP(J6*(J4-F373))))^J5)/(1-((J5+EXP(J6*(J4-J7)))/(J5+EXP(J6*(J4-J9))))^J5))","v":0},{"$f":"IF(OR(F373<=J9,F373>100000),0,IF(F373<=K7,K8,K8+(K10-K8)*(1-((K5+EXP(K6*(K4-K7)))/(K5+EXP(K6*(K4-F373))))^K5)/(1-((K5+EXP(K6*(K4-K7)))/(K5+EXP(K6*(K4-K9))))^K5)))","v":0},0,0,0,0,"2011-10-28",{"$f":"MAX(L$12:L373)+MAX(M$12:M373)+MAX(N$12:N373)","v":490},"2011-10-28",0,null,null,null,null,null,null,null,null,null,null,null,null,null,null,null,null,null,0,null,{"$f":"IF(OR(AJ373<=AM7,AJ373>AM9),0,AM8+(AM10-AM8)*(1-((AM5+EXP(AM6*(AM4-AM7)))/(AM5+EXP(AM6*(AM4-AJ373))))^AM5)/(1-((AM5+EXP(AM6*(AM4-AM7)))/(AM5+EXP(AM6*(AM4-AM9))))^AM5))","v":0},{"$f":"IF(OR(AJ373<=AN7,AJ373>AN9),0,AN8+(AN10-AN8)*(1-((AN5+EXP(AN6*(AN4-AN7)))/(AN5+EXP(AN6*(AN4-AJ373))))^AN5)/(1-((AN5+EXP(AN6*(AN4-AN7)))/(AN5+EXP(AN6*(AN4-AN9))))^AN5))","v":0},{"$f":"IF(OR(AJ373<=AN9,AJ373>100000),0,IF(AJ373<=AO7,AO8,AO8+(AO10-AO8)*(1-((AO5+EXP(AO6*(AO4-AO7)))/(AO5+EXP(AO6*(AO4-AJ373))))^AO5)/(1-((AO5+EXP(AO6*(AO4-AO7)))/(AO5+EXP(AO6*(AO4-AO9))))^AO5)))","v":0},0,0]
[363,{"$f":"'daily uptake'!F457","v":"2011-10-29"},{"$f":"5/9*'daily uptake'!Q457","v":13.888888888888889},{"$f":"5/9*'daily uptake'!N457","v":5.8333333333333339},{"$f":"IF(AND($A374>='daily uptake'!$C$9,$A374<='daily uptake'!$C$10),$C374+E373,0)","v":0},{"$f":"IF(AND($A374>='daily uptake'!$C$18,$A374<='daily uptake'!$C$20),$D374+F373,0)","v":0},{"$f":"IF(AND($A374>='daily uptake'!$C$24,$A374<='daily uptake'!$C$25),$C374+G373,0)","v":0},{"$f":"IF(OR(F374<=I7,F374>I9),0,I8+(I10-I8)*(1-((I5+EXP(I6*(I4-I7)))/(I5+EXP(I6*(I4-F374))))^I5)/(1-((I5+EXP(I6*(I4-I7)))/(I5+EXP(I6*(I4-I9))))^I5))","v":0},{"$f":"IF(OR(F374<=J7,F374>J9),0,J8+(J10-J8)*(1-((J5+EXP(J6*(J4-J7)))/(J5+EXP(J6*(J4-F374))))^J5)/(1-((J5+EXP(J6*(J4-J7)))/(J5+EXP(J6*(J4-J9))))^J5))","v":0},{"$f":"IF(OR(F374<=J9,F374>100000),0,IF(F374<=K7,K8,K8+(K10-K8)*(1-((K5+EXP(K6*(K4-K7)))/(K5+EXP(K6*(K4-F374))))^K5)/(1-((K5+EXP(K6*(K4-K7)))/(K5+EXP(K6*(K4-K9))))^K5)))","v":0},0,0,0,0,"2011-10-29",{"$f":"MAX(L$12:L374)+MAX(M$12:M374)+MAX(N$12:N374)","v":490},"2011-10-29",0,null,null,null,null,null,null,null,null,null,null,null,null,null,null,null,null,null,0,null,{"$f":"IF(OR(AJ374<=AM7,AJ374>AM9),0,AM8+(AM10-AM8)*(1-((AM5+EXP(AM6*(AM4-AM7)))/(AM5+EXP(AM6*(AM4-AJ374))))^AM5)/(1-((AM5+EXP(AM6*(AM4-AM7)))/(AM5+EXP(AM6*(AM4-AM9))))^AM5))","v":0},{"$f":"IF(OR(AJ374<=AN7,AJ374>AN9),0,AN8+(AN10-AN8)*(1-((AN5+EXP(AN6*(AN4-AN7)))/(AN5+EXP(AN6*(AN4-AJ374))))^AN5)/(1-((AN5+EXP(AN6*(AN4-AN7)))/(AN5+EXP(AN6*(AN4-AN9))))^AN5))","v":0},{"$f":"IF(OR(AJ374<=AN9,AJ374>100000),0,IF(AJ374<=AO7,AO8,AO8+(AO10-AO8)*(1-((AO5+EXP(AO6*(AO4-AO7)))/(AO5+EXP(AO6*(AO4-AJ374))))^AO5)/(1-((AO5+EXP(AO6*(AO4-AO7)))/(AO5+EXP(AO6*(AO4-AO9))))^AO5)))","v":0},0,0]
[364,{"$f":"'daily uptake'!F458","v":"2011-10-30"},{"$f":"5/9*'daily uptake'!Q458","v":13.055555555555555},{"$f":"5/9*'daily uptake'!N458","v":5.2777777777777777},{"$f":"IF(AND($A375>='daily uptake'!$C$9,$A375<='daily uptake'!$C$10),$C375+E374,0)","v":0},{"$f":"IF(AND($A375>='daily uptake'!$C$18,$A375<='daily uptake'!$C$20),$D375+F374,0)","v":0},{"$f":"IF(AND($A375>='daily uptake'!$C$24,$A375<='daily uptake'!$C$25),$C375+G374,0)","v":0},{"$f":"IF(OR(F375<=I7,F375>I9),0,I8+(I10-I8)*(1-((I5+EXP(I6*(I4-I7)))/(I5+EXP(I6*(I4-F375))))^I5)/(1-((I5+EXP(I6*(I4-I7)))/(I5+EXP(I6*(I4-I9))))^I5))","v":0},{"$f":"IF(OR(F375<=J7,F375>J9),0,J8+(J10-J8)*(1-((J5+EXP(J6*(J4-J7)))/(J5+EXP(J6*(J4-F375))))^J5)/(1-((J5+EXP(J6*(J4-J7)))/(J5+EXP(J6*(J4-J9))))^J5))","v":0},{"$f":"IF(OR(F375<=J9,F375>100000),0,IF(F375<=K7,K8,K8+(K10-K8)*(1-((K5+EXP(K6*(K4-K7)))/(K5+EXP(K6*(K4-F375))))^K5)/(1-((K5+EXP(K6*(K4-K7)))/(K5+EXP(K6*(K4-K9))))^K5)))","v":0},0,0,0,0,"2011-10-30",{"$f":"MAX(L$12:L375)+MAX(M$12:M375)+MAX(N$12:N375)","v":490},"2011-10-30",0,null,null,null,null,null,null,null,null,null,null,null,null,null,null,null,null,null,0,null,{"$f":"IF(OR(AJ375<=AM7,AJ375>AM9),0,AM8+(AM10-AM8)*(1-((AM5+EXP(AM6*(AM4-AM7)))/(AM5+EXP(AM6*(AM4-AJ375))))^AM5)/(1-((AM5+EXP(AM6*(AM4-AM7)))/(AM5+EXP(AM6*(AM4-AM9))))^AM5))","v":0},{"$f":"IF(OR(AJ375<=AN7,AJ375>AN9),0,AN8+(AN10-AN8)*(1-((AN5+EXP(AN6*(AN4-AN7)))/(AN5+EXP(AN6*(AN4-AJ375))))^AN5)/(1-((AN5+EXP(AN6*(AN4-AN7)))/(AN5+EXP(AN6*(AN4-AN9))))^AN5))","v":0},{"$f":"IF(OR(AJ375<=AN9,AJ375>100000),0,IF(AJ375<=AO7,AO8,AO8+(AO10-AO8)*(1-((AO5+EXP(AO6*(AO4-AO7)))/(AO5+EXP(AO6*(AO4-AJ375))))^AO5)/(1-((AO5+EXP(AO6*(AO4-AO7)))/(AO5+EXP(AO6*(AO4-AO9))))^AO5)))","v":0},0,0]
[365,{"$f":"'daily uptake'!F459","v":"2011-10-31"},{"$f":"5/9*'daily uptake'!Q459","v":13.055555555555555},{"$f":"5/9*'daily uptake'!N459","v":5.5555555555555554},{"$f":"IF(AND($A376>='daily uptake'!$C$9,$A376<='daily uptake'!$C$10),$C376+E375,0)","v":0},{"$f":"IF(AND($A376>='daily uptake'!$C$18,$A376<='daily uptake'!$C$20),$D376+F375,0)","v":0},{"$f":"IF(AND($A376>='daily uptake'!$C$24,$A376<='daily uptake'!$C$25),$C376+G375,0)","v":0},{"$f":"IF(OR(F376<=I7,F376>I9),0,I8+(I10-I8)*(1-((I5+EXP(I6*(I4-I7)))/(I5+EXP(I6*(I4-F376))))^I5)/(1-((I5+EXP(I6*(I4-I7)))/(I5+EXP(I6*(I4-I9))))^I5))","v":0},{"$f":"IF(OR(F376<=J7,F376>J9),0,J8+(J10-J8)*(1-((J5+EXP(J6*(J4-J7)))/(J5+EXP(J6*(J4-F376))))^J5)/(1-((J5+EXP(J6*(J4-J7)))/(J5+EXP(J6*(J4-J9))))^J5))","v":0},{"$f":"IF(OR(F376<=J9,F376>100000),0,IF(F376<=K7,K8,K8+(K10-K8)*(1-((K5+EXP(K6*(K4-K7)))/(K5+EXP(K6*(K4-F376))))^K5)/(1-((K5+EXP(K6*(K4-K7)))/(K5+EXP(K6*(K4-K9))))^K5)))","v":0},0,0,0,0,"2011-10-31",{"$f":"MAX(L$12:L376)+MAX(M$12:M376)+MAX(N$12:N376)","v":490},"2011-10-31",0,null,null,null,null,null,null,null,null,null,null,null,null,null,null,null,null,null,0,null,{"$f":"IF(OR(AJ376<=AM7,AJ376>AM9),0,AM8+(AM10-AM8)*(1-((AM5+EXP(AM6*(AM4-AM7)))/(AM5+EXP(AM6*(AM4-AJ376))))^AM5)/(1-((AM5+EXP(AM6*(AM4-AM7)))/(AM5+EXP(AM6*(AM4-AM9))))^AM5))","v":0},{"$f":"IF(OR(AJ376<=AN7,AJ376>AN9),0,AN8+(AN10-AN8)*(1-((AN5+EXP(AN6*(AN4-AN7)))/(AN5+EXP(AN6*(AN4-AJ376))))^AN5)/(1-((AN5+EXP(AN6*(AN4-AN7)))/(AN5+EXP(AN6*(AN4-AN9))))^AN5))","v":0},{"$f":"IF(OR(AJ376<=AN9,AJ376>100000),0,IF(AJ376<=AO7,AO8,AO8+(AO10-AO8)*(1-((AO5+EXP(AO6*(AO4-AO7)))/(AO5+EXP(AO6*(AO4-AJ376))))^AO5)/(1-((AO5+EXP(AO6*(AO4-AO7)))/(AO5+EXP(AO6*(AO4-AO9))))^AO5)))","v":0},0,0]
[366,{"$f":"'daily uptake'!F460","v":"2011-11-01"},{"$f":"5/9*'daily uptake'!Q460","v":13.333333333333334},{"$f":"5/9*'daily uptake'!N460","v":5.5555555555555554},{"$f":"IF(AND($A377>='daily uptake'!$C$9,$A377<='daily uptake'!$C$10),$C377+E376,0)","v":0},{"$f":"IF(AND($A377>='daily uptake'!$C$18,$A377<='daily uptake'!$C$20),$D377+F376,0)","v":0},{"$f":"IF(AND($A377>='daily uptake'!$C$24,$A377<='daily uptake'!$C$25),$C377+G376,0)","v":0},null,null,null,null,null,0,0,"2011-11-01",{"$f":"MAX(L$12:L377)+MAX(M$12:M377)+MAX(N$12:N377)","v":490},"2011-11-01",0]
[367,{"$f":"'daily uptake'!F461","v":"2011-11-02"},{"$f":"5/9*'daily uptake'!Q461","v":13.333333333333334},{"$f":"5/9*'daily uptake'!N461","v":5.8333333333333339},{"$f":"IF(AND($A378>='daily uptake'!$C$9,$A378<='daily uptake'!$C$10),$C378+E377,0)","v":0},{"$f":"IF(AND($A378>='daily uptake'!$C$18,$A378<='daily uptake'!$C$20),$D378+F377,0)","v":0},{"$f":"IF(AND($A378>='daily uptake'!$C$24,$A378<='daily uptake'!$C$25),$C378+G377,0)","v":0},null,null,null,null,null,0,0,"2011-11-02",{"$f":"MAX(L$12:L378)+MAX(M$12:M378)+MAX(N$12:N378)","v":490},"2011-11-02",0]
[368,{"$f":"'daily uptake'!F462","v":"2011-11-03"},{"$f":"5/9*'daily uptake'!Q462","v":12.777777777777779},{"$f":"5/9*'daily uptake'!N462","v":5.2777777777777777},{"$f":"IF(AND($A379>='daily uptake'!$C$9,$A379<='daily uptake'!$C$10),$C379+E378,0)","v":0},{"$f":"IF(AND($A379>='daily uptake'!$C$18,$A379<='daily uptake'!$C$20),$D379+F378,0)","v":0},{"$f":"IF(AND($A379>='daily uptake'!$C$24,$A379<='daily uptake'!$C$25),$C379+G378,0)","v":0},null,null,null,null,null,0,0,"2011-11-03",{"$f":"MAX(L$12:L379)+MAX(M$12:M379)+MAX(N$12:N379)","v":490},"2011-11-03",0]
[369,{"$f":"'daily uptake'!F463","v":"2011-11-04"},{"$f":"5/9*'daily uptake'!Q463","v":12.5},{"$f":"5/9*'daily uptake'!N463","v":5.2777777777777777},{"$f":"IF(AND($A380>='daily uptake'!$C$9,$A380<='daily uptake'!$C$10),$C380+E379,0)","v":0},{"$f":"IF(AND($A380>='daily uptake'!$C$18,$A380<='daily uptake'!$C$20),$D380+F379,0)","v":0},{"$f":"IF(AND($A380>='daily uptake'!$C$24,$A380<='daily uptake'!$C$25),$C380+G379,0)","v":0},null,null,null,null,null,0,0,"2011-11-04",{"$f":"MAX(L$12:L380)+MAX(M$12:M380)+MAX(N$12:N380)","v":490},"2011-11-04",0]
[370,{"$f":"'daily uptake'!F464","v":"2011-11-05"},{"$f":"5/9*'daily uptake'!Q464","v":13.611111111111112},{"$f":"5/9*'daily uptake'!N464","v":5.8333333333333339},{"$f":"IF(AND($A381>='daily uptake'!$C$9,$A381<='daily uptake'!$C$10),$C381+E380,0)","v":0},{"$f":"IF(AND($A381>='daily uptake'!$C$18,$A381<='daily uptake'!$C$20),$D381+F380,0)","v":0},{"$f":"IF(AND($A381>='daily uptake'!$C$24,$A381<='daily uptake'!$C$25),$C381+G380,0)","v":0},null,null,null,null,null,0,0,"2011-11-05",{"$f":"MAX(L$12:L381)+MAX(M$12:M381)+MAX(N$12:N381)","v":490},"2011-11-05",0]
[371,{"$f":"'daily uptake'!F465","v":"2011-11-06"},{"$f":"5/9*'daily uptake'!Q465","v":13.055555555555555},{"$f":"5/9*'daily uptake'!N465","v":5.2777777777777777},{"$f":"IF(AND($A382>='daily uptake'!$C$9,$A382<='daily uptake'!$C$10),$C382+E381,0)","v":0},{"$f":"IF(AND($A382>='daily uptake'!$C$18,$A382<='daily uptake'!$C$20),$D382+F381,0)","v":0},{"$f":"IF(AND($A382>='daily uptake'!$C$24,$A382<='daily uptake'!$C$25),$C382+G381,0)","v":0},null,null,null,null,null,0,0,"2011-11-06",{"$f":"MAX(L$12:L382)+MAX(M$12:M382)+MAX(N$12:N382)","v":490},"2011-11-06",0]
[372,{"$f":"'daily uptake'!F466","v":"2011-11-07"},{"$f":"5/9*'daily uptake'!Q466","v":13.333333333333334},{"$f":"5/9*'daily uptake'!N466","v":5},{"$f":"IF(AND($A383>='daily uptake'!$C$9,$A383<='daily uptake'!$C$10),$C383+E382,0)","v":0},{"$f":"IF(AND($A383>='daily uptake'!$C$18,$A383<='daily uptake'!$C$20),$D383+F382,0)","v":0},{"$f":"IF(AND($A383>='daily uptake'!$C$24,$A383<='daily uptake'!$C$25),$C383+G382,0)","v":0},null,null,null,null,null,0,0,"2011-11-07",{"$f":"MAX(L$12:L383)+MAX(M$12:M383)+MAX(N$12:N383)","v":490},"2011-11-07",0]
[373,{"$f":"'daily uptake'!F467","v":"2011-11-08"},{"$f":"5/9*'daily uptake'!Q467","v":12.5},{"$f":"5/9*'daily uptake'!N467","v":4.4444444444444446},{"$f":"IF(AND($A384>='daily uptake'!$C$9,$A384<='daily uptake'!$C$10),$C384+E383,0)","v":0},{"$f":"IF(AND($A384>='daily uptake'!$C$18,$A384<='daily uptake'!$C$20),$D384+F383,0)","v":0},{"$f":"IF(AND($A384>='daily uptake'!$C$24,$A384<='daily uptake'!$C$25),$C384+G383,0)","v":0},null,null,null,null,null,0,0,"2011-11-08",{"$f":"MAX(L$12:L384)+MAX(M$12:M384)+MAX(N$12:N384)","v":490},"2011-11-08",0]
[374,{"$f":"'daily uptake'!F468","v":"2011-11-09"},{"$f":"5/9*'daily uptake'!Q468","v":11.944444444444445},{"$f":"5/9*'daily uptake'!N468","v":4.4444444444444446},{"$f":"IF(AND($A385>='daily uptake'!$C$9,$A385<='daily uptake'!$C$10),$C385+E384,0)","v":0},{"$f":"IF(AND($A385>='daily uptake'!$C$18,$A385<='daily uptake'!$C$20),$D385+F384,0)","v":0},{"$f":"IF(AND($A385>='daily uptake'!$C$24,$A385<='daily uptake'!$C$25),$C385+G384,0)","v":0},null,null,null,null,null,0,0,"2011-11-09",{"$f":"MAX(L$12:L385)+MAX(M$12:M385)+MAX(N$12:N385)","v":490},"2011-11-09",0]
[375,{"$f":"'daily uptake'!F469","v":"2011-11-10"},{"$f":"5/9*'daily uptake'!Q469","v":11.388888888888889},{"$f":"5/9*'daily uptake'!N469","v":3.8888888888888893},{"$f":"IF(AND($A386>='daily uptake'!$C$9,$A386<='daily uptake'!$C$10),$C386+E385,0)","v":0},{"$f":"IF(AND($A386>='daily uptake'!$C$18,$A386<='daily uptake'!$C$20),$D386+F385,0)","v":0},{"$f":"IF(AND($A386>='daily uptake'!$C$24,$A386<='daily uptake'!$C$25),$C386+G385,0)","v":0},null,null,null,null,null,0,0,"2011-11-10",{"$f":"MAX(L$12:L386)+MAX(M$12:M386)+MAX(N$12:N386)","v":490},"2011-11-10",0]
[376,{"$f":"'daily uptake'!F470","v":"2011-11-11"},{"$f":"5/9*'daily uptake'!Q470","v":11.666666666666668},{"$f":"5/9*'daily uptake'!N470","v":3.8888888888888893},{"$f":"IF(AND($A387>='daily uptake'!$C$9,$A387<='daily uptake'!$C$10),$C387+E386,0)","v":0},{"$f":"IF(AND($A387>='daily uptake'!$C$18,$A387<='daily uptake'!$C$20),$D387+F386,0)","v":0},{"$f":"IF(AND($A387>='daily uptake'!$C$24,$A387<='daily uptake'!$C$25),$C387+G386,0)","v":0},null,null,null,null,null,0,0,"2011-11-11",{"$f":"MAX(L$12:L387)+MAX(M$12:M387)+MAX(N$12:N387)","v":490},"2011-11-11",0]
[377,{"$f":"'daily uptake'!F471","v":"2011-11-12"},{"$f":"5/9*'daily uptake'!Q471","v":11.111111111111111},{"$f":"5/9*'daily uptake'!N471","v":4.166666666666667},{"$f":"IF(AND($A388>='daily uptake'!$C$9,$A388<='daily uptake'!$C$10),$C388+E387,0)","v":0},{"$f":"IF(AND($A388>='daily uptake'!$C$18,$A388<='daily uptake'!$C$20),$D388+F387,0)","v":0},{"$f":"IF(AND($A388>='daily uptake'!$C$24,$A388<='daily uptake'!$C$25),$C388+G387,0)","v":0},null,null,null,null,null,0,0,"2011-11-12",{"$f":"MAX(L$12:L388)+MAX(M$12:M388)+MAX(N$12:N388)","v":490},"2011-11-12",0]
[378,{"$f":"'daily uptake'!F472","v":"2011-11-13"},{"$f":"5/9*'daily uptake'!Q472","v":11.666666666666668},{"$f":"5/9*'daily uptake'!N472","v":4.4444444444444446},{"$f":"IF(AND($A389>='daily uptake'!$C$9,$A389<='daily uptake'!$C$10),$C389+E388,0)","v":0},{"$f":"IF(AND($A389>='daily uptake'!$C$18,$A389<='daily uptake'!$C$20),$D389+F388,0)","v":0},{"$f":"IF(AND($A389>='daily uptake'!$C$24,$A389<='daily uptake'!$C$25),$C389+G388,0)","v":0},null,null,null,null,null,0,0,"2011-11-13",{"$f":"MAX(L$12:L389)+MAX(M$12:M389)+MAX(N$12:N389)","v":490},"2011-11-13",0]
[379,{"$f":"'daily uptake'!F473","v":"2011-11-14"},{"$f":"5/9*'daily uptake'!Q473","v":11.666666666666668},{"$f":"5/9*'daily uptake'!N473","v":4.4444444444444446},{"$f":"IF(AND($A390>='daily uptake'!$C$9,$A390<='daily uptake'!$C$10),$C390+E389,0)","v":0},{"$f":"IF(AND($A390>='daily uptake'!$C$18,$A390<='daily uptake'!$C$20),$D390+F389,0)","v":0},{"$f":"IF(AND($A390>='daily uptake'!$C$24,$A390<='daily uptake'!$C$25),$C390+G389,0)","v":0},null,null,null,null,null,0,0,"2011-11-14",{"$f":"MAX(L$12:L390)+MAX(M$12:M390)+MAX(N$12:N390)","v":490},"2011-11-14",0]
[380,{"$f":"'daily uptake'!F474","v":"2011-11-15"},{"$f":"5/9*'daily uptake'!Q474","v":11.388888888888889},{"$f":"5/9*'daily uptake'!N474","v":4.166666666666667},{"$f":"IF(AND($A391>='daily uptake'!$C$9,$A391<='daily uptake'!$C$10),$C391+E390,0)","v":0},{"$f":"IF(AND($A391>='daily uptake'!$C$18,$A391<='daily uptake'!$C$20),$D391+F390,0)","v":0},{"$f":"IF(AND($A391>='daily uptake'!$C$24,$A391<='daily uptake'!$C$25),$C391+G390,0)","v":0},null,null,null,null,null,0,0,"2011-11-15",{"$f":"MAX(L$12:L391)+MAX(M$12:M391)+MAX(N$12:N391)","v":490},"2011-11-15",0]
[381,{"$f":"'daily uptake'!F475","v":"2011-11-16"},{"$f":"5/9*'daily uptake'!Q475","v":11.666666666666668},{"$f":"5/9*'daily uptake'!N475","v":4.166666666666667},{"$f":"IF(AND($A392>='daily uptake'!$C$9,$A392<='daily uptake'!$C$10),$C392+E391,0)","v":0},{"$f":"IF(AND($A392>='daily uptake'!$C$18,$A392<='daily uptake'!$C$20),$D392+F391,0)","v":0},{"$f":"IF(AND($A392>='daily uptake'!$C$24,$A392<='daily uptake'!$C$25),$C392+G391,0)","v":0},null,null,null,null,null,0,0,"2011-11-16",{"$f":"MAX(L$12:L392)+MAX(M$12:M392)+MAX(N$12:N392)","v":490},"2011-11-16",0]
[382,{"$f":"'daily uptake'!F476","v":"2011-11-17"},{"$f":"5/9*'daily uptake'!Q476","v":11.944444444444445},{"$f":"5/9*'daily uptake'!N476","v":4.4444444444444446},{"$f":"IF(AND($A393>='daily uptake'!$C$9,$A393<='daily uptake'!$C$10),$C393+E392,0)","v":0},{"$f":"IF(AND($A393>='daily uptake'!$C$18,$A393<='daily uptake'!$C$20),$D393+F392,0)","v":0},{"$f":"IF(AND($A393>='daily uptake'!$C$24,$A393<='daily uptake'!$C$25),$C393+G392,0)","v":0},null,null,null,null,null,0,0,"2011-11-17",{"$f":"MAX(L$12:L393)+MAX(M$12:M393)+MAX(N$12:N393)","v":490},"2011-11-17",0]
[383,{"$f":"'daily uptake'!F477","v":"2011-11-18"},{"$f":"5/9*'daily uptake'!Q477","v":11.666666666666668},{"$f":"5/9*'daily uptake'!N477","v":4.166666666666667},{"$f":"IF(AND($A394>='daily uptake'!$C$9,$A394<='daily uptake'!$C$10),$C394+E393,0)","v":0},{"$f":"IF(AND($A394>='daily uptake'!$C$18,$A394<='daily uptake'!$C$20),$D394+F393,0)","v":0},{"$f":"IF(AND($A394>='daily uptake'!$C$24,$A394<='daily uptake'!$C$25),$C394+G393,0)","v":0},null,null,null,null,null,0,0,"2011-11-18",{"$f":"MAX(L$12:L394)+MAX(M$12:M394)+MAX(N$12:N394)","v":490},"2011-11-18",0]
[384,{"$f":"'daily uptake'!F478","v":"2011-11-19"},{"$f":"5/9*'daily uptake'!Q478","v":10.555555555555555},{"$f":"5/9*'daily uptake'!N478","v":3.6111111111111112},{"$f":"IF(AND($A395>='daily uptake'!$C$9,$A395<='daily uptake'!$C$10),$C395+E394,0)","v":0},{"$f":"IF(AND($A395>='daily uptake'!$C$18,$A395<='daily uptake'!$C$20),$D395+F394,0)","v":0},{"$f":"IF(AND($A395>='daily uptake'!$C$24,$A395<='daily uptake'!$C$25),$C395+G394,0)","v":0},null,null,null,null,null,0,0,{"$f":"B395","v":"2011-11-19"},{"$f":"MAX(L$12:L395)+MAX(M$12:M395)+MAX(N$12:N395)","v":490},{"$f":"B395","v":"2011-11-19"},0]
[385,{"$f":"'daily uptake'!F479","v":"2011-11-20"},{"$f":"5/9*'daily uptake'!Q479","v":10.833333333333334},{"$f":"5/9*'daily uptake'!N479","v":3.6111111111111112},{"$f":"IF(AND($A396>='daily uptake'!$C$9,$A396<='daily uptake'!$C$10),$C396+E395,0)","v":0},{"$f":"IF(AND($A396>='daily uptake'!$C$18,$A396<='daily uptake'!$C$20),$D396+F395,0)","v":0},{"$f":"IF(AND($A396>='daily uptake'!$C$24,$A396<='daily uptake'!$C$25),$C396+G395,0)","v":0},null,null,null,null,null,{"$f":"M$10*(1-(($M$5+EXP($M$6*$M$4))/($M$5+EXP($M$6*($M$4-$E396))))^$M$5)/(1-(($M$5+EXP($M$6*$M$4))/($M$5+EXP($M$6*($M$4-M$9))))^$M$5)","v":0},0,"2011-11-20",{"$f":"MAX(L$12:L396)+MAX(M$12:M396)+MAX(N$12:N396)","v":490},"2011-11-20",0]
[386,{"$f":"'daily uptake'!F480","v":"2011-11-21"},{"$f":"5/9*'daily uptake'!Q480","v":10},{"$f":"5/9*'daily uptake'!N480","v":3.3333333333333335},{"$f":"IF(AND($A397>='daily uptake'!$C$9,$A397<='daily uptake'!$C$10),$C397+E396,0)","v":0},{"$f":"IF(AND($A397>='daily uptake'!$C$18,$A397<='daily uptake'!$C$20),$D397+F396,0)","v":0},{"$f":"IF(AND($A397>='daily uptake'!$C$24,$A397<='daily uptake'!$C$25),$C397+G396,0)","v":0},null,null,null,null,null,0,{"$f":"N$10*(1-(($N$5+EXP($N$6*$N$4))/($N$5+EXP($N$6*($N$4-$G397))))^$N$5)/(1-(($N$5+EXP($N$6*$N$4))/($N$5+EXP($N$6*($N$4-N$9))))^$N$5)","v":0},"2011-11-21",{"$f":"MAX(L$12:L397)+MAX(M$12:M397)+MAX(N$12:N397)","v":490},"2011-11-21",{"$f":"P397-P396","v":0}]
[387,{"$f":"'daily uptake'!F481","v":"2011-11-22"},{"$f":"5/9*'daily uptake'!Q481","v":9.7222222222222232},{"$f":"5/9*'daily uptake'!N481","v":3.3333333333333335},{"$f":"IF(AND($A398>='daily uptake'!$C$9,$A398<='daily uptake'!$C$10),$C398+E397,0)","v":0},{"$f":"IF(AND($A398>='daily uptake'!$C$18,$A398<='daily uptake'!$C$20),$D398+F397,0)","v":0},{"$f":"IF(AND($A398>='daily uptake'!$C$24,$A398<='daily uptake'!$C$25),$C398+G397,0)","v":0},null,null,null,null,null,0,0,"2011-11-22",{"$f":"MAX(L$12:L398)+MAX(M$12:M398)+MAX(N$12:N398)","v":490},"2011-11-22",0]
[388,{"$f":"'daily uptake'!F482","v":"2011-11-23"},{"$f":"5/9*'daily uptake'!Q482","v":9.4444444444444446},{"$f":"5/9*'daily uptake'!N482","v":3.3333333333333335},{"$f":"IF(AND($A399>='daily uptake'!$C$9,$A399<='daily uptake'!$C$10),$C399+E398,0)","v":0},{"$f":"IF(AND($A399>='daily uptake'!$C$18,$A399<='daily uptake'!$C$20),$D399+F398,0)","v":0},{"$f":"IF(AND($A399>='daily uptake'!$C$24,$A399<='daily uptake'!$C$25),$C399+G398,0)","v":0},null,null,null,null,null,0,0,"2011-11-23",{"$f":"MAX(L$12:L399)+MAX(M$12:M399)+MAX(N$12:N399)","v":490},"2011-11-23",0]
[389,{"$f":"'daily uptake'!F483","v":"2011-11-24"},{"$f":"5/9*'daily uptake'!Q483","v":9.1666666666666679},{"$f":"5/9*'daily uptake'!N483","v":3.0555555555555558},{"$f":"IF(AND($A400>='daily uptake'!$C$9,$A400<='daily uptake'!$C$10),$C400+E399,0)","v":0},{"$f":"IF(AND($A400>='daily uptake'!$C$18,$A400<='daily uptake'!$C$20),$D400+F399,0)","v":0},{"$f":"IF(AND($A400>='daily uptake'!$C$24,$A400<='daily uptake'!$C$25),$C400+G399,0)","v":0},null,null,null,null,null,0,0,"2011-11-24",{"$f":"MAX(L$12:L400)+MAX(M$12:M400)+MAX(N$12:N400)","v":490},"2011-11-24",0]
[390,{"$f":"'daily uptake'!F484","v":"2011-11-25"},{"$f":"5/9*'daily uptake'!Q484","v":9.7222222222222232},{"$f":"5/9*'daily uptake'!N484","v":3.3333333333333335},{"$f":"IF(AND($A401>='daily uptake'!$C$9,$A401<='daily uptake'!$C$10),$C401+E400,0)","v":0},{"$f":"IF(AND($A401>='daily uptake'!$C$18,$A401<='daily uptake'!$C$20),$D401+F400,0)","v":0},{"$f":"IF(AND($A401>='daily uptake'!$C$24,$A401<='daily uptake'!$C$25),$C401+G400,0)","v":0},null,null,null,null,null,0,0,"2011-11-25",{"$f":"MAX(L$12:L401)+MAX(M$12:M401)+MAX(N$12:N401)","v":490},"2011-11-25",0]
[391,{"$f":"'daily uptake'!F485","v":"2011-11-26"},{"$f":"5/9*'daily uptake'!Q485","v":8.8888888888888893},{"$f":"5/9*'daily uptake'!N485","v":2.5},{"$f":"IF(AND($A402>='daily uptake'!$C$9,$A402<='daily uptake'!$C$10),$C402+E401,0)","v":0},{"$f":"IF(AND($A402>='daily uptake'!$C$18,$A402<='daily uptake'!$C$20),$D402+F401,0)","v":0},{"$f":"IF(AND($A402>='daily uptake'!$C$24,$A402<='daily uptake'!$C$25),$C402+G401,0)","v":0},null,null,null,null,null,0,0,"2011-11-26",{"$f":"MAX(L$12:L402)+MAX(M$12:M402)+MAX(N$12:N402)","v":490},"2011-11-26",0]
[392,{"$f":"'daily uptake'!F486","v":"2011-11-27"},{"$f":"5/9*'daily uptake'!Q486","v":8.3333333333333339},{"$f":"5/9*'daily uptake'!N486","v":1.9444444444444446},{"$f":"IF(AND($A403>='daily uptake'!$C$9,$A403<='daily uptake'!$C$10),$C403+E402,0)","v":0},{"$f":"IF(AND($A403>='daily uptake'!$C$18,$A403<='daily uptake'!$C$20),$D403+F402,0)","v":0},{"$f":"IF(AND($A403>='daily uptake'!$C$24,$A403<='daily uptake'!$C$25),$C403+G402,0)","v":0},null,null,null,null,null,0,0,"2011-11-27",{"$f":"MAX(L$12:L403)+MAX(M$12:M403)+MAX(N$12:N403)","v":490},"2011-11-27",0]
[393,{"$f":"'daily uptake'!F487","v":"2011-11-28"},{"$f":"5/9*'daily uptake'!Q487","v":8.6111111111111107},{"$f":"5/9*'daily uptake'!N487","v":2.2222222222222223},{"$f":"IF(AND($A404>='daily uptake'!$C$9,$A404<='daily uptake'!$C$10),$C404+E403,0)","v":0},{"$f":"IF(AND($A404>='daily uptake'!$C$18,$A404<='daily uptake'!$C$20),$D404+F403,0)","v":0},{"$f":"IF(AND($A404>='daily uptake'!$C$24,$A404<='daily uptake'!$C$25),$C404+G403,0)","v":0},null,null,null,null,null,0,0,"2011-11-28",{"$f":"MAX(L$12:L404)+MAX(M$12:M404)+MAX(N$12:N404)","v":490},"2011-11-28",0]
[394,{"$f":"'daily uptake'!F488","v":"2011-11-29"},{"$f":"5/9*'daily uptake'!Q488","v":8.3333333333333339},{"$f":"5/9*'daily uptake'!N488","v":2.2222222222222223},{"$f":"IF(AND($A405>='daily uptake'!$C$9,$A405<='daily uptake'!$C$10),$C405+E404,0)","v":0},{"$f":"IF(AND($A405>='daily uptake'!$C$18,$A405<='daily uptake'!$C$20),$D405+F404,0)","v":0},{"$f":"IF(AND($A405>='daily uptake'!$C$24,$A405<='daily uptake'!$C$25),$C405+G404,0)","v":0},null,null,null,null,null,0,0,"2011-11-29",{"$f":"MAX(L$12:L405)+MAX(M$12:M405)+MAX(N$12:N405)","v":490},"2011-11-29",0]
[395,{"$f":"'daily uptake'!F489","v":"2011-11-30"},{"$f":"5/9*'daily uptake'!Q489","v":8.6111111111111107},{"$f":"5/9*'daily uptake'!N489","v":2.5},{"$f":"IF(AND($A406>='daily uptake'!$C$9,$A406<='daily uptake'!$C$10),$C406+E405,0)","v":0},{"$f":"IF(AND($A406>='daily uptake'!$C$18,$A406<='daily uptake'!$C$20),$D406+F405,0)","v":0},{"$f":"IF(AND($A406>='daily uptake'!$C$24,$A406<='daily uptake'!$C$25),$C406+G405,0)","v":0},null,null,null,null,null,0,0,"2011-11-30",{"$f":"MAX(L$12:L406)+MAX(M$12:M406)+MAX(N$12:N406)","v":490},"2011-11-30",0]
[396,{"$f":"'daily uptake'!F490","v":"2011-12-01"},{"$f":"5/9*'daily uptake'!Q490","v":8.3333333333333339},{"$f":"5/9*'daily uptake'!N490","v":2.2222222222222223},{"$f":"IF(AND($A407>='daily uptake'!$C$9,$A407<='daily uptake'!$C$10),$C407+E406,0)","v":0},{"$f":"IF(AND($A407>='daily uptake'!$C$18,$A407<='daily uptake'!$C$20),$D407+F406,0)","v":0},{"$f":"IF(AND($A407>='daily uptake'!$C$24,$A407<='daily uptake'!$C$25),$C407+G406,0)","v":0},null,null,null,null,null,0,0,"2011-12-01",{"$f":"MAX(L$12:L407)+MAX(M$12:M407)+MAX(N$12:N407)","v":490},"2011-12-01",0]
[397,{"$f":"'daily uptake'!F491","v":"2011-12-02"},{"$f":"5/9*'daily uptake'!Q491","v":8.3333333333333339},{"$f":"5/9*'daily uptake'!N491","v":2.5},{"$f":"IF(AND($A408>='daily uptake'!$C$9,$A408<='daily uptake'!$C$10),$C408+E407,0)","v":0},{"$f":"IF(AND($A408>='daily uptake'!$C$18,$A408<='daily uptake'!$C$20),$D408+F407,0)","v":0},{"$f":"IF(AND($A408>='daily uptake'!$C$24,$A408<='daily uptake'!$C$25),$C408+G407,0)","v":0},null,null,null,null,null,0,0,"2011-12-02",{"$f":"MAX(L$12:L408)+MAX(M$12:M408)+MAX(N$12:N408)","v":490},"2011-12-02",0]
[398,{"$f":"'daily uptake'!F492","v":"2011-12-03"},{"$f":"5/9*'daily uptake'!Q492","v":8.0555555555555554},{"$f":"5/9*'daily uptake'!N492","v":1.9444444444444446},{"$f":"IF(AND($A409>='daily uptake'!$C$9,$A409<='daily uptake'!$C$10),$C409+E408,0)","v":0},{"$f":"IF(AND($A409>='daily uptake'!$C$18,$A409<='daily uptake'!$C$20),$D409+F408,0)","v":0},{"$f":"IF(AND($A409>='daily uptake'!$C$24,$A409<='daily uptake'!$C$25),$C409+G408,0)","v":0},null,null,null,null,null,0,0,"2011-12-03",{"$f":"MAX(L$12:L409)+MAX(M$12:M409)+MAX(N$12:N409)","v":490},"2011-12-03",0]
[399,{"$f":"'daily uptake'!F493","v":"2011-12-04"},{"$f":"5/9*'daily uptake'!Q493","v":8.3333333333333339},{"$f":"5/9*'daily uptake'!N493","v":2.2222222222222223},{"$f":"IF(AND($A410>='daily uptake'!$C$9,$A410<='daily uptake'!$C$10),$C410+E409,0)","v":0},{"$f":"IF(AND($A410>='daily uptake'!$C$18,$A410<='daily uptake'!$C$20),$D410+F409,0)","v":0},{"$f":"IF(AND($A410>='daily uptake'!$C$24,$A410<='daily uptake'!$C$25),$C410+G409,0)","v":0},null,null,null,null,null,0,0,"2011-12-04",{"$f":"MAX(L$12:L410)+MAX(M$12:M410)+MAX(N$12:N410)","v":490},"2011-12-04",0]
[400,{"$f":"'daily uptake'!F494","v":"2011-12-05"},{"$f":"5/9*'daily uptake'!Q494","v":8.3333333333333339},{"$f":"5/9*'daily uptake'!N494","v":1.9444444444444446},{"$f":"IF(AND($A411>='daily uptake'!$C$9,$A411<='daily uptake'!$C$10),$C411+E410,0)","v":0},{"$f":"IF(AND($A411>='daily uptake'!$C$18,$A411<='daily uptake'!$C$20),$D411+F410,0)","v":0},{"$f":"IF(AND($A411>='daily uptake'!$C$24,$A411<='daily uptake'!$C$25),$C411+G410,0)","v":0},null,null,null,null,null,0,0,"2011-12-05",{"$f":"MAX(L$12:L411)+MAX(M$12:M411)+MAX(N$12:N411)","v":490},"2011-12-05",0]
[401,{"$f":"'daily uptake'!F495","v":"2011-12-06"},{"$f":"5/9*'daily uptake'!Q495","v":8.3333333333333339},{"$f":"5/9*'daily uptake'!N495","v":1.9444444444444446},{"$f":"IF(AND($A412>='daily uptake'!$C$9,$A412<='daily uptake'!$C$10),$C412+E411,0)","v":0},{"$f":"IF(AND($A412>='daily uptake'!$C$18,$A412<='daily uptake'!$C$20),$D412+F411,0)","v":0},{"$f":"IF(AND($A412>='daily uptake'!$C$24,$A412<='daily uptake'!$C$25),$C412+G411,0)","v":0},null,null,null,null,null,0,0,"2011-12-06",{"$f":"MAX(L$12:L412)+MAX(M$12:M412)+MAX(N$12:N412)","v":490},"2011-12-06",0]
[402,{"$f":"'daily uptake'!F496","v":"2011-12-07"},{"$f":"5/9*'daily uptake'!Q496","v":8.6111111111111107},{"$f":"5/9*'daily uptake'!N496","v":1.9444444444444446},{"$f":"IF(AND($A413>='daily uptake'!$C$9,$A413<='daily uptake'!$C$10),$C413+E412,0)","v":0},{"$f":"IF(AND($A413>='daily uptake'!$C$18,$A413<='daily uptake'!$C$20),$D413+F412,0)","v":0},{"$f":"IF(AND($A413>='daily uptake'!$C$24,$A413<='daily uptake'!$C$25),$C413+G412,0)","v":0},null,null,null,null,null,0,0,"2011-12-07",{"$f":"MAX(L$12:L413)+MAX(M$12:M413)+MAX(N$12:N413)","v":490},"2011-12-07",0]
[403,{"$f":"'daily uptake'!F497","v":"2011-12-08"},{"$f":"5/9*'daily uptake'!Q497","v":7.7777777777777786},{"$f":"5/9*'daily uptake'!N497","v":1.9444444444444446},{"$f":"IF(AND($A414>='daily uptake'!$C$9,$A414<='daily uptake'!$C$10),$C414+E413,0)","v":0},{"$f":"IF(AND($A414>='daily uptake'!$C$18,$A414<='daily uptake'!$C$20),$D414+F413,0)","v":0},{"$f":"IF(AND($A414>='daily uptake'!$C$24,$A414<='daily uptake'!$C$25),$C414+G413,0)","v":0},null,null,null,null,null,0,0,"2011-12-08",{"$f":"MAX(L$12:L414)+MAX(M$12:M414)+MAX(N$12:N414)","v":490},"2011-12-08",0]
[404,{"$f":"'daily uptake'!F498","v":"2011-12-09"},{"$f":"5/9*'daily uptake'!Q498","v":8.0555555555555554},{"$f":"5/9*'daily uptake'!N498","v":1.9444444444444446},{"$f":"IF(AND($A415>='daily uptake'!$C$9,$A415<='daily uptake'!$C$10),$C415+E414,0)","v":0},{"$f":"IF(AND($A415>='daily uptake'!$C$18,$A415<='daily uptake'!$C$20),$D415+F414,0)","v":0},{"$f":"IF(AND($A415>='daily uptake'!$C$24,$A415<='daily uptake'!$C$25),$C415+G414,0)","v":0},null,null,null,null,null,0,0,"2011-12-09",{"$f":"MAX(L$12:L415)+MAX(M$12:M415)+MAX(N$12:N415)","v":490},"2011-12-09",0]
[405,{"$f":"'daily uptake'!F499","v":"2011-12-10"},{"$f":"5/9*'daily uptake'!Q499","v":8.3333333333333339},{"$f":"5/9*'daily uptake'!N499","v":1.9444444444444446},{"$f":"IF(AND($A416>='daily uptake'!$C$9,$A416<='daily uptake'!$C$10),$C416+E415,0)","v":0},{"$f":"IF(AND($A416>='daily uptake'!$C$18,$A416<='daily uptake'!$C$20),$D416+F415,0)","v":0},{"$f":"IF(AND($A416>='daily uptake'!$C$24,$A416<='daily uptake'!$C$25),$C416+G415,0)","v":0},null,null,null,null,null,0,0,"2011-12-10",{"$f":"MAX(L$12:L416)+MAX(M$12:M416)+MAX(N$12:N416)","v":490},"2011-12-10",0]
[406,{"$f":"'daily uptake'!F500","v":"2011-12-11"},{"$f":"5/9*'daily uptake'!Q500","v":7.7777777777777786},{"$f":"5/9*'daily uptake'!N500","v":1.3888888888888888},{"$f":"IF(AND($A417>='daily uptake'!$C$9,$A417<='daily uptake'!$C$10),$C417+E416,0)","v":0},{"$f":"IF(AND($A417>='daily uptake'!$C$18,$A417<='daily uptake'!$C$20),$D417+F416,0)","v":0},{"$f":"IF(AND($A417>='daily uptake'!$C$24,$A417<='daily uptake'!$C$25),$C417+G416,0)","v":0},null,null,null,null,null,0,0,"2011-12-11",{"$f":"MAX(L$12:L417)+MAX(M$12:M417)+MAX(N$12:N417)","v":490},"2011-12-11",0]
[407,{"$f":"'daily uptake'!F501","v":"2011-12-12"},{"$f":"5/9*'daily uptake'!Q501","v":8.0555555555555554},{"$f":"5/9*'daily uptake'!N501","v":1.3888888888888888},{"$f":"IF(AND($A418>='daily uptake'!$C$9,$A418<='daily uptake'!$C$10),$C418+E417,0)","v":0},{"$f":"IF(AND($A418>='daily uptake'!$C$18,$A418<='daily uptake'!$C$20),$D418+F417,0)","v":0},{"$f":"IF(AND($A418>='daily uptake'!$C$24,$A418<='daily uptake'!$C$25),$C418+G417,0)","v":0},null,null,null,null,null,0,0,"2011-12-12",{"$f":"MAX(L$12:L418)+MAX(M$12:M418)+MAX(N$12:N418)","v":490},"2011-12-12",0]
[408,{"$f":"'daily uptake'!F502","v":"2011-12-13"},{"$f":"5/9*'daily uptake'!Q502","v":8.8888888888888893},{"$f":"5/9*'daily uptake'!N502","v":2.2222222222222223},{"$f":"IF(AND($A419>='daily uptake'!$C$9,$A419<='daily uptake'!$C$10),$C419+E418,0)","v":0},{"$f":"IF(AND($A419>='daily uptake'!$C$18,$A419<='daily uptake'!$C$20),$D419+F418,0)","v":0},{"$f":"IF(AND($A419>='daily uptake'!$C$24,$A419<='daily uptake'!$C$25),$C419+G418,0)","v":0},null,null,null,null,null,0,0,"2011-12-13",{"$f":"MAX(L$12:L419)+MAX(M$12:M419)+MAX(N$12:N419)","v":490},"2011-12-13",0]

{"sheet":"minmax data","index":3,"n_rows":375,"n_cols":53,"rows_kept":375,"cut":false,"hidden":false,"merged":[]}
[]
[]
[]
[null,null,"Daily"]
[null,null,"Weather"]
[null,null,"Data"]
[]
[null,null,"Year:","Modesto avg",null,null,null,null,"Merced 30 yr avg",null,null,null,null,"Hanford 30 yr avg",null,null,null,null,"Buttonwillow 30 yr avg",null,null,null,null,"Denair avg 1994 - 2010",null,null,null,null,"Denair 2009",null,null,null,null,"Denair 2010",null,null,null,null,"Denair 2011"]
[null,null,null,"Precipitation","Air Max","Air Min","Soil Max Temperature","Soil Min Temperature","Precipitation","Air Max","Air Min","Soil Max Temperature","Soil Min Temperature","Precipitation","Air Max","Air Min","Soil Max Temperature","Soil Min Temperature","Precipitation","Air Max","Air Min","Soil Max Temperature","Soil Min Temperature","Precipitation","Air Max","Air Min","Soil Max Temperature","Soil Min Temperature","Precipitation","Air Max","Air Min","Soil Max Temperature","Soil Min Temperature","Precipitation","Air Max","Air Min","Soil Max Temperature","Soil Min Temperature","Precipitation","Air Max","Air Min","Soil Max Temperature","Soil Min Temperature","Precipitation","Air Max","Air Min","Soil Max Temperature","Soil Min Temperature","Precipitation","Air Max","Air Min","Soil Max Temperature","Soil Min Temperature"]
[null,1,"Jan 1",0.1,55,35,null,null,null,53.4,36,null,null,null,51.8,34.799999999999997,null,null,null,54.5,34.5,null,null,null,53.941176470588232,37.176470588235297,null,null,0.01,45,41,49,49,0,60,43,52,50,0.47,51,42,49,48]
[null,2,"Jan 2",0.02,55,36,null,null,null,53.4,36.1,null,null,null,51.8,34.9,null,null,null,54.5,34.6,null,null,null,53.705882352941174,37.235294117647058,null,null,7.0000000000000007E-2,46,36,49,49,0.01,53,38,51,50,0.67,48,45,50,49]
[null,3,"Jan 3",0.06,55,38,null,null,null,53.5,36.299999999999997,null,null,null,51.8,35,null,null,null,54.5,34.799999999999997,null,null,null,53.529411764705884,36.294117647058826,null,null,0,50,31,49,47,0,50,45,52,51,0,54,36,51,50]
[null,4,"Jan 4",0.17,53,35,null,null,null,53.6,36.4,null,null,null,51.9,35.1,null,null,null,54.6,34.9,null,null,null,53.352941176470587,35.352941176470587,null,null,0,49,23,48,46,0,57,37,52,51,0.02,48,30,50,49]
[null,5,"Jan 5",0.06,54,34,null,null,null,53.8,36.5,null,null,null,52,35.299999999999997,null,null,null,54.7,35.1,null,null,null,52.941176470588232,34.647058823529413,null,null,0.04,44,35,47,46,0,47,39,51,51,0.01,43,32,49,48]
[null,6,"Jan 6",0.05,53,35,null,null,null,53.9,36.6,null,null,null,52.1,35.4,null,null,null,54.8,35.200000000000003,null,null,null,51.941176470588232,34.235294117647058,null,null,0,46,33,47,47,0,47,39,51,50,0,40,38,49,48]
[null,7,"Jan 7",0.04,55,39,null,null,null,54.1,36.6,null,null,null,52.3,35.4,null,null,null,54.9,35.200000000000003,null,null,null,52.176470588235297,36.058823529411768,null,null,0.01,47,32,47,46,0,44,37,50,50,0,39,37,48,48]
[null,8,"Jan 8",0.05,55,38,null,null,null,54.2,36.700000000000003,null,null,null,52.5,35.5,null,null,null,55,35.4,null,null,null,52.529411764705884,37.588235294117645,null,null,0,51,33,48,47,0.01,51,41,51,50,0,40,37,48,47]
[null,9,"Jan 9",0.14000000000000001,55,39,null,null,null,54.4,36.9,null,null,null,52.7,35.6,null,null,null,55.2,35.5,null,null,null,53.705882352941174,38,null,null,0,55,27,48,46,0,48,42,51,50,0,39,29,48,47]
[null,10,"Jan 10",0.08,55,38,null,null,null,54.5,37,null,null,null,52.9,35.799999999999997,null,null,null,55.4,35.700000000000003,null,null,null,54.058823529411768,37.647058823529413,null,null,0,59,27,47,46,0.01,45,42,51,50,0,47,25,47,45]
[null,11,"Jan 11",0.06,56,38,null,null,null,54.6,37.1,null,null,null,53,35.9,null,null,null,55.5,35.799999999999997,null,null,null,51.823529411764703,37.882352941176471,null,null,0.01,62,26,47,45,0,49,42,51,50,0.1,47,36,47,46]
[null,12,"Jan 12",0.11,57,37,null,null,null,54.7,37.1,null,null,null,53.1,36,null,null,null,55.6,35.9,null,null,null,52.647058823529413,37.705882352941174,null,null,0,63,29,47,45,0.13,63,43,52,50,0,57,38,48,47]
[null,13,"Jan 13",7.0000000000000007E-2,57,38,null,null,null,54.8,37.200000000000003,null,null,null,53.1,36,null,null,null,55.6,35.9,null,null,null,54.411764705882355,35.235294117647058,null,null,0,68,29,48,46,0.48,63,45,53,52,0.06,55,34,48,47]
[null,14,"Jan 14",0.05,56,38,null,null,null,54.9,37.200000000000003,null,null,null,53.3,36.1,null,null,null,55.7,36,null,null,null,52.588235294117645,35.705882352941174,null,null,0,65,27,48,46,0,59,40,52,51,0.01,52,41,49,48]
[null,15,"Jan 15",7.0000000000000007E-2,56,40,null,null,null,55,37.200000000000003,null,null,null,53.4,36.1,null,null,null,55.8,36.1,null,null,null,52.647058823529413,36.058823529411768,null,null,0,66,28,48,45,0.01,51,39,51,50,0.01,53,37,50,48]
[null,16,"Jan 16",7.0000000000000007E-2,58,40,null,null,null,55.1,37.200000000000003,null,null,null,53.5,36.200000000000003,null,null,null,56,36.1,null,null,null,54.647058823529413,36.176470588235297,null,null,0,66,28,48,46,0.01,55,41,52,51,0,52,47,51,50]
[null,17,"Jan 17",0.15,57,38,null,null,null,55.3,37.200000000000003,null,null,null,53.7,36.200000000000003,null,null,null,56.1,36.200000000000003,null,null,null,54.352941176470587,36.764705882352942,null,null,0,68,28,48,46,0.52,57,42,52,51,0,50,48,51,50]
[null,18,"Jan 18",0.09,59,39,null,null,null,55.5,37.299999999999997,null,null,null,53.9,36.299999999999997,null,null,null,56.3,36.299999999999997,null,null,null,55.117647058823529,37.176470588235297,null,null,0,67,29,48,46,0.49,58,49,52,52,0,58,42,52,51]
[null,19,"Jan 19",0.05,60,39,null,null,null,55.7,37.299999999999997,null,null,null,54.1,36.299999999999997,null,null,null,56.5,36.4,null,null,null,55.058823529411768,36.352941176470587,null,null,0,69,29,47,45,0.71,54,43,52,51,0.01,52,36,52,50]
[null,20,"Jan 20",0.04,60,38,null,null,null,56,37.4,null,null,null,54.3,36.4,null,null,null,56.7,36.4,null,null,null,54.411764705882355,35.176470588235297,null,null,0,66,30,47,45,0.49,54,42,51,50,0.01,60,32,50,49]
[null,21,"Jan 21",0.03,61,38,null,null,null,56.2,37.4,null,null,null,54.6,36.4,null,null,null,57,36.5,null,null,null,55.352941176470587,36,null,null,0.14000000000000001,56,36,48,46,0.46,48,41,50,50,0.01,61,33,50,48]
[null,22,"Jan 22",0.01,57,35,null,null,null,56.5,37.5,null,null,null,54.8,36.5,null,null,null,57.2,36.700000000000003,null,null,null,54.470588235294116,37.058823529411768,null,null,0.6,52,48,49,48,0.09,50,39,50,49,0.01,55,35,50,48]
[null,23,"Jan 23",0.18,56,36,null,null,null,56.6,37.5,null,null,null,55.1,36.6,null,null,null,57.5,36.799999999999997,null,null,null,54.352941176470587,37.529411764705884,null,null,0.56999999999999995,55,50,51,49,0.05,56,37,50,49,0.02,55,37,51,49]
[null,24,"Jan 24",0.28999999999999998,57,36,null,null,null,56.9,37.6,null,null,null,55.3,36.700000000000003,null,null,null,57.7,36.9,null,null,null,54.411764705882355,37.705882352941174,null,null,0.09,62,47,52,51,0,50,35,49,48,0.01,62,37,51,49]
[null,25,"Jan 25",0.23,57,37,null,null,null,57.2,37.700000000000003,null,null,null,55.6,36.799999999999997,null,null,null,58,37.1,null,null,null,56.529411764705884,38.588235294117645,null,null,0.18,57,35,52,50,0.03,53,44,50,49,0.01,48,42,51,50]
[null,26,"Jan 26",0.03,58,36,null,null,null,57.5,37.799999999999997,null,null,null,56,37,null,null,null,58.4,37.200000000000003,null,null,null,54.823529411764703,38.705882352941174,null,null,0,54,34,50,49,0,53,46,51,50,0.01,48,41,51,50]
[null,27,"Jan 27",7.0000000000000007E-2,58,37,null,null,null,57.7,37.799999999999997,null,null,null,56.3,37.1,null,null,null,58.6,37.4,null,null,null,57.058823529411768,37.823529411764703,null,null,0,54,31,49,48,0,57,40,51,50,0.01,47,39,51,50]
[null,28,"Jan 28",0.03,59,36,null,null,null,58,37.799999999999997,null,null,null,56.5,37.200000000000003,null,null,null,58.8,37.4,null,null,null,55.941176470588232,36.176470588235297,null,null,0,57,28,48,46,0.01,58,35,50,49,0.01,45,39,51,50]
[null,29,"Jan 29",0.03,61,35,null,null,null,58.3,37.9,null,null,null,56.8,37.299999999999997,null,null,null,59.1,37.5,null,null,null,57.882352941176471,35.411764705882355,null,null,0,61,31,48,46,0.02,61,39,51,49,0.01,47,39,51,50]
[null,30,"Jan 30",0.02,58,37,null,null,null,58.5,38,null,null,null,57,37.4,null,null,null,59.3,37.6,null,null,null,55.235294117647058,37.294117647058826,null,null,0,65,28,48,46,0.01,60,41,52,51,0.15,55,43,51,50]
[null,31,"Jan 31",0.09,60,39,null,null,null,58.8,38,null,null,null,57.3,37.5,null,null,null,59.6,37.799999999999997,null,null,null,57.058823529411768,37.941176470588232,null,null,0,66,31,48,46,0.01,57,34,51,49,0,54,37,51,50]
[null,32,"Feb 1",0.02,60,39,null,null,null,59,37.9,null,null,null,57.6,37.6,null,null,null,59.9,37.799999999999997,null,null,null,57.588235294117645,37.705882352941174,null,null,0.01,63,31,48,46,0,60,36,51,49,0,55,32,51,48]
[null,33,"Feb 2",0.09,60,38,null,null,null,59.2,38,null,null,null,57.8,37.6,null,null,null,60.1,37.9,null,null,null,58.882352941176471,37.941176470588232,null,null,0,64,31,49,46,0,59,40,51,50,0.01,59,31,49,47]
[null,34,"Feb 3",0.16,60,39,null,null,null,59.4,38.1,null,null,null,58,37.799999999999997,null,null,null,60.4,38.1,null,null,null,59.882352941176471,37.588235294117645,null,null,0.01,66,30,49,47,0.01,63,36,52,50,0,60,31,49,46]
[null,35,"Feb 4",0.09,61,38,null,null,null,59.6,38.200000000000003,null,null,null,58.2,37.9,null,null,null,60.6,38.200000000000003,null,null,null,60.764705882352942,38.411764705882355,null,null,0.01,63,33,49,47,0.16,59,45,52,51,0,62,32,49,47]
[null,36,"Feb 5",0.03,61,38,null,null,null,59.9,38.4,null,null,null,58.4,38,null,null,null,60.9,38.4,null,null,null,60.117647058823529,37.941176470588232,null,null,0.26,59,44,50,48,0.25,62,50,53,52,0,65,34,50,47]
[null,37,"Feb 6",0.09,60,39,null,null,null,60.1,38.5,null,null,null,58.7,38.1,null,null,null,61.2,38.5,null,null,null,59.117647058823529,37.882352941176471,null,null,0.33,56,46,51,49,0.45,54,47,53,53,0,72,36,51,48]
[null,38,"Feb 7",0.2,61,42,null,null,null,60.4,38.6,null,null,null,58.9,38.299999999999997,null,null,null,61.4,38.700000000000003,null,null,null,59.352941176470587,40.882352941176471,null,null,0,60,40,51,50,0.01,53,47,53,52,0,69,37,51,49]
[null,39,"Feb 8",0.14000000000000001,60,41,null,null,null,60.7,38.6,null,null,null,59.2,38.4,null,null,null,61.7,38.799999999999997,null,null,null,59.235294117647058,39.352941176470587,null,null,0.06,61,34,51,49,0.03,59,48,53,52,0,60,34,51,49]
[null,40,"Feb 9",0.09,58,39,null,null,null,60.9,38.700000000000003,null,null,null,59.5,38.5,null,null,null,62,38.9,null,null,null,59.588235294117645,37.352941176470587,null,null,0,53,35,50,49,0.33,54,45,53,53,0,61,29,49,47]
[null,41,"Feb 10",0.1,61,41,null,null,null,61.2,38.799999999999997,null,null,null,59.8,38.6,null,null,null,62.3,39.1,null,null,null,60.117647058823529,36.823529411764703,null,null,0.09,55,29,49,47,0,60,37,53,51,0,62,31,49,47]
[null,42,"Feb 11",0.13,62,40,null,null,null,61.5,38.799999999999997,null,null,null,60.1,38.700000000000003,null,null,null,62.6,39.299999999999997,null,null,null,60.176470588235297,38.764705882352942,null,null,0.15,55,38,49,48,0,58,44,53,52,0,65,30,49,47]
[null,43,"Feb 12",0.08,61,39,null,null,null,61.8,38.9,null,null,null,60.4,38.9,null,null,null,62.9,39.5,null,null,null,60.529411764705884,37.882352941176471,null,null,0.05,54,39,50,48,0,66,44,53,52,0,73,36,50,47]
[null,44,"Feb 13",0.09,62,40,null,null,null,62.1,39.1,null,null,null,60.7,39.1,null,null,null,63.2,39.6,null,null,null,60.411764705882355,40.117647058823529,null,null,0.31,53,40,50,49,0,64,38,53,51,0,69,33,51,48]
[null,45,"Feb 14",0.08,63,37,null,null,null,62.4,39.299999999999997,null,null,null,61,39.299999999999997,null,null,null,63.5,39.9,null,null,null,61.882352941176471,38.117647058823529,null,null,0,56,41,50,49,0.01,65,39,53,52,0,63,48,51,49]
[null,46,"Feb 15",0.03,62,34,null,null,null,62.7,39.700000000000003,null,null,null,61.4,39.5,null,null,null,63.9,40.1,null,null,null,60.058823529411768,36.588235294117645,null,null,0.21,50,45,50,49,0.01,65,41,53,52,0,63,48,52,50]
[null,47,"Feb 16",0.13,61,41,null,null,null,62.9,39.9,null,null,null,61.7,39.799999999999997,null,null,null,64.099999999999994,40.4,null,null,null,60.823529411764703,40.411764705882355,null,null,0.5,56,44,50,49,0,68,42,54,52,0.32,57,40,52,51]
[null,48,"Feb 17",0.02,64,42,null,null,null,63.1,40,null,null,null,61.9,40,null,null,null,64.3,40.5,null,null,null,62.176470588235297,42.117647058823529,null,null,0.21,52,42,50,49,0.01,71,41,54,52,0.8,51,41,52,50]
[null,49,"Feb 18",0.12,63,40,null,null,null,63.2,40.1,null,null,null,62,40.200000000000003,null,null,null,64.599999999999994,40.700000000000003,null,null,null,61.823529411764703,39.588235294117645,null,null,0,58,33,50,49,0,68,42,55,53,0.65,48,41,50,49]
[null,50,"Feb 19",0.17,62,40,null,null,null,63.4,40.200000000000003,null,null,null,62.2,40.299999999999997,null,null,null,64.8,40.9,null,null,null,58.529411764705884,40.176470588235297,null,null,0.01,63,33,50,48,0,59,50,55,54,0.17,54,37,50,49]
[null,51,"Feb 20",0.08,62,38,null,null,null,63.5,40.299999999999997,null,null,null,62.4,40.5,null,null,null,65,41.1,null,null,null,59.823529411764703,40.647058823529413,null,null,0,62,35,50,48,0,60,44,55,54,0,55,33,50,48]
[null,52,"Feb 21",0.08,63,39,null,null,null,63.7,40.4,null,null,null,62.6,40.6,null,null,null,65.099999999999994,41.2,null,null,null,59.470588235294116,38.470588235294116,null,null,0.01,59,35,50,48,0.27,54,44,55,54,0,54,36,51,49]
[null,53,"Feb 22",0.06,63,40,null,null,null,63.9,40.4,null,null,null,62.8,40.700000000000003,null,null,null,65.400000000000006,41.4,null,null,null,58.705882352941174,39.764705882352942,null,null,0.01,58,52,51,50,0,60,39,54,53,0,58,35,50,48]
[null,54,"Feb 23",0.06,64,39,null,null,null,64.2,40.5,null,null,null,63,40.9,null,null,null,65.599999999999994,41.5,null,null,null,59.764705882352942,38.352941176470587,null,null,0.02,64,46,53,51,0.96,51,42,54,52,0,58,31,49,47]
[null,55,"Feb 24",0.06,62,39,null,null,null,64.400000000000006,40.6,null,null,null,63.3,41,null,null,null,65.7,41.7,null,null,null,60.352941176470587,39.294117647058826,null,null,0.01,63,40,54,51,0.1,60,42,53,52,0.12,53,36,50,48]
[null,56,"Feb 25",0.02,65,40,null,null,null,64.599999999999994,40.700000000000003,null,null,null,63.5,41.2,null,null,null,66,41.9,null,null,null,61.352941176470587,40.294117647058826,null,null,0,64,45,54,52,0,63,40,54,52,0.49,53,39,50,49]
[null,57,"Feb 26",0.04,64,41,null,null,null,64.8,40.9,null,null,null,63.8,41.3,null,null,null,66.3,42.1,null,null,null,61.470588235294116,40.294117647058826,null,null,0.01,64,42,54,53,0.16,63,45,54,53,0,48,30,49,47]
[null,58,"Feb 27",0.08,64,42,null,null,null,65,40.9,null,null,null,64,41.5,null,null,null,66.400000000000006,42.3,null,null,null,61.294117647058826,41.294117647058826,null,null,0,60,31,54,52,0.01,61,45,55,54,0,57,29,48,46]
[null,59,"Feb 28",0.04,64,42,null,null,null,65.099999999999994,41,null,null,null,64.2,41.6,null,null,null,66.599999999999994,42.4,null,null,null,62.588235294117645,39.176470588235297,null,null,0,61,40,53,51,0,65,38,54,53,0,61,31,49,46]
[null,59,"Feb 29",0.04,64,42,null,null,null,65.400000000000006,41.1,null,null,null,64.400000000000006,41.7,null,null,null,66.8,42.6,null,null,null,62,39]
[null,60,"Mar 1",0.08,65,42,null,null,null,65.599999999999994,41.2,null,null,null,64.599999999999994,41.8,null,null,null,66.900000000000006,42.7,null,null,null,63.411764705882355,39.823529411764703,null,null,0.05,59,51,53,53,0,65,44,55,53,0,59,32,49,47]
[null,61,"Mar 2",0.1,65,43,null,null,null,65.8,41.2,null,null,null,64.8,41.9,null,null,null,67.099999999999994,42.8,null,null,null,63.647058823529413,41.647058823529413,null,null,0.08,67,49,55,53,0.23,59,47,55,54,0.04,65,49,51,49]
[null,62,"Mar 3",7.0000000000000007E-2,63,42,null,null,null,66,41.4,null,null,null,65,42.1,null,null,null,67.3,43,null,null,null,61.117647058823529,40.470588235294116,null,null,7.0000000000000007E-2,60,46,54,53,0.48,51,41,55,53,0,66,42,53,50]
[null,63,"Mar 4",0.11,64,40,null,null,null,66.2,41.5,null,null,null,65.2,42.2,null,null,null,67.5,43.1,null,null,null,62.529411764705884,38.294117647058826,null,null,0.17,56,34,54,52,0.02,58,38,54,53,0,65,40,53,50]
[null,64,"Mar 5",0.14000000000000001,62,41,null,null,null,66.3,41.6,null,null,null,65.400000000000006,42.4,null,null,null,67.599999999999994,43.2,null,null,null,61.764705882352942,39.647058823529413,null,null,0,58,33,53,51,0,57,34,53,51,0,69,43,54,51]
[null,65,"Mar 6",0.01,65,39,null,null,null,66.5,41.7,null,null,null,65.599999999999994,42.6,null,null,null,67.900000000000006,43.4,null,null,null,63.882352941176471,39.470588235294116,null,null,0,58,34,52,51,0,61,44,53,52,0.13,62,51,55,53]
[null,66,"Mar 7",0.03,67,40,null,null,null,66.7,41.9,null,null,null,65.8,42.7,null,null,null,68,43.5,null,null,null,66.117647058823536,37.882352941176471,null,null,0,60,31,52,50,0,64,39,54,52,0,59,48,55,53]
[null,67,"Mar 8",0.03,68,43,null,null,null,66.900000000000006,41.9,null,null,null,66,42.9,null,null,null,68.2,43.7,null,null,null,66.764705882352942,40,null,null,0,65,31,52,49,0,57,39,53,52,0,65,40,55,52]
[null,68,"Mar 9",0.04,67,43,null,null,null,67.099999999999994,42.1,null,null,null,66.2,43.1,null,null,null,68.3,43.8,null,null,null,66,40.470588235294116,null,null,0,54,34,52,50,0,55,37,53,51,0,67,40,56,53]
[null,69,"Mar 10",0.13,67,42,null,null,null,67.2,42.3,null,null,null,66.3,43.3,null,null,null,68.5,44,null,null,null,67.17647058823529,39.882352941176471,null,null,0,57,28,50,48,0.09,53,35,52,51,0.01,67,42,56,53]
[null,70,"Mar 11",0.02,67,42,null,null,null,67.3,42.3,null,null,null,66.400000000000006,43.4,null,null,null,68.599999999999994,44.1,null,null,null,68.235294117647058,41.176470588235297,null,null,0,61,27,50,48,0,63,32,53,49,0,62,39,55,54]
[null,71,"Mar 12",7.0000000000000007E-2,66,41,null,null,null,67.400000000000006,42.4,null,null,null,66.400000000000006,43.5,null,null,null,68.599999999999994,44.1,null,null,null,68.17647058823529,40.352941176470587,null,null,0,66,32,51,48,0.37,57,38,52,50,0,64,40,55,53]
[null,72,"Mar 13",0.02,67,41,null,null,null,67.5,42.4,null,null,null,66.599999999999994,43.6,null,null,null,68.7,44.1,null,null,null,68.058823529411768,40.647058823529413,null,null,0,68,31,51,48,0,57,34,52,50,0.01,66,42,55,53]
[null,73,"Mar 14",0.01,68,40,null,null,null,67.599999999999994,42.2,null,null,null,66.599999999999994,43.5,null,null,null,68.7,44.1,null,null,null,69.235294117647058,40.647058823529413,null,null,0.01,60,32,51,49,0,64,32,53,49,0.04,72,51,58,55]
[null,74,"Mar 15",0,69,42,null,null,null,67.8,42.2,null,null,null,66.8,43.6,null,null,null,68.900000000000006,44,null,null,null,69.117647058823536,41.705882352941174,null,null,0,66,36,53,50,0,67,38,54,50,0,72,48,58,56]
[null,75,"Mar 16",0.02,67,42,null,null,null,68,42.2,null,null,null,67.099999999999994,43.6,null,null,null,69.099999999999994,44,null,null,null,69.235294117647058,42.647058823529413,null,null,0,69,42,54,52,0,79,40,56,52,7.0000000000000007E-2,59,45,58,57]
[null,76,"Mar 17",0.04,69,41,null,null,null,68.2,42.2,null,null,null,67.3,43.7,null,null,null,69.3,44,null,null,null,70.529411764705884,40.529411764705884,null,null,0,68,42,55,52,0,74,46,57,54,0,63,37,57,54]
[null,77,"Mar 18",0.02,71,42,null,null,null,68.400000000000006,42.2,null,null,null,67.5,43.7,null,null,null,69.5,44,null,null,null,72,42.647058823529413,null,null,0,70,42,55,52,0,73,44,57,54,0.39,59,41,55,53]
[null,78,"Mar 19",0.03,70,43,null,null,null,68.7,42.3,null,null,null,67.7,43.7,null,null,null,69.7,44,null,null,null,72,42.117647058823529,null,null,0,75,44,56,53,0,77,37,57,53,0.06,53,42,53,52]
[null,79,"Mar 20",0.03,69,44,null,null,null,69,42.4,null,null,null,68,43.8,null,null,null,69.900000000000006,44.1,null,null,null,69.411764705882348,43.941176470588232,null,null,0,73,39,56,53,0,76,41,59,54,1,52,43,53,52]
[null,80,"Mar 21",0.02,70,43,null,null,null,69.2,42.6,null,null,null,68.3,43.9,null,null,null,70.2,44.2,null,null,null,70.058823529411768,42.941176470588232,null,null,0.12,65,37,55,53,0,72,42,58,55,0.2,55,40,53,52]
[null,81,"Mar 22",0.08,68,41,null,null,null,69.400000000000006,42.6,null,null,null,68.5,44,null,null,null,70.400000000000006,44.2,null,null,null,68.764705882352942,42.411764705882355,null,null,0.06,57,38,55,54,0,67,46,58,55,0.04,59,34,53,51]
[null,82,"Mar 23",0.09,67,43,null,null,null,69.599999999999994,42.6,null,null,null,68.7,44,null,null,null,70.599999999999994,44.2,null,null,null,68.705882352941174,41.941176470588232,null,null,0,60,36,54,52,0,71,41,58,55,0.18,54,45,53,53]
[null,83,"Mar 24",0.11,69,43,null,null,null,69.8,42.6,null,null,null,68.900000000000006,44.1,null,null,null,70.8,44.2,null,null,null,70.705882352941174,41.941176470588232,null,null,0,68,31,53,51,0,74,45,59,55,0.93,52,41,53,52]
[null,84,"Mar 25",0.1,67,44,null,null,null,70,42.6,null,null,null,69.2,44.1,null,null,null,71,44.2,null,null,null,68.294117647058826,43.117647058823529,null,null,0,70,34,54,51,0,63,39,58,55,0.01,60,39,53,51]
[null,85,"Mar 26",0.08,69,41,null,null,null,70.3,42.6,null,null,null,69.400000000000006,44.2,null,null,null,71.2,44.3,null,null,null,68.647058823529406,41.823529411764703,null,null,0,74,43,55,52,0,64,38,57,54,0.51,53,46,53,52]
[null,86,"Mar 27",0.05,68,41,null,null,null,70.5,42.7,null,null,null,69.599999999999994,44.3,null,null,null,71.400000000000006,44.4,null,null,null,68,41.176470588235297,null,null,0,75,46,56,54,0,69,35,57,54,0,65,40,54,52]
[null,87,"Mar 28",0.02,69,41,null,null,null,70.8,42.8,null,null,null,69.8,44.5,null,null,null,71.7,44.5,null,null,null,69.17647058823529,40.176470588235297,null,null,0,78,40,57,54,0,77,40,58,54,0,62,42,55,53]
[null,88,"Mar 29",0,70,40,null,null,null,71.2,42.9,null,null,null,70.2,44.6,null,null,null,72,44.6,null,null,null,69.352941176470594,39.764705882352942,null,null,0,64,47,56,55,0,74,40,59,55,0,67,40,55,53]
[null,89,"Mar 30",0,71,41,null,null,null,71.5,43,null,null,null,70.5,44.8,null,null,null,72.3,44.7,null,null,null,69.882352941176464,41,null,null,0,66,39,55,53,0,62,46,59,57,0,73,45,57,54]
[null,90,"Mar 31",0.03,71,42,null,null,null,71.7,43.1,null,null,null,70.7,44.9,null,null,null,72.5,44.8,null,null,null,69.882352941176464,39.705882352941174,null,null,0,71,34,55,52,0,59,41,58,56,0,80,47,58,55]
[null,91,"Apr 1",0.05,69,42,null,null,null,71.900000000000006,43.1,null,null,null,71.099999999999994,45,null,null,null,72.8,44.9,null,null,null,69.117647058823536,40.882352941176471,null,null,0,75,46,56,54,0,60,39,58,55,0,86,48,60,57]
[null,92,"Apr 2",0,71,41,null,null,null,72.099999999999994,43.2,null,null,null,71.3,45.2,null,null,null,73,45.1,null,null,null,69.058823529411768,41.352941176470587,null,null,0,69,34,56,54,0,55,36,56,54,0,69,47,60,59]
[null,93,"Apr 3",0.01,71,43,null,null,null,72.3,43.2,null,null,null,71.5,45.3,null,null,null,73.2,45.1,null,null,null,69.647058823529406,41.294117647058826,null,null,0,66,42,56,54,0,57,35,56,54,0,66,44,59,57]
[null,94,"Apr 4",0,72,42,null,null,null,72.400000000000006,43.3,null,null,null,71.599999999999994,45.3,null,null,null,73.3,45.2,null,null,null,69.411764705882348,40.941176470588232,null,null,0,67,38,56,53,0,55,35,55,53,0,79,41,58,55]
[null,95,"Apr 5",0.01,72,41,null,null,null,72.599999999999994,43.3,null,null,null,71.8,45.5,null,null,null,73.5,45.3,null,null,null,69.882352941176464,41.235294117647058,null,null,0,76,30,56,52,0,59,42,56,54,0,76,44,59,56]
[null,96,"Apr 6",0.04,71,42,null,null,null,72.900000000000006,43.4,null,null,null,72.099999999999994,45.6,null,null,null,73.7,45.4,null,null,null,70.17647058823529,41.058823529411768,null,null,0,81,40,57,53,0,62,36,56,53,0,72,47,59,57]
[null,97,"Apr 7",0.01,71,42,null,null,null,73.099999999999994,43.6,null,null,null,72.400000000000006,45.7,null,null,null,74,45.6,null,null,null,69.529411764705884,41.647058823529413,null,null,0.14000000000000001,63,42,56,55,0,72,36,57,53,0.15,58,39,58,57]
[null,98,"Apr 8",0.05,69,42,null,null,null,73.400000000000006,43.6,null,null,null,72.599999999999994,45.8,null,null,null,74.2,45.7,null,null,null,67.647058823529406,42,null,null,0,64,46,57,55,0,71,40,58,54,0,57,35,57,55]
[null,99,"Apr 9",0,71,40,null,null,null,73.7,43.8,null,null,null,73,45.9,null,null,null,74.599999999999994,45.8,null,null,null,67.941176470588232,42.588235294117645,null,null,0.1,58,46,57,55,0,69,46,58,55,0,64,33,56,53]
[null,100,"Apr 10",0,73,43,null,null,null,73.900000000000006,43.9,null,null,null,73.3,46,null,null,null,74.900000000000006,45.9,null,null,null,70.117647058823536,42.588235294117645,null,null,0.02,61,42,60,56,0,63,46,58,56,0,68,34,56,53]
[null,101,"Apr 11",0.03,73,44,null,null,null,74.2,44.1,null,null,null,73.599999999999994,46.2,null,null,null,75.099999999999994,46.1,null,null,null,69.764705882352942,44.117647058823529,null,null,0,66,39,61,53,0.46,58,45,57,55,0,66,40,57,55]
[null,102,"Apr 12",0.02,73,44,null,null,null,74.5,44.3,null,null,null,73.900000000000006,46.4,null,null,null,75.400000000000006,46.4,null,null,null,72.764705882352942,43.941176470588232,null,null,0,72,41,64,55,0.46,60,46,57,55,0,70,39,57,55]
[null,103,"Apr 13",0.03,71,42,null,null,null,74.900000000000006,44.5,null,null,null,74.2,46.7,null,null,null,75.8,46.6,null,null,null,71.058823529411768,43.764705882352942,null,null,0,71,45,63,57,0,64,37,57,54,0,61,37,57,55]
[null,104,"Apr 14",0.02,72,41,null,null,null,75.2,44.7,null,null,null,74.5,46.8,null,null,null,76,46.8,null,null,null,70,42.823529411764703,null,null,0,59,44,60,56,0,67,40,57,54,0,65,36,57,54]
[null,105,"Apr 15",0.01,71,42,null,null,null,75.599999999999994,45,null,null,null,74.900000000000006,47.1,null,null,null,76.3,47.1,null,null,null,72.352941176470594,43.294117647058826,null,null,0,62,38,60,54,0,71,42,60,55,0,73,41,58,54]
[null,106,"Apr 16",0.02,71,45,null,null,null,76,45.2,null,null,null,75.3,47.4,null,null,null,76.7,47.4,null,null,null,72,44,null,null,0,69,36,62,53,0,71,45,61,56,0,75,51,59,57]
[null,107,"Apr 17",0.08,72,44,null,null,null,76.2,45.4,null,null,null,75.7,47.6,null,null,null,77.099999999999994,47.6,null,null,null,72.058823529411768,44.117647058823529,null,null,0,75,39,64,55,0,73,45,62,57,0,78,49,61,58]
[null,108,"Apr 18",0.02,73,43,null,null,null,76.5,45.6,null,null,null,75.900000000000006,47.9,null,null,null,77.400000000000006,47.9,null,null,null,72.705882352941174,42.823529411764703,null,null,0,80,44,67,57,0,77,42,64,57,0,71,54,61,59]
[null,109,"Apr 19",0.03,71,44,null,null,null,76.7,45.8,null,null,null,76.2,48.1,null,null,null,77.599999999999994,48.1,null,null,null,71.705882352941174,43.411764705882355,null,null,0,88,47,70,60,0,78,47,64,59,0,71,54,61,59]
[null,110,"Apr 20",0.08,72,44,null,null,null,76.900000000000006,45.9,null,null,null,76.400000000000006,48.2,null,null,null,77.900000000000006,48.3,null,null,null,71.058823529411768,44.176470588235297,null,null,0,90,51,70,62,0.7,58,44,62,59,0,74,54,61,60]
[null,111,"Apr 21",0.01,72,45,null,null,null,77,46,null,null,null,76.599999999999994,48.4,null,null,null,78.099999999999994,48.5,null,null,null,72.058823529411768,44.117647058823529,null,null,0,91,54,71,63,0.2,51,42,59,57,0,68,46,62,59]
[null,112,"Apr 22",0.03,71,43,null,null,null,77.2,46.2,null,null,null,76.900000000000006,48.6,null,null,null,78.3,48.7,null,null,null,72.82352941176471,45.294117647058826,null,null,0,91,55,71,64,0.02,60,44,60,56,0,66,41,61,58]
[null,113,"Apr 23",0.05,70,43,null,null,null,77.400000000000006,46.5,null,null,null,77.099999999999994,48.8,null,null,null,78.5,49,null,null,null,72.294117647058826,45.117647058823529,null,null,0,76,51,69,64,0,72,42,63,57,0,72,48,61,58]
[null,114,"Apr 24",0.01,72,45,null,null,null,77.599999999999994,46.7,null,null,null,77.400000000000006,49.1,null,null,null,78.8,49.1,null,null,null,73.352941176470594,44.764705882352942,null,null,0,67,39,66,62,0,74,44,64,59,0,70,46,61,59]
[null,115,"Apr 25",0.02,74,45,null,null,null,77.900000000000006,46.8,null,null,null,77.599999999999994,49.2,null,null,null,79.099999999999994,49.3,null,null,null,75.705882352941174,44.235294117647058,null,null,0,71,37,65,60,0,79,45,65,60,0,73,45,61,59]
[null,116,"Apr 26",0,76,47,null,null,null,78.2,47,null,null,null,77.900000000000006,49.5,null,null,null,79.3,49.6,null,null,null,78.294117647058826,45.882352941176471,null,null,0,71,36,66,59,0,81,44,66,60,0,69,41,61,58]
[null,117,"Apr 27",0,75,46,null,null,null,78.400000000000006,47.2,null,null,null,78.2,49.6,null,null,null,79.599999999999994,49.8,null,null,null,76.17647058823529,46.882352941176471,null,null,0,70,42,66,60,0,68,46,64,62,0,75,41,61,58]
[null,118,"Apr 28",0.02,74,49,null,null,null,78.7,47.4,null,null,null,78.5,49.8,null,null,null,79.900000000000006,50.1,null,null,null,73.411764705882348,47.235294117647058,null,null,0,63,39,65,59,0.15,60,39,62,60,0,73,43,62,59]
[null,119,"Apr 29",0.01,76,50,null,null,null,79,47.6,null,null,null,78.8,50.1,null,null,null,80.2,50.3,null,null,null,75.647058823529406,46.176470588235297,null,null,0,68,38,65,59,0,62,37,62,58,0,69,42,61,59]
[null,120,"Apr 30",0.01,77,48,null,null,null,79.3,47.8,null,null,null,79,50.3,null,null,null,80.5,50.5,null,null,null,78.705882352941174,46.058823529411768,null,null,0,73,39,61,57,0,69,42,63,58,0,74,41,62,59]
[null,121,"May 1",0,75,47,null,null,null,79.599999999999994,47.9,null,null,null,79.3,50.4,null,null,null,80.8,50.7,null,null,null,78.17647058823529,48.117647058823529,null,null,0.71,72,53,67,62,0,75,40,64,58,0,78,40,63,59]
[null,122,"May 2",0.01,76,47,null,null,null,79.900000000000006,48.1,null,null,null,79.5,50.6,null,null,null,81,50.9,null,null,null,76.352941176470594,48.588235294117645,null,null,0,66,54,65,61,0,79,49,65,60,0,84,44,64,60]
[null,123,"May 3",0.05,76,48,null,null,null,80.2,48.4,null,null,null,79.900000000000006,50.8,null,null,null,81.400000000000006,51.1,null,null,null,77.470588235294116,48.117647058823529,null,null,0.02,71,56,67,63,0,86,44,66,60,0,79,48,65,61]
[null,124,"May 4",0.01,78,47,null,null,null,80.599999999999994,48.5,null,null,null,80.2,51,null,null,null,81.7,51.3,null,null,null,76.117647058823536,46.823529411764703,null,null,0,76,54,69,62,0,77,45,66,62,0,87,47,66,61]
[null,125,"May 5",0.03,77,47,null,null,null,80.8,48.7,null,null,null,80.5,51.2,null,null,null,82,51.5,null,null,null,75.470588235294116,48.588235294117645,null,null,0,79,60,72,65,0,72,43,66,61,0,93,51,68,63]
[null,126,"May 6",7.0000000000000007E-2,75,46,null,null,null,81.099999999999994,48.9,null,null,null,80.7,51.4,null,null,null,82.2,51.7,null,null,null,77.117647058823536,46.588235294117645,null,null,0,80,54,71,64,0,72,44,66,61,0,85,52,68,64]
[null,127,"May 7",0.05,75,48,null,null,null,81.400000000000006,49.1,null,null,null,81,51.6,null,null,null,82.5,52,null,null,null,77.117647058823536,48.058823529411768,null,null,0,77,54,70,65,0,78,39,67,60,0,77,47,67,64]
[null,128,"May 8",0,76,47,null,null,null,81.8,49.3,null,null,null,81.3,51.8,null,null,null,82.8,52.2,null,null,null,77.882352941176464,48.941176470588232,null,null,0,80,51,71,64,0,74,43,67,62,0,67,43,67,64]
[null,129,"May 9",0,75,45,null,null,null,82.1,49.6,null,null,null,81.599999999999994,52.1,null,null,null,83.1,52.5,null,null,null,77.705882352941174,47.117647058823529,null,null,0,84,51,72,64,7.0000000000000007E-2,64,45,65,62,0,70,40,65,62]
[null,130,"May 10",0,78,47,null,null,null,82.4,49.8,null,null,null,81.900000000000006,52.3,null,null,null,83.5,52.7,null,null,null,78.294117647058826,46.411764705882355,null,null,0,85,52,72,65,0.09,64,44,63,61,0,79,42,66,62]
[null,131,"May 11",0,77,47,null,null,null,82.6,50,null,null,null,82.2,52.5,null,null,null,83.7,53,null,null,null,80.941176470588232,48.058823529411768,null,null,0,84,48,72,65,0,67,39,64,58,0,80,45,67,63]
[null,132,"May 12",7.0000000000000007E-2,75,46,null,null,null,82.9,50.2,null,null,null,82.5,52.7,null,null,null,84,53.2,null,null,null,79.411764705882348,48.647058823529413,null,null,0,78,45,70,64,0,76,43,66,59,0,80,49,69,64]
[null,133,"May 13",0.03,74,46,null,null,null,83.1,50.5,null,null,null,82.7,53,null,null,null,84.2,53.5,null,null,null,81.294117647058826,49.352941176470587,null,null,0,81,49,70,64,0,79,46,67,61,0,82,48,70,65]
[null,134,"May 14",0,76,45,null,null,null,83.3,50.6,null,null,null,82.9,53.2,null,null,null,84.5,53.7,null,null,null,81.411764705882348,49.470588235294116,null,null,0,81,50,71,65,0,82,49,69,62,0.06,65,48,69,66]
[null,135,"May 15",7.0000000000000007E-2,75,48,null,null,null,83.6,50.8,null,null,null,83.1,53.3,null,null,null,84.7,53.9,null,null,null,80.647058823529406,52.235294117647058,null,null,0,86,54,73,66,0,83,50,70,63,0.2,59,44,68,65]
[null,136,"May 16",0.03,76,48,null,null,null,83.8,51.1,null,null,null,83.4,53.6,null,null,null,85,54.1,null,null,null,80,51.058823529411768,null,null,0,94,57,76,67,0,79,53,70,65,0.09,64,42,65,62]
[null,137,"May 17",0.01,76,47,null,null,null,84.1,51.2,null,null,null,83.6,53.7,null,null,null,85.2,54.3,null,null,null,80.17647058823529,51.529411764705884,null,null,0,100,62,77,69,0.02,65,51,68,65,0.15,61,49,64,62]
[null,138,"May 18",0.02,77,47,null,null,null,84.4,51.5,null,null,null,83.9,53.9,null,null,null,85.4,54.5,null,null,null,82.058823529411768,52.470588235294116,null,null,0,96,63,77,70,0,74,54,69,64,0.04,67,48,65,61]
[null,139,"May 19",0,77,48,null,null,null,84.8,51.7,null,null,null,84.1,54.1,null,null,null,85.7,54.7,null,null,null,82.352941176470594,50.764705882352942,null,null,0,87,60,77,71,0,74,51,68,65,0,76,46,67,62]
[null,140,"May 20",0.01,78,48,null,null,null,85.2,52,null,null,null,84.4,54.4,null,null,null,86,55,null,null,null,80.529411764705884,50.470588235294116,null,null,0,84,49,75,69,0,72,46,68,64,0,81,48,69,63]
[null,141,"May 21",0,79,49,null,null,null,85.5,52.2,null,null,null,84.7,54.6,null,null,null,86.3,55.3,null,null,null,80.470588235294116,49.705882352941174,null,null,0,87,52,79,67,0,65,45,67,64,0,79,51,70,65]
[null,142,"May 22",0,81,49,null,null,null,85.9,52.5,null,null,null,85,54.8,null,null,null,86.6,55.6,null,null,null,81.588235294117652,51.235294117647058,null,null,0,87,53,74,68,0,64,40,67,62,0,75,46,69,65]
[null,143,"May 23",0.04,79,50,null,null,null,86.1,52.7,null,null,null,85.2,55,null,null,null,86.8,55.8,null,null,null,81.882352941176464,52,null,null,0,81,53,74,68,0,70,45,67,62,0,72,47,70,65]
[null,144,"May 24",0.04,79,49,null,null,null,86.3,52.8,null,null,null,85.5,55.2,null,null,null,87.1,56,null,null,null,81,52,null,null,0,77,49,73,67,0,69,43,67,63,0,75,42,70,65]
[null,145,"May 25",0.02,79,49,null,null,null,86.6,53,null,null,null,85.7,55.4,null,null,null,87.3,56.2,null,null,null,81.411764705882348,51.411764705882355,null,null,0,82,49,74,67,0.22,70,45,66,63,0,73,48,69,66]
[null,146,"May 26",0,78,48,null,null,null,86.8,53.2,null,null,null,85.9,55.6,null,null,null,87.6,56.5,null,null,null,82.235294117647058,52,null,null,0,88,54,75,68,0.26,72,51,68,63,0,70,47,69,64]
[null,147,"May 27",0.16,77,50,null,null,null,87,53.4,null,null,null,86.2,55.8,null,null,null,87.8,56.6,null,null,null,81.82352941176471,51.647058823529413,null,null,0,93,60,77,70,0.06,66,48,66,63,0,73,47,70,65]
[null,148,"May 28",0.05,76,48,null,null,null,87.1,53.5,null,null,null,86.4,55.9,null,null,null,87.9,56.8,null,null,null,81.941176470588232,51.117647058823529,null,null,0,92,60,77,71,0,67,43,66,62,0.11,71,45,69,66]
[null,149,"May 29",0,78,48,null,null,null,87.3,53.7,null,null,null,86.6,56.1,null,null,null,88.1,57,null,null,null,83.17647058823529,50.705882352941174,null,null,0,85,59,76,72,0,78,51,68,62,0,70,45,68,65]
[null,150,"May 30",0,79,49,null,null,null,87.5,53.9,null,null,null,86.8,56.3,null,null,null,88.4,57.2,null,null,null,84.588235294117652,51.470588235294116,null,null,0,82,54,76,71,0,84,49,69,63,0,75,44,69,64]
[null,151,"May 31",0.02,82,51,null,null,null,87.8,54.1,null,null,null,87.1,56.5,null,null,null,88.7,57.4,null,null,null,85.82352941176471,53.352941176470587,null,null,0,83,54,75,71,0,81,53,70,65,0,74,47,70,66]
[null,152,"Jun 1",0,82,51,null,null,null,88.1,54.3,null,null,null,87.4,56.8,null,null,null,88.9,57.7,null,null,null,85.764705882352942,54.352941176470587,null,null,0,79,55,74,71,0,76,56,71,66,0.01,66,47,69,66]
[null,153,"Jun 2",0,80,49,null,null,null,88.3,54.5,null,null,null,87.7,57,null,null,null,89.2,57.8,null,null,null,84.882352941176464,52.529411764705884,null,null,0,79,56,74,70,0,83,53,72,66,0,69,42,69,65]
[null,154,"Jun 3",0.01,78,49,null,null,null,88.5,54.7,null,null,null,88,57.2,null,null,null,89.4,58,null,null,null,83.941176470588232,53.588235294117645,null,null,0.02,83,55,73,70,0,83,59,73,68,0,70,45,69,66]
[null,155,"Jun 4",0.01,78,50,null,null,null,88.8,54.8,null,null,null,88.2,57.4,null,null,null,89.7,58.3,null,null,null,83.882352941176464,54.352941176470587,null,null,0,76,55,74,65,0,84,59,74,69,0.52,64,54,68,66]
[null,156,"Jun 5",0,78,48,null,null,null,89,54.9,null,null,null,88.5,57.5,null,null,null,90,58.5,null,null,null,81.764705882352942,53.235294117647058,null,null,0.06,73,54,72,65,0,87,62,76,70,0.63,75,55,69,65]
[null,157,"Jun 6",0.04,77,51,null,null,null,89.3,55.1,null,null,null,88.8,57.7,null,null,null,90.2,58.6,null,null,null,82.82352941176471,53.058823529411768,null,null,0,76,51,70,65,0,88,61,77,71,0,72,54,70,66]
[null,158,"Jun 7",0.01,78,52,null,null,null,89.6,55.3,null,null,null,89,57.8,null,null,null,90.4,58.8,null,null,null,82.294117647058826,53.411764705882355,null,null,0,80,51,71,67,0,83,57,76,71,0,74,49,70,66]
[null,159,"Jun 8",0.01,81,50,null,null,null,89.9,55.4,null,null,null,89.2,58,null,null,null,90.7,59,null,null,null,83.294117647058826,50.941176470588232,null,null,0,80,52,71,67,0,84,55,78,70,null,81,52,71,66]
[null,160,"Jun 9",0,82,50,null,null,null,90.2,55.7,null,null,null,89.5,58.2,null,null,null,91,59.2,null,null,null,84.882352941176464,51.705882352941174,null,null,0,78,53,71,67,0,78,55,73,69,null,83,53,72,68]
[null,161,"Jun 10",0.03,80,49,null,null,null,90.4,55.9,null,null,null,89.7,58.3,null,null,null,91.2,59.3,null,null,null,84.235294117647058,53.176470588235297,null,null,0,75,56,71,68,0,74,51,71,68,null,82,53,73,68]
[null,162,"Jun 11",0,78,49,null,null,null,90.6,56,null,null,null,90,58.5,null,null,null,91.4,59.5,null,null,null,84.882352941176464,52.588235294117645,null,null,0,76,48,71,67,0,82,58,71,68,null,76,50,72,68]
[null,163,"Jun 12",0,81,51,null,null,null,90.9,56.2,null,null,null,90.3,58.6,null,null,null,91.7,59.7,null,null,null,85.294117647058826,53.235294117647058,null,null,0,77,53,73,67,0,87,57,71,65,null,81,52,73,68]
[null,164,"Jun 13",0.01,82,52,null,null,null,91.1,56.3,null,null,null,90.5,58.8,null,null,null,91.9,59.9,null,null,null,87.17647058823529,53.823529411764703,null,null,0.04,77,57,75,68,0,92,56,74,69,null,86,55,74,69]
[null,165,"Jun 14",0.01,83,53,null,null,null,91.3,56.4,null,null,null,90.7,59,null,null,null,92.1,60.1,null,null,null,88.294117647058826,55.235294117647058,null,null,0,79,53,76,68,0,97,59,76,70,null,90,59,76,71]
[null,166,"Jun 15",0.01,83,54,null,null,null,91.5,56.6,null,null,null,90.9,59.1,null,null,null,92.3,60.3,null,null,null,86.764705882352942,54.882352941176471,null,null,0,77,50,75,69,0,83,54,75,71,null,91,59,76,72]
[null,167,"Jun 16",0,82,50,null,null,null,91.7,56.7,null,null,null,91.1,59.2,null,null,null,92.5,60.4,null,null,null,86.235294117647058,53.941176470588232,null,null,0,83,54,77,70,0,80,51,73,70,null,86,57,76,72]
[null,168,"Jun 17",0,85,51,null,null,null,91.9,56.9,null,null,null,91.3,59.4,null,null,null,92.6,60.6,null,null,null,87.470588235294116,53.882352941176471,null,null,0,83,55,78,71,0,85,48,74,69,null,87,56,77,72]
[null,169,"Jun 18",0,85,51,null,null,null,92.1,57,null,null,null,91.5,59.5,null,null,null,92.8,60.7,null,null,null,88.17647058823529,53.529411764705884,null,null,0,91,56,79,72,0,81,49,74,69,null,87,55,77,72]
[null,170,"Jun 19",0,86,51,null,null,null,92.2,57.1,null,null,null,91.7,59.6,null,null,null,93,60.8,null,null,null,88.058823529411768,53.117647058823529,null,null,0,90,58,79,73,0,77,46,73,69,null,87,59,77,73]
[null,171,"Jun 20",0,85,52,null,null,null,92.4,57.2,null,null,null,91.9,59.7,null,null,null,93.2,61,null,null,null,87.82352941176471,52.823529411764703,null,null,0,84,51,79,72,0,79,46,73,69,null,92,58,84,73]
[null,172,"Jun 21",0,84,51,null,null,null,92.7,57.3,null,null,null,92.1,59.8,null,null,null,93.4,61.1,null,null,null,88.470588235294116,53.470588235294116,null,null,0,78,49,77,71,0,84,51,73,69,null,98,64,81,78]
[null,173,"Jun 22",0.02,86,51,null,null,null,92.9,57.5,null,null,null,92.4,60,null,null,null,93.6,61.3,null,null,null,90.588235294117652,54.058823529411768,null,null,0,86,52,77,72,0,90,54,75,70,null,97,66,82,76]
[null,174,"Jun 23",0,86,52,null,null,null,93.1,57.7,null,null,null,92.6,60.1,null,null,null,93.8,61.5,null,null,null,90.764705882352942,55.117647058823529,null,null,0,94,56,78,72,0,91,59,75,71,null,90,59,81,77]
[null,175,"Jun 24",0,84,52,null,null,null,93.4,57.8,null,null,null,92.8,60.2,null,null,null,94,61.7,null,null,null,88.705882352941174,56,null,null,0,94,59,79,73,0,85,58,77,71,null,86,53,78,75]
[null,176,"Jun 25",0,85,52,null,null,null,93.5,58,null,null,null,93,60.4,null,null,null,94.1,61.9,null,null,null,89.117647058823536,56.058823529411768,null,null,0,90,57,79,73,0.19,81,55,76,66,null,87,54,77,74]
[null,177,"Jun 26",0.01,83,51,null,null,null,93.8,58.3,null,null,null,93.2,60.6,null,null,null,94.3,62,null,null,null,90.17647058823529,55.705882352941174,null,null,0,90,54,78,73,0,88,57,76,72,null,87,55,77,74]
[null,178,"Jun 27",0,83,53,null,null,null,94,58.4,null,null,null,93.4,60.7,null,null,null,94.5,62.2,null,null,null,91,57.294117647058826,null,null,0,98,59,85,73,0,94,64,78,74,0,89,58,77,74]
[null,179,"Jun 28",0,82,52,null,null,null,94.3,58.6,null,null,null,93.6,60.9,null,null,null,94.7,62.5,null,null,null,91.17647058823529,57.588235294117645,null,null,0,102,64,80,70,0,97,65,79,75,0.14000000000000001,79,58,77,74]
[null,180,"Jun 29",0,84,51,null,null,null,94.6,58.8,null,null,null,93.8,61.1,null,null,null,94.9,62.7,null,null,null,91.294117647058826,57.294117647058826,null,null,0,100,64,80,76,0,92,63,79,75,0,72,56,75,73]
[null,181,"Jun 30",0,85,52,null,null,null,94.9,59.1,null,null,null,94.1,61.3,null,null,null,95.2,62.9,null,null,null,90.235294117647058,56.352941176470587,null,null,0,95,59,79,75,0,87,56,76,74,0,83,54,75,72]
[null,182,"Jul 1",0,87,52,null,null,null,95.1,59.3,null,null,null,94.3,61.4,null,null,null,95.4,63.2,null,null,null,90.117647058823536,55.588235294117645,null,null,0,92,60,79,75,0,84,51,78,73,0,90,58,76,73]
[null,183,"Jul 2",0,86,51,null,null,null,95.2,59.5,null,null,null,94.4,61.6,null,null,null,95.6,63.3,null,null,null,90.058823529411768,55.529411764705884,null,null,0,93,58,79,74,0,83,55,77,74,0,95,61,77,73]
[null,184,"Jul 3",0,86,51,null,null,null,95.4,59.6,null,null,null,94.6,61.7,null,null,null,95.7,63.5,null,null,null,90.529411764705884,56.058823529411768,null,null,0,93,57,79,74,0,87,58,77,74,0,96,63,78,74]
[null,185,"Jul 4",0.02,85,52,null,null,null,95.4,59.8,null,null,null,94.7,61.8,null,null,null,95.8,63.6,null,null,null,90.235294117647058,56.176470588235297,null,null,0,90,58,78,74,0,92,55,77,73,0,98,64,78,75]
[null,186,"Jul 5",0.02,85,51,null,null,null,95.5,59.9,null,null,null,94.8,61.9,null,null,null,95.9,63.8,null,null,null,91.588235294117652,56.176470588235297,null,null,0,87,56,78,74,0,91,59,77,74,0,100,65,79,76]
[null,187,"Jul 6",0,87,52,null,null,null,95.6,59.9,null,null,null,94.9,62,null,null,null,96,63.9,null,null,null,91.17647058823529,56.588235294117645,null,null,0,85,51,77,73,0,84,57,77,74,0,96,69,79,77]
[null,188,"Jul 7",0,88,51,null,null,null,95.7,60,null,null,null,94.9,62.1,null,null,null,96,64,null,null,null,91.17647058823529,56.529411764705884,null,null,0,87,51,77,72,0,87,54,77,74,0,94,65,79,74]
[null,189,"Jul 8",0,92,56,null,null,null,95.7,60.1,null,null,null,95,62.2,null,null,null,96.1,64.2,null,null,null,92.882352941176464,57.117647058823529,null,null,0,86,54,76,73,0,89,56,77,74,0,94,63,80,76]
[null,190,"Jul 9",0,90,56,null,null,null,95.8,60.1,null,null,null,95,62.3,null,null,null,96.2,64.400000000000006,null,null,null,91.941176470588232,58.176470588235297,null,null,0,86,52,78,71,0,90,57,77,74,0,90,60,80,76]
[null,191,"Jul 10",0,90,55,null,null,null,95.9,60.2,null,null,null,95.2,62.4,null,null,null,96.3,64.5,null,null,null,91.588235294117652,57.352941176470587,null,null,0,87,53,74,68,0,96,59,78,74,0,87,53,79,75]
[null,192,"Jul 11",0,90,55,null,null,null,96,60.3,null,null,null,95.2,62.4,null,null,null,96.4,64.599999999999994,null,null,null,91.058823529411768,56.823529411764703,null,null,0,88,59,74,72,0,92,61,78,75,0,83,55,78,74]
[null,193,"Jul 12",0,89,58,null,null,null,96.1,60.4,null,null,null,95.3,62.5,null,null,null,96.5,64.7,null,null,null,90.529411764705884,57.705882352941174,null,null,0,88,59,75,72,0,90,60,78,75,0,83,53,78,73]
[null,194,"Jul 13",0,91,57,null,null,null,96.3,60.4,null,null,null,95.5,62.6,null,null,null,96.6,64.8,null,null,null,92.588235294117652,58.352941176470587,null,null,0,91,57,74,71,0,88,57,79,74,0,80,53,78,74]
[null,195,"Jul 14",0,90,55,null,null,null,96.4,60.6,null,null,null,95.6,62.7,null,null,null,96.8,64.900000000000006,null,null,null,94.588235294117652,58.588235294117645,null,null,0,96,61,75,72,0,91,59,78,72,0,79,51,77,73]
[null,196,"Jul 15",0,89,55,null,null,null,96.6,60.7,null,null,null,95.8,62.9,null,null,null,97,65.099999999999994,null,null,null,93.17647058823529,58.705882352941174,null,null,0,99,63,78,72,0,96,62,79,75,0,81,51,77,73]
[null,197,"Jul 16",0,88,55,null,null,null,96.7,60.7,null,null,null,95.9,62.9,null,null,null,97.1,65.2,null,null,null,92,58.764705882352942,null,null,0,96,63,81,73,0,97,66,80,76,0,80,54,77,73]
[null,198,"Jul 17",0,88,56,null,null,null,96.8,60.8,null,null,null,95.9,63,null,null,null,97.2,65.2,null,null,null,91.82352941176471,59.058823529411768,null,null,0,97,63,82,75,0,95,65,80,76,0,83,57,77,73]
[null,199,"Jul 18",0,91,55,null,null,null,97,61,null,null,null,96.1,63.1,null,null,null,97.3,65.3,null,null,null,93.352941176470594,58.764705882352942,null,null,0,99,64,83,76,0,96,63,80,76,0,85,55,77,73]
[null,200,"Jul 19",0,90,56,null,null,null,97.1,61,null,null,null,96.2,63.2,null,null,null,97.5,65.400000000000006,null,null,null,92.941176470588232,59.117647058823529,null,null,0,101,66,84,77,0,94,58,80,76,0,86,58,77,74]
[null,201,"Jul 20",0,88,56,null,null,null,97.2,61.1,null,null,null,96.3,63.2,null,null,null,97.6,65.5,null,null,null,92.17647058823529,58.235294117647058,null,null,0,96,64,83,77,0,90,57,80,76,0,91,58,80,74]
[null,202,"Jul 21",0,89,54,null,null,null,97.3,61.1,null,null,null,96.3,63.3,null,null,null,97.6,65.5,null,null,null,91.117647058823536,58.117647058823529,null,null,0,92,59,81,71,0,87,56,79,76,0,92,59,77,73]
[null,203,"Jul 22",0,89,55,null,null,null,97.3,61.1,null,null,null,96.4,63.3,null,null,null,97.7,65.5,null,null,null,92.117647058823536,58.176470588235297,null,null,0,90,57,79,73,0,91,53,79,76,0,90,60,77,74]
[null,204,"Jul 23",0,87,56,null,null,null,97.3,61.1,null,null,null,96.4,63.3,null,null,null,97.8,65.599999999999994,null,null,null,92.82352941176471,59.411764705882355,null,null,0,90,58,80,75,0,91,57,79,76,0,91,61,77,74]
[null,205,"Jul 24",0,89,55,null,null,null,97.3,61.2,null,null,null,96.4,63.3,null,null,null,97.8,65.599999999999994,null,null,null,92.647058823529406,58.764705882352942,null,null,0,86,57,79,75,0,93,60,79,76,0,88,59,77,74]
[null,206,"Jul 25",0,90,55,null,null,null,97.4,61.2,null,null,null,96.5,63.4,null,null,null,97.9,65.7,null,null,null,93.529411764705884,58.235294117647058,null,null,0,88,54,79,74,0,90,60,79,76,0,88,57,76,74]
[null,207,"Jul 26",0,91,56,null,null,null,97.4,61.1,null,null,null,96.5,63.4,null,null,null,97.9,65.7,null,null,null,94.294117647058826,57.529411764705884,null,null,0,93,58,80,75,0,85,56,78,76,0,89,56,76,73]
[null,208,"Jul 27",0,91,56,null,null,null,97.4,61.1,null,null,null,96.5,63.3,null,null,null,98,65.7,null,null,null,93,58.705882352941174,null,null,0,96,62,80,76,0,84,54,78,75,0,94,58,76,73]
[null,209,"Jul 28",0,91,57,null,null,null,97.2,61.1,null,null,null,96.5,63.3,null,null,null,97.9,65.7,null,null,null,92.529411764705884,58.529411764705884,null,null,0,91,63,80,76,0,83,53,77,73,0,93,59,76,74]
[null,210,"Jul 29",0,89,56,null,null,null,97.1,61,null,null,null,96.3,63.2,null,null,null,97.8,65.599999999999994,null,null,null,91.411764705882348,58.352941176470587,null,null,0,88,59,80,76,0,87,54,77,73,0,91,61,77,74]
[null,211,"Jul 30",0,88,57,null,null,null,97,60.9,null,null,null,96.2,63.1,null,null,null,97.7,65.5,null,null,null,90.941176470588232,58.058823529411768,null,null,0,87,58,80,76,0,89,55,77,74,0,87,59,76,74]
[null,212,"Jul 31",0,89,55,null,null,null,96.9,60.8,null,null,null,96.1,63.1,null,null,null,97.6,65.5,null,null,null,92,57.470588235294116,null,null,0,88,58,79,76,0,88,55,77,74,0,91,60,77,74]
[null,213,"Aug 1",0,91,56,null,null,null,96.9,60.8,null,null,null,96,63,null,null,null,97.5,65.400000000000006,null,null,null,91.941176470588232,57.117647058823529,null,null,0,90,58,81,70,0,88,52,77,74,0,89,57,76,74]
[null,214,"Aug 2",0,92,57,null,null,null,96.8,60.7,null,null,null,96,63,null,null,null,97.4,65.3,null,null,null,92.058823529411768,57.294117647058826,null,null,0,86,58,76,67,0,90,54,77,74,0,91,56,76,74]
[null,215,"Aug 3",0,91,57,null,null,null,96.7,60.7,null,null,null,95.9,62.9,null,null,null,97.3,65.2,null,null,null,92.529411764705884,56.823529411764703,null,null,0,85,56,76,73,0,91,56,77,74,0,90,58,76,74]
[null,216,"Aug 4",0,90,55,null,null,null,96.6,60.6,null,null,null,95.8,62.8,null,null,null,97.2,65.099999999999994,null,null,null,92.882352941176464,57.176470588235297,null,null,0,86,57,77,73,0,90,58,77,74,0,85,55,78,73]
[null,217,"Aug 5",0,90,56,null,null,null,96.4,60.5,null,null,null,95.7,62.7,null,null,null,97.1,65,null,null,null,90.294117647058826,57.176470588235297,null,null,0,86,59,77,74,0,85,55,77,74,0,88,56,77,73]
[null,218,"Aug 6",0,91,55,null,null,null,96.3,60.3,null,null,null,95.5,62.6,null,null,null,97,64.8,null,null,null,91,57.176470588235297,null,null,0,78,55,76,73,0,88,56,76,73,0,89,59,75,73]
[null,219,"Aug 7",0,89,55,null,null,null,96.2,60.2,null,null,null,95.4,62.5,null,null,null,96.8,64.599999999999994,null,null,null,90.647058823529406,56.529411764705884,null,null,0,81,55,76,73,0,89,55,76,73,0,87,57,75,73]
[null,220,"Aug 8",0,90,56,null,null,null,96.1,60.1,null,null,null,95.3,62.4,null,null,null,96.7,64.5,null,null,null,90.882352941176464,57.117647058823529,null,null,0,87,55,76,73,0,86,56,76,74,0,90,56,75,73]
[null,221,"Aug 9",0,89,56,null,null,null,96,59.9,null,null,null,95.2,62.2,null,null,null,96.5,64.3,null,null,null,91.941176470588232,56.470588235294116,null,null,0,93,58,77,73,0,87,55,76,73,0,90,55,74,72]
[null,222,"Aug 10",0,87,55,null,null,null,95.8,59.8,null,null,null,95.1,62.1,null,null,null,96.4,64.099999999999994,null,null,null,91.294117647058826,56.647058823529413,null,null,0,94,62,77,73,0,86,56,75,70,0,93,58,75,72]
[null,223,"Aug 11",0,89,55,null,null,null,95.6,59.6,null,null,null,94.9,62,null,null,null,96.2,64,null,null,null,90.941176470588232,56,null,null,0,93,62,77,74,0,80,54,75,73,0,90,57,74,72]
[null,224,"Aug 12",0,90,57,null,null,null,95.5,59.5,null,null,null,94.7,61.8,null,null,null,96,63.8,null,null,null,93.058823529411768,56.470588235294116,null,null,0,93,59,77,73,0,86,54,74,71,0,89,55,74,72]
[null,225,"Aug 13",0,90,56,null,null,null,95.3,59.4,null,null,null,94.6,61.7,null,null,null,95.9,63.7,null,null,null,92,57.411764705882355,null,null,0,92,60,85,73,0,87,58,75,72,0,94,59,74,72]
[null,226,"Aug 14",0,90,56,null,null,null,95.2,59.3,null,null,null,94.5,61.6,null,null,null,95.8,63.5,null,null,null,91.764705882352942,57.470588235294116,null,null,0,84,56,81,68,0,85,57,75,73,0,92,58,74,72]
[null,227,"Aug 15",0,89,54,null,null,null,95.1,59.2,null,null,null,94.4,61.5,null,null,null,95.6,63.4,null,null,null,91.117647058823536,56.823529411764703,null,null,0,87,52,75,72,0,85,56,75,73,0,92,56,76,72]
[null,228,"Aug 16",0,89,53,null,null,null,94.9,59.1,null,null,null,94.2,61.4,null,null,null,95.5,63.3,null,null,null,92.235294117647058,55.647058823529413,null,null,0,91,54,75,72,0,92,55,75,72,0,91,55,74,70]
[null,229,"Aug 17",0,87,53,null,null,null,94.7,59,null,null,null,94,61.3,null,null,null,95.3,63.1,null,null,null,90.941176470588232,54.529411764705884,null,null,0,91,57,75,72,0,89,58,75,73,0,92,56,75,71]
[null,230,"Aug 18",0,86,53,null,null,null,94.6,58.9,null,null,null,93.9,61.2,null,null,null,95.1,63,null,null,null,88.647058823529406,54.882352941176471,null,null,0,91,58,75,73,0,85,56,75,73,0,93,56,75,72]
[null,231,"Aug 19",0,87,51,null,null,null,94.5,58.8,null,null,null,93.8,61.1,null,null,null,95,62.8,null,null,null,88.882352941176464,54.764705882352942,null,null,0,91,58,75,73,0,89,53,75,72,0,88,56,76,72]
[null,232,"Aug 20",0,85,52,null,null,null,94.4,58.7,null,null,null,93.6,61,null,null,null,94.9,62.7,null,null,null,89,55.058823529411768,null,null,0,86,56,75,73,0,91,56,75,72,0,86,55,76,72]
[null,233,"Aug 21",0,87,54,null,null,null,94.3,58.6,null,null,null,93.5,60.9,null,null,null,94.7,62.6,null,null,null,90,56.764705882352942,null,null,0,93,58,76,73,0,82,55,74,72,0,87,56,75,72]
[null,234,"Aug 22",0,87,53,null,null,null,94.2,58.5,null,null,null,93.4,60.8,null,null,null,94.6,62.4,null,null,null,90.470588235294116,56.588235294117645,null,null,0,93,61,76,74,0,83,50,73,71,0,87,56,75,72]
[null,235,"Aug 23",0,88,55,null,null,null,94,58.4,null,null,null,93.2,60.6,null,null,null,94.4,62.2,null,null,null,90.882352941176464,57.176470588235297,null,null,0,91,61,76,74,0,90,53,74,71,0,94,56,76,72]
[null,236,"Aug 24",0,88,54,null,null,null,93.9,58.3,null,null,null,93,60.5,null,null,null,94.3,62,null,null,null,91.117647058823536,56.411764705882355,null,null,0,87,53,75,72,0,96,57,75,72,0,93,63,76,73]
[null,237,"Aug 25",0,87,53,null,null,null,93.8,58.1,null,null,null,92.9,60.4,null,null,null,94.2,61.9,null,null,null,91.647058823529406,56.411764705882355,null,null,0,92,53,81,70,0,101,64,76,73,0,91,59,76,73]
[null,238,"Aug 26",0,87,53,null,null,null,93.6,58,null,null,null,92.8,60.2,null,null,null,94,61.7,null,null,null,90.17647058823529,56.705882352941174,null,null,0,93,56,80,67,0,91,60,77,74,0,94,60,76,73]
[null,239,"Aug 27",0,88,54,null,null,null,93.5,57.8,null,null,null,92.5,60,null,null,null,93.8,61.5,null,null,null,92.058823529411768,55.823529411764703,null,null,0,93,60,74,71,0,87,53,77,73,0,92,63,77,74]
[null,240,"Aug 28",0,88,53,null,null,null,93.3,57.6,null,null,null,92.3,59.8,null,null,null,93.5,61.3,null,null,null,92.058823529411768,56.235294117647058,null,null,0,95,57,74,71,0,77,49,76,72,0,93,59,76,74]
[null,241,"Aug 29",0,88,54,null,null,null,93.2,57.5,null,null,null,92.2,59.6,null,null,null,93.4,61.1,null,null,null,91,57.882352941176471,null,null,0,98,57,74,71,0,77,49,75,71,0,92,57,76,73]
[null,242,"Aug 30",0,85,54,null,null,null,93.1,57.4,null,null,null,92.1,59.5,null,null,null,93.3,60.9,null,null,null,90.117647058823536,56.352941176470587,null,null,0,99,62,75,72,0,79,49,75,71,0,89,55,75,73]
[null,243,"Aug 31",0,87,53,null,null,null,92.9,57.3,null,null,null,91.9,59.4,null,null,null,93.2,60.8,null,null,null,90.764705882352942,55.588235294117645,null,null,0,88,60,74,72,0,84,52,75,71,0,90,56,75,72]
[null,244,"Sep 1",0.01,87,53,null,null,null,92.8,57.2,null,null,null,91.7,59.2,null,null,null,93.1,60.7,null,null,null,91.764705882352942,55.705882352941174,null,null,0,95,59,75,72,0,90,55,76,71,0,90,56,75,72]
[null,245,"Sep 2",0,88,55,null,null,null,92.7,57.1,null,null,null,91.6,59.1,null,null,null,92.9,60.5,null,null,null,91.17647058823529,55.470588235294116,null,null,0,94,62,74,72,0,97,56,76,72,0,94,57,75,72]
[null,246,"Sep 3",0,86,54,null,null,null,92.6,57,null,null,null,91.5,59,null,null,null,92.9,60.4,null,null,null,91,56.823529411764703,null,null,0,97,61,75,72,0,95,58,77,73,0,93,58,75,72]
[null,247,"Sep 4",0,88,53,null,null,null,92.4,56.9,null,null,null,91.3,58.9,null,null,null,92.7,60.2,null,null,null,89.647058823529406,54.941176470588232,null,null,0,92,56,75,72,0,92,57,76,73,0,90,55,75,72]
[null,248,"Sep 5",0,88,54,null,null,null,92.3,56.7,null,null,null,91.1,58.7,null,null,null,92.6,60,null,null,null,89.470588235294116,53.294117647058826,null,null,0,84,53,74,71,0,89,54,76,73,0,89,56,74,72]
[null,249,"Sep 6",0,87,53,null,null,null,92.2,56.6,null,null,null,91,58.5,null,null,null,92.4,59.8,null,null,null,90.529411764705884,53.823529411764703,null,null,0,81,54,74,72,0,89,53,75,72,0,94,55,74,72]
[null,250,"Sep 7",0,89,52,null,null,null,92,56.5,null,null,null,90.8,58.4,null,null,null,92.3,59.6,null,null,null,90.882352941176464,52.823529411764703,null,null,0,84,53,74,70,0,89,53,75,72,0,94,58,74,72]
[null,251,"Sep 8",0,88,52,null,null,null,91.9,56.4,null,null,null,90.6,58.2,null,null,null,92.1,59.5,null,null,null,89.058823529411768,53.058823529411768,null,null,0,90,53,74,70,0,71,52,74,72,0,92,56,74,72]
[null,252,"Sep 9",0,84,51,null,null,null,91.7,56.3,null,null,null,90.5,58,null,null,null,91.9,59.3,null,null,null,85.82352941176471,53.352941176470587,null,null,0,91,55,80,71,0,75,49,73,70,0,97,57,75,72]
[null,253,"Sep 10",0,83,51,null,null,null,91.5,56.2,null,null,null,90.3,57.9,null,null,null,91.8,59.2,null,null,null,86.058823529411768,52.470588235294116,null,null,0,93,58,75,69,0,82,51,73,70,0,97,62,76,73]
[null,254,"Sep 11",0,83,51,null,null,null,91.3,56,null,null,null,90,57.7,null,null,null,91.5,58.9,null,null,null,87.529411764705884,52.705882352941174,null,null,0,96,59,74,70,0,87,52,73,70,0.01,83,63,76,74]
[null,255,"Sep 12",0,84,50,null,null,null,91,55.9,null,null,null,89.7,57.5,null,null,null,91.3,58.7,null,null,null,87.82352941176471,52.470588235294116,null,null,0,87,62,74,72,0,90,53,74,70,0,87,60,75,73]
[null,256,"Sep 13",0,85,52,null,null,null,90.8,55.7,null,null,null,89.4,57.3,null,null,null,91,58.5,null,null,null,85.82352941176471,54.058823529411768,null,null,0,78,56,73,71,0,79,52,73,71,0,90,57,75,73]
[null,257,"Sep 14",0,85,51,null,null,null,90.6,55.5,null,null,null,89.2,57.1,null,null,null,90.8,58.4,null,null,null,86.352941176470594,53.176470588235297,null,null,7.0000000000000007E-2,76,58,73,71,0,82,48,72,70,0,91,62,76,73]
[null,258,"Sep 15",0,83,51,null,null,null,90.4,55.4,null,null,null,89,57,null,null,null,90.6,58.2,null,null,null,85.705882352941174,52.882352941176471,null,null,0,83,55,73,70,0,85,48,72,69,0,89,57,76,73]
[null,259,"Sep 16",0.06,82,50,null,null,null,90.1,55.2,null,null,null,88.8,56.8,null,null,null,90.4,58,null,null,null,84.411764705882348,51.647058823529413,null,null,0,85,56,72,70,0,85,51,72,69,0,82,53,74,71]
[null,260,"Sep 17",0,83,50,null,null,null,89.9,55,null,null,null,88.5,56.5,null,null,null,90.1,57.7,null,null,null,84.647058823529406,52.235294117647058,null,null,0,88,57,73,70,0,83,55,73,70,0,83,51,73,70]
[null,261,"Sep 18",0.01,83,51,null,null,null,89.6,54.7,null,null,null,88.3,56.3,null,null,null,89.9,57.4,null,null,null,86.17647058823529,52.294117647058826,null,null,0,97,56,74,70,0,82,60,73,71,0,89,54,73,70]
[null,262,"Sep 19",0,85,51,null,null,null,89.4,54.5,null,null,null,88.1,56.1,null,null,null,89.6,57.1,null,null,null,85.82352941176471,52.352941176470587,null,null,0,94,61,74,71,0,78,55,73,71,0,92,56,73,71]
[null,263,"Sep 20",0,87,52,null,null,null,89.1,54.3,null,null,null,87.8,55.8,null,null,null,89.4,56.8,null,null,null,86.764705882352942,52.294117647058826,null,null,0,89,58,73,71,0,80,55,73,70,0,94,57,73,71]
[null,264,"Sep 21",0,85,51,null,null,null,88.9,54.1,null,null,null,87.5,55.6,null,null,null,89.2,56.6,null,null,null,87,51.882352941176471,null,null,0,92,58,77,70,0,78,52,72,70,0,95,55,73,71]
[null,265,"Sep 22",0,84,52,null,null,null,88.6,53.8,null,null,null,87.3,55.4,null,null,null,88.9,56.3,null,null,null,86.352941176470594,53.235294117647058,null,null,0,94,58,73,71,0,75,47,71,69,0,94,64,73,71]
[null,266,"Sep 23",0,83,52,null,null,null,88.3,53.6,null,null,null,87,55.1,null,null,null,88.6,56,null,null,null,85.882352941176464,52.058823529411768,null,null,0,94,57,73,71,0,80,47,71,68,0,96,59,73,71]
[null,267,"Sep 24",0.03,83,51,null,null,null,88.1,53.4,null,null,null,86.7,54.9,null,null,null,88.3,55.8,null,null,null,86.764705882352942,50.941176470588232,null,null,0,93,57,73,71,0,86,48,71,68,0,89,60,73,72]
[null,268,"Sep 25",0,82,52,null,null,null,87.9,53.2,null,null,null,86.6,54.7,null,null,null,88.2,55.5,null,null,null,86.647058823529406,52.294117647058826,null,null,0,93,54,72,70,0,91,51,72,68,0,73,53,72,71]
[null,269,"Sep 26",0,82,50,null,null,null,87.7,53.1,null,null,null,86.4,54.5,null,null,null,88,55.3,null,null,null,87.058823529411768,52.941176470588232,null,null,0,96,56,73,70,0,92,53,72,69,0,80,53,71,70]
[null,270,"Sep 27",0,82,50,null,null,null,87.4,52.8,null,null,null,86.2,54.3,null,null,null,87.8,55,null,null,null,84.764705882352942,52.235294117647058,null,null,0,98,58,73,70,0,96,52,72,69,0,85,52,71,69]
[null,271,"Sep 28",0.06,82,51,null,null,null,87.1,52.5,null,null,null,86,54,null,null,null,87.5,54.7,null,null,null,82.941176470588232,51.764705882352942,null,null,0,88,58,73,71,0,96,58,73,70,0,95,56,71,69]
[null,272,"Sep 29",0,85,50,null,null,null,86.9,52.3,null,null,null,85.8,53.8,null,null,null,87.2,54.4,null,null,null,84.294117647058826,51.647058823529413,null,null,0,70,48,71,69,0,95,59,74,71,0,92,58,72,70]
[null,273,"Sep 30",0,85,51,null,null,null,86.6,52,null,null,null,85.5,53.5,null,null,null,87,54.1,null,null,null,84.82352941176471,51.176470588235297,null,null,0,73,42,69,67,0,94,57,74,71,0,80,58,71,70]
[null,274,"Oct 1",0,84,52,null,null,null,86.3,51.7,null,null,null,85.3,53.2,null,null,null,86.7,53.8,null,null,null,82.882352941176464,51.823529411764703,null,null,0,80,41,68,65,0,86,59,74,71,0,81,52,71,69]
[null,275,"Oct 2",0,81,51,null,null,null,86.1,51.5,null,null,null,85,52.9,null,null,null,86.4,53.4,null,null,null,81.882352941176464,50.882352941176471,null,null,0,82,45,68,65,0,91,64,74,72,0,80,55,70,69]
[null,276,"Oct 3",0,81,49,null,null,null,85.8,51.1,null,null,null,84.8,52.6,null,null,null,86.1,53.1,null,null,null,80.82352941176471,48.529411764705884,null,null,0,76,49,68,66,0.34,80,58,74,72,0,72,54,70,69]
[null,277,"Oct 4",0.04,79,49,null,null,null,85.6,51,null,null,null,84.5,52.3,null,null,null,85.9,52.9,null,null,null,77.294117647058826,50.176470588235297,null,null,0,67,41,66,65,0,72,54,73,70,0.09,73,54,70,68]
[null,278,"Oct 5",0,78,48,null,null,null,85.3,50.7,null,null,null,84.2,52.1,null,null,null,85.6,52.6,null,null,null,77.352941176470594,47.352941176470587,null,null,0,69,40,65,63,0.06,68,52,71,69,0.86,67,50,69,67]
[null,279,"Oct 6",0,79,47,null,null,null,84.9,50.4,null,null,null,83.9,51.8,null,null,null,85.3,52.3,null,null,null,80.529411764705884,46.588235294117645,null,null,0,73,40,65,63,0,74,49,70,67,0.09,63,47,67,66]
[null,280,"Oct 7",0,79,48,null,null,null,84.6,50.1,null,null,null,83.5,51.5,null,null,null,84.9,52,null,null,null,81.705882352941174,47.823529411764703,null,null,0,78,43,65,63,0,73,53,70,68,0,69,45,66,65]
[null,281,"Oct 8",0,81,47,null,null,null,84.2,49.9,null,null,null,83.2,51.2,null,null,null,84.5,51.6,null,null,null,81.764705882352942,47.058823529411768,null,null,0,75,44,65,63,0,75,49,69,67,0,74,47,66,64]
[null,282,"Oct 9",0.01,81,48,null,null,null,83.9,49.6,null,null,null,82.9,50.9,null,null,null,84.2,51.3,null,null,null,80.647058823529406,48.411764705882355,null,null,0,76,46,65,63,0,79,50,69,66,0,77,48,66,64]
[null,283,"Oct 10",0.02,80,47,null,null,null,83.6,49.3,null,null,null,82.6,50.6,null,null,null,83.9,50.9,null,null,null,77.529411764705884,47.235294117647058,null,null,0,77,47,65,63,0,85,54,70,66,0,74,53,67,65]
[null,284,"Oct 11",0.02,78,46,null,null,null,83.2,49.1,null,null,null,82.3,50.4,null,null,null,83.6,50.6,null,null,null,77.588235294117652,45.411764705882355,null,null,0,71,47,65,63,0,83,55,70,67,0,78,61,68,66]
[null,285,"Oct 12",0,78,47,null,null,null,82.8,48.7,null,null,null,81.900000000000006,50.1,null,null,null,83.2,50.2,null,null,null,77.411764705882348,47.529411764705884,null,null,0,67,46,65,63,0,86,53,70,67,0,79,55,68,66]
[null,286,"Oct 13",0,76,48,null,null,null,82.3,48.4,null,null,null,81.5,49.8,null,null,null,82.8,49.8,null,null,null,79.294117647058826,46.294117647058826,null,null,1.95,63,56,65,64,0,90,54,70,67,0,83,51,68,65]
[null,287,"Oct 14",0,79,46,null,null,null,81.8,48.1,null,null,null,81,49.4,null,null,null,82.3,49.5,null,null,null,81.588235294117652,47.176470588235297,null,null,0,77,61,67,64,0,94,55,71,67,0,87,55,69,65]
[null,288,"Oct 15",0.02,79,46,null,null,null,81.2,47.8,null,null,null,80.5,49,null,null,null,81.8,49,null,null,null,77.647058823529406,47.647058823529413,null,null,0,79,61,68,66,0,89,55,71,68,0,87,55,69,66]
[null,289,"Oct 16",0,77,47,null,null,null,80.7,47.5,null,null,null,79.900000000000006,48.6,null,null,null,81.3,48.7,null,null,null,76.294117647058826,47.294117647058826,null,null,0,78,60,68,67,0,82,59,70,68,0,78,58,68,67]
[null,290,"Oct 17",0,78,45,null,null,null,80.2,47.2,null,null,null,79.400000000000006,48.3,null,null,null,80.8,48.4,null,null,null,77.529411764705884,44.352941176470587,null,null,0.01,80,58,69,67,0.08,65,52,69,67,0,85,55,68,66]
[null,291,"Oct 18",0,78,45,null,null,null,79.7,46.9,null,null,null,79,47.9,null,null,null,80.3,48,null,null,null,76.764705882352942,44.529411764705884,null,null,0.01,78,52,68,67,0,72,49,68,66,0,85,54,69,66]
[null,292,"Oct 19",0,78,45,null,null,null,79.3,46.5,null,null,null,78.5,47.5,null,null,null,79.8,47.5,null,null,null,75.82352941176471,45.470588235294116,null,null,0.03,66,48,67,65,0,74,51,68,65,0,76,54,68,66]
[null,293,"Oct 20",0,77,45,null,null,null,78.8,46.2,null,null,null,78.099999999999994,47.2,null,null,null,79.400000000000006,47.1,null,null,null,75.647058823529406,45.411764705882355,null,null,0,68,51,66,64,0,80,53,68,66,0,79,50,67,65]
[null,294,"Oct 21",0.01,76,45,null,null,null,78.3,46,null,null,null,77.599999999999994,46.8,null,null,null,78.900000000000006,46.8,null,null,null,76.411764705882348,44.235294117647058,null,null,0,73,46,66,63,0,69,51,68,66,0,79,51,67,65]
[null,295,"Oct 22",0,75,43,null,null,null,77.900000000000006,45.7,null,null,null,77.2,46.5,null,null,null,78.5,46.4,null,null,null,76.588235294117652,43.117647058823529,null,null,0,73,48,65,63,0,70,50,67,65,0,83,50,67,64]
[null,296,"Oct 23",0.05,74,43,null,null,null,77.400000000000006,45.5,null,null,null,76.7,46.2,null,null,null,78.099999999999994,46.1,null,null,null,75.941176470588232,44.117647058823529,null,null,0,77,49,66,63,0.33,66,54,67,66,0,84,50,67,64]
[null,297,"Oct 24",0.1,72,44,null,null,null,76.900000000000006,45.1,null,null,null,76.2,45.9,null,null,null,77.599999999999994,45.8,null,null,null,74.058823529411768,45.352941176470587,null,null,0,77,49,66,63,0.36,66,57,66,65,0,82,49,66,65]
[null,298,"Oct 25",0.02,72,44,null,null,null,76.400000000000006,44.8,null,null,null,75.7,45.6,null,null,null,77.099999999999994,45.4,null,null,null,73.470588235294116,44.117647058823529,null,null,0,75,48,65,63,0,65,48,65,63,0,72,49,66,64]
[null,299,"Oct 26",0.15,72,43,null,null,null,75.900000000000006,44.6,null,null,null,75.099999999999994,45.3,null,null,null,76.7,45.1,null,null,null,74.588235294117652,43.176470588235297,null,null,0,81,52,65,63,0,65,44,63,61,0,71,44,65,63]
[null,300,"Oct 27",0,73,44,null,null,null,75.3,44.4,null,null,null,74.599999999999994,45,null,null,null,76.2,44.9,null,null,null,73.058823529411768,44.117647058823529,null,null,0,65,50,64,61,0,68,38,62,59,0,75,41,63,61]
[null,301,"Oct 28",0.02,70,43,null,null,null,74.8,44.1,null,null,null,74,44.7,null,null,null,75.7,44.6,null,null,null,73.470588235294116,44.176470588235297,null,null,0,63,45,61,59,0,77,45,62,60,0,76,42,63,61]
[null,302,"Oct 29",0.08,68,45,null,null,null,74.2,43.9,null,null,null,73.5,44.4,null,null,null,75.2,44.3,null,null,null,71.17647058823529,43,null,null,0,65,33,60,57,0.04,66,46,62,60,0,76,42,63,61]
[null,303,"Oct 30",0.02,70,42,null,null,null,73.599999999999994,43.7,null,null,null,73,44.2,null,null,null,74.7,44,null,null,null,69.470588235294116,41.705882352941174,null,null,0,73,40,60,58,0.19,60,49,62,61,0,80,45,63,61]
[null,304,"Oct 31",0,71,42,null,null,null,73.099999999999994,43.4,null,null,null,72.5,43.9,null,null,null,74.099999999999994,43.7,null,null,null,69.588235294117652,41.117647058823529,null,null,0,72,41,60,58,0,71,44,62,60,0,78,43,63,61]
[null,305,"Nov 1",0,70,42,null,null,null,72.5,43.2,null,null,null,71.900000000000006,43.6,null,null,null,73.599999999999994,43.4,null,null,null,69.941176470588232,41.529411764705884,null,null,0,74,43,61,58,0.01,71,45,61,59,0,73,43,62,61]
[null,306,"Nov 2",0,69,41,null,null,null,71.900000000000006,43.1,null,null,null,71.3,43.3,null,null,null,73,43.1,null,null,null,70.82352941176471,41.470588235294116,null,null,0,78,44,61,59,0,77,45,62,59,0,74,38,61,56]
[null,307,"Nov 3",0.02,70,41,null,null,null,71.3,42.9,null,null,null,70.7,43.1,null,null,null,72.5,42.9,null,null,null,68.764705882352942,41.411764705882355,null,null,0,80,43,62,59,0,79,48,63,60,0.03,74,41,59,58]
[null,308,"Nov 4",0,72,40,null,null,null,70.7,42.6,null,null,null,70.2,42.8,null,null,null,71.900000000000006,42.5,null,null,null,69.470588235294116,40.176470588235297,null,null,0,77,45,62,59,0.01,79,49,63,60,7.0000000000000007E-2,58,41,59,58]
[null,309,"Nov 5",0,71,41,null,null,null,70,42.4,null,null,null,69.599999999999994,42.4,null,null,null,71.400000000000006,42.2,null,null,null,70.588235294117652,41.588235294117645,null,null,0,71,45,61,59,0,83,53,64,62,0.2,56,35,58,56]
[null,310,"Nov 6",0,68,42,null,null,null,69.400000000000006,42.2,null,null,null,69.099999999999994,42.1,null,null,null,70.900000000000006,41.9,null,null,null,69.17647058823529,41.941176470588232,null,null,0,72,43,61,59,0,72,51,64,62,0,58,40,58,57]
[null,311,"Nov 7",0.03,68,40,null,null,null,68.900000000000006,41.9,null,null,null,68.400000000000006,41.8,null,null,null,70.3,41.6,null,null,null,67.882352941176464,43.882352941176471,null,null,0,66,47,61,60,0.32,57,50,63,61,0,58,36,58,56]
[null,312,"Nov 8",0.02,68,39,null,null,null,68.3,41.7,null,null,null,67.900000000000006,41.5,null,null,null,69.8,41.3,null,null,null,66.117647058823536,42.823529411764703,null,null,0,64,38,60,58,0,60,41,61,59,0.01,63,33,56,55]
[null,313,"Nov 9",0.05,68,39,null,null,null,67.8,41.5,null,null,null,67.400000000000006,41.2,null,null,null,69.3,41,null,null,null,66.235294117647058,41.176470588235297,null,null,0,64,37,59,57,0,64,37,59,57,0,65,35,56,54]
[null,314,"Nov 10",0.08,65,39,null,null,null,67.3,41.3,null,null,null,66.900000000000006,40.9,null,null,null,68.8,40.700000000000003,null,null,null,64.058823529411768,40.941176470588232,null,null,0,63,40,59,57,0,61,44,59,58,0,69,33,56,54]
[null,315,"Nov 11",0,67,39,null,null,null,66.900000000000006,41.1,null,null,null,66.400000000000006,40.6,null,null,null,68.3,40.4,null,null,null,64,41.588235294117645,null,null,0,62,44,59,58,0,63,39,59,56,0.14000000000000001,62,46,56,55]
[null,316,"Nov 12",0.04,66,37,null,null,null,66.5,40.799999999999997,null,null,null,65.900000000000006,40.200000000000003,null,null,null,67.900000000000006,40.1,null,null,null,65.294117647058826,38.705882352941174,null,null,0.01,63,37,59,58,0,64,36,58,55,0.01,64,44,57,56]
[null,317,"Nov 13",0,66,37,null,null,null,66.099999999999994,40.700000000000003,null,null,null,65.5,40,null,null,null,67.400000000000006,39.9,null,null,null,66,39.941176470588232,null,null,0,61,34,58,56,0,63,37,57,55,0,66,43,57,56]
[null,318,"Nov 14",0,64,38,null,null,null,65.7,40.4,null,null,null,65.099999999999994,39.799999999999997,null,null,null,67.099999999999994,39.5,null,null,null,65.941176470588232,39.823529411764703,null,null,0,61,36,57,55,0,69,39,58,55,0,62,46,57,56]
[null,319,"Nov 15",0.02,64,38,null,null,null,65.3,40.200000000000003,null,null,null,64.7,39.5,null,null,null,66.7,39.299999999999997,null,null,null,65.117647058823536,39.647058823529413,null,null,0,65,33,56,54,0,73,42,58,56]
[null,320,"Nov 16",0.05,62,39,null,null,null,64.900000000000006,40,null,null,null,64.3,39.299999999999997,null,null,null,66.400000000000006,39,null,null,null,65.294117647058826,40.764705882352942,null,null,0,70,31,56,53,0,68,42,58,56]
[null,321,"Nov 17",7.0000000000000007E-2,63,39,null,null,null,64.400000000000006,39.799999999999997,null,null,null,63.8,39,null,null,null,65.900000000000006,38.799999999999997,null,null,null,66.058823529411768,40.529411764705884,null,null,0,68,33,55,53,0.01,73,38,58,56]
[null,322,"Nov 18",0.01,64,39,null,null,null,63.9,39.6,null,null,null,63.4,38.799999999999997,null,null,null,65.5,38.5,null,null,null,64.882352941176464,40.705882352941174,null,null,0.01,60,35,56,54,0,71,41,58,56]
[null,323,"Nov 19",0.01,62,38,null,null,null,63.5,39.4,null,null,null,62.9,38.5,null,null,null,65.099999999999994,38.299999999999997,null,null,null,62.823529411764703,38.588235294117645,null,null,0,60,30,54,52,0.17,55,46,58,56]
[null,324,"Nov 20",0.01,63,35,null,null,null,63,39.200000000000003,null,null,null,62.5,38.299999999999997,null,null,null,64.7,38,null,null,null,63.117647058823529,39.529411764705884,null,null,0.14000000000000001,66,34,55,52,0.81,56,44,57,56]
[null,325,"Nov 21",0.01,60,39,null,null,null,62.5,39,null,null,null,62,38,null,null,null,64.2,37.799999999999997,null,null,null,61.764705882352942,38.058823529411768,null,null,0,53,35,54,53,0.05,54,41,56,55]
[null,326,"Nov 22",0.01,62,41,null,null,null,62.1,38.799999999999997,null,null,null,61.5,37.799999999999997,null,null,null,63.8,37.5,null,null,null,62.470588235294116,37.294117647058826,null,null,0,64,32,54,52,0.04,57,44,56,55]
[null,327,"Nov 23",0.01,61,36,null,null,null,61.7,38.700000000000003,null,null,null,61.1,37.6,null,null,null,63.3,37.4,null,null,null,62.176470588235297,36.352941176470587,null,null,0,58,38,54,53,0.22,51,38,56,54]
[null,328,"Nov 24",0.05,61,35,null,null,null,61.3,38.5,null,null,null,60.6,37.4,null,null,null,62.9,37.1,null,null,null,60.588235294117645,35.529411764705884,null,null,0.01,65,33,54,52,0,47,30,55,51]
[null,329,"Nov 25",0.09,60,35,null,null,null,60.9,38.200000000000003,null,null,null,60.2,37.1,null,null,null,62.5,36.799999999999997,null,null,null,61.588235294117645,37.294117647058826,null,null,0,67,32,54,51,0,52,27,51,49]
[null,330,"Nov 26",0.05,59,35,null,null,null,60.6,38.1,null,null,null,59.8,36.9,null,null,null,62.1,36.6,null,null,null,59.117647058823529,36.705882352941174,null,null,0,70,36,54,51,0,55,28,50,48]
[null,331,"Nov 27",0.04,57,36,null,null,null,60.2,37.9,null,null,null,59.4,36.700000000000003,null,null,null,61.7,36.4,null,null,null,57.470588235294116,37,null,null,0.09,58,40,54,52,0.35,47,36,51,50]
[null,332,"Nov 28",0.04,57,36,null,null,null,59.9,37.700000000000003,null,null,null,59,36.4,null,null,null,61.4,36.200000000000003,null,null,null,58.058823529411768,37.117647058823529,null,null,0,65,39,54,52,0,50,36,50,49]
[null,333,"Nov 29",0.03,57,35,null,null,null,59.5,37.5,null,null,null,58.7,36.200000000000003,null,null,null,61,36,null,null,null,57.941176470588232,35.823529411764703,null,null,0,59,30,52,50,0,52,30,50,48]
[null,334,"Nov 30",0.08,59,36,null,null,null,59.2,37.299999999999997,null,null,null,58.3,36,null,null,null,60.7,35.799999999999997,null,null,null,58.647058823529413,35.882352941176471,null,null,0,64,32,52,50,0,53,30,50,48]
[null,335,"Dec 1",0.03,58,35,null,null,null,58.9,37.1,null,null,null,58,35.700000000000003,null,null,null,60.3,35.5,null,null,null,58.411764705882355,36.294117647058826,null,null,0,64,31,51,50,0,56,30,50,48]
[null,336,"Dec 2",0.04,57,35,null,null,null,58.6,36.9,null,null,null,57.7,35.5,null,null,null,60,35.200000000000003,null,null,null,58.588235294117645,35.058823529411768,null,null,0,60,30,51,49,0,53,34,50,48]
[null,337,"Dec 3",0.03,58,34,null,null,null,58.3,36.799999999999997,null,null,null,57.4,35.4,null,null,null,59.7,35.1,null,null,null,57.411764705882355,36.352941176470587,null,null,0,59,28,51,49,0,53,41,51,50]
[null,338,"Dec 4",0.02,58,33,null,null,null,58,36.700000000000003,null,null,null,57.1,35.299999999999997,null,null,null,59.5,35,null,null,null,57.529411764705884,35.647058823529413,null,null,0,61,30,51,49,7.0000000000000007E-2,61,45,53,51]
[null,339,"Dec 5",0.08,57,38,null,null,null,57.8,36.5,null,null,null,56.8,35.200000000000003,null,null,null,59.2,34.799999999999997,null,null,null,57,36.941176470588232,null,null,0,53,30,51,49,0.28000000000000003,62,46,54,53]
[null,340,"Dec 6",0.05,59,37,null,null,null,57.5,36.299999999999997,null,null,null,56.5,35,null,null,null,59,34.700000000000003,null,null,null,56.75,36.6875,null,null,0,49,26,50,48,0,67,46,54,53]
[null,341,"Dec 7",0.06,58,38,null,null,null,57.2,36.200000000000003,null,null,null,56.1,34.9,null,null,null,58.7,34.5,null,null,null,57,37.5625,null,null,0.52,44,29,49,47,0,62,38,54,52]
[null,342,"Dec 8",0.01,56,36,null,null,null,56.9,36,null,null,null,55.8,34.700000000000003,null,null,null,58.4,34.4,null,null,null,56.764705882352942,34.764705882352942,null,null,0.01,49,25,47,45,0.11,56,44,54,52]
[null,343,"Dec 9",0.04,56,36,null,null,null,56.5,35.799999999999997,null,null,null,55.4,34.6,null,null,null,58.1,34.299999999999997,null,null,null,56.705882352941174,36.411764705882355,null,null,0.02,48,25,46,45,0,63,47,55,54]
[null,344,"Dec 10",0.1,56,38,null,null,null,56.2,35.700000000000003,null,null,null,55.1,34.5,null,null,null,57.7,34.1,null,null,null,56.941176470588232,36.882352941176471,null,null,0.06,50,35,48,46,0,66,48,56,54]
[null,345,"Dec 11",0.09,57,37,null,null,null,55.9,35.5,null,null,null,54.8,34.299999999999997,null,null,null,57.4,34,null,null,null,55.176470588235297,36.764705882352942,null,null,0.49,53,42,50,48,0,57,50,56,55]
[null,346,"Dec 12",0.03,55,37,null,null,null,55.7,35.4,null,null,null,54.5,34.200000000000003,null,null,null,57.2,33.799999999999997,null,null,null,54.941176470588232,38,null,null,0.31,56,49,51,50,0,58,54,57,56]
[null,347,"Dec 13",0.01,55,36,null,null,null,55.5,35.4,null,null,null,54.4,34.1,null,null,null,57.1,33.799999999999997,null,null,null,58.235294117647058,37.941176470588232,null,null,0.15,55,42,52,51,0,55,52,57,56]
[null,348,"Dec 14",0.11,53,36,null,null,null,55.3,35.4,null,null,null,54.1,34.1,null,null,null,56.8,33.799999999999997,null,null,null,54.529411764705884,37.764705882352942,null,null,0,61,41,52,51,0.28000000000000003,53,49,56,56]
[null,349,"Dec 15",0.03,53,33,null,null,null,55.1,35.4,null,null,null,53.9,34,null,null,null,56.6,33.799999999999997,null,null,null,55.058823529411768,36.882352941176471,null,null,0,59,39,52,50,0.01,55,40,56,55]
[null,350,"Dec 16",0,52,33,null,null,null,55,35.4,null,null,null,53.6,34,null,null,null,56.4,33.799999999999997,null,null,null,53.529411764705884,34.647058823529413,null,null,0.04,59,42,52,51,0.03,45,39,55,54]
[null,351,"Dec 17",0.03,52,34,null,null,null,54.7,35.299999999999997,null,null,null,53.4,34,null,null,null,56.2,33.799999999999997,null,null,null,53.764705882352942,35.529411764705884,null,null,0,52,40,52,51,0.54,55,44,54,53]
[null,352,"Dec 18",0.01,53,34,null,null,null,54.5,35.299999999999997,null,null,null,53.1,34,null,null,null,55.9,33.799999999999997,null,null,null,53.470588235294116,37.058823529411768,null,null,0,50,44,52,52,0.19,57,52,55,54]
[null,353,"Dec 19",0.02,50,33,null,null,null,54.4,35.200000000000003,null,null,null,52.9,33.9,null,null,null,55.6,33.799999999999997,null,null,null,53.411764705882355,36.411764705882355,null,null,0,55,40,53,51,0.28000000000000003,59,49,55,55]
[null,354,"Dec 20",7.0000000000000007E-2,49,33,null,null,null,54.2,35.200000000000003,null,null,null,52.7,33.9,null,null,null,55.4,33.700000000000003,null,null,null,51.588235294117645,35.705882352941174,null,null,0,57,38,52,51,0.23,52,43,55,54]
[null,355,"Dec 21",0.01,48,31,null,null,null,54,35.200000000000003,null,null,null,52.5,33.9,null,null,null,55.2,33.799999999999997,null,null,null,51.529411764705884,34.941176470588232,null,null,0.23,54,41,52,51,0.03,55,38,54,53]
[null,356,"Dec 22",0.04,48,31,null,null,null,53.9,35.200000000000003,null,null,null,52.4,33.9,null,null,null,55.1,33.799999999999997,null,null,null,53.058823529411768,35.647058823529413,null,null,0,54,37,52,49,0.35,58,49,55,54]
[null,357,"Dec 23",7.0000000000000007E-2,49,29,null,null,null,53.8,35.200000000000003,null,null,null,52.3,34,null,null,null,54.9,33.799999999999997,null,null,null,53.470588235294116,32.764705882352942,null,null,0,51,32,49,48,0,60,41,55,54]
[null,358,"Dec 24",0.12,50,29,null,null,null,53.7,35.299999999999997,null,null,null,52.2,34,null,null,null,54.8,33.799999999999997,null,null,null,52.235294117647058,33.764705882352942,null,null,0,54,28,48,46,0.01,52,40,54,53]
[null,359,"Dec 25",0,49,29,null,null,null,53.6,35.299999999999997,null,null,null,52.1,34,null,null,null,54.7,33.799999999999997,null,null,null,52.411764705882355,32.058823529411768,null,null,0,58,29,48,46,0.43,54,42,53,53]
[null,360,"Dec 26",0,50,30,null,null,null,53.5,35.4,null,null,null,52,34.1,null,null,null,54.7,33.9,null,null,null,54.117647058823529,33.470588235294116,null,null,0.03,50,34,48,46,0,60,38,53,52]
[null,361,"Dec 27",0.02,53,30,null,null,null,53.4,35.5,null,null,null,51.9,34.200000000000003,null,null,null,54.5,34,null,null,null,55.588235294117645,34.352941176470587,null,null,0.05,60,43,49,48,0,56,37,53,52]
[null,362,"Dec 28",0.15,54,33,null,null,null,53.4,35.700000000000003,null,null,null,51.8,34.4,null,null,null,54.4,34.1,null,null,null,53.941176470588232,35.941176470588232,null,null,0.01,47,43,50,49,0.56000000000000005,50,39,52,51]
[null,363,"Dec 29",0.18,54,33,null,null,null,53.4,35.799999999999997,null,null,null,51.8,34.5,null,null,null,54.4,34.200000000000003,null,null,null,54.176470588235297,35.588235294117645,null,null,0.04,55,40,50,49,0.24,54,39,52,51]
[null,364,"Dec 30",0.02,54,33,null,null,null,53.4,35.799999999999997,null,null,null,51.8,34.6,null,null,null,54.5,34.4,null,null,null,54,35.823529411764703,null,null,0.01,59,44,51,50,0,49,31,51,49]
[null,365,"Dec 31",0.21,56,35,null,null,null,50,27,null,null,null,50,27,null,null,null,50,27,null,null,null,55.058823529411768,37,null,null,0,55,45,52,50,0,55,45,52,50]

{"sheet":"weather notes","index":4,"n_rows":26,"n_cols":3,"rows_kept":26,"cut":false,"hidden":false,"merged":[]}
[]
[]
[null,"Updating weather data"]
[]
[null,"1.  Open the minmax data sheet and scroll to the column where you would like to place your data"]
[null,"Name the data set.  Select the first cell where the data will be placed."]
[]
[null,"2. Select a weather station and time frame (usually starts with Jan. 1)"]
[]
[null,"ipm.ucdavis.edu maintains a weather station network that does not require a log in"]
[]
[null,"3.  Download the data as a comma delimited text file and save it to your computer."]
[]
[null,"4.  Open the text file with Excel.  You may need to select \"all file types\" in order to find the file."]
[]
[null,"5.  Choose a comma delimited file and choose the row where the data starts."]
[]
[null,"6.  IF NOT A LEAP YEAR"]
[null,null,"Copy the max and min data from Jan 1 to Feb 28.  Paste the VALUES into the N uptake minmax sheet."]
[null,null,"Then copy the data from Mar 1 to Dec 31 and paste the VALUES into the approprate place in the minmax sheet."]
[null,null,"Another way is to insert a blank row for Feb 29 and copy and paste all the data at once"]
[]
[null,"If it IS a leap year, you can copy all the data and paste the values in as a single step."]
[]
[]
[null,"UC IPM weather network:  http://www.ipm.ucdavis.edu/WEATHER/wxretrieve.html"]

{"sheet":"MinMaxTemplate","index":5,"n_rows":9,"n_cols":6,"rows_kept":9,"cut":false,"hidden":true,"merged":[]}
[]
[]
[]
[]
[]
[]
[]
[]
[null,"Precipitation","Air Max","Air Min","Soil Max Temperature","Soil Min Temperature"]