{"text_format":"1","workbook":"xlsx","n_sheets":8,"sheets":["notes","daily uptake","mineralization","minmax data","weather notes","N release","uptake calcs","MinMaxTemplate"],"not_rendered":{"charts":6,"images":9,"macros":1,"external_links":1,"defined_names":175,"comments":3,"pivot_tables":0},"unopened":[],"bounds":{"document_bytes":16777216,"sheet_cells":100000,"rows_first":2000,"rows_last":500,"rows_between":2000,"halvings":0,"cell_chars":16384,"cell_head_chars":4096},"cells_cut":0,"cells_raw":0,"read":"whole","date_system":"1900"}

{"sheet":"notes","index":0,"n_rows":0,"n_cols":0,"rows_kept":0,"cut":false,"hidden":false,"merged":[]}

{"sheet":"daily uptake","index":1,"n_rows":502,"n_cols":41,"rows_kept":502,"cut":false,"hidden":false,"merged":[[1,5,2,9],[92,6,92,7],[92,13,92,14],[31,39,31,40],[7,14,7,17],[29,6,29,7],[92,18,92,19],[7,3,7,5],[7,7,7,12]]}
[]
[null,null,null,null,null,"Crop Nitrogen Uptake Calculator",null,null,null,null,null,null,null,null,null,null,null,null,null,null,"Marsha Campbell Mathews & David Crohn"]
[null,null,null,null,null,null,null,null,null,null,null,null,null,null,null,"temperature data sources",null,null,null,null,"ver. 1-15-2012     © University of California 2011, 2012"]
[null,null,null,null,null,null,null,null,null,null,null,null,null,null,null," before Jan 1:","Denair 2010"]
[null,null,null,null,null,null,null,null,null,null,null,null,null,null,null," after Jan 1:","Denair 2011"]
[null,null,null,null,null,null,null,null,null,null,null,null,null,null,null,"backup:","Denair avg 1994 - 2010"]
[]
[null,{"$f":"TODAY()","v":"2012-01-17"},"day of season","winter cereal forage",null,null,null,"silage corn",null,null,null,null,null,null,"triple crop sudan",null,null,null,null,null,"calculate uptake between two dates"]
[null,{"$f":"E9","v":"2010-11-01"},1,null,"2010-11-01","WF planting date",null,null,"2011-05-15","corn planting date",null,null,null,null,null,"2011-08-31","sudan planting date",null,null,null,"2010-10-31","date 1"]
[null,null,{"$f":"E10-$E$9+1","v":169},null,"2011-04-18","WF harvest date",null,null,"2011-08-29","corn harvest date",null,null,null,null,null,"2011-10-07","sudan harvest date",null,null,null,"2011-01-16","date 2"]
[null,null,null,null,140,"lbs/A expected N uptake",null,null,250,"lbs/A expected N uptake",null,null,null,null,null,100,"lbs/A expected N uptake",null,null,null,{"$f":"SUMIF(C$95:C$502,\">=\"&C27,L$95:L$502)-SUMIF(C$95:C$502,\">=\"&C28,L$95:L$502)","v":35.53436804574369},"N uptake between dates (lbs N/acre)"]
[null,null,{"$f":"IF(E12>0,E12-$E$9+1,\"\")","v":95},null,"2011-02-03","irrigation date 1",null,null,{"$f":"I9+30","v":"2011-06-14"},"1st irrigation date",null,null,null,null,null,"2011-09-19","irrigation date 1"]
[null,null,{"$f":"IF(E13>0,E13-$E$9+1,\"\")","v":131},null,"2011-03-11","irrigation date 2",null,null,10,"num days between irrigations",null,null,null,null,null,"2011-09-28","irrigation date 2",null,null,null,"Corn GDU date","cumulative corn GDU from planting"]
[null,null,{"$f":"IF(E14>0,E14-$E$9+1,\"\")","v":""},null,null,"irrigation date 3",null,null,{"$f":"VLOOKUP(C23,$C$95:$V$502,$P$94,FALSE)","v":{"$error":"#N/A"}},{"$f":"\"GDUs planting to \"&TEXT(C22,\"mmm d;@\")","v":"GDUs planting to Jan 16"},null,null,null,null,null,null,"irrigation date 3",null,null,null,null,"to this date (yesterday if blank)"]
[null,null,null,null,null,"time of maximum uptake",null,null,{"$f":"VLOOKUP(C20,$C$95:$V$502,$P$94,FALSE)","v":2168.5},"GDU planting to harvest",null,null,null,null,null,null,"irrigation date 4",null,null,null,{"$f":"\"cutoff minimum = \"&cutoff.corn.min&\" ⁰F    cutoff maximum = \"&cutoff.corn.max&\" ⁰F\"","v":"cutoff minimum = 50 ⁰F    cutoff maximum = 95 ⁰F"}]
[]
[null,null,{"$f":"IF(E17>0,E17-$E$9+1,\"\")","v":""}]
[null,"corn planting",{"$f":"IF(I9>0,I9-$E$9+1,\"\")","v":196}]
[null,"yesterday",{"$f":"TODAY()-$E$9-1","v":441}]
[null,"corn harvest",{"$f":"IF(I10>0,I10-$E$9+1,\"\")","v":302}]
[null,"corn 1st irrig",{"$f":"IF(I12>0,I12-$E$9+1,\"\")","v":226}]
[null,"corn GDU thru date",{"$f":"IF(U14>0,U14,TODAY()-1)","v":"2012-01-16"}]
[null,"corn GDU thru day",{"$f":"C22-E9+1","v":442}]
[null,"third planting",{"$f":"IF(P9>0,P9-$E$9+1,I10-$E$9)","v":304}]
[null,"third harvest",{"$f":"IF(P10>0,P10-$E$9+1,I10-$E$9)","v":341}]
[]
[null,"datebetween start",{"$f":"IF(U9-$E$9+1>0,U9-$E$9+1,0)","v":0}]
[null,"datebetween end",{"$f":"IF(U10>0,U10-$E$9+1,\"\")","v":77}]
[]
[null,null,null,null,"date","crop and irrigation number","N uptake lbs/A thru next irrig",null,"cumulative uptake lbs/A\n to date","adjust date",null,null,null,null,null,null,null,null,null,null,null,null,null,null,null,null,"lbs/ac N/period"]
[null,{"$f":"IF(E31=E$42,\"true\",\"false\")","v":"false"},{"$f":"IF(E31>0,E31-$E$9+1,\"\")","v":1},null,{"$f":"E9","v":"2010-11-01"},"winter crop planting",{"$f":"SUM(AA31:AA36)","v":47.45478837979033},null,null,null,null,null,null,null,null,null,null,null,null,null,null,null,null,null,null,null,{"$f":"SUMIF(C$95:C$502,\">=\"&C31,L$95:L$502)-SUMIF(C$95:C$502,\">=\"&C32,L$95:L$502)","v":7.0456451351932401}]
[null,{"$f":"IF(E32=E$42,\"true\",\"false\")","v":"false"},17,null,{"$f":"IF(J32>0,J32,(ROUND((($E$37-$E$31)/6),0)*1)+E$31)","v":"2010-11-17"},null,null,null,{"$f":"IF(B32=\"true\",0,SUM(AA$31:AA31))","v":7.0456451351932401},null,null,null,null,null,null,null,null,null,null,null,null,null,null,null,null,null,5.1591459592577849,null,null,null,null,null,null,null,null,null,null,null,null,"dates for equal number of days in each period"]
[null,"false",33,null,{"$f":"IF(J33>0,J33,(ROUND((($E$37-$E$31)/6),0)*2)+E$31)","v":"2010-12-03"},null,null,null,{"$f":"IF(B33=\"true\",0,SUM(AA$31:AA32))","v":12.204791094451025},null,null,null,null,null,null,null,null,null,null,null,null,null,null,null,null,null,9.5943005422993792,null,null,null,null,null,null,null,null,null,null,null,null,16,"days in period"]
[null,"false",49,null,{"$f":"IF(J34>0,J34,(ROUND((($E$37-$E$31)/6),0)*3)+E$31)","v":"2010-12-19"},null,null,null,{"$f":"IF(B34=\"true\",0,SUM(AA$31:AA33))","v":21.799091636750404},null,null,null,null,null,null,null,null,null,null,null,null,null,null,null,null,null,9.3511539859082404,null,null,null,null,null,null,null,null,null,null,null,null,{"$f":"$E31+$AN$33","v":"2010-11-17"}]
[null,"false",65,null,{"$f":"IF(J35>0,J35,(ROUND((($E$37-$E$31)/6),0)*4)+E$31)","v":"2011-01-04"},null,null,null,{"$f":"IF(B35=\"true\",0,SUM(AA$31:AA34))","v":31.150245622658645},null,null,null,null,null,null,null,null,null,null,null,null,null,null,null,null,null,7.2835874675182595,null,null,null,null,null,null,null,null,null,null,null,null,{"$f":"AN34+$AN$33","v":"2010-12-03"}]
[null,"false",81,null,{"$f":"IF(J36>0,J36,(ROUND((($E$37-$E$31)/6),0)*5)+E$31)","v":"2011-01-20"},null,null,null,{"$f":"IF(B36=\"true\",0,SUM(AA$31:AA35))","v":38.433833090176904},null,null,null,null,null,null,null,null,null,null,null,null,null,null,null,null,null,9.0209552896134255,null,null,null,null,null,null,null,null,null,null,null,null,"2010-12-19"]
[null,"false",95,null,{"$f":"IF(J37>0,J37,IF(E12>0,E12,E$10))","v":"2011-02-03"},"winter crop 1st",{"$f":"SUM(AA37:AA39)","v":36.183222186713238},null,{"$f":"IF(B37=\"true\",0,SUM(AA$31:AA36))","v":47.45478837979033},null,null,null,null,null,null,null,null,null,null,null,null,null,null,null,null,null,11.429726683921103,null,null,null,null,null,null,null,null,null,null,null,null,"2011-01-04"]
[null,"false",107,null,{"$f":"(ROUND((($E$40-$E$37)/3),0)*1)+E$37","v":"2011-02-15"},null,null,null,{"$f":"IF(B38=\"true\",0,SUM(AA$31:AA37))","v":58.884515063711433},null,null,null,null,null,null,null,null,null,null,null,null,null,null,null,null,null,9.6916750092640314,null,null,null,null,null,null,null,null,null,null,null,null,"2011-01-20"]
[null,"false",119,null,{"$f":"(ROUND((($E$40-$E$37)/3),0)*2)+E$37","v":"2011-02-27"},null,null,null,{"$f":"IF(B39=\"true\",0,SUM(AA$31:AA38))","v":68.576190072975464},null,null,null,null,null,null,null,null,null,null,null,null,null,null,null,null,null,15.061820493528103,null,null,null,null,null,null,null,null,null,null,null,null,"2011-02-05"]
[null,"false",131,null,{"$f":"IF(J40>0,J40,IF(E13>0,E13,E$10))","v":"2011-03-11"},"winter crop 2nd",{"$f":"SUM(AA40:AA42)","v":54.424517232281687},null,{"$f":"IF(B40=\"true\",0,SUM(AA$31:AA39))","v":83.638010566503567},null,null,null,null,null,null,null,null,null,null,null,null,null,null,null,null,null,54.424517232281687,null,null,null,null,null,null,null,null,null,null,null,null,"2011-02-21"]
[null,"true",169,null,{"$f":"IF(J41>0,J41,IF(E14>0,E14,E$10))","v":"2011-04-18"},"winter crop 3rd",{"$f":"SUM(AA41:AA43)","v":0},null,{"$f":"IF(B41=\"true\",0,SUM(AA$31:AA40))","v":0},null,null,null,null,null,null,null,null,null,null,null,null,null,null,null,null,null,0,null,null,null,null,null,null,null,null,null,null,null,null,"2011-03-09"]
[null,{"$f":"\"false\"","v":"false"},169,null,{"$f":"E10","v":"2011-04-18"},"winter crop harvest",null,null,{"$f":"IF(B42=\"true\",0,SUM(AA$31:AA41))","v":138.06252779878525},null,null,null,null,null,null,null,null,null,null,null,null,null,null,null,null,null,null,null,null,null,null,null,null,null,null,null,null,null,null,"2011-03-25"]
[null,null,null,null,null,null,null,null,null,null,null,null,null,null,null,null,null,null,null,null,null,null,null,null,null,null,null,null,null,null,null,null,null,null,null,null,null,null,null,"2011-04-10"]
[null,{"$f":"IF(E44=E$55,\"true\",\"false\")","v":"false"},{"$f":"IF(E44>0,E44-$E$9+1,\"\")","v":196},null,{"$f":"I9","v":"2011-05-15"},"corn planting",{"$f":"AA44","v":2.5331020696136193},null,null,null,null,null,null,null,null,null,null,null,null,null,null,null,null,null,null,null,{"$f":"SUMIF(C$95:C$502,\">=\"&C44,L$95:L$502)-SUMIF(C$95:C$502,\">=\"&C45,L$95:L$502)","v":2.5331020696136193},null,null,null,null,null,null,null,null,null,null,null,null,"2011-04-26"]
[null,{"$f":"IF(E45=E$55,\"true\",\"false\")","v":"false"},226,null,{"$f":"IF(J45>0,J45,I12)","v":"2011-06-14"},"corn 1st",14.907390357714348,null,{"$f":"IF(B45=\"true\",0,SUM(AA$44:AA44))","v":2.5331020696136193},null,null,null,null,null,null,null,null,null,null,null,null,null,null,null,null,null,14.907390357714348]
[null,"false",236,null,{"$f":"IF(J46>0,J46,IF((E45+I$13)<E$55-5,E45+I$13,E$55))","v":"2011-06-24"},"corn 2nd",16.551429487484256,null,{"$f":"IF(B46=\"true\",0,SUM(AA$44:AA45))","v":17.440492427327968},null,null,null,null,null,null,null,null,null,null,null,null,null,null,null,null,null,16.551429487484256,null,null,null,null,null,null,null,null,null,null,null,null,11,"days in period"]
[null,"false",246,null,"2011-07-04","corn 3rd",71.229852226467926,null,{"$f":"IF(B47=\"true\",0,SUM(AA$44:AA46))","v":33.991921914812224},null,null,null,null,null,null,null,null,null,null,null,null,null,null,null,null,null,71.229852226467926,null,null,null,null,null,null,null,null,null,null,null,null,{"$f":"$E44+$AN$46","v":"2011-05-26"}]
[null,"false",256,null,"2011-07-14","corn 4th",83.865207666934737,null,{"$f":"IF(B48=\"true\",0,SUM(AA$44:AA47))","v":105.22177414128015},null,null,null,null,null,null,null,null,null,null,null,null,null,null,null,null,null,83.865207666934737,null,null,null,null,null,null,null,null,null,null,null,null,{"$f":"AN47+$AN$46","v":"2011-06-06"}]
[null,"false",266,null,"2011-07-24","corn 5th",11.159234657321178,null,{"$f":"IF(B49=\"true\",0,SUM(AA$44:AA48))","v":189.08698180821489},null,null,null,null,null,null,null,null,null,null,null,null,null,null,null,null,null,11.159234657321178,null,null,null,null,null,null,null,null,null,null,null,null,"2011-06-17"]
[null,"false",276,null,"2011-08-03","corn 6th",0,null,{"$f":"IF(B50=\"true\",0,SUM(AA$44:AA49))","v":200.24621646553607},null,null,null,null,null,null,null,null,null,null,null,null,null,null,null,null,null,0,null,null,null,null,null,null,null,null,null,null,null,null,"2011-06-28"]
[null,"false",286,null,"2011-08-13","corn 7th",20.862209199250401,null,{"$f":"IF(B51=\"true\",0,SUM(AA$44:AA50))","v":200.24621646553607},null,null,null,null,null,null,null,null,null,null,null,null,null,null,null,null,null,20.862209199250401,null,null,null,null,null,null,null,null,null,null,null,null,"2011-07-09"]
[null,"false",296,null,"2011-08-23","corn 8th",24.520122811891454,null,{"$f":"IF(B52=\"true\",0,SUM(AA$44:AA51))","v":221.10842566478647},null,null,null,null,null,null,null,null,null,null,null,null,null,null,null,null,null,24.520122811891454,null,null,null,null,null,null,null,null,null,null,null,null,"2011-07-20"]
[null,"true",302,null,"2011-08-29","corn 9th",0,null,{"$f":"IF(B53=\"true\",0,SUM(AA$44:AA52))","v":0},null,null,null,null,null,null,null,null,null,null,null,null,null,null,null,null,null,0,null,null,null,null,null,null,null,null,null,null,null,null,"2011-07-31"]
[null,"true",302,null,"2011-08-29","corn 10th",0,null,{"$f":"IF(B54=\"true\",0,SUM(AA$44:AA53))","v":0},null,null,null,null,null,null,null,null,null,null,null,null,null,null,null,null,null,0,null,null,null,null,null,null,null,null,null,null,null,null,"2011-08-11"]
[null,{"$f":"\"false\"","v":"false"},302,null,{"$f":"I10","v":"2011-08-29"},"corn harvest",0,null,{"$f":"IF(B55=\"true\",0,SUM(AA$44:AA54))","v":245.62854847667791},null,null,null,null,null,null,null,null,null,null,null,null,null,null,null,null,null,null,null,null,null,null,null,null,null,null,null,null,null,null,"2011-08-22"]
[null,null,null,null,null,null,null,null,null,null,null,null,null,null,null,null,null,null,null,null,null,null,null,null,null,null,null,null,null,null,null,null,null,null,null,null,null,null,null,"2011-09-02"]
[null,{"$f":"IF(E57=E$62,\"true\",\"false\")","v":"false"},{"$f":"IF(E57>0,E57-$E$9+1,\"\")","v":304},null,{"$f":"IF(P9>0,P9,E55)","v":"2011-08-31"},"triple crop planting",{"$f":"AA57","v":29.520630604748888},null,null,null,null,null,null,null,null,null,null,null,null,null,null,null,null,null,null,null,{"$f":"SUMIF(C$95:C$502,\">=\"&C57,L$95:L$502)-SUMIF(C$95:C$502,\">=\"&C58,L$95:L$502)","v":29.520630604748888},null,null,null,null,null,null,null,null,null,null,null,null,"2011-09-13"]
[null,{"$f":"IF(E58=E$62,\"true\",\"false\")","v":"false"},323,null,{"$f":"IF(J58>0,J58,IF(P12>0,P12,E$62))","v":"2011-09-19"},"triple crop 1st",{"$f":"AA58","v":28.802212962647367},null,{"$f":"IF(B58=\"true\",0,SUM(AA$57:AA57))","v":29.520630604748888},null,null,null,null,null,null,null,null,null,null,null,null,null,null,null,null,null,{"$f":"SUMIF(C$95:C$502,\">=\"&C58,L$95:L$502)-SUMIF(C$95:C$502,\">=\"&C59,L$95:L$502)","v":28.802212962647367}]
[null,{"$f":"IF(E59=E$62,\"true\",\"false\")","v":"false"},332,null,{"$f":"IF(J59>0,J59,IF(P13>0,P13,E$62))","v":"2011-09-28"},"triple crop 2nd",{"$f":"AA59","v":37.830911386613813},null,{"$f":"IF(B59=\"true\",0,SUM(AA$57:AA58))","v":58.322843567396255},null,null,null,null,null,null,null,null,null,null,null,null,null,null,null,null,null,{"$f":"SUMIF(C$95:C$502,\">=\"&C59,L$95:L$502)-SUMIF(C$95:C$502,\">=\"&C60,L$95:L$502)","v":37.830911386613813}]
[null,{"$f":"IF(E60=E$62,\"true\",\"false\")","v":"true"},341,null,{"$f":"IF(J60>0,J60,IF(P14>0,P14,E$62))","v":"2011-10-07"},"triple crop 3rd",{"$f":"AA60","v":0},null,{"$f":"IF(B60=\"true\",0,SUM(AA$57:AA59))","v":0},null,null,null,null,null,null,null,null,null,null,null,null,null,null,null,null,null,{"$f":"SUMIF(C$95:C$502,\">=\"&C60,L$95:L$502)-SUMIF(C$95:C$502,\">=\"&C61,L$95:L$502)","v":0}]
[null,{"$f":"IF(E61=E$62,\"true\",\"false\")","v":"true"},341,null,{"$f":"IF(J61>0,J61,IF(P15>0,P15,E$62))","v":"2011-10-07"},"triple crop 4th",{"$f":"AA61","v":0},null,{"$f":"IF(B61=\"true\",0,SUM(AA$57:AA60))","v":0},null,null,null,null,null,null,null,null,null,null,null,null,null,null,null,null,null,{"$f":"SUMIF(C$95:C$502,\">=\"&C61,L$95:L$502)-SUMIF(C$95:C$502,\">=\"&C62,L$95:L$502)","v":0}]
[null,{"$f":"\"false\"","v":"false"},341,null,{"$f":"IF(P10>0,P10,E57)","v":"2011-10-07"},"triple crop harvest",null,null,{"$f":"IF(B62=\"true\",0,SUM(AA$57:AA61))","v":96.153754954010068}]
[]
[]
[]
[]
[]
[]
[]
[]
[]
[]
[]
[]
[]
[]
[]
[]
[]
[]
[]
[]
[]
[]
[]
[]
[]
[null,null,null,null,null,null,null,null,null,null,null,null,null,null,null,null,null,null,null,null,"primary year 1:",{"$f":"PrimaryYear1","v":"Denair 2010"}]
[null,null,null,null,null,null,null,null,null,null,null,null,null,null,null,"forage","corn",null,null,null,"primary year 2:",{"$f":"PrimaryYear2","v":"Denair 2011"}]
[null,null,null,null,null,null,null,null,null,null,null,null,null,"max cutoff",null,75,95,null,null,null,"Backup year:",{"$f":"BackupYear","v":"Denair avg 1994 - 2010"}]
[null,null,null,null,null,null,null,null,null,null,null,null,null,"min cutoff",null,45,50]
[null,null,null,null,null,null,{"$f":"SUM(G95:G502)","v":140},null,{"$f":"SUM(I95:I502)","v":250},{"$f":"SUM(J95:J502)","v":100},null,null,null,null,null,null,null,null,null,null,"these are in °F"]
[null,null,"day of season",null,null,"date","cereal lbs N/A per day",null,"Corn lbs N per day","Sudan lbs N per day",null,"lbs N/day, all",null," corn GDU",null,"Cumulative corn GDU"," forage GDD",null,"mean daily temp.",null,"air maximum temperature","air minimum temperature","data source for max","data source for min"]
[null,null,{"$f":"COLUMN(C94)-COLUMN($C94)+1","v":1},null,null,{"$f":"COLUMN(F94)-COLUMN($C94)+1","v":4},{"$f":"COLUMN(G94)-COLUMN($C94)+1","v":5},null,{"$f":"COLUMN(I94)-COLUMN($C94)+1","v":7},8,null,{"$f":"COLUMN(L94)-COLUMN($C94)+1","v":10},11,12,13,14,15,null,{"$f":"COLUMN(S94)-COLUMN($C94)+1","v":17},null,{"$f":"COLUMN(U94)-COLUMN($C94)+1","v":19},{"$f":"COLUMN(V94)-COLUMN($C94)+1","v":20}]
[null,null,1,null,null,{"$f":"E9","v":"2010-11-01"},{"$f":"'uptake calcs'!M12","v":0.39322825405444589},null,{"$f":"'uptake calcs'!L12","v":0},{"$f":"'uptake calcs'!N12","v":0},null,{"$f":"SUM(G95:J95)","v":0.39322825405444589},null,{"$f":"IF($U95>cutoff.corn.min,((IF($U95>cutoff.corn.max,cutoff.corn.max,$U95)+IF($V95<cutoff.corn.min,cutoff.corn.min,$V95))/2)-cutoff.corn.min,0)","v":10.5},null,{"$f":"IF(AND(C95>=C$44,C95<=$C$55),N95+P94,0)","v":0},{"$f":"((U95+V95)/2)-32","v":26},null,{"$f":"AVERAGE(U95:V95)","v":58},null,71,45,"Year 1","Year 1"]
[null,null,2,null,null,{"$f":"F95+1","v":"2010-11-02"},{"$f":"MAX('uptake calcs'!M13-'uptake calcs'!M12,0)","v":0.45069015635872128},null,{"$f":"MAX('uptake calcs'!L13-'uptake calcs'!L12,0)","v":0},{"$f":"MAX('uptake calcs'!N13-'uptake calcs'!N12,0)","v":0},null,0.45069015635872128,null,{"$f":"IF($U96>cutoff.corn.min,((IF($U96>cutoff.corn.max,cutoff.corn.max,$U96)+IF($V96<cutoff.corn.min,cutoff.corn.min,$V96))/2)-cutoff.corn.min,0)","v":13.5},null,0,29,null,61,null,77,45,"Year 1","Year 1"]
[null,null,3,null,null,{"$f":"F96+1","v":"2010-11-03"},{"$f":"MAX('uptake calcs'!M14-'uptake calcs'!M13,0)","v":0.50433735579038719},null,{"$f":"MAX('uptake calcs'!L14-'uptake calcs'!L13,0)","v":0},{"$f":"MAX('uptake calcs'!N14-'uptake calcs'!N13,0)","v":0},null,0.50433735579038719,null,14.5,null,0,31.5,null,63.5,null,79,48,"Year 1","Year 1"]
[null,null,4,null,null,"2010-11-04",{"$f":"MAX('uptake calcs'!M15-'uptake calcs'!M14,0)","v":0.52852125988770693},null,{"$f":"MAX('uptake calcs'!L15-'uptake calcs'!L14,0)","v":0},{"$f":"MAX('uptake calcs'!N15-'uptake calcs'!N14,0)","v":0},null,0.52852125988770693,null,14.5,null,0,32,null,64,null,79,49,"Year 1","Year 1"]
[null,null,5,null,null,"2010-11-05",{"$f":"MAX('uptake calcs'!M16-'uptake calcs'!M15,0)","v":0.61460703010431805},null,{"$f":"MAX('uptake calcs'!L16-'uptake calcs'!L15,0)","v":0},{"$f":"MAX('uptake calcs'!N16-'uptake calcs'!N15,0)","v":0},null,0.61460703010431805,null,18,null,0,36,null,68,null,83,53,"Year 1","Year 1"]
[null,null,6,null,null,"2010-11-06",{"$f":"MAX('uptake calcs'!M17-'uptake calcs'!M16,0)","v":0.51985355149568235},null,{"$f":"MAX('uptake calcs'!L17-'uptake calcs'!L16,0)","v":0},{"$f":"MAX('uptake calcs'!N17-'uptake calcs'!N16,0)","v":0},null,0.51985355149568235,null,11.5,null,0,29.5,null,61.5,null,72,51,"Year 1","Year 1"]
[null,null,7,null,null,"2010-11-07",{"$f":"MAX('uptake calcs'!M18-'uptake calcs'!M17,0)","v":0.3882911445601378},null,{"$f":"MAX('uptake calcs'!L18-'uptake calcs'!L17,0)","v":0},{"$f":"MAX('uptake calcs'!N18-'uptake calcs'!N17,0)","v":0},null,0.3882911445601378,null,3.5,null,0,21.5,null,53.5,null,57,50,"Year 1","Year 1"]
[null,null,8,null,null,"2010-11-08",{"$f":"MAX('uptake calcs'!M19-'uptake calcs'!M18,0)","v":0.34057998962617742},null,{"$f":"MAX('uptake calcs'!L19-'uptake calcs'!L18,0)","v":0},{"$f":"MAX('uptake calcs'!N19-'uptake calcs'!N18,0)","v":0},null,0.34057998962617742,null,5,null,0,18.5,null,50.5,null,60,41,"Year 1","Year 1"]
[null,null,9,null,null,"2010-11-09",{"$f":"MAX('uptake calcs'!M20-'uptake calcs'!M19,0)","v":0.34665402305735826},null,{"$f":"MAX('uptake calcs'!L20-'uptake calcs'!L19,0)","v":0},{"$f":"MAX('uptake calcs'!N20-'uptake calcs'!N19,0)","v":0},null,0.34665402305735826,null,7,null,0,18.5,null,50.5,null,64,37,"Year 1","Year 1"]
[null,null,10,null,null,"2010-11-10",{"$f":"MAX('uptake calcs'!M21-'uptake calcs'!M20,0)","v":0.39132869183064489},null,{"$f":"MAX('uptake calcs'!L21-'uptake calcs'!L20,0)","v":0},{"$f":"MAX('uptake calcs'!N21-'uptake calcs'!N20,0)","v":0},null,0.39132869183064489,null,5.5,null,0,20.5,null,52.5,null,61,44,"Year 1","Year 1"]
[null,null,11,null,null,"2010-11-11",{"$f":"MAX('uptake calcs'!M22-'uptake calcs'!M21,0)","v":0.36955118879601301},null,{"$f":"MAX('uptake calcs'!L22-'uptake calcs'!L21,0)","v":0},{"$f":"MAX('uptake calcs'!N22-'uptake calcs'!N21,0)","v":0},null,0.36955118879601301,null,6.5,null,0,19,null,51,null,63,39,"Year 1","Year 1"]
[null,null,12,null,null,"2010-11-12",{"$f":"MAX('uptake calcs'!M23-'uptake calcs'!M22,0)","v":0.35627282371619362},null,{"$f":"MAX('uptake calcs'!L23-'uptake calcs'!L22,0)","v":0},{"$f":"MAX('uptake calcs'!N23-'uptake calcs'!N22,0)","v":0},null,0.35627282371619362,null,7,null,0,18,null,50,null,64,36,"Year 1","Year 1"]
[null,null,13,null,null,"2010-11-13",{"$f":"MAX('uptake calcs'!M24-'uptake calcs'!M23,0)","v":0.36235927595528228},null,{"$f":"MAX('uptake calcs'!L24-'uptake calcs'!L23,0)","v":0},{"$f":"MAX('uptake calcs'!N24-'uptake calcs'!N23,0)","v":0},null,0.36235927595528228,null,6.5,null,0,18,null,50,null,63,37,"Year 1","Year 1"]
[null,null,14,null,null,"2010-11-14",{"$f":"MAX('uptake calcs'!M25-'uptake calcs'!M24,0)","v":0.45126622774019243},null,{"$f":"MAX('uptake calcs'!L25-'uptake calcs'!L24,0)","v":0},{"$f":"MAX('uptake calcs'!N25-'uptake calcs'!N24,0)","v":0},null,0.45126622774019243,null,9.5,null,0,22,null,54,null,69,39,"Year 1","Year 1"]
[null,null,15,null,null,"2010-11-15",{"$f":"MAX('uptake calcs'!M26-'uptake calcs'!M25,0)","v":0.53477912970061059},null,{"$f":"MAX('uptake calcs'!L26-'uptake calcs'!L25,0)","v":0},{"$f":"MAX('uptake calcs'!N26-'uptake calcs'!N25,0)","v":0},null,0.53477912970061059,null,11.5,null,0,25.5,null,57.5,null,73,42,"Year 1","Year 1"]
[null,null,16,null,null,"2010-11-16",{"$f":"MAX('uptake calcs'!M27-'uptake calcs'!M26,0)","v":0.49332503251940008},null,{"$f":"MAX('uptake calcs'!L27-'uptake calcs'!L26,0)","v":0},{"$f":"MAX('uptake calcs'!N27-'uptake calcs'!N26,0)","v":0},null,0.49332503251940008,null,9,null,0,23,null,55,null,68,42,"Year 1","Year 1"]
[null,null,17,null,null,"2010-11-17",{"$f":"MAX('uptake calcs'!M28-'uptake calcs'!M27,0)","v":0.51498236068559855},null,{"$f":"MAX('uptake calcs'!L28-'uptake calcs'!L27,0)","v":0},{"$f":"MAX('uptake calcs'!N28-'uptake calcs'!N27,0)","v":0},null,0.51498236068559855,null,11.5,null,0,23.5,null,55.5,null,73,38,"Year 1","Year 1"]
[null,null,18,null,null,"2010-11-18",{"$f":"MAX('uptake calcs'!M29-'uptake calcs'!M28,0)","v":0.53753044984197018},null,{"$f":"MAX('uptake calcs'!L29-'uptake calcs'!L28,0)","v":0},{"$f":"MAX('uptake calcs'!N29-'uptake calcs'!N28,0)","v":0},null,0.53753044984197018,null,10.5,null,0,24,null,56,null,71,41,"Year 1","Year 1"]
[null,null,19,null,null,"2010-11-19",{"$f":"MAX('uptake calcs'!M30-'uptake calcs'!M29,0)","v":0.42246026785263346},null,{"$f":"MAX('uptake calcs'!L30-'uptake calcs'!L29,0)","v":0},{"$f":"MAX('uptake calcs'!N30-'uptake calcs'!N29,0)","v":0},null,0.42246026785263346,null,2.5,null,0,18.5,null,50.5,null,55,46,"Year 1","Year 1"]
[null,null,20,null,null,"2010-11-20",{"$f":"MAX('uptake calcs'!M31-'uptake calcs'!M30,0)","v":0.41791398631134236},null,{"$f":"MAX('uptake calcs'!L31-'uptake calcs'!L30,0)","v":0},{"$f":"MAX('uptake calcs'!N31-'uptake calcs'!N30,0)","v":0},null,0.41791398631134236,null,3,null,0,18,null,50,null,56,44,"Year 1","Year 1"]
[null,null,21,null,null,"2010-11-21",{"$f":"MAX('uptake calcs'!M32-'uptake calcs'!M31,0)","v":0.36536325101073963},null,{"$f":"MAX('uptake calcs'!L32-'uptake calcs'!L31,0)","v":0},{"$f":"MAX('uptake calcs'!N32-'uptake calcs'!N31,0)","v":0},null,0.36536325101073963,null,2,null,0,15.5,null,47.5,null,54,41,"Year 1","Year 1"]
[null,null,22,null,null,"2010-11-22",{"$f":"MAX('uptake calcs'!M33-'uptake calcs'!M32,0)","v":0.44280754493440533},null,{"$f":"MAX('uptake calcs'!L33-'uptake calcs'!L32,0)","v":0},{"$f":"MAX('uptake calcs'!N33-'uptake calcs'!N32,0)","v":0},null,0.44280754493440533,null,3.5,null,0,18.5,null,50.5,null,57,44,"Year 1","Year 1"]
[null,null,23,null,null,"2010-11-23",{"$f":"MAX('uptake calcs'!M34-'uptake calcs'!M33,0)","v":0.30338081126928884},null,{"$f":"MAX('uptake calcs'!L34-'uptake calcs'!L33,0)","v":0},{"$f":"MAX('uptake calcs'!N34-'uptake calcs'!N33,0)","v":0},null,0.30338081126928884,null,0.5,null,0,12.5,null,44.5,null,51,38,"Year 1","Year 1"]
[null,null,24,null,null,"2010-11-24",{"$f":"MAX('uptake calcs'!M35-'uptake calcs'!M34,0)","v":0.15910286404652929},null,{"$f":"MAX('uptake calcs'!L35-'uptake calcs'!L34,0)","v":0},{"$f":"MAX('uptake calcs'!N35-'uptake calcs'!N34,0)","v":0},null,0.15910286404652929,null,0,null,0,6.5,null,38.5,null,47,30,"Year 1","Year 1"]
[null,null,25,null,null,"2010-11-25",{"$f":"MAX('uptake calcs'!M36-'uptake calcs'!M35,0)","v":0.18472994197037274},null,{"$f":"MAX('uptake calcs'!L36-'uptake calcs'!L35,0)","v":0},{"$f":"MAX('uptake calcs'!N36-'uptake calcs'!N35,0)","v":0},null,0.18472994197037274,null,1,null,0,7.5,null,39.5,null,52,27,"Year 1","Year 1"]
[null,null,26,null,null,"2010-11-26",{"$f":"MAX('uptake calcs'!M37-'uptake calcs'!M36,0)","v":0.23576823891615639},null,{"$f":"MAX('uptake calcs'!L37-'uptake calcs'!L36,0)","v":0},{"$f":"MAX('uptake calcs'!N37-'uptake calcs'!N36,0)","v":0},null,0.23576823891615639,null,2.5,null,0,9.5,null,41.5,null,55,28,"Year 1","Year 1"]
[null,null,27,null,null,"2010-11-27",{"$f":"MAX('uptake calcs'!M38-'uptake calcs'!M37,0)","v":0.23776510030950426},null,{"$f":"MAX('uptake calcs'!L38-'uptake calcs'!L37,0)","v":0},{"$f":"MAX('uptake calcs'!N38-'uptake calcs'!N37,0)","v":0},null,0.23776510030950426,null,0,null,0,9.5,null,41.5,null,47,36,"Year 1","Year 1"]
[null,null,28,null,null,"2010-11-28",{"$f":"MAX('uptake calcs'!M39-'uptake calcs'!M38,0)","v":0.2778169214760986},null,{"$f":"MAX('uptake calcs'!L39-'uptake calcs'!L38,0)","v":0},{"$f":"MAX('uptake calcs'!N39-'uptake calcs'!N38,0)","v":0},null,0.2778169214760986,null,0,null,0,11,null,43,null,50,36,"Year 1","Year 1"]
[null,null,29,null,null,"2010-11-29",{"$f":"MAX('uptake calcs'!M40-'uptake calcs'!M39,0)","v":0.22932022087826809},null,{"$f":"MAX('uptake calcs'!L40-'uptake calcs'!L39,0)","v":0},{"$f":"MAX('uptake calcs'!N40-'uptake calcs'!N39,0)","v":0},null,0.22932022087826809,null,1,null,0,9,null,41,null,52,30,"Year 1","Year 1"]
[null,null,30,null,null,"2010-11-30",{"$f":"MAX('uptake calcs'!M41-'uptake calcs'!M40,0)","v":0.24403974091696057},null,{"$f":"MAX('uptake calcs'!L41-'uptake calcs'!L40,0)","v":0},{"$f":"MAX('uptake calcs'!N41-'uptake calcs'!N40,0)","v":0},null,0.24403974091696057,null,1.5,null,0,9.5,null,41.5,null,53,30,"Year 1","Year 1"]
[null,null,31,null,null,"2010-12-01",{"$f":"MAX('uptake calcs'!M42-'uptake calcs'!M41,0)","v":0.28512704904489006},null,{"$f":"MAX('uptake calcs'!L42-'uptake calcs'!L41,0)","v":0},{"$f":"MAX('uptake calcs'!N42-'uptake calcs'!N41,0)","v":0},null,0.28512704904489006,null,3,null,0,11,null,43,null,56,30,"Year 1","Year 1"]
[null,null,32,null,null,"2010-12-02",{"$f":"MAX('uptake calcs'!M43-'uptake calcs'!M42,0)","v":0.30103720979301762},null,{"$f":"MAX('uptake calcs'!L43-'uptake calcs'!L42,0)","v":0},{"$f":"MAX('uptake calcs'!N43-'uptake calcs'!N42,0)","v":0},null,0.30103720979301762,null,1.5,null,0,11.5,null,43.5,null,53,34,"Year 1","Year 1"]
[null,null,33,null,null,"2010-12-03",{"$f":"MAX('uptake calcs'!M44-'uptake calcs'!M43,0)","v":0.39722188525249003},null,{"$f":"MAX('uptake calcs'!L44-'uptake calcs'!L43,0)","v":0},{"$f":"MAX('uptake calcs'!N44-'uptake calcs'!N43,0)","v":0},null,0.39722188525249003,null,1.5,null,0,15,null,47,null,53,41,"Year 1","Year 1"]
[null,null,34,null,null,"2010-12-04",{"$f":"MAX('uptake calcs'!M45-'uptake calcs'!M44,0)","v":0.56487111053233541},null,{"$f":"MAX('uptake calcs'!L45-'uptake calcs'!L44,0)","v":0},{"$f":"MAX('uptake calcs'!N45-'uptake calcs'!N44,0)","v":0},null,0.56487111053233541,null,5.5,null,0,21,null,53,null,61,45,"Year 1","Year 1"]
[null,null,35,null,null,"2010-12-05",{"$f":"MAX('uptake calcs'!M46-'uptake calcs'!M45,0)","v":0.60285160245914149},null,{"$f":"MAX('uptake calcs'!L46-'uptake calcs'!L45,0)","v":0},{"$f":"MAX('uptake calcs'!N46-'uptake calcs'!N45,0)","v":0},null,0.60285160245914149,null,6,null,0,22,null,54,null,62,46,"Year 1","Year 1"]
[null,null,36,null,null,"2010-12-06",{"$f":"MAX('uptake calcs'!M47-'uptake calcs'!M46,0)","v":0.68486900585519273},null,{"$f":"MAX('uptake calcs'!L47-'uptake calcs'!L46,0)","v":0},{"$f":"MAX('uptake calcs'!N47-'uptake calcs'!N46,0)","v":0},null,0.68486900585519273,null,8.5,null,0,24.5,null,56.5,null,67,46,"Year 1","Year 1"]
[null,null,37,null,null,"2010-12-07",{"$f":"MAX('uptake calcs'!M48-'uptake calcs'!M47,0)","v":0.51234702471052174},null,{"$f":"MAX('uptake calcs'!L48-'uptake calcs'!L47,0)","v":0},{"$f":"MAX('uptake calcs'!N48-'uptake calcs'!N47,0)","v":0},null,0.51234702471052174,null,6,null,0,18,null,50,null,62,38,"Year 1","Year 1"]
[null,null,38,null,null,"2010-12-08",{"$f":"MAX('uptake calcs'!M49-'uptake calcs'!M48,0)","v":0.52020358803499889},null,{"$f":"MAX('uptake calcs'!L49-'uptake calcs'!L48,0)","v":0},{"$f":"MAX('uptake calcs'!N49-'uptake calcs'!N48,0)","v":0},null,0.52020358803499889,null,3,null,0,18,null,50,null,56,44,"Year 1","Year 1"]
[null,null,39,null,null,"2010-12-09",{"$f":"MAX('uptake calcs'!M50-'uptake calcs'!M49,0)","v":0.67625279032884045},null,{"$f":"MAX('uptake calcs'!L50-'uptake calcs'!L49,0)","v":0},{"$f":"MAX('uptake calcs'!N50-'uptake calcs'!N49,0)","v":0},null,0.67625279032884045,null,6.5,null,0,23,null,55,null,63,47,"Year 1","Year 1"]
[null,null,40,null,null,"2010-12-10",{"$f":"MAX('uptake calcs'!M51-'uptake calcs'!M50,0)","v":0.74991369215517167},null,{"$f":"MAX('uptake calcs'!L51-'uptake calcs'!L50,0)","v":0},{"$f":"MAX('uptake calcs'!N51-'uptake calcs'!N50,0)","v":0},null,0.74991369215517167,null,8,null,0,25,null,57,null,66,48,"Year 1","Year 1"]
[null,null,41,null,null,"2010-12-11",{"$f":"MAX('uptake calcs'!M52-'uptake calcs'!M51,0)","v":0.65744123239245056},null,{"$f":"MAX('uptake calcs'!L52-'uptake calcs'!L51,0)","v":0},{"$f":"MAX('uptake calcs'!N52-'uptake calcs'!N51,0)","v":0},null,0.65744123239245056,null,3.5,null,0,21.5,null,53.5,null,57,50,"Year 1","Year 1"]
[null,null,42,null,null,"2010-12-12",{"$f":"MAX('uptake calcs'!M53-'uptake calcs'!M52,0)","v":0.74770783422665232},null,{"$f":"MAX('uptake calcs'!L53-'uptake calcs'!L52,0)","v":0},{"$f":"MAX('uptake calcs'!N53-'uptake calcs'!N52,0)","v":0},null,0.74770783422665232,null,6,null,0,24,null,56,null,58,54,"Year 1","Year 1"]
[null,null,43,null,null,"2010-12-13",{"$f":"MAX('uptake calcs'!M54-'uptake calcs'!M53,0)","v":0.68232614646397849},null,{"$f":"MAX('uptake calcs'!L54-'uptake calcs'!L53,0)","v":0},{"$f":"MAX('uptake calcs'!N54-'uptake calcs'!N53,0)","v":0},null,0.68232614646397849,null,3.5,null,0,21.5,null,53.5,null,55,52,"Year 1","Year 1"]
[null,null,44,null,null,"2010-12-14",{"$f":"MAX('uptake calcs'!M55-'uptake calcs'!M54,0)","v":0.61291366473681919},null,{"$f":"MAX('uptake calcs'!L55-'uptake calcs'!L54,0)","v":0},{"$f":"MAX('uptake calcs'!N55-'uptake calcs'!N54,0)","v":0},null,0.61291366473681919,null,1.5,null,0,19,null,51,null,53,49,"Year 1","Year 1"]
[null,null,45,null,null,"2010-12-15",{"$f":"MAX('uptake calcs'!M56-'uptake calcs'!M55,0)","v":0.50696143429569318},null,{"$f":"MAX('uptake calcs'!L56-'uptake calcs'!L55,0)","v":0},{"$f":"MAX('uptake calcs'!N56-'uptake calcs'!N55,0)","v":0},null,0.50696143429569318,null,2.5,null,0,15.5,null,47.5,null,55,40,"Year 1","Year 1"]
[null,null,46,null,null,"2010-12-16",{"$f":"MAX('uptake calcs'!M57-'uptake calcs'!M56,0)","v":0.33040735523032794},null,{"$f":"MAX('uptake calcs'!L57-'uptake calcs'!L56,0)","v":0},{"$f":"MAX('uptake calcs'!N57-'uptake calcs'!N56,0)","v":0},null,0.33040735523032794,null,0,null,0,10,null,42,null,45,39,"Year 1","Year 1"]
[null,null,47,null,null,"2010-12-17",{"$f":"MAX('uptake calcs'!M58-'uptake calcs'!M57,0)","v":0.58454317693998448},null,{"$f":"MAX('uptake calcs'!L58-'uptake calcs'!L57,0)","v":0},{"$f":"MAX('uptake calcs'!N58-'uptake calcs'!N57,0)","v":0},null,0.58454317693998448,null,2.5,null,0,17.5,null,49.5,null,55,44,"Year 1","Year 1"]
[null,null,48,null,null,"2010-12-18",{"$f":"MAX('uptake calcs'!M59-'uptake calcs'!M58,0)","v":0.76346899868480023},null,{"$f":"MAX('uptake calcs'!L59-'uptake calcs'!L58,0)","v":0},{"$f":"MAX('uptake calcs'!N59-'uptake calcs'!N58,0)","v":0},null,0.76346899868480023,null,4.5,null,0,22.5,null,54.5,null,57,52,"Year 1","Year 1"]
[null,null,49,null,null,"2010-12-19",{"$f":"MAX('uptake calcs'!M60-'uptake calcs'!M59,0)","v":0.75956018895052324},null,{"$f":"MAX('uptake calcs'!L60-'uptake calcs'!L59,0)","v":0},{"$f":"MAX('uptake calcs'!N60-'uptake calcs'!N59,0)","v":0},null,0.75956018895052324,null,4.5,null,0,22,null,54,null,59,49,"Year 1","Year 1"]
[null,null,50,null,null,"2010-12-20",{"$f":"MAX('uptake calcs'!M61-'uptake calcs'!M60,0)","v":0.54295115707137853},null,{"$f":"MAX('uptake calcs'!L61-'uptake calcs'!L60,0)","v":0},{"$f":"MAX('uptake calcs'!N61-'uptake calcs'!N60,0)","v":0},null,0.54295115707137853,null,1,null,0,15.5,null,47.5,null,52,43,"Year 1","Year 1"]
[null,null,51,null,null,"2010-12-21",{"$f":"MAX('uptake calcs'!M62-'uptake calcs'!M61,0)","v":0.51379812267711245},null,{"$f":"MAX('uptake calcs'!L62-'uptake calcs'!L61,0)","v":0},{"$f":"MAX('uptake calcs'!N62-'uptake calcs'!N61,0)","v":0},null,0.51379812267711245,null,2.5,null,0,14.5,null,46.5,null,55,38,"Year 1","Year 1"]
[null,null,52,null,null,"2010-12-22",{"$f":"MAX('uptake calcs'!M63-'uptake calcs'!M62,0)","v":0.77235106866030279},null,{"$f":"MAX('uptake calcs'!L63-'uptake calcs'!L62,0)","v":0},{"$f":"MAX('uptake calcs'!N63-'uptake calcs'!N62,0)","v":0},null,0.77235106866030279,null,4,null,0,21.5,null,53.5,null,58,49,"Year 1","Year 1"]
[null,null,53,null,null,"2010-12-23",{"$f":"MAX('uptake calcs'!M64-'uptake calcs'!M63,0)","v":0.67468716141745588},null,{"$f":"MAX('uptake calcs'!L64-'uptake calcs'!L63,0)","v":0},{"$f":"MAX('uptake calcs'!N64-'uptake calcs'!N63,0)","v":0},null,0.67468716141745588,null,5,null,0,18.5,null,50.5,null,60,41,"Year 1","Year 1"]
[null,null,54,null,null,"2010-12-24",{"$f":"MAX('uptake calcs'!M65-'uptake calcs'!M64,0)","v":0.51682008030185145},null,{"$f":"MAX('uptake calcs'!L65-'uptake calcs'!L64,0)","v":0},{"$f":"MAX('uptake calcs'!N65-'uptake calcs'!N64,0)","v":0},null,0.51682008030185145,null,1,null,0,14,null,46,null,52,40,"Year 1","Year 1"]
[null,null,55,null,null,"2010-12-25",{"$f":"MAX('uptake calcs'!M66-'uptake calcs'!M65,0)","v":0.59726968514277701},null,{"$f":"MAX('uptake calcs'!L66-'uptake calcs'!L65,0)","v":0},{"$f":"MAX('uptake calcs'!N66-'uptake calcs'!N65,0)","v":0},null,0.59726968514277701,null,2,null,0,16,null,48,null,54,42,"Year 1","Year 1"]
[null,null,56,null,null,"2010-12-26",{"$f":"MAX('uptake calcs'!M67-'uptake calcs'!M66,0)","v":0.64236515003021566},null,{"$f":"MAX('uptake calcs'!L67-'uptake calcs'!L66,0)","v":0},{"$f":"MAX('uptake calcs'!N67-'uptake calcs'!N66,0)","v":0},null,0.64236515003021566,null,5,null,0,17,null,49,null,60,38,"Year 1","Year 1"]
[null,null,57,null,null,"2010-12-27",{"$f":"MAX('uptake calcs'!M68-'uptake calcs'!M67,0)","v":0.55424690688312594},null,{"$f":"MAX('uptake calcs'!L68-'uptake calcs'!L67,0)","v":0},{"$f":"MAX('uptake calcs'!N68-'uptake calcs'!N67,0)","v":0},null,0.55424690688312594,null,3,null,0,14.5,null,46.5,null,56,37,"Year 1","Year 1"]
[null,null,58,null,null,"2010-12-28",{"$f":"MAX('uptake calcs'!M69-'uptake calcs'!M68,0)","v":0.48250482146173823},null,{"$f":"MAX('uptake calcs'!L69-'uptake calcs'!L68,0)","v":0},{"$f":"MAX('uptake calcs'!N69-'uptake calcs'!N68,0)","v":0},null,0.48250482146173823,null,0,null,0,12.5,null,44.5,null,50,39,"Year 1","Year 1"]
[null,null,59,null,null,"2010-12-29",{"$f":"MAX('uptake calcs'!M70-'uptake calcs'!M69,0)","v":0.56518044944089141},null,{"$f":"MAX('uptake calcs'!L70-'uptake calcs'!L69,0)","v":0},{"$f":"MAX('uptake calcs'!N70-'uptake calcs'!N69,0)","v":0},null,0.56518044944089141,null,2,null,0,14.5,null,46.5,null,54,39,"Year 1","Year 1"]
[null,null,60,null,null,"2010-12-30",{"$f":"MAX('uptake calcs'!M71-'uptake calcs'!M70,0)","v":0.31434680374914237},null,{"$f":"MAX('uptake calcs'!L71-'uptake calcs'!L70,0)","v":0},{"$f":"MAX('uptake calcs'!N71-'uptake calcs'!N70,0)","v":0},null,0.31434680374914237,null,0,null,0,8,null,40,null,49,31,"Year 1","Year 1"]
[null,null,61,null,null,"2010-12-31",{"$f":"MAX('uptake calcs'!M72-'uptake calcs'!M71,0)","v":0.71385711967159082},null,{"$f":"MAX('uptake calcs'!L72-'uptake calcs'!L71,0)","v":0},{"$f":"MAX('uptake calcs'!N72-'uptake calcs'!N71,0)","v":0},null,0.71385711967159082,null,2.5,null,0,18,null,50,null,55,45,"Year 1","Year 1"]
[null,null,62,null,null,"2011-01-01",{"$f":"MAX('uptake calcs'!M73-'uptake calcs'!M72,0)","v":0.58168970746059045},null,{"$f":"MAX('uptake calcs'!L73-'uptake calcs'!L72,0)","v":0},{"$f":"MAX('uptake calcs'!N73-'uptake calcs'!N72,0)","v":0},null,0.58168970746059045,null,0.5,null,0,14.5,null,46.5,null,51,42,"Year 2","Year 2"]
[null,null,63,null,null,"2011-01-02",{"$f":"MAX('uptake calcs'!M74-'uptake calcs'!M73,0)","v":0.58762791738531561},null,{"$f":"MAX('uptake calcs'!L74-'uptake calcs'!L73,0)","v":0},{"$f":"MAX('uptake calcs'!N74-'uptake calcs'!N73,0)","v":0},null,0.58762791738531561,null,0,null,0,14.5,null,46.5,null,48,45,"Year 2","Year 2"]
[null,null,64,null,null,"2011-01-03",{"$f":"MAX('uptake calcs'!M75-'uptake calcs'!M74,0)","v":0.53189764560415398},null,{"$f":"MAX('uptake calcs'!L75-'uptake calcs'!L74,0)","v":0},{"$f":"MAX('uptake calcs'!N75-'uptake calcs'!N74,0)","v":0},null,0.53189764560415398,null,2,null,0,13,null,45,null,54,36,"Year 2","Year 2"]
[null,null,65,null,null,"2011-01-04",{"$f":"MAX('uptake calcs'!M76-'uptake calcs'!M75,0)","v":0.28839052354276973},null,{"$f":"MAX('uptake calcs'!L76-'uptake calcs'!L75,0)","v":0},{"$f":"MAX('uptake calcs'!N76-'uptake calcs'!N75,0)","v":0},null,{"$f":"SUM(G159:J159)","v":0.28839052354276973},null,{"$f":"IF($U159>cutoff.corn.min,((IF($U159>cutoff.corn.max,cutoff.corn.max,$U159)+IF($V159<cutoff.corn.min,cutoff.corn.min,$V159))/2)-cutoff.corn.min,0)","v":0},null,{"$f":"IF(AND(C159>=C$44,C159<=$C$55),N159+P158,0)","v":0},{"$f":"((U159+V159)/2)-32","v":7},null,{"$f":"AVERAGE(U159:V159)","v":39},null,48,30,"Year 2","Year 2"]
[null,null,66,null,null,"2011-01-05",{"$f":"MAX('uptake calcs'!M77-'uptake calcs'!M76,0)","v":0.22756789866084759},null,{"$f":"MAX('uptake calcs'!L77-'uptake calcs'!L76,0)","v":0},{"$f":"MAX('uptake calcs'!N77-'uptake calcs'!N76,0)","v":0},null,0.22756789866084759,null,0,null,0,5.5,null,37.5,null,43,32,"Year 2","Year 2"]
[null,null,67,null,null,{"$f":"F160+1","v":"2011-01-06"},{"$f":"MAX('uptake calcs'!M78-'uptake calcs'!M77,0)","v":0.29087413221383684},null,{"$f":"MAX('uptake calcs'!L78-'uptake calcs'!L77,0)","v":0},{"$f":"MAX('uptake calcs'!N78-'uptake calcs'!N77,0)","v":0},null,0.29087413221383684,null,0,null,0,7,null,39,null,40,38,"Year 2","Year 2"]
[null,null,68,null,null,"2011-01-07",{"$f":"MAX('uptake calcs'!M79-'uptake calcs'!M78,0)","v":0.25042879803215712},null,{"$f":"MAX('uptake calcs'!L79-'uptake calcs'!L78,0)","v":0},{"$f":"MAX('uptake calcs'!N79-'uptake calcs'!N78,0)","v":0},null,0.25042879803215712,null,0,null,0,6,null,38,null,39,37,"Year 2","Year 2"]
[null,null,69,null,null,"2011-01-08",{"$f":"MAX('uptake calcs'!M80-'uptake calcs'!M79,0)","v":0.27245289589373556},null,{"$f":"MAX('uptake calcs'!L80-'uptake calcs'!L79,0)","v":0},{"$f":"MAX('uptake calcs'!N80-'uptake calcs'!N79,0)","v":0},null,0.27245289589373556,null,0,null,0,6.5,null,38.5,null,40,37,"Year 2","Year 2"]
[null,null,70,null,null,"2011-01-09",{"$f":"MAX('uptake calcs'!M81-'uptake calcs'!M80,0)","v":8.407343772300635E-2},null,{"$f":"MAX('uptake calcs'!L81-'uptake calcs'!L80,0)","v":0},{"$f":"MAX('uptake calcs'!N81-'uptake calcs'!N80,0)","v":0},null,8.407343772300635E-2,null,0,null,0,2,null,34,null,39,29,"Year 2","Year 2"]
[null,null,71,null,null,"2011-01-10",{"$f":"MAX('uptake calcs'!M82-'uptake calcs'!M81,0)","v":0.16848833419697229},null,{"$f":"MAX('uptake calcs'!L82-'uptake calcs'!L81,0)","v":0},{"$f":"MAX('uptake calcs'!N82-'uptake calcs'!N81,0)","v":0},null,0.16848833419697229,null,0,null,0,4,null,36,null,47,25,"Year 2","Year 2"]
[null,null,72,null,null,"2011-01-11",{"$f":"MAX('uptake calcs'!M83-'uptake calcs'!M82,0)","v":0.40198524088766874},null,{"$f":"MAX('uptake calcs'!L83-'uptake calcs'!L82,0)","v":0},{"$f":"MAX('uptake calcs'!N83-'uptake calcs'!N82,0)","v":0},null,0.40198524088766874,null,0,null,0,9.5,null,41.5,null,47,36,"Year 2","Year 2"]
[null,null,73,null,null,"2011-01-12",{"$f":"MAX('uptake calcs'!M84-'uptake calcs'!M83,0)","v":0.66139007198312783},null,{"$f":"MAX('uptake calcs'!L84-'uptake calcs'!L83,0)","v":0},{"$f":"MAX('uptake calcs'!N84-'uptake calcs'!N83,0)","v":0},null,0.66139007198312783,null,3.5,null,0,15.5,null,47.5,null,57,38,"Year 2","Year 2"]
[null,null,74,null,null,"2011-01-13",{"$f":"MAX('uptake calcs'!M85-'uptake calcs'!M84,0)","v":0.53836823382477661},null,{"$f":"MAX('uptake calcs'!L85-'uptake calcs'!L84,0)","v":0},{"$f":"MAX('uptake calcs'!N85-'uptake calcs'!N84,0)","v":0},null,0.53836823382477661,null,2.5,null,0,12.5,null,44.5,null,55,34,"Year 2","Year 2"]
[null,null,75,null,null,"2011-01-14",{"$f":"MAX('uptake calcs'!M86-'uptake calcs'!M85,0)","v":0.63009159054293207},null,{"$f":"MAX('uptake calcs'!L86-'uptake calcs'!L85,0)","v":0},{"$f":"MAX('uptake calcs'!N86-'uptake calcs'!N85,0)","v":0},null,0.63009159054293207,null,1,null,0,14.5,null,46.5,null,52,41,"Year 2","Year 2"]
[null,null,76,null,null,"2011-01-15",{"$f":"MAX('uptake calcs'!M87-'uptake calcs'!M86,0)","v":0.5700112655832541},null,{"$f":"MAX('uptake calcs'!L87-'uptake calcs'!L86,0)","v":0},{"$f":"MAX('uptake calcs'!N87-'uptake calcs'!N86,0)","v":0},null,0.5700112655832541,null,1.5,null,0,13,null,45,null,53,37,"Year 2","Year 2"]
[null,null,77,null,null,"2011-01-16",{"$f":"MAX('uptake calcs'!M88-'uptake calcs'!M87,0)","v":0.7749411282421832},null,{"$f":"MAX('uptake calcs'!L88-'uptake calcs'!L87,0)","v":0},{"$f":"MAX('uptake calcs'!N88-'uptake calcs'!N87,0)","v":0},null,0.7749411282421832,null,1,null,0,17.5,null,49.5,null,52,47,"Year 2","Year 2"]
[null,null,78,null,null,"2011-01-17",{"$f":"MAX('uptake calcs'!M89-'uptake calcs'!M88,0)","v":0.76117051692329341},null,{"$f":"MAX('uptake calcs'!L89-'uptake calcs'!L88,0)","v":0},{"$f":"MAX('uptake calcs'!N89-'uptake calcs'!N88,0)","v":0},null,0.76117051692329341,null,0,null,0,17,null,49,null,50,48,"Year 2","Year 2"]
[null,null,79,null,null,"2011-01-18",{"$f":"MAX('uptake calcs'!M90-'uptake calcs'!M89,0)","v":0.81493276812817328},null,{"$f":"MAX('uptake calcs'!L90-'uptake calcs'!L89,0)","v":0},{"$f":"MAX('uptake calcs'!N90-'uptake calcs'!N89,0)","v":0},null,0.81493276812817328,null,4,null,0,18,null,50,null,58,42,"Year 2","Year 2"]
[null,null,80,null,null,"2011-01-19",{"$f":"MAX('uptake calcs'!M91-'uptake calcs'!M90,0)","v":0.54842063113956385},null,{"$f":"MAX('uptake calcs'!L91-'uptake calcs'!L90,0)","v":0},{"$f":"MAX('uptake calcs'!N91-'uptake calcs'!N90,0)","v":0},null,0.54842063113956385,null,1,null,0,12,null,44,null,52,36,"Year 2","Year 2"]
[null,null,81,null,null,"2011-01-20",{"$f":"MAX('uptake calcs'!M92-'uptake calcs'!M91,0)","v":0.64500832902673011},null,{"$f":"MAX('uptake calcs'!L92-'uptake calcs'!L91,0)","v":0},{"$f":"MAX('uptake calcs'!N92-'uptake calcs'!N91,0)","v":0},null,0.64500832902673011,null,5,null,0,14,null,46,null,60,32,"Year 2","Year 2"]
[null,null,82,null,null,"2011-01-21",{"$f":"MAX('uptake calcs'!M93-'uptake calcs'!M92,0)","v":0.69726877927004693},null,{"$f":"MAX('uptake calcs'!L93-'uptake calcs'!L92,0)","v":0},{"$f":"MAX('uptake calcs'!N93-'uptake calcs'!N92,0)","v":0},null,0.69726877927004693,null,5.5,null,0,15,null,47,null,61,33,"Year 2","Year 2"]
[null,null,83,null,null,"2011-01-22",{"$f":"MAX('uptake calcs'!M94-'uptake calcs'!M93,0)","v":0.60947064771155368},null,{"$f":"MAX('uptake calcs'!L94-'uptake calcs'!L93,0)","v":0},{"$f":"MAX('uptake calcs'!N94-'uptake calcs'!N93,0)","v":0},null,0.60947064771155368,null,2.5,null,0,13,null,45,null,55,35,"Year 2","Year 2"]
[null,null,84,null,null,"2011-01-23",{"$f":"MAX('uptake calcs'!M95-'uptake calcs'!M94,0)","v":0.66171392869685519},null,{"$f":"MAX('uptake calcs'!L95-'uptake calcs'!L94,0)","v":0},{"$f":"MAX('uptake calcs'!N95-'uptake calcs'!N94,0)","v":0},null,0.66171392869685519,null,2.5,null,0,14,null,46,null,55,37,"Year 2","Year 2"]
[null,null,85,null,null,"2011-01-24",{"$f":"MAX('uptake calcs'!M96-'uptake calcs'!M95,0)","v":0.83494419113389284},null,{"$f":"MAX('uptake calcs'!L96-'uptake calcs'!L95,0)","v":0},{"$f":"MAX('uptake calcs'!N96-'uptake calcs'!N95,0)","v":0},null,0.83494419113389284,null,6,null,0,17.5,null,49.5,null,62,37,"Year 2","Year 2"]
[null,null,86,null,null,"2011-01-25",{"$f":"MAX('uptake calcs'!M97-'uptake calcs'!M96,0)","v":0.62584256516667125},null,{"$f":"MAX('uptake calcs'!L97-'uptake calcs'!L96,0)","v":0},{"$f":"MAX('uptake calcs'!N97-'uptake calcs'!N96,0)","v":0},null,0.62584256516667125,null,0,null,0,13,null,45,null,48,42,"Year 2","Year 2"]
[null,null,87,null,null,"2011-01-26",{"$f":"MAX('uptake calcs'!M98-'uptake calcs'!M97,0)","v":0.60626061473510617},null,{"$f":"MAX('uptake calcs'!L98-'uptake calcs'!L97,0)","v":0},{"$f":"MAX('uptake calcs'!N98-'uptake calcs'!N97,0)","v":0},null,0.60626061473510617,null,0,null,0,12.5,null,44.5,null,48,41,"Year 2","Year 2"]
[null,null,88,null,null,"2011-01-27",{"$f":"MAX('uptake calcs'!M99-'uptake calcs'!M98,0)","v":0.53714093012112585},null,{"$f":"MAX('uptake calcs'!L99-'uptake calcs'!L98,0)","v":0},{"$f":"MAX('uptake calcs'!N99-'uptake calcs'!N98,0)","v":0},null,0.53714093012112585,null,0,null,0,11,null,43,null,47,39,"Year 2","Year 2"]
[null,null,89,null,null,"2011-01-28",{"$f":"MAX('uptake calcs'!M100-'uptake calcs'!M99,0)","v":0.49125303220260719},null,{"$f":"MAX('uptake calcs'!L100-'uptake calcs'!L99,0)","v":0},{"$f":"MAX('uptake calcs'!N100-'uptake calcs'!N99,0)","v":0},null,0.49125303220260719,null,0,null,0,10,null,42,null,45,39,"Year 2","Year 2"]
[null,null,90,null,null,"2011-01-29",{"$f":"MAX('uptake calcs'!M101-'uptake calcs'!M100,0)","v":0.5436076959182401},null,{"$f":"MAX('uptake calcs'!L101-'uptake calcs'!L100,0)","v":0},{"$f":"MAX('uptake calcs'!N101-'uptake calcs'!N100,0)","v":0},null,0.5436076959182401,null,0,null,0,11,null,43,null,47,39,"Year 2","Year 2"]
[null,null,91,null,null,"2011-01-30",{"$f":"MAX('uptake calcs'!M102-'uptake calcs'!M101,0)","v":0.84675424104801067},null,{"$f":"MAX('uptake calcs'!L102-'uptake calcs'!L101,0)","v":0},{"$f":"MAX('uptake calcs'!N102-'uptake calcs'!N101,0)","v":0},null,0.84675424104801067,null,2.5,null,0,17,null,49,null,55,43,"Year 2","Year 2"]
[null,null,92,null,null,"2011-01-31",{"$f":"MAX('uptake calcs'!M103-'uptake calcs'!M102,0)","v":0.6781388810356006},null,{"$f":"MAX('uptake calcs'!L103-'uptake calcs'!L102,0)","v":0},{"$f":"MAX('uptake calcs'!N103-'uptake calcs'!N102,0)","v":0},null,0.6781388810356006,null,2,null,0,13.5,null,45.5,null,54,37,"Year 2","Year 2"]
[null,null,93,null,null,"2011-02-01",{"$f":"MAX('uptake calcs'!M104-'uptake calcs'!M103,0)","v":0.58164897453062991},null,{"$f":"MAX('uptake calcs'!L104-'uptake calcs'!L103,0)","v":0},{"$f":"MAX('uptake calcs'!N104-'uptake calcs'!N103,0)","v":0},null,0.58164897453062991,null,2.5,null,0,11.5,null,43.5,null,55,32,"Year 2","Year 2"]
[null,null,94,null,null,"2011-02-02",{"$f":"MAX('uptake calcs'!M105-'uptake calcs'!M104,0)","v":0.66190247901639765},null,{"$f":"MAX('uptake calcs'!L105-'uptake calcs'!L104,0)","v":0},{"$f":"MAX('uptake calcs'!N105-'uptake calcs'!N104,0)","v":0},null,0.66190247901639765,null,4.5,null,0,13,null,45,null,59,31,"Year 2","Year 2"]
[null,null,95,null,null,"2011-02-03",{"$f":"MAX('uptake calcs'!M106-'uptake calcs'!M105,0)","v":0.69226618781402038},null,{"$f":"MAX('uptake calcs'!L106-'uptake calcs'!L105,0)","v":0},{"$f":"MAX('uptake calcs'!N106-'uptake calcs'!N105,0)","v":0},null,0.69226618781402038,null,5,null,0,13.5,null,45.5,null,60,31,"Year 2","Year 2"]
[null,null,96,null,null,"2011-02-04",{"$f":"MAX('uptake calcs'!M107-'uptake calcs'!M106,0)","v":0.7750182050869725},null,{"$f":"MAX('uptake calcs'!L107-'uptake calcs'!L106,0)","v":0},{"$f":"MAX('uptake calcs'!N107-'uptake calcs'!N106,0)","v":0},null,0.7750182050869725,null,6,null,0,15,null,47,null,62,32,"Year 2","Year 2"]
[null,null,97,null,null,"2011-02-05",{"$f":"MAX('uptake calcs'!M108-'uptake calcs'!M107,0)","v":0.91190362623825649},null,{"$f":"MAX('uptake calcs'!L108-'uptake calcs'!L107,0)","v":0},{"$f":"MAX('uptake calcs'!N108-'uptake calcs'!N107,0)","v":0},null,0.91190362623825649,null,7.5,null,0,17.5,null,49.5,null,65,34,"Year 2","Year 2"]
[null,null,98,null,null,"2011-02-06",{"$f":"MAX('uptake calcs'!M109-'uptake calcs'!M108,0)","v":1.158094376593013},null,{"$f":"MAX('uptake calcs'!L109-'uptake calcs'!L108,0)","v":0},{"$f":"MAX('uptake calcs'!N109-'uptake calcs'!N108,0)","v":0},null,1.158094376593013,null,11,null,0,22,null,54,null,72,36,"Year 2","Year 2"]
[null,null,99,null,null,"2011-02-07",{"$f":"MAX('uptake calcs'!M110-'uptake calcs'!M109,0)","v":1.1175042762041798},null,{"$f":"MAX('uptake calcs'!L110-'uptake calcs'!L109,0)","v":0},{"$f":"MAX('uptake calcs'!N110-'uptake calcs'!N109,0)","v":0},null,1.1175042762041798,null,9.5,null,0,21,null,53,null,69,37,"Year 2","Year 2"]
[null,null,100,null,null,"2011-02-08",{"$f":"MAX('uptake calcs'!M111-'uptake calcs'!M110,0)","v":0.80535720874062378},null,{"$f":"MAX('uptake calcs'!L111-'uptake calcs'!L110,0)","v":0},{"$f":"MAX('uptake calcs'!N111-'uptake calcs'!N110,0)","v":0},null,0.80535720874062378,null,5,null,0,15,null,47,null,60,34,"Year 2","Year 2"]
[null,null,101,null,null,"2011-02-09",{"$f":"MAX('uptake calcs'!M112-'uptake calcs'!M111,0)","v":0.70274893473176547},null,{"$f":"MAX('uptake calcs'!L112-'uptake calcs'!L111,0)","v":0},{"$f":"MAX('uptake calcs'!N112-'uptake calcs'!N111,0)","v":0},null,0.70274893473176547,null,5.5,null,0,13,null,45,null,61,29,"Year 2","Year 2"]
[null,null,102,null,null,"2011-02-10",{"$f":"MAX('uptake calcs'!M113-'uptake calcs'!M112,0)","v":0.78902361915259434},null,{"$f":"MAX('uptake calcs'!L113-'uptake calcs'!L112,0)","v":0},{"$f":"MAX('uptake calcs'!N113-'uptake calcs'!N112,0)","v":0},null,0.78902361915259434,null,6,null,0,14.5,null,46.5,null,62,31,"Year 2","Year 2"]
[null,null,103,null,null,"2011-02-11",{"$f":"MAX('uptake calcs'!M114-'uptake calcs'!M113,0)","v":0.84943996140275857},null,{"$f":"MAX('uptake calcs'!L114-'uptake calcs'!L113,0)","v":0},{"$f":"MAX('uptake calcs'!N114-'uptake calcs'!N113,0)","v":0},null,0.84943996140275857,null,7.5,null,0,15.5,null,47.5,null,65,30,"Year 2","Year 2"]
[null,null,104,null,null,"2011-02-12",{"$f":"MAX('uptake calcs'!M115-'uptake calcs'!M114,0)","v":1.2439758629977504},null,{"$f":"MAX('uptake calcs'!L115-'uptake calcs'!L114,0)","v":0},{"$f":"MAX('uptake calcs'!N115-'uptake calcs'!N114,0)","v":0},null,1.2439758629977504,null,11.5,null,0,22.5,null,54.5,null,73,36,"Year 2","Year 2"]
[null,null,105,null,null,"2011-02-13",{"$f":"MAX('uptake calcs'!M116-'uptake calcs'!M115,0)","v":1.060415150159308},null,{"$f":"MAX('uptake calcs'!L116-'uptake calcs'!L115,0)","v":0},{"$f":"MAX('uptake calcs'!N116-'uptake calcs'!N115,0)","v":0},null,1.060415150159308,null,9.5,null,0,19,null,51,null,69,33,"Year 2","Year 2"]
[null,null,106,null,null,"2011-02-14",{"$f":"MAX('uptake calcs'!M117-'uptake calcs'!M116,0)","v":1.3239792747998393},null,{"$f":"MAX('uptake calcs'!L117-'uptake calcs'!L116,0)","v":0},{"$f":"MAX('uptake calcs'!N117-'uptake calcs'!N116,0)","v":0},null,1.3239792747998393,null,6.5,null,0,23.5,null,55.5,null,63,48,"Year 2","Year 2"]
[null,null,107,null,null,"2011-02-15",{"$f":"MAX('uptake calcs'!M118-'uptake calcs'!M117,0)","v":1.3374866593701142},null,{"$f":"MAX('uptake calcs'!L118-'uptake calcs'!L117,0)","v":0},{"$f":"MAX('uptake calcs'!N118-'uptake calcs'!N117,0)","v":0},null,1.3374866593701142,null,6.5,null,0,23.5,null,55.5,null,63,48,"Year 2","Year 2"]
[null,null,108,null,null,"2011-02-16",{"$f":"MAX('uptake calcs'!M119-'uptake calcs'!M118,0)","v":0.94702505409157567},null,{"$f":"MAX('uptake calcs'!L119-'uptake calcs'!L118,0)","v":0},{"$f":"MAX('uptake calcs'!N119-'uptake calcs'!N118,0)","v":0},null,0.94702505409157567,null,3.5,null,0,16.5,null,48.5,null,57,40,"Year 2","Year 2"]
[null,null,109,null,null,"2011-02-17",{"$f":"MAX('uptake calcs'!M120-'uptake calcs'!M119,0)","v":0.80859628652146398},null,{"$f":"MAX('uptake calcs'!L120-'uptake calcs'!L119,0)","v":0},{"$f":"MAX('uptake calcs'!N120-'uptake calcs'!N119,0)","v":0},null,0.80859628652146398,null,0.5,null,0,14,null,46,null,51,41,"Year 2","Year 2"]
[null,null,110,null,null,"2011-02-18",{"$f":"MAX('uptake calcs'!M121-'uptake calcs'!M120,0)","v":0.7258374774414591},null,{"$f":"MAX('uptake calcs'!L121-'uptake calcs'!L120,0)","v":0},{"$f":"MAX('uptake calcs'!N121-'uptake calcs'!N120,0)","v":0},null,0.7258374774414591,null,0,null,0,12.5,null,44.5,null,48,41,"Year 2","Year 2"]
[null,null,111,null,null,"2011-02-19",{"$f":"MAX('uptake calcs'!M122-'uptake calcs'!M121,0)","v":0.78796266769317924},null,{"$f":"MAX('uptake calcs'!L122-'uptake calcs'!L121,0)","v":0},{"$f":"MAX('uptake calcs'!N122-'uptake calcs'!N121,0)","v":0},null,0.78796266769317924,null,2,null,0,13.5,null,45.5,null,54,37,"Year 2","Year 2"]
[null,null,112,null,null,"2011-02-20",{"$f":"MAX('uptake calcs'!M123-'uptake calcs'!M122,0)","v":0.70390716875174775},null,{"$f":"MAX('uptake calcs'!L123-'uptake calcs'!L122,0)","v":0},{"$f":"MAX('uptake calcs'!N123-'uptake calcs'!N122,0)","v":0},null,0.70390716875174775,null,2.5,null,0,12,null,44,null,55,33,"Year 2","Year 2"]
[null,null,113,null,null,"2011-02-21",{"$f":"MAX('uptake calcs'!M124-'uptake calcs'!M123,0)","v":0.76623277290349279},null,{"$f":"MAX('uptake calcs'!L124-'uptake calcs'!L123,0)","v":0},{"$f":"MAX('uptake calcs'!N124-'uptake calcs'!N123,0)","v":0},null,0.76623277290349279,null,2,null,0,13,null,45,null,54,36,"Year 2","Year 2"]
[null,null,114,null,null,"2011-02-22",{"$f":"MAX('uptake calcs'!M125-'uptake calcs'!M124,0)","v":0.85908325651533346},null,{"$f":"MAX('uptake calcs'!L125-'uptake calcs'!L124,0)","v":0},{"$f":"MAX('uptake calcs'!N125-'uptake calcs'!N124,0)","v":0},null,0.85908325651533346,null,4,null,0,14.5,null,46.5,null,58,35,"Year 2","Year 2"]
[null,null,115,null,null,"2011-02-23",{"$f":"MAX('uptake calcs'!M126-'uptake calcs'!M125,0)","v":0.74429379210837965},null,{"$f":"MAX('uptake calcs'!L126-'uptake calcs'!L125,0)","v":0},{"$f":"MAX('uptake calcs'!N126-'uptake calcs'!N125,0)","v":0},null,0.74429379210837965,null,4,null,0,12.5,null,44.5,null,58,31,"Year 2","Year 2"]
[null,null,116,null,null,"2011-02-24",{"$f":"MAX('uptake calcs'!M127-'uptake calcs'!M126,0)","v":0.74767515802540174},null,{"$f":"MAX('uptake calcs'!L127-'uptake calcs'!L126,0)","v":0},{"$f":"MAX('uptake calcs'!N127-'uptake calcs'!N126,0)","v":0},null,0.74767515802540174,null,1.5,null,0,12.5,null,44.5,null,53,36,"Year 2","Year 2"]
[null,null,117,null,null,"2011-02-25",{"$f":"MAX('uptake calcs'!M128-'uptake calcs'!M127,0)","v":0.84135182581880485},null,{"$f":"MAX('uptake calcs'!L128-'uptake calcs'!L127,0)","v":0},{"$f":"MAX('uptake calcs'!N128-'uptake calcs'!N127,0)","v":0},null,0.84135182581880485,null,1.5,null,0,14,null,46,null,53,39,"Year 2","Year 2"]
[null,null,118,null,null,"2011-02-26",{"$f":"MAX('uptake calcs'!M129-'uptake calcs'!M128,0)","v":0.42222289002302205},null,{"$f":"MAX('uptake calcs'!L129-'uptake calcs'!L128,0)","v":0},{"$f":"MAX('uptake calcs'!N129-'uptake calcs'!N128,0)","v":0},null,0.42222289002302205,null,0,null,0,7,null,39,null,48,30,"Year 2","Year 2"]
[null,null,119,null,null,"2011-02-27",{"$f":"MAX('uptake calcs'!M130-'uptake calcs'!M129,0)","v":0.66555014570742799},null,{"$f":"MAX('uptake calcs'!L130-'uptake calcs'!L129,0)","v":0},{"$f":"MAX('uptake calcs'!N130-'uptake calcs'!N129,0)","v":0},null,0.66555014570742799,null,3.5,null,0,11,null,43,null,57,29,"Year 2","Year 2"]
[null,null,120,null,null,"2011-02-28",{"$f":"MAX('uptake calcs'!M131-'uptake calcs'!M130,0)","v":0.85065204865402677},null,{"$f":"MAX('uptake calcs'!L131-'uptake calcs'!L130,0)","v":0},{"$f":"MAX('uptake calcs'!N131-'uptake calcs'!N130,0)","v":0},null,0.85065204865402677,null,5.5,null,0,14,null,46,null,61,31,"Year 2","Year 2"]
[null,null,121,null,null,"2011-03-01",{"$f":"MAX('uptake calcs'!M132-'uptake calcs'!M131,0)","v":0.82401548098744115},null,{"$f":"MAX('uptake calcs'!L132-'uptake calcs'!L131,0)","v":0},{"$f":"MAX('uptake calcs'!N132-'uptake calcs'!N131,0)","v":0},null,0.82401548098744115,null,4.5,null,0,13.5,null,45.5,null,59,32,"Year 2","Year 2"]
[null,null,122,null,null,"2011-03-02",{"$f":"MAX('uptake calcs'!M133-'uptake calcs'!M132,0)","v":1.5354358879072123},null,{"$f":"MAX('uptake calcs'!L133-'uptake calcs'!L132,0)","v":0},{"$f":"MAX('uptake calcs'!N133-'uptake calcs'!N132,0)","v":0},null,1.5354358879072123,null,7.5,null,0,25,null,57,null,65,49,"Year 2","Year 2"]
[null,null,123,null,null,"2011-03-03",{"$f":"MAX('uptake calcs'!M134-'uptake calcs'!M133,0)","v":1.3610834505767286},null,{"$f":"MAX('uptake calcs'!L134-'uptake calcs'!L133,0)","v":0},{"$f":"MAX('uptake calcs'!N134-'uptake calcs'!N133,0)","v":0},null,1.3610834505767286,null,8,null,0,22,null,54,null,66,42,"Year 2","Year 2"]
[null,null,124,null,null,"2011-03-04",{"$f":"MAX('uptake calcs'!M135-'uptake calcs'!M134,0)","v":1.2763481571953434},null,{"$f":"MAX('uptake calcs'!L135-'uptake calcs'!L134,0)","v":0},{"$f":"MAX('uptake calcs'!N135-'uptake calcs'!N134,0)","v":0},null,1.2763481571953434,null,7.5,null,0,20.5,null,52.5,null,65,40,"Year 2","Year 2"]
[null,null,125,null,null,"2011-03-05",{"$f":"MAX('uptake calcs'!M136-'uptake calcs'!M135,0)","v":1.5038060215208446},null,{"$f":"MAX('uptake calcs'!L136-'uptake calcs'!L135,0)","v":0},{"$f":"MAX('uptake calcs'!N136-'uptake calcs'!N135,0)","v":0},null,1.5038060215208446,null,9.5,null,0,24,null,56,null,69,43,"Year 2","Year 2"]
[null,null,126,null,null,"2011-03-06",{"$f":"MAX('uptake calcs'!M137-'uptake calcs'!M136,0)","v":1.5453487880318022},null,{"$f":"MAX('uptake calcs'!L137-'uptake calcs'!L136,0)","v":0},{"$f":"MAX('uptake calcs'!N137-'uptake calcs'!N136,0)","v":0},null,1.5453487880318022,null,6.5,null,0,24.5,null,56.5,null,62,51,"Year 2","Year 2"]
[null,null,127,null,null,"2011-03-07",{"$f":"MAX('uptake calcs'!M138-'uptake calcs'!M137,0)","v":1.3642719566580581},null,{"$f":"MAX('uptake calcs'!L138-'uptake calcs'!L137,0)","v":0},{"$f":"MAX('uptake calcs'!N138-'uptake calcs'!N137,0)","v":0},null,1.3642719566580581,null,4.5,null,0,21.5,null,53.5,null,59,48,"Year 2","Year 2"]
[null,null,128,null,null,"2011-03-08",{"$f":"MAX('uptake calcs'!M139-'uptake calcs'!M138,0)","v":1.3076149728323543},null,{"$f":"MAX('uptake calcs'!L139-'uptake calcs'!L138,0)","v":0},{"$f":"MAX('uptake calcs'!N139-'uptake calcs'!N138,0)","v":0},null,1.3076149728323543,null,7.5,null,0,20.5,null,52.5,null,65,40,"Year 2","Year 2"]
[null,null,129,null,null,"2011-03-09",{"$f":"MAX('uptake calcs'!M140-'uptake calcs'!M139,0)","v":1.3782261894379104},null,{"$f":"MAX('uptake calcs'!L140-'uptake calcs'!L139,0)","v":0},{"$f":"MAX('uptake calcs'!N140-'uptake calcs'!N139,0)","v":0},null,{"$f":"SUM(G223:J223)","v":1.3782261894379104},null,{"$f":"IF($U223>cutoff.corn.min,((IF($U223>cutoff.corn.max,cutoff.corn.max,$U223)+IF($V223<cutoff.corn.min,cutoff.corn.min,$V223))/2)-cutoff.corn.min,0)","v":8.5},null,{"$f":"IF(AND(C223>=C$44,C223<=$C$55),N223+P222,0)","v":0},{"$f":"((U223+V223)/2)-32","v":21.5},null,{"$f":"AVERAGE(U223:V223)","v":53.5},null,67,40,"Year 2","Year 2"]
[null,null,130,null,null,"2011-03-10",{"$f":"MAX('uptake calcs'!M141-'uptake calcs'!M140,0)","v":1.4494673940189671},null,{"$f":"MAX('uptake calcs'!L141-'uptake calcs'!L140,0)","v":0},{"$f":"MAX('uptake calcs'!N141-'uptake calcs'!N140,0)","v":0},null,1.4494673940189671,null,8.5,null,0,22.5,null,54.5,null,67,42,"Year 2","Year 2"]
[null,null,131,null,null,{"$f":"F224+1","v":"2011-03-11"},{"$f":"MAX('uptake calcs'!M142-'uptake calcs'!M141,0)","v":1.1969923268042493},null,{"$f":"MAX('uptake calcs'!L142-'uptake calcs'!L141,0)","v":0},{"$f":"MAX('uptake calcs'!N142-'uptake calcs'!N141,0)","v":0},null,1.1969923268042493,null,6,null,0,18.5,null,50.5,null,62,39,"Year 2","Year 2"]
[null,null,132,null,null,"2011-03-12",{"$f":"MAX('uptake calcs'!M143-'uptake calcs'!M142,0)","v":1.2990704414584542},null,{"$f":"MAX('uptake calcs'!L143-'uptake calcs'!L142,0)","v":0},{"$f":"MAX('uptake calcs'!N143-'uptake calcs'!N142,0)","v":0},null,1.2990704414584542,null,7,null,0,20,null,52,null,64,40,"Year 2","Year 2"]
[null,null,133,null,null,"2011-03-13",{"$f":"MAX('uptake calcs'!M144-'uptake calcs'!M143,0)","v":1.4346902738887337},null,{"$f":"MAX('uptake calcs'!L144-'uptake calcs'!L143,0)","v":0},{"$f":"MAX('uptake calcs'!N144-'uptake calcs'!N143,0)","v":0},null,1.4346902738887337,null,8,null,0,22,null,54,null,66,42,"Year 2","Year 2"]
[null,null,134,null,null,"2011-03-14",{"$f":"MAX('uptake calcs'!M145-'uptake calcs'!M144,0)","v":1.9325574960426337},null,{"$f":"MAX('uptake calcs'!L145-'uptake calcs'!L144,0)","v":0},{"$f":"MAX('uptake calcs'!N145-'uptake calcs'!N144,0)","v":0},null,1.9325574960426337,null,11.5,null,0,29.5,null,61.5,null,72,51,"Year 2","Year 2"]
[null,null,135,null,null,"2011-03-15",{"$f":"MAX('uptake calcs'!M146-'uptake calcs'!M145,0)","v":1.8428368294259627},null,{"$f":"MAX('uptake calcs'!L146-'uptake calcs'!L145,0)","v":0},{"$f":"MAX('uptake calcs'!N146-'uptake calcs'!N145,0)","v":0},null,1.8428368294259627,null,11,null,0,28,null,60,null,72,48,"Year 2","Year 2"]
[null,null,136,null,null,"2011-03-16",{"$f":"MAX('uptake calcs'!M147-'uptake calcs'!M146,0)","v":1.3209671608674967},null,{"$f":"MAX('uptake calcs'!L147-'uptake calcs'!L146,0)","v":0},{"$f":"MAX('uptake calcs'!N147-'uptake calcs'!N146,0)","v":0},null,1.3209671608674967,null,4.5,null,0,20,null,52,null,59,45,"Year 2","Year 2"]
[null,null,137,null,null,"2011-03-17",{"$f":"MAX('uptake calcs'!M148-'uptake calcs'!M147,0)","v":1.1919172421978601},null,{"$f":"MAX('uptake calcs'!L148-'uptake calcs'!L147,0)","v":0},{"$f":"MAX('uptake calcs'!N148-'uptake calcs'!N147,0)","v":0},null,1.1919172421978601,null,6.5,null,0,18,null,50,null,63,37,"Year 2","Year 2"]
[null,null,138,null,null,"2011-03-18",{"$f":"MAX('uptake calcs'!M149-'uptake calcs'!M148,0)","v":1.1945847644143441},null,{"$f":"MAX('uptake calcs'!L149-'uptake calcs'!L148,0)","v":0},{"$f":"MAX('uptake calcs'!N149-'uptake calcs'!N148,0)","v":0},null,1.1945847644143441,null,4.5,null,0,18,null,50,null,59,41,"Year 2","Year 2"]
[null,null,139,null,null,"2011-03-19",{"$f":"MAX('uptake calcs'!M150-'uptake calcs'!M149,0)","v":1.0306453510910103},null,{"$f":"MAX('uptake calcs'!L150-'uptake calcs'!L149,0)","v":0},{"$f":"MAX('uptake calcs'!N150-'uptake calcs'!N149,0)","v":0},null,1.0306453510910103,null,1.5,null,0,15.5,null,47.5,null,53,42,"Year 2","Year 2"]
[null,null,140,null,null,"2011-03-20",{"$f":"MAX('uptake calcs'!M151-'uptake calcs'!M150,0)","v":1.0323293488375356},null,{"$f":"MAX('uptake calcs'!L151-'uptake calcs'!L150,0)","v":0},{"$f":"MAX('uptake calcs'!N151-'uptake calcs'!N150,0)","v":0},null,1.0323293488375356,null,1,null,0,15.5,null,47.5,null,52,43,"Year 2","Year 2"]
[null,null,141,null,null,"2011-03-21",{"$f":"MAX('uptake calcs'!M152-'uptake calcs'!M151,0)","v":1.03387631636636},null,{"$f":"MAX('uptake calcs'!L152-'uptake calcs'!L151,0)","v":0},{"$f":"MAX('uptake calcs'!N152-'uptake calcs'!N151,0)","v":0},null,1.03387631636636,null,2.5,null,0,15.5,null,47.5,null,55,40,"Year 2","Year 2"]
[null,null,142,null,null,"2011-03-22",{"$f":"MAX('uptake calcs'!M153-'uptake calcs'!M152,0)","v":0.96845325876817867},null,{"$f":"MAX('uptake calcs'!L153-'uptake calcs'!L152,0)","v":0},{"$f":"MAX('uptake calcs'!N153-'uptake calcs'!N152,0)","v":0},null,0.96845325876817867,null,4.5,null,0,14.5,null,46.5,null,59,34,"Year 2","Year 2"]
[null,null,143,null,null,"2011-03-23",{"$f":"MAX('uptake calcs'!M154-'uptake calcs'!M153,0)","v":1.1703046822564431},null,{"$f":"MAX('uptake calcs'!L154-'uptake calcs'!L153,0)","v":0},{"$f":"MAX('uptake calcs'!N154-'uptake calcs'!N153,0)","v":0},null,1.1703046822564431,null,2,null,0,17.5,null,49.5,null,54,45,"Year 2","Year 2"]
[null,null,144,null,null,"2011-03-24",{"$f":"MAX('uptake calcs'!M155-'uptake calcs'!M154,0)","v":0.9707751797073314},null,{"$f":"MAX('uptake calcs'!L155-'uptake calcs'!L154,0)","v":0},{"$f":"MAX('uptake calcs'!N155-'uptake calcs'!N154,0)","v":0},null,0.9707751797073314,null,1,null,0,14.5,null,46.5,null,52,41,"Year 2","Year 2"]
[null,null,145,null,null,"2011-03-25",{"$f":"MAX('uptake calcs'!M156-'uptake calcs'!M155,0)","v":1.1727737330164416},null,{"$f":"MAX('uptake calcs'!L156-'uptake calcs'!L155,0)","v":0},{"$f":"MAX('uptake calcs'!N156-'uptake calcs'!N155,0)","v":0},null,1.1727737330164416,null,5,null,0,17.5,null,49.5,null,60,39,"Year 2","Year 2"]
[null,null,146,null,null,"2011-03-26",{"$f":"MAX('uptake calcs'!M157-'uptake calcs'!M156,0)","v":1.1738414774893187},null,{"$f":"MAX('uptake calcs'!L157-'uptake calcs'!L156,0)","v":0},{"$f":"MAX('uptake calcs'!N157-'uptake calcs'!N156,0)","v":0},null,1.1738414774893187,null,1.5,null,0,17.5,null,49.5,null,53,46,"Year 2","Year 2"]
[null,null,147,null,null,"2011-03-27",{"$f":"MAX('uptake calcs'!M158-'uptake calcs'!M157,0)","v":1.376160463796424},null,{"$f":"MAX('uptake calcs'!L158-'uptake calcs'!L157,0)","v":0},{"$f":"MAX('uptake calcs'!N158-'uptake calcs'!N157,0)","v":0},null,1.376160463796424,null,7.5,null,0,20.5,null,52.5,null,65,40,"Year 2","Year 2"]
[null,null,148,null,null,"2011-03-28",{"$f":"MAX('uptake calcs'!M159-'uptake calcs'!M158,0)","v":1.3434355807620904},null,{"$f":"MAX('uptake calcs'!L159-'uptake calcs'!L158,0)","v":0},{"$f":"MAX('uptake calcs'!N159-'uptake calcs'!N158,0)","v":0},null,1.3434355807620904,null,6,null,0,20,null,52,null,62,42,"Year 2","Year 2"]
[null,null,149,null,null,"2011-03-29",{"$f":"MAX('uptake calcs'!M160-'uptake calcs'!M159,0)","v":1.4447745278614121},null,{"$f":"MAX('uptake calcs'!L160-'uptake calcs'!L159,0)","v":0},{"$f":"MAX('uptake calcs'!N160-'uptake calcs'!N159,0)","v":0},null,1.4447745278614121,null,8.5,null,0,21.5,null,53.5,null,67,40,"Year 2","Year 2"]
[null,null,150,null,null,"2011-03-30",{"$f":"MAX('uptake calcs'!M161-'uptake calcs'!M160,0)","v":1.8146642875717305},null,{"$f":"MAX('uptake calcs'!L161-'uptake calcs'!L160,0)","v":0},{"$f":"MAX('uptake calcs'!N161-'uptake calcs'!N160,0)","v":0},null,1.8146642875717305,null,11.5,null,0,27,null,59,null,73,45,"Year 2","Year 2"]
[null,null,151,null,null,"2011-03-31",{"$f":"MAX('uptake calcs'!M162-'uptake calcs'!M161,0)","v":2.1166132432561682},null,{"$f":"MAX('uptake calcs'!L162-'uptake calcs'!L161,0)","v":0},{"$f":"MAX('uptake calcs'!N162-'uptake calcs'!N161,0)","v":0},null,2.1166132432561682,null,15,null,0,31.5,null,63.5,null,80,47,"Year 2","Year 2"]
[null,null,152,null,null,"2011-04-01",{"$f":"MAX('uptake calcs'!M163-'uptake calcs'!M162,0)","v":2.3498284891174706},null,{"$f":"MAX('uptake calcs'!L163-'uptake calcs'!L162,0)","v":0},{"$f":"MAX('uptake calcs'!N163-'uptake calcs'!N162,0)","v":0},null,2.3498284891174706,null,18,null,0,35,null,67,null,86,48,"Year 2","Year 2"]
[null,null,153,null,null,"2011-04-02",{"$f":"MAX('uptake calcs'!M164-'uptake calcs'!M163,0)","v":1.7433531800268298},null,{"$f":"MAX('uptake calcs'!L164-'uptake calcs'!L163,0)","v":0},{"$f":"MAX('uptake calcs'!N164-'uptake calcs'!N163,0)","v":0},null,1.7433531800268298,null,9.5,null,0,26,null,58,null,69,47,"Year 2","Year 2"]
[null,null,154,null,null,"2011-04-03",{"$f":"MAX('uptake calcs'!M165-'uptake calcs'!M164,0)","v":1.5400374446898581},null,{"$f":"MAX('uptake calcs'!L165-'uptake calcs'!L164,0)","v":0},{"$f":"MAX('uptake calcs'!N165-'uptake calcs'!N164,0)","v":0},null,1.5400374446898581,null,8,null,0,23,null,55,null,66,44,"Year 2","Year 2"]
[null,null,155,null,null,"2011-04-04",{"$f":"MAX('uptake calcs'!M166-'uptake calcs'!M165,0)","v":1.8714343095629289},null,{"$f":"MAX('uptake calcs'!L166-'uptake calcs'!L165,0)","v":0},{"$f":"MAX('uptake calcs'!N166-'uptake calcs'!N165,0)","v":0},null,1.8714343095629289,null,14.5,null,0,28,null,60,null,79,41,"Year 2","Year 2"]
[null,null,156,null,null,"2011-04-05",{"$f":"MAX('uptake calcs'!M167-'uptake calcs'!M166,0)","v":1.8669758240894794},null,{"$f":"MAX('uptake calcs'!L167-'uptake calcs'!L166,0)","v":0},{"$f":"MAX('uptake calcs'!N167-'uptake calcs'!N166,0)","v":0},null,1.8669758240894794,null,13,null,0,28,null,60,null,76,44,"Year 2","Year 2"]
[null,null,157,null,null,"2011-04-06",{"$f":"MAX('uptake calcs'!M168-'uptake calcs'!M167,0)","v":1.8285545631609921},null,{"$f":"MAX('uptake calcs'!L168-'uptake calcs'!L167,0)","v":0},{"$f":"MAX('uptake calcs'!N168-'uptake calcs'!N167,0)","v":0},null,1.8285545631609921,null,11,null,0,27.5,null,59.5,null,72,47,"Year 2","Year 2"]
[null,null,158,null,null,"2011-04-07",{"$f":"MAX('uptake calcs'!M169-'uptake calcs'!M168,0)","v":1.09441491463582},null,{"$f":"MAX('uptake calcs'!L169-'uptake calcs'!L168,0)","v":0},{"$f":"MAX('uptake calcs'!N169-'uptake calcs'!N168,0)","v":0},null,1.09441491463582,null,4,null,0,16.5,null,48.5,null,58,39,"Year 2","Year 2"]
[null,null,159,null,null,"2011-04-08",{"$f":"MAX('uptake calcs'!M170-'uptake calcs'!M169,0)","v":0.92685563269837701},null,{"$f":"MAX('uptake calcs'!L170-'uptake calcs'!L169,0)","v":0},{"$f":"MAX('uptake calcs'!N170-'uptake calcs'!N169,0)","v":0},null,0.92685563269837701,null,3.5,null,0,14,null,46,null,57,35,"Year 2","Year 2"]
[null,null,160,null,null,"2011-04-09",{"$f":"MAX('uptake calcs'!M171-'uptake calcs'!M170,0)","v":1.0901838685915521},null,{"$f":"MAX('uptake calcs'!L171-'uptake calcs'!L170,0)","v":0},{"$f":"MAX('uptake calcs'!N171-'uptake calcs'!N170,0)","v":0},null,1.0901838685915521,null,7,null,0,16.5,null,48.5,null,64,33,"Year 2","Year 2"]
[null,null,161,null,null,"2011-04-10",{"$f":"MAX('uptake calcs'!M172-'uptake calcs'!M171,0)","v":1.252254525584803},null,{"$f":"MAX('uptake calcs'!L172-'uptake calcs'!L171,0)","v":0},{"$f":"MAX('uptake calcs'!N172-'uptake calcs'!N171,0)","v":0},null,1.252254525584803,null,9,null,0,19,null,51,null,68,34,"Year 2","Year 2"]
[null,null,162,null,null,"2011-04-11",{"$f":"MAX('uptake calcs'!M173-'uptake calcs'!M172,0)","v":1.3799403813114566},null,{"$f":"MAX('uptake calcs'!L173-'uptake calcs'!L172,0)","v":0},{"$f":"MAX('uptake calcs'!N173-'uptake calcs'!N172,0)","v":0},null,1.3799403813114566,null,8,null,0,21,null,53,null,66,40,"Year 2","Year 2"]
[null,null,163,null,null,"2011-04-12",{"$f":"MAX('uptake calcs'!M174-'uptake calcs'!M173,0)","v":1.4733664481190658},null,{"$f":"MAX('uptake calcs'!L174-'uptake calcs'!L173,0)","v":0},{"$f":"MAX('uptake calcs'!N174-'uptake calcs'!N173,0)","v":0},null,1.4733664481190658,null,10,null,0,22.5,null,54.5,null,70,39,"Year 2","Year 2"]
[null,null,164,null,null,"2011-04-13",{"$f":"MAX('uptake calcs'!M175-'uptake calcs'!M174,0)","v":1.1094685540996636},null,{"$f":"MAX('uptake calcs'!L175-'uptake calcs'!L174,0)","v":0},{"$f":"MAX('uptake calcs'!N175-'uptake calcs'!N174,0)","v":0},null,1.1094685540996636,null,5.5,null,0,17,null,49,null,61,37,"Year 2","Year 2"]
[null,null,165,null,null,"2011-04-14",{"$f":"MAX('uptake calcs'!M176-'uptake calcs'!M175,0)","v":1.2035058628857769},null,{"$f":"MAX('uptake calcs'!L176-'uptake calcs'!L175,0)","v":0},{"$f":"MAX('uptake calcs'!N176-'uptake calcs'!N175,0)","v":0},null,1.2035058628857769,null,7.5,null,0,18.5,null,50.5,null,65,36,"Year 2","Year 2"]
[null,null,166,null,null,"2011-04-15",{"$f":"MAX('uptake calcs'!M177-'uptake calcs'!M176,0)","v":1.619638123352189},null,{"$f":"MAX('uptake calcs'!L177-'uptake calcs'!L176,0)","v":0},{"$f":"MAX('uptake calcs'!N177-'uptake calcs'!N176,0)","v":0},null,1.619638123352189,null,11.5,null,0,25,null,57,null,73,41,"Year 2","Year 2"]
[null,null,167,null,null,"2011-04-16",{"$f":"MAX('uptake calcs'!M178-'uptake calcs'!M177,0)","v":1.9969797527622575},null,{"$f":"MAX('uptake calcs'!L178-'uptake calcs'!L177,0)","v":0},{"$f":"MAX('uptake calcs'!N178-'uptake calcs'!N177,0)","v":0},null,1.9969797527622575,null,13,null,0,31,null,63,null,75,51,"Year 2","Year 2"]
[null,null,168,null,null,"2011-04-17",{"$f":"MAX('uptake calcs'!M179-'uptake calcs'!M178,0)","v":2.0154613717129166},null,{"$f":"MAX('uptake calcs'!L179-'uptake calcs'!L178,0)","v":0},{"$f":"MAX('uptake calcs'!N179-'uptake calcs'!N178,0)","v":0},null,2.0154613717129166,null,14,null,0,31.5,null,63.5,null,78,49,"Year 2","Year 2"]
[null,null,169,null,null,"2011-04-18",{"$f":"MAX('uptake calcs'!M180-'uptake calcs'!M179,0)","v":1.9374722012148311},null,{"$f":"MAX('uptake calcs'!L180-'uptake calcs'!L179,0)","v":0},{"$f":"MAX('uptake calcs'!N180-'uptake calcs'!N179,0)","v":0},null,1.9374722012148311,null,12.5,null,0,30.5,null,62.5,null,71,54,"Year 2","Year 2"]
[null,null,170,null,null,"2011-04-19",{"$f":"MAX('uptake calcs'!M181-'uptake calcs'!M180,0)","v":0},null,{"$f":"MAX('uptake calcs'!L181-'uptake calcs'!L180,0)","v":0},{"$f":"MAX('uptake calcs'!N181-'uptake calcs'!N180,0)","v":0},null,0,null,12.5,null,0,30.5,null,62.5,null,71,54,"Year 2","Year 2"]
[null,null,171,null,null,"2011-04-20",{"$f":"MAX('uptake calcs'!M182-'uptake calcs'!M181,0)","v":0},null,{"$f":"MAX('uptake calcs'!L182-'uptake calcs'!L181,0)","v":0},{"$f":"MAX('uptake calcs'!N182-'uptake calcs'!N181,0)","v":0},null,0,null,14,null,0,32,null,64,null,74,54,"Year 2","Year 2"]
[null,null,172,null,null,"2011-04-21",{"$f":"MAX('uptake calcs'!M183-'uptake calcs'!M182,0)","v":0},null,{"$f":"MAX('uptake calcs'!L183-'uptake calcs'!L182,0)","v":0},{"$f":"MAX('uptake calcs'!N183-'uptake calcs'!N182,0)","v":0},null,0,null,9,null,0,25,null,57,null,68,46,"Year 2","Year 2"]
[null,null,173,null,null,"2011-04-22",{"$f":"MAX('uptake calcs'!M184-'uptake calcs'!M183,0)","v":0},null,{"$f":"MAX('uptake calcs'!L184-'uptake calcs'!L183,0)","v":0},{"$f":"MAX('uptake calcs'!N184-'uptake calcs'!N183,0)","v":0},null,0,null,8,null,0,21.5,null,53.5,null,66,41,"Year 2","Year 2"]
[null,null,174,null,null,"2011-04-23",{"$f":"MAX('uptake calcs'!M185-'uptake calcs'!M184,0)","v":0},null,{"$f":"MAX('uptake calcs'!L185-'uptake calcs'!L184,0)","v":0},{"$f":"MAX('uptake calcs'!N185-'uptake calcs'!N184,0)","v":0},null,0,null,11,null,0,28,null,60,null,72,48,"Year 2","Year 2"]
[null,null,175,null,null,"2011-04-24",{"$f":"MAX('uptake calcs'!M186-'uptake calcs'!M185,0)","v":0},null,{"$f":"MAX('uptake calcs'!L186-'uptake calcs'!L185,0)","v":0},{"$f":"MAX('uptake calcs'!N186-'uptake calcs'!N185,0)","v":0},null,0,null,10,null,0,26,null,58,null,70,46,"Year 2","Year 2"]
[null,null,176,null,null,"2011-04-25",{"$f":"MAX('uptake calcs'!M187-'uptake calcs'!M186,0)","v":0},null,{"$f":"MAX('uptake calcs'!L187-'uptake calcs'!L186,0)","v":0},{"$f":"MAX('uptake calcs'!N187-'uptake calcs'!N186,0)","v":0},null,0,null,11.5,null,0,27,null,59,null,73,45,"Year 2","Year 2"]
[null,null,177,null,null,"2011-04-26",{"$f":"MAX('uptake calcs'!M188-'uptake calcs'!M187,0)","v":0},null,{"$f":"MAX('uptake calcs'!L188-'uptake calcs'!L187,0)","v":0},{"$f":"MAX('uptake calcs'!N188-'uptake calcs'!N187,0)","v":0},null,0,null,9.5,null,0,23,null,55,null,69,41,"Year 2","Year 2"]
[null,null,178,null,null,"2011-04-27",{"$f":"MAX('uptake calcs'!M189-'uptake calcs'!M188,0)","v":0},null,{"$f":"MAX('uptake calcs'!L189-'uptake calcs'!L188,0)","v":0},{"$f":"MAX('uptake calcs'!N189-'uptake calcs'!N188,0)","v":0},null,0,null,12.5,null,0,26,null,58,null,75,41,"Year 2","Year 2"]
[null,null,179,null,null,"2011-04-28",{"$f":"MAX('uptake calcs'!M190-'uptake calcs'!M189,0)","v":0},null,{"$f":"MAX('uptake calcs'!L190-'uptake calcs'!L189,0)","v":0},{"$f":"MAX('uptake calcs'!N190-'uptake calcs'!N189,0)","v":0},null,0,null,11.5,null,0,26,null,58,null,73,43,"Year 2","Year 2"]
[null,null,180,null,null,"2011-04-29",{"$f":"MAX('uptake calcs'!M191-'uptake calcs'!M190,0)","v":0},null,{"$f":"MAX('uptake calcs'!L191-'uptake calcs'!L190,0)","v":0},{"$f":"MAX('uptake calcs'!N191-'uptake calcs'!N190,0)","v":0},null,0,null,9.5,null,0,23.5,null,55.5,null,69,42,"Year 2","Year 2"]
[null,null,181,null,null,"2011-04-30",{"$f":"MAX('uptake calcs'!M192-'uptake calcs'!M191,0)","v":0},null,{"$f":"MAX('uptake calcs'!L192-'uptake calcs'!L191,0)","v":0},{"$f":"MAX('uptake calcs'!N192-'uptake calcs'!N191,0)","v":0},null,0,null,12,null,0,25.5,null,57.5,null,74,41,"Year 2","Year 2"]
[null,null,182,null,null,"2011-05-01",{"$f":"MAX('uptake calcs'!M193-'uptake calcs'!M192,0)","v":0},null,{"$f":"MAX('uptake calcs'!L193-'uptake calcs'!L192,0)","v":0},{"$f":"MAX('uptake calcs'!N193-'uptake calcs'!N192,0)","v":0},null,0,null,14,null,0,27,null,59,null,78,40,"Year 2","Year 2"]
[null,null,183,null,null,"2011-05-02",{"$f":"MAX('uptake calcs'!M194-'uptake calcs'!M193,0)","v":0},null,{"$f":"MAX('uptake calcs'!L194-'uptake calcs'!L193,0)","v":0},{"$f":"MAX('uptake calcs'!N194-'uptake calcs'!N193,0)","v":0},null,0,null,17,null,0,32,null,64,null,84,44,"Year 2","Year 2"]
[null,null,184,null,null,"2011-05-03",{"$f":"MAX('uptake calcs'!M195-'uptake calcs'!M194,0)","v":0},null,{"$f":"MAX('uptake calcs'!L195-'uptake calcs'!L194,0)","v":0},{"$f":"MAX('uptake calcs'!N195-'uptake calcs'!N194,0)","v":0},null,0,null,14.5,null,0,31.5,null,63.5,null,79,48,"Year 2","Year 2"]
[null,null,185,null,null,"2011-05-04",{"$f":"MAX('uptake calcs'!M196-'uptake calcs'!M195,0)","v":0},null,{"$f":"MAX('uptake calcs'!L196-'uptake calcs'!L195,0)","v":0},{"$f":"MAX('uptake calcs'!N196-'uptake calcs'!N195,0)","v":0},null,0,null,18.5,null,0,35,null,67,null,87,47,"Year 2","Year 2"]
[null,null,186,null,null,"2011-05-05",{"$f":"MAX('uptake calcs'!M197-'uptake calcs'!M196,0)","v":0},null,{"$f":"MAX('uptake calcs'!L197-'uptake calcs'!L196,0)","v":0},{"$f":"MAX('uptake calcs'!N197-'uptake calcs'!N196,0)","v":0},null,0,null,22,null,0,40,null,72,null,93,51,"Year 2","Year 2"]
[null,null,187,null,null,"2011-05-06",{"$f":"MAX('uptake calcs'!M198-'uptake calcs'!M197,0)","v":0},null,{"$f":"MAX('uptake calcs'!L198-'uptake calcs'!L197,0)","v":0},{"$f":"MAX('uptake calcs'!N198-'uptake calcs'!N197,0)","v":0},null,0,null,18.5,null,0,36.5,null,68.5,null,85,52,"Year 2","Year 2"]
[null,null,188,null,null,"2011-05-07",{"$f":"MAX('uptake calcs'!M199-'uptake calcs'!M198,0)","v":0},null,{"$f":"MAX('uptake calcs'!L199-'uptake calcs'!L198,0)","v":0},{"$f":"MAX('uptake calcs'!N199-'uptake calcs'!N198,0)","v":0},null,0,null,13.5,null,0,30,null,62,null,77,47,"Year 2","Year 2"]
[null,null,189,null,null,"2011-05-08",{"$f":"MAX('uptake calcs'!M200-'uptake calcs'!M199,0)","v":0},null,{"$f":"MAX('uptake calcs'!L200-'uptake calcs'!L199,0)","v":0},{"$f":"MAX('uptake calcs'!N200-'uptake calcs'!N199,0)","v":0},null,0,null,8.5,null,0,23,null,55,null,67,43,"Year 2","Year 2"]
[null,null,190,null,null,"2011-05-09",{"$f":"MAX('uptake calcs'!M201-'uptake calcs'!M200,0)","v":0},null,{"$f":"MAX('uptake calcs'!L201-'uptake calcs'!L200,0)","v":0},{"$f":"MAX('uptake calcs'!N201-'uptake calcs'!N200,0)","v":0},null,0,null,10,null,0,23,null,55,null,70,40,"Year 2","Year 2"]
[null,null,191,null,null,"2011-05-10",{"$f":"MAX('uptake calcs'!M202-'uptake calcs'!M201,0)","v":0},null,{"$f":"MAX('uptake calcs'!L202-'uptake calcs'!L201,0)","v":0},{"$f":"MAX('uptake calcs'!N202-'uptake calcs'!N201,0)","v":0},null,0,null,14.5,null,0,28.5,null,60.5,null,79,42,"Year 2","Year 2"]
[null,null,192,null,null,"2011-05-11",{"$f":"MAX('uptake calcs'!M203-'uptake calcs'!M202,0)","v":0},null,{"$f":"MAX('uptake calcs'!L203-'uptake calcs'!L202,0)","v":0},{"$f":"MAX('uptake calcs'!N203-'uptake calcs'!N202,0)","v":0},null,0,null,15,null,0,30.5,null,62.5,null,80,45,"Year 2","Year 2"]
[null,null,193,null,null,"2011-05-12",{"$f":"MAX('uptake calcs'!M204-'uptake calcs'!M203,0)","v":0},null,{"$f":"MAX('uptake calcs'!L204-'uptake calcs'!L203,0)","v":0},{"$f":"MAX('uptake calcs'!N204-'uptake calcs'!N203,0)","v":0},null,{"$f":"SUM(G287:J287)","v":0},null,{"$f":"IF($U287>cutoff.corn.min,((IF($U287>cutoff.corn.max,cutoff.corn.max,$U287)+IF($V287<cutoff.corn.min,cutoff.corn.min,$V287))/2)-cutoff.corn.min,0)","v":15},null,{"$f":"IF(AND(C287>=C$44,C287<=$C$55),N287+P286,0)","v":0},{"$f":"((U287+V287)/2)-32","v":32.5},null,{"$f":"AVERAGE(U287:V287)","v":64.5},null,80,49,"Year 2","Year 2"]
[null,null,194,null,null,"2011-05-13",{"$f":"MAX('uptake calcs'!M205-'uptake calcs'!M204,0)","v":0},null,{"$f":"MAX('uptake calcs'!L205-'uptake calcs'!L204,0)","v":0},{"$f":"MAX('uptake calcs'!N205-'uptake calcs'!N204,0)","v":0},null,0,null,16,null,0,33,null,65,null,82,48,"Year 2","Year 2"]
[null,null,195,null,null,{"$f":"F288+1","v":"2011-05-14"},{"$f":"MAX('uptake calcs'!M206-'uptake calcs'!M205,0)","v":0},null,{"$f":"MAX('uptake calcs'!L206-'uptake calcs'!L205,0)","v":0},{"$f":"MAX('uptake calcs'!N206-'uptake calcs'!N205,0)","v":0},null,0,null,7.5,null,0,24.5,null,56.5,null,65,48,"Year 2","Year 2"]
[null,null,196,null,null,"2011-05-15",{"$f":"MAX('uptake calcs'!M207-'uptake calcs'!M206,0)","v":0},null,{"$f":"MAX('uptake calcs'!L207-'uptake calcs'!L206,0)","v":1.0092814247473539E-3},{"$f":"MAX('uptake calcs'!N207-'uptake calcs'!N206,0)","v":0},null,1.0092814247473539E-3,null,4.5,null,4.5,19.5,null,51.5,null,59,44,"Year 2","Year 2"]
[null,null,197,null,null,"2011-05-16",{"$f":"MAX('uptake calcs'!M208-'uptake calcs'!M207,0)","v":0},null,{"$f":"MAX('uptake calcs'!L208-'uptake calcs'!L207,0)","v":1.7108734714404859E-3},{"$f":"MAX('uptake calcs'!N208-'uptake calcs'!N207,0)","v":0},null,1.7108734714404859E-3,null,7,null,11.5,21,null,53,null,64,42,"Year 2","Year 2"]
[null,null,198,null,null,"2011-05-17",{"$f":"MAX('uptake calcs'!M209-'uptake calcs'!M208,0)","v":0},null,{"$f":"MAX('uptake calcs'!L209-'uptake calcs'!L208,0)","v":1.4751530089511262E-3},{"$f":"MAX('uptake calcs'!N209-'uptake calcs'!N208,0)","v":0},null,1.4751530089511262E-3,null,5.5,null,17,23,null,55,null,61,49,"Year 2","Year 2"]
[null,null,199,null,null,"2011-05-18",{"$f":"MAX('uptake calcs'!M210-'uptake calcs'!M209,0)","v":0},null,{"$f":"MAX('uptake calcs'!L210-'uptake calcs'!L209,0)","v":2.5312083363745767E-3},{"$f":"MAX('uptake calcs'!N210-'uptake calcs'!N209,0)","v":0},null,2.5312083363745767E-3,null,8.5,null,25.5,25.5,null,57.5,null,67,48,"Year 2","Year 2"]
[null,null,200,null,null,"2011-05-19",{"$f":"MAX('uptake calcs'!M211-'uptake calcs'!M210,0)","v":0},null,{"$f":"MAX('uptake calcs'!L211-'uptake calcs'!L210,0)","v":4.5469614424168284E-3},{"$f":"MAX('uptake calcs'!N211-'uptake calcs'!N210,0)","v":0},null,4.5469614424168284E-3,null,13,null,38.5,29,null,61,null,76,46,"Year 2","Year 2"]
[null,null,201,null,null,"2011-05-20",{"$f":"MAX('uptake calcs'!M212-'uptake calcs'!M211,0)","v":0},null,{"$f":"MAX('uptake calcs'!L212-'uptake calcs'!L211,0)","v":6.7053925612009478E-3},{"$f":"MAX('uptake calcs'!N212-'uptake calcs'!N211,0)","v":0},null,6.7053925612009478E-3,null,15.5,null,54,32.5,null,64.5,null,81,48,"Year 2","Year 2"]
[null,null,202,null,null,"2011-05-21",{"$f":"MAX('uptake calcs'!M213-'uptake calcs'!M212,0)","v":0},null,{"$f":"MAX('uptake calcs'!L213-'uptake calcs'!L212,0)","v":8.1376527831396248E-3},{"$f":"MAX('uptake calcs'!N213-'uptake calcs'!N212,0)","v":0},null,8.1376527831396248E-3,null,15,null,69,33,null,65,null,79,51,"Year 2","Year 2"]
[null,null,203,null,null,"2011-05-22",{"$f":"MAX('uptake calcs'!M214-'uptake calcs'!M213,0)","v":0},null,{"$f":"MAX('uptake calcs'!L214-'uptake calcs'!L213,0)","v":8.3104130923409292E-3},{"$f":"MAX('uptake calcs'!N214-'uptake calcs'!N213,0)","v":0},null,8.3104130923409292E-3,null,12.5,null,81.5,28.5,null,60.5,null,75,46,"Year 2","Year 2"]
[null,null,204,null,null,"2011-05-23",{"$f":"MAX('uptake calcs'!M215-'uptake calcs'!M214,0)","v":0},null,{"$f":"MAX('uptake calcs'!L215-'uptake calcs'!L214,0)","v":8.700543796247899E-3},{"$f":"MAX('uptake calcs'!N215-'uptake calcs'!N214,0)","v":0},null,8.700543796247899E-3,null,11,null,92.5,27.5,null,59.5,null,72,47,"Year 2","Year 2"]
[null,null,205,null,null,"2011-05-24",{"$f":"MAX('uptake calcs'!M216-'uptake calcs'!M215,0)","v":0},null,{"$f":"MAX('uptake calcs'!L216-'uptake calcs'!L215,0)","v":1.1766735207240892E-2},{"$f":"MAX('uptake calcs'!N216-'uptake calcs'!N215,0)","v":0},null,1.1766735207240892E-2,null,12.5,null,105,26.5,null,58.5,null,75,42,"Year 2","Year 2"]
[null,null,206,null,null,"2011-05-25",{"$f":"MAX('uptake calcs'!M217-'uptake calcs'!M216,0)","v":0},null,{"$f":"MAX('uptake calcs'!L217-'uptake calcs'!L216,0)","v":1.2919809329315517E-2},{"$f":"MAX('uptake calcs'!N217-'uptake calcs'!N216,0)","v":0},null,1.2919809329315517E-2,null,11.5,null,116.5,28.5,null,60.5,null,73,48,"Year 2","Year 2"]
[null,null,207,null,null,"2011-05-26",{"$f":"MAX('uptake calcs'!M218-'uptake calcs'!M217,0)","v":0},null,{"$f":"MAX('uptake calcs'!L218-'uptake calcs'!L217,0)","v":1.3157484757266191E-2},{"$f":"MAX('uptake calcs'!N218-'uptake calcs'!N217,0)","v":0},null,1.3157484757266191E-2,null,10,null,126.5,26.5,null,58.5,null,70,47,"Year 2","Year 2"]
[null,null,208,null,null,"2011-05-27",{"$f":"MAX('uptake calcs'!M219-'uptake calcs'!M218,0)","v":0},null,{"$f":"MAX('uptake calcs'!L219-'uptake calcs'!L218,0)","v":1.7723934540443381E-2},{"$f":"MAX('uptake calcs'!N219-'uptake calcs'!N218,0)","v":0},null,1.7723934540443381E-2,null,11.5,null,138,28,null,60,null,73,47,"Year 2","Year 2"]
[null,null,209,null,null,"2011-05-28",{"$f":"MAX('uptake calcs'!M220-'uptake calcs'!M219,0)","v":0},null,{"$f":"MAX('uptake calcs'!L220-'uptake calcs'!L219,0)","v":1.9007204182532447E-2},{"$f":"MAX('uptake calcs'!N220-'uptake calcs'!N219,0)","v":0},null,1.9007204182532447E-2,null,10.5,null,148.5,26,null,58,null,71,45,"Year 2","Year 2"]
[null,null,210,null,null,"2011-05-29",{"$f":"MAX('uptake calcs'!M221-'uptake calcs'!M220,0)","v":0},null,{"$f":"MAX('uptake calcs'!L221-'uptake calcs'!L220,0)","v":2.1020798701423843E-2},{"$f":"MAX('uptake calcs'!N221-'uptake calcs'!N220,0)","v":0},null,2.1020798701423843E-2,null,10,null,158.5,25.5,null,57.5,null,70,45,"Year 2","Year 2"]
[null,null,211,null,null,"2011-05-30",{"$f":"MAX('uptake calcs'!M222-'uptake calcs'!M221,0)","v":0},null,{"$f":"MAX('uptake calcs'!L222-'uptake calcs'!L221,0)","v":3.095812243817489E-2},{"$f":"MAX('uptake calcs'!N222-'uptake calcs'!N221,0)","v":0},null,3.095812243817489E-2,null,12.5,null,171,27.5,null,59.5,null,75,44,"Year 2","Year 2"]
[null,null,212,null,null,"2011-05-31",{"$f":"MAX('uptake calcs'!M223-'uptake calcs'!M222,0)","v":0},null,{"$f":"MAX('uptake calcs'!L223-'uptake calcs'!L222,0)","v":3.547438725420235E-2},{"$f":"MAX('uptake calcs'!N223-'uptake calcs'!N222,0)","v":0},null,3.547438725420235E-2,null,12,null,183,28.5,null,60.5,null,74,47,"Year 2","Year 2"]
[null,null,213,null,null,"2011-06-01",{"$f":"MAX('uptake calcs'!M224-'uptake calcs'!M223,0)","v":0},null,{"$f":"MAX('uptake calcs'!L224-'uptake calcs'!L223,0)","v":2.7287385421713245E-2},{"$f":"MAX('uptake calcs'!N224-'uptake calcs'!N223,0)","v":0},null,2.7287385421713245E-2,null,8,null,191,24.5,null,56.5,null,66,47,"Year 2","Year 2"]
[null,null,214,null,null,"2011-06-02",{"$f":"MAX('uptake calcs'!M225-'uptake calcs'!M224,0)","v":0},null,{"$f":"MAX('uptake calcs'!L225-'uptake calcs'!L224,0)","v":3.6728466867527287E-2},{"$f":"MAX('uptake calcs'!N225-'uptake calcs'!N224,0)","v":0},null,3.6728466867527287E-2,null,9.5,null,200.5,23.5,null,55.5,null,69,42,"Year 2","Year 2"]
[null,null,215,null,null,"2011-06-03",{"$f":"MAX('uptake calcs'!M226-'uptake calcs'!M225,0)","v":0},null,{"$f":"MAX('uptake calcs'!L226-'uptake calcs'!L225,0)","v":4.4406504796590807E-2},{"$f":"MAX('uptake calcs'!N226-'uptake calcs'!N225,0)","v":0},null,4.4406504796590807E-2,null,10,null,210.5,25.5,null,57.5,null,70,45,"Year 2","Year 2"]
[null,null,216,null,null,"2011-06-04",{"$f":"MAX('uptake calcs'!M227-'uptake calcs'!M226,0)","v":0},null,{"$f":"MAX('uptake calcs'!L227-'uptake calcs'!L226,0)","v":4.5684827054202903E-2},{"$f":"MAX('uptake calcs'!N227-'uptake calcs'!N226,0)","v":0},null,4.5684827054202903E-2,null,9,null,219.5,27,null,59,null,64,54,"Year 2","Year 2"]
[null,null,217,null,null,"2011-06-05",{"$f":"MAX('uptake calcs'!M228-'uptake calcs'!M227,0)","v":0},null,{"$f":"MAX('uptake calcs'!L228-'uptake calcs'!L227,0)","v":9.0118094798546711E-2},{"$f":"MAX('uptake calcs'!N228-'uptake calcs'!N227,0)","v":0},null,9.0118094798546711E-2,null,15,null,234.5,33,null,65,null,75,55,"Year 2","Year 2"]
[null,null,218,null,null,"2011-06-06",{"$f":"MAX('uptake calcs'!M229-'uptake calcs'!M228,0)","v":0},null,{"$f":"MAX('uptake calcs'!L229-'uptake calcs'!L228,0)","v":9.4652770739403036E-2},{"$f":"MAX('uptake calcs'!N229-'uptake calcs'!N228,0)","v":0},null,9.4652770739403036E-2,null,13,null,247.5,31,null,63,null,72,54,"Year 2","Year 2"]
[null,null,219,null,null,"2011-06-07",{"$f":"MAX('uptake calcs'!M230-'uptake calcs'!M229,0)","v":0},null,{"$f":"MAX('uptake calcs'!L230-'uptake calcs'!L229,0)","v":0.10344611791366454},{"$f":"MAX('uptake calcs'!N230-'uptake calcs'!N229,0)","v":0},null,0.10344611791366454,null,12,null,259.5,29.5,null,61.5,null,74,49,"Year 2","Year 2"]
[null,null,220,null,null,"2011-06-08",{"$f":"MAX('uptake calcs'!M231-'uptake calcs'!M230,0)","v":0},null,{"$f":"MAX('uptake calcs'!L231-'uptake calcs'!L230,0)","v":0.17192145424652661},{"$f":"MAX('uptake calcs'!N231-'uptake calcs'!N230,0)","v":0},null,0.17192145424652661,null,16.5,null,276,34.5,null,66.5,null,81,52,"Year 2","Year 2"]
[null,null,221,null,null,"2011-06-09",{"$f":"MAX('uptake calcs'!M232-'uptake calcs'!M231,0)","v":0},null,{"$f":"MAX('uptake calcs'!L232-'uptake calcs'!L231,0)","v":0.23416218234961061},{"$f":"MAX('uptake calcs'!N232-'uptake calcs'!N231,0)","v":0},null,0.23416218234961061,null,18,null,294,36,null,68,null,83,53,"Year 2","Year 2"]
[null,null,222,null,null,"2011-06-10",{"$f":"MAX('uptake calcs'!M233-'uptake calcs'!M232,0)","v":0},null,{"$f":"MAX('uptake calcs'!L233-'uptake calcs'!L232,0)","v":0.28334296767394385},{"$f":"MAX('uptake calcs'!N233-'uptake calcs'!N232,0)","v":0},null,0.28334296767394385,null,17.5,null,311.5,35.5,null,67.5,null,82,53,"Year 2","Year 2"]
[null,null,223,null,null,"2011-06-11",{"$f":"MAX('uptake calcs'!M234-'uptake calcs'!M233,0)","v":0},null,{"$f":"MAX('uptake calcs'!L234-'uptake calcs'!L233,0)","v":0.25169182851509642},{"$f":"MAX('uptake calcs'!N234-'uptake calcs'!N233,0)","v":0},null,0.25169182851509642,null,13,null,324.5,31,null,63,null,76,50,"Year 2","Year 2"]
[null,null,224,null,null,"2011-06-12",{"$f":"MAX('uptake calcs'!M235-'uptake calcs'!M234,0)","v":0},null,{"$f":"MAX('uptake calcs'!L235-'uptake calcs'!L234,0)","v":0.37677280237546906},{"$f":"MAX('uptake calcs'!N235-'uptake calcs'!N234,0)","v":0},null,0.37677280237546906,null,16.5,null,341,34.5,null,66.5,null,81,52,"Year 2","Year 2"]
[null,null,225,null,null,"2011-06-13",{"$f":"MAX('uptake calcs'!M236-'uptake calcs'!M235,0)","v":0},null,{"$f":"MAX('uptake calcs'!L236-'uptake calcs'!L235,0)","v":0.56773071053383384},{"$f":"MAX('uptake calcs'!N236-'uptake calcs'!N235,0)","v":0},null,0.56773071053383384,null,20.5,null,361.5,38.5,null,70.5,null,86,55,"Year 2","Year 2"]
[null,null,226,null,null,"2011-06-14",{"$f":"MAX('uptake calcs'!M237-'uptake calcs'!M236,0)","v":0},null,{"$f":"MAX('uptake calcs'!L237-'uptake calcs'!L236,0)","v":0.8380072593091632},{"$f":"MAX('uptake calcs'!N237-'uptake calcs'!N236,0)","v":0},null,0.8380072593091632,null,24.5,null,386,42.5,null,74.5,null,90,59,"Year 2","Year 2"]
[null,null,227,null,null,"2011-06-15",{"$f":"MAX('uptake calcs'!M238-'uptake calcs'!M237,0)","v":0},null,{"$f":"MAX('uptake calcs'!L238-'uptake calcs'!L237,0)","v":1.044398397390998},{"$f":"MAX('uptake calcs'!N238-'uptake calcs'!N237,0)","v":0},null,1.044398397390998,null,25,null,411,43,null,75,null,91,59,"Year 2","Year 2"]
[null,null,228,null,null,"2011-06-16",{"$f":"MAX('uptake calcs'!M239-'uptake calcs'!M238,0)","v":0},null,{"$f":"MAX('uptake calcs'!L239-'uptake calcs'!L238,0)","v":1.0503320724002423},{"$f":"MAX('uptake calcs'!N239-'uptake calcs'!N238,0)","v":0},null,1.0503320724002423,null,21.5,null,432.5,39.5,null,71.5,null,86,57,"Year 2","Year 2"]
[null,null,229,null,null,"2011-06-17",{"$f":"MAX('uptake calcs'!M240-'uptake calcs'!M239,0)","v":0},null,{"$f":"MAX('uptake calcs'!L240-'uptake calcs'!L239,0)","v":1.1820734783560329},{"$f":"MAX('uptake calcs'!N240-'uptake calcs'!N239,0)","v":0},null,1.1820734783560329,null,21.5,null,454,39.5,null,71.5,null,87,56,"Year 2","Year 2"]
[null,null,230,null,null,"2011-06-18",{"$f":"MAX('uptake calcs'!M241-'uptake calcs'!M240,0)","v":0},null,{"$f":"MAX('uptake calcs'!L241-'uptake calcs'!L240,0)","v":1.2678492443729468},{"$f":"MAX('uptake calcs'!N241-'uptake calcs'!N240,0)","v":0},null,1.2678492443729468,null,21,null,475,39,null,71,null,87,55,"Year 2","Year 2"]
[null,null,231,null,null,"2011-06-19",{"$f":"MAX('uptake calcs'!M242-'uptake calcs'!M241,0)","v":0},null,{"$f":"MAX('uptake calcs'!L242-'uptake calcs'!L241,0)","v":1.497014454508653},{"$f":"MAX('uptake calcs'!N242-'uptake calcs'!N241,0)","v":0},null,1.497014454508653,null,23,null,498,41,null,73,null,87,59,"Year 2","Year 2"]
[null,null,232,null,null,"2011-06-20",{"$f":"MAX('uptake calcs'!M243-'uptake calcs'!M242,0)","v":0},null,{"$f":"MAX('uptake calcs'!L243-'uptake calcs'!L242,0)","v":1.7293555940344145},{"$f":"MAX('uptake calcs'!N243-'uptake calcs'!N242,0)","v":0},null,1.7293555940344145,null,25,null,523,43,null,75,null,92,58,"Year 2","Year 2"]
[null,null,233,null,null,"2011-06-21",{"$f":"MAX('uptake calcs'!M244-'uptake calcs'!M243,0)","v":0},null,{"$f":"MAX('uptake calcs'!L244-'uptake calcs'!L243,0)","v":2.1403896574857644},{"$f":"MAX('uptake calcs'!N244-'uptake calcs'!N243,0)","v":0},null,2.1403896574857644,null,29.5,null,552.5,49,null,81,null,98,64,"Year 2","Year 2"]
[null,null,234,null,null,"2011-06-22",{"$f":"MAX('uptake calcs'!M245-'uptake calcs'!M244,0)","v":0},null,{"$f":"MAX('uptake calcs'!L245-'uptake calcs'!L244,0)","v":2.2875728998519076},{"$f":"MAX('uptake calcs'!N245-'uptake calcs'!N244,0)","v":0},null,2.2875728998519076,null,30.5,null,583,49.5,null,81.5,null,97,66,"Year 2","Year 2"]
[null,null,235,null,null,"2011-06-23",{"$f":"MAX('uptake calcs'!M246-'uptake calcs'!M245,0)","v":0},null,{"$f":"MAX('uptake calcs'!L246-'uptake calcs'!L245,0)","v":1.8703973000041181},{"$f":"MAX('uptake calcs'!N246-'uptake calcs'!N245,0)","v":0},null,1.8703973000041181,null,24.5,null,607.5,42.5,null,74.5,null,90,59,"Year 2","Year 2"]
[null,null,236,null,null,"2011-06-24",{"$f":"MAX('uptake calcs'!M247-'uptake calcs'!M246,0)","v":0},null,{"$f":"MAX('uptake calcs'!L247-'uptake calcs'!L246,0)","v":1.5003350274280685},{"$f":"MAX('uptake calcs'!N247-'uptake calcs'!N246,0)","v":0},null,1.5003350274280685,null,19.5,null,627,37.5,null,69.5,null,86,53,"Year 2","Year 2"]
[null,null,237,null,null,"2011-06-25",{"$f":"MAX('uptake calcs'!M248-'uptake calcs'!M247,0)","v":0},null,{"$f":"MAX('uptake calcs'!L248-'uptake calcs'!L247,0)","v":1.5827381986053659},{"$f":"MAX('uptake calcs'!N248-'uptake calcs'!N247,0)","v":0},null,1.5827381986053659,null,20.5,null,647.5,38.5,null,70.5,null,87,54,"Year 2","Year 2"]
[null,null,238,null,null,"2011-06-26",{"$f":"MAX('uptake calcs'!M249-'uptake calcs'!M248,0)","v":0},null,{"$f":"MAX('uptake calcs'!L249-'uptake calcs'!L248,0)","v":1.6228717658715865},{"$f":"MAX('uptake calcs'!N249-'uptake calcs'!N248,0)","v":0},null,1.6228717658715865,null,21,null,668.5,39,null,71,null,87,55,"Year 2","Year 2"]
[null,null,239,null,null,"2011-06-27",{"$f":"MAX('uptake calcs'!M250-'uptake calcs'!M249,0)","v":0},null,{"$f":"MAX('uptake calcs'!L250-'uptake calcs'!L249,0)","v":1.8138392015579221},{"$f":"MAX('uptake calcs'!N250-'uptake calcs'!N249,0)","v":0},null,1.8138392015579221,null,23.5,null,692,41.5,null,73.5,null,89,58,"Year 2","Year 2"]
[null,null,240,null,null,"2011-06-28",{"$f":"MAX('uptake calcs'!M251-'uptake calcs'!M250,0)","v":0},null,{"$f":"MAX('uptake calcs'!L251-'uptake calcs'!L250,0)","v":1.4240964540228163},{"$f":"MAX('uptake calcs'!N251-'uptake calcs'!N250,0)","v":0},null,1.4240964540228163,null,18.5,null,710.5,36.5,null,68.5,null,79,58,"Year 2","Year 2"]
[null,null,241,null,null,"2011-06-29",{"$f":"MAX('uptake calcs'!M252-'uptake calcs'!M251,0)","v":0},null,{"$f":"MAX('uptake calcs'!L252-'uptake calcs'!L251,0)","v":1.0746167175342975},{"$f":"MAX('uptake calcs'!N252-'uptake calcs'!N251,0)","v":0},null,1.0746167175342975,null,14,null,724.5,32,null,64,null,72,56,"Year 2","Year 2"]
[null,null,242,null,null,"2011-06-30",{"$f":"MAX('uptake calcs'!M253-'uptake calcs'!M252,0)","v":0},null,{"$f":"MAX('uptake calcs'!L253-'uptake calcs'!L252,0)","v":1.4152029585626487},{"$f":"MAX('uptake calcs'!N253-'uptake calcs'!N252,0)","v":0},null,1.4152029585626487,null,18.5,null,743,36.5,null,68.5,null,83,54,"Year 2","Year 2"]
[null,null,243,null,null,"2011-07-01",{"$f":"MAX('uptake calcs'!M254-'uptake calcs'!M253,0)","v":0},null,{"$f":"MAX('uptake calcs'!L254-'uptake calcs'!L253,0)","v":1.826687077638411},{"$f":"MAX('uptake calcs'!N254-'uptake calcs'!N253,0)","v":0},null,1.826687077638411,null,24,null,767,42,null,74,null,90,58,"Year 2","Year 2"]
[null,null,244,null,null,"2011-07-02",{"$f":"MAX('uptake calcs'!M255-'uptake calcs'!M254,0)","v":0},null,{"$f":"MAX('uptake calcs'!L255-'uptake calcs'!L254,0)","v":2.1165741114898715},{"$f":"MAX('uptake calcs'!N255-'uptake calcs'!N254,0)","v":0},null,2.1165741114898715,null,28,null,795,46,null,78,null,95,61,"Year 2","Year 2"]
[null,null,245,null,null,"2011-07-03",{"$f":"MAX('uptake calcs'!M256-'uptake calcs'!M255,0)","v":0},null,{"$f":"MAX('uptake calcs'!L256-'uptake calcs'!L255,0)","v":2.17446797477335},{"$f":"MAX('uptake calcs'!N256-'uptake calcs'!N255,0)","v":0},null,2.17446797477335,null,29,null,824,47.5,null,79.5,null,96,63,"Year 2","Year 2"]
[null,null,246,null,null,"2011-07-04",{"$f":"MAX('uptake calcs'!M257-'uptake calcs'!M256,0)","v":0},null,{"$f":"MAX('uptake calcs'!L257-'uptake calcs'!L256,0)","v":2.1926883545652629},{"$f":"MAX('uptake calcs'!N257-'uptake calcs'!N256,0)","v":0},null,2.1926883545652629,null,29.5,null,853.5,49,null,81,null,98,64,"Year 2","Year 2"]
[null,null,247,null,null,"2011-07-05",{"$f":"MAX('uptake calcs'!M258-'uptake calcs'!M257,0)","v":0},null,{"$f":"MAX('uptake calcs'!L258-'uptake calcs'!L257,0)","v":2.2094530417128126},{"$f":"MAX('uptake calcs'!N258-'uptake calcs'!N257,0)","v":0},null,2.2094530417128126,null,30,null,883.5,50.5,null,82.5,null,100,65,"Year 2","Year 2"]
[null,null,248,null,null,"2011-07-06",{"$f":"MAX('uptake calcs'!M259-'uptake calcs'!M258,0)","v":0},null,{"$f":"MAX('uptake calcs'!L259-'uptake calcs'!L258,0)","v":7.1313081768632856},{"$f":"MAX('uptake calcs'!N259-'uptake calcs'!N258,0)","v":0},null,7.1313081768632856,null,32,null,915.5,50.5,null,82.5,null,96,69,"Year 2","Year 2"]
[null,null,249,null,null,"2011-07-07",{"$f":"MAX('uptake calcs'!M260-'uptake calcs'!M259,0)","v":0},null,{"$f":"MAX('uptake calcs'!L260-'uptake calcs'!L259,0)","v":8.0814195407995726},{"$f":"MAX('uptake calcs'!N260-'uptake calcs'!N259,0)","v":0},null,8.0814195407995726,null,29.5,null,945,47.5,null,79.5,null,94,65,"Year 2","Year 2"]
[null,null,250,null,null,"2011-07-08",{"$f":"MAX('uptake calcs'!M261-'uptake calcs'!M260,0)","v":0},null,{"$f":"MAX('uptake calcs'!L261-'uptake calcs'!L260,0)","v":9.2530515817755727},{"$f":"MAX('uptake calcs'!N261-'uptake calcs'!N260,0)","v":0},null,9.2530515817755727,null,28.5,null,973.5,46.5,null,78.5,null,94,63,"Year 2","Year 2"]
[null,null,251,null,null,"2011-07-09",{"$f":"MAX('uptake calcs'!M262-'uptake calcs'!M261,0)","v":0},null,{"$f":"MAX('uptake calcs'!L262-'uptake calcs'!L261,0)","v":9.31530282556092},{"$f":"MAX('uptake calcs'!N262-'uptake calcs'!N261,0)","v":0},null,9.31530282556092,null,25,null,998.5,43,null,75,null,90,60,"Year 2","Year 2"]
[null,null,252,null,null,"2011-07-10",{"$f":"MAX('uptake calcs'!M263-'uptake calcs'!M262,0)","v":0},null,{"$f":"MAX('uptake calcs'!L263-'uptake calcs'!L262,0)","v":8.230563614199923},{"$f":"MAX('uptake calcs'!N263-'uptake calcs'!N262,0)","v":0},null,8.230563614199923,null,20,null,1018.5,38,null,70,null,87,53,"Year 2","Year 2"]
[null,null,253,null,null,"2011-07-11",{"$f":"MAX('uptake calcs'!M264-'uptake calcs'!M263,0)","v":0},null,{"$f":"MAX('uptake calcs'!L264-'uptake calcs'!L263,0)","v":8.4022135295407594},{"$f":"MAX('uptake calcs'!N264-'uptake calcs'!N263,0)","v":0},null,8.4022135295407594,null,19,null,1037.5,37,null,69,null,83,55,"Year 2","Year 2"]
[null,null,254,null,null,"2011-07-12",{"$f":"MAX('uptake calcs'!M265-'uptake calcs'!M264,0)","v":0},null,{"$f":"MAX('uptake calcs'!L265-'uptake calcs'!L264,0)","v":8.4077487525023713},{"$f":"MAX('uptake calcs'!N265-'uptake calcs'!N264,0)","v":0},null,8.4077487525023713,null,18,null,1055.5,36,null,68,null,83,53,"Year 2","Year 2"]
[null,null,255,null,null,"2011-07-13",{"$f":"MAX('uptake calcs'!M266-'uptake calcs'!M265,0)","v":0},null,{"$f":"MAX('uptake calcs'!L266-'uptake calcs'!L265,0)","v":8.006102808947432},{"$f":"MAX('uptake calcs'!N266-'uptake calcs'!N265,0)","v":0},null,8.006102808947432,null,16.5,null,1072,34.5,null,66.5,null,80,53,"Year 2","Year 2"]
[null,null,256,null,null,"2011-07-14",{"$f":"MAX('uptake calcs'!M267-'uptake calcs'!M266,0)","v":0},null,{"$f":"MAX('uptake calcs'!L267-'uptake calcs'!L266,0)","v":7.4470769522974933},{"$f":"MAX('uptake calcs'!N267-'uptake calcs'!N266,0)","v":0},null,7.4470769522974933,null,15,null,1087,33,null,65,null,79,51,"Year 2","Year 2"]
[null,null,257,null,null,"2011-07-15",{"$f":"MAX('uptake calcs'!M268-'uptake calcs'!M267,0)","v":0},null,{"$f":"MAX('uptake calcs'!L268-'uptake calcs'!L267,0)","v":8.028519242596559},{"$f":"MAX('uptake calcs'!N268-'uptake calcs'!N267,0)","v":0},null,{"$f":"SUM(G351:J351)","v":8.028519242596559},null,{"$f":"IF($U351>cutoff.corn.min,((IF($U351>cutoff.corn.max,cutoff.corn.max,$U351)+IF($V351<cutoff.corn.min,cutoff.corn.min,$V351))/2)-cutoff.corn.min,0)","v":16},null,{"$f":"IF(AND(C351>=C$44,C351<=$C$55),N351+P350,0)","v":1103},{"$f":"((U351+V351)/2)-32","v":34},null,{"$f":"AVERAGE(U351:V351)","v":66},null,81,51,"Year 2","Year 2"]
[null,null,258,null,null,"2011-07-16",{"$f":"MAX('uptake calcs'!M269-'uptake calcs'!M268,0)","v":0},null,{"$f":"MAX('uptake calcs'!L269-'uptake calcs'!L268,0)","v":8.5112027964058683},{"$f":"MAX('uptake calcs'!N269-'uptake calcs'!N268,0)","v":0},null,8.5112027964058683,null,17,null,1120,35,null,67,null,80,54,"Year 2","Year 2"]
[null,null,259,null,null,{"$f":"F352+1","v":"2011-07-17"},{"$f":"MAX('uptake calcs'!M270-'uptake calcs'!M269,0)","v":0},null,{"$f":"MAX('uptake calcs'!L270-'uptake calcs'!L269,0)","v":9.8135446542857494},{"$f":"MAX('uptake calcs'!N270-'uptake calcs'!N269,0)","v":0},null,9.8135446542857494,null,20,null,1140,38,null,70,null,83,57,"Year 2","Year 2"]
[null,null,260,null,null,"2011-07-18",{"$f":"MAX('uptake calcs'!M271-'uptake calcs'!M270,0)","v":0},null,{"$f":"MAX('uptake calcs'!L271-'uptake calcs'!L270,0)","v":9.3992900098177756},{"$f":"MAX('uptake calcs'!N271-'uptake calcs'!N270,0)","v":0},null,9.3992900098177756,null,20,null,1160,38,null,70,null,85,55,"Year 2","Year 2"]
[null,null,261,null,null,"2011-07-19",{"$f":"MAX('uptake calcs'!M272-'uptake calcs'!M271,0)","v":0},null,{"$f":"MAX('uptake calcs'!L272-'uptake calcs'!L271,0)","v":9.6365326555480806},{"$f":"MAX('uptake calcs'!N272-'uptake calcs'!N271,0)","v":0},null,9.6365326555480806,null,22,null,1182,40,null,72,null,86,58,"Year 2","Year 2"]
[null,null,262,null,null,"2011-07-20",{"$f":"MAX('uptake calcs'!M273-'uptake calcs'!M272,0)","v":0},null,{"$f":"MAX('uptake calcs'!L273-'uptake calcs'!L272,0)","v":9.6313233134391396},{"$f":"MAX('uptake calcs'!N273-'uptake calcs'!N272,0)","v":0},null,9.6313233134391396,null,24.5,null,1206.5,42.5,null,74.5,null,91,58,"Year 2","Year 2"]
[null,null,263,null,null,"2011-07-21",{"$f":"MAX('uptake calcs'!M274-'uptake calcs'!M273,0)","v":0},null,{"$f":"MAX('uptake calcs'!L274-'uptake calcs'!L273,0)","v":8.6147649190138225},{"$f":"MAX('uptake calcs'!N274-'uptake calcs'!N273,0)","v":0},null,8.6147649190138225,null,25.5,null,1232,43.5,null,75.5,null,92,59,"Year 2","Year 2"]
[null,null,264,null,null,"2011-07-22",{"$f":"MAX('uptake calcs'!M275-'uptake calcs'!M274,0)","v":0},null,{"$f":"MAX('uptake calcs'!L275-'uptake calcs'!L274,0)","v":6.9885376758853965},{"$f":"MAX('uptake calcs'!N275-'uptake calcs'!N274,0)","v":0},null,6.9885376758853965,null,25,null,1257,43,null,75,null,90,60,"Year 2","Year 2"]
[null,null,265,null,null,"2011-07-23",{"$f":"MAX('uptake calcs'!M276-'uptake calcs'!M275,0)","v":0},null,{"$f":"MAX('uptake calcs'!L276-'uptake calcs'!L275,0)","v":5.7944154476449228},{"$f":"MAX('uptake calcs'!N276-'uptake calcs'!N275,0)","v":0},null,5.7944154476449228,null,26,null,1283,44,null,76,null,91,61,"Year 2","Year 2"]
[null,null,266,null,null,"2011-07-24",{"$f":"MAX('uptake calcs'!M277-'uptake calcs'!M276,0)","v":0},null,{"$f":"MAX('uptake calcs'!L277-'uptake calcs'!L276,0)","v":4.0705313812763393},{"$f":"MAX('uptake calcs'!N277-'uptake calcs'!N276,0)","v":0},null,4.0705313812763393,null,23.5,null,1306.5,41.5,null,73.5,null,88,59,"Year 2","Year 2"]
[null,null,267,null,null,"2011-07-25",{"$f":"MAX('uptake calcs'!M278-'uptake calcs'!M277,0)","v":0},null,{"$f":"MAX('uptake calcs'!L278-'uptake calcs'!L277,0)","v":3.0055098919379475},{"$f":"MAX('uptake calcs'!N278-'uptake calcs'!N277,0)","v":0},null,3.0055098919379475,null,22.5,null,1329,40.5,null,72.5,null,88,57,"Year 2","Year 2"]
[null,null,268,null,null,"2011-07-26",{"$f":"MAX('uptake calcs'!M279-'uptake calcs'!M278,0)","v":0},null,{"$f":"MAX('uptake calcs'!L279-'uptake calcs'!L278,0)","v":2.2814140090060562},{"$f":"MAX('uptake calcs'!N279-'uptake calcs'!N278,0)","v":0},null,2.2814140090060562,null,22.5,null,1351.5,40.5,null,72.5,null,89,56,"Year 2","Year 2"]
[null,null,269,null,null,"2011-07-27",{"$f":"MAX('uptake calcs'!M280-'uptake calcs'!M279,0)","v":0},null,{"$f":"MAX('uptake calcs'!L280-'uptake calcs'!L279,0)","v":1.8017793751007503},{"$f":"MAX('uptake calcs'!N280-'uptake calcs'!N279,0)","v":0},null,1.8017793751007503,null,26,null,1377.5,44,null,76,null,94,58,"Year 2","Year 2"]
[null,null,270,null,null,"2011-07-28",{"$f":"MAX('uptake calcs'!M281-'uptake calcs'!M280,0)","v":0},null,{"$f":"MAX('uptake calcs'!L281-'uptake calcs'!L280,0)","v":0},{"$f":"MAX('uptake calcs'!N281-'uptake calcs'!N280,0)","v":0},null,0,null,26,null,1403.5,44,null,76,null,93,59,"Year 2","Year 2"]
[null,null,271,null,null,"2011-07-29",{"$f":"MAX('uptake calcs'!M282-'uptake calcs'!M281,0)","v":0},null,{"$f":"MAX('uptake calcs'!L282-'uptake calcs'!L281,0)","v":0},{"$f":"MAX('uptake calcs'!N282-'uptake calcs'!N281,0)","v":0},null,0,null,26,null,1429.5,44,null,76,null,91,61,"Year 2","Year 2"]
[null,null,272,null,null,"2011-07-30",{"$f":"MAX('uptake calcs'!M283-'uptake calcs'!M282,0)","v":0},null,{"$f":"MAX('uptake calcs'!L283-'uptake calcs'!L282,0)","v":0},{"$f":"MAX('uptake calcs'!N283-'uptake calcs'!N282,0)","v":0},null,0,null,23,null,1452.5,41,null,73,null,87,59,"Year 2","Year 2"]
[null,null,273,null,null,"2011-07-31",{"$f":"MAX('uptake calcs'!M284-'uptake calcs'!M283,0)","v":0},null,{"$f":"MAX('uptake calcs'!L284-'uptake calcs'!L283,0)","v":0},{"$f":"MAX('uptake calcs'!N284-'uptake calcs'!N283,0)","v":0},null,0,null,25.5,null,1478,43.5,null,75.5,null,91,60,"Year 2","Year 2"]
[null,null,274,null,null,"2011-08-01",{"$f":"MAX('uptake calcs'!M285-'uptake calcs'!M284,0)","v":0},null,{"$f":"MAX('uptake calcs'!L285-'uptake calcs'!L284,0)","v":0},{"$f":"MAX('uptake calcs'!N285-'uptake calcs'!N284,0)","v":0},null,0,null,23,null,1501,41,null,73,null,89,57,"Year 2","Year 2"]
[null,null,275,null,null,"2011-08-02",{"$f":"MAX('uptake calcs'!M286-'uptake calcs'!M285,0)","v":0},null,{"$f":"MAX('uptake calcs'!L286-'uptake calcs'!L285,0)","v":0},{"$f":"MAX('uptake calcs'!N286-'uptake calcs'!N285,0)","v":0},null,0,null,23.5,null,1524.5,41.5,null,73.5,null,91,56,"Year 2","Year 2"]
[null,null,276,null,null,"2011-08-03",{"$f":"MAX('uptake calcs'!M287-'uptake calcs'!M286,0)","v":0},null,{"$f":"MAX('uptake calcs'!L287-'uptake calcs'!L286,0)","v":0},{"$f":"MAX('uptake calcs'!N287-'uptake calcs'!N286,0)","v":0},null,0,null,24,null,1548.5,42,null,74,null,90,58,"Year 2","Year 2"]
[null,null,277,null,null,"2011-08-04",{"$f":"MAX('uptake calcs'!M288-'uptake calcs'!M287,0)","v":0},null,{"$f":"MAX('uptake calcs'!L288-'uptake calcs'!L287,0)","v":0},{"$f":"MAX('uptake calcs'!N288-'uptake calcs'!N287,0)","v":0},null,0,null,20,null,1568.5,38,null,70,null,85,55,"Year 2","Year 2"]
[null,null,278,null,null,"2011-08-05",{"$f":"MAX('uptake calcs'!M289-'uptake calcs'!M288,0)","v":0},null,{"$f":"MAX('uptake calcs'!L289-'uptake calcs'!L288,0)","v":0},{"$f":"MAX('uptake calcs'!N289-'uptake calcs'!N288,0)","v":0},null,0,null,22,null,1590.5,40,null,72,null,88,56,"Year 2","Year 2"]
[null,null,279,null,null,"2011-08-06",{"$f":"MAX('uptake calcs'!M290-'uptake calcs'!M289,0)","v":0},null,{"$f":"MAX('uptake calcs'!L290-'uptake calcs'!L289,0)","v":0},{"$f":"MAX('uptake calcs'!N290-'uptake calcs'!N289,0)","v":0},null,0,null,24,null,1614.5,42,null,74,null,89,59,"Year 2","Year 2"]
[null,null,280,null,null,"2011-08-07",{"$f":"MAX('uptake calcs'!M291-'uptake calcs'!M290,0)","v":0},null,{"$f":"MAX('uptake calcs'!L291-'uptake calcs'!L290,0)","v":0},{"$f":"MAX('uptake calcs'!N291-'uptake calcs'!N290,0)","v":0},null,0,null,22,null,1636.5,40,null,72,null,87,57,"Year 2","Year 2"]
[null,null,281,null,null,"2011-08-08",{"$f":"MAX('uptake calcs'!M292-'uptake calcs'!M291,0)","v":0},null,{"$f":"MAX('uptake calcs'!L292-'uptake calcs'!L291,0)","v":0},{"$f":"MAX('uptake calcs'!N292-'uptake calcs'!N291,0)","v":0},null,0,null,23,null,1659.5,41,null,73,null,90,56,"Year 2","Year 2"]
[null,null,282,null,null,"2011-08-09",{"$f":"MAX('uptake calcs'!M293-'uptake calcs'!M292,0)","v":0},null,{"$f":"MAX('uptake calcs'!L293-'uptake calcs'!L292,0)","v":0},{"$f":"MAX('uptake calcs'!N293-'uptake calcs'!N292,0)","v":0},null,0,null,22.5,null,1682,40.5,null,72.5,null,90,55,"Year 2","Year 2"]
[null,null,283,null,null,"2011-08-10",{"$f":"MAX('uptake calcs'!M294-'uptake calcs'!M293,0)","v":0},null,{"$f":"MAX('uptake calcs'!L294-'uptake calcs'!L293,0)","v":0},{"$f":"MAX('uptake calcs'!N294-'uptake calcs'!N293,0)","v":0},null,0,null,25.5,null,1707.5,43.5,null,75.5,null,93,58,"Year 2","Year 2"]
[null,null,284,null,null,"2011-08-11",{"$f":"MAX('uptake calcs'!M295-'uptake calcs'!M294,0)","v":0},null,{"$f":"MAX('uptake calcs'!L295-'uptake calcs'!L294,0)","v":0},{"$f":"MAX('uptake calcs'!N295-'uptake calcs'!N294,0)","v":0},null,0,null,23.5,null,1731,41.5,null,73.5,null,90,57,"Year 2","Year 2"]
[null,null,285,null,null,"2011-08-12",{"$f":"MAX('uptake calcs'!M296-'uptake calcs'!M295,0)","v":0},null,{"$f":"MAX('uptake calcs'!L296-'uptake calcs'!L295,0)","v":0},{"$f":"MAX('uptake calcs'!N296-'uptake calcs'!N295,0)","v":0},null,0,null,22,null,1753,40,null,72,null,89,55,"Year 2","Year 2"]
[null,null,286,null,null,"2011-08-13",{"$f":"MAX('uptake calcs'!M297-'uptake calcs'!M296,0)","v":0},null,{"$f":"MAX('uptake calcs'!L297-'uptake calcs'!L296,0)","v":0},{"$f":"MAX('uptake calcs'!N297-'uptake calcs'!N296,0)","v":0},null,0,null,26.5,null,1779.5,44.5,null,76.5,null,94,59,"Year 2","Year 2"]
[null,null,287,null,null,"2011-08-14",{"$f":"MAX('uptake calcs'!M298-'uptake calcs'!M297,0)","v":0},null,{"$f":"MAX('uptake calcs'!L298-'uptake calcs'!L297,0)","v":1.5505019199780463},{"$f":"MAX('uptake calcs'!N298-'uptake calcs'!N297,0)","v":0},null,1.5505019199780463,null,25,null,1804.5,43,null,75,null,92,58,"Year 2","Year 2"]
[null,null,288,null,null,"2011-08-15",{"$f":"MAX('uptake calcs'!M299-'uptake calcs'!M298,0)","v":0},null,{"$f":"MAX('uptake calcs'!L299-'uptake calcs'!L298,0)","v":2.0662555262327658},{"$f":"MAX('uptake calcs'!N299-'uptake calcs'!N298,0)","v":0},null,2.0662555262327658,null,24,null,1828.5,42,null,74,null,92,56,"Year 2","Year 2"]
[null,null,289,null,null,"2011-08-16",{"$f":"MAX('uptake calcs'!M300-'uptake calcs'!M299,0)","v":0},null,{"$f":"MAX('uptake calcs'!L300-'uptake calcs'!L299,0)","v":2.1124269476503912},{"$f":"MAX('uptake calcs'!N300-'uptake calcs'!N299,0)","v":0},null,2.1124269476503912,null,23,null,1851.5,41,null,73,null,91,55,"Year 2","Year 2"]
[null,null,290,null,null,"2011-08-17",{"$f":"MAX('uptake calcs'!M301-'uptake calcs'!M300,0)","v":0},null,{"$f":"MAX('uptake calcs'!L301-'uptake calcs'!L300,0)","v":2.3481330632193931},{"$f":"MAX('uptake calcs'!N301-'uptake calcs'!N300,0)","v":0},null,2.3481330632193931,null,24,null,1875.5,42,null,74,null,92,56,"Year 2","Year 2"]
[null,null,291,null,null,"2011-08-18",{"$f":"MAX('uptake calcs'!M302-'uptake calcs'!M301,0)","v":0},null,{"$f":"MAX('uptake calcs'!L302-'uptake calcs'!L301,0)","v":2.5544043113212069},{"$f":"MAX('uptake calcs'!N302-'uptake calcs'!N301,0)","v":0},null,2.5544043113212069,null,24.5,null,1900,42.5,null,74.5,null,93,56,"Year 2","Year 2"]
[null,null,292,null,null,"2011-08-19",{"$f":"MAX('uptake calcs'!M303-'uptake calcs'!M302,0)","v":0},null,{"$f":"MAX('uptake calcs'!L303-'uptake calcs'!L302,0)","v":2.433699617127786},{"$f":"MAX('uptake calcs'!N303-'uptake calcs'!N302,0)","v":0},null,2.433699617127786,null,22,null,1922,40,null,72,null,88,56,"Year 2","Year 2"]
[null,null,293,null,null,"2011-08-20",{"$f":"MAX('uptake calcs'!M304-'uptake calcs'!M303,0)","v":0},null,{"$f":"MAX('uptake calcs'!L304-'uptake calcs'!L303,0)","v":2.3901220654217354},{"$f":"MAX('uptake calcs'!N304-'uptake calcs'!N303,0)","v":0},null,2.3901220654217354,null,20.5,null,1942.5,38.5,null,70.5,null,86,55,"Year 2","Year 2"]
[null,null,294,null,null,"2011-08-21",{"$f":"MAX('uptake calcs'!M305-'uptake calcs'!M304,0)","v":0},null,{"$f":"MAX('uptake calcs'!L305-'uptake calcs'!L304,0)","v":2.6361117705502295},{"$f":"MAX('uptake calcs'!N305-'uptake calcs'!N304,0)","v":0},null,2.6361117705502295,null,21.5,null,1964,39.5,null,71.5,null,87,56,"Year 2","Year 2"]
[null,null,295,null,null,"2011-08-22",{"$f":"MAX('uptake calcs'!M306-'uptake calcs'!M305,0)","v":0},null,{"$f":"MAX('uptake calcs'!L306-'uptake calcs'!L305,0)","v":2.7705539777489037},{"$f":"MAX('uptake calcs'!N306-'uptake calcs'!N305,0)","v":0},null,2.7705539777489037,null,21.5,null,1985.5,39.5,null,71.5,null,87,56,"Year 2","Year 2"]
[null,null,296,null,null,"2011-08-23",{"$f":"MAX('uptake calcs'!M307-'uptake calcs'!M306,0)","v":0},null,{"$f":"MAX('uptake calcs'!L307-'uptake calcs'!L306,0)","v":3.3921680144975426},{"$f":"MAX('uptake calcs'!N307-'uptake calcs'!N306,0)","v":0},null,3.3921680144975426,null,25,null,2010.5,43,null,75,null,94,56,"Year 2","Year 2"]
[null,null,297,null,null,"2011-08-24",{"$f":"MAX('uptake calcs'!M308-'uptake calcs'!M307,0)","v":0},null,{"$f":"MAX('uptake calcs'!L308-'uptake calcs'!L307,0)","v":4.0171721583304816},{"$f":"MAX('uptake calcs'!N308-'uptake calcs'!N307,0)","v":0},null,4.0171721583304816,null,28,null,2038.5,46,null,78,null,93,63,"Year 2","Year 2"]
[null,null,298,null,null,"2011-08-25",{"$f":"MAX('uptake calcs'!M309-'uptake calcs'!M308,0)","v":0},null,{"$f":"MAX('uptake calcs'!L309-'uptake calcs'!L308,0)","v":3.7792572459807161},{"$f":"MAX('uptake calcs'!N309-'uptake calcs'!N308,0)","v":0},null,3.7792572459807161,null,25,null,2063.5,43,null,75,null,91,59,"Year 2","Year 2"]
[null,null,299,null,null,"2011-08-26",{"$f":"MAX('uptake calcs'!M310-'uptake calcs'!M309,0)","v":0},null,{"$f":"MAX('uptake calcs'!L310-'uptake calcs'!L309,0)","v":4.2802875921713053},{"$f":"MAX('uptake calcs'!N310-'uptake calcs'!N309,0)","v":0},null,4.2802875921713053,null,27,null,2090.5,45,null,77,null,94,60,"Year 2","Year 2"]
[null,null,300,null,null,"2011-08-27",{"$f":"MAX('uptake calcs'!M311-'uptake calcs'!M310,0)","v":0},null,{"$f":"MAX('uptake calcs'!L311-'uptake calcs'!L310,0)","v":4.5622995941735383},{"$f":"MAX('uptake calcs'!N311-'uptake calcs'!N310,0)","v":0},null,4.5622995941735383,null,27.5,null,2118,45.5,null,77.5,null,92,63,"Year 2","Year 2"]
[null,null,301,null,null,"2011-08-28",{"$f":"MAX('uptake calcs'!M312-'uptake calcs'!M311,0)","v":0},null,{"$f":"MAX('uptake calcs'!L312-'uptake calcs'!L311,0)","v":4.4889382067379131},{"$f":"MAX('uptake calcs'!N312-'uptake calcs'!N311,0)","v":0},null,4.4889382067379131,null,26,null,2144,44,null,76,null,93,59,"Year 2","Year 2"]
[null,null,302,null,null,"2011-08-29",{"$f":"MAX('uptake calcs'!M313-'uptake calcs'!M312,0)","v":0},null,{"$f":"MAX('uptake calcs'!L313-'uptake calcs'!L312,0)","v":4.3714515233220652},{"$f":"MAX('uptake calcs'!N313-'uptake calcs'!N312,0)","v":0},null,4.3714515233220652,null,24.5,null,2168.5,42.5,null,74.5,null,92,57,"Year 2","Year 2"]
[null,null,303,null,null,"2011-08-30",{"$f":"MAX('uptake calcs'!M314-'uptake calcs'!M313,0)","v":0},null,{"$f":"MAX('uptake calcs'!L314-'uptake calcs'!L313,0)","v":0},{"$f":"MAX('uptake calcs'!N314-'uptake calcs'!N313,0)","v":0},null,0,null,22,null,0,40,null,72,null,89,55,"Year 2","Year 2"]
[null,null,304,null,null,"2011-08-31",{"$f":"MAX('uptake calcs'!M315-'uptake calcs'!M314,0)","v":0},null,{"$f":"MAX('uptake calcs'!L315-'uptake calcs'!L314,0)","v":0},{"$f":"MAX('uptake calcs'!N315-'uptake calcs'!N314,0)","v":0.87841354288277629},null,0.87841354288277629,null,23,null,0,41,null,73,null,90,56,"Year 2","Year 2"]
[null,null,305,null,null,"2011-09-01",{"$f":"MAX('uptake calcs'!M316-'uptake calcs'!M315,0)","v":0},null,{"$f":"MAX('uptake calcs'!L316-'uptake calcs'!L315,0)","v":0},{"$f":"MAX('uptake calcs'!N316-'uptake calcs'!N315,0)","v":0.92864808318167269},null,0.92864808318167269,null,23,null,0,41,null,73,null,90,56,"Year 2","Year 2"]
[null,null,306,null,null,"2011-09-02",{"$f":"MAX('uptake calcs'!M317-'uptake calcs'!M316,0)","v":0},null,{"$f":"MAX('uptake calcs'!L317-'uptake calcs'!L316,0)","v":0},{"$f":"MAX('uptake calcs'!N317-'uptake calcs'!N316,0)","v":1.0434030091547128},null,1.0434030091547128,null,25.5,null,0,43.5,null,75.5,null,94,57,"Year 2","Year 2"]
[null,null,307,null,null,"2011-09-03",{"$f":"MAX('uptake calcs'!M318-'uptake calcs'!M317,0)","v":0},null,{"$f":"MAX('uptake calcs'!L318-'uptake calcs'!L317,0)","v":0},{"$f":"MAX('uptake calcs'!N318-'uptake calcs'!N317,0)","v":1.1068197770937487},null,1.1068197770937487,null,25.5,null,0,43.5,null,75.5,null,93,58,"Year 2","Year 2"]
[null,null,308,null,null,"2011-09-04",{"$f":"MAX('uptake calcs'!M319-'uptake calcs'!M318,0)","v":0},null,{"$f":"MAX('uptake calcs'!L319-'uptake calcs'!L318,0)","v":0},{"$f":"MAX('uptake calcs'!N319-'uptake calcs'!N318,0)","v":1.0908762633112836},null,1.0908762633112836,null,22.5,null,0,40.5,null,72.5,null,90,55,"Year 2","Year 2"]
[null,null,309,null,null,"2011-09-05",{"$f":"MAX('uptake calcs'!M320-'uptake calcs'!M319,0)","v":0},null,{"$f":"MAX('uptake calcs'!L320-'uptake calcs'!L319,0)","v":0},{"$f":"MAX('uptake calcs'!N320-'uptake calcs'!N319,0)","v":1.1524791520635578},null,1.1524791520635578,null,22.5,null,0,40.5,null,72.5,null,89,56,"Year 2","Year 2"]
[null,null,310,null,null,"2011-09-06",{"$f":"MAX('uptake calcs'!M321-'uptake calcs'!M320,0)","v":0},null,{"$f":"MAX('uptake calcs'!L321-'uptake calcs'!L320,0)","v":0},{"$f":"MAX('uptake calcs'!N321-'uptake calcs'!N320,0)","v":1.2794377629114839},null,1.2794377629114839,null,24.5,null,0,42.5,null,74.5,null,94,55,"Year 2","Year 2"]
[null,null,311,null,null,"2011-09-07",{"$f":"MAX('uptake calcs'!M322-'uptake calcs'!M321,0)","v":0},null,{"$f":"MAX('uptake calcs'!L322-'uptake calcs'!L321,0)","v":0},{"$f":"MAX('uptake calcs'!N322-'uptake calcs'!N321,0)","v":1.4046391272165861},null,1.4046391272165861,null,26,null,0,44,null,76,null,94,58,"Year 2","Year 2"]
[null,null,312,null,null,"2011-09-08",{"$f":"MAX('uptake calcs'!M323-'uptake calcs'!M322,0)","v":0},null,{"$f":"MAX('uptake calcs'!L323-'uptake calcs'!L322,0)","v":0},{"$f":"MAX('uptake calcs'!N323-'uptake calcs'!N322,0)","v":1.4213004878245385},null,1.4213004878245385,null,24,null,0,42,null,74,null,92,56,"Year 2","Year 2"]
[null,null,313,null,null,"2011-09-09",{"$f":"MAX('uptake calcs'!M324-'uptake calcs'!M323,0)","v":0},null,{"$f":"MAX('uptake calcs'!L324-'uptake calcs'!L323,0)","v":0},{"$f":"MAX('uptake calcs'!N324-'uptake calcs'!N323,0)","v":1.6154093836740415},null,1.6154093836740415,null,26,null,0,45,null,77,null,97,57,"Year 2","Year 2"]
[null,null,314,null,null,"2011-09-10",{"$f":"MAX('uptake calcs'!M325-'uptake calcs'!M324,0)","v":0},null,{"$f":"MAX('uptake calcs'!L325-'uptake calcs'!L324,0)","v":0},{"$f":"MAX('uptake calcs'!N325-'uptake calcs'!N324,0)","v":1.8155830862337439},null,1.8155830862337439,null,28.5,null,0,47.5,null,79.5,null,97,62,"Year 2","Year 2"]
[null,null,315,null,null,"2011-09-11",{"$f":"MAX('uptake calcs'!M326-'uptake calcs'!M325,0)","v":0},null,{"$f":"MAX('uptake calcs'!L326-'uptake calcs'!L325,0)","v":0},{"$f":"MAX('uptake calcs'!N326-'uptake calcs'!N325,0)","v":1.6640018234705654},null,1.6640018234705654,null,23,null,0,41,null,73,null,83,63,"Year 2","Year 2"]
[null,null,316,null,null,"2011-09-12",{"$f":"MAX('uptake calcs'!M327-'uptake calcs'!M326,0)","v":0},null,{"$f":"MAX('uptake calcs'!L327-'uptake calcs'!L326,0)","v":0},{"$f":"MAX('uptake calcs'!N327-'uptake calcs'!N326,0)","v":1.7812248712264491},null,1.7812248712264491,null,23.5,null,0,41.5,null,73.5,null,87,60,"Year 2","Year 2"]
[null,null,317,null,null,"2011-09-13",{"$f":"MAX('uptake calcs'!M328-'uptake calcs'!M327,0)","v":0},null,{"$f":"MAX('uptake calcs'!L328-'uptake calcs'!L327,0)","v":0},{"$f":"MAX('uptake calcs'!N328-'uptake calcs'!N327,0)","v":1.8843663830747097},null,1.8843663830747097,null,23.5,null,0,41.5,null,73.5,null,90,57,"Year 2","Year 2"]
[null,null,318,null,null,"2011-09-14",{"$f":"MAX('uptake calcs'!M329-'uptake calcs'!M328,0)","v":0},null,{"$f":"MAX('uptake calcs'!L329-'uptake calcs'!L328,0)","v":0},{"$f":"MAX('uptake calcs'!N329-'uptake calcs'!N328,0)","v":2.1419831534065352},null,2.1419831534065352,null,26.5,null,0,44.5,null,76.5,null,91,62,"Year 2","Year 2"]
[null,null,319,null,null,"2011-09-15",{"$f":"MAX('uptake calcs'!M330-'uptake calcs'!M329,0)","v":0},null,{"$f":"MAX('uptake calcs'!L330-'uptake calcs'!L329,0)","v":0},{"$f":"MAX('uptake calcs'!N330-'uptake calcs'!N329,0)","v":2.0912832302368081},null,2.0912832302368081,null,23,null,0,41,null,73,null,89,57,"Year 2","Year 2"]
[null,null,320,null,null,"2011-09-16",{"$f":"MAX('uptake calcs'!M331-'uptake calcs'!M330,0)","v":0},null,{"$f":"MAX('uptake calcs'!L331-'uptake calcs'!L330,0)","v":0},{"$f":"MAX('uptake calcs'!N331-'uptake calcs'!N330,0)","v":1.9071085843829891},null,1.9071085843829891,null,17.5,null,0,35.5,null,67.5,null,82,53,"Year 2","Year 2"]
[null,null,321,null,null,"2011-09-17",{"$f":"MAX('uptake calcs'!M332-'uptake calcs'!M331,0)","v":0},null,{"$f":"MAX('uptake calcs'!L332-'uptake calcs'!L331,0)","v":0},{"$f":"MAX('uptake calcs'!N332-'uptake calcs'!N331,0)","v":1.9723263846229457},null,{"$f":"SUM(G415:J415)","v":1.9723263846229457},null,{"$f":"IF($U415>cutoff.corn.min,((IF($U415>cutoff.corn.max,cutoff.corn.max,$U415)+IF($V415<cutoff.corn.min,cutoff.corn.min,$V415))/2)-cutoff.corn.min,0)","v":17},null,{"$f":"IF(AND(C415>=C$44,C415<=$C$55),N415+P414,0)","v":0},{"$f":"((U415+V415)/2)-32","v":35},null,{"$f":"AVERAGE(U415:V415)","v":67},null,83,51,"Year 2","Year 2"]
[null,null,322,null,null,"2011-09-18",{"$f":"MAX('uptake calcs'!M333-'uptake calcs'!M332,0)","v":0},null,{"$f":"MAX('uptake calcs'!L333-'uptake calcs'!L332,0)","v":0},{"$f":"MAX('uptake calcs'!N333-'uptake calcs'!N332,0)","v":2.3413264987797362},null,2.3413264987797362,null,21.5,null,0,39.5,null,71.5,null,89,54,"Year 2","Year 2"]
[null,null,323,null,null,{"$f":"F416+1","v":"2011-09-19"},{"$f":"MAX('uptake calcs'!M334-'uptake calcs'!M333,0)","v":0},null,{"$f":"MAX('uptake calcs'!L334-'uptake calcs'!L333,0)","v":0},{"$f":"MAX('uptake calcs'!N334-'uptake calcs'!N333,0)","v":2.6310293183737805},null,2.6310293183737805,null,24,null,0,42,null,74,null,92,56,"Year 2","Year 2"]
[null,null,324,null,null,"2011-09-20",{"$f":"MAX('uptake calcs'!M335-'uptake calcs'!M334,0)","v":0},null,{"$f":"MAX('uptake calcs'!L335-'uptake calcs'!L334,0)","v":0},{"$f":"MAX('uptake calcs'!N335-'uptake calcs'!N334,0)","v":2.887704734294104},null,2.887704734294104,null,25.5,null,0,43.5,null,75.5,null,94,57,"Year 2","Year 2"]
[null,null,325,null,null,"2011-09-21",{"$f":"MAX('uptake calcs'!M336-'uptake calcs'!M335,0)","v":0},null,{"$f":"MAX('uptake calcs'!L336-'uptake calcs'!L335,0)","v":0},{"$f":"MAX('uptake calcs'!N336-'uptake calcs'!N335,0)","v":3.0269686727133873},null,3.0269686727133873,null,25,null,0,43,null,75,null,95,55,"Year 2","Year 2"]
[null,null,326,null,null,"2011-09-22",{"$f":"MAX('uptake calcs'!M337-'uptake calcs'!M336,0)","v":0},null,{"$f":"MAX('uptake calcs'!L337-'uptake calcs'!L336,0)","v":0},{"$f":"MAX('uptake calcs'!N337-'uptake calcs'!N336,0)","v":3.5168800363830357},null,3.5168800363830357,null,29,null,0,47,null,79,null,94,64,"Year 2","Year 2"]
[null,null,327,null,null,"2011-09-23",{"$f":"MAX('uptake calcs'!M338-'uptake calcs'!M337,0)","v":0},null,{"$f":"MAX('uptake calcs'!L338-'uptake calcs'!L337,0)","v":0},{"$f":"MAX('uptake calcs'!N338-'uptake calcs'!N337,0)","v":3.6250252494356872},null,3.6250252494356872,null,27,null,0,45.5,null,77.5,null,96,59,"Year 2","Year 2"]
[null,null,328,null,null,"2011-09-24",{"$f":"MAX('uptake calcs'!M339-'uptake calcs'!M338,0)","v":0},null,{"$f":"MAX('uptake calcs'!L339-'uptake calcs'!L338,0)","v":0},{"$f":"MAX('uptake calcs'!N339-'uptake calcs'!N338,0)","v":3.5941724585448043},null,3.5941724585448043,null,24.5,null,0,42.5,null,74.5,null,89,60,"Year 2","Year 2"]
[null,null,329,null,null,"2011-09-25",{"$f":"MAX('uptake calcs'!M340-'uptake calcs'!M339,0)","v":0},null,{"$f":"MAX('uptake calcs'!L340-'uptake calcs'!L339,0)","v":0},{"$f":"MAX('uptake calcs'!N340-'uptake calcs'!N339,0)","v":2.7554458902520409},null,2.7554458902520409,null,13,null,0,31,null,63,null,73,53,"Year 2","Year 2"]
[null,null,330,null,null,"2011-09-26",{"$f":"MAX('uptake calcs'!M341-'uptake calcs'!M340,0)","v":0},null,{"$f":"MAX('uptake calcs'!L341-'uptake calcs'!L340,0)","v":0},{"$f":"MAX('uptake calcs'!N341-'uptake calcs'!N340,0)","v":3.2058926381159338},null,3.2058926381159338,null,16.5,null,0,34.5,null,66.5,null,80,53,"Year 2","Year 2"]
[null,null,331,null,null,"2011-09-27",{"$f":"MAX('uptake calcs'!M342-'uptake calcs'!M341,0)","v":0},null,{"$f":"MAX('uptake calcs'!L342-'uptake calcs'!L341,0)","v":0},{"$f":"MAX('uptake calcs'!N342-'uptake calcs'!N341,0)","v":3.5590939645345969},null,3.5590939645345969,null,18.5,null,0,36.5,null,68.5,null,85,52,"Year 2","Year 2"]
[null,null,332,null,null,"2011-09-28",{"$f":"MAX('uptake calcs'!M343-'uptake calcs'!M342,0)","v":0},null,{"$f":"MAX('uptake calcs'!L343-'uptake calcs'!L342,0)","v":0},{"$f":"MAX('uptake calcs'!N343-'uptake calcs'!N342,0)","v":4.4783421251078153},null,4.4783421251078153,null,25.5,null,0,43.5,null,75.5,null,95,56,"Year 2","Year 2"]
[null,null,333,null,null,"2011-09-29",{"$f":"MAX('uptake calcs'!M344-'uptake calcs'!M343,0)","v":0},null,{"$f":"MAX('uptake calcs'!L344-'uptake calcs'!L343,0)","v":0},{"$f":"MAX('uptake calcs'!N344-'uptake calcs'!N343,0)","v":4.6943153407918814},null,4.6943153407918814,null,25,null,0,43,null,75,null,92,58,"Year 2","Year 2"]
[null,null,334,null,null,"2011-09-30",{"$f":"MAX('uptake calcs'!M345-'uptake calcs'!M344,0)","v":0},null,{"$f":"MAX('uptake calcs'!L345-'uptake calcs'!L344,0)","v":0},{"$f":"MAX('uptake calcs'!N345-'uptake calcs'!N344,0)","v":4.2643445234853203},null,4.2643445234853203,null,19,null,0,37,null,69,null,80,58,"Year 2","Year 2"]
[null,null,335,null,null,"2011-10-01",{"$f":"MAX('uptake calcs'!M346-'uptake calcs'!M345,0)","v":0},null,{"$f":"MAX('uptake calcs'!L346-'uptake calcs'!L345,0)","v":0},{"$f":"MAX('uptake calcs'!N346-'uptake calcs'!N345,0)","v":4.173715875167801},null,4.173715875167801,null,16.5,null,0,34.5,null,66.5,null,81,52,"Year 2","Year 2"]
[null,null,336,null,null,"2011-10-02",{"$f":"MAX('uptake calcs'!M347-'uptake calcs'!M346,0)","v":0},null,{"$f":"MAX('uptake calcs'!L347-'uptake calcs'!L346,0)","v":0},{"$f":"MAX('uptake calcs'!N347-'uptake calcs'!N346,0)","v":4.5035171996789813},null,4.5035171996789813,null,17.5,null,0,35.5,null,67.5,null,80,55,"Year 2","Year 2"]
[null,null,337,null,null,"2011-10-03",{"$f":"MAX('uptake calcs'!M348-'uptake calcs'!M347,0)","v":0},null,{"$f":"MAX('uptake calcs'!L348-'uptake calcs'!L347,0)","v":0},{"$f":"MAX('uptake calcs'!N348-'uptake calcs'!N347,0)","v":4.1139752498496733},null,4.1139752498496733,null,13,null,0,31,null,63,null,72,54,"Year 2","Year 2"]
[null,null,338,null,null,"2011-10-04",{"$f":"MAX('uptake calcs'!M349-'uptake calcs'!M348,0)","v":0},null,{"$f":"MAX('uptake calcs'!L349-'uptake calcs'!L348,0)","v":0},{"$f":"MAX('uptake calcs'!N349-'uptake calcs'!N348,0)","v":4.3613395028669544},null,4.3613395028669544,null,13.5,null,0,31.5,null,63.5,null,73,54,"Year 2","Year 2"]
[null,null,339,null,null,"2011-10-05",{"$f":"MAX('uptake calcs'!M350-'uptake calcs'!M349,0)","v":0},null,{"$f":"MAX('uptake calcs'!L350-'uptake calcs'!L349,0)","v":0},{"$f":"MAX('uptake calcs'!N350-'uptake calcs'!N349,0)","v":3.8161766241103834},null,3.8161766241103834,null,8.5,null,0,26.5,null,58.5,null,67,50,"Year 2","Year 2"]
[null,null,340,null,null,"2011-10-06",{"$f":"MAX('uptake calcs'!M351-'uptake calcs'!M350,0)","v":0},null,{"$f":"MAX('uptake calcs'!L351-'uptake calcs'!L350,0)","v":0},{"$f":"MAX('uptake calcs'!N351-'uptake calcs'!N350,0)","v":3.425184945555003},null,3.425184945555003,null,6.5,null,0,23,null,55,null,63,47,"Year 2","Year 2"]
[null,null,341,null,null,"2011-10-07",{"$f":"MAX('uptake calcs'!M352-'uptake calcs'!M351,0)","v":0},null,{"$f":"MAX('uptake calcs'!L352-'uptake calcs'!L351,0)","v":0},{"$f":"MAX('uptake calcs'!N352-'uptake calcs'!N351,0)","v":3.8462450459899316},null,3.8462450459899316,null,9.5,null,0,25,null,57,null,69,45,"Year 2","Year 2"]
[null,null,342,null,null,"2011-10-08",{"$f":"MAX('uptake calcs'!M353-'uptake calcs'!M352,0)","v":0},null,{"$f":"MAX('uptake calcs'!L353-'uptake calcs'!L352,0)","v":0},{"$f":"MAX('uptake calcs'!N353-'uptake calcs'!N352,0)","v":0},null,0,null,12,null,0,28.5,null,60.5,null,74,47,"Year 2","Year 2"]
[null,null,343,null,null,"2011-10-09",{"$f":"MAX('uptake calcs'!M354-'uptake calcs'!M353,0)","v":0},null,{"$f":"MAX('uptake calcs'!L354-'uptake calcs'!L353,0)","v":0},{"$f":"MAX('uptake calcs'!N354-'uptake calcs'!N353,0)","v":0},null,0,null,13.5,null,0,30.5,null,62.5,null,77,48,"Year 2","Year 2"]
[null,null,344,null,null,"2011-10-10",{"$f":"MAX('uptake calcs'!M355-'uptake calcs'!M354,0)","v":0},null,{"$f":"MAX('uptake calcs'!L355-'uptake calcs'!L354,0)","v":0},{"$f":"MAX('uptake calcs'!N355-'uptake calcs'!N354,0)","v":0},null,0,null,13.5,null,0,31.5,null,63.5,null,74,53,"Year 2","Year 2"]
[null,null,345,null,null,"2011-10-11",{"$f":"MAX('uptake calcs'!M356-'uptake calcs'!M355,0)","v":0},null,{"$f":"MAX('uptake calcs'!L356-'uptake calcs'!L355,0)","v":0},{"$f":"MAX('uptake calcs'!N356-'uptake calcs'!N355,0)","v":0},null,0,null,19.5,null,0,37.5,null,69.5,null,78,61,"Year 2","Year 2"]
[null,null,346,null,null,"2011-10-12",{"$f":"MAX('uptake calcs'!M357-'uptake calcs'!M356,0)","v":0},null,{"$f":"MAX('uptake calcs'!L357-'uptake calcs'!L356,0)","v":0},{"$f":"MAX('uptake calcs'!N357-'uptake calcs'!N356,0)","v":0},null,0,null,17,null,0,35,null,67,null,79,55,"Year 2","Year 2"]
[null,null,347,null,null,"2011-10-13",{"$f":"MAX('uptake calcs'!M358-'uptake calcs'!M357,0)","v":0},null,{"$f":"MAX('uptake calcs'!L358-'uptake calcs'!L357,0)","v":0},{"$f":"MAX('uptake calcs'!N358-'uptake calcs'!N357,0)","v":0},null,0,null,17,null,0,35,null,67,null,83,51,"Year 2","Year 2"]
[null,null,348,null,null,"2011-10-14",{"$f":"MAX('uptake calcs'!M359-'uptake calcs'!M358,0)","v":0},null,{"$f":"MAX('uptake calcs'!L359-'uptake calcs'!L358,0)","v":0},{"$f":"MAX('uptake calcs'!N359-'uptake calcs'!N358,0)","v":0},null,0,null,21,null,0,39,null,71,null,87,55,"Year 2","Year 2"]
[null,null,349,null,null,"2011-10-15",{"$f":"MAX('uptake calcs'!M360-'uptake calcs'!M359,0)","v":0},null,{"$f":"MAX('uptake calcs'!L360-'uptake calcs'!L359,0)","v":0},{"$f":"MAX('uptake calcs'!N360-'uptake calcs'!N359,0)","v":0},null,0,null,21,null,0,39,null,71,null,87,55,"Year 2","Year 2"]
[null,null,350,null,null,"2011-10-16",{"$f":"MAX('uptake calcs'!M361-'uptake calcs'!M360,0)","v":0},null,{"$f":"MAX('uptake calcs'!L361-'uptake calcs'!L360,0)","v":0},{"$f":"MAX('uptake calcs'!N361-'uptake calcs'!N360,0)","v":0},null,0,null,18,null,0,36,null,68,null,78,58,"Year 2","Year 2"]
[null,null,351,null,null,"2011-10-17",{"$f":"MAX('uptake calcs'!M362-'uptake calcs'!M361,0)","v":0},null,{"$f":"MAX('uptake calcs'!L362-'uptake calcs'!L361,0)","v":0},{"$f":"MAX('uptake calcs'!N362-'uptake calcs'!N361,0)","v":0},null,0,null,20,null,0,38,null,70,null,85,55,"Year 2","Year 2"]
[null,null,352,null,null,"2011-10-18",{"$f":"MAX('uptake calcs'!M363-'uptake calcs'!M362,0)","v":0},null,{"$f":"MAX('uptake calcs'!L363-'uptake calcs'!L362,0)","v":0},{"$f":"MAX('uptake calcs'!N363-'uptake calcs'!N362,0)","v":0},null,0,null,19.5,null,0,37.5,null,69.5,null,85,54,"Year 2","Year 2"]
[null,null,353,null,null,"2011-10-19",{"$f":"MAX('uptake calcs'!M364-'uptake calcs'!M363,0)","v":0},null,{"$f":"MAX('uptake calcs'!L364-'uptake calcs'!L363,0)","v":0},{"$f":"MAX('uptake calcs'!N364-'uptake calcs'!N363,0)","v":0},null,0,null,15,null,0,33,null,65,null,76,54,"Year 2","Year 2"]
[null,null,354,null,null,"2011-10-20",{"$f":"MAX('uptake calcs'!M365-'uptake calcs'!M364,0)","v":0},null,{"$f":"MAX('uptake calcs'!L365-'uptake calcs'!L364,0)","v":0},{"$f":"MAX('uptake calcs'!N365-'uptake calcs'!N364,0)","v":0},null,0,null,14.5,null,0,32.5,null,64.5,null,79,50,"Year 2","Year 2"]
[null,null,355,null,null,"2011-10-21",{"$f":"MAX('uptake calcs'!M366-'uptake calcs'!M365,0)","v":0},null,{"$f":"MAX('uptake calcs'!L366-'uptake calcs'!L365,0)","v":0},{"$f":"MAX('uptake calcs'!N366-'uptake calcs'!N365,0)","v":0},null,0,null,15,null,0,33,null,65,null,79,51,"Year 2","Year 2"]
[null,null,356,null,null,"2011-10-22",{"$f":"MAX('uptake calcs'!M367-'uptake calcs'!M366,0)","v":0},null,{"$f":"MAX('uptake calcs'!L367-'uptake calcs'!L366,0)","v":0},{"$f":"MAX('uptake calcs'!N367-'uptake calcs'!N366,0)","v":0},null,0,null,16.5,null,0,34.5,null,66.5,null,83,50,"Year 2","Year 2"]
[null,null,357,null,null,"2011-10-23",{"$f":"MAX('uptake calcs'!M368-'uptake calcs'!M367,0)","v":0},null,{"$f":"MAX('uptake calcs'!L368-'uptake calcs'!L367,0)","v":0},{"$f":"MAX('uptake calcs'!N368-'uptake calcs'!N367,0)","v":0},null,0,null,17,null,0,35,null,67,null,84,50,"Year 2","Year 2"]
[null,null,358,null,null,"2011-10-24",{"$f":"MAX('uptake calcs'!M369-'uptake calcs'!M368,0)","v":0},null,{"$f":"MAX('uptake calcs'!L369-'uptake calcs'!L368,0)","v":0},{"$f":"MAX('uptake calcs'!N369-'uptake calcs'!N368,0)","v":0},null,0,null,16,null,0,33.5,null,65.5,null,82,49,"Year 2","Year 2"]
[null,null,359,null,null,"2011-10-25",{"$f":"MAX('uptake calcs'!M370-'uptake calcs'!M369,0)","v":0},null,{"$f":"MAX('uptake calcs'!L370-'uptake calcs'!L369,0)","v":0},{"$f":"MAX('uptake calcs'!N370-'uptake calcs'!N369,0)","v":0},null,0,null,11,null,0,28.5,null,60.5,null,72,49,"Year 2","Year 2"]
[null,null,360,null,null,"2011-10-26",{"$f":"MAX('uptake calcs'!M371-'uptake calcs'!M370,0)","v":0},null,{"$f":"MAX('uptake calcs'!L371-'uptake calcs'!L370,0)","v":0},{"$f":"MAX('uptake calcs'!N371-'uptake calcs'!N370,0)","v":0},null,0,null,10.5,null,0,25.5,null,57.5,null,71,44,"Year 2","Year 2"]
[null,null,361,null,null,"2011-10-27",{"$f":"MAX('uptake calcs'!M372-'uptake calcs'!M371,0)","v":0},null,{"$f":"MAX('uptake calcs'!L372-'uptake calcs'!L371,0)","v":0},{"$f":"MAX('uptake calcs'!N372-'uptake calcs'!N371,0)","v":0},null,0,null,12.5,null,0,26,null,58,null,75,41,"Year 2","Year 2"]
[null,null,362,null,null,"2011-10-28",{"$f":"MAX('uptake calcs'!M373-'uptake calcs'!M372,0)","v":0},null,{"$f":"MAX('uptake calcs'!L373-'uptake calcs'!L372,0)","v":0},{"$f":"MAX('uptake calcs'!N373-'uptake calcs'!N372,0)","v":0},null,0,null,13,null,0,27,null,59,null,76,42,"Year 2","Year 2"]
[null,null,363,null,null,"2011-10-29",{"$f":"MAX('uptake calcs'!M374-'uptake calcs'!M373,0)","v":0},null,{"$f":"MAX('uptake calcs'!L374-'uptake calcs'!L373,0)","v":0},{"$f":"MAX('uptake calcs'!N374-'uptake calcs'!N373,0)","v":0},null,0,null,13,null,0,27,null,59,null,76,42,"Year 2","Year 2"]
[null,null,364,null,null,"2011-10-30",{"$f":"MAX('uptake calcs'!M375-'uptake calcs'!M374,0)","v":0},null,{"$f":"MAX('uptake calcs'!L375-'uptake calcs'!L374,0)","v":0},{"$f":"MAX('uptake calcs'!N375-'uptake calcs'!N374,0)","v":0},null,0,null,15,null,0,30.5,null,62.5,null,80,45,"Year 2","Year 2"]
[null,null,365,null,null,"2011-10-31",{"$f":"MAX('uptake calcs'!M376-'uptake calcs'!M375,0)","v":0},null,{"$f":"MAX('uptake calcs'!L376-'uptake calcs'!L375,0)","v":0},{"$f":"MAX('uptake calcs'!N376-'uptake calcs'!N375,0)","v":0},null,0,null,14,null,0,28.5,null,60.5,null,78,43,"Year 2","Year 2"]
[null,null,366,null,null,"2011-11-01",{"$f":"MAX('uptake calcs'!M377-'uptake calcs'!M376,0)","v":0},null,{"$f":"MAX('uptake calcs'!L377-'uptake calcs'!L376,0)","v":0},{"$f":"MAX('uptake calcs'!N377-'uptake calcs'!N376,0)","v":0},null,0,null,11.5,null,0,26,null,58,null,73,43,"Year 2","Year 2"]
[null,null,367,null,null,"2011-11-02",{"$f":"MAX('uptake calcs'!M378-'uptake calcs'!M377,0)","v":0},null,{"$f":"MAX('uptake calcs'!L378-'uptake calcs'!L377,0)","v":0},{"$f":"MAX('uptake calcs'!N378-'uptake calcs'!N377,0)","v":0},null,0,null,12,null,0,24,null,56,null,74,38,"Year 2","Year 2"]
[null,null,368,null,null,"2011-11-03",{"$f":"MAX('uptake calcs'!M379-'uptake calcs'!M378,0)","v":0},null,{"$f":"MAX('uptake calcs'!L379-'uptake calcs'!L378,0)","v":0},{"$f":"MAX('uptake calcs'!N379-'uptake calcs'!N378,0)","v":0},null,0,null,12,null,0,25.5,null,57.5,null,74,41,"Year 2","Year 2"]
[null,null,369,null,null,"2011-11-04",{"$f":"MAX('uptake calcs'!M380-'uptake calcs'!M379,0)","v":0},null,{"$f":"MAX('uptake calcs'!L380-'uptake calcs'!L379,0)","v":0},{"$f":"MAX('uptake calcs'!N380-'uptake calcs'!N379,0)","v":0},null,0,null,4,null,0,17.5,null,49.5,null,58,41,"Year 2","Year 2"]
[null,null,370,null,null,"2011-11-05",{"$f":"MAX('uptake calcs'!M381-'uptake calcs'!M380,0)","v":0},null,{"$f":"MAX('uptake calcs'!L381-'uptake calcs'!L380,0)","v":0},{"$f":"MAX('uptake calcs'!N381-'uptake calcs'!N380,0)","v":0},null,0,null,3,null,0,13.5,null,45.5,null,56,35,"Year 2","Year 2"]
[null,null,371,null,null,"2011-11-06",{"$f":"MAX('uptake calcs'!M382-'uptake calcs'!M381,0)","v":0},null,{"$f":"MAX('uptake calcs'!L382-'uptake calcs'!L381,0)","v":0},{"$f":"MAX('uptake calcs'!N382-'uptake calcs'!N381,0)","v":0},null,0,null,4,null,0,17,null,49,null,58,40,"Year 2","Year 2"]
[null,null,372,null,null,"2011-11-07",{"$f":"MAX('uptake calcs'!M383-'uptake calcs'!M382,0)","v":0},null,{"$f":"MAX('uptake calcs'!L383-'uptake calcs'!L382,0)","v":0},{"$f":"MAX('uptake calcs'!N383-'uptake calcs'!N382,0)","v":0},null,0,null,4,null,0,15,null,47,null,58,36,"Year 2","Year 2"]
[null,null,373,null,null,"2011-11-08",{"$f":"MAX('uptake calcs'!M384-'uptake calcs'!M383,0)","v":0},null,{"$f":"MAX('uptake calcs'!L384-'uptake calcs'!L383,0)","v":0},{"$f":"MAX('uptake calcs'!N384-'uptake calcs'!N383,0)","v":0},null,0,null,6.5,null,0,16,null,48,null,63,33,"Year 2","Year 2"]
[null,null,374,null,null,"2011-11-09",{"$f":"MAX('uptake calcs'!M385-'uptake calcs'!M384,0)","v":0},null,{"$f":"MAX('uptake calcs'!L385-'uptake calcs'!L384,0)","v":0},{"$f":"MAX('uptake calcs'!N385-'uptake calcs'!N384,0)","v":0},null,0,null,7.5,null,0,18,null,50,null,65,35,"Year 2","Year 2"]
[null,null,375,null,null,"2011-11-10",{"$f":"MAX('uptake calcs'!M386-'uptake calcs'!M385,0)","v":0},null,{"$f":"MAX('uptake calcs'!L386-'uptake calcs'!L385,0)","v":0},{"$f":"MAX('uptake calcs'!N386-'uptake calcs'!N385,0)","v":0},null,0,null,9.5,null,0,19,null,51,null,69,33,"Year 2","Year 2"]
[null,null,376,null,null,"2011-11-11",{"$f":"MAX('uptake calcs'!M387-'uptake calcs'!M386,0)","v":0},null,{"$f":"MAX('uptake calcs'!L387-'uptake calcs'!L386,0)","v":0},{"$f":"MAX('uptake calcs'!N387-'uptake calcs'!N386,0)","v":0},null,0,null,6,null,0,22,null,54,null,62,46,"Year 2","Year 2"]
[null,null,377,null,null,"2011-11-12",{"$f":"MAX('uptake calcs'!M388-'uptake calcs'!M387,0)","v":0},null,{"$f":"MAX('uptake calcs'!L388-'uptake calcs'!L387,0)","v":0},{"$f":"MAX('uptake calcs'!N388-'uptake calcs'!N387,0)","v":0},null,0,null,7,null,0,22,null,54,null,64,44,"Year 2","Year 2"]
[null,null,378,null,null,"2011-11-13",{"$f":"MAX('uptake calcs'!M389-'uptake calcs'!M388,0)","v":0},null,{"$f":"MAX('uptake calcs'!L389-'uptake calcs'!L388,0)","v":0},{"$f":"MAX('uptake calcs'!N389-'uptake calcs'!N388,0)","v":0},null,0,null,8,null,0,22.5,null,54.5,null,66,43,"Year 2","Year 2"]
[null,null,379,null,null,"2011-11-14",{"$f":"MAX('uptake calcs'!M390-'uptake calcs'!M389,0)","v":0},null,{"$f":"MAX('uptake calcs'!L390-'uptake calcs'!L389,0)","v":0},{"$f":"MAX('uptake calcs'!N390-'uptake calcs'!N389,0)","v":0},null,0,null,6,null,0,22,null,54,null,62,46,"Year 2","Year 2"]
[null,null,380,null,null,"2011-11-15",{"$f":"MAX('uptake calcs'!M391-'uptake calcs'!M390,0)","v":0},null,{"$f":"MAX('uptake calcs'!L391-'uptake calcs'!L390,0)","v":0},{"$f":"MAX('uptake calcs'!N391-'uptake calcs'!N390,0)","v":0},null,0,null,8,null,0,20,null,52,null,66,38,"Year 2","Year 2"]
[null,null,381,null,null,"2011-11-16",{"$f":"MAX('uptake calcs'!M392-'uptake calcs'!M391,0)","v":0},null,{"$f":"MAX('uptake calcs'!L392-'uptake calcs'!L391,0)","v":0},{"$f":"MAX('uptake calcs'!N392-'uptake calcs'!N391,0)","v":0},null,0,null,9,null,0,20.5,null,52.5,null,68,37,"Year 2","Year 2"]
[null,null,382,null,null,"2011-11-17",{"$f":"MAX('uptake calcs'!M393-'uptake calcs'!M392,0)","v":0},null,{"$f":"MAX('uptake calcs'!L393-'uptake calcs'!L392,0)","v":0},{"$f":"MAX('uptake calcs'!N393-'uptake calcs'!N392,0)","v":0},null,0,null,10,null,0,22,null,54,null,70,38,"Year 2","Year 2"]
[null,null,383,null,null,"2011-11-18",{"$f":"MAX('uptake calcs'!M394-'uptake calcs'!M393,0)","v":0},null,{"$f":"MAX('uptake calcs'!L394-'uptake calcs'!L393,0)","v":0},{"$f":"MAX('uptake calcs'!N394-'uptake calcs'!N393,0)","v":0},null,0,null,6,null,0,20,null,52,null,62,42,"Year 2","Year 2"]
[null,null,384,null,null,"2011-11-19",{"$f":"MAX('uptake calcs'!M395-'uptake calcs'!M394,0)","v":0},null,{"$f":"MAX('uptake calcs'!L395-'uptake calcs'!L394,0)","v":0},{"$f":"MAX('uptake calcs'!N395-'uptake calcs'!N394,0)","v":0},null,0,null,4,null,0,17,null,49,null,58,40,"Year 2","Year 2"]
[null,null,385,null,null,"2011-11-20",{"$f":"MAX('uptake calcs'!M396-'uptake calcs'!M395,0)","v":0},null,{"$f":"MAX('uptake calcs'!L396-'uptake calcs'!L395,0)","v":0},{"$f":"MAX('uptake calcs'!N396-'uptake calcs'!N395,0)","v":0},null,{"$f":"SUM(G479:J479)","v":0},null,{"$f":"IF($U479>cutoff.corn.min,((IF($U479>cutoff.corn.max,cutoff.corn.max,$U479)+IF($V479<cutoff.corn.min,cutoff.corn.min,$V479))/2)-cutoff.corn.min,0)","v":4},null,{"$f":"IF(AND(C479>=C$44,C479<=$C$55),N479+P478,0)","v":0},{"$f":"((U479+V479)/2)-32","v":17},null,{"$f":"AVERAGE(U479:V479)","v":49},null,58,40,"Year 2","Year 2"]
[null,null,386,null,null,"2011-11-21",{"$f":"MAX('uptake calcs'!M397-'uptake calcs'!M396,0)","v":0},null,{"$f":"MAX('uptake calcs'!L397-'uptake calcs'!L396,0)","v":0},{"$f":"MAX('uptake calcs'!N397-'uptake calcs'!N396,0)","v":0},null,0,null,3.5,null,0,13.5,null,45.5,null,57,34,"Year 2","Year 2"]
[null,null,387,null,null,{"$f":"F480+1","v":"2011-11-22"},{"$f":"MAX('uptake calcs'!M398-'uptake calcs'!M397,0)","v":0},null,{"$f":"MAX('uptake calcs'!L398-'uptake calcs'!L397,0)","v":0},{"$f":"MAX('uptake calcs'!N398-'uptake calcs'!N397,0)","v":0},null,0,null,5,null,0,14.5,null,46.5,null,60,33,"Year 2","Year 2"]
[null,null,388,null,null,"2011-11-23",{"$f":"MAX('uptake calcs'!M399-'uptake calcs'!M398,0)","v":0},null,{"$f":"MAX('uptake calcs'!L399-'uptake calcs'!L398,0)","v":0},{"$f":"MAX('uptake calcs'!N399-'uptake calcs'!N398,0)","v":0},null,0,null,4,null,0,15.5,null,47.5,null,58,37,"Year 2","Year 2"]
[null,null,389,null,null,"2011-11-24",{"$f":"MAX('uptake calcs'!M400-'uptake calcs'!M399,0)","v":0},null,{"$f":"MAX('uptake calcs'!L400-'uptake calcs'!L399,0)","v":0},{"$f":"MAX('uptake calcs'!N400-'uptake calcs'!N399,0)","v":0},null,0,null,5,null,0,18.5,null,50.5,null,60,41,"Year 2","Year 2"]
[null,null,390,null,null,"2011-11-25",{"$f":"MAX('uptake calcs'!M401-'uptake calcs'!M400,0)","v":0},null,{"$f":"MAX('uptake calcs'!L401-'uptake calcs'!L400,0)","v":0},{"$f":"MAX('uptake calcs'!N401-'uptake calcs'!N400,0)","v":0},null,0,null,6,null,0,19,null,51,null,62,40,"Year 2","Year 2"]
[null,null,391,null,null,"2011-11-26",{"$f":"MAX('uptake calcs'!M402-'uptake calcs'!M401,0)","v":0},null,{"$f":"MAX('uptake calcs'!L402-'uptake calcs'!L401,0)","v":0},{"$f":"MAX('uptake calcs'!N402-'uptake calcs'!N401,0)","v":0},null,0,null,4,null,0,17,null,49,null,58,40,"Year 2","Year 2"]
[null,null,392,null,null,"2011-11-27",{"$f":"MAX('uptake calcs'!M403-'uptake calcs'!M402,0)","v":0},null,{"$f":"MAX('uptake calcs'!L403-'uptake calcs'!L402,0)","v":0},{"$f":"MAX('uptake calcs'!N403-'uptake calcs'!N402,0)","v":0},null,0,null,1.5,null,0,14,null,46,null,53,39,"Year 2","Year 2"]
[null,null,393,null,null,"2011-11-28",{"$f":"MAX('uptake calcs'!M404-'uptake calcs'!M403,0)","v":0},null,{"$f":"MAX('uptake calcs'!L404-'uptake calcs'!L403,0)","v":0},{"$f":"MAX('uptake calcs'!N404-'uptake calcs'!N403,0)","v":0},null,0,null,0,null,0,13,null,45,null,50,40,"Year 2","Year 2"]
[null,null,394,null,null,"2011-11-29",{"$f":"MAX('uptake calcs'!M405-'uptake calcs'!M404,0)","v":0},null,{"$f":"MAX('uptake calcs'!L405-'uptake calcs'!L404,0)","v":0},{"$f":"MAX('uptake calcs'!N405-'uptake calcs'!N404,0)","v":0},null,0,null,0,null,0,13.5,null,45.5,null,48,43,"Year 2","Year 2"]
[null,null,395,null,null,"2011-11-30",{"$f":"MAX('uptake calcs'!M406-'uptake calcs'!M405,0)","v":0},null,{"$f":"MAX('uptake calcs'!L406-'uptake calcs'!L405,0)","v":0},{"$f":"MAX('uptake calcs'!N406-'uptake calcs'!N405,0)","v":0},null,0,null,6.5,null,0,22,null,54,null,63,45,"Year 2","Year 2"]
[null,null,396,null,null,"2011-12-01",{"$f":"MAX('uptake calcs'!M407-'uptake calcs'!M406,0)","v":0},null,{"$f":"MAX('uptake calcs'!L407-'uptake calcs'!L406,0)","v":0},{"$f":"MAX('uptake calcs'!N407-'uptake calcs'!N406,0)","v":0},null,0,null,7.5,null,0,23.5,null,55.5,null,65,46,"Year 2","Year 2"]
[null,null,397,null,null,"2011-12-02",{"$f":"MAX('uptake calcs'!M408-'uptake calcs'!M407,0)","v":0},null,{"$f":"MAX('uptake calcs'!L408-'uptake calcs'!L407,0)","v":0},{"$f":"MAX('uptake calcs'!N408-'uptake calcs'!N407,0)","v":0},null,0,null,6,null,0,15.5,null,47.5,null,62,33,"Year 2","Year 2"]
[null,null,398,null,null,"2011-12-03",{"$f":"MAX('uptake calcs'!M409-'uptake calcs'!M408,0)","v":0},null,{"$f":"MAX('uptake calcs'!L409-'uptake calcs'!L408,0)","v":0},{"$f":"MAX('uptake calcs'!N409-'uptake calcs'!N408,0)","v":0},null,0,null,5.5,null,0,12,null,44,null,61,27,"Year 2","Year 2"]
[null,null,399,null,null,"2011-12-04",{"$f":"MAX('uptake calcs'!M410-'uptake calcs'!M409,0)","v":0},null,{"$f":"MAX('uptake calcs'!L410-'uptake calcs'!L409,0)","v":0},{"$f":"MAX('uptake calcs'!N410-'uptake calcs'!N409,0)","v":0},null,0,null,4.5,null,0,12,null,44,null,59,29,"Year 2","Year 2"]
[null,null,400,null,null,"2011-12-05",{"$f":"MAX('uptake calcs'!M411-'uptake calcs'!M410,0)","v":0},null,{"$f":"MAX('uptake calcs'!L411-'uptake calcs'!L410,0)","v":0},{"$f":"MAX('uptake calcs'!N411-'uptake calcs'!N410,0)","v":0},null,0,null,4.5,null,0,11,null,43,null,59,27,"Year 2","Year 2"]
[null,null,401,null,null,"2011-12-06",{"$f":"MAX('uptake calcs'!M412-'uptake calcs'!M411,0)","v":0},null,{"$f":"MAX('uptake calcs'!L412-'uptake calcs'!L411,0)","v":0},{"$f":"MAX('uptake calcs'!N412-'uptake calcs'!N411,0)","v":0},null,0,null,4.5,null,0,10.5,null,42.5,null,59,26,"Year 2","Year 2"]
[null,null,402,null,null,"2011-12-07",{"$f":"MAX('uptake calcs'!M413-'uptake calcs'!M412,0)","v":0},null,{"$f":"MAX('uptake calcs'!L413-'uptake calcs'!L412,0)","v":0},{"$f":"MAX('uptake calcs'!N413-'uptake calcs'!N412,0)","v":0},null,0,null,4,null,0,10,null,42,null,58,26,"Year 2","Year 2"]
[null,null,403,null,null,"2011-12-08",{"$f":"MAX('uptake calcs'!M414-'uptake calcs'!M413,0)","v":0},null,{"$f":"MAX('uptake calcs'!L414-'uptake calcs'!L413,0)","v":0},{"$f":"MAX('uptake calcs'!N414-'uptake calcs'!N413,0)","v":0},null,0,null,5.5,null,0,11,null,43,null,61,25,"Year 2","Year 2"]
[null,null,404,null,null,"2011-12-09",{"$f":"MAX('uptake calcs'!M415-'uptake calcs'!M414,0)","v":0},null,{"$f":"MAX('uptake calcs'!L415-'uptake calcs'!L414,0)","v":0},{"$f":"MAX('uptake calcs'!N415-'uptake calcs'!N414,0)","v":0},null,0,null,5.5,null,0,11.5,null,43.5,null,61,26,"Year 2","Year 2"]
[null,null,405,null,null,"2011-12-10",{"$f":"MAX('uptake calcs'!M416-'uptake calcs'!M415,0)","v":0},null,{"$f":"MAX('uptake calcs'!L416-'uptake calcs'!L415,0)","v":0},{"$f":"MAX('uptake calcs'!N416-'uptake calcs'!N415,0)","v":0},null,0,null,5.5,null,0,11.5,null,43.5,null,61,26,"Year 2","Year 2",null,null,1,"Early",1000]
[null,null,406,null,null,"2011-12-11",{"$f":"MAX('uptake calcs'!M417-'uptake calcs'!M416,0)","v":0},null,{"$f":"MAX('uptake calcs'!L417-'uptake calcs'!L416,0)","v":0},{"$f":"MAX('uptake calcs'!N417-'uptake calcs'!N416,0)","v":0},null,0,null,3,null,0,11,null,43,null,56,30,"Year 2","Year 2",null,null,2,"Mid",1400]
[null,null,407,null,null,"2011-12-12",{"$f":"MAX('uptake calcs'!M418-'uptake calcs'!M417,0)","v":0},null,{"$f":"MAX('uptake calcs'!L418-'uptake calcs'!L417,0)","v":0},{"$f":"MAX('uptake calcs'!N418-'uptake calcs'!N417,0)","v":0},null,0,null,1.5,null,0,10,null,42,null,53,31,"Year 2","Year 2",null,null,3,"Late",7500]
[null,null,408,null,null,"2011-12-13",{"$f":"MAX('uptake calcs'!M419-'uptake calcs'!M418,0)","v":0},null,{"$f":"MAX('uptake calcs'!L419-'uptake calcs'!L418,0)","v":0},{"$f":"MAX('uptake calcs'!N419-'uptake calcs'!N418,0)","v":0},null,0,null,4.5,null,0,13.5,null,45.5,null,59,32,"Year 2","Year 2",null,null,null,2]

{"sheet":"mineralization","index":2,"n_rows":52,"n_cols":61,"rows_kept":52,"cut":false,"hidden":false,"merged":[[6,16,6,18],[6,19,6,21],[6,22,6,24]]}
[]
[]
[null,null,null,null,null,null,null,null,null,null,null,null,null,null,null,null,"mineralz.date.applic1",null,null,"mineralz.date.applic2",null,null,"mineralz.date.applic3",null,null,"mineralz.date.applic4",null,null,"mineralz.date.applic5",null,null,"mineralz.date.applic6",null,null,"mineralz.date.applic7",null,null,"mineralz.date.applic8",null,null,"mineralz.date.applic9",null,null,"mineralz.date.applic10",null,null,"mineralz.date.applic11",null,null,"mineralz.date.applic12",null,null,"mineralz.date.applic13",null,null,"mineralz.date.applic14",null,null,"mineralz.date.applic15"]
[null,null,null,null,null,null,null,null,null,null,null,null,null,null,null,null,"mineralz.material.applic1",null,null,"mineralz.material.applic2",null,null,"mineralz.material.applic3",null,null,"mineralz.material.applic4",null,null,"mineralz.material.applic5",null,null,"mineralz.material.applic6",null,null,"mineralz.material.applic7",null,null,"mineralz.material.applic8",null,null,"mineralz.material.applic9",null,null,"mineralz.material.applic10",null,null,"mineralz.material.applic11",null,null,"mineralz.material.applic12",null,null,"mineralz.material.applic13",null,null,"mineralz.material.applic14",null,null,"mineralz.material.applic15"]
[null,null,null,null,null,null,null,null,null,null,null,null,null,null,null,null,"mineralz.orgN.applic1","mineralz.NH4N.applic1","mineralz.TKN.applic1","mineralz.orgN.applic2","mineralz.NH4N.applic2","mineralz.TKN.applic2","mineralz.orgN.applic3","mineralz.NH4N.applic3","mineralz.TKN.applic3","mineralz.orgN.applic4","mineralz.NH4N.applic4","mineralz.TKN.applic4","mineralz.orgN.applic5","mineralz.NH4N.applic5","mineralz.TKN.applic5","mineralz.orgN.applic6","mineralz.NH4N.applic6","mineralz.TKN.applic6","mineralz.orgN.applic7","mineralz.NH4N.applic7","mineralz.TKN.applic7","mineralz.orgN.applic8","mineralz.NH4N.applic8","mineralz.TKN.applic8","mineralz.orgN.applic9","mineralz.NH4N.applic9","mineralz.TKN.applic9","mineralz.orgN.applic10","mineralz.NH4N.applic10","mineralz.TKN.applic10","mineralz.orgN.applic11","mineralz.NH4N.applic11","mineralz.TKN.applic11","mineralz.orgN.applic12","mineralz.NH4N.applic12","mineralz.TKN.applic12","mineralz.orgN.applic13","mineralz.NH4N.applic13","mineralz.TKN.applic13","mineralz.orgN.applic14","mineralz.NH4N.applic14","mineralz.TKN.applic14","mineralz.orgN.applic15","mineralz.NH4N.applic15","mineralz.TKN.applic15"]
[null,"date of last crop harvest","2010-08-20",null,"Organic Nitrogen Mineralization Calculator",null,null,null,null,null,null,null,null,null,null,null,"organic N","available N","lbs/acre","organic N","available N","lbs/acre","organic N","available N","lbs/acre","organic N","available N","lbs/acre","organic N","available N","lbs/acre","organic N","available N","lbs/acre","organic N","available N","lbs/acre","organic N","available N","lbs/acre","organic N","available N","lbs/acre","organic N","available N","lbs/acre","organic N","available N","lbs/acre","organic N","available N","lbs/acre","organic N","available N","lbs/acre","organic N","available N","lbs/acre","organic N","available N","lbs/acre"]
[null,"incorporation date",{"$f":"Q7","v":"2010-10-14"},null,null,null,null,null,null,null,null,null,null,null,"incorporation date:",null,"2010-10-14",null,null,"2011-02-03",null,null,"2011-06-14"]
[null,null,null,null,null,null,null,null,null,null,null,null,null,null,"material:",null,"Corral Solids",null,null,"Lagoon Water",null,null,"Lagoon Water"]
[null,null,null,null,null,null,null,null,null,null,null,null,null,null,"lbs N/acre applied:",null,200,5,null,60,100,null,30,45]
[null,null,"day of season",{"$f":"'daily uptake'!E30","v":"date"},{"$f":"'daily uptake'!F30","v":"crop and irrigation number"},"cumulative uptake lbs/A\n to date","N uptake lbs/A thru next event",null,"% lost",null,null,"Avail N all sources through next event","Avail N applied this date","All sources Org-N release lbs/A thru next event","cumulative\n Org-N release lbs/A to date",null,"N release lbs/A thru next event","cumulative release lbs/A\n to date","cumulative % release\n to date","N release lbs/A thru next event","cumulative release lbs/A\n to date","cumulative % release\n to date","N release lbs/A thru next event","cumulative release lbs/A\n to date","cumulative % release\n to date","N release lbs/A thru next event","cumulative release lbs/A\n to date","cumulative % release\n to date","N release lbs/A thru next event","cumulative release lbs/A\n to date","cumulative % release\n to date","N release lbs/A thru next event","cumulative release lbs/A\n to date","cumulative % release\n to date","N release lbs/A thru next event","cumulative release lbs/A\n to date","cumulative % release\n to date","N release lbs/A thru next event","cumulative release lbs/A\n to date","cumulative % release\n to date","N release lbs/A thru next event","cumulative release lbs/A\n to date","cumulative % release\n to date","N release lbs/A thru next event","cumulative release lbs/A\n to date","cumulative % release\n to date","N release lbs/A thru next event","cumulative release lbs/A\n to date","cumulative % release\n to date","N release lbs/A thru next event","cumulative release lbs/A\n to date","cumulative % release\n to date","N release lbs/A thru next event","cumulative release lbs/A\n to date","cumulative % release\n to date","N release lbs/A thru next event","cumulative release lbs/A\n to date","cumulative % release\n to date","N release lbs/A thru next event","cumulative release lbs/A\n to date","cumulative % release\n to date"]
[null,null,{"$f":"IF(D11>0,D11-$C$6+1,\"\")","v":56},"2010-10-14","winter crop preplant 1",null,null,null,null,{"$f":"(O11-#REF!)+M11-(F11-#REF!)+#REF!-(#REF!*I11)","v":{"$error":"#REF!"}},null,{"$f":"SUM(M11,N11)","v":5},{"$f":"AvailN(D11)","v":5},{"$f":"SUM(Q11,T11,W11,Z11,AC11,AF11,AI11,AL11,AO11,AR11,AU11,AX11,BA11,BD11)","v":0},{"$f":"SUM(R11,U11,X11,AA11,AD11,AG11,AJ11,AM11,AP11,AS11,AV11,AY11,BB11,BE11)","v":0.70366142590578828},null,null,{"$f":"Q$9*S11","v":0.70366142590578828},3.5183071295289414E-3,null,{"$f":"T$9*V11","v":0},null,null,{"$f":"W$9*Y11","v":0},null,null,{"$f":"Z$9*AB11","v":0},null,null,{"$f":"AC$9*AE11","v":0},null,null,{"$f":"AF$9*AH11","v":0},null,null,{"$f":"AI$9*AK11","v":0},null,null,{"$f":"AL$9*AN11","v":0},null,null,{"$f":"AO$9*AQ11","v":0},null,null,{"$f":"AR$9*AT11","v":0},null,null,{"$f":"AU$9*AW11","v":0},null,null,{"$f":"AX$9*AZ11","v":0},null,null,{"$f":"BA$9*BC11","v":0},null,null,{"$f":"BD$9*BF11","v":0},null,null,{"$f":"BG$9*BI11","v":0}]
[null,null,"",null,"winter crop preirrig",null,null,null,0.4,{"$f":"(O12-O11)+M12-(F12-F11)+J11-(J11*I12)","v":{"$error":"#REF!"}},null,{"$f":"SUM(M12,N12)","v":0},0,0,{"$f":"SUM(R12,U12,X12,AA12,AD12,AG12,AJ12,AM12,AP12,AS12,AV12,AY12,BB12,BE12)","v":0},null,null,{"$f":"Q$9*S12","v":0},null,null,0,null,null,0,null,null,0,null,null,0,null,null,0,null,null,0,null,null,0,null,null,0,null,null,0,null,null,0,null,null,0,null,null,0,null,null,0,null,null,0]
[null,null,74,{"$f":"'daily uptake'!E31","v":"2010-11-01"},"winter crop planting",{"$f":"'daily uptake'!I31","v":0},{"$f":"'daily uptake'!G31","v":47.45478837979033},null,null,{"$f":"(O13-O12)+M13-(F13-F12)+J12-(J12*I13)","v":{"$error":"#REF!"}},null,81.008888488591467,0,81.008888488591467,13.868510397698097,null,{"$f":"R19","v":80.742543367547583},13.868510397698097,6.9342551988490486E-2,{"$f":"U19","v":0.26634512104388053},0,null,{"$f":"X19","v":0},0,null,{"$f":"AA19","v":0},0,null,{"$f":"AD19","v":0},0,null,{"$f":"AG19","v":0},0,null,{"$f":"AJ19","v":0},0,null,{"$f":"AM19","v":0},0,null,{"$f":"AP19","v":0},0,null,{"$f":"AS19","v":0},0,null,{"$f":"AV19","v":0},0,null,{"$f":"AY19","v":0},0,null,{"$f":"BB19","v":0},0,null,{"$f":"BE19","v":0},0,null,{"$f":"BH19","v":0},0]
[null,null,90,{"$f":"'daily uptake'!E32","v":"2010-11-17"},null,{"$f":"'daily uptake'!I32","v":7.0456451351932401},{"$f":"'daily uptake'!G32","v":0},null,null,{"$error":"#REF!"},null,0,0,0,27.034961973525217,null,null,27.034961973525217,0.13517480986762609,null,0,null,null,0,null,null,0,null,null,0,null,null,0,null,null,0,null,null,0,null,null,0,null,null,0,null,null,0,null,null,0,null,null,0,null,null,0,null,null,0]
[null,null,106,{"$f":"'daily uptake'!E33","v":"2010-12-03"},null,{"$f":"'daily uptake'!I33","v":12.204791094451025},{"$f":"'daily uptake'!G33","v":0},null,null,{"$error":"#REF!"},null,0,0,0,40.296513645132933,null,null,40.296513645132933,0.20148256822566468,null,0,null,null,0,null,null,0,null,null,0,null,null,0,null,null,0,null,null,0,null,null,0,null,null,0,null,null,0,null,null,0,null,null,0,null,null,0,null,null,0]
[null,null,122,{"$f":"'daily uptake'!E34","v":"2010-12-19"},null,{"$f":"'daily uptake'!I34","v":21.799091636750404},{"$f":"'daily uptake'!G34","v":0},null,null,{"$error":"#REF!"},null,0,0,0,51.872599623035306,null,null,51.872599623035306,0.25936299811517655,null,0,null,null,0,null,null,0,null,null,0,null,null,0,null,null,0,null,null,0,null,null,0,null,null,0,null,null,0,null,null,0,null,null,0,null,null,0,null,null,0]
[null,null,138,{"$f":"'daily uptake'!E35","v":"2011-01-04"},null,{"$f":"'daily uptake'!I35","v":31.150245622658645},{"$f":"'daily uptake'!G35","v":0},null,null,{"$error":"#REF!"},null,0,0,0,62.887107613191141,null,null,62.887107613191141,0.3144355380659557,null,0,null,null,0,null,null,0,null,null,0,null,null,0,null,null,0,null,null,0,null,null,0,null,null,0,null,null,0,null,null,0,null,null,0,null,null,0,null,null,0]
[null,null,154,{"$f":"'daily uptake'!E36","v":"2011-01-20"},null,{"$f":"'daily uptake'!I36","v":38.433833090176904},{"$f":"'daily uptake'!G36","v":0},null,null,{"$error":"#REF!"},null,0,0,0,72.770504774372284,null,null,72.770504774372284,0.3638525238718614,null,0,null,null,0,null,null,0,null,null,0,null,null,0,null,null,0,null,null,0,null,null,0,null,null,0,null,null,0,null,null,0,null,null,0,null,null,0,null,null,0]
[null,null,168,{"$f":"'daily uptake'!E37","v":"2011-02-03"},"winter crop 1st",{"$f":"'daily uptake'!I37","v":47.45478837979033},{"$f":"'daily uptake'!G37","v":36.183222186713238},null,0.4,{"$error":"#REF!"},null,124.41345870437442,100,24.41345870437442,81.008888488591467,null,{"$f":"IF($G22>0,R22-R19,R24-R19)","v":14.950833466819574},80.742543367547583,0.40371271683773791,{"$f":"IF($G22>0,U22-U19,U24-U19)","v":9.4626252375548461},0.26634512104388053,4.4390853507313421E-3,{"$f":"IF($G22>0,X22-X19,X24-X19)","v":0},0,null,{"$f":"IF($G22>0,AA22-AA19,AA24-AA19)","v":0},0,null,{"$f":"IF($G22>0,AD22-AD19,AD24-AD19)","v":0},0,null,{"$f":"IF($G22>0,AG22-AG19,AG24-AG19)","v":0},0,null,{"$f":"IF($G22>0,AJ22-AJ19,AJ24-AJ19)","v":0},0,null,{"$f":"IF($G22>0,AM22-AM19,AM24-AM19)","v":0},0,null,{"$f":"IF($G22>0,AP22-AP19,AP24-AP19)","v":0},0,null,{"$f":"IF($G22>0,AS22-AS19,AS24-AS19)","v":0},0,null,{"$f":"IF($G22>0,AV22-AV19,AV24-AV19)","v":0},0,null,{"$f":"IF($G22>0,AY22-AY19,AY24-AY19)","v":0},0,null,{"$f":"IF($G22>0,BB22-BB19,BB24-BB19)","v":0},0,null,{"$f":"IF($G22>0,BE22-BE19,BE24-BE19)","v":0},0,null,{"$f":"IF($G22>0,BH22-BH19,BH24-BH19)","v":0},0]
[null,null,180,{"$f":"'daily uptake'!E38","v":"2011-02-15"},null,{"$f":"'daily uptake'!I38","v":58.884515063711433},{"$f":"'daily uptake'!G38","v":0},null,null,{"$error":"#REF!"},null,0,0,0,90.16964887833943,null,null,86.648153024443758,0.43324076512221876,null,3.5214958538956753,5.8691597564927922E-2,null,0,null,null,0,null,null,0,null,null,0,null,null,0,null,null,0,null,null,0,null,null,0,null,null,0,null,null,0,null,null,0,null,null,0,null,null,0]
[null,null,192,{"$f":"'daily uptake'!E39","v":"2011-02-27"},null,{"$f":"'daily uptake'!I39","v":68.576190072975464},{"$f":"'daily uptake'!G39","v":0},null,null,{"$f":"(O21-O20)+M21-(F21-F20)+J20-(J20*I21)","v":{"$error":"#REF!"}},null,0,0,0,98.367263393149244,null,null,91.603040415267387,0.45801520207633695,null,6.7642229778818592,0.11273704963136433,null,0,null,null,0,null,null,0,null,null,0,null,null,0,null,null,0,null,null,0,null,null,0,null,null,0,null,null,0,null,null,0,null,null,0,null,null,0]
[null,null,204,{"$f":"'daily uptake'!E40","v":"2011-03-11"},"winter crop 2nd",{"$f":"'daily uptake'!I40","v":83.638010566503567},{"$f":"'daily uptake'!G40","v":54.424517232281687},null,0.4,{"$f":"(O22-O21)+M22-(F22-F21)+J21-(J21*I22)","v":{"$error":"#REF!"}},null,18.443561454420582,0,18.443561454420582,105.42234719296589,null,{"$f":"IF($G23>0,R24-R22,R23-R22)","v":9.1770790638200452},95.693376834367157,0.4784668841718358,{"$f":"IF($G23>0,U24-U22,U23-U22)","v":9.2664823906005367},9.7289703585987262,0.16214950597664543,{"$f":"IF($G23>0,X24-X22,X23-X22)","v":0},0,null,{"$f":"IF($G23>0,AA24-AA22,AA23-AA22)","v":0},0,null,{"$f":"IF($G23>0,AD24-AD22,AD23-AD22)","v":0},0,null,{"$f":"IF($G23>0,AG24-AG22,AG23-AG22)","v":0},0,null,{"$f":"IF($G23>0,AJ24-AJ22,AJ23-AJ22)","v":0},0,null,{"$f":"IF($G23>0,AM24-AM22,AM23-AM22)","v":0},0,null,{"$f":"IF($G23>0,AP24-AP22,AP23-AP22)","v":0},0,null,{"$f":"IF($G23>0,AS24-AS22,AS23-AS22)","v":0},0,null,{"$f":"IF($G23>0,AV24-AV22,AV23-AV22)","v":0},0,null,{"$f":"IF($G23>0,AY24-AY22,AY23-AY22)","v":0},0,null,{"$f":"IF($G23>0,BB24-BB22,BB23-BB22)","v":0},0,null,{"$f":"IF($G23>0,BE24-BE22,BE23-BE22)","v":0},0,null,{"$f":"IF($G23>0,BH24-BH22,BH23-BH22)","v":0},0]
[null,null,242,{"$f":"'daily uptake'!E41","v":"2011-04-18"},"winter crop 3rd",{"$f":"'daily uptake'!I41","v":0},{"$f":"'daily uptake'!G41","v":0},null,null,{"$f":"(O23-O22)+M23-(F23-F22)+J22-(J22*I23)","v":{"$error":"#REF!"}},null,0,0,{"$f":"SUM(Q23,T23,W23,Z23,AC23,AF23,AI23,AL23,AO23,AR23,AU23,AX23,BA23,BD23)","v":0},123.86590864738646,null,{"$f":"IF($G23>0,R24-R23,0)","v":0},104.8704558981872,0.52435227949093599,{"$f":"IF($G23>0,U24-U23,0)","v":0},18.995452749199263,0.31659087915332107,{"$f":"IF($G23>0,X24-X23,0)","v":0},0,null,{"$f":"IF($G23>0,AA24-AA23,0)","v":0},0,null,{"$f":"IF($G23>0,AD24-AD23,0)","v":0},0,null,{"$f":"IF($G23>0,AG24-AG23,0)","v":0},0,null,{"$f":"IF($G23>0,AJ24-AJ23,0)","v":0},0,null,{"$f":"IF($G23>0,AM24-AM23,0)","v":0},0,null,{"$f":"IF($G23>0,AP24-AP23,0)","v":0},0,null,{"$f":"IF($G23>0,AS24-AS23,0)","v":0},0,null,{"$f":"IF($G23>0,AV24-AV23,0)","v":0},0,null,{"$f":"IF($G23>0,AY24-AY23,0)","v":0},0,null,{"$f":"IF($G23>0,BB24-BB23,0)","v":0},0,null,{"$f":"IF($G23>0,BE24-BE23,0)","v":0},0,null,{"$f":"IF($G23>0,BH24-BH23,0)","v":0},0]
[null,null,242,{"$f":"'daily uptake'!E42","v":"2011-04-18"},"winter crop harvest",{"$f":"'daily uptake'!I42","v":138.06252779878525},{"$f":"'daily uptake'!G42","v":0},null,null,{"$error":"#REF!"},null,12.341195623363603,0,{"$f":"SUM(Q24,T24,W24,Z24,AC24,AF24,AI24,AL24,AO24,AR24,AU24,AX24,BA24,BD24)","v":12.341195623363603},123.86590864738646,null,{"$f":"R28-R24","v":5.3090124948757165},104.8704558981872,0.52435227949093599,{"$f":"U28-U24","v":7.0321831284878868},18.995452749199263,0.31659087915332107,{"$f":"X28-X24","v":0},0,null,{"$f":"AA28-AA24","v":0},0,null,{"$f":"AD28-AD24","v":0},0,null,{"$f":"AG28-AG24","v":0},0,null,{"$f":"AJ28-AJ24","v":0},0,null,{"$f":"AM28-AM24","v":0},0,null,{"$f":"AP28-AP24","v":0},0,null,{"$f":"AS28-AS24","v":0},0,null,{"$f":"AV28-AV24","v":0},0,null,{"$f":"AY28-AY24","v":0},0,null,{"$f":"BB28-BB24","v":0},0,null,{"$f":"BE28-BE24","v":0},0,null,{"$f":"BH28-BH24","v":0},0]
[null,null,null,null,null,null,null,null,null,{"$error":"#REF!"},null,0,0,0,0,null,null,0,null,null,0,null,null,0,null,null,0,null,null,0,null,null,0,null,null,0,null,null,0,null,null,0,null,null,0,null,null,0,null,null,0,null,null,0,null,null,0,null,null,0]
[null,null,{"$f":"IF(D26>0,D26-$C$6+1,\"\")","v":""},null,"corn preplant",null,null,null,null,{"$error":"#REF!"},null,0,0,0,0,null,null,0,null,null,0,null,null,0,null,null,0,null,null,0,null,null,0,null,null,0,null,null,0,null,null,0,null,null,0,null,null,0,null,null,0,null,null,0,null,null,0,null,null,0]
[null,null,255,"2011-05-01","corn preirrig",null,null,null,0.5,{"$error":"#REF!"},null,0,0,0,130.07997531396342,null,null,107.72686750874176,0.53863433754370882,null,{"$f":"T$9*V27","v":22.353107805221654},0.37255179675369426,null,0,null,null,0,null,null,0,null,null,0,null,null,0,null,null,0,null,null,0,null,null,0,null,null,0,null,null,0,null,null,0,null,null,0,null,null,0]
[null,null,269,{"$f":"'daily uptake'!E44","v":"2011-05-15"},"corn planting",{"$f":"'daily uptake'!I44","v":0},{"$f":"'daily uptake'!G44","v":2.5331020696136193},null,0,{"$error":"#REF!"},null,13.538048237443418,0,13.538048237443418,136.20710427075008,null,{"$f":"R29-R28","v":5.3020840115495389},110.17946839306292,0.55089734196531459,{"$f":"U29-U28","v":7.9066631526699389},26.02763587768715,0.43379393129478583,{"$f":"X29-X28","v":0.32930107322394042},0,null,{"$f":"AA29-AA28","v":0},0,null,{"$f":"AD29-AD28","v":0},0,null,{"$f":"AG29-AG28","v":0},0,null,{"$f":"AJ29-AJ28","v":0},0,null,{"$f":"AM29-AM28","v":0},0,null,{"$f":"AP29-AP28","v":0},0,null,{"$f":"AS29-AS28","v":0},0,null,{"$f":"AV29-AV28","v":0},0,null,{"$f":"AY29-AY28","v":0},0,null,{"$f":"BB29-BB28","v":0},0,null,{"$f":"BE29-BE28","v":0},0,null,{"$f":"BH29-BH28","v":0},0]
[null,null,299,{"$f":"'daily uptake'!E45","v":"2011-06-14"},"corn 1st",{"$f":"'daily uptake'!I45","v":2.5331020696136193},{"$f":"'daily uptake'!G45","v":14.907390357714348},null,0.4,{"$error":"#REF!"},null,52.272813621419694,45,7.2728136214196937,149.74515250819348,null,{"$f":"R30-R29","v":1.7678663743033525},115.48155240461246,0.57740776202306232,2.5158043599959683,33.934299030357089,0.56557165050595148,2.9891428871203729,0.32930107322394042,1.0976702440798014E-2,0,0,null,0,0,null,0,0,null,0,0,null,0,0,null,0,0,null,0,0,null,0,0,null,0,0,null,0,0,null,0,0,null,0,0]
[null,null,309,{"$f":"'daily uptake'!E46","v":"2011-06-24"},"corn 2nd",{"$f":"'daily uptake'!I46","v":17.440492427327968},{"$f":"'daily uptake'!G46","v":16.551429487484256},null,0.4,{"$error":"#REF!"},null,7.2245949696471836,0,7.2245949696471836,157.0179661296132,null,1.658891983873076,117.24941877891581,0.58624709389457907,2.5526524537558473,36.450103390353057,0.60750172317255091,3.0130505320182608,3.3184439603443132,0.11061479867814378,0,0,null,0,0,null,0,0,null,0,0,null,0,0,null,0,0,null,0,0,null,0,0,null,0,0,null,0,0,null,0,0,null,0,0]
[null,null,319,{"$f":"'daily uptake'!E47","v":"2011-07-04"},"corn 3rd",{"$f":"'daily uptake'!I47","v":33.991921914812224},{"$f":"'daily uptake'!G47","v":71.229852226467926},null,0.4,null,null,6.9940420575764142,0,6.9940420575764142,164.24256109926037,null,1.9728197988690539,118.90831076278889,0.59454155381394447,2.3114711254643794,39.002755844108904,0.65004593073514838,2.7097511332429809,6.331494492362574,0.21104981641208581,0,0,null,0,0,null,0,0,null,0,0,null,0,0,null,0,0,null,0,0,null,0,0,null,0,0,null,0,0,null,0,0,null,0,0]
[null,null,329,{"$f":"'daily uptake'!E48","v":"2011-07-14"},"corn 4th",{"$f":"'daily uptake'!I48","v":105.22177414128015},{"$f":"'daily uptake'!G48","v":83.865207666934737},null,0.4,null,null,6.7559329605211271,0,6.7559329605211271,171.23660315683679,null,1.9885869303990802,120.88113056165794,0.60440565280828973,2.2028005434466493,41.314226969573284,0.68857044949288804,2.5645454866753976,9.0412456256055549,0.30137485418685184,0,0,null,0,0,null,0,0,null,0,0,null,0,0,null,0,0,null,0,0,null,0,0,null,0,0,null,0,0,null,0,0,null,0,0]
[null,null,339,{"$f":"'daily uptake'!E49","v":"2011-07-24"},"corn 5th",{"$f":"'daily uptake'!I49","v":189.08698180821489},{"$f":"'daily uptake'!G49","v":11.159234657321178},null,0.4,null,null,5.8956995436518724,0,5.8956995436518724,{"$f":"SUM(R33,U33,X33,AA33,AD33,AG33,AJ33,AM33,AP33,AS33,AV33,AY33,BB33,BE33)","v":177.9925361173579},null,1.9902802548590586,122.86971749205702,0.61434858746028509,1.8110340728509797,43.517027513019933,0.72528379188366554,2.0943852159418341,11.605791112280953,0.3868597037426984,0,0,null,0,0,null,0,0,null,0,0,null,0,0,null,0,0,null,0,0,null,0,0,null,0,0,null,0,0,null,0,0,null,0,0]
[null,null,349,{"$f":"'daily uptake'!E50","v":"2011-08-03"},"corn 6th",{"$f":"'daily uptake'!I50","v":200.24621646553607},{"$f":"'daily uptake'!G50","v":0},null,0.4,null,null,5.2874311788352628,0,5.2874311788352628,183.88823566100979,null,{"$f":"IF($G35=0,R$39-R34,R35-R34)","v":2.0815357150221132},124.85999774691608,0.62429998873458037,{"$f":"IF($G35=0,U$39-U34,U35-U34)","v":1.4913992572254173},45.328061585870913,0.75546769309784856,{"$f":"IF($G35=0,X$39-X34,X35-X34)","v":1.7144962065877323},13.700176328222787,0.45667254427409287,{"$f":"IF($G35=0,AA$39-AA34,AA35-AA34)","v":0},0,null,{"$f":"IF($G35=0,AD$39-AD34,AD35-AD34)","v":0},0,null,{"$f":"IF($G35=0,AG$39-AG34,AG35-AG34)","v":0},0,null,{"$f":"IF($G35=0,AJ$39-AJ34,AJ35-AJ34)","v":0},0,null,{"$f":"IF($G35=0,AM$39-AM34,AM35-AM34)","v":0},0,null,{"$f":"IF($G35=0,AP$39-AP34,AP35-AP34)","v":0},0,null,{"$f":"IF($G35=0,AS$39-AS34,AS35-AS34)","v":0},0,null,{"$f":"IF($G35=0,AV$39-AV34,AV35-AV34)","v":0},0,null,{"$f":"IF($G35=0,AY$39-AY34,AY35-AY34)","v":0},0,null,{"$f":"IF($G35=0,BB$39-BB34,BB35-BB34)","v":0},0,null,{"$f":"IF($G35=0,BE$39-BE34,BE35-BE34)","v":0},0,null,{"$f":"IF($G35=0,BH$39-BH34,BH35-BH34)","v":0},0]
[null,null,359,{"$f":"'daily uptake'!E51","v":"2011-08-13"},"corn 7th",{"$f":"'daily uptake'!I51","v":200.24621646553607},{"$f":"'daily uptake'!G51","v":20.862209199250401},null,0.4,null,null,5.0227129502067047,0,5.0227129502067047,189.17566683984504,null,{"$f":"IF($G36=0,R$39-R35,R36-R35)","v":2.2273391408054266},126.94153346193819,0.63470766730969097,1.3041930022749284,46.81946084309633,0.78032434738493883,1.4911808071263497,15.414672534810519,0.51382241782701732,0,0,null,0,0,null,0,0,null,0,0,null,0,0,null,0,0,null,0,0,null,0,0,null,0,0,null,0,0,null,0,0,null,0,0]
[null,null,369,{"$f":"'daily uptake'!E52","v":"2011-08-23"},"corn 8th",{"$f":"'daily uptake'!I52","v":221.10842566478647},{"$f":"'daily uptake'!G52","v":24.520122811891454},null,0.2,null,null,2.9670236666832608,0,2.9670236666832608,194.19837979005175,null,{"$f":"IF($G37=0,R$39-R36,R37-R36)","v":1.3824421646060614},129.16887260274362,0.64584436301371806,0.7409534019704509,48.123653845371258,0.80206089742285436,0.84362810010674849,16.905853341936869,0.56352844473122898,0,0,null,0,0,null,0,0,null,0,0,null,0,0,null,0,0,null,0,0,null,0,0,null,0,0,null,0,0,null,0,0,null,0,0]
[null,null,375,{"$f":"'daily uptake'!E53","v":"2011-08-29"},"corn 9th",{"$f":"'daily uptake'!I53","v":0},{"$f":"'daily uptake'!G53","v":0},null,null,null,null,0,0,0,197.16540345673499,null,{"$f":"IF($G38=0,R$39-R37,R38-R37)","v":0},130.55131476734968,0.65275657383674834,0,48.864607247341709,0.81441012078902852,0,17.749481442043617,0.59164938140145384,0,0,null,0,0,null,0,0,null,0,0,null,0,0,null,0,0,null,0,0,null,0,0,null,0,0,null,0,0,null,0,0,null,0,0]
[null,null,375,{"$f":"'daily uptake'!E54","v":"2011-08-29"},"corn 10th",{"$f":"'daily uptake'!I54","v":0},{"$f":"'daily uptake'!G54","v":0},null,null,null,null,0,0,0,197.16540345673499,null,{"$f":"IF($G39=0,R$39-R38,R39-R38)","v":0},130.55131476734968,0.65275657383674834,0,48.864607247341709,0.81441012078902852,0,17.749481442043617,0.59164938140145384,0,0,null,0,0,null,0,0,null,0,0,null,0,0,null,0,0,null,0,0,null,0,0,null,0,0,null,0,0,null,0,0,null,0,0]
[null,null,375,{"$f":"'daily uptake'!E55","v":"2011-08-29"},"corn harvest",{"$f":"'daily uptake'!I55","v":245.62854847667791},{"$f":"'daily uptake'!G55","v":0},null,null,null,null,0.93424619594283698,0,0.93424619594283698,197.16540345673499,null,{"$f":"R43-R39","v":0.45556215602024963},130.55131476734968,0.65275657383674834,{"$f":"U43-U39","v":0.22408009740085078},48.864607247341709,0.81441012078902852,{"$f":"X43-X39","v":0.25460394252173657},17.749481442043617,0.59164938140145384,{"$f":"AA43-AA39","v":0},0,null,{"$f":"AD43-AD39","v":0},0,null,{"$f":"AG43-AG39","v":0},0,null,{"$f":"AJ43-AJ39","v":0},0,null,{"$f":"AM43-AM39","v":0},0,null,{"$f":"AP43-AP39","v":0},0,null,{"$f":"AS43-AS39","v":0},0,null,{"$f":"AV43-AV39","v":0},0,null,{"$f":"AY43-AY39","v":0},0,null,{"$f":"BB43-BB39","v":0},0,null,{"$f":"BE43-BE39","v":0},0,null,{"$f":"BH43-BH39","v":0},0]
[null,null,{"$f":"IF(D40>0,D40-$C$6+1,\"\")","v":""},null,null,null,null,null,null,null,null,0,0,0,0,null,null,0,null,null,0,null,null,0,null,null,0,null,null,0,null,null,0,null,null,0,null,null,0,null,null,0,null,null,0,null,null,0,null,null,0,null,null,0,null,null,0,null,null,0]
[null,null,"",null,"triple crop preplant 1",null,null,null,null,null,null,0,0,0,0,null,null,0,null,null,0,null,null,0,null,null,0,null,null,0,null,null,0,null,null,0,null,null,0,null,null,0,null,null,0,null,null,0,null,null,0,null,null,0,null,null,0,null,null,0]
[null,null,"",null,"triple crop preirrg",{"$f":"'daily uptake'!I56","v":0},{"$f":"'daily uptake'!G56","v":0},null,null,null,null,0,0,0,0,null,null,0,null,null,0,null,null,0,null,null,0,null,null,0,null,null,0,null,null,0,null,null,0,null,null,0,null,null,0,null,null,0,null,null,0,null,null,0,null,null,0,null,null,0]
[null,null,377,{"$f":"'daily uptake'!E57","v":"2011-08-31"},"triple crop planting",{"$f":"'daily uptake'!I57","v":0},{"$f":"'daily uptake'!G57","v":29.520630604748888},null,null,null,null,9.0904585341175661,0,9.0904585341175661,198.09964965267784,null,{"$f":"R44-R43","v":5.0766459756767119},131.00687692336993,0.6550343846168496,{"$f":"U44-U43","v":1.8837004488571409},{"$f":"T$9*V43","v":49.08868734474256},0.81814478907904264,{"$f":"X44-X43","v":2.1301121095837132},18.004085384565354,0.60013617948551179,{"$f":"AA44-AA43","v":0},0,null,{"$f":"AD44-AD43","v":0},0,null,{"$f":"AG44-AG43","v":0},0,null,{"$f":"AJ44-AJ43","v":0},0,null,{"$f":"AM44-AM43","v":0},0,null,{"$f":"AP44-AP43","v":0},0,null,{"$f":"AS44-AS43","v":0},0,null,{"$f":"AV44-AV43","v":0},0,null,{"$f":"AY44-AY43","v":0},0,null,{"$f":"BB44-BB43","v":0},0,null,{"$f":"BE44-BE43","v":0},0,null,{"$f":"BH44-BH43","v":0},0]
[null,null,396,{"$f":"'daily uptake'!E58","v":"2011-09-19"},"triple crop 1st",{"$f":"'daily uptake'!I58","v":29.520630604748888},{"$f":"'daily uptake'!G58","v":28.802212962647367},null,null,null,null,4.065354891420693,0,4.065354891420693,207.19010818679541,null,{"$f":"R45-R44","v":2.5490898729415221},136.08352289904664,0.68041761449523319,{"$f":"U45-U44","v":0.71394522434759011},50.972387793599701,0.84953979655999501,{"$f":"X45-X44","v":0.80231979413158072},20.134197494149067,0.67113991647163551,{"$f":"AA45-AA44","v":0},0,null,{"$f":"AD45-AD44","v":0},0,null,{"$f":"AG45-AG44","v":0},0,null,{"$f":"AJ45-AJ44","v":0},0,null,{"$f":"AM45-AM44","v":0},0,null,{"$f":"AP45-AP44","v":0},0,null,{"$f":"AS45-AS44","v":0},0,null,{"$f":"AV45-AV44","v":0},0,null,{"$f":"AY45-AY44","v":0},0,null,{"$f":"BB45-BB44","v":0},0,null,{"$f":"BE45-BE44","v":0},0,null,0,0]
[null,null,405,{"$f":"'daily uptake'!E59","v":"2011-09-28"},"triple crop 2nd",{"$f":"'daily uptake'!I59","v":58.322843567396255},{"$f":"'daily uptake'!G59","v":37.830911386613813},null,null,null,null,3.8647754989034624,0,3.8647754989034624,211.25546307821611,null,{"$f":"IF($G46=0,R$48-R45,R46-R45)","v":2.4364465793258887},138.63261277198816,0.69316306385994086,{"$f":"IF($G46=0,U$48-U45,U46-U45)","v":0.67381281367789825},51.686333017947291,0.8614388836324548,{"$f":"IF($G46=0,X$48-X45,X46-X45)","v":0.75451610589967544},20.936517288280648,0.69788390960935487,{"$f":"IF($G46=0,AA$48-AA45,AA46-AA45)","v":0},0,null,{"$f":"IF($G46=0,AD$48-AD45,AD46-AD45)","v":0},0,null,{"$f":"IF($G46=0,AG$48-AG45,AG46-AG45)","v":0},0,null,{"$f":"IF($G46=0,AJ$48-AJ45,AJ46-AJ45)","v":0},0,null,{"$f":"IF($G46=0,AM$48-AM45,AM46-AM45)","v":0},0,null,{"$f":"IF($G46=0,AP$48-AP45,AP46-AP45)","v":0},0,null,{"$f":"IF($G46=0,AS$48-AS45,AS46-AS45)","v":0},0,null,{"$f":"IF($G46=0,AV$48-AV45,AV46-AV45)","v":0},0,null,{"$f":"IF($G46=0,AY$48-AY45,AY46-AY45)","v":0},0,null,{"$f":"IF($G46=0,BB$48-BB45,BB46-BB45)","v":0},0,null,{"$f":"IF($G46=0,BE$48-BE45,BE46-BE45)","v":0},0,null,{"$f":"IF($G46=0,BH$48-BH45,BH46-BH45)","v":0},0]
[null,null,414,{"$f":"'daily uptake'!E60","v":"2011-10-07"},"triple crop 3rd",{"$f":"'daily uptake'!I60","v":0},{"$f":"'daily uptake'!G60","v":0},null,null,null,null,0,0,0,215.12023857711958,null,{"$f":"IF($G47=0,R$48-R46,R47-R46)","v":0},141.06905935131405,0.70534529675657021,0,52.360145831625189,0.87266909719375318,0,21.691033394180323,0.72303444647267745,0,0,null,0,0,null,0,0,null,0,0,null,0,0,null,0,0,null,0,0,null,0,0,null,0,0,null,0,0,null,0,0,null,0,0]
[null,null,414,{"$f":"'daily uptake'!E61","v":"2011-10-07"},"triple crop 4th",{"$f":"'daily uptake'!I61","v":0},{"$f":"'daily uptake'!G61","v":0},null,null,null,null,0,0,0,215.12023857711958,null,0,141.06905935131405,0.70534529675657021,0,52.360145831625189,0.87266909719375318,0,21.691033394180323,0.72303444647267745,0,0,null,0,0,null,0,0,null,0,0,null,0,0,null,0,0,null,0,0,null,0,0,null,0,0,null,0,0,null,0,0,null,0,0]
[null,null,{"$f":"IF(D48>0,D48-$C$6+1,\"\")","v":414},{"$f":"'daily uptake'!E62","v":"2011-10-07"},"triple crop harvest",{"$f":"'daily uptake'!I62","v":96.153754954010068},{"$f":"'daily uptake'!G62","v":0},null,null,null,null,0,0,0,215.12023857711958,null,0,141.06905935131405,0.70534529675657021,0,52.360145831625189,0.87266909719375318,0,21.691033394180323,0.72303444647267745,0,0,null,0,0,null,0,0,null,0,0,null,0,0,null,0,0,null,0,0,null,0,0,null,0,0,null,0,0,null,0,0,null,0,0]
[null,null,{"$f":"IF(D49>0,D49-$C$6+1,\"\")","v":""},null,null,null,null,null,null,null,null,0,0,0,0,null,null,0,null,null,0,null,null,0,null,null,0,null,null,0,null,null,0,null,null,0,null,null,0,null,null,0,null,null,0,null,null,0,null,null,0,null,null,0,null,null,0,null,null,0]
[null,null,"",null,null,null,null,null,null,null,null,null,null,null,null,null,null,0,null,null,0,null,null,0,null,null,0,null,null,0,null,null,0,null,null,0,null,null,0,null,null,0,null,null,0,null,null,0,null,null,0,null,null,0,null,null,0,null,null,0]
[null,null,"",null,null,null,null,null,null,null,null,null,null,null,null,null,null,0,null,null,0,null,null,0,null,null,0,null,null,0,null,null,0,null,null,0,null,null,0,null,null,0,null,null,0,null,null,0,null,null,0,null,null,0,null,null,0,null,null,0]
[null,null,null,null,null,null,null,null,null,null,null,null,null,null,null,null,null,0,null,null,0,null,null,0,null,null,0,null,null,0,null,null,0,null,null,0,null,null,0,null,null,0,null,null,0,null,null,0,null,null,0,null,null,0,null,null,0,null,null,0]

{"sheet":"minmax data","index":3,"n_rows":375,"n_cols":53,"rows_kept":375,"cut":false,"hidden":false,"merged":[]}
[]
[]
[]
[]
[]
[null,null,"Daily Weather Data"]
[]
[null,null,"Year:","Modesto avg",null,null,null,null,"Merced 30 yr avg",null,null,null,null,"Parlier 30 yr avg",null,null,null,null,"Shafter 30 yr avg",null,null,null,null,"Denair avg 1994 - 2010",null,null,null,null,"Denair 2009",null,null,null,null,"Denair 2010",null,null,null,null,"Denair 2011"]
[null,null,null,"Precipitation","Air Max","Air Min","Soil Max Temperature","Soil Min Temperature","Precipitation","Air Max","Air Min","Soil Max Temperature","Soil Min Temperature","Precipitation","Air Max","Air Min","Soil Max Temperature","Soil Min Temperature","Precipitation","Air Max","Air Min","Soil Max Temperature","Soil Min Temperature","Precipitation","Air Max","Air Min","Soil Max Temperature","Soil Min Temperature","Precipitation","Air Max","Air Min","Soil Max Temperature","Soil Min Temperature","Precipitation","Air Max","Air Min","Soil Max Temperature","Soil Min Temperature","Precipitation","Air Max","Air Min","Soil Max Temperature","Soil Min Temperature","Precipitation","Air Max","Air Min","Soil Max Temperature","Soil Min Temperature","Precipitation","Air Max","Air Min","Soil Max Temperature","Soil Min Temperature"]
[null,1,"Jan 1",0.1,55,35,null,null,null,53.4,36,null,null,0.1,54,36,49,46,0.04,56,37,50,49,null,53.941176470588232,37.176470588235297,{"$f":"AVERAGE(AF10,AK10,AP10)","v":50},{"$f":"AVERAGE(AG10,AL10,AQ10)","v":49},0.01,45,41,49,49,0,60,43,52,50,0.47,51,42,49,48]
[null,2,"Jan 2",0.02,55,36,null,null,null,53.4,36.1,null,null,0.1,53,37,49,46,0.05,54,37,51,49,null,53.705882352941174,37.235294117647058,{"$f":"AVERAGE(AF11,AK11,AP11)","v":50},{"$f":"AVERAGE(AG11,AL11,AQ11)","v":49.333333333333336},7.0000000000000007E-2,46,36,49,49,0.01,53,38,51,50,0.67,48,45,50,49]
[null,3,"Jan 3",0.06,55,38,null,null,null,53.5,36.299999999999997,null,null,0.08,54,38,50,46,0.05,56,38,51,49,null,53.529411764705884,36.294117647058826,{"$f":"AVERAGE(AF12,AK12,AP12)","v":50.666666666666664},{"$f":"AVERAGE(AG12,AL12,AQ12)","v":49.333333333333336},0,50,31,49,47,0,50,45,52,51,0,54,36,51,50]
[null,4,"Jan 4",0.17,53,35,null,null,null,53.6,36.4,null,null,0.21,53,39,50,47,0.16,54,39,51,49,null,53.352941176470587,35.352941176470587,50,48.666666666666664,0,49,23,48,46,0,57,37,52,51,0.02,48,30,50,49]
[null,5,"Jan 5",0.06,54,34,null,null,null,53.8,36.5,null,null,0.22,54,37,50,47,0.12,55,38,51,50,null,52.941176470588232,34.647058823529413,49,48.333333333333336,0.04,44,35,47,46,0,47,39,51,51,0.01,43,32,49,48]
[null,6,"Jan 6",0.05,53,35,null,null,null,53.9,36.6,null,null,7.0000000000000007E-2,54,34,49,46,0.04,55,35,51,49,null,51.941176470588232,34.235294117647058,49,48.333333333333336,0,46,33,47,47,0,47,39,51,50,0,40,38,49,48]
[null,7,"Jan 7",0.04,55,39,null,null,null,54.1,36.6,null,null,0.13,56,37,49,46,0.05,57,36,51,49,null,52.176470588235297,36.058823529411768,48.333333333333336,48,0.01,47,32,47,46,0,44,37,50,50,0,39,37,48,48]
[null,8,"Jan 8",0.05,55,38,null,null,null,54.2,36.700000000000003,null,null,0.03,54,36,49,46,0.02,55,37,51,49,null,52.529411764705884,37.588235294117645,49,48,0,51,33,48,47,0.01,51,41,51,50,0,40,37,48,47]
[null,9,"Jan 9",0.14000000000000001,55,39,null,null,null,54.4,36.9,null,null,0.02,53,37,49,46,0.04,54,37,51,49,null,53.705882352941174,38,49,47.666666666666664,0,55,27,48,46,0,48,42,51,50,0,39,29,48,47]
[null,10,"Jan 10",0.08,55,38,null,null,null,54.5,37,null,null,0.17,54,37,49,46,0.12,54,38,51,49,null,54.058823529411768,37.647058823529413,48.333333333333336,47,0,59,27,47,46,0.01,45,42,51,50,0,47,25,47,45]
[null,11,"Jan 11",0.06,56,38,null,null,null,54.6,37.1,null,null,0.02,54,36,49,46,0.03,56,36,51,50,null,51.823529411764703,37.882352941176471,48.333333333333336,47,0.01,62,26,47,45,0,49,42,51,50,0.1,47,36,47,46]
[null,12,"Jan 12",0.11,57,37,null,null,null,54.7,37.1,null,null,0.13,54,37,49,46,0.06,56,37,51,50,null,52.647058823529413,37.705882352941174,49,47.333333333333336,0,63,29,47,45,0.13,63,43,52,50,0,57,38,48,47]
[null,13,"Jan 13",7.0000000000000007E-2,57,38,null,null,null,54.8,37.200000000000003,null,null,0.15,56,37,50,46,0.03,57,37,51,49,null,54.411764705882355,35.235294117647058,49.666666666666664,48.333333333333336,0,68,29,48,46,0.48,63,45,53,52,0.06,55,34,48,47]
[null,14,"Jan 14",0.05,56,38,null,null,null,54.9,37.200000000000003,null,null,0.1,55,37,50,47,0.01,56,38,51,50,null,52.588235294117645,35.705882352941174,49.666666666666664,48.333333333333336,0,65,27,48,46,0,59,40,52,51,0.01,52,41,49,48]
[null,15,"Jan 15",7.0000000000000007E-2,56,40,null,null,null,55,37.200000000000003,null,null,0.19,55,39,50,47,0.03,54,38,51,50,null,52.647058823529413,36.058823529411768,49.666666666666664,47.666666666666664,0,66,28,48,45,0.01,51,39,51,50,0.01,53,37,50,48]
[null,16,"Jan 16",7.0000000000000007E-2,58,40,null,null,null,55.1,37.200000000000003,null,null,0.09,55,40,50,47,0.04,57,38,51,50,null,54.647058823529413,36.176470588235297,50.333333333333336,49,0,66,28,48,46,0.01,55,41,52,51,0,52,47,51,50]
[null,17,"Jan 17",0.15,57,38,null,null,null,55.3,37.200000000000003,null,null,0.08,56,38,51,47,0.04,57,38,51,50,null,54.352941176470587,36.764705882352942,50.333333333333336,49,0,68,28,48,46,0.52,57,42,52,51,0,50,48,51,50]
[null,18,"Jan 18",0.09,59,39,null,null,null,55.5,37.299999999999997,null,null,0.03,59,38,51,47,0.01,60,38,51,50,null,55.117647058823529,37.176470588235297,50.666666666666664,49.666666666666664,0,67,29,48,46,0.49,58,49,52,52,0,58,42,52,51]
[null,19,"Jan 19",0.05,60,39,null,null,null,55.7,37.299999999999997,null,null,0.02,58,38,51,47,0.02,59,37,52,50,null,55.058823529411768,36.352941176470587,50.333333333333336,48.666666666666664,0,69,29,47,45,0.71,54,43,52,51,0.01,52,36,52,50]
[null,20,"Jan 20",0.04,60,38,null,null,null,56,37.4,null,null,0.06,59,37,51,47,0.04,60,37,51,50,null,54.411764705882355,35.176470588235297,49.333333333333336,48,0,66,30,47,45,0.49,54,42,51,50,0.01,60,32,50,49]
[null,21,"Jan 21",0.03,61,38,null,null,null,56.2,37.4,null,null,0.01,58,37,51,46,0.01,59,37,51,50,null,55.352941176470587,36,49.333333333333336,48,0.14000000000000001,56,36,48,46,0.46,48,41,50,50,0.01,61,33,50,48]
[null,22,"Jan 22",0.01,57,35,null,null,null,56.5,37.5,null,null,0.05,58,37,50,46,0.02,59,36,51,50,null,54.470588235294116,37.058823529411768,49.666666666666664,48.333333333333336,0.6,52,48,49,48,0.09,50,39,50,49,0.01,55,35,50,48]
[null,23,"Jan 23",0.18,56,36,null,null,null,56.6,37.5,null,null,0.13,56,38,50,47,0.04,58,38,51,50,null,54.352941176470587,37.529411764705884,50.666666666666664,49,0.56999999999999995,55,50,51,49,0.05,56,37,50,49,0.02,55,37,51,49]
[null,24,"Jan 24",0.28999999999999998,57,36,null,null,null,56.9,37.6,null,null,0.26,55,39,50,47,0.19,57,38,51,50,null,54.411764705882355,37.705882352941174,50.666666666666664,49.333333333333336,0.09,62,47,52,51,0,50,35,49,48,0.01,62,37,51,49]
[null,25,"Jan 25",0.23,57,37,null,null,null,57.2,37.700000000000003,null,null,0.13,57,37,51,47,0.16,57,36,51,50,null,56.529411764705884,38.588235294117645,51,49.666666666666664,0.18,57,35,52,50,0.03,53,44,50,49,0.01,48,42,51,50]
[null,26,"Jan 26",0.03,58,36,null,null,null,57.5,37.799999999999997,null,null,0.05,57,37,51,47,0.04,57,36,51,49,null,54.823529411764703,38.705882352941174,50.666666666666664,49.666666666666664,0,54,34,50,49,0,53,46,51,50,0.01,48,41,51,50]
[null,27,"Jan 27",7.0000000000000007E-2,58,37,null,null,null,57.7,37.799999999999997,null,null,0.01,58,39,51,47,0,59,37,51,50,null,57.058823529411768,37.823529411764703,50.333333333333336,49.333333333333336,0,54,31,49,48,0,57,40,51,50,0.01,47,39,51,50]
[null,28,"Jan 28",0.03,59,36,null,null,null,58,37.799999999999997,null,null,0.02,60,37,51,47,0.01,60,37,51,50,null,55.941176470588232,36.176470588235297,49.666666666666664,48.333333333333336,0,57,28,48,46,0.01,58,35,50,49,0.01,45,39,51,50]
[null,29,"Jan 29",0.03,61,35,null,null,null,58.3,37.9,null,null,0.05,59,38,51,47,0.03,61,37,52,50,null,57.882352941176471,35.411764705882355,50,48.333333333333336,0,61,31,48,46,0.02,61,39,51,49,0.01,47,39,51,50]
[null,30,"Jan 30",0.02,58,37,null,null,null,58.5,38,null,null,7.0000000000000007E-2,60,38,51,47,0.02,60,38,52,50,null,55.235294117647058,37.294117647058826,50.333333333333336,49,0,65,28,48,46,0.01,60,41,52,51,0.15,55,43,51,50]
[null,31,"Jan 31",0.09,60,39,null,null,null,58.8,38,null,null,0.05,60,39,51,48,0.03,60,39,52,50,null,57.058823529411768,37.941176470588232,50,48.333333333333336,0,66,31,48,46,0.01,57,34,51,49,0,54,37,51,50]
[null,32,"Feb 1",0.02,60,39,null,null,null,59,37.9,null,null,0.02,60,38,51,47,0.02,61,38,52,50,null,57.588235294117645,37.705882352941174,50,47.666666666666664,0.01,63,31,48,46,0,60,36,51,49,0,55,32,51,48]
[null,33,"Feb 2",0.09,60,38,null,null,null,59.2,38,null,null,7.0000000000000007E-2,59,39,52,47,0.03,60,39,52,50,null,58.882352941176471,37.941176470588232,49.666666666666664,47.666666666666664,0,64,31,49,46,0,59,40,51,50,0.01,59,31,49,47]
[null,34,"Feb 3",0.16,60,39,null,null,null,59.4,38.1,null,null,0.1,61,40,52,48,0.1,62,38,52,50,null,59.882352941176471,37.588235294117645,50,47.666666666666664,0.01,66,30,49,47,0.01,63,36,52,50,0,60,31,49,46]
[null,35,"Feb 4",0.09,61,38,null,null,null,59.6,38.200000000000003,null,null,0.11,62,40,53,48,0.09,63,39,52,51,null,60.764705882352942,38.411764705882355,50,48.333333333333336,0.01,63,33,49,47,0.16,59,45,52,51,0,62,32,49,47]
[null,36,"Feb 5",0.03,61,38,null,null,null,59.9,38.4,null,null,0.01,62,40,53,49,7.0000000000000007E-2,62,40,53,51,null,60.117647058823529,37.941176470588232,51,49,0.26,59,44,50,48,0.25,62,50,53,52,0,65,34,50,47]
[null,37,"Feb 6",0.09,60,39,null,null,null,60.1,38.5,null,null,0.04,59,40,53,49,0.03,61,40,53,51,null,59.117647058823529,37.882352941176471,51.666666666666664,50,0.33,56,46,51,49,0.45,54,47,53,53,0,72,36,51,48]
[null,38,"Feb 7",0.2,61,42,null,null,null,60.4,38.6,null,null,0.12,61,41,53,49,0.06,63,40,53,51,null,59.352941176470587,40.882352941176471,51.666666666666664,50.333333333333336,0,60,40,51,50,0.01,53,47,53,52,0,69,37,51,49]
[null,39,"Feb 8",0.14000000000000001,60,41,null,null,null,60.7,38.6,null,null,0.12,62,41,53,49,0.06,63,41,53,51,null,59.235294117647058,39.352941176470587,51.666666666666664,50,0.06,61,34,51,49,0.03,59,48,53,52,0,60,34,51,49]
[null,40,"Feb 9",0.09,58,39,null,null,null,60.9,38.700000000000003,null,null,0.1,62,42,53,49,0.06,64,40,53,51,null,59.588235294117645,37.352941176470587,50.666666666666664,49.666666666666664,0,53,35,50,49,0.33,54,45,53,53,0,61,29,49,47]
[null,41,"Feb 10",0.1,61,41,null,null,null,61.2,38.799999999999997,null,null,0.11,61,41,53,49,0.03,62,40,53,51,null,60.117647058823529,36.823529411764703,50.333333333333336,48.333333333333336,0.09,55,29,49,47,0,60,37,53,51,0,62,31,49,47]
[null,42,"Feb 11",0.13,62,40,null,null,null,61.5,38.799999999999997,null,null,7.0000000000000007E-2,60,41,53,49,0.02,61,39,53,51,null,60.176470588235297,38.764705882352942,50.333333333333336,49,0.15,55,38,49,48,0,58,44,53,52,0,65,30,49,47]
[null,43,"Feb 12",0.08,61,39,null,null,null,61.8,38.9,null,null,0.28000000000000003,61,41,53,49,0.1,62,41,53,51,null,60.529411764705884,37.882352941176471,51,49,0.05,54,39,50,48,0,66,44,53,52,0,73,36,50,47]
[null,44,"Feb 13",0.09,62,40,null,null,null,62.1,39.1,null,null,0.24,62,41,54,50,0.09,62,40,53,52,null,60.411764705882355,40.117647058823529,51.333333333333336,49.333333333333336,0.31,53,40,50,49,0,64,38,53,51,0,69,33,51,48]
[null,45,"Feb 14",0.08,63,37,null,null,null,62.4,39.299999999999997,null,null,0.08,63,39,54,48,0.1,63,38,54,51,null,61.882352941176471,38.117647058823529,51.333333333333336,50,0,56,41,50,49,0.01,65,39,53,52,0,63,48,51,49]
[null,46,"Feb 15",0.03,62,34,null,null,null,62.7,39.700000000000003,null,null,0.11,62,40,54,49,0.06,63,38,53,51,null,60.058823529411768,36.588235294117645,51.666666666666664,50.333333333333336,0.21,50,45,50,49,0.01,65,41,53,52,0,63,48,52,50]
[null,47,"Feb 16",0.13,61,41,null,null,null,62.9,39.9,null,null,0.12,61,41,54,50,0.06,63,42,53,52,null,60.823529411764703,40.411764705882355,52,50.666666666666664,0.5,56,44,50,49,0,68,42,54,52,0.32,57,40,52,51]
[null,48,"Feb 17",0.02,64,42,null,null,null,63.1,40,null,null,0.06,63,43,55,50,7.0000000000000007E-2,64,42,54,52,null,62.176470588235297,42.117647058823529,52,50.333333333333336,0.21,52,42,50,49,0.01,71,41,54,52,0.8,51,41,52,50]
[null,49,"Feb 18",0.12,63,40,null,null,null,63.2,40.1,null,null,7.0000000000000007E-2,63,42,55,50,0.02,64,42,54,52,null,61.823529411764703,39.588235294117645,51.666666666666664,50.333333333333336,0,58,33,50,49,0,68,42,55,53,0.65,48,41,50,49]
[null,50,"Feb 19",0.17,62,40,null,null,null,63.4,40.200000000000003,null,null,0.08,62,41,54,51,0.06,64,41,55,53,null,58.529411764705884,40.176470588235297,51.666666666666664,50.333333333333336,0.01,63,33,50,48,0,59,50,55,54,0.17,54,37,50,49]
[null,51,"Feb 20",0.08,62,38,null,null,null,63.5,40.299999999999997,null,null,7.0000000000000007E-2,63,41,55,50,0.06,63,41,55,53,null,59.823529411764703,40.647058823529413,51.666666666666664,50,0,62,35,50,48,0,60,44,55,54,0,55,33,50,48]
[null,52,"Feb 21",0.08,63,39,null,null,null,63.7,40.4,null,null,0.04,64,40,55,50,0.01,65,40,55,53,null,59.470588235294116,38.470588235294116,52,50.333333333333336,0.01,59,35,50,48,0.27,54,44,55,54,0,54,36,51,49]
[null,53,"Feb 22",0.06,63,40,null,null,null,63.9,40.4,null,null,0.05,64,40,55,50,0.01,65,40,55,53,null,58.705882352941174,39.764705882352942,51.666666666666664,50.333333333333336,0.01,58,52,51,50,0,60,39,54,53,0,58,35,50,48]
[null,54,"Feb 23",0.06,64,39,null,null,null,64.2,40.5,null,null,0.1,63,40,55,50,0.14000000000000001,63,40,54,53,null,59.764705882352942,38.352941176470587,52,50,0.02,64,46,53,51,0.96,51,42,54,52,0,58,31,49,47]
[null,55,"Feb 24",0.06,62,39,null,null,null,64.400000000000006,40.6,null,null,0.04,63,39,55,50,0.01,64,40,54,52,null,60.352941176470587,39.294117647058826,52.333333333333336,50.333333333333336,0.01,63,40,54,51,0.1,60,42,53,52,0.12,53,36,50,48]
[null,56,"Feb 25",0.02,65,40,null,null,null,64.599999999999994,40.700000000000003,null,null,0.01,66,41,56,50,0.01,67,41,55,53,null,61.352941176470587,40.294117647058826,52.666666666666664,51,0,64,45,54,52,0,63,40,54,52,0.49,53,39,50,49]
[null,57,"Feb 26",0.04,64,41,null,null,null,64.8,40.9,null,null,0.01,67,43,57,51,0.04,67,42,55,53,null,61.470588235294116,40.294117647058826,52.333333333333336,51,0.01,64,42,54,53,0.16,63,45,54,53,0,48,30,49,47]
[null,58,"Feb 27",0.08,64,42,null,null,null,65,40.9,null,null,0.1,65,43,57,52,0.06,65,44,55,53,null,61.294117647058826,41.294117647058826,52.333333333333336,50.666666666666664,0,60,31,54,52,0.01,61,45,55,54,0,57,29,48,46]
[null,59,"Feb 28",0.04,64,42,null,null,null,65.099999999999994,41,null,null,0.03,65,43,57,52,0.02,67,42,55,53,null,62.588235294117645,39.176470588235297,52,50,0,61,40,53,51,0,65,38,54,53,0,61,31,49,46]
[null,59,"Feb 29",0.04,64,42,null,null,null,65.400000000000006,41.1,null,null,0.03,65,43,57,52,0.02,67,42,55,53,null,62,39,{"$f":"AVERAGE(AA68,AA70)","v":52.166666666666671},{"$f":"AVERAGE(AB68,AB70)","v":50.5}]
[null,60,"Mar 1",0.08,65,42,null,null,null,65.599999999999994,41.2,null,null,0.1,65,43,57,52,7.0000000000000007E-2,66,43,56,54,null,63.411764705882355,39.823529411764703,52.333333333333336,51,0.05,59,51,53,53,0,65,44,55,53,0,59,32,49,47]
[null,61,"Mar 2",0.1,65,43,null,null,null,65.8,41.2,null,null,0.11,66,44,57,52,0.05,67,44,56,54,null,63.647058823529413,41.647058823529413,53.666666666666664,52,0.08,67,49,55,53,0.23,59,47,55,54,0.04,65,49,51,49]
[null,62,"Mar 3",7.0000000000000007E-2,63,42,null,null,null,66,41.4,null,null,0.12,66,45,57,53,0.04,66,43,56,54,null,61.117647058823529,40.470588235294116,54,52,7.0000000000000007E-2,60,46,54,53,0.48,51,41,55,53,0,66,42,53,50]
[null,63,"Mar 4",0.11,64,40,null,null,null,66.2,41.5,null,null,0.1,65,44,57,53,0.06,67,45,56,54,null,62.529411764705884,38.294117647058826,53.666666666666664,51.666666666666664,0.17,56,34,54,52,0.02,58,38,54,53,0,65,40,53,50]
[null,64,"Mar 5",0.14000000000000001,62,41,null,null,null,66.3,41.6,null,null,0.21,64,44,57,53,0.17,66,44,57,54,null,61.764705882352942,39.647058823529413,53.333333333333336,51,0,58,33,53,51,0,57,34,53,51,0,69,43,54,51]
[null,65,"Mar 6",0.01,65,39,null,null,null,66.5,41.7,null,null,0.03,65,44,58,53,0.04,65,43,57,55,null,63.882352941176471,39.470588235294116,{"$f":"AVERAGE(AF75,AK75,AP75)","v":53.333333333333336},{"$f":"AVERAGE(AG75,AL75,AQ75)","v":52},0,58,34,52,51,0,61,44,53,52,0.13,62,51,55,53]
[null,66,"Mar 7",0.03,67,40,null,null,null,66.7,41.9,null,null,0.03,67,43,59,53,0,68,44,57,55,null,66.117647058823536,37.882352941176471,53.666666666666664,51.666666666666664,0,60,31,52,50,0,64,39,54,52,0,59,48,55,53]
[null,67,"Mar 8",0.03,68,43,null,null,null,66.900000000000006,41.9,null,null,7.0000000000000007E-2,68,45,59,54,0.06,70,45,58,55,null,66.764705882352942,40,53.333333333333336,51,0,65,31,52,49,0,57,39,53,52,0,65,40,55,52]
[null,68,"Mar 9",0.04,67,43,null,null,null,67.099999999999994,42.1,null,null,0.11,67,45,59,54,0.03,68,45,58,55,null,66,40.470588235294116,53.666666666666664,51.333333333333336,0,54,34,52,50,0,55,37,53,51,0,67,40,56,53]
[null,69,"Mar 10",0.13,67,42,null,null,null,67.2,42.3,null,null,0.24,67,43,59,53,0.11,69,44,58,55,null,67.17647058823529,39.882352941176471,52.666666666666664,50.666666666666664,0,57,28,50,48,0.09,53,35,52,51,0.01,67,42,56,53]
[null,70,"Mar 11",0.02,67,42,null,null,null,67.3,42.3,null,null,0.04,66,45,60,54,0.01,68,44,59,56,null,68.235294117647058,41.176470588235297,52.666666666666664,50.333333333333336,0,61,27,50,48,0,63,32,53,49,0,62,39,55,54]
[null,71,"Mar 12",7.0000000000000007E-2,66,41,null,null,null,67.400000000000006,42.4,null,null,0.02,68,42,60,53,0.02,69,43,59,56,null,68.17647058823529,40.352941176470587,52.666666666666664,50.333333333333336,0,66,32,51,48,0.37,57,38,52,50,0,64,40,55,53]
[null,72,"Mar 13",0.02,67,41,null,null,null,67.5,42.4,null,null,0.09,67,43,60,54,7.0000000000000007E-2,68,43,58,56,null,68.058823529411768,40.647058823529413,52.666666666666664,50.333333333333336,0,68,31,51,48,0,57,34,52,50,0.01,66,42,55,53]
[null,73,"Mar 14",0.01,68,40,null,null,null,67.599999999999994,42.2,null,null,0.08,68,43,60,54,0.02,69,43,58,56,null,69.235294117647058,40.647058823529413,54,51,0.01,60,32,51,49,0,64,32,53,49,0.04,72,51,58,55]
[null,74,"Mar 15",0,69,42,null,null,null,67.8,42.2,null,null,0.08,66,44,59,54,0.04,68,44,58,56,null,69.117647058823536,41.705882352941174,55,52,0,66,36,53,50,0,67,38,54,50,0,72,48,58,56]
[null,75,"Mar 16",0.02,67,42,null,null,null,68,42.2,null,null,0.04,67,44,60,54,0.01,69,44,58,56,null,69.235294117647058,42.647058823529413,56,53.666666666666664,0,69,42,54,52,0,79,40,56,52,7.0000000000000007E-2,59,45,58,57]
[null,76,"Mar 17",0.04,69,41,null,null,null,68.2,42.2,null,null,0.08,69,44,61,54,0.02,71,44,59,56,null,70.529411764705884,40.529411764705884,56.333333333333336,53.333333333333336,0,68,42,55,52,0,74,46,57,54,0,63,37,57,54]
[null,77,"Mar 18",0.02,71,42,null,null,null,68.400000000000006,42.2,null,null,0.1,71,44,61,54,0.06,72,44,59,56,null,72,42.647058823529413,55.666666666666664,53,0,70,42,55,52,0,73,44,57,54,0.39,59,41,55,53]
[null,78,"Mar 19",0.03,70,43,null,null,null,68.7,42.3,null,null,0.04,73,46,62,55,0.05,74,45,59,57,null,72,42.117647058823529,55.333333333333336,52.666666666666664,0,75,44,56,53,0,77,37,57,53,0.06,53,42,53,52]
[null,79,"Mar 20",0.03,69,44,null,null,null,69,42.4,null,null,0.09,73,46,63,56,7.0000000000000007E-2,73,47,60,57,null,69.411764705882348,43.941176470588232,56,53,0,73,39,56,53,0,76,41,59,54,1,52,43,53,52]
[null,80,"Mar 21",0.02,70,43,null,null,null,69.2,42.6,null,null,0.08,71,44,62,56,0.06,71,46,60,58,null,70.058823529411768,42.941176470588232,55.333333333333336,53.333333333333336,0.12,65,37,55,53,0,72,42,58,55,0.2,55,40,53,52]
[null,81,"Mar 22",0.08,68,41,null,null,null,69.400000000000006,42.6,null,null,7.0000000000000007E-2,72,45,63,56,0.02,73,45,60,58,null,68.764705882352942,42.411764705882355,55.333333333333336,53.333333333333336,0.06,57,38,55,54,0,67,46,58,55,0.04,59,34,53,51]
[null,82,"Mar 23",0.09,67,43,null,null,null,69.599999999999994,42.6,null,null,0.06,70,46,62,56,0.04,72,45,60,58,null,68.705882352941174,41.941176470588232,55,53.333333333333336,0,60,36,54,52,0,71,41,58,55,0.18,54,45,53,53]
[null,83,"Mar 24",0.11,69,43,null,null,null,69.8,42.6,null,null,0.14000000000000001,70,46,62,56,0.05,71,45,60,58,null,70.705882352941174,41.941176470588232,55,52.666666666666664,0,68,31,53,51,0,74,45,59,55,0.93,52,41,53,52]
[null,84,"Mar 25",0.1,67,44,null,null,null,70,42.6,null,null,0.15,68,47,62,56,0.09,69,46,60,58,null,68.294117647058826,43.117647058823529,55,52.333333333333336,0,70,34,54,51,0,63,39,58,55,0.01,60,39,53,51]
[null,85,"Mar 26",0.08,69,41,null,null,null,70.3,42.6,null,null,0.02,70,45,63,56,0.05,71,45,60,58,null,68.647058823529406,41.823529411764703,55,52.666666666666664,0,74,43,55,52,0,64,38,57,54,0.51,53,46,53,52]
[null,86,"Mar 27",0.05,68,41,null,null,null,70.5,42.7,null,null,0.03,70,44,62,56,0.04,71,45,60,58,null,68,41.176470588235297,55.666666666666664,53.333333333333336,0,75,46,56,54,0,69,35,57,54,0,65,40,54,52]
[null,87,"Mar 28",0.02,69,41,null,null,null,70.8,42.8,null,null,0.21,69,44,63,56,0.02,70,44,60,58,null,69.17647058823529,40.176470588235297,56.666666666666664,53.666666666666664,0,78,40,57,54,0,77,40,58,54,0,62,42,55,53]
[null,88,"Mar 29",0,70,40,null,null,null,71.2,42.9,null,null,0,71,45,64,56,0,73,43,60,58,null,69.352941176470594,39.764705882352942,56.666666666666664,54.333333333333336,0,64,47,56,55,0,74,40,59,55,0,67,40,55,53]
[null,89,"Mar 30",0,71,41,null,null,null,71.5,43,null,null,0.02,73,46,65,57,0.01,73,44,61,58,null,69.882352941176464,41,57,54.666666666666664,0,66,39,55,53,0,62,46,59,57,0,73,45,57,54]
[null,90,"Mar 31",0.03,71,42,null,null,null,71.7,43.1,null,null,0.03,73,46,65,57,0.03,74,45,61,58,null,69.882352941176464,39.705882352941174,57,54.333333333333336,0,71,34,55,52,0,59,41,58,56,0,80,47,58,55]
[null,91,"Apr 1",0.05,69,42,null,null,null,71.900000000000006,43.1,null,null,0.05,71,45,64,58,0.01,72,44,61,58,null,69.117647058823536,40.882352941176471,58,55.333333333333336,0,75,46,56,54,0,60,39,58,55,0,86,48,60,57]
[null,92,"Apr 2",0,71,41,null,null,null,72.099999999999994,43.2,null,null,0,71,43,64,57,0,72,43,61,58,null,69.058823529411768,41.352941176470587,57.333333333333336,55.666666666666664,0,69,34,56,54,0,55,36,56,54,0,69,47,60,59]
[null,93,"Apr 3",0.01,71,43,null,null,null,72.3,43.2,null,null,0.06,72,44,64,56,0.02,74,44,61,58,null,69.647058823529406,41.294117647058826,57,55,0,66,42,56,54,0,57,35,56,54,0,66,44,59,57]
[null,94,"Apr 4",0,72,42,null,null,null,72.400000000000006,43.3,null,null,0.01,73,45,66,58,0,75,45,61,58,null,69.411764705882348,40.941176470588232,56.333333333333336,53.666666666666664,0,67,38,56,53,0,55,35,55,53,0,79,41,58,55]
[null,95,"Apr 5",0.01,72,41,null,null,null,72.599999999999994,43.3,null,null,0.04,73,46,65,58,0,75,45,62,58,null,69.882352941176464,41.235294117647058,57,54,0,76,30,56,52,0,59,42,56,54,0,76,44,59,56]
[null,96,"Apr 6",0.04,71,42,null,null,null,72.900000000000006,43.4,null,null,0.04,74,46,65,58,0.04,75,46,63,59,null,70.17647058823529,41.058823529411768,57.333333333333336,54.333333333333336,0,81,40,57,53,0,62,36,56,53,0,72,47,59,57]
[null,97,"Apr 7",0.01,71,42,null,null,null,73.099999999999994,43.6,null,null,0.04,72,46,66,59,0.02,74,46,63,60,null,69.529411764705884,41.647058823529413,57,55,0.14000000000000001,63,42,56,55,0,72,36,57,53,0.15,58,39,58,57]
[null,98,"Apr 8",0.05,69,42,null,null,null,73.400000000000006,43.6,null,null,0.02,73,45,66,59,0.01,74,45,62,60,null,67.647058823529406,42,57.333333333333336,54.666666666666664,0,64,46,57,55,0,71,40,58,54,0,57,35,57,55]
[null,99,"Apr 9",0,71,40,null,null,null,73.7,43.8,null,null,0.02,72,45,66,59,0.01,73,44,62,59,null,67.941176470588232,42.588235294117645,57,54.333333333333336,0.1,58,46,57,55,0,69,46,58,55,0,64,33,56,53]
[null,100,"Apr 10",0,73,43,null,null,null,73.900000000000006,43.9,null,null,0.01,74,46,66,59,0,76,44,62,59,null,70.117647058823536,42.588235294117645,58,55,0.02,61,42,60,56,0,63,46,58,56,0,68,34,56,53]
[null,101,"Apr 11",0.03,73,44,null,null,null,74.2,44.1,null,null,0.02,73,46,68,59,0.02,75,45,63,60,null,69.764705882352942,44.117647058823529,58.333333333333336,54.333333333333336,0,66,39,61,53,0.46,58,45,57,55,0,66,40,57,55]
[null,102,"Apr 12",0.02,73,44,null,null,null,74.5,44.3,null,null,0.01,75,46,67,59,0.01,77,45,63,60,null,72.764705882352942,43.941176470588232,59.333333333333336,55,0,72,41,64,55,0.46,60,46,57,55,0,70,39,57,55]
[null,103,"Apr 13",0.03,71,42,null,null,null,74.900000000000006,44.5,null,null,0.04,74,47,67,60,0,77,45,63,60,null,71.058823529411768,43.764705882352942,59,55.333333333333336,0,71,45,63,57,0,64,37,57,54,0,61,37,57,55]
[null,104,"Apr 14",0.02,72,41,null,null,null,75.2,44.7,null,null,0.08,75,46,67,60,0.04,76,46,63,60,null,70,42.823529411764703,58,54.666666666666664,0,59,44,60,56,0,67,40,57,54,0,65,36,57,54]
[null,105,"Apr 15",0.01,71,42,null,null,null,75.599999999999994,45,null,null,0,75,48,68,61,0.01,77,47,64,61,null,72.352941176470594,43.294117647058826,59.333333333333336,54.333333333333336,0,62,38,60,54,0,71,42,60,55,0,73,41,58,54]
[null,106,"Apr 16",0.02,71,45,null,null,null,76,45.2,null,null,0.06,74,49,67,60,0.02,76,48,65,61,null,72,44,60.666666666666664,55.333333333333336,0,69,36,62,53,0,71,45,61,56,0,75,51,59,57]
[null,107,"Apr 17",0.08,72,44,null,null,null,76.2,45.4,null,null,0.08,74,49,67,61,0.04,77,49,65,62,null,72.058823529411768,44.117647058823529,62.333333333333336,56.666666666666664,0,75,39,64,55,0,73,45,62,57,0,78,49,61,58]
[null,108,"Apr 18",0.02,73,43,null,null,null,76.5,45.6,null,null,0.01,74,47,68,61,0.01,76,47,65,62,null,72.705882352941174,42.823529411764703,64,57.666666666666664,0,80,44,67,57,0,77,42,64,57,0,71,54,61,59]
[null,109,"Apr 19",0.03,71,44,null,null,null,76.7,45.8,null,null,7.0000000000000007E-2,74,47,68,61,0.05,77,47,65,62,null,71.705882352941174,43.411764705882355,65,59.333333333333336,0,88,47,70,60,0,78,47,64,59,0,71,54,61,59]
[null,110,"Apr 20",0.08,72,44,null,null,null,76.900000000000006,45.9,null,null,0.04,75,49,68,61,0.02,77,48,65,62,null,71.058823529411768,44.176470588235297,64.333333333333329,60.333333333333336,0,90,51,70,62,0.7,58,44,62,59,0,74,54,61,60]
[null,111,"Apr 21",0.01,72,45,null,null,null,77,46,null,null,0,76,48,69,61,0,78,48,65,62,null,72.058823529411768,44.117647058823529,64,59.666666666666664,0,91,54,71,63,0.2,51,42,59,57,0,68,46,62,59]
[null,112,"Apr 22",0.03,71,43,null,null,null,77.2,46.2,null,null,0.01,76,49,68,61,0,78,48,65,62,null,72.82352941176471,45.294117647058826,64,59.333333333333336,0,91,55,71,64,0.02,60,44,60,56,0,66,41,61,58]
[null,113,"Apr 23",0.05,70,43,null,null,null,77.400000000000006,46.5,null,null,0.06,74,48,68,61,0.05,76,47,65,62,null,72.294117647058826,45.117647058823529,64.333333333333329,59.666666666666664,0,76,51,69,64,0,72,42,63,57,0,72,48,61,58]
[null,114,"Apr 24",0.01,72,45,null,null,null,77.599999999999994,46.7,null,null,0.02,75,48,69,61,0,76,47,65,62,null,73.352941176470594,44.764705882352942,63.666666666666664,60,0,67,39,66,62,0,74,44,64,59,0,70,46,61,59]
[null,115,"Apr 25",0.02,74,45,null,null,null,77.900000000000006,46.8,null,null,0.02,77,49,70,61,0.01,79,48,65,62,null,75.705882352941174,44.235294117647058,63.666666666666664,59.666666666666664,0,71,37,65,60,0,79,45,65,60,0,73,45,61,59]
[null,116,"Apr 26",0,76,47,null,null,null,78.2,47,null,null,0.02,79,50,70,62,0,81,50,66,63,null,78.294117647058826,45.882352941176471,64.333333333333329,59,0,71,36,66,59,0,81,44,66,60,0,69,41,61,58]
[null,117,"Apr 27",0,75,46,null,null,null,78.400000000000006,47.2,null,null,0,81,50,71,63,0.02,83,50,66,63,null,76.17647058823529,46.882352941176471,63.666666666666664,60,0,70,42,66,60,0,68,46,64,62,0,75,41,61,58]
[null,118,"Apr 28",0.02,74,49,null,null,null,78.7,47.4,null,null,0,78,51,70,63,0,80,49,66,63,null,73.411764705882348,47.235294117647058,63,59.333333333333336,0,63,39,65,59,0.15,60,39,62,60,0,73,43,62,59]
[null,119,"Apr 29",0.01,76,50,null,null,null,79,47.6,null,null,0,79,50,70,62,0,82,49,66,63,null,75.647058823529406,46.176470588235297,62.666666666666664,58.666666666666664,0,68,38,65,59,0,62,37,62,58,0,69,42,61,59]
[null,120,"Apr 30",0.01,77,48,null,null,null,79.3,47.8,null,null,0.01,79,51,72,63,0,82,50,67,64,null,78.705882352941174,46.058823529411768,62,58,0,73,39,61,57,0,69,42,63,58,0,74,41,62,59]
[null,121,"May 1",0,75,47,null,null,null,79.599999999999994,47.9,null,null,0.01,79,50,72,64,0.02,81,49,68,64,null,78.17647058823529,48.117647058823529,64.666666666666671,59.666666666666664,0.71,72,53,67,62,0,75,40,64,58,0,78,40,63,59]
[null,122,"May 2",0.01,76,47,null,null,null,79.900000000000006,48.1,null,null,0.01,78,49,71,63,0.01,80,49,68,64,null,76.352941176470594,48.588235294117645,64.666666666666671,60.333333333333336,0,66,54,65,61,0,79,49,65,60,0,84,44,64,60]
[null,123,"May 3",0.05,76,48,null,null,null,80.2,48.4,null,null,0.01,79,50,72,64,0.03,82,50,68,65,null,77.470588235294116,48.117647058823529,66,61.333333333333336,0.02,71,56,67,63,0,86,44,66,60,0,79,48,65,61]
[null,124,"May 4",0.01,78,47,null,null,null,80.599999999999994,48.5,null,null,0,81,50,72,64,0.01,83,51,68,65,null,76.117647058823536,46.823529411764703,67,61.666666666666664,0,76,54,69,62,0,77,45,66,62,0,87,47,66,61]
[null,125,"May 5",0.03,77,47,null,null,null,80.8,48.7,null,null,0.04,81,51,73,65,0.06,83,51,68,65,null,75.470588235294116,48.588235294117645,68.666666666666671,63,0,79,60,72,65,0,72,43,66,61,0,93,51,68,63]
[null,126,"May 6",7.0000000000000007E-2,75,46,null,null,null,81.099999999999994,48.9,null,null,0.02,81,53,72,65,0.01,83,52,68,65,null,77.117647058823536,46.588235294117645,68.333333333333329,63,0,80,54,71,64,0,72,44,66,61,0,85,52,68,64]
[null,127,"May 7",0.05,75,48,null,null,null,81.400000000000006,49.1,null,null,0.02,80,53,74,65,0,82,53,69,65,null,77.117647058823536,48.058823529411768,68,63,0,77,54,70,65,0,78,39,67,60,0,77,47,67,64]
[null,128,"May 8",0,76,47,null,null,null,81.8,49.3,null,null,0,81,54,75,64,0,83,52,69,65,null,77.882352941176464,48.941176470588232,68.333333333333329,63.333333333333336,0,80,51,71,64,0,74,43,67,62,0,67,43,67,64]
[null,129,"May 9",0,75,45,null,null,null,82.1,49.6,null,null,0.04,81,52,74,65,0.01,83,51,70,66,null,77.705882352941174,47.117647058823529,{"$f":"AVERAGE(AF139,AK139,AP139)","v":67.333333333333329},{"$f":"AVERAGE(AG139,AL139,AQ139)","v":62.666666666666664},0,84,51,72,64,7.0000000000000007E-2,64,45,65,62,0,70,40,65,62]
[null,130,"May 10",0,78,47,null,null,null,82.4,49.8,null,null,0,81,51,74,65,0,83,51,69,66,null,78.294117647058826,46.411764705882355,67,62.666666666666664,0,85,52,72,65,0.09,64,44,63,61,0,79,42,66,62]
[null,131,"May 11",0,77,47,null,null,null,82.6,50,null,null,0,83,53,74,66,0,84,51,69,66,null,80.941176470588232,48.058823529411768,67.666666666666671,62,0,84,48,72,65,0,67,39,64,58,0,80,45,67,63]
[null,132,"May 12",7.0000000000000007E-2,75,46,null,null,null,82.9,50.2,null,null,0.02,81,53,76,67,0.02,84,53,70,67,null,79.411764705882348,48.647058823529413,68.333333333333329,62.333333333333336,0,78,45,70,64,0,76,43,66,59,0,80,49,69,64]
[null,133,"May 13",0.03,74,46,null,null,null,83.1,50.5,null,null,0.01,81,52,74,67,0.01,82,52,71,67,null,81.294117647058826,49.352941176470587,69,63.333333333333336,0,81,49,70,64,0,79,46,67,61,0,82,48,70,65]
[null,134,"May 14",0,76,45,null,null,null,83.3,50.6,null,null,0.01,81,52,75,66,0,83,52,70,67,null,81.411764705882348,49.470588235294116,69.666666666666671,64.333333333333329,0,81,50,71,65,0,82,49,69,62,0.06,65,48,69,66]
[null,135,"May 15",7.0000000000000007E-2,75,48,null,null,null,83.6,50.8,null,null,0.06,81,53,75,67,0.02,82,53,71,68,null,80.647058823529406,52.235294117647058,70.333333333333329,64.666666666666671,0,86,54,73,66,0,83,50,70,63,0.2,59,44,68,65]
[null,136,"May 16",0.03,76,48,null,null,null,83.8,51.1,null,null,0.01,80,53,75,67,0.01,82,54,71,68,null,80,51.058823529411768,70.333333333333329,64.666666666666671,0,94,57,76,67,0,79,53,70,65,0.09,64,42,65,62]
[null,137,"May 17",0.01,76,47,null,null,null,84.1,51.2,null,null,0.01,81,53,76,67,0.01,83,52,71,68,null,80.17647058823529,51.529411764705884,69.666666666666671,65.333333333333329,0,100,62,77,69,0.02,65,51,68,65,0.15,61,49,64,62]
[null,138,"May 18",0.02,77,47,null,null,null,84.4,51.5,null,null,0.01,81,52,75,67,0,83,52,71,68,null,82.058823529411768,52.470588235294116,70.333333333333329,65,0,96,63,77,70,0,74,54,69,64,0.04,67,48,65,61]
[null,139,"May 19",0,77,48,null,null,null,84.8,51.7,null,null,0,82,53,75,67,0,83,54,71,68,null,82.352941176470594,50.764705882352942,70.666666666666671,66,0,87,60,77,71,0,74,51,68,65,0,76,46,67,62]
[null,140,"May 20",0.01,78,48,null,null,null,85.2,52,null,null,0,83,53,75,67,0,84,53,71,68,null,80.529411764705884,50.470588235294116,70.666666666666671,65.333333333333329,0,84,49,75,69,0,72,46,68,64,0,81,48,69,63]
[null,141,"May 21",0,79,49,null,null,null,85.5,52.2,null,null,0,83,53,76,68,0,85,54,71,68,null,80.470588235294116,49.705882352941174,72,65.333333333333329,0,87,52,79,67,0,65,45,67,64,0,79,51,70,65]
[null,142,"May 22",0,81,49,null,null,null,85.9,52.5,null,null,0,84,53,77,68,0,87,54,72,69,null,81.588235294117652,51.235294117647058,70,65,0,87,53,74,68,0,64,40,67,62,0,75,46,69,65]
[null,143,"May 23",0.04,79,50,null,null,null,86.1,52.7,null,null,0.03,84,55,76,68,0,87,54,71,69,null,81.882352941176464,52,70.333333333333329,65,0,81,53,74,68,0,70,45,67,62,0,72,47,70,65]
[null,144,"May 24",0.04,79,49,null,null,null,86.3,52.8,null,null,0,84,54,78,69,0,86,54,73,69,null,81,52,70,65,0,77,49,73,67,0,69,43,67,63,0,75,42,70,65]
[null,145,"May 25",0.02,79,49,null,null,null,86.6,53,null,null,0.01,83,55,76,69,0,85,54,73,70,null,81.411764705882348,51.411764705882355,69.666666666666671,65.333333333333329,0,82,49,74,67,0.22,70,45,66,63,0,73,48,69,66]
[null,146,"May 26",0,78,48,null,null,null,86.8,53.2,null,null,0,84,54,77,69,0,86,54,73,69,null,82.235294117647058,52,70.666666666666671,65,0,88,54,75,68,0.26,72,51,68,63,0,70,47,69,64]
[null,147,"May 27",0.16,77,50,null,null,null,87,53.4,null,null,0.02,83,55,77,68,0.02,85,54,72,69,null,81.82352941176471,51.647058823529413,71,66,0,93,60,77,70,0.06,66,48,66,63,0,73,47,70,65]
[null,148,"May 28",0.05,76,48,null,null,null,87.1,53.5,null,null,0.05,84,54,76,68,0.01,87,55,72,69,null,81.941176470588232,51.117647058823529,70.666666666666671,66.333333333333329,0,92,60,77,71,0,67,43,66,62,0.11,71,45,69,66]
[null,149,"May 29",0,78,48,null,null,null,87.3,53.7,null,null,0,83,54,76,68,0,86,53,72,69,null,83.17647058823529,50.705882352941174,70.666666666666671,66.333333333333329,0,85,59,76,72,0,78,51,68,62,0,70,45,68,65]
[null,150,"May 30",0,79,49,null,null,null,87.5,53.9,null,null,0.01,85,55,77,69,0,86,54,73,69,null,84.588235294117652,51.470588235294116,71.333333333333329,66,0,82,54,76,71,0,84,49,69,63,0,75,44,69,64]
[null,151,"May 31",0.02,82,51,null,null,null,87.8,54.1,null,null,0,86,56,77,69,0,87,55,73,69,null,85.82352941176471,53.352941176470587,71.666666666666671,67.333333333333329,0,83,54,75,71,0,81,53,70,65,0,74,47,70,66]
[null,152,"Jun 1",0,82,51,null,null,null,88.1,54.3,null,null,0,88,56,77,70,0,89,56,73,70,null,85.764705882352942,54.352941176470587,71.333333333333329,67.666666666666671,0,79,55,74,71,0,76,56,71,66,0.01,66,47,69,66]
[null,153,"Jun 2",0,80,49,null,null,null,88.3,54.5,null,null,0,89,57,78,70,0,90,57,73,71,null,84.882352941176464,52.529411764705884,71.666666666666671,67,0,79,56,74,70,0,83,53,72,66,0,69,42,69,65]
[null,154,"Jun 3",0.01,78,49,null,null,null,88.5,54.7,null,null,0,87,56,78,70,0,88,57,73,70,null,83.941176470588232,53.588235294117645,71.666666666666671,68,0.02,83,55,73,70,0,83,59,73,68,0,70,45,69,66]
[null,155,"Jun 4",0.01,78,50,null,null,null,88.8,54.8,null,null,0.01,85,57,77,70,0,87,56,73,70,null,83.882352941176464,54.352941176470587,72,66.666666666666671,0,76,55,74,65,0,84,59,74,69,0.52,64,54,68,66]
[null,156,"Jun 5",0,78,48,null,null,null,89,54.9,null,null,0.01,83,57,76,70,0.02,84,55,73,70,null,81.764705882352942,53.235294117647058,72.333333333333329,66.666666666666671,0.06,73,54,72,65,0,87,62,76,70,0.63,75,55,69,65]
[null,157,"Jun 6",0.04,77,51,null,null,null,89.3,55.1,null,null,0.01,83,55,77,69,0.01,84,55,73,70,null,82.82352941176471,53.058823529411768,72.333333333333329,67.333333333333329,0,76,51,70,65,0,88,61,77,71,0,72,54,70,66]
[null,158,"Jun 7",0.01,78,52,null,null,null,89.6,55.3,null,null,0,84,55,77,70,0,85,55,73,70,null,82.294117647058826,53.411764705882355,72.333333333333329,68,0,80,51,71,67,0,83,57,76,71,0,74,49,70,66]
[null,159,"Jun 8",0.01,81,50,null,null,null,89.9,55.4,null,null,0.04,85,55,77,69,0.01,87,55,74,70,null,83.294117647058826,50.941176470588232,73.333333333333329,67.666666666666671,0,80,52,71,67,0,84,55,78,70,null,81,52,71,66]
[null,160,"Jun 9",0,82,50,null,null,null,90.2,55.7,null,null,0,89,57,77,70,0,90,56,75,71,null,84.882352941176464,51.705882352941174,72,68,0,78,53,71,67,0,78,55,73,69,null,83,53,72,68]
[null,161,"Jun 10",0.03,80,49,null,null,null,90.4,55.9,null,null,0.01,90,58,80,70,0,92,58,76,72,null,84.235294117647058,53.176470588235297,71.666666666666671,68,0,75,56,71,68,0,74,51,71,68,null,82,53,73,68]
[null,162,"Jun 11",0,78,49,null,null,null,90.6,56,null,null,0.01,88,57,79,71,0,90,57,76,72,null,84.882352941176464,52.588235294117645,71.333333333333329,67.666666666666671,0,76,48,71,67,0,82,58,71,68,null,76,50,72,68]
[null,163,"Jun 12",0,81,51,null,null,null,90.9,56.2,null,null,0.01,87,57,78,71,0.04,89,56,76,72,null,85.294117647058826,53.235294117647058,72.333333333333329,66.666666666666671,0,77,53,73,67,0,87,57,71,65,null,81,52,73,68]
[null,164,"Jun 13",0.01,82,52,null,null,null,91.1,56.3,null,null,0,88,57,78,71,0,90,57,75,72,null,87.17647058823529,53.823529411764703,74.333333333333329,68.666666666666671,0.04,77,57,75,68,0,92,56,74,69,null,86,55,74,69]
[null,165,"Jun 14",0.01,83,53,null,null,null,91.3,56.4,null,null,0,89,58,79,71,0,90,57,76,72,null,88.294117647058826,55.235294117647058,76,69.666666666666671,0,79,53,76,68,0,97,59,76,70,null,90,59,76,71]
[null,166,"Jun 15",0.01,83,54,null,null,null,91.5,56.6,null,null,0.02,88,58,79,72,0.01,89,57,77,72,null,86.764705882352942,54.882352941176471,75.333333333333329,70.666666666666671,0,77,50,75,69,0,83,54,75,71,null,91,59,76,72]
[null,167,"Jun 16",0,82,50,null,null,null,91.7,56.7,null,null,0,88,57,79,71,0,89,57,77,74,null,86.235294117647058,53.941176470588232,75.333333333333329,70.666666666666671,0,83,54,77,70,0,80,51,73,70,null,86,57,76,72]
[null,168,"Jun 17",0,85,51,null,null,null,91.9,56.9,null,null,0,90,57,80,71,0,91,57,77,73,null,87.470588235294116,53.882352941176471,76.333333333333329,70.666666666666671,0,83,55,78,71,0,85,48,74,69,null,87,56,77,72]
[null,169,"Jun 18",0,85,51,null,null,null,92.1,57,null,null,0,91,58,80,72,0,91,58,77,74,null,88.17647058823529,53.529411764705884,76.666666666666671,71,0,91,56,79,72,0,81,49,74,69,null,87,55,77,72]
[null,170,"Jun 19",0,86,51,null,null,null,92.2,57.1,null,null,0.01,92,58,80,72,0,92,58,76,73,null,88.058823529411768,53.117647058823529,76.333333333333329,71.666666666666671,0,90,58,79,73,0,77,46,73,69,null,87,59,77,73]
[null,171,"Jun 20",0,85,52,null,null,null,92.4,57.2,null,null,0.01,91,58,80,72,0,92,58,77,73,null,87.82352941176471,52.823529411764703,78.666666666666671,71.333333333333329,0,84,51,79,72,0,79,46,73,69,null,92,58,84,73]
[null,172,"Jun 21",0,84,51,null,null,null,92.7,57.3,null,null,0,91,59,81,72,0,92,58,77,74,null,88.470588235294116,53.470588235294116,77,72.666666666666671,0,78,49,77,71,0,84,51,73,69,null,98,64,81,78]
[null,173,"Jun 22",0.02,86,51,null,null,null,92.9,57.5,null,null,0,92,58,81,72,0,92,58,77,73,null,90.588235294117652,54.058823529411768,78,72.666666666666671,0,86,52,77,72,0,90,54,75,70,null,97,66,82,76]
[null,174,"Jun 23",0,86,52,null,null,null,93.1,57.7,null,null,0,93,60,81,73,0.01,93,60,77,74,null,90.764705882352942,55.117647058823529,78,73.333333333333329,0,94,56,78,72,0,91,59,75,71,null,90,59,81,77]
[null,175,"Jun 24",0,84,52,null,null,null,93.4,57.8,null,null,0,92,60,81,73,0,93,60,77,74,null,88.705882352941174,56,78,73,0,94,59,79,73,0,85,58,77,71,null,86,53,78,75]
[null,176,"Jun 25",0,85,52,null,null,null,93.5,58,null,null,0,91,60,82,73,0,91,59,78,74,null,89.117647058823536,56.058823529411768,77.333333333333329,71,0,90,57,79,73,0.19,81,55,76,66,null,87,54,77,74]
[null,177,"Jun 26",0.01,83,51,null,null,null,93.8,58.3,null,null,0,92,60,82,73,0,93,60,78,75,null,90.17647058823529,55.705882352941174,77,73,0,90,54,78,73,0,88,57,76,72,null,87,55,77,74]
[null,178,"Jun 27",0,83,53,null,null,null,94,58.4,null,null,0,92,60,81,73,0,93,60,78,75,null,91,57.294117647058826,80,73.666666666666671,0,98,59,85,73,0,94,64,78,74,0,89,58,77,74]
[null,179,"Jun 28",0,82,52,null,null,null,94.3,58.6,null,null,0,90,59,80,73,0,92,59,78,75,null,91.17647058823529,57.588235294117645,78.666666666666671,73,0,102,64,80,70,0,97,65,79,75,0.14000000000000001,79,58,77,74]
[null,180,"Jun 29",0,84,51,null,null,null,94.6,58.8,null,null,0,91,59,80,73,0,91,58,78,74,null,91.294117647058826,57.294117647058826,78,74.666666666666671,0,100,64,80,76,0,92,63,79,75,0,72,56,75,73]
[null,181,"Jun 30",0,85,52,null,null,null,94.9,59.1,null,null,0,92,60,81,73,0,93,60,78,75,null,90.235294117647058,56.352941176470587,76.666666666666671,73.666666666666671,0,95,59,79,75,0,87,56,76,74,0,83,54,75,72]
[null,182,"Jul 1",0,87,52,null,null,null,95.1,59.3,null,null,0,94,59,81,73,0,93,60,78,74,null,90.117647058823536,55.588235294117645,77.666666666666671,73.666666666666671,0,92,60,79,75,0,84,51,78,73,0,90,58,76,73]
[null,183,"Jul 2",0,86,51,null,null,null,95.2,59.5,null,null,0,94,60,82,74,0,94,60,80,75,null,90.058823529411768,55.529411764705884,77.666666666666671,73.666666666666671,0,93,58,79,74,0,83,55,77,74,0,95,61,77,73]
[null,184,"Jul 3",0,86,51,null,null,null,95.4,59.6,null,null,0,93,60,82,74,0,94,61,80,76,null,90.529411764705884,56.058823529411768,78,74,0,93,57,79,74,0,87,58,77,74,0,96,63,78,74]
[null,185,"Jul 4",0.02,85,52,null,null,null,95.4,59.8,null,null,0,91,60,81,74,0,92,60,79,76,null,90.235294117647058,56.176470588235297,77.666666666666671,74,0,90,58,78,74,0,92,55,77,73,0,98,64,78,75]
[null,186,"Jul 5",0.02,85,51,null,null,null,95.5,59.9,null,null,0,93,60,82,74,0,94,59,79,75,null,91.588235294117652,56.176470588235297,78,74.666666666666671,0,87,56,78,74,0,91,59,77,74,0,100,65,79,76]
[null,187,"Jul 6",0,87,52,null,null,null,95.6,59.9,null,null,0,94,60,82,74,0,94,60,79,76,null,91.17647058823529,56.588235294117645,77.666666666666671,74.666666666666671,0,85,51,77,73,0,84,57,77,74,0,96,69,79,77]
[null,188,"Jul 7",0,88,51,null,null,null,95.7,60,null,null,0.03,95,61,82,75,0,94,61,79,76,null,91.17647058823529,56.529411764705884,77.666666666666671,73.333333333333329,0,87,51,77,72,0,87,54,77,74,0,94,65,79,74]
[null,189,"Jul 8",0,92,56,null,null,null,95.7,60.1,null,null,0,95,63,83,75,0,92,62,77,76,null,92.882352941176464,57.117647058823529,77.666666666666671,74.333333333333329,0,86,54,76,73,0,89,56,77,74,0,94,63,80,76]
[null,190,"Jul 9",0,90,56,null,null,null,95.8,60.1,null,null,0,95,63,83,75,0,95,63,80,77,null,91.941176470588232,58.176470588235297,78.333333333333329,73.666666666666671,0,86,52,78,71,0,90,57,77,74,0,90,60,80,76]
[null,191,"Jul 10",0,90,55,null,null,null,95.9,60.2,null,null,0,94,62,83,75,0,95,63,79,77,null,91.588235294117652,57.352941176470587,77,72.333333333333329,0,87,53,74,68,0,96,59,78,74,0,87,53,79,75]
[null,192,"Jul 11",0,90,55,null,null,null,96,60.3,null,null,0,92,62,82,75,0,93,62,79,76,null,91.058823529411768,56.823529411764703,76.666666666666671,73.666666666666671,0,88,59,74,72,0,92,61,78,75,0,83,55,78,74]
[null,193,"Jul 12",0,89,58,null,null,null,96.1,60.4,null,null,0,94,63,82,75,0,94,63,80,76,null,90.529411764705884,57.705882352941174,{"$f":"AVERAGE(AF203,AK203,AP203)","v":77},{"$f":"AVERAGE(AG203,AL203,AQ203)","v":73.333333333333329},0,88,59,75,72,0,90,60,78,75,0,83,53,78,73]
[null,194,"Jul 13",0,91,57,null,null,null,96.3,60.4,null,null,0,96,64,83,75,0,95,64,81,77,null,92.588235294117652,58.352941176470587,77,73,0,91,57,74,71,0,88,57,79,74,0,80,53,78,74]
[null,195,"Jul 14",0,90,55,null,null,null,96.4,60.6,null,null,0,96,64,83,76,0,96,64,81,77,null,94.588235294117652,58.588235294117645,76.666666666666671,72.333333333333329,0,96,61,75,72,0,91,59,78,72,0,79,51,77,73]
[null,196,"Jul 15",0,89,55,null,null,null,96.6,60.7,null,null,0,95,63,83,76,0,95,63,81,76,null,93.17647058823529,58.705882352941174,78,73.333333333333329,0,99,63,78,72,0,96,62,79,75,0,81,51,77,73]
[null,197,"Jul 16",0,88,55,null,null,null,96.7,60.7,null,null,0,93,62,83,75,0,94,62,80,77,null,92,58.764705882352942,79.333333333333329,74,0,96,63,81,73,0,97,66,80,76,0,80,54,77,73]
[null,198,"Jul 17",0,88,56,null,null,null,96.8,60.8,null,null,0,93,61,82,75,0,93,61,80,77,null,91.82352941176471,59.058823529411768,79.666666666666671,74.666666666666671,0,97,63,82,75,0,95,65,80,76,0,83,57,77,73]
[null,199,"Jul 18",0,91,55,null,null,null,97,61,null,null,0,93,61,82,75,0,94,61,80,77,null,93.352941176470594,58.764705882352942,80,75,0,99,64,83,76,0,96,63,80,76,0,85,55,77,73]
[null,200,"Jul 19",0,90,56,null,null,null,97.1,61,null,null,0,94,62,83,75,0,94,61,81,77,null,92.941176470588232,59.117647058823529,80.333333333333329,75.666666666666671,0,101,66,84,77,0,94,58,80,76,0,86,58,77,74]
[null,201,"Jul 20",0,88,56,null,null,null,97.2,61.1,null,null,0,93,62,83,75,0,93,61,82,78,null,92.17647058823529,58.235294117647058,81,75.666666666666671,0,96,64,83,77,0,90,57,80,76,0,91,58,80,74]
[null,202,"Jul 21",0,89,54,null,null,null,97.3,61.1,null,null,0,93,62,82,75,0,93,62,81,78,null,91.117647058823536,58.117647058823529,79,73.333333333333329,0,92,59,81,71,0,87,56,79,76,0,92,59,77,73]
[null,203,"Jul 22",0,89,55,null,null,null,97.3,61.1,null,null,0,93,62,82,75,0,94,62,81,78,null,92.117647058823536,58.176470588235297,78.333333333333329,74.333333333333329,0,90,57,79,73,0,91,53,79,76,0,90,60,77,74]
[null,204,"Jul 23",0,87,56,null,null,null,97.3,61.1,null,null,0,94,62,83,76,0.01,93,62,80,78,null,92.82352941176471,59.411764705882355,78.666666666666671,75,0,90,58,80,75,0,91,57,79,76,0,91,61,77,74]
[null,205,"Jul 24",0,89,55,null,null,null,97.3,61.2,null,null,0,94,62,84,76,0,94,62,82,78,null,92.647058823529406,58.764705882352942,78.333333333333329,75,0,86,57,79,75,0,93,60,79,76,0,88,59,77,74]
[null,206,"Jul 25",0,90,55,null,null,null,97.4,61.2,null,null,0,94,61,83,75,0,94,61,81,78,null,93.529411764705884,58.235294117647058,78,74.666666666666671,0,88,54,79,74,0,90,60,79,76,0,88,57,76,74]
[null,207,"Jul 26",0,91,56,null,null,null,97.4,61.1,null,null,0,96,62,83,75,0,95,62,81,78,null,94.294117647058826,57.529411764705884,{"$f":"AVERAGE(AF217,AK217,AP217)","v":78},{"$f":"AVERAGE(AG217,AL217,AQ217)","v":74.666666666666671},0,93,58,80,75,0,85,56,78,76,0,89,56,76,73]
[null,208,"Jul 27",0,91,56,null,null,null,97.4,61.1,null,null,0,97,62,83,75,0,96,62,81,78,null,93,58.705882352941174,78,74.666666666666671,0,96,62,80,76,0,84,54,78,75,0,94,58,76,73]
[null,209,"Jul 28",0,91,57,null,null,null,97.2,61.1,null,null,0,97,62,82,76,0,96,62,82,78,null,92.529411764705884,58.529411764705884,77.666666666666671,74.333333333333329,0,91,63,80,76,0,83,53,77,73,0,93,59,76,74]
[null,210,"Jul 29",0,89,56,null,null,null,97.1,61,null,null,0,96,62,83,75,0,95,62,82,78,null,91.411764705882348,58.352941176470587,78,74.333333333333329,0,88,59,80,76,0,87,54,77,73,0,91,61,77,74]
[null,211,"Jul 30",0,88,57,null,null,null,97,60.9,null,null,0,95,62,83,76,0,95,63,81,78,null,90.941176470588232,58.058823529411768,77.666666666666671,74.666666666666671,0,87,58,80,76,0,89,55,77,74,0,87,59,76,74]
[null,212,"Jul 31",0,89,55,null,null,null,96.9,60.8,null,null,0,95,61,82,75,0,95,62,81,78,null,92,57.470588235294116,77.666666666666671,74.666666666666671,0,88,58,79,76,0,88,55,77,74,0,91,60,77,74]
[null,213,"Aug 1",0,91,56,null,null,null,96.9,60.8,null,null,0,96,61,82,76,0,96,62,81,78,null,91.941176470588232,57.117647058823529,78,72.666666666666671,0,90,58,81,70,0,88,52,77,74,0,89,57,76,74]
[null,214,"Aug 2",0,92,57,null,null,null,96.8,60.7,null,null,0,97,62,83,76,0,97,62,81,78,null,92.058823529411768,57.294117647058826,76.333333333333329,71.666666666666671,0,86,58,76,67,0,90,54,77,74,0,91,56,76,74]
[null,215,"Aug 3",0,91,57,null,null,null,96.7,60.7,null,null,0,96,62,83,76,0,96,63,81,78,null,92.529411764705884,56.823529411764703,76.333333333333329,73.666666666666671,0,85,56,76,73,0,91,56,77,74,0,90,58,76,74]
[null,216,"Aug 4",0,90,55,null,null,null,96.6,60.6,null,null,0,97,63,83,76,0,96,63,81,78,null,92.882352941176464,57.176470588235297,77.333333333333329,73.333333333333329,0,86,57,77,73,0,90,58,77,74,0,85,55,78,73]
[null,217,"Aug 5",0,90,56,null,null,null,96.4,60.5,null,null,0,96,63,82,76,0,97,62,81,78,null,90.294117647058826,57.176470588235297,77,73.666666666666671,0,86,59,77,74,0,85,55,77,74,0,88,56,77,73]
[null,218,"Aug 6",0,91,55,null,null,null,96.3,60.3,null,null,0,95,62,83,76,0,95,62,81,78,null,91,57.176470588235297,75.666666666666671,73,0,78,55,76,73,0,88,56,76,73,0,89,59,75,73]
[null,219,"Aug 7",0,89,55,null,null,null,96.2,60.2,null,null,0,96,62,82,76,0,96,63,83,78,null,90.647058823529406,56.529411764705884,75.666666666666671,73,0,81,55,76,73,0,89,55,76,73,0,87,57,75,73]
[null,220,"Aug 8",0,90,56,null,null,null,96.1,60.1,null,null,0,96,62,82,76,0,95,63,82,79,null,90.882352941176464,57.117647058823529,75.666666666666671,73.333333333333329,0,87,55,76,73,0,86,56,76,74,0,90,56,75,73]
[null,221,"Aug 9",0,89,56,null,null,null,96,59.9,null,null,0,96,63,83,76,0,96,63,81,78,null,91.941176470588232,56.470588235294116,75.666666666666671,72.666666666666671,0,93,58,77,73,0,87,55,76,73,0,90,55,74,72]
[null,222,"Aug 10",0,87,55,null,null,null,95.8,59.8,null,null,0,95,63,82,76,0,95,63,81,78,null,91.294117647058826,56.647058823529413,75.666666666666671,71.666666666666671,0,94,62,77,73,0,86,56,75,70,0,93,58,75,72]
[null,223,"Aug 11",0,89,55,null,null,null,95.6,59.6,null,null,0,95,62,82,75,0,94,62,82,78,null,90.941176470588232,56,75.333333333333329,73,0,93,62,77,74,0,80,54,75,73,0,90,57,74,72]
[null,224,"Aug 12",0,90,57,null,null,null,95.5,59.5,null,null,0,95,62,82,76,0,95,62,81,78,null,93.058823529411768,56.470588235294116,75,72,0,93,59,77,73,0,86,54,74,71,0,89,55,74,72]
[null,225,"Aug 13",0,90,56,null,null,null,95.3,59.4,null,null,0,96,62,82,75,0,95,62,81,78,null,92,57.411764705882355,78,72.333333333333329,0,92,60,85,73,0,87,58,75,72,0,94,59,74,72]
[null,226,"Aug 14",0,90,56,null,null,null,95.2,59.3,null,null,0,95,62,82,75,0,95,63,83,79,null,91.764705882352942,57.470588235294116,76.666666666666671,71,0,84,56,81,68,0,85,57,75,73,0,92,58,74,72]
[null,227,"Aug 15",0,89,54,null,null,null,95.1,59.2,null,null,0,95,61,81,75,0,94,61,81,78,null,91.117647058823536,56.823529411764703,75.333333333333329,72.333333333333329,0,87,52,75,72,0,85,56,75,73,0,92,56,76,72]
[null,228,"Aug 16",0,89,53,null,null,null,94.9,59.1,null,null,0,95,60,82,74,0,95,61,81,78,null,92.235294117647058,55.647058823529413,74.666666666666671,71.333333333333329,0,91,54,75,72,0,92,55,75,72,0,91,55,74,70]
[null,229,"Aug 17",0,87,53,null,null,null,94.7,59,null,null,0,94,59,81,75,0,94,60,80,78,null,90.941176470588232,54.529411764705884,75,72,0,91,57,75,72,0,89,58,75,73,0,92,56,75,71]
[null,230,"Aug 18",0,86,53,null,null,null,94.6,58.9,null,null,0,92,58,81,74,0,93,59,80,77,null,88.647058823529406,54.882352941176471,75,72.666666666666671,0,91,58,75,73,0,85,56,75,73,0,93,56,75,72]
[null,231,"Aug 19",0,87,51,null,null,null,94.5,58.8,null,null,0,93,58,81,74,0,94,59,80,77,null,88.882352941176464,54.764705882352942,75.333333333333329,72.333333333333329,0,91,58,75,73,0,89,53,75,72,0,88,56,76,72]
[null,232,"Aug 20",0,85,52,null,null,null,94.4,58.7,null,null,0,92,59,81,74,0,92,59,80,77,null,89,55.058823529411768,75.333333333333329,72.333333333333329,0,86,56,75,73,0,91,56,75,72,0,86,55,76,72]
[null,233,"Aug 21",0,87,54,null,null,null,94.3,58.6,null,null,0,93,58,81,73,0,92,59,79,77,null,90,56.764705882352942,75,72.333333333333329,0,93,58,76,73,0,82,55,74,72,0,87,56,75,72]
[null,234,"Aug 22",0,87,53,null,null,null,94.2,58.5,null,null,0,93,58,81,73,0,93,59,79,76,null,90.470588235294116,56.588235294117645,74.666666666666671,72.333333333333329,0,93,61,76,74,0,83,50,73,71,0,87,56,75,72]
[null,235,"Aug 23",0,88,55,null,null,null,94,58.4,null,null,0,94,59,81,73,0,93,59,79,76,null,90.882352941176464,57.176470588235297,75.333333333333329,72.333333333333329,0,91,61,76,74,0,90,53,74,71,0,94,56,76,72]
[null,236,"Aug 24",0,88,54,null,null,null,93.9,58.3,null,null,0,94,59,81,74,0,94,60,79,76,null,91.117647058823536,56.411764705882355,75.333333333333329,72.333333333333329,0,87,53,75,72,0,96,57,75,72,0,93,63,76,73]
[null,237,"Aug 25",0,87,53,null,null,null,93.8,58.1,null,null,0,93,58,81,73,0,93,59,79,76,null,91.647058823529406,56.411764705882355,77.666666666666671,72,0,92,53,81,70,0,101,64,76,73,0,91,59,76,73]
[null,238,"Aug 26",0,87,53,null,null,null,93.6,58,null,null,0,93,58,80,73,0,93,59,79,76,null,90.17647058823529,56.705882352941174,77.666666666666671,71.333333333333329,0,93,56,80,67,0,91,60,77,74,0,94,60,76,73]
[null,239,"Aug 27",0,88,54,null,null,null,93.5,57.8,null,null,0,95,59,81,73,0,94,60,80,76,null,92.058823529411768,55.823529411764703,76,72.666666666666671,0,93,60,74,71,0,87,53,77,73,0,92,63,77,74]
[null,240,"Aug 28",0,88,53,null,null,null,93.3,57.6,null,null,0,94,59,81,73,0,94,60,80,76,null,92.058823529411768,56.235294117647058,75.333333333333329,72.333333333333329,0,95,57,74,71,0,77,49,76,72,0,93,59,76,74]
[null,241,"Aug 29",0,88,54,null,null,null,93.2,57.5,null,null,0,94,59,81,74,0,94,60,79,76,null,91,57.882352941176471,75,71.666666666666671,0,98,57,74,71,0,77,49,75,71,0,92,57,76,73]
[null,242,"Aug 30",0,85,54,null,null,null,93.1,57.4,null,null,0,92,59,80,73,0,92,60,79,76,null,90.117647058823536,56.352941176470587,75,72,0,99,62,75,72,0,79,49,75,71,0,89,55,75,73]
[null,243,"Aug 31",0,87,53,null,null,null,92.9,57.3,null,null,0,92,58,80,73,0,93,59,79,76,null,90.764705882352942,55.588235294117645,74.666666666666671,71.666666666666671,0,88,60,74,72,0,84,52,75,71,0,90,56,75,72]
[null,244,"Sep 1",0.01,87,53,null,null,null,92.8,57.2,null,null,0,93,59,80,73,0,93,59,78,76,null,91.764705882352942,55.705882352941174,75.333333333333329,71.666666666666671,0,95,59,75,72,0,90,55,76,71,0,90,56,75,72]
[null,245,"Sep 2",0,88,55,null,null,null,92.7,57.1,null,null,0,93,60,80,73,0,94,60,79,76,null,91.17647058823529,55.470588235294116,75,72,0,94,62,74,72,0,97,56,76,72,0,94,57,75,72]
[null,246,"Sep 3",0,86,54,null,null,null,92.6,57,null,null,0,93,60,80,73,0,94,60,79,76,null,91,56.823529411764703,75.666666666666671,72.333333333333329,0,97,61,75,72,0,95,58,77,73,0,93,58,75,72]
[null,247,"Sep 4",0,88,53,null,null,null,92.4,56.9,null,null,0,92,59,80,73,0.01,93,60,78,76,null,89.647058823529406,54.941176470588232,75.333333333333329,72.333333333333329,0,92,56,75,72,0,92,57,76,73,0,90,55,75,72]
[null,248,"Sep 5",0,88,54,null,null,null,92.3,56.7,null,null,0,93,58,80,73,0,94,59,79,76,null,89.470588235294116,53.294117647058826,74.666666666666671,72,0,84,53,74,71,0,89,54,76,73,0,89,56,74,72]
[null,249,"Sep 6",0,87,53,null,null,null,92.2,56.6,null,null,0,93,58,79,73,0,94,59,78,76,null,90.529411764705884,53.823529411764703,74.333333333333329,72,0,81,54,74,72,0,89,53,75,72,0,94,55,74,72]
[null,250,"Sep 7",0,89,52,null,null,null,92,56.5,null,null,0,93,57,79,72,0,94,57,78,75,null,90.882352941176464,52.823529411764703,74.333333333333329,71.333333333333329,0,84,53,74,70,0,89,53,75,72,0,94,58,74,72]
[null,251,"Sep 8",0,88,52,null,null,null,91.9,56.4,null,null,0,93,57,79,72,0,95,56,77,75,null,89.058823529411768,53.058823529411768,74,71.333333333333329,0,90,53,74,70,0,71,52,74,72,0,92,56,74,72]
[null,252,"Sep 9",0,84,51,null,null,null,91.7,56.3,null,null,0,90,56,78,72,0,92,56,77,74,null,85.82352941176471,53.352941176470587,76,71,0,91,55,80,71,0,75,49,73,70,0,97,57,75,72]
[null,253,"Sep 10",0,83,51,null,null,null,91.5,56.2,null,null,0.01,89,55,78,71,0,89,54,76,74,null,86.058823529411768,52.470588235294116,74.666666666666671,70.666666666666671,0,93,58,75,69,0,82,51,73,70,0,97,62,76,73]
[null,254,"Sep 11",0,83,51,null,null,null,91.3,56,null,null,0,88,55,78,71,0,90,55,76,74,null,87.529411764705884,52.705882352941174,74.333333333333329,71.333333333333329,0,96,59,74,70,0,87,52,73,70,0.01,83,63,76,74]
[null,255,"Sep 12",0,84,50,null,null,null,91,55.9,null,null,0,87,54,77,70,0,88,54,76,73,null,87.82352941176471,52.470588235294116,74.333333333333329,71.666666666666671,0,87,62,74,72,0,90,53,74,70,0,87,60,75,73]
[null,256,"Sep 13",0,85,52,null,null,null,90.8,55.7,null,null,0,89,55,77,70,0,90,55,76,73,null,85.82352941176471,54.058823529411768,73.666666666666671,71.666666666666671,0,78,56,73,71,0,79,52,73,71,0,90,57,75,73]
[null,257,"Sep 14",0,85,51,null,null,null,90.6,55.5,null,null,0,89,54,77,70,0,91,55,76,73,null,86.352941176470594,53.176470588235297,{"$f":"AVERAGE(AF267,AK267,AP267)","v":73.666666666666671},{"$f":"AVERAGE(AG267,AL267,AQ267)","v":71.333333333333329},7.0000000000000007E-2,76,58,73,71,0,82,48,72,70,0,91,62,76,73]
[null,258,"Sep 15",0,83,51,null,null,null,90.4,55.4,null,null,0,89,55,78,70,0,90,55,76,73,null,85.705882352941174,52.882352941176471,73.666666666666671,70.666666666666671,0,83,55,73,70,0,85,48,72,69,0,89,57,76,73]
[null,259,"Sep 16",0.06,82,50,null,null,null,90.1,55.2,null,null,0.02,88,54,77,70,0,89,56,76,73,null,84.411764705882348,51.647058823529413,72.666666666666671,70,0,85,56,72,70,0,85,51,72,69,0,82,53,74,71]
[null,260,"Sep 17",0,83,50,null,null,null,89.9,55,null,null,0.02,87,55,76,70,0.01,89,55,75,73,null,84.647058823529406,52.235294117647058,73,70,0,88,57,73,70,0,83,55,73,70,0,83,51,73,70]
[null,261,"Sep 18",0.01,83,51,null,null,null,89.6,54.7,null,null,0.01,86,54,76,70,0.02,88,55,75,73,null,86.17647058823529,52.294117647058826,73.333333333333329,70.333333333333329,0,97,56,74,70,0,82,60,73,71,0,89,54,73,70]
[null,262,"Sep 19",0,85,51,null,null,null,89.4,54.5,null,null,0,88,55,76,69,0,90,54,75,72,null,85.82352941176471,52.352941176470587,73.333333333333329,71,0,94,61,74,71,0,78,55,73,71,0,92,56,73,71]
[null,263,"Sep 20",0,87,52,null,null,null,89.1,54.3,null,null,0,89,54,76,69,0,90,54,75,72,null,86.764705882352942,52.294117647058826,73,70.666666666666671,0,89,58,73,71,0,80,55,73,70,0,94,57,73,71]
[null,264,"Sep 21",0,85,51,null,null,null,88.9,54.1,null,null,0,89,55,76,70,0.01,90,55,76,72,null,87,51.882352941176471,74,70.333333333333329,0,92,58,77,70,0,78,52,72,70,0,95,55,73,71]
[null,265,"Sep 22",0,84,52,null,null,null,88.6,53.8,null,null,0.01,88,55,76,70,0.01,91,56,75,72,null,86.352941176470594,53.235294117647058,72.333333333333329,70.333333333333329,0,94,58,73,71,0,75,47,71,69,0,94,64,73,71]
[null,266,"Sep 23",0,83,52,null,null,null,88.3,53.6,null,null,0,86,55,75,69,0.01,88,56,75,72,null,85.882352941176464,52.058823529411768,72.333333333333329,70,0,94,57,73,71,0,80,47,71,68,0,96,59,73,71]
[null,267,"Sep 24",0.03,83,51,null,null,null,88.1,53.4,null,null,0.01,87,55,75,69,0.01,89,55,74,72,null,86.764705882352942,50.941176470588232,72.333333333333329,70.333333333333329,0,93,57,73,71,0,86,48,71,68,0,89,60,73,72]
[null,268,"Sep 25",0,82,52,null,null,null,87.9,53.2,null,null,0.01,85,55,75,69,0.01,86,56,74,72,null,86.647058823529406,52.294117647058826,72,69.666666666666671,0,93,54,72,70,0,91,51,72,68,0,73,53,72,71]
[null,269,"Sep 26",0,82,50,null,null,null,87.7,53.1,null,null,0,85,53,75,69,0,87,53,74,71,null,87.058823529411768,52.941176470588232,72,69.666666666666671,0,96,56,73,70,0,92,53,72,69,0,80,53,71,70]
[null,270,"Sep 27",0,82,50,null,null,null,87.4,52.8,null,null,0,85,54,75,69,0,88,54,74,71,null,84.764705882352942,52.235294117647058,72,69.333333333333329,0,98,58,73,70,0,96,52,72,69,0,85,52,71,69]
[null,271,"Sep 28",0.06,82,51,null,null,null,87.1,52.5,null,null,0.06,85,53,75,68,0,86,54,74,71,null,82.941176470588232,51.764705882352942,72.333333333333329,70,0,88,58,73,71,0,96,58,73,70,0,95,56,71,69]
[null,272,"Sep 29",0,85,50,null,null,null,86.9,52.3,null,null,0,88,54,75,68,0,90,53,74,71,null,84.294117647058826,51.647058823529413,72.333333333333329,70,0,70,48,71,69,0,95,59,74,71,0,92,58,72,70]
[null,273,"Sep 30",0,85,51,null,null,null,86.6,52,null,null,0,89,55,75,68,0,91,54,74,71,null,84.82352941176471,51.176470588235297,71.333333333333329,69.333333333333329,0,73,42,69,67,0,94,57,74,71,0,80,58,71,70]
[null,274,"Oct 1",0,84,52,null,null,null,86.3,51.7,null,null,0,88,54,75,68,0,90,55,74,71,null,82.882352941176464,51.823529411764703,71,68.333333333333329,0,80,41,68,65,0,86,59,74,71,0,81,52,71,69]
[null,275,"Oct 2",0,81,51,null,null,null,86.1,51.5,null,null,0.02,85,54,74,68,0,87,55,74,71,null,81.882352941176464,50.882352941176471,70.666666666666671,68.666666666666671,0,82,45,68,65,0,91,64,74,72,0,80,55,70,69]
[null,276,"Oct 3",0,81,49,null,null,null,85.8,51.1,null,null,0,85,52,74,68,0,87,52,73,71,null,80.82352941176471,48.529411764705884,70.666666666666671,69,0,76,49,68,66,0.34,80,58,74,72,0,72,54,70,69]
[null,277,"Oct 4",0.04,79,49,null,null,null,85.6,51,null,null,0,86,51,74,67,0,87,52,73,70,null,77.294117647058826,50.176470588235297,69.666666666666671,67.666666666666671,0,67,41,66,65,0,72,54,73,70,0.09,73,54,70,68]
[null,278,"Oct 5",0,78,48,null,null,null,85.3,50.7,null,null,0,84,51,73,67,0.01,86,51,73,70,null,77.352941176470594,47.352941176470587,68.333333333333329,66.333333333333329,0,69,40,65,63,0.06,68,52,71,69,0.86,67,50,69,67]
[null,279,"Oct 6",0,79,47,null,null,null,84.9,50.4,null,null,0,83,51,73,67,0,85,50,72,70,null,80.529411764705884,46.588235294117645,67.333333333333329,65.333333333333329,0,73,40,65,63,0,74,49,70,67,0.09,63,47,67,66]
[null,280,"Oct 7",0,79,48,null,null,null,84.6,50.1,null,null,0.01,84,50,73,66,0,85,50,72,69,null,81.705882352941174,47.823529411764703,67,65.333333333333329,0,78,43,65,63,0,73,53,70,68,0,69,45,66,65]
[null,281,"Oct 8",0,81,47,null,null,null,84.2,49.9,null,null,0,84,50,72,66,0,86,50,71,69,null,81.764705882352942,47.058823529411768,66.666666666666671,64.666666666666671,0,75,44,65,63,0,75,49,69,67,0,74,47,66,64]
[null,282,"Oct 9",0.01,81,48,null,null,null,83.9,49.6,null,null,0,85,50,72,66,0,87,50,71,69,null,80.647058823529406,48.411764705882355,66.666666666666671,64.333333333333329,0,76,46,65,63,0,79,50,69,66,0,77,48,66,64]
[null,283,"Oct 10",0.02,80,47,null,null,null,83.6,49.3,null,null,0.02,83,50,72,65,0.03,86,50,72,68,null,77.529411764705884,47.235294117647058,67.333333333333329,64.666666666666671,0,77,47,65,63,0,85,54,70,66,0,74,53,67,65]
[null,284,"Oct 11",0.02,78,46,null,null,null,83.2,49.1,null,null,0,82,50,71,65,0,83,50,72,69,null,77.588235294117652,45.411764705882355,67.666666666666671,65.333333333333329,0,71,47,65,63,0,83,55,70,67,0,78,61,68,66]
[null,285,"Oct 12",0,78,47,null,null,null,82.8,48.7,null,null,0.03,81,50,71,65,0,83,49,71,68,null,77.411764705882348,47.529411764705884,67.666666666666671,65.333333333333329,0,67,46,65,63,0,86,53,70,67,0,79,55,68,66]
[null,286,"Oct 13",0,76,48,null,null,null,82.3,48.4,null,null,0.01,81,48,70,64,0,82,48,70,67,null,79.294117647058826,46.294117647058826,67.666666666666671,65.333333333333329,1.95,63,56,65,64,0,90,54,70,67,0,83,51,68,65]
[null,287,"Oct 14",0,79,46,null,null,null,81.8,48.1,null,null,0.01,81,48,70,64,0,82,48,69,67,null,81.588235294117652,47.176470588235297,69,65.333333333333329,0,77,61,67,64,0,94,55,71,67,0,87,55,69,65]
[null,288,"Oct 15",0.02,79,46,null,null,null,81.2,47.8,null,null,0,81,48,70,64,0,82,47,69,67,null,77.647058823529406,47.647058823529413,{"$f":"AVERAGE(AF298,AK298,AP298)","v":69.333333333333329},{"$f":"AVERAGE(AG298,AL298,AQ298)","v":66.666666666666671},0,79,61,68,66,0,89,55,71,68,0,87,55,69,66]
[null,289,"Oct 16",0,77,47,null,null,null,80.7,47.5,null,null,0,80,47,69,63,0,82,47,69,67,null,76.294117647058826,47.294117647058826,68.666666666666671,67.333333333333329,0,78,60,68,67,0,82,59,70,68,0,78,58,68,67]
[null,290,"Oct 17",0,78,45,null,null,null,80.2,47.2,null,null,0,81,47,69,63,0,82,46,68,66,null,77.529411764705884,44.352941176470587,68.666666666666671,66.666666666666671,0.01,80,58,69,67,0.08,65,52,69,67,0,85,55,68,66]
[null,291,"Oct 18",0,78,45,null,null,null,79.7,46.9,null,null,0,81,47,69,63,0,83,47,68,66,null,76.764705882352942,44.529411764705884,68.333333333333329,66.333333333333329,0.01,78,52,68,67,0,72,49,68,66,0,85,54,69,66]
[null,292,"Oct 19",0,78,45,null,null,null,79.3,46.5,null,null,0,80,47,68,62,0,81,47,68,66,null,75.82352941176471,45.470588235294116,67.666666666666671,65.333333333333329,0.03,66,48,67,65,0,74,51,68,65,0,76,54,68,66]
[null,293,"Oct 20",0,77,45,null,null,null,78.8,46.2,null,null,0,80,46,68,62,0,81,45,68,65,null,75.647058823529406,45.411764705882355,67,65,0,68,51,66,64,0,80,53,68,66,0,79,50,67,65]
[null,294,"Oct 21",0.01,76,45,null,null,null,78.3,46,null,null,0.01,78,48,68,62,0,81,48,68,65,null,76.411764705882348,44.235294117647058,67,64.666666666666671,0,73,46,66,63,0,69,51,68,66,0,79,51,67,65]
[null,295,"Oct 22",0,75,43,null,null,null,77.900000000000006,45.7,null,null,0.02,78,46,68,62,0,79,46,67,65,null,76.588235294117652,43.117647058823529,66.333333333333329,64,0,73,48,65,63,0,70,50,67,65,0,83,50,67,64]
[null,296,"Oct 23",0.05,74,43,null,null,null,77.400000000000006,45.5,null,null,0.01,78,46,68,62,0,80,45,67,65,null,75.941176470588232,44.117647058823529,66.666666666666671,64.333333333333329,0,77,49,66,63,0.33,66,54,67,66,0,84,50,67,64]
[null,297,"Oct 24",0.1,72,44,null,null,null,76.900000000000006,45.1,null,null,0.01,76,46,67,62,0.03,78,46,67,65,null,74.058823529411768,45.352941176470587,66,64.333333333333329,0,77,49,66,63,0.36,66,57,66,65,0,82,49,66,65]
[null,298,"Oct 25",0.02,72,44,null,null,null,76.400000000000006,44.8,null,null,0,76,46,67,61,0,78,44,66,64,null,73.470588235294116,44.117647058823529,65.333333333333329,63.333333333333336,0,75,48,65,63,0,65,48,65,63,0,72,49,66,64]
[null,299,"Oct 26",0.15,72,43,null,null,null,75.900000000000006,44.6,null,null,0.06,77,46,66,61,0.03,78,45,66,64,null,74.588235294117652,43.176470588235297,64.333333333333329,62.333333333333336,0,81,52,65,63,0,65,44,63,61,0,71,44,65,63]
[null,300,"Oct 27",0,73,44,null,null,null,75.3,44.4,null,null,0.02,75,45,66,60,0.01,77,45,66,64,null,73.058823529411768,44.117647058823529,63,60.333333333333336,0,65,50,64,61,0,68,38,62,59,0,75,41,63,61]
[null,301,"Oct 28",0.02,70,43,null,null,null,74.8,44.1,null,null,0.09,72,45,65,59,0.04,74,46,66,63,null,73.470588235294116,44.176470588235297,62,60,0,63,45,61,59,0,77,45,62,60,0,76,42,63,61]
[null,302,"Oct 29",0.08,68,45,null,null,null,74.2,43.9,null,null,0.13,71,46,65,60,0.04,73,45,65,63,null,71.17647058823529,43,61.666666666666664,59.333333333333336,0,65,33,60,57,0.04,66,46,62,60,0,76,42,63,61]
[null,303,"Oct 30",0.02,70,42,null,null,null,73.599999999999994,43.7,null,null,0.14000000000000001,71,43,64,59,0.05,72,44,65,63,null,69.470588235294116,41.705882352941174,61.666666666666664,60,0,73,40,60,58,0.19,60,49,62,61,0,80,45,63,61]
[null,304,"Oct 31",0,71,42,null,null,null,73.099999999999994,43.4,null,null,0.01,71,43,63,58,0.01,72,44,65,63,null,69.588235294117652,41.117647058823529,61.666666666666664,59.666666666666664,0,72,41,60,58,0,71,44,62,60,0,78,43,63,61]
[null,305,"Nov 1",0,70,42,null,null,null,72.5,43.2,null,null,0.06,71,43,63,58,0,72,43,64,62,null,69.941176470588232,41.529411764705884,61.333333333333336,59.333333333333336,0,74,43,61,58,0.01,71,45,61,59,0,73,43,62,61]
[null,306,"Nov 2",0,69,41,null,null,null,71.900000000000006,43.1,null,null,0.01,71,41,63,58,0,72,42,64,62,null,70.82352941176471,41.470588235294116,61.333333333333336,58,0,78,44,61,59,0,77,45,62,59,0,74,38,61,56]
[null,307,"Nov 3",0.02,70,41,null,null,null,71.3,42.9,null,null,0,72,40,63,57,0.01,73,41,64,61,null,68.764705882352942,41.411764705882355,61.333333333333336,59,0,80,43,62,59,0,79,48,63,60,0.03,74,41,59,58]
[null,308,"Nov 4",0,72,40,null,null,null,70.7,42.6,null,null,0.01,72,41,62,57,7.0000000000000007E-2,72,41,63,61,null,69.470588235294116,40.176470588235297,61.333333333333336,59,0,77,45,62,59,0.01,79,49,63,60,7.0000000000000007E-2,58,41,59,58]
[null,309,"Nov 5",0,71,41,null,null,null,70,42.4,null,null,0.01,73,43,63,57,0,75,41,63,61,null,70.588235294117652,41.588235294117645,61,59,0,71,45,61,59,0,83,53,64,62,0.2,56,35,58,56]
[null,310,"Nov 6",0,68,42,null,null,null,69.400000000000006,42.2,null,null,0.01,71,42,62,57,0,72,42,63,61,null,69.17647058823529,41.941176470588232,61,59.333333333333336,0,72,43,61,59,0,72,51,64,62,0,58,40,58,57]
[null,311,"Nov 7",0.03,68,40,null,null,null,68.900000000000006,41.9,null,null,0.01,69,41,61,57,0.01,70,41,63,61,null,67.882352941176464,43.882352941176471,60.666666666666664,59,0,66,47,61,60,0.32,57,50,63,61,0,58,36,58,56]
[null,312,"Nov 8",0.02,68,39,null,null,null,68.3,41.7,null,null,0.01,70,41,61,56,0.02,71,41,62,60,null,66.117647058823536,42.823529411764703,59,57.333333333333336,0,64,38,60,58,0,60,41,61,59,0.01,63,33,56,55]
[null,313,"Nov 9",0.05,68,39,null,null,null,67.8,41.5,null,null,0.03,69,40,61,56,0,70,40,62,60,null,66.235294117647058,41.176470588235297,58,56,0,64,37,59,57,0,64,37,59,57,0,65,35,56,54]
[null,314,"Nov 10",0.08,65,39,null,null,null,67.3,41.3,null,null,0.08,68,40,60,56,0.09,69,40,61,60,null,64.058823529411768,40.941176470588232,58,56.333333333333336,0,63,40,59,57,0,61,44,59,58,0,69,33,56,54]
[null,315,"Nov 11",0,67,39,null,null,null,66.900000000000006,41.1,null,null,0.01,69,41,60,54,0.02,69,40,61,59,null,64,41.588235294117645,58,56.333333333333336,0,62,44,59,58,0,63,39,59,56,0.14000000000000001,62,46,56,55]
[null,316,"Nov 12",0.04,66,37,null,null,null,66.5,40.799999999999997,null,null,0.06,69,40,60,55,0.04,69,40,61,59,null,65.294117647058826,38.705882352941174,58,56.333333333333336,0.01,63,37,59,58,0,64,36,58,55,0.01,64,44,57,56]
[null,317,"Nov 13",0,66,37,null,null,null,66.099999999999994,40.700000000000003,null,null,0.05,67,40,59,55,0.02,70,41,61,59,null,66,39.941176470588232,57.333333333333336,55.666666666666664,0,61,34,58,56,0,63,37,57,55,0,66,43,57,56]
[null,318,"Nov 14",0,64,38,null,null,null,65.7,40.4,null,null,0.03,65,39,59,54,0.01,66,40,60,58,null,65.941176470588232,39.823529411764703,57.333333333333336,55.333333333333336,0,61,36,57,55,0,69,39,58,55,0,62,46,57,56]
[null,319,"Nov 15",0.02,64,38,null,null,null,65.3,40.200000000000003,null,null,0.03,63,38,58,53,0.01,64,38,60,58,null,65.117647058823536,39.647058823529413,57,55,0,65,33,56,54,0,73,42,58,56,0,66,38,57,55]
[null,320,"Nov 16",0.05,62,39,null,null,null,64.900000000000006,40,null,null,0.03,64,39,57,53,0.01,67,38,59,58,null,65.294117647058826,40.764705882352942,56.666666666666664,54.666666666666664,0,70,31,56,53,0,68,42,58,56,0,68,37,56,55]
[null,321,"Nov 17",7.0000000000000007E-2,63,39,null,null,null,64.400000000000006,39.799999999999997,null,null,0.06,64,40,57,53,0.03,65,41,60,58,null,66.058823529411768,40.529411764705884,{"$f":"AVERAGE(AF331,AK331,AP331)","v":56.333333333333336},{"$f":"AVERAGE(AG331,AL331,AQ331)","v":54.333333333333336},0,68,33,55,53,0.01,73,38,58,56,0,70,38,56,54]
[null,322,"Nov 18",0.01,64,39,null,null,null,63.9,39.6,null,null,0.01,64,39,58,53,0.02,65,40,59,58,null,64.882352941176464,40.705882352941174,57,55.333333333333336,0.01,60,35,56,54,0,71,41,58,56,0,62,42,57,56]
[null,323,"Nov 19",0.01,62,38,null,null,null,63.5,39.4,null,null,0.03,66,40,58,53,0.03,66,39,59,57,null,62.823529411764703,38.588235294117645,56,54.333333333333336,0,60,30,54,52,0.17,55,46,58,56,0.01,58,40,56,55]
[null,324,"Nov 20",0.01,63,35,null,null,null,63,39.200000000000003,null,null,0.02,65,38,57,53,0.01,66,39,59,57,null,63.117647058823529,39.529411764705884,56,54.333333333333336,0.14000000000000001,66,34,55,52,0.81,56,44,57,56,0.18,58,40,56,55]
[null,325,"Nov 21",0.01,60,39,null,null,null,62.5,39,null,null,0.02,63,39,57,52,0.05,63,38,58,57,null,61.764705882352942,38.058823529411768,55.333333333333336,54,0,53,35,54,53,0.05,54,41,56,55,0.01,57,34,56,54]
[null,326,"Nov 22",0.01,62,41,null,null,null,62.1,38.799999999999997,null,null,0.02,63,40,57,53,0.01,63,38,59,57,null,62.470588235294116,37.294117647058826,55,53.333333333333336,0,64,32,54,52,0.04,57,44,56,55,0.01,60,33,55,53]
[null,327,"Nov 23",0.01,61,36,null,null,null,61.7,38.700000000000003,null,null,0.02,64,38,57,52,0,65,37,58,56,null,62.176470588235297,36.352941176470587,54.666666666666664,53.333333333333336,0,58,38,54,53,0.22,51,38,56,54,0,58,37,54,53]
[null,328,"Nov 24",0.05,61,35,null,null,null,61.3,38.5,null,null,0.04,64,37,56,52,0.02,64,37,58,56,null,60.588235294117645,35.529411764705884,54.666666666666664,52.333333333333336,0.01,65,33,54,52,0,47,30,55,51,0,60,41,55,54]
[null,329,"Nov 25",0.09,60,35,null,null,null,60.9,38.200000000000003,null,null,0.04,61,38,56,52,0.03,64,38,58,56,null,61.588235294117645,37.294117647058826,53.333333333333336,51.333333333333336,0,67,32,54,51,0,52,27,51,49,0,62,40,55,54]
[null,330,"Nov 26",0.05,59,35,null,null,null,60.6,38.1,null,null,0.04,60,36,55,51,0.03,60,34,57,55,null,59.117647058823529,36.705882352941174,53.333333333333336,51.333333333333336,0,70,36,54,51,0,55,28,50,48,0,58,40,56,55]
[null,331,"Nov 27",0.04,57,36,null,null,null,60.2,37.9,null,null,0.03,60,35,54,50,0.01,60,34,56,55,null,57.470588235294116,37,53.333333333333336,52,0.09,58,40,54,52,0.35,47,36,51,50,0.01,53,39,55,54]
[null,332,"Nov 28",0.04,57,36,null,null,null,59.9,37.700000000000003,null,null,0.01,59,35,53,50,0.01,60,34,56,54,null,58.058823529411768,37.117647058823529,53,52,0,65,39,54,52,0,50,36,50,49,0.01,50,40,55,55]
[null,333,"Nov 29",0.03,57,35,null,null,null,59.5,37.5,null,null,0.06,62,36,54,50,0.03,63,35,56,54,null,57.941176470588232,35.823529411764703,52.333333333333336,50.666666666666664,0,59,30,52,50,0,52,30,50,48,0,48,43,55,54]
[null,334,"Nov 30",0.08,59,36,null,null,null,59.2,37.299999999999997,null,null,0.02,62,36,54,49,0.03,62,36,56,54,null,58.647058823529413,35.882352941176471,52.333333333333336,50.666666666666664,0,64,32,52,50,0,53,30,50,48,0,63,45,55,54]
[null,335,"Dec 1",0.03,58,35,null,null,null,58.9,37.1,null,null,0.02,60,35,53,49,0.02,61,34,56,54,null,58.411764705882355,36.294117647058826,51.666666666666664,50.333333333333336,0,64,31,51,50,0,56,30,50,48,0,65,46,54,53]
[null,336,"Dec 2",0.04,57,35,null,null,null,58.6,36.9,null,null,0.01,62,35,53,48,0,63,34,55,54,null,58.588235294117645,35.058823529411768,51.333333333333336,49.666666666666664,0,60,30,51,49,0,53,34,50,48,0,62,33,53,52]
[null,337,"Dec 3",0.03,58,34,null,null,null,58.3,36.799999999999997,null,null,0.01,63,35,53,49,0.01,63,34,55,53,null,57.411764705882355,36.352941176470587,51.333333333333336,50,0,59,28,51,49,0,53,41,51,50,0,61,27,52,51]
[null,338,"Dec 4",0.02,58,33,null,null,null,58,36.700000000000003,null,null,0.05,59,36,52,48,0.04,61,35,55,53,null,57.529411764705884,35.647058823529413,51.666666666666664,49.666666666666664,0,61,30,51,49,7.0000000000000007E-2,61,45,53,51,0,59,29,51,49]
[null,339,"Dec 5",0.08,57,38,null,null,null,57.8,36.5,null,null,7.0000000000000007E-2,59,38,53,49,0.04,61,37,55,53,null,57,36.941176470588232,51.666666666666664,50.333333333333336,0,53,30,51,49,0.28000000000000003,62,46,54,53,0,59,27,50,49]
[null,340,"Dec 6",0.05,59,37,null,null,null,57.5,36.299999999999997,null,null,0.05,60,38,53,49,0.05,61,37,55,53,null,56.75,36.6875,51,49.666666666666664,0,49,26,50,48,0,67,46,54,53,0,59,26,49,48]
[null,341,"Dec 7",0.06,58,38,null,null,null,57.2,36.200000000000003,null,null,0.14000000000000001,59,37,53,50,0.09,60,36,55,53,null,57,37.5625,50.666666666666664,49,0.52,44,29,49,47,0,62,38,54,52,0,58,26,49,48]
[null,342,"Dec 8",0.01,56,36,null,null,null,56.9,36,null,null,0.01,61,35,53,49,0.02,61,37,55,53,null,56.764705882352942,34.764705882352942,50,48,0.01,49,25,47,45,0.11,56,44,54,52,0,61,25,49,47]
[null,343,"Dec 9",0.04,56,36,null,null,null,56.5,35.799999999999997,null,null,0.05,57,36,52,49,0.03,58,35,54,52,null,56.705882352941174,36.411764705882355,49.666666666666664,48.333333333333336,0.02,48,25,46,45,0,63,47,55,54,0,61,26,48,46]
[null,344,"Dec 10",0.1,56,38,null,null,null,56.2,35.700000000000003,null,null,0.06,58,37,52,49,0.04,59,36,54,53,null,56.941176470588232,36.882352941176471,50.666666666666664,48.666666666666664,0.06,50,35,48,46,0,66,48,56,54,0,61,26,48,46]
[null,345,"Dec 11",0.09,57,37,null,null,null,55.9,35.5,null,null,0.1,56,37,52,49,0.05,58,37,54,53,null,55.176470588235297,36.764705882352942,51.333333333333336,49.666666666666664,0.49,53,42,50,48,0,57,50,56,55,0,56,30,48,46]
[null,346,"Dec 12",0.03,55,37,null,null,null,55.7,35.4,null,null,0.02,56,36,52,48,0.02,56,37,54,53,null,54.941176470588232,38,52.333333333333336,51,0.31,56,49,51,50,0,58,54,57,56,0,53,31,49,47]
[null,347,"Dec 13",0.01,55,36,null,null,null,55.5,35.4,null,null,0,56,35,52,48,0.02,57,35,54,52,null,58.235294117647058,37.941176470588232,52.333333333333336,51.333333333333336,0.15,55,42,52,51,0,55,52,57,56,0,59,32,48,47]
[null,348,"Dec 14",0.11,53,36,null,null,null,55.3,35.4,null,null,0.08,53,34,50,47,0.03,53,34,53,52,null,54.529411764705884,37.764705882352942,52,51,0,61,41,52,51,0.28000000000000003,53,49,56,56,0,60,27,48,46]
[null,349,"Dec 15",0.03,53,33,null,null,null,55.1,35.4,null,null,0.04,53,34,50,47,0.01,54,34,53,51,null,55.058823529411768,36.882352941176471,52,50.666666666666664,0,59,39,52,50,0.01,55,40,56,55,0.12,53,38,48,47]
[null,350,"Dec 16",0,52,33,null,null,null,55,35.4,null,null,0.06,53,35,50,47,0,53,35,53,51,null,53.529411764705884,34.647058823529413,51.666666666666664,50.666666666666664,0.04,59,42,52,51,0.03,45,39,55,54,0,51,28,48,47]
[null,351,"Dec 17",0.03,52,34,null,null,null,54.7,35.299999999999997,null,null,0.02,55,35,50,47,0.02,56,34,52,51,null,53.764705882352942,35.529411764705884,51.333333333333336,50,0,52,40,52,51,0.54,55,44,54,53,0.01,52,27,48,46]
[null,352,"Dec 18",0.01,53,34,null,null,null,54.5,35.299999999999997,null,null,0.01,55,35,50,47,0,55,35,52,51,null,53.470588235294116,37.058823529411768,51.333333333333336,50.666666666666664,0,50,44,52,52,0.19,57,52,55,54,0,50,26,47,46]
[null,353,"Dec 19",0.02,50,33,null,null,null,54.4,35.200000000000003,null,null,0.02,51,34,50,47,0.01,54,35,52,51,null,53.411764705882355,36.411764705882355,52,50.666666666666664,0,55,40,53,51,0.28000000000000003,59,49,55,55,0,51,29,48,46]
[null,354,"Dec 20",7.0000000000000007E-2,49,33,null,null,null,54.2,35.200000000000003,null,null,0.13,53,33,49,46,0.04,54,33,52,50,null,51.588235294117645,35.705882352941174,51.333333333333336,50.333333333333336,0,57,38,52,51,0.23,52,43,55,54,0.01,46,27,47,46]
[null,355,"Dec 21",0.01,48,31,null,null,null,54,35.200000000000003,null,null,0.02,49,32,49,46,0,51,33,51,50,null,51.529411764705884,34.941176470588232,51,49.666666666666664,0.23,54,41,52,51,0.03,55,38,54,53,0.01,48,23,47,45]
[null,356,"Dec 22",0.04,48,31,null,null,null,53.9,35.200000000000003,null,null,0.08,48,33,48,46,0.03,51,33,51,50,null,53.058823529411768,35.647058823529413,51,49,0,54,37,52,49,0.35,58,49,55,54,0,51,24,46,44]
[null,357,"Dec 23",7.0000000000000007E-2,49,29,null,null,null,53.8,35.200000000000003,null,null,0,49,33,48,46,0.04,52,33,51,50,null,53.470588235294116,32.764705882352942,49.666666666666664,48.333333333333336,0,51,32,49,48,0,60,41,55,54,0,51,24,45,43]
[null,358,"Dec 24",0.12,50,29,null,null,null,53.7,35.299999999999997,null,null,0.12,50,32,48,45,0,51,32,51,49,null,52.235294117647058,33.764705882352942,49,47.333333333333336,0,54,28,48,46,0.01,52,40,54,53,0,55,22,45,43]
[null,359,"Dec 25",0,49,29,null,null,null,53.6,35.299999999999997,null,null,0,50,32,48,45,0.02,51,32,50,49,null,52.411764705882355,32.058823529411768,48.666666666666664,47.333333333333336,0,58,29,48,46,0.43,54,42,53,53,0,55,24,45,43]
[null,360,"Dec 26",0,50,30,null,null,null,53.5,35.4,null,null,0.01,53,32,48,44,0.01,53,31,50,48,null,54.117647058823529,33.470588235294116,48.333333333333336,47,0.03,50,34,48,46,0,60,38,53,52,0,56,24,44,43]
[null,361,"Dec 27",0.02,53,30,null,null,null,53.4,35.5,null,null,0.04,57,32,47,44,0.06,57,32,50,48,null,55.588235294117645,34.352941176470587,49,47.666666666666664,0.05,60,43,49,48,0,56,37,53,52,0,54,27,45,43]
[null,362,"Dec 28",0.15,54,33,null,null,null,53.4,35.700000000000003,null,null,0.09,55,35,48,45,0.02,57,35,50,49,null,53.941176470588232,35.941176470588232,49,47.666666666666664,0.01,47,43,50,49,0.56000000000000005,50,39,52,51,0,58,32,45,43]
[null,363,"Dec 29",0.18,54,33,null,null,null,53.4,35.799999999999997,null,null,0.2,54,36,49,46,0.04,55,36,50,49,null,54.176470588235297,35.588235294117645,49.666666666666664,48.333333333333336,0.04,55,40,50,49,0.24,54,39,52,51,0,59,37,47,45]
[null,364,"Dec 30",0.02,54,33,null,null,null,53.4,35.799999999999997,null,null,7.0000000000000007E-2,57,36,49,46,0.03,56,35,51,49,null,54,35.823529411764703,50,48.333333333333336,0.01,59,44,51,50,0,49,31,51,49,0,62,34,48,46]
[null,365,"Dec 31",0.21,56,35,null,null,null,50,27,null,null,0.01,57,36,49,45,0.01,58,36,51,49,null,55.058823529411768,37,50.666666666666664,49,0,55,45,52,50,0,55,45,52,50,0,50,31,48,47]

{"sheet":"weather notes","index":4,"n_rows":26,"n_cols":3,"rows_kept":26,"cut":false,"hidden":false,"merged":[]}
[]
[]
[null,"Updating weather data"]
[]
[null,"1.  Open the minmax data sheet and scroll to the column where you would like to place your data"]
[null,"Name the data set.  Select the first cell where the data will be placed."]
[]
[null,"2. Select a weather station and time frame (usually starts with Jan. 1)"]
[]
[null,"ipm.ucdavis.edu maintains a weather station network that does not require a log in"]
[]
[null,"3.  Download the data as a comma delimited text file and save it to your computer."]
[]
[null,"4.  Open the text file with Excel.  You may need to select \"all file types\" in order to find the file."]
[]
[null,"5.  Choose a comma delimited file and choose the row where the data starts."]
[]
[null,"6.  IF NOT A LEAP YEAR"]
[null,null,"Copy the max and min data from Jan 1 to Feb 28.  Paste the VALUES into the N uptake minmax sheet."]
[null,null,"Then copy the data from Mar 1 to Dec 31 and paste the VALUES into the approprate place in the minmax sheet."]
[null,null,"Another way is to insert a blank row for Feb 29 and copy and paste all the data at once"]
[]
[null,"If it IS a leap year, you can copy all the data and paste the values in as a single step."]
[]
[]
[null,"UC IPM weather network:  http://www.ipm.ucdavis.edu/WEATHER/wxretrieve.html"]

{"sheet":"N release","index":5,"n_rows":460,"n_cols":21,"rows_kept":460,"cut":false,"hidden":true,"merged":[]}
[]
[null,null,null,null,null,null,null,null,null,"Corral Solids","Fresh Manure","Lagoon Water","Lagoon Sludge","Screen Separator","Compost","Commercial","A","B","C","D"]
[null,null,"Tr:",22,null,null,null,null,"Microbial efficiency",{"$f":"$U3","v":0.4081632653061224},0.4081632653061224,0.4081632653061224,0.4081632653061224,0.4081632653061224,0.4081632653061224,0.4081632653061224,0.4081632653061224,0.4081632653061224,0.4081632653061224,0.4081632653061224,{"$f":"U5/U7","v":0.4081632653061224}]
[null,null,"Q10:",2,null,null,null,null,"C:N initial value",13.180116679077589,18.249174772310877,6.2095753530568487,11.074199992645649,28.778363638773914,13.795028463451819,1,30,30,20,20]
[null,null,null,null,null,null,null,null,"C:N final value",{"$f":"$U5","v":8},8,8,8,8,8,8,8,8,8,8,8]
[null,null,null,null,null,null,null,null,"Carbon decay rate",6.0065972379578884E-3,1.0905560392455774E-2,9.0476434277461954E-3,1.7646177906066934E-3,1.2823143655652364E-2,3.0795959863826462E-3,1,6.9314718055994526E-2,5.7762265046662105E-2,2.3104906018664843E-3,1.8990333713971104E-3]
[null,null,null,null,null,null,null,null,"C:N no net immobilization",{"$f":"J5/J3","v":19.600000000000001},19.600000000000001,19.600000000000001,19.600000000000001,19.600000000000001,19.600000000000001,19.600000000000001,19.600000000000001,19.600000000000001,19.600000000000001,19.600000000000001,19.600000000000001]
[null,null,null,null,null,null,null,null,"Carbon half-life",{"$f":"LN(2)/J6","v":115.39764580513145},63.559061214263615,76.610797728200382,392.80301051574139,54.054387845402495,225.07731001887996,0.69314718055994529,10,12,300,365]
[]
[]
[null,"start date:","2011-06-14"]
[null,"day of season","Date","avg soil temp.","data source for soil","Avg soil temp oC",null,"Daily TAT","Cum TAT",{"$f":"J$2","v":"Corral Solids"},"Fresh Manure","Lagoon Water","Lagoon Sludge","Screen Separator","Compost","Commercial","A","B","C","D"]
[null,1,{"$f":"Nrelease.StartDate","v":"2011-06-14"},73,"Year 1",{"$f":"5/9*(D13-32)","v":22.777777777777779},null,{"$f":"D$4^((1+(D$3+273.15)/10)*(1-(D$3+273.15)/(F13+273.15)))","v":1.0571657758524404},{"$f":"H13","v":1.0571657758524404},{"$f":"1-J$4/J$5*EXP(-J$6*$I13)-(1-J$4/J$5)*EXP(J$6*$I13/(J$3-1))","v":3.5183071295289414E-3},1.4330424408801612E-3,1.0976702440798014E-2,1.3706053503977356E-3,-1.037905850417209E-2,1.6310282283069633E-3,0.80993045083632054,-5.5288496962737188E-2,-4.7451701923676204E-2,-7.8921050493230283E-5,-6.564180477908188E-5]
[null,2,{"$f":"C13+1","v":"2011-06-15"},73,"Year 1",22.777777777777779,null,1.0571657758524404,{"$f":"H14+I13","v":2.1143315517048809},7.04434842477486E-3,3.0431469353544571E-3,2.1825549931191068E-2,2.740208208060646E-3,-2.0078424817590701E-2,3.2656383381928222E-3,0.96033568261739088,-9.200352474613771E-2,-8.1633434559228668E-2,-1.4727682511628259E-4,-1.2413799084654009E-4]
[null,3,{"$f":"C14+1","v":"2011-06-16"},72,"Year 1",22.222222222222221,null,1.016040457620875,3.1303720093257557,1.0440166750283808E-2,4.7521187744570259E-3,3.2133350800271021E-2,4.0555839221019796E-3,-2.8779817803089358E-2,4.8399791054676289E-3,0.99012245449076608,-0.11259990883740989,-0.10366663892146155,-2.0308041287631085E-4,-1.7365995142992752E-4]
[null,4,"2011-06-17",72,"Year 1",22.222222222222221,null,1.016040457620875,4.1464124669466305,1.3842465449731334E-2,6.6143257380157916E-3,4.2325915694966298E-2,5.3700281782914638E-3,-3.6891610966507837E-2,6.4175195271909402E-3,0.9972292479170396,-0.12115375487119984,-0.11654351173900701,-2.4924852906993422E-4,-2.1665028156392374E-4]
[null,5,"2011-06-18",72,"Year 1",22.222222222222221,null,1.016040457620875,5.1624529245675053,1.7250926649912235E-2,8.6248877758203779E-3,5.2404621421679148E-2,6.6835383353864297E-3,-4.4431821592791465E-2,7.998206801031249E-3,0.99914156413243604,-0.11967790800202471,-0.12153180880691172,-2.8584139286080834E-4,-2.5314252075547827E-4]
[null,6,"2011-06-19",71,"Year 1",21.666666666666668,null,0.97636895758401132,6.1388218821515164,2.0531818895931475E-2,1.0692292285717775E-2,6.1983788775599596E-2,7.9448796865534965E-3,-5.1155413077720535E-2,9.5200920324081117E-3,0.99970294593541498,-0.11043193771990611,-0.11994020062159416,-3.1203946374080971E-4,-2.8211851505832719E-4]
[null,7,"2011-06-20",71,"Year 1",21.666666666666668,null,0.97636895758401132,7.1151908397355275,2.3817838961834537E-2,1.2888156287708119E-2,7.1460261036961986E-2,9.2053537234051408E-3,-5.7382592131375976E-2,1.1044788602320277E-2,0.99989315874944029,-9.4873030070506514E-2,-0.11299057207273955,-3.295036902666304E-4,-3.0515432921451868E-4]
[null,8,"2011-06-21",71,"Year 1",21.666666666666668,null,0.97636895758401132,8.0915597973195386,2.710871713089813E-2,1.5208438322806161E-2,8.083521469933419E-2,1.0464958148356629E-2,-6.3128175185592994E-2,1.2572250668767437E-2,0.99996072592719432,-7.4161806153877352E-2,-0.10147167484087238,-3.382867554873048E-4,-3.2227937993689615E-4]
[null,9,"2011-06-22",72,"Year 1",22.222222222222221,null,1.016040457620875,9.1076002549404134,3.053818140134712E-2,1.775085024327816E-2,9.0484549108404644E-2,1.177481661634E-2,-6.8611413073295324E-2,1.4164663419967471E-2,0.99998596599874301,-4.8217268909978794E-2,-8.5386194977134178E-2,-3.3826569840256226E-4,-3.3385589625911649E-4]
[null,10,"2011-06-23",73,"Year 1",22.777777777777779,null,1.0571657758524404,10.164766030792855,3.4111418664570348E-2,2.0529973588420569E-2,0.10041047688313837,1.3136687964465932E-2,-7.3796656875647848E-2,1.5824602751568162E-2,0.99999515667432259,-1.7498292151863271E-2,-6.4952154843834764E-2,-3.2838791604428152E-4,-3.3917534470706556E-4]
[null,11,"2011-06-24",74,"Year 1",23.333333333333336,null,1.0997921338428738,11.264558164635728,{"$f":"1-J$4/J$5*EXP(-J$6*$I23)-(1-J$4/J$5)*EXP(J$6*$I23/(J$3-1))","v":3.783375682221557E-2},2.3560901918094457E-2,0.11061479867814378,1.4552380981655122E-2,-7.864670628729975E-2,1.7554737612215932E-2,0.99999839284435799,1.7501141072218451E-2,-4.0424318020393146E-2,-3.0751435920728376E-4,-3.3746898293296468E-4]
[null,12,"2011-06-25",71,"Year 1",21.666666666666668,null,0.97636895758401132,12.240927122219739,4.1142362882491623E-2,2.6366923137128406E-2,0.11957111221857325,1.580826445153577E-2,-8.2502555304575287E-2,1.9093448656886003E-2,0.99999939549778372,5.0463416079607026E-2,-1.639648881546063E-2,-2.7998631027403853E-4,-3.2980005827321079E-4]
[null,13,"2011-06-26",74,"Year 1",23.333333333333336,null,1.0997921338428738,13.340719256062613,4.4873397145431926E-2,2.9652801636318671E-2,0.12954519184148,1.7221848918851368E-2,-8.6355910667816671E-2,2.0829696673041131E-2,0.99999979889810608,8.9040266008552305E-2,1.2666717940997607E-2,-2.3891086697469532E-4,-3.1426714732463168E-4]
[null,14,"2011-06-27",76,"Year 1",24.444444444444446,null,1.1897435120081656,14.530462768070779,4.891419348263315E-2,3.33511598439028E-2,0.14020029734855335,1.8749786716209305E-2,-8.9960096702187631E-2,2.2711493883988854E-2,0.9999999388290336,0.13180191889614878,4.5917387753999561E-2,-1.8254707066445164E-4,-2.8928455351406868E-4]
[null,15,"2011-06-28",77,"Year 1",25,null,1.2371697249893219,15.7676324930601,5.3120682511163531E-2,3.7348918444049972E-2,0.15113364908558671,2.0337235777509066E-2,-9.310917314759104E-2,2.4672126678279449E-2,0.99999998225108522,0.1767188092969687,8.190254962490362E-2,-1.1088430785166636E-4,-2.543446470564259E-4]
[null,16,"2011-06-29",77,"Year 1",25,null,1.2371697249893219,17.004802218049424,5.7331402376095242E-2,4.1494976572597042E-2,0.1619197671376012,2.192325696180758E-2,-9.5671653517161559E-2,2.663657005297515E-2,0.99999999484957847,0.2215097105713828,0.11879718597143996,-2.6015913273447211E-5,-2.1032531582054759E-4]
[null,17,"2011-06-30",75,"Year 1",23.888888888888889,null,1.1439680783213937,18.148770296370817,6.1228264010532496E-2,4.5454981099461444E-2,0.17176414107488461,2.3388521553485364E-2,-9.7539459700582531E-2,2.845633842716333E-2,0.99999999835937115,0.26240424072071361,0.15333137495978005,6.4121041352116492E-5,-1.6159293896622628E-4]
[null,18,"2011-07-01",76,"Year 1",24.444444444444446,null,1.1897435120081656,19.338513808378984,6.5284071293895796E-2,4.9696622275507085E-2,0.18187258461842873,2.4911115378146442E-2,-9.8990525239887273E-2,3.0352228528019665E-2,0.9999999995007649,0.3040789726308612,0.1893456664688043,1.6966317924671515E-4,-1.0277640151334921E-4]
[null,19,"2011-07-02",76,"Year 1",24.444444444444446,null,1.1897435120081656,20.528257320387148,6.9342551988490486E-2,5.4058434651344744E-2,0.19185043658171819,2.6432377116066608E-2,-9.9959811163619294E-2,3.2251412991209372E-2,0.99999999984808408,0.34462849402287554,0.22518440688964453,2.8714632165716125E-4,-3.5716263829366213E-5]
[null,20,"2011-07-03",76,"Year 1",24.444444444444446,null,1.1897435120081656,21.718000832395312,7.3403308338434226E-2,5.8535077574755845E-2,0.20169949824502828,2.7952302970497056E-2,-0.1004663132603274,3.4153816644463819E-2,0.9999999999537722,0.38385914844610036,0.26061628417299265,4.1648101305402641E-4,3.9536953750252124E-5]
[null,21,{"$f":"C32+1","v":"2011-07-04"},75,"Year 1",23.888888888888889,null,1.1439680783213937,22.861968910716705,{"$f":"1-J$4/J$5*EXP(-J$6*$I33)-(1-J$4/J$5)*EXP(J$6*$I33/(J$3-1))","v":7.7309609434688009E-2},6.2942937354379724E-2,0.21104981641208581,2.9412486330508025E-2,-0.10053405372477475,3.5985991651314553E-2,0.99999999998527411,0.42020449534723714,0.29412466279953953,5.5193307576062445E-4,1.1957428713760265E-4]
[null,22,"2011-07-05",76,"Year 1",24.444444444444446,null,1.1897435120081656,24.051712422724869,8.1373702435275197E-2,6.7629887019152402E-2,0.22065138314912991,3.0929780908194038E-2,-0.10018573797786656,3.7894494028644199E-2,0.99999999999551892,0.45647729234156553,0.32824242751126964,7.0425699475018533E-4,2.1075259924430156E-4]
[null,23,"2011-07-06",76,"Year 1",24.444444444444446,null,1.1897435120081656,25.241455934733033,8.5438935996616672E-2,7.2416722678970147E-2,0.23012933996049301,3.2445728541265206E-2,-9.9427523629946446E-2,3.9805996850994285E-2,0.99999999999863642,0.4911304051378047,0.36149340902366178,8.6817050906029536E-4,3.0997575238633779E-4]
[null,24,"2011-07-07",76,"Year 1",24.444444444444446,null,1.1897435120081656,26.431199446741196,8.950494096742867E-2,7.7298680572236322E-2,0.23948538535486363,3.3960325556101068E-2,-9.8276182203743456E-2,4.1720427550300809E-2,0.99999999999958511,0.52412925195139604,0.39378179028926913,1.0435861611233221E-3,4.1719415383356662E-4]
[null,25,"2011-07-08",76,"Year 1",24.444444444444446,null,1.1897435120081656,27.62094295874936,9.3571355158239222E-2,8.2271133724882928E-2,0.24872119289562195,3.5473568309796533E-2,-9.6747962419159839E-2,4.3637714204038613E-2,0.99999999999987377,0.55546316254930683,0.42503493314591489,1.2304169912980001E-3,5.3235844256338538E-4]
[null,26,"2011-07-09",76,"Year 1",24.444444444444446,null,1.1897435120081656,28.810686470757524,9.7637823239806909E-2,8.7329588552517934E-2,0.25783841158975906,3.698545319001717E-2,-9.4858604951163716E-2,4.5557785530515482E-2,0.99999999999996159,0.5851407313823227,0.45519999547094725,1.4285765353065916E-3,6.5541948827751995E-4]
[null,27,"2011-07-10",76,"Year 1",24.444444444444446,null,1.1897435120081656,30.000429982765688,0.10170399664288687,9.2469681541816784E-2,0.26683866627043795,3.8495976614852767E-2,-9.2623356790113798E-2,4.7480570884195994E-2,0.99999999999998834,0.6131858967715661,0.48424097509856789,1.6379788216829283E-3,7.8632839042791502E-4]
[null,28,"2011-07-11",76,"Year 1",24.444444444444446,null,1.1897435120081656,31.190173494773852,0.10576953345932721,9.7687176009370713E-2,0.275723557973301,4.0005135032673611E-2,-9.0056985214965524E-2,4.9406000251057125E-2,0.99999999999999645,0.63963464208358689,0.5121361300017554,1.8585383692406587E-3,9.2503647724617721E-4]
[null,29,"2011-07-12",76,"Year 1",24.444444444444446,null,1.1897435120081656,32.379917006782016,0.10983409834448143,0.10297795893623818,0.28449466430663128,4.1512924921985273E-2,-8.717379138953274E-2,5.1334004243978271E-2,0.99999999999999889,0.6645322291262109,0.53887573002299383,2.0901701845450482E-3,1.0714953047741282E-3]
[null,30,"2011-07-13",76,"Year 1",24.444444444444446,null,1.1897435120081656,33.56966051879018,0.11389736242091292,0.10833803787649254,0.2931535398154716,4.301934279128633E-2,-8.398762359173273E-2,5.3264514098156135E-2,0.99999999999999967,0.68793088637515187,0.56446010057036333,2.3327897594034308E-3,1.2256566559023518E-3]
[null,31,"2011-07-14",75,"Year 1",23.888888888888889,null,1.1439680783213937,34.713628597111573,{"$f":"1-J$4/J$5*EXP(-J$6*$I43)-(1-J$4/J$5)*EXP(J$6*$I43/(J$3-1))","v":0.11780276524842931},0.11355362730058749,0.30137485418685184,4.4466504091576264E-2,-8.0650816971266526E-2,5.5123047151701909E-2,0.99999999999999989,0.7090690295688159,0.58797871594163553,2.5763580696200883E-3,1.3811056559949186E-3]
[null,32,"2011-07-15",77,"Year 1",25,null,1.2371697249893219,35.950798322100894,0.12202433578343058,0.11925835345016467,0.31015233736966158,4.6030134039343973E-2,-7.6754178993259536E-2,5.7135466300836879E-2,1,0.73049156682379113,0.6122363244158251,2.8510308235112358E-3,1.5571355268648723E-3]
[null,33,"2011-07-16",78,"Year 1",{"$f":"5/9*(D45-32)","v":25.555555555555557},null,1.2862994266469954,37.237097748747892,0.12641096607828983,0.12525607651962278,0.31915492310410021,4.7654272879844028E-2,-7.2400291336624623E-2,5.9230441076967844E-2,1,0.7512546621616637,0.63618521485283153,3.1489207160058097E-3,1.7488221987016495E-3]
[null,34,{"$f":"C45+1","v":"2011-07-17"},78,"Year 1",25.555555555555557,null,1.2862994266469954,38.523397175394891,0.13079458264095478,0.13131713846276449,0.32803346927594684,4.9276791664721098E-2,-6.7753153826032309E-2,6.1328024248904711E-2,1,0.77055797384912572,0.65886959838872716,3.4592567543787478E-3,1.9492849874023221E-3]
[null,35,"2011-07-18",78,"Year 1",25.555555555555557,null,1.2862994266469954,39.809696602041889,0.13517480986762609,0.137437216383962,0.33678979809461274,5.0897686172900136E-2,-6.2827581407111976E-2,6.3428132853794117E-2,1,0.78848248441900082,0.68032688501829852,3.7819352325467737E-3,2.1584644076544368E-3]
[null,36,"2011-07-19",78,"Year 1",25.555555555555557,null,1.2862994266469954,41.095996028688887,0.13955128021773078,0.14361212819567837,0.34542570314975901,5.2516952223094882E-2,-5.7637871330619816E-2,6.5530684741414547E-2,1,0.80510835729522456,0.70059807503211735,4.1168530866437791E-3,2.37630127609334E-3]
[null,37,"2011-07-20",78,"Year 1",25.555555555555557,null,1.2862994266469954,42.382295455335885,0.1439236340847781,0.14983782876931462,0.35394294988918068,5.4134585673600188E-2,-5.2197819189083061E-2,6.7635598567730049E-2,1,0.82051415515311454,0.71972676229995891,4.4639078914350261E-3,2.6027367099219489E-3]
[null,38,"2011-07-21",78,"Year 1",25.555555555555557,null,1.2862994266469954,43.668594881982884,0.14829151966907894,0.15611040618388938,0.36234327608830397,5.5750582422089134E-2,-4.6520734483105119E-2,6.9742793788490909E-2,1,0.83477624403764028,0.73775829618697242,4.8229978567602139E-3,2.8377121255334092E-3]
[null,39,"2011-07-22",78,"Year 1",25.555555555555557,null,1.2862994266469954,44.954894308629882,0.15265459285230532,0.16242607807015708,0.3706283923114494,5.7364938405407573E-2,-4.0619455730736664E-2,7.1852190652883396E-2,1,0.84796835074056987,0.75473908044836446,5.1940218239849845E-3,3.0811692371415234E-3]
[null,40,"2011-07-23",78,"Year 1",25.555555555555557,null,1.2862994266469954,46.24119373527688,0.15701251707386099,0.16878118804782105,0.378799982365011,5.8977649599371407E-2,-3.4506365132952022E-2,7.3963710197223032E-2,1,0.86016124603859934,0.77071599021355908,5.5768792624810715E-3,3.3330500554145104E-3]
[null,41,"2011-07-24",78,"Year 1",25.555555555555557,null,1.2862994266469954,47.527493161923879,{"$f":"1-J$4/J$5*EXP(-J$6*$I53)-(1-J$4/J$5)*EXP(J$6*$I53/(J$3-1))","v":0.16136496320904137},0.17517220225355723,0.3868597037426984,6.0588712018564084E-2,-2.819340280790017E-2,7.6077274238695369E-2,1,0.87142253073496567,0.78573589059469118,5.9714702661173291E-3,3.5932968861183134E-3]
[null,42,"2011-07-25",78,"Year 1",25.555555555555557,null,1.2862994266469954,48.813792588570877,0.16571160944895647,0.18159570595762087,0.39480918806298604,6.2198121716135979E-2,-2.1692080606237285E-2,7.8192805369142526E-2,1,0.88181650513701526,0.79984524257822265,6.3776955497742982E-3,3.8618523287621276E-3]
[null,43,"2011-07-26",77,"Year 1",25,null,1.2371697249893219,50.050962313560198,0.16988647230286125,0.18780144458779535,0.40235253943091581,6.3744497761727914E-2,-1.5271707707339655E-2,8.0229319053055081E-2,1,0.89105202058796684,0.81259925735009242,6.7792895272558162E-3,4.1279358632384522E-3]
[null,44,"2011-07-27",76,"Year 1",24.444444444444446,null,1.1897435120081656,51.240705825568362,0.17389570386818515,0.19379211709636157,0.40951324476739487,6.5230145631419212E-2,-8.9516567200200736E-3,8.218935075485323E-2,1,0.89927767940591963,0.82414687361924599,7.1754728386110855E-3,4.3909720533565899E-3]
[null,45,"2011-07-28",75,"Year 1",23.888888888888889,null,1.1439680783213937,52.384673903889755,0.17774528646905086,0.19957109992737493,0.41631317769857279,6.6657290793948054E-2,-2.747684468995204E-3,8.4075381019821371E-2,1,0.90662119756832726,0.8346194371909228,7.5655715884095365E-3,4.6504591850626831E-3]
[null,46,"2011-07-29",75,"Year 1",23.888888888888889,null,1.1439680783213937,53.528641982211148,0.18158937104203476,0.20536638515137762,0.42303061440853063,6.8083117236379054E-2,3.5737562541438006E-3,8.5962741373207474E-2,1,0.91344687659402013,0.84450390530458119,7.9645802006980126E-3,4.9163485690082442E-3]
[null,47,"2011-07-30",76,"Year 1",24.444444444444446,null,1.1897435120081656,54.718385494219312,0.18558122435571345,0.21140867170265565,0.42993047838891152,6.9564595787817596E-2,1.0265454777167116E-2,8.7926978873257844E-2,1,0.92003310418948614,0.85419118462412424,8.3889338790477108E-3,5.1996266984875028E-3]
[null,48,"2011-07-31",76,"Year 1",24.444444444444446,null,1.1897435120081656,55.908129006227476,0.18956668733515164,0.21746417072204077,0.43674344663800324,7.1044642150972781E-2,1.706946843957291E-2,8.9892540972895341E-2,1,0.92613246571025787,0.86330523834886885,8.8227755449059586E-3,5.4897429366222994E-3]
[null,49,"2011-08-01",76,"Year 1",24.444444444444446,null,1.1897435120081656,57.09787251823564,0.19354554101659144,0.22353073635880411,0.44347068420987179,7.252325339883775E-2,2.3978660183113676E-2,9.1859370317733946E-2,1,0.93177901492890725,0.87187644668273645,9.2660297881344E-3,5.7866533601473868E-3]
[null,50,"2011-08-02",76,"Year 1",24.444444444444446,null,1.1897435120081656,58.287616030243804,0.19751757116968005,0.22960629326257082,0.45011333945474435,7.4000426631545102E-2,3.0986139359510112E-2,9.3827410087218066E-2,1,0.93700469341733517,0.87993401520785075,9.7186216343576604E-3,6.0903142534811661E-3]
[null,51,"2011-08-03",76,"Year 1",24.444444444444446,null,1.1897435120081656,59.477359542251968,{"$f":"1-J$4/J$5*EXP(-J$6*$I63)-(1-J$4/J$5)*EXP(J$6*$I63/(J$3-1))","v":0.20148256822566468},0.23568883474557994,0.45667254427409287,7.5476158976235275E-2,3.808525447886657E-2,9.5796603990672802E-2,1,0.94183942185915637,0.8875059604731409,1.0180476542701822E-2,6.4006821078459453E-3]
[null,52,"2011-08-04",76,"Year 1",24.444444444444446,null,1.1897435120081656,60.667103054260132,0.20544032720655908,0.24177642098877661,0.46314941437161117,7.6950447586926318E-2,4.5269586157472563E-2,9.7766896263375203E-2,1,0.94631119400420982,0.89461910667227673,1.065152040355466E-2,6.7177136203857568E-3]
[null,53,"2011-08-05",76,"Year 1",24.444444444444446,null,1.1897435120081656,61.856846566268295,0.20939064765526477,0.24786717729073604,0.46954504950015452,7.8423289644383054E-2,5.2532940259701122E-2,9.9738231662658383E-2,1,0.95044617177224722,0.90129909156366794,1.1131679536325878E-2,7.041365693294166E-3]
[null,54,"2011-08-06",74,"Year 1",23.333333333333336,null,1.0997921338428738,62.956638700111171,0.21303551518952507,0.25349868590252722,0.47538582397630452,7.9783487405152287E-2,5.9312245422850407E-2,0.10156140324256224,1,0.95399016474658394,0.90710998730985981,1.1583579961224721E-2,7.3463992892326413E-3]
[null,55,"2011-08-07",74,"Year 1",23.333333333333336,null,1.0997921338428738,64.056430833954039,0.21667370743880582,0.25912997117917924,0.48115895378292417,8.1142444506848266E-2,6.6149408583094593E-2,0.10338537657569935,1,0.95728529588028077,0.91259010966409915,1.204314928964223E-2,7.6570198040339932E-3]
[null,56,"2011-08-08",75,"Year 1",23.888888888888889,null,1.1439680783213937,65.200398912275432,0.22045079459054295,0.26498577420045893,0.48709309708476789,8.2554668831606726E-2,7.3317856169833995E-2,0.10528341948248976,1,0.96046689308754829,0.91795832527175714,1.2529254003014856E-2,7.9860091208940887E-3]
[null,57,"2011-08-09",74,"Year 1",23.333333333333336,null,1.0997921338428738,66.3001910461183,0.22407491146542535,0.27061249497704526,0.49273079314855228,8.3911088082747831E-2,8.0259546238265589E-2,0.10710889723797989,1,0.96330557394681493,0.92281739892539172,1.3004292020844854E-2,8.3079239077819E-3]
[null,58,"2011-08-10",72,"Year 1",22.222222222222221,null,1.016040457620875,67.316231503739175,0.22741672238006094,0.27580705480004275,0.49788125528270216,8.5163104627341002E-2,8.6712608359184595E-2,0.10879596043013706,1,0.96574937183665965,0.92705755525530664,1.3449817438013323E-2,8.6101995163974099E-3]
[null,59,"2011-08-11",74,"Year 1",23.333333333333336,null,1.0997921338428738,68.416023637582043,0.23102702430575073,0.28142468505519219,0.50339433404808265,8.6517122607903452E-2,9.3737155791341342E-2,0.11062269773407873,1,0.9682141523468264,0.93139213548595934,1.3939226307259966E-2,8.9426377152082015E-3]
[null,60,"2011-08-12",72,"Year 1",22.222222222222221,null,1.016040457620875,69.432064095202918,0.23435583686893219,0.28660880321789867,0.50843102948094665,8.7766917153437984E-2,0.10026006950863908,0.11231085414245412,1,0.97033546552869343,0.93517324318991313,1.4397932169463612E-2,9.2545788157185616E-3]
[null,61,"2011-08-13",74,"Year 1",23.333333333333336,null,1.0997921338428738,70.531856229045786,{"$f":"1-J$4/J$5*EXP(-J$6*$I73)-(1-J$4/J$5)*EXP(J$6*$I73/(J$3-1))","v":0.23795181948590116},0.29221299026760478,0.51382241782701732,8.9118526124088771E-2,0.10735321809965015,0.11413869920914765,1,0.97247442473365842,0.93903723109413295,1.4901504536229737E-2,9.5974182911851003E-3]
[null,62,"2011-08-14",74,"Year 1",23.333333333333336,null,1.0997921338428738,71.631648362888654,0.24154016675032869,0.29780856170275066,0.51915168414275714,9.0468879898972454E-2,0.11447670150790046,0.11596706097828308,1,0.97446102525212719,0.94267622663622797,1.5412357779567731E-2,9.9456163638307338E-3]
[null,63,"2011-08-15",74,"Year 1",23.333333333333336,null,1.0997921338428738,72.731440496731523,0.24512075087809787,0.30339445268736015,0.52441958924171961,9.1817976441881277E-2,0.12162704166136862,0.11779589948726837,1,0.97630588948337127,0.94610277154236966,1.5930436753014865E-2,1.0299140457228351E-2]
[null,64,"2011-08-16",74,"Year 1",23.333333333333336,null,1.0997921338428738,73.831232630574391,0.24869344690285411,0.30896963450352971,0.52962688397480162,9.3165813735189063E-2,0.12880088109021104,0.11962517512670545,1,0.97801892789836709,0.94932876858132564,1.6455686607162789E-2,1.0657958138288626E-2]
[null,65,"2011-08-17",74,"Year 1",{"$f":"5/9*(D77-32)","v":23.333333333333336},null,{"$f":"D$4^((1+(D$3+273.15)/10)*(1-(D$3+273.15)/(F77+273.15)))","v":1.0997921338428738},74.931024764417259,0.25225813263551278,0.31453311365092151,0.53477430936939419,9.451238977976667E-2,0.1359949795449269,0.12145484863794992,1,0.97960938310751255,0.95236550735680614,1.6988052788228014E-2,1.1022037116699357E-2]
[null,66,"2011-08-18",74,"Year 1",23.333333333333336,null,1.0997921338428738,{"$f":"H78+I77","v":76.030816898260127},0.25581468862428014,0.32008393096642224,0.53986259676648007,9.5857702594897731E-2,0.14320621070174133,0.12328488111068964,1,0.98108587168325312,0.95522368988993256,1.7527481036633485E-2,1.1391345244358808E-2]
[null,67,{"$f":"C78+1","v":"2011-08-19"},74,"Year 1",23.333333333333336,null,1.0997921338428738,77.130609032102996,0.25936299811517655,0.32562116076353298,0.54489246795571133,9.7201750218197103E-2,0.1504315589530561,0.1251152339805347,1,0.98245642378282683,0.95791345586453214,1.8073917385594163E-2,1.1765850514818821E-2]
[null,68,"2011-08-20",74,"Year 1",23.333333333333336,null,1.0997921338428738,78.230401165945864,0.26290294701305827,0.33114390999107435,0.54986463530849328,9.8544530705526101E-2,0.15766811628085059,0.12694586902662602,1,0.9837285206274734,0.96044440743006476,1.8627308159708589E-2,1.2145521062724152E-2]
[null,69,"2011-08-21",73,"Year 1",22.777777777777779,null,1.0571657758524404,79.287566941798303,0.26629770804436248,0.33643815423391848,0.55459035047590621,9.9834070745155934E-2,0.16463215152871402,0.12870578203220917,1,0.98486499497040014,0.96273602347058185,1.916575596420822E-2,1.2515315467345856E-2]
[null,70,"2011-08-22",72,"Year 1",22.222222222222221,null,1.016040457620875,80.303607399419178,0.26955294059095752,0.34151239856964383,0.55908316745753273,0.10107233912782748,0.17133035967373844,0.13039741350967715,1,0.98588296749008453,0.96481523436415606,1.9689222676833928E-2,1.2875168353893685E-2]
[null,71,"2011-08-23",72,"Year 1",22.222222222222221,null,1.016040457620875,81.319647857040053,{"$f":"1-J$4/J$5*EXP(-J$6*$I83)-(1-J$4/J$5)*EXP(J$6*$I83/(J$3-1))","v":0.27280076886159188},0.34657223422073608,0.56352844473122898,0.1023095213159641,0.17803146417849441,0.13208919332897145,1,0.98683297786918256,0.9667801627187097,2.021849416304855E-2,1.3239351980538272E-2]
[null,72,"2011-08-24",74,"Year 1",23.333333333333336,null,1.0997921338428738,82.419439990882921,0.27630787384888938,0.35203220312123762,0.56828718294982272,0.10364745787812474,0.18528590052398586,0.13392055914256396,1,0.98778988172983317,0.96878533113189691,2.0797887444296226E-2,1.3638407391729945E-2]
[null,73,"2011-08-25",74,"Year 1",{"$f":"5/9*(D85-32)","v":23.333333333333336},null,1.0997921338428738,83.519232124725789,0.27980610549839341,0.35747382713705905,0.57299151563172446,0.10498411820733072,0.1925389700147373,0.13575202805400377,1,0.98867770278863543,0.97067110394575951,2.138398105473982E-2,1.4042476795031122E-2]
[null,74,"2011-08-26",76,"Year 1",24.444444444444446,null,1.1897435120081656,84.708975636733953,0.28358034898897838,0.36333903041439414,0.57802011428471756,0.10642866402787521,0.20038101924986135,0.13773336591669794,1,0.98956604488707223,0.97258468787726926,2.2025495540241247E-2,1.4485204786050643E-2]
[null,75,"2011-08-27",75,"Year 1",23.888888888888889,null,1.1439680783213937,85.852943715055346,0.28719936184426015,0.36895671683900411,0.58279669181396698,0.1078162182631151,0.20791460332584494,0.13963850312213139,1,0.99035479880887067,0.97430824533230997,2.2649603832185949E-2,1.4916361509962783E-2]
[null,76,"2011-08-28",74,"Year 1",23.333333333333336,null,1.0997921338428738,86.952735848898214,0.29066926267848681,0.37433656535962939,0.58733538181208111,0.10914888249076998,0.21514874284997659,0.14147006200524209,1,0.9910571346678515,0.97586419056366591,2.3256282214644486E-2,1.5335885177708564E-2]
[null,77,"2011-08-29",73,"Year 1",22.777777777777779,null,1.0571657758524404,88.009901624750654,0.2939959403797372,0.37948798295754321,0.59164938140145384,0.11042868455986637,0.2220926635913571,0.14323059095995405,1,0.99168425043100361,0.97727192519854933,2.384556267988347E-2,1.5743755502763079E-2]
[null,78,"2011-08-30",73,"Year 1",22.777777777777779,null,1.0571657758524404,89.067067400603094,0.29731397512036556,0.3846193280202107,0.595916130985227,0.11170729893644399,0.22902514897301196,0.14499104793129924,1,0.99226761033858546,0.97859842665541052,2.444079255651177E-2,1.6156114125744026E-2]
[null,79,"2011-08-31",73,"Year 1",22.777777777777779,null,1.0571657758524404,90.124233176455533,0.30062328912359609,0.38973007870919085,0.60013617948551179,0.11298472406530402,0.23594449466606349,0.14675140215648053,1,0.99281024150807329,0.97984829549227448,2.5041926906248735E-2,1.6572934075747447E-2]
[null,80,"2011-09-01",74,"Year 1",23.333333333333336,null,1.0997921338428738,91.224025310298401,0.30405670229873116,0.39502450607838629,0.60447740543725692,0.1143123929087605,0.24312713020299292,0.14858259441386745,1,0.99333455886184074,0.98107190566195834,2.5673518117205862E-2,1.7011266671360881E-2]
[null,81,"2011-09-02",74,"Year 1",23.333333333333336,null,1.0997921338428738,92.32381744414127,{"$f":"1-J$4/J$5*EXP(-J$6*$I93)-(1-J$4/J$5)*EXP(J$6*$I93/(J$3-1))","v":0.30748051193027659},0.40029556081161188,0.60876927757338006,0.11563877128226863,0.25029199822807952,0.15041360844896734,1,0.99382080306176379,0.9822219056970628,2.6311401111035249E-2,1.7454368450474878E-2]
[null,82,"2011-09-03",75,"Year 1",23.888888888888889,null,1.1439680783213937,93.467785522462663,0.31103157047702379,0.40575298355550848,0.61318181595633825,0.11701705592041689,0.25772398043549499,0.15231794446331581,1,0.99428912996448005,0.98334467633118405,2.6981528707014979E-2,1.7920296691813054E-2]
[null,83,"2011-09-04",74,"Year 1",23.333333333333336,null,1.0997921338428738,94.567577656305531,0.3144355380659557,0.41097476923653076,0.61737483464035814,0.11834079626409105,0.26484739864777512,0.15414849067966158,1,0.99470600090613037,0.98435774317184821,2.7632093871649221E-2,1.8373035596788823E-2]
[null,84,"2011-09-05",74,"Year 1",23.333333333333336,null,1.0997921338428738,95.667369790148399,0.31782966215177155,0.4161716733146501,0.62152028437919782,0.11966324102117376,0.27194809122236557,0.15597875714201442,1,0.99509255193729051,0.98530968453895473,2.8288800287083804E-2,1.8830452976821732E-2]
[null,85,"2011-09-06",74,"Year 1",23.333333333333336,null,1.0997921338428738,96.767161923991267,0.32121386803258878,0.42134324266242928,0.6256187370814239,0.1209843885428884,0.2790245625792197,0.15780871107351302,1,0.9954509749196867,0.98620413761087067,2.8951598983313342E-2,1.9292519262610774E-2]
[null,86,"2011-09-07",74,"Year 1",23.333333333333336,null,1.0997921338428738,97.866954057834135,0.32458808304695724,0.42648904459624887,0.62967075731045663,0.12230423719727657,0.28607538079261585,0.15963832000055583,1,0.99578330489342337,0.98704452843138657,2.9620441257641739E-2,1.9759205016325332E-2]
[null,87,"2011-09-08",73,"Year 1",22.777777777777779,null,1.0571657758524404,98.924119833686575,0.32782203507256791,0.43141072971171424,0.63352247782376825,0.12357170458751238,0.29282746306426405,0.16139666077970688,1,0.99607991767423931,0.98780439098699502,3.0269011856774775E-2,2.0212129805314616E-2]
[null,88,"2011-09-09",72,"Year 1",22.222222222222221,null,1.016040457620875,99.94016029130745,0.33092136352673523,0.43611783151351879,0.63718486883064662,0.12478873187518447,0.29929226408285614,0.16308624471711475,1,0.99634536852215461,0.98849294312683567,3.0897532666318117E-2,2.0651408003037997E-2]
[null,89,"2011-09-10",72,"Year 1",22.222222222222221,null,1.016040457620875,100.95620074892832,0.33401199541100557,0.4408019689177759,0.6408089858750996,0.12600464664771466,0.30573193359400719,0.16477545566284579,1,0.99659289444046473,0.98914287055661521,3.1531092977155506E-2,2.1094557027278249E-2]
[null,90,"2011-09-11",72,"Year 1",22.222222222222221,null,1.016040457620875,101.9722412065492,0.33709387939929014,0.44546285885126474,0.64439525256366303,0.12721944766875531,0.31214552203729701,0.16646426891590566,1,0.99682370017382371,0.98975631609748094,3.2169655188664104E-2,2.1541554061330181E-2]
[null,91,"2011-09-12",72,"Year 1",22.222222222222221,null,1.016040457620875,102.98828166417007,{"$f":"1-J$4/J$5*EXP(-J$6*$I103)-(1-J$4/J$5)*EXP(J$6*$I103/(J$3-1))","v":0.34016696554716508},0.45010023130411558,0.64794408749569921,0.12843313371394155,0.31853211990236607,0.16815265998886025,1,0.9970389101348649,0.99033530597935093,3.2813181890459786E-2,2.1992376382450551E-2]
[null,92,"2011-09-13",72,"Year 1",22.222222222222221,null,1.016040457620875,104.00432212179095,0.34323120527249334,0.45471382900141744,0.65145590432664513,0.12964570357083977,0.32489085660608558,0.16984060460644973,1,0.997239573688119,0.99088175596271821,3.3461635861544714E-2,2.2447001361512786E-2]
[null,93,"2011-09-14",71,"Year 1",21.666666666666668,null,0.97636895758401132,104.98069107937496,0.34616742216197804,0.45912465960893223,0.65479610350252282,0.13080987561558011,0.33097428981181454,0.17146220006558488,1,0.99741960799710727,0.99137789590796666,3.4089378825952421E-2,2.2887437304242697E-2]
[null,94,"2011-09-15",70,"Year 1",21.111111111111111,null,0.938105349059845,105.9187964284348,0.34898079543251093,0.46334154501260055,0.65797388968653081,0.13192745115235516,0.33679369767862699,0.17301981670969641,1,0.99758154098381158,0.99182927770950791,3.4696744148480896E-2,2.331388235146381E-2]
[null,95,"2011-09-16",70,"Year 1",21.111111111111111,null,0.938105349059845,106.85690177749464,0.35178651424884111,0.46753758869525891,0.66112111289397613,0.13304407224285009,0.34258739118523956,0.17457699407570448,1,0.99773333317936108,0.99225714810725196,3.5308219219502224E-2,2.3743513870390309E-2]
[null,96,"2011-09-17",72,"Year 1",22.222222222222221,null,1.016040457620875,107.87294223511552,0.35481664973571114,0.47205852429258655,0.66449568186895847,0.13425238127533645,0.34883273440222656,0.17626302033341074,1,0.99788702902706861,0.99269544838863155,3.5975096657682393E-2,2.4212412177907483E-2]
[null,97,"2011-09-18",72,"Year 1",22.222222222222221,null,1.016040457620875,108.88898269273639,0.35783772365706501,0.47655461607976579,0.66783515434458529,0.13545956845566581,0.35504654062843888,0.17794848634987626,1,0.99803032302326633,0.99310905270743821,3.6646725040651029E-2,2.4685005648903857E-2]
[null,98,"2011-09-19",72,"Year 1",22.222222222222221,null,1.016040457620875,109.90502315035727,0.36084969497096936,0.48102567460278678,0.67113991647163551,0.13666563263969866,0.36122814454236174,0.17963336905506161,1,0.99816391691819129,0.99349934162774023,3.7323068230661338E-2,2.5161272191206674E-2]
[null,99,"2011-09-20",72,"Year 1",22.222222222222221,null,1.016040457620875,110.92106360797814,0.3638525238718614,0.485471521087043,0.67441034986561477,0.13787057269488417,0.36737691280968826,0.18131764558187724,1,0.99828846537036942,0.99386761958021785,3.8004090273661584E-2,2.5641189803951914E-2]
[null,100,"2011-09-21",71,"Year 1",21.666666666666668,null,0.97636895758401132,111.89743256556216,0.36672945690111725,0.48971986730796546,0.67752109495246371,0.13902740543744485,0.37325410329729314,0.18293556698249291,1,0.99840019652327516,0.99420192610453118,3.8662896799683377E-2,2.6105788581713085E-2]
[null,101,"2011-09-22",70,"Year 1",21.111111111111111,null,0.938105349059845,112.83553791462199,{"$f":"1-J$4/J$5*EXP(-J$6*$I113)-(1-J$4/J$5)*EXP(J$6*$I113/(J$3-1))","v":0.36948562672425567},0.49377951387512459,0.68048070535489535,0.14013792252447349,0.37887140930619673,0.18448951698057808,1,0.99850068302990114,0.99450601921577531,3.9299894357968101E-2,2.6555318728896937E-2]
[null,102,"2011-09-23",70,"Year 1",21.111111111111111,null,0.938105349059845,113.77364326368183,0.37223391075995749,0.49781727703236978,0.6834119685245077,0.14124747859088954,0.38445931191945204,0.18604289495962995,1,0.99859486728132763,0.9947942239983073,3.9940792984432427E-2,2.7007907657157881E-2]
[null,103,"2011-09-24",70,"Year 1",21.111111111111111,null,0.938105349059845,114.71174861274167,0.37497428129269672,0.50183304640911253,0.68631517150836918,0.14235607277999796,0.39001740287668696,0.18759568352599715,1,0.99868314355001508,0.99506736526398565,4.0585564930223583E-2,2.7463538323892811E-2]
[null,104,"2011-09-25",70,"Year 1",21.111111111111111,null,0.938105349059845,115.64985396180151,0.3777067114451742,0.50582671846684146,0.68919059825167117,0.1434637042433532,0.3955452940877624,0.18914786542893985,1,0.9987658815457986,0.99532622547650307,4.1234182577131184E-2,2.7922193751691582E-2]
[null,105,"2011-09-26",70,"Year 1",21.111111111111111,null,0.938105349059845,116.58795931086135,0.38043117516714087,0.50979819633175016,0.69203852963356893,0.14457037214072654,0.40104261708397809,0.19069942355976571,1,0.99884342793529224,0.99557154688385063,4.1886618437045442E-2,2.8383857028117632E-2]
[null,106,"2011-09-27",70,"Year 1",21.111111111111111,null,0.938105349059845,117.52606465992119,0.38314764722434547,0.51374738963074418,0.69485924350257955,0.14567607564007368,0.40650902248202836,0.19225034095097049,1,0.99891610776844242,0.99580403354715719,4.254284515142015E-2,2.8848511305488156E-2]
[null,107,"2011-09-28",72,"Year 1",22.222222222222221,null,1.016040457620875,118.54210511754206,0.3860807525765434,0.51799943486546396,0.69788390960935487,0.14687254896266055,0.41239430100504249,0.19392936182055254,1,0.99898968869564475,0.99604212944347226,4.3257834075937973E-2,2.9355122323945881E-2]
[null,108,"2011-09-29",72,"Year 1",22.222222222222221,null,1.016040457620875,119.55814557516294,0.38900442462727414,0.52222514199154413,0.70087731570141776,0.1480678889899148,0.41824252723074568,0.19560759013520412,1,0.99905828018580145,0.99626675525393793,4.3977203520401131E-2,2.9865201029715571E-2]
[null,109,"2011-09-30",72,"Year 1",22.222222222222221,null,1.016040457620875,120.57418603278381,0.39191863446648023,0.5264244206951082,0.70383980304166682,0.14926209469693963,0.42405332880080732,0.19728500489104361,1,0.99912221993011963,0.99647866920426109,4.4700919235446834E-2,3.0378726272904277E-2]
[null,110,"2011-10-01",72,"Year 1",22.222222222222221,null,1.016040457620875,121.59022649040469,0.39482335424540377,0.53059718871578854,0.7067717089192409,0.15045516506991602,0.42982635672747022,0.19896158527361546,1,0.99918182283608958,0.99667858720457314,4.5428947146942233E-2,3.0895676991471666E-2]
[null,111,"2011-10-02",73,"Year 1",22.777777777777779,null,1.0571657758524404,122.64739226625713,{"$f":"1-J$4/J$5*EXP(-J$6*$I123)-(1-J$4/J$5)*EXP(J$6*$I123/(J$3-1))","v":0.39783554280752731},0.53491063200026967,0.7097901821763366,0.15169531996166274,0.43579260528504504,0.20070511912664513,1,0.99923955024434286,0.99687458977657706,4.6190983833161559E-2,3.143716553164988E-2]
[null,112,"2011-10-03",73,"Year 1",22.777777777777779,null,1.0571657758524404,123.70455804210957,0.40083739950477409,0.53919521947244786,0.71277628015580219,0.1529342435491593,0.44171726501120157,0.20244770434792192,1,0.99929320841020086,0.99705905510050086,4.6957614178460783E-2,3.1982316226893071E-2]
[null,113,"2011-10-04",72,"Year 1",22.222222222222221,null,1.016040457620875,124.72059849973044,0.40371271683773791,0.54328587443478837,0.71561604490242336,0.15412380975596002,0.44737195772094479,0.20412158521085294,1,0.99934121091353489,0.99722610108256637,4.7698715403033498E-2,3.2509689192478097E-2]
[null,114,"2011-10-05",70,"Year 1",21.111111111111111,null,0.938105349059845,125.65870384879028,0.40635896674842076,0.54703899148070723,0.71821201268360313,0.15522111901218993,0.45255831337830876,0.2056662574209544,1,0.99938263410151162,0.99737191668665526,4.8386678280187834E-2,3.2999576539396225E-2]
[null,115,"2011-10-06",68,"Year 1",20,null,0.86562439628783228,126.52432824507811,0.40879348917894276,0.550481858180071,0.72058550844003766,0.1562327844650207,0.45731432023218643,0.20709087615919247,1,0.99941854436683908,0.99749967254034599,4.9024621585350037E-2,3.3454125728841211E-2]
[null,116,"2011-10-07",69,"Year 1",20.555555555555557,null,0.90120497050261594,127.42553321558073,0.41132065118468797,0.55404553934597467,0.72303444647267745,0.15728515336929666,0.46223544241657044,0.20857331757350861,1,0.9994537148664393,0.99762609987773132,4.9691960926868228E-2,3.3929906441670488E-2]
[null,117,"2011-10-08",68,"Year 1",20,null,0.86562439628783228,128.29115761186856,0.41374088897771638,0.55744861762967168,0.72536565249625862,0.15829512773504556,0.46693296418281094,0.20999651228081428,1,0.99948549364317663,0.99774152523020365,5.0335980656998069E-2,3.4389336877422183E-2]
[null,118,"2011-10-09",68,"Year 1",20,null,0.86562439628783228,129.1567820081564,0.41615410901685168,0.56083217473133384,0.72767643046462904,0.15930427270703279,0.4716016467182732,0.2114189910174839,1,0.99951542509391056,0.99785134969851053,5.0982946568838949E-2,3.4851139582420476E-2]
[null,119,"2011-10-10",68,"Year 1",20,null,0.86562439628783228,130.02240640444424,0.41856029929533384,0.56419619700779122,0.72996696921170534,0.16031258771551166,0.47624138073935285,0.21284074187968088,1,0.99954361647729706,0.99795584413248939,5.1632838495451638E-2,3.5315301987225434E-2]
[null,120,"2011-10-11",68,"Year 1",20,null,0.86562439628783228,130.88803080073208,0.42095944829201959,0.56754067406231423,0.73223745571085952,0.16132007219633682,0.48085206611433357,0.21426175305732359,1,0.99957016883673866,0.99805526635956876,5.2285636358368581E-2,3.578181156709781E-2]
[null,121,"2011-10-12",68,"Year 1",20,null,0.86562439628783228,131.75365519701992,{"$f":"1-J$4/J$5*EXP(-J$6*$I133)-(1-J$4/J$5)*EXP(J$6*$I133/(J$3-1))","v":0.42335154496516153},0.57086559866476883,0.73448807509452596,0.16232672559094374,0.48543361161473109,0.21568201283355481,1,0.99959517735934189,0.99814986180471788,5.2941320167253281E-2,3.6250655841859158E-2]
[null,122,"2011-10-13",68,"Year 1",20,null,0.86562439628783228,132.61927959330777,0.42573657874625215,0.5741709666732997,0.73671901067358947,0.16333254734632785,0.4899859346721247,0.21710150958421803,1,0.99961873171425819,0.99823986408138987,5.3599870019562901E-2,3.6721822375753721E-2]
[null,123,"2011-10-14",69,"Year 1",20.555555555555557,null,0.90120497050261594,133.52048456381038,0.42821213161320626,0.5775914182546722,0.73902092791705143,0.16437882813308968,0.49469424751429403,0.21857853011095185,1,0.99964180011622983,0.99832892494234116,5.4288512698269731E-2,3.7214809767167401E-2]
[null,124,"2011-10-15",70,"Year 1",21.111111111111111,null,0.938105349059845,134.45858991287022,0.43078089210218012,0.58112940628684151,0.74139486233989194,0.16546699069572418,0.49956153385277419,0.22011512242540265,1,0.99966433249891129,0.99841685670936442,5.5008605380728381E-2,3.773062735161592E-2]
[null,125,"2011-10-16",69,"Year 1",20.555555555555557,null,0.90120497050261594,135.35979488337284,0.43324076512221876,0.58450660293716961,0.74365426405564272,0.16651142864898749,0.50420481728392885,0.22159038955618493,1,0.99968464330574158,0.99849697598701548,5.5703475450302409E-2,3.8228681397571851E-2]
[null,126,"2011-10-17",68,"Year 1",20,null,0.86562439628783228,136.22541927966068,0.43559627181963562,0.587730520066162,0.74580513106212398,0.16751378001643302,0.50863469514384507,0.22300658453552241,1,0.99970299471780899,0.99857011763324832,5.6373752835870983E-2,3.8709389486691115E-2]
[null,127,"2011-10-18",67,"Year 1",19.444444444444446,null,0.83132140802218946,137.05674068768286,0.43785174140885175,0.59080829355563536,0.74785309688065582,0.16847562471728827,0.51286123776810622,0.22436588521255857,1,0.99971961333360804,0.99863701307891661,5.7020071141217654E-2,3.9173174442955316E-2]
[null,128,"2011-10-19",66,"Year 1",18.888888888888889,null,0.79825496637238269,137.85499565405524,0.44001131981851238,0.59374670330363155,0.74980345682637051,0.16939848660685458,0.51689401434897375,0.22567039638958253,1,0.99973469555359928,0.99869830469869925,5.7643065436467467E-2,3.9620462594503358E-2]
[null,129,"2011-10-20",67,"Year 1",19.444444444444446,null,{"$f":"D$4^((1+(D$3+273.15)/10)*(1-(D$3+273.15)/(F141+273.15)))","v":0.83132140802218946},138.68631706207742,0.44225391491982252,0.59678920059442608,0.7518179384450161,0.17035882141495068,0.52106710385771615,0.22702818325804935,1,0.99974954118099912,0.99875921129931344,5.8294332291667472E-2,4.008829995442742E-2]
[null,130,"2011-10-21",67,"Year 1",19.444444444444446,null,0.83132140802218946,{"$f":"H142+I141","v":139.5176384700996},0.44448993282774596,0.59981372445998982,0.75381556095689117,0.17131838528809107,0.52521289388950287,0.22838518353941339,1,0.99976355645475679,0.99881727188222169,5.8948098409456584E-2,4.0558188770603909E-2]
[null,131,{"$f":"C142+1","v":"2011-10-22"},66,"Year 1",18.888888888888889,null,0.79825496637238269,140.31589343647198,{"$f":"1-J$4/J$5*EXP(-J$6*$I143)-(1-J$4/J$5)*EXP(J$6*$I143/(J$3-1))","v":0.44663081602852772},0.60270104701797933,0.75571799796205308,0.1722390558153466,0.52916807746531846,0.229687458927259,1,0.9997762759147214,0.99887046787554945,5.9578196871958755E-2,4.1011308177041794E-2]
[null,132,"2011-10-23",66,"Year 1",18.888888888888889,null,0.79825496637238269,141.11414840284436,0.44876562462535308,0.60557183184433339,0.75760515774263859,0.17315901471414241,0.53309807118927233,0.23098899180953453,1,0.9997883114091205,0.99892127425885779,6.0210569170027206E-2,4.1466299841138921E-2]
[null,133,"2011-10-24",66,"Year 1",18.888888888888889,null,0.79825496637238269,141.91240336921675,0.45089435406088896,0.60842609833682149,0.75947716948350186,0.17407826159709161,0.53700287285668946,0.2322897738333643,1,0.99979969969223492,0.99896979814980247,6.0845200426142831E-2,4.1923154381662053E-2]
[null,134,"2011-10-25",64,"Year 1",17.777777777777779,null,0.73567329544354487,142.64807666466029,0.45285080852443516,0.61104198729357639,0.76118911625673291,0.17492481046926522,0.54057924041021654,0.23348790500375949,1,0.99980965209077233,0.99901258509123192,6.1432065273942627E-2,4.2345833863964844E-2]
[null,135,"2011-10-26",62,"Year 1",16.666666666666668,null,0.67757361163871366,143.325650276299,0.45464817862629847,0.61343890623339037,0.76275466211333387,0.17570396773537439,0.54385424194841558,0.23459083798994879,1,0.99981838060961992,0.99905042093404095,6.1974258818727535E-2,4.2736518722733208E-2]
[null,136,"2011-10-27",60,"Year 1",15.555555555555557,null,0.62366729009892607,143.94931756639792,0.45629867558410298,0.61563465186184729,0.76418623259195684,0.17642068282838219,0.54685265966580543,0.23560553141074092,1,0.99982606064235335,0.9990839653923832,6.2474729243277682E-2,4.3097291470929111E-2]
[null,137,"2011-10-28",61,"Year 1",{"$f":"5/9*(D149-32)","v":16.111111111111111},null,0.65011367229519368,144.59943123869311,0.45801520207633695,0.61791282724847418,0.7656689582925571,0.17716732642643332,0.54996187254463225,0.23666274562650885,1,0.99983372096133805,0.99911767289034581,6.2997855649439827E-2,4.3474551571824893E-2]
[null,138,"2011-10-29",61,"Year 1",16.111111111111111,null,0.65011367229519368,145.24954491098831,0.45972768543966563,0.62018011494676506,0.76714200183159398,0.17791349666816558,0.55305440323835953,0.23771943810822238,1,0.99984104403081031,0.9991501413701579,6.3522437755702432E-2,4.3853020348490368E-2]
[null,139,"2011-10-30",62,"Year 1",16.666666666666668,null,0.67757361163871366,145.92711852262701,0.46150819715109892,0.62253159874948938,0.76866703233948741,0.17869068016777204,0.55625981597575935,0.23882020394476011,1,0.99984833350684876,0.9991827116957227,6.4070718255373138E-2,4.4248756103218545E-2]
[null,140,"2011-10-31",61,"Year 1",16.111111111111111,null,0.65011367229519368,146.5772321949222,0.46321241848918604,0.62477669819981829,0.77012050876757787,0.17943588308844896,0.55931831301736834,0.23987581748174991,1,0.99985501322689974,0.99921278923866652,6.4598248844103923E-2,4.4629677828524006E-2]
[null,141,"2011-11-01",60,"Year 1",15.555555555555557,null,0.62366729009892607,147.20089948502113,{"$f":"1-J$4/J$5*EXP(-J$6*$I153)-(1-J$4/J$5)*EXP(J$6*$I153/(J$3-1))","v":0.46484350862762269},0.62692027976461173,0.77150594693480479,0.18015032600778053,0.56223674905597376,0.24088798645994625,1,0.99986114465378739,0.99924060346509291,6.5105665451864136E-2,4.4996225586732552E-2]
[null,142,"2011-11-02",60,"Year 1",15.555555555555557,null,0.62366729009892607,147.82456677512005,0.46647087248403141,0.62905389980317938,0.7728827170120347,0.18086433257798548,0.56513988151472816,0.24189965947030251,1,0.99986701686162682,0.99926743588750921,6.5614392914206565E-2,4.5363867418501735E-2]
[null,143,"2011-11-03",62,"Year 1",16.666666666666668,null,0.67757361163871366,148.50214038675875,0.46823467206763864,0.63136066566960936,0.77436872962907854,0.18163955914329288,0.56827661752819014,0.24299820937535355,1,0.99987311559550929,0.99929551510552483,6.6168569656962717E-2,4.5764521096666289E-2]
[null,144,"2011-11-04",62,"Year 1",16.666666666666668,null,0.67757361163871366,149.17971399839746,0.46999407095194923,0.63365571195211368,0.77584465091708132,0.18241427025327478,0.57139532954024297,0.2440961647046116,1,0.99987893471266254,0.99932251902577662,6.6724276808631799E-2,4.6166455456763678E-2]
[null,145,"2011-11-05",63,"Year 1",17.222222222222221,null,0.70608163640054389,149.885795634798,0.47182281077651644,0.63603487236444711,0.77737201029294478,0.18322102764902609,0.57462610480684717,0.24523967734423791,1,0.99988471496920805,0.99934955933130598,6.7304983545953601E-2,4.6586657335418336E-2]
[null,146,"2011-11-06",63,"Year 1",17.222222222222221,null,0.70608163640054389,150.59187727119854,0.4736467696036526,0.6384013535564601,0.77888857050951588,0.18402722483194026,0.57783736080932002,0.24638253387643216,1,0.99989021931867139,0.99937552130499463,6.788733286421178E-2,4.7008237646424922E-2]
[null,147,"2011-11-07",62,"Year 1",16.666666666666668,null,0.67757361163871366,151.26945088283725,0.47539258997460637,0.64066038988793639,0.78033382019643238,0.18480034486655303,0.58090063738007691,0.24747862580803281,1,0.99989525422481096,0.99939946100815391,6.8447705192161701E-2,4.7414086950636869E-2]
[null,148,"2011-11-08",60,"Year 1",15.555555555555557,null,0.62366729009892607,151.89311817293617,0.47699562403126905,0.64272942274696732,0.78165542537853472,0.18551150078023201,0.58370436834311901,0.24848697269927872,1,0.99989968427125764,0.99942068482484203,6.8964816971456511E-2,4.7788759838221506E-2]
[null,149,"2011-11-09",58,"Year 1",14.444444444444445,null,0.57368203924829098,152.46680021218447,0.4784668841718358,0.64462394389289268,0.78286382282298106,0.18616527308253664,0.58627000311206479,0.24941404113179383,1,0.99990359367300863,0.99943954519744305,6.9441596220035873E-2,4.8134341209380094E-2]
[null,150,"2011-11-10",58,"Year 1",14.444444444444445,null,0.57368203924829098,153.04048225143276,0.47993498654796685,0.64651015829370984,0.78406528309200407,0.18681867500430621,0.58882283144146397,0.25034066382422115,1,0.99990735075652004,0.99945779202546969,6.9919436247472877E-2,4.8480817530767828E-2]
[null,151,"2011-11-11",58,"Year 1",14.444444444444445,null,0.57368203924829098,153.61416429068106,{"$f":"1-J$4/J$5*EXP(-J$6*$I163)-(1-J$4/J$5)*EXP(J$6*$I163/(J$3-1))","v":0.48139993097278044},0.64838808085857447,0.78525984804824112,0.18747170642277097,0.59136287310056013,0.25126683801434263,1,0.99991096145414771,0.99947544524191079,7.0398331862734143E-2,4.8828185490007781E-2]
[null,152,"2011-11-12",56,"Year 1",13.333333333333334,null,0.52736111759084314,154.14152540827192,0.48274380522526872,0.65010707239782306,0.78635191305515117,0.18807168305487434,0.59368656159838706,0.25211783193764881,1,0.9999141563769629,0.99949116599654575,7.0839486653565431E-2,4.9148289566948389E-2]
[null,153,"2011-11-13",56,"Year 1",13.333333333333334,null,0.52736111759084314,154.66888652586277,0.48408501075361565,0.65181908193265903,0.78743821855725749,0.18867134640261418,0.59599947880275717,0.25296844241818567,1,0.99991723668241728,0.99950641594991385,7.1281525068146889E-2,4.9469141753846757E-2]
[null,154,"2011-11-14",56,"Year 1",13.333333333333334,null,0.52736111759084314,155.19624764345363,0.48542354755630246,0.65352412169199514,0.78851879647657086,0.18927069637279606,0.59830164175808487,0.25381866734469383,1,0.99992020648093149,0.9995212091841178,7.1724443108306057E-2,4.9790739495286562E-2]
[null,155,"2011-11-15",57,"Year 1",13.888888888888889,null,0.55007899699107821,155.74632664044472,0.48681690279759959,0.65529519867811781,0.78963985527372316,0.18989553136979953,0.60069153808195286,0.25470510551534581,1,0.99992319074531344,0.99953616779380194,7.2187374325746401E-2,5.0126982823070598E-2]
[null,156,"2011-11-16",57,"Year 1",13.888888888888889,null,0.55007899699107821,156.29640563743581,0.48820735458077447,0.65705872031400259,0.79075475271165507,0.19052002520326064,0.60306977327304656,0.25559111954222358,1,0.99992606342062651,0.99955065938019916,7.2651253736209731E-2,5.0464031662160513E-2]
[null,157,"2011-11-17",57,"Year 1",13.888888888888889,null,0.55007899699107821,156.8464846344269,0.48959490305946574,0.65881470115607088,0.79186352436802487,0.19114417776981293,0.60543636843206849,0.256476707067126,1,0.99992882867809507,0.99956469850748042,7.3116076839984445E-2,5.0801883131939007E-2]
[null,158,"2011-11-18",57,"Year 1",13.888888888888889,null,0.55007899699107821,157.39656363141799,0.49097954843926983,0.66056315598260218,0.79296620560208342,0.19176798896690139,0.60779134523250744,0.25736186574463638,1,0.99993149053310804,0.99957829928650965,7.3581839150144157E-2,5.1140534358393941E-2]
[null,159,"2011-11-19",57,"Year 1",13.888888888888889,null,0.55007899699107821,157.94664262840908,0.49236129097727821,0.66230409978929139,0.79406283155610846,0.19239145869278229,0.6101347259080685,0.2582465932420745,1,0.99993405285103487,0.9995914753889078,7.404853619251428E-2,5.1479982474104347E-2]
[null,160,"2011-11-20",56,"Year 1",13.333333333333334,null,0.52736111759084314,158.47400374599994,0.49368324330642754,0.66396610578489479,0.79510851463976961,0.19298885885117412,0.61237046003773843,0.25909437512513755,1,0.99993641933812094,0.9996037208664118,7.4496832464478135E-2,5.1806157172345713E-2]
[null,161,"2011-11-21",56,"Year 1",13.333333333333334,null,0.52736111759084314,159.00136486359079,{"$f":"1-J$4/J$5*EXP(-J$6*$I173)-(1-J$4/J$5)*EXP(J$6*$I173/(J$3-1))","v":0.49500252821133295},0.66562123590787114,0.79614869496656093,0.19358594497995973,0.61459557755929195,0.25994175654182561,1,0.99993870091942594,0.99961559951327539,7.4945979834503129E-2,5.2133059152475791E-2]
[null,162,"2011-11-22",56,"Year 1",13.333333333333334,null,0.52736111759084314,159.52872598118165,0.49631914604951011,0.66726950391238971,0.79718340294755075,0.19418271699157438,0.61681009945186105,0.26078873546943809,1,0.99994090064035579,0.9996271223070764,7.5395974393033027E-2,5.2460685904867299E-2]
[null,163,"2011-11-23",55,"Year 1",12.777777777777779,null,0.5054986144502337,160.03422459563188,0.49757867848910209,0.66884301221947906,0.79817010687703638,0.19475445403870842,0.61892288916689586,0.26160022201523642,1,0.99994293504756293,0.99963784323833138,7.582810541395868E-2,5.2775408432798709E-2]
[null,164,"2011-11-24",53,"Year 1",11.666666666666668,null,0.46422496504035882,160.49844956067224,0.49873321297832807,0.67028251266484584,0.79907186521628004,0.19527925474679891,0.62085462925028567,0.2623451222968935,1,0.99994474161044111,0.99964741723376649,7.6225632776226515E-2,5.3065016734529569E-2]
[null,165,"2011-11-25",50,"Year 1",10,null,0.40803454382989962,160.90648410450214,0.49974629523127512,0.67154340834733983,0.79986102581828,0.19574033171224842,0.62254580807132887,0.26299959769944053,1,0.99994628222387594,0.9996556232752003,7.6575578005526057E-2,5.3320029735557384E-2]
[null,166,"2011-11-26",49,"Year 1",9.4444444444444446,null,0.39072650620559424,161.29721061070774,0.50071490890388426,0.67274699747210076,0.80061370182920333,0.19618167425664954,0.62415934946394025,0.26362608164189621,1,0.99994771721946119,0.99966330226588285,7.6911146743396053E-2,5.356462720405597E-2]
[null,167,"2011-11-27",50,"Year 1",10,null,0.40803454382989962,161.70524515453764,0.50172486772537361,0.67399991744716325,0.80139658916469503,0.19664238270138124,0.62583821393802785,0.26428007604173409,1,0.99994917488496748,0.99967113880184366,7.7262066684399056E-2,5.3820477929495514E-2]
[null,168,"2011-11-28",50,"Year 1",10,null,0.40803454382989962,162.11327969836753,0.50273323137698167,0.6752487731352389,0.80217629212788699,0.19710290283541743,0.62751080360933242,0.26493382337941546,1,0.99995059191621938,0.99967879304426355,7.7613481899959424E-2,5.4076754893097156E-2]
[null,169,"2011-11-29",49,"Year 1",9.4444444444444446,null,0.39072650620559424,162.50400620457313,0.50369732733889316,0.67644085173248447,0.80291994953593648,0.19754371206022928,0.62910657408864001,0.26555960761383995,1,0.99995191180108589,0.99968595566546481,7.7950453321699031E-2,5.432255952398124E-2]
[null,170,"2011-11-30",49,"Year 1",9.4444444444444446,null,0.39072650620559424,162.89473271077873,0.50465996110373534,0.67762921581596558,0.80366071134540185,0.19798434854184124,0.6306966104144851,0.26618516367533451,1,0.99995319643168745,0.9996929586511738,7.8287875697599985E-2,5.4568752942075527E-2]
[null,171,"2011-12-01",49,"Year 1",9.4444444444444446,null,0.39072650620559424,163.28545921698432,{"$f":"1-J$4/J$5*EXP(-J$6*$I183)-(1-J$4/J$5)*EXP(J$6*$I183/(J$3-1))","v":0.50562113294165878},0.6788138714647165,0.8043985893902732,0.19842481224669534,0.63228092235167765,0.26681049077326607,1,0.99995444674944278,0.99969980555607429,7.8625747469924789E-2,5.4815334143440531E-2]
[null,172,"2011-12-02",49,"Year 1",9.4444444444444446,null,0.39072650620559424,163.67618572318992,0.50658084313467677,0.67999482480161877,0.80513359545315799,0.1988651031414338,0.63385951977549748,0.26743558812011547,1,0.99995566367064104,0.99970649985581406,7.8964067084094536E-2,5.5062302125779006E-2]
[null,173,"2011-12-03",50,"Year 1",10,null,0.40803454382989962,164.08422026701982,0.50758150579250605,0.68122414563872424,0.80589810720420341,0.19932471313271413,0.6355019554241903,0.2680881293529882,1,0.99995689981523306,0.9997133314787211,7.9317849622263958E-2,5.5320621841459361E-2]
[null,174,"2011-12-04",52,"Year 1",11.111111111111111,null,0.44475855457972224,164.52897882159954,0.50867041541679969,0.68255952500664341,0.80672788929678263,0.19982547428871372,0.63728514122280433,0.26879911332361367,1,0.99995820799629986,0.99972059705232053,7.9704025685149005E-2,5.5602668784843434E-2]
[null,175,"2011-12-05",54,"Year 1",12.222222222222223,null,0.48446258026253625,165.01344140186208,0.50985437951911428,0.68400868590403274,0.80762756786591361,0.20037068393619092,0.63921913639674433,0.26957322508064685,1,0.99995958782574779,0.99972830195426166,8.0125328997775025E-2,5.5910459849024541E-2]
[null,176,"2011-12-06",54,"Year 1",12.222222222222223,null,0.48446258026253625,165.49790398212463,0.51103609868523503,0.68545219743967312,0.80852291034142809,0.20091562768973581,0.64114441543418177,0.27034697833124527,1,0.99996092210370202,0.99973579448446492,8.0547310291955165E-2,5.6218838749351852E-2]
[null,177,"2011-12-07",53,"Year 1",11.666666666666668,null,0.46422496504035882,165.96212894716498,0.51216634789003557,0.68683011959336093,0.80937680348805352,0.20143755780615841,0.64298110999945601,0.27108807161809306,1,0.99996215929883547,0.99974278018964424,8.095229740221821E-2,5.6514885399732151E-2]
[null,178,"2011-12-08",53,"Year 1",11.666666666666668,null,0.46422496504035882,166.42635391220534,0.51329453700821404,0.68820287636821109,0.81022675456207327,0.20195924366907733,0.64480983744975218,0.27182883309063322,1,0.99996335732946817,0.99974958127448066,8.1357901771895724E-2,5.6811468399359466E-2]
[null,179,"2011-12-09",54,"Year 1",12.222222222222223,null,0.48446258026253625,166.91081649246789,0.51446971279107123,0.68962998130911912,0.8111095758094673,0.20250341160599708,0.64670981092591484,0.27260153241342205,1,0.99996456716530824,0.99975648725314525,8.1781843660518883E-2,5.712155089764348E-2]
[null,180,"2011-12-10",55,"Year 1",12.777777777777779,null,0.5054986144502337,167.41631510691812,0.51569352599015139,0.69111308179306208,0.81202619893397676,0.2030709243485756,0.64868307673196923,0.27340739510333006,1,0.99996578697463523,0.99976349023467048,8.2224904236591456E-2,5.7445716372887867E-2]
[null,181,"2011-12-11",56,"Year 1",13.333333333333334,null,0.52736111759084314,167.94367622450898,{"$f":"1-J$4/J$5*EXP(-J$6*$I193)-(1-J$4/J$5)*EXP(J$6*$I193/(J$3-1))","v":0.51696766750054024},0.69265384103272154,0.81297755916490921,0.20366267278045416,0.65073168870442344,0.27424768646010572,1,0.99996701481075212,0.99977058162639965,8.2687896792908333E-2,5.7784573030727482E-2]
[null,182,"2011-12-12",56,"Year 1",13.333333333333334,null,0.52736111759084314,168.47103734209983,0.51823915411266108,0.69418799456762059,0.81392393641373439,0.20425410571230898,0.65277011948543384,0.27508754261430779,1,0.99996819858715613,0.99977746048304361,8.3151671848741171E-2,5.8124112738289324E-2]
[null,183,"2011-12-13",56,"Year 1",13.333333333333334,null,0.52736111759084314,168.99839845969069,0.51950798688469024,0.69571555871390678,0.81486535804891791,0.20484522306851349,0.65479839650064786,0.27592696172810222,1,0.99996933988459769,0.99978413316995829,8.3616225682347167E-2,5.8464333083542375E-2]
[null,184,"2011-12-14",56,"Year 1",13.333333333333334,null,0.52736111759084314,169.52575957728155,0.52077416691062872,0.69723654990270567,0.81580185127934768,0.20543602477409051,0.65681654745885942,0.27676594197360888,1,0.99997044022713144,0.99979060586208546,8.4081554582209339E-2,5.8805231659792678E-2]
[null,185,"2011-12-15",56,"Year 1",13.333333333333334,null,0.52736111759084314,170.0531206948724,0.52203769531998001,0.69875098467744545,0.81673344315532947,0.20602651075471198,0.65882460034478241,0.27760448153286515,1,0.99997150108414834,0.99979688454963767,8.4547654847013654E-2,5.9146806065672353E-2]
[null,186,"2011-12-16",54,"Year 1",12.222222222222223,null,0.48446258026253625,170.53758327513495,0.52319610533357319,0.7001364629320902,0.81758495762216188,0.20656868495600744,0.66066043173554478,0.27837441961675091,1,0.99997244206241065,0.99980248650427606,8.4976516510224531E-2,5.9461188424099864E-2]
[null,187,"2011-12-17",54,"Year 1",12.222222222222223,null,0.48446258026253625,171.02204585539749,0.52435227949093599,0.70151643510299699,0.81843237913946287,0.20711059259003622,0.66248778704277611,0.27914398287371461,1,0.9999733519744386,0.99980793401506929,8.5406023178958401E-2,5.9776137256783324E-2]
[null,188,"2011-12-18",54,"Year 1",12.222222222222223,null,0.48446258026253625,171.50650843566004,0.52550621874558401,0.70289091425516792,0.81927572832909656,0.20765223360061524,0.66430668854760677,0.27991316991631371,1,0.99997423184571177,0.99981323133725564,8.5836172006335421E-2,6.0091650713839373E-2]
[null,189,"2011-12-19",55,"Year 1",12.777777777777779,null,0.5054986144502337,172.01200705011027,0.52670788212055053,0.70431923343083069,0.82015137768133595,0.20821710911098074,0.66619558117294941,0.2807153535568524,1,0.99997511896859481,0.99981860303825743,8.6285680007843535E-2,6.0421464136128034E-2]
[null,190,"2011-12-20",54,"Year 1",12.222222222222223,null,0.48446258026253625,172.49646963037281,0.52785725759427315,0.70568252896035633,0.82098646905170547,0.20875820512471555,0.66799727801930187,0.28148376754990662,1,0.99997594050206362,0.99982360620617083,8.6717132213719683E-2,6.073812562226677E-2]
[null,191,"2011-12-21",54,"Year 1",12.222222222222223,null,0.48446258026253625,172.98093221063536,{"$f":"1-J$4/J$5*EXP(-J$6*$I203)-(1-J$4/J$5)*EXP(J$6*$I203/(J$3-1))","v":0.5290044012166184},0.70704037167511058,0.82181755017959435,0.20929903434682232,0.66979058994778462,0.28225180114880472,1,0.99997673491215977,0.99982847142875342,8.7149217958223391E-2,6.1055346125943544E-2]
[null,192,"2011-12-22",54,"Year 1",12.222222222222223,null,0.48446258026253625,173.4653947908979,0.53014931403858245,0.70839277492481523,0.82264464124486714,0.20983959672296318,0.67157553993037233,0.28301945299414039,1,0.99997750309424349,0.99983320250713015,8.7581934423492935E-2,6.1373123812458963E-2]
[null,193,"2011-12-23",54,"Year 1",12.222222222222223,null,{"$f":"D$4^((1+(D$3+273.15)/10)*(1-(D$3+273.15)/(F205+273.15)))","v":0.48446258026253625},173.94985737116045,0.53129199713476094,0.70973975212556384,0.82346776231964558,0.2103798921992531,0.67335215109913082,0.28378672173338543,1,0.99997824591412621,0.99983780313778892,8.8015278798805996E-2,6.1691456850851978E-2]
[null,194,"2011-12-24",54,"Year 1",12.222222222222223,null,0.48446258026253625,{"$f":"H206+I205","v":174.43431995142299},0.53243245160315011,0.71108131675825614,0.82428693336892256,0.21091992072226101,0.6751204467420675,0.28455360602086549,1,0.99997896420904464,0.99984227691545602,8.8449248280561221E-2,6.2010343413893221E-2]
[null,195,{"$f":"C206+1","v":"2011-12-25"},53,"Year 1",11.666666666666668,null,0.46422496504035882,174.89854491646335,0.53352317560129692,0.71236177415956881,0.82506819732537851,0.21143713994765823,0.67680709474118583,0.28528809306180924,1,0.99997963023802916,0.99984644802850198,8.8865673307402471E-2,6.2316426660017354E-2]
[null,196,"2011-12-26",52,"Year 1",11.111111111111111,null,0.44475855457972224,175.34330347104307,0.53456624460491753,0.71358389911524411,0.82581333164652282,0.2119324405446292,0.67841589391417778,0.28599144740805532,1,0.99998024855131817,0.99985034076136048,8.9265170020419005E-2,6.2610148546860533E-2]
[null,197,"2011-12-27",52,"Year 1",11.111111111111111,null,0.44475855457972224,175.78806202562279,0.53560743807527378,0.71480149529227521,0.82655518475891532,0.21242751602409002,0.68001774185715702,0.28669447450550917,1,0.99998084809749033,0.99985413483974017,8.9665186814471554E-2,6.2904332536142249E-2]
[null,198,"2011-12-28",52,"Year 1",11.111111111111111,null,0.44475855457972224,176.23282058020251,0.53664675692995356,0.71601457330267904,0.82729377179661667,0.21292236634603653,0.68161265702273366,0.28739717333315679,1,0.99998142944609336,0.99985783276254259,9.0065721541340071E-2,6.3198977225099706E-2]
[null,199,"2011-12-29",52,"Year 1",11.111111111111111,null,0.44475855457972224,176.67757913478223,0.53768420210250067,0.71722314379936203,0.82802910781965056,0.21341699147078222,0.68320065796072738,0.28809954287477735,1,0.9999819931493944,0.99986143696542906,9.0466772057811173E-2,6.3494081213596676E-2]
[null,200,"2011-12-30",50,"Year 1",10,null,0.40803454382989962,177.08561367861213,0.53863433754370882,0.71832796637171037,0.82870088003663489,0.21387057696224862,0.68465147111775704,0.28874362680476534,1,0.99998249524569438,0.99986466316691869,9.0835159400685317E-2,6.3765221051634735E-2]
[null,201,"2011-12-31",51,"Year 1",{"$f":"5/9*(D213-32)","v":10.555555555555555},null,0.42603694935372055,177.51165062796585,{"$f":"1-J$4/J$5*EXP(-J$6*$I213)-(1-J$4/J$5)*EXP(J$6*$I213/(J$3-1))","v":0.53962471149981506},0.71947750344118677,0.8293993965937928,0.21434397221865131,0.68616011593866799,0.28941583007941729,1,0.99998300456119493,0.99986795159816066,9.1220259498798528E-2,6.4048733647229295E-2]
[null,202,"2012-01-01",48,"Year 2",8.8888888888888893,null,0.3740887585553947,177.88573938652124,0.54049291013909884,0.72048348612568991,0.83001031292622862,0.21475947425519026,0.68747961539587998,0.29000581794122765,1,0.99998343954161428,0.99987077313052464,9.1558788637846389E-2,6.4298021052639154E-2]
[null,203,"2012-01-02",50,"Year 2",10,null,0.40803454382989962,178.29377393035114,0.54143838287234558,0.7215771506691242,0.83067408784561136,0.21521249824901609,0.68891332884255563,0.29064907417643521,1,0.99998390131000336,0.99987378201712651,9.1928446426135957E-2,6.4570295738110239E-2]
[null,204,"2012-01-03",50,"Year 2",10,null,0.40803454382989962,178.70180847418104,0.54238228238433694,0.72266706331849029,0.83133518439621668,0.2156653325483272,0.69034129610145711,0.29129204934807879,1,0.99998435020340692,0.99987672086523649,9.2298530038156579E-2,6.4842951573155116E-2]
[null,205,"2012-01-04",50,"Year 2",10,null,0.40803454382989962,179.10984301801093,0.54332460946306782,0.72375323246303147,0.83199361389280291,0.2161179771238454,0.69176353188143636,0.29193474269194908,1,0.99998478658076351,0.99987959130438675,9.2669037840442892E-2,6.5115987487908922E-2]
[null,206,"2012-01-05",48,"Year 2",8.8888888888888893,null,0.3740887585553947,179.48393177656632,0.54418716016989188,0.72474575737266889,0.8325949325563119,0.21653279792389515,0.69306242354937808,0.29252371990086184,1,0.99998517595518832,0.99988216419339571,9.3009093165973056E-2,6.5366641666106728E-2]
[null,207,"2012-01-06",48,"Year 2",8.8888888888888893,null,0.3740887585553947,179.85802053512171,0.54504839048719878,0.72573514931161487,0.83319402758070837,0.21694745920793376,0.69435652154454908,0.29311245900038713,1,0.99998555536454503,0.99988468211975601,9.334950241441764E-2,6.5617613594947444E-2]
[null,208,"2012-01-07",48,"Year 2",8.8888888888888893,null,0.3740887585553947,180.2321092936771,0.54590830104583454,0.72672141479821029,0.83379090757343788,0.21736196095389138,0.69564583732652907,0.2937009594089765,1,0.99998592506383743,0.99988714625706288,9.3690264334759465E-2,6.5868902454061296E-2]
[null,209,"2012-01-08",48,"Year 2",8.8888888888888893,null,0.3740887585553947,180.60619805223249,0.54676689248406862,0.72770456036710329,0.8343855811066232,0.21777630313985469,0.69693038239273497,0.29428922054741541,1,0.99998628530154487,0.99988955775387189,9.4031377678440387E-2,6.6120507424373809E-2]
[null,210,"2012-01-09",48,"Year 2",8.8888888888888893,null,0.3740887585553947,180.98028681078787,0.54762416544754533,0.72868459256888773,0.83497805671722092,0.21819048574406705,0.69821016827749172,0.29487724183881708,1,0.99998663631978946,0.99989191773423103,9.4372841199358737E-2,6.6372427688105917E-2]
[null,211,"2012-01-10",46,"Year 2",7.7777777777777786,null,0.34273147458598707,181.32301828537385,{"$f":"1-J$4/J$5*EXP(-J$6*$I223)-(1-J$4/J$5)*EXP(J$6*$I223/(J$3-1))","v":0.54840842235148102},0.72957974817715565,0.8355189471440142,0.21856981017752578,0.699378510891146,0.29541576233269162,1,0.99998695002336035,0.99989403561271439,9.4685988502117624E-2,6.6603507272402718E-2]
[null,212,"2012-01-11",46,"Year 2",7.7777777777777786,null,0.34273147458598707,181.66574975995982,0.54919157360946902,0.73047230105917904,0.83605800632758231,0.21894900062661002,0.7005428773778305,0.29595408058128797,1,0.9999872563633786,0.99989611200161244,9.4999427738167164E-2,6.6834850195416351E-2]
[null,213,"2012-01-12",48,"Year 2",8.8888888888888893,null,0.3740887585553947,182.03983851851521,0.5500451157539118,0.73144355079072598,0.83664430267090584,0.21936273112212809,0.70180924648816945,0.2965414194303691,1,0.99998758252938491,0.9998983319620609,9.5341876343370768E-2,6.7087659054620552E-2]
[null,214,"2012-01-13",48,"Year 2",8.8888888888888893,null,0.3740887585553947,182.4139272770706,0.55089734196531459,0.73241171240062808,0.83722843348540721,0.21977630195395678,0.70307090094601976,0.29712851624302544,1,0.99998790034783303,0.99990050449614809,9.5684670372978564E-2,6.7340780085176632E-2]
[null,215,"2012-01-14",48,"Year 2",8.8888888888888893,null,0.3740887585553947,182.78801603562599,0.55174825292425445,0.73337679251156551,0.837810407140262,0.22018971310109059,0.70432785245129725,0.29771537045353602,1,0.99998821003234128,0.99990263061665974,9.6027808592699881E-2,6.7594212475533544E-2]
[null,216,"2012-01-15",49,"Year 2",9.4444444444444446,null,0.39072650620559424,183.17874254183158,0.55263560493687425,0.73438151201580126,0.83841597013370184,0.22062134035660597,0.70563569873860366,0.29832806560325731,1,0.99998852503104307,0.99990480281507077,9.6386574180227669E-2,6.7859247934739075E-2]
[null,217,"2012-01-16",50,"Year 2",10,null,0.40803454382989962,183.58677708566148,0.55356073410435658,0.73542716521817397,0.83904586575644957,0.22107190143240893,0.7069960304336812,0.29896761749461537,1,0.99998884500386298,0.99990701953790018,9.6761629883482581E-2,6.8136384319394061E-2]
[null,218,"2012-01-17",50,"Year 2",10,null,0.40803454382989962,183.99481162949138,0.55448430108353763,0.73646917710988347,0.83967322591758942,0.22152227245107403,0.70835081081610152,0.29960687866503039,1,0.99998915605489458,0.99990918465476619,9.7137090491235867E-2,6.8413888117658805E-2]
[null,219,"2012-01-18",52,"Year 2",11.111111111111111,null,0.44475855457972224,184.4395701840711,0.55548921279698815,0.73760083489554429,0.84035417437721605,0.2220129613405496,0.70982121919186358,0.30030334276024412,1,0.99998948523046105,0.99991148726321899,9.7546802727750626E-2,6.8716785147488801E-2]
[null,220,"2012-01-19",51,"Year 2",10.555555555555555,null,0.42603694935372055,184.86560713342482,0.55645008554125996,0.73868081996168922,0.84100365884588923,0.2224827834286483,0.71122358298882327,0.30097016442397456,1,0.99998979117592146,0.99991363819072099,9.7939716046352876E-2,6.900733900557543E-2]
[null,221,"2012-01-20",50,"Year 2",10,null,0.40803454382989962,185.27364167725472,{"$f":"1-J$4/J$5*EXP(-J$6*$I233)-(1-J$4/J$5)*EXP(J$6*$I233/(J$3-1))","v":0.55736876244436029},0.73971147576876106,0.84162314150427808,0.22293255861488642,0.71256106448802181,0.30160850977858128,1,0.99999007584474442,0.99991564922055021,9.8316435398640656E-2,6.9285987553649564E-2]
[null,222,"2012-01-21",49,"Year 2",9.4444444444444446,null,0.39072650620559424,185.66436818346031,0.55824701026613477,0.74069503381694157,0.84221401142509389,0.22336307696997498,0.71383666900976739,0.30221950250312896,1,0.9999903409959211,0.99991753104960424,9.8677548435425422E-2,6.9553156705935648E-2]
[null,223,"2012-01-22",49,"Year 2",9.4444444444444446,null,0.39072650620559424,186.05509468966591,0.55912383001202581,0.74167529354539175,0.84280260581304467,0.22379342092838447,0.71510725520508589,0.30283022530814957,1,0.9999905990631891,0.99991937090467198,9.9039025370480704E-2,6.9820657895667715E-2]
[null,224,"2012-01-23",50,"Year 2",10,null,0.40803454382989962,186.46312923349581,0.56003796685577067,0.74269546351228033,0.84341485416652617,0.22424264168153565,0.71642878272170174,0.30346771255091509,1,0.99999086120545033,0.99992124846926556,9.9416901613292419E-2,7.0100362042423425E-2]
[null,225,"2012-01-24",50,"Year 2",10,null,0.40803454382989962,186.87116377732571,0.56095054821004509,0.74371205362208959,0.84402464130795785,0.22469167219592032,0.71774486791719427,0.30410490405319029,1,0.99999111603828805,0.9999230823209303,9.9795171635094881E-2,7.0380426266391405E-2]
[null,226,"2012-01-25",50,"Year 2",10,null,0.40803454382989962,187.2791983211556,0.56186157506316037,0.74472507265583099,0.84463197758222441,0.22514051244664166,0.71905552639314141,0.30474179911569127,1,0.99999136376549824,0.99992487347703174,0.1001738338712973,7.0660849534070813E-2]
[null,227,"2012-01-26",50,"Year 2",10,null,0.40803454382989962,187.6872328649855,0.56277104841265968,0.74573452940881146,0.84523687328815877,0.22558916240901783,0.7203607737823633,0.30537839704228265,1,0.99999160458519598,0.99992662293127144,0.1005528867606823,7.0941630813747714E-2]
[null,228,"2012-01-27",50,"Year 2",10,null,0.40803454382989962,188.0952674088154,0.56367896926524796,0.74674043269017154,0.84583933867876171,0.22603762205858074,0.72166062574776846,0.30601469713996998,1,0.99999183868997299,0.99992833165423622,0.10093232874540115,7.1222769075494963E-2]
[null,229,"2012-01-28",50,"Year 2",10,null,0.40803454382989962,188.5033019526453,0.56458533863672045,0.74774279132242683,0.84643938396141927,0.22648589137107678,0.72295509798121382,0.30665069871888984,1,0.99999206626705173,0.99993000059393555,0.10131215827096618,7.1504263291165882E-2]
[null,230,"2012-01-29",50,"Year 2",10,null,0.40803454382989962,188.9113364964752,0.56549015755189369,0.74874161414101592,0.84703701929811914,0.22693397032246523,0.72424420620237817,0.30728640109230149,1,0.99999228749843583,0.99993163067632618,0.10169237378624429,7.1786112434395477E-2]
[null,231,"2012-01-30",50,"Year 2",10,null,0.40803454382989962,189.3193710403051,{"$f":"1-J$4/J$5*EXP(-J$6*$I243)-(1-J$4/J$5)*EXP(J$6*$I243/(J$3-1))","v":0.56639342704453566},0.74973690999385378,0.84763225480566762,0.22738185888891907,0.72552796615765358,0.30792180357657856,1,0.99999250256105421,0.99993322280582497,0.10207297374345436,7.2068315480595002E-2]
[null,232,"2012-01-31",50,"Year 2",10,null,0.40803454382989962,189.727405584135,0.56729514815729587,0.75072868774088708,0.84822510055590272,0.22782955704682362,0.72680639361904698,0.30855690549119963,1,0.99999271162690384,0.99993477786580898,0.10245395659815548,7.2350871406950068E-2]
[null,233,"2012-02-01",50,"Year 2",10,null,0.40803454382989962,190.1354401279649,0.56819532194163735,0.75171695625365775,0.84881556657590884,0.22827706477277646,0.72807950438309821,0.30919170615873992,1,0.99999291486318642,0.99993629671910489,0.10283532080924551,7.2633779192417869E-2]
[null,234,"2012-02-02",48,"Year 2",8.8888888888888893,null,0.3740887585553947,190.50952888652029,0.56901924851269736,0.75261993146629691,0.84935482724423572,0.2286871754580683,0.72924204261064396,0.30977343032075172,1,0.99999309620822108,0.99993765812038604,0.10318529180380764,7.2893459211782918E-2]
[null,235,"2012-02-03",48,"Year 2",8.8888888888888893,null,0.3740887585553947,190.88361764507567,0.5698418762155707,0.75351997136620774,0.84989210371866575,0.22909712604155971,0.73040013747619281,0.31035490019004108,1,0.99999327291188,0.99993899043222378,0.10353558086635339,7.3153433339900653E-2]
[null,236,"2012-02-04",48,"Year 2",8.8888888888888893,null,0.3740887585553947,191.25770640363106,0.57066320587975694,0.754417082813717,0.85042740362789071,0.22950691650568547,0.73155380120249824,0.31093611525140397,1,0.99999344509294796,0.99994029427599973,0.10388618681666584,7.3413700793863113E-2]
[null,237,"2012-02-05",48,"Year 2",8.8888888888888893,null,0.3740887585553947,191.63179516218645,0.57148323834079828,0.75531127267618869,0.85096073456955446,0.22991654683302926,0.73270304602680525,0.31151707499180076,1,0.9999936128671697,0.99994157025982922,0.1042371084768674,7.3674260792006452E-2]
[null,238,"2012-02-06",50,"Year 2",10,null,0.40803454382989962,192.03982970601635,0.5723762045540618,0.75628328044206483,0.85154022515577332,0.2303631654666789,0.73395155213336882,0.31215046080253955,1,0.99999379097324881,0.99994293096174203,0.10462023228102224,7.3958797332128956E-2]
[null,239,"2012-02-07",50,"Year 2",10,null,0.40803454382989962,192.44786424984625,0.57326762956099608,0.75725182944913194,0.85211739200220649,0.23080959353974334,0.73519483147783138,0.31278354158516691,1,0.99999396411298891,0.99994425998100311,0.10500372877053543,7.4243679978232779E-2]
[null,240,"2012-02-08",50,"Year 2",10,null,0.40803454382989962,192.85589879367615,0.57415751447008889,0.75821692863539925,0.8526922448429306,0.23125583103022607,0.73643289999365247,0.31341631668268449,1,0.99999413242486423,0.99994555805511198,0.1053875964263965,7.4528907721021276E-2]
[null,241,"2012-02-09",48,"Year 2",8.8888888888888893,null,0.3740887585553947,193.22998755223153,{"$f":"1-J$4/J$5*EXP(-J$6*$I253)-(1-J$4/J$5)*EXP(J$6*$I253/(J$3-1))","v":0.5749720145341578},0.75909871431614717,0.85321724874664595,0.23166477702411309,0.73756340439210799,0.31399617990658862,1,0.99999428260726619,0.99994672156310627,0.10573985366077276,7.4790708760618552E-2]
[null,242,"2012-02-10",48,"Year 2",8.8888888888888893,null,0.3740887585553947,193.60407631078692,0.57578522189841719,0.75997761472386149,0.85374032323134574,0.23207356279184826,0.73868955461965524,0.3145757851402311,1,0.99999442894583035,0.99994786020900472,0.10609242043355194,7.5052798243797847E-2]
[null,243,"2012-02-11",48,"Year 2",8.8888888888888893,null,0.3740887585553947,193.97816506934231,0.57659713743532326,0.76085363676402229,0.85426147570299071,0.23248218831694401,0.73981136298972749,0.31515513188402156,1,0.99999457153893223,0.99994897452392761,0.10644529558145144,7.5315175396663769E-2]
[null,244,"2012-02-12",48,"Year 2",8.8888888888888893,null,0.3740887585553947,194.3522538278977,0.57740776202306232,0.76172678734725374,0.85478071353746121,0.23289065358305996,0.74092884182563801,0.31573421964049514,1,0.99999471048242983,0.99995006502765427,0.10679847794349939,7.5577839446551942E-2]
[null,245,"2012-02-13",50,"Year 2",10,null,0.40803454382989962,194.7602883717276,0.57829047384887478,0.76267590388125317,0.85534489386118517,0.23333600129672802,0.74214280141114997,0.31636555943638972,1,0.99999485798228982,0.99995122793352265,0.10718405792417385,7.5864664537030002E-2]
[null,246,"2012-02-14",50,"Year 2",10,null,0.40803454382989962,195.1683229155575,0.57917165201371534,0.76362162139522027,0.85590681453513784,0.23378115830709809,0.74335164075377846,0.31699658988082946,1,0.99999500136919595,0.99995236376111263,0.10757000052460008,7.6151829037294005E-2]
[null,247,"2012-02-15",51,"Year 2",10.555555555555555,null,0.42603694935372055,195.59435986491121,0.58009007219764352,0.7646054462406443,0.85649112588166176,0.23424575202716161,0.74460836712774592,0.31765513045198507,1,0.99999514681729829,0.99995352148694316,0.10797335618782511,7.6452024301894905E-2]
[null,248,"2012-02-16",52,"Year 2",11.111111111111111,null,0.44475855457972224,196.03911841949093,0.581047070083344,0.76562857204665058,0.85709850836956603,0.23473053982059322,0.7459144016601218,0.31834224835065655,1,0.99999529414374555,0.99995470008383847,0.10839485493905654,7.6765803612360295E-2]
[null,249,"2012-02-17",51,"Year 2",10.555555555555555,null,0.42603694935372055,196.46515536884465,0.5819620795884497,0.76660487480131123,0.85767783890115001,0.23519470848261187,0.74715981121782926,0.31900009594032536,1,0.99999543107305899,0.99995580103674275,0.10879900999856884,7.7066749429385739E-2]
[null,250,"2012-02-18",50,"Year 2",10,null,0.40803454382989962,196.87318991267455,0.58283686241326838,0.76753648766896798,0.85823041996596483,0.23563906846791463,0.74834743044019825,0.31962982698310977,1,0.99999555847958044,0.99995683037800487,0.10918645155267426,7.7355321292925328E-2]
[null,251,"2012-02-19",50,"Year 2",10,null,0.40803454382989962,197.28122445650445,{"$f":"1-J$4/J$5*EXP(-J$6*$I263)-(1-J$4/J$5)*EXP(J$6*$I263/(J$3-1))","v":0.5837101176815398},0.76846474811026166,0.85878078986637651,0.2360832376454379,0.74953001251397589,0.32025924540824302,1,0.99999568233341418,0.99995783575034336,0.10957424800881699,7.7644227418814715E-2]
[null,252,"2012-02-20",49,"Year 2",9.4444444444444446,null,0.39072650620559424,197.67195096271004,0.58454490052153663,0.76935049972650915,0.85930575020892463,0.23650838716698344,0.75065772540867592,0.3208616715365234,1,0.9999957976953322,0.99995877652705212,0.1099459261599065,7.7921191085898789E-2]
[null,253,"2012-02-21",50,"Year 2",10,null,0.40803454382989962,198.07998550653994,0.58541516896106738,0.77027222361308523,0.85985181827251378,0.23695218276626434,0.75183049338230012,0.32149047619015508,1,0.99999591487870232,0.99995973658160731,0.11033441308322778,7.8210748697124077E-2]
[null,254,"2012-02-22",49,"Year 2",9.4444444444444446,null,0.39072650620559424,198.47071201274554,0.58624709389457907,0.77115173248968139,0.86037267609014823,0.23737697452073089,0.75294883797578871,0.32209231344923728,1,0.99999602402750254,0.99996063495200649,0.11070674970559313,7.8488334405331095E-2]
[null,255,"2012-02-23",48,"Year 2",8.8888888888888893,null,0.3740887585553947,198.84480077130092,0.58704228571106321,0.77199094023922488,0.86086948583911949,0.23778351396433317,0.75401528755809033,0.32266825285470052,1,0.9999961257949247,0.99996147628216714,0.11106353164416516,7.8754383979275033E-2]
[null,256,"2012-02-24",49,"Year 2",9.4444444444444446,null,0.39072650620559424,199.23552727750652,0.58787147840405485,0.77286450271140095,0.8613864468366913,0.23820796309096515,0.75512471730698461,0.32326952416183186,1,0.99999622930847654,0.99996233584059813,0.11143649369507447,7.9032561910096222E-2]
[null,257,"2012-02-25",50,"Year 2",10,null,{"$f":"D$4^((1+(D$3+273.15)/10)*(1-(D$3+273.15)/(F269+273.15)))","v":0.40803454382989962},199.64356182133642,0.58873591367483857,0.77377353135950766,0.86192419533350029,0.23865102719919482,0.75627845258795567,0.32389712054466652,1,0.99999633445639258,0.99996321301220059,0.1118263158793863,7.9323383886822474E-2]
[null,258,"2012-02-26",48,"Year 2",8.8888888888888893,null,0.3740887585553947,{"$f":"H270+I269","v":200.01765057989181},0.58952709868109066,0.77460404274379868,0.86241531799500992,0.23905706352345263,0.75733187427260817,0.32447222671269021,1,0.99999642827839119,0.99996399924929635,0.11218401052776961,7.959029925292882E-2]
[null,259,{"$f":"C270+1","v":"2012-02-27"},47,"Year 2",8.3333333333333339,null,0.35809795738504446,200.37574853727685,0.59028326831177946,0.77539646801910911,0.86288376116376997,0.23944559305781452,0.75833639754406001,0.3250224995234095,1,0.99999651583944971,0.99996473613303682,0.11252668570739521,7.9846062298792875E-2]
[null,260,"2012-02-28",48,"Year 2",8.8888888888888893,null,0.3740887585553947,200.74983729583224,0.59107195674577062,0.77622158512364969,0.86337136797161163,0.23985131522466305,0.7593817479883691,0.3255970832019609,1,0.9999966050189385,0.99996548982071987,0.11288494453540665,8.0113514406609188E-2]
[null,261,"2012-02-29",51,"Backup",10.555555555555555,null,0.42603694935372055,201.17587424518595,{"$f":"1-J$4/J$5*EXP(-J$6*$I273)-(1-J$4/J$5)*EXP(J$6*$I273/(J$3-1))","v":0.5919686154137378},0.77715793913091213,0.86392451169427065,0.24031318286925438,0.76056726256199669,0.32625113100389785,1,0.99999670380571348,0.99996632857260515,0.11329330230712409,8.0418439109002926E-2]
[null,262,"2012-03-01",48,"Year 2",8.8888888888888893,null,0.3740887585553947,201.54996300374134,0.59275457989227964,0.7779771919269497,0.86440830642938038,0.24071856166822739,0.76160384718187413,0.32682514169736071,1,0.99999678817418458,0.99996704822922222,0.11365217275987582,8.0686474474422565E-2]
[null,263,"2012-03-02",50,"Year 2",10,null,0.40803454382989962,201.95799754757124,0.59361041447992691,0.77886767228473819,0.86493398214693762,0.24116054251775801,0.76272984373879771,0.32745093332042441,1,0.99999687773814527,0.99996781566461368,0.1140439320716955,8.0979141634619944E-2]
[null,264,"2012-03-03",52,"Year 2",11.111111111111111,null,0.44475855457972224,202.40275610215096,0.59454155381394447,0.77983460771881652,0.86550457933880587,0.24164208501889187,0.76395167383888141,0.32813268287668462,1,0.99999697252067155,0.99996863182875528,0.11447133403679677,8.1298516300553958E-2]
[null,265,"2012-03-04",52,"Year 2",{"$f":"5/9*(D277-32)","v":11.111111111111111},null,0.44475855457972224,202.84751465673068,0.59547089835199141,0.78079770550329641,0.86607269409086773,0.24212340052629944,0.76516777834843852,0.32881405129464403,1,0.99999706442594505,0.99996942729796823,0.11489913414966524,8.1618272358922495E-2]
[null,266,"2012-03-05",52,"Year 2",11.111111111111111,null,0.44475855457972224,203.2922732113104,0.59639844977753542,0.78175697734316318,0.86663833766640674,0.24260448901823853,0.76637817810071851,0.32949503781997735,1,0.99999715354130569,0.99997020259690605,0.11532733054912503,8.193840855931589E-2]
[null,267,"2012-03-06",54,"Year 2",12.222222222222223,null,0.48446258026253625,203.77673579157295,0.59740676623181188,0.78279754451282768,0.86725167799350289,0.24312826640043217,0.76769016441943227,0.3302363812387431,1,0.99999724753663011,0.99997102475479371,0.11579420121014483,8.2287554725390288E-2]
[null,268,"2012-03-07",54,"Year 2",12.222222222222223,null,0.48446258026253625,204.26119837183549,0.59841295934757022,0.78383360116920442,0.86786211395555701,0.24365177437340654,0.76899543359938716,0.33097726968299207,1,0.99999733842811678,0.99997182423032993,0.11626153747294488,8.2637148843702546E-2]
[null,269,"2012-03-08",54,"Year 2",12.222222222222223,null,0.48446258026253625,204.74566095209804,0.59941703133864044,0.78486516243574167,0.86846965989207769,0.24417501291019969,0.77029401253730834,0.33171770219388597,1,0.99999742631825483,0.99997260164918744,0.11672933694998966,8.2987189307803466E-2]
[null,270,"2012-03-09",54,"Year 2",12.222222222222223,null,0.48446258026253625,205.23012353236058,0.60041898443182473,0.78589224343302033,0.86907433006777912,0.24469798198424456,0.77158592811687354,0.33245767781813795,1,0.99999751130614933,0.99997335761978534,0.11719759725994217,8.3337674514577298E-2]
[null,271,"2012-03-10",54,"Year 2",12.222222222222223,null,0.48446258026253625,205.71458611262312,{"$f":"1-J$4/J$5*EXP(-J$6*$I283)-(1-J$4/J$5)*EXP(J$6*$I283/(J$3-1))","v":0.60141882086676224},0.78691485927808613,0.86967613867299831,0.24522068156936672,0.77287120720719049,0.33319719560799399,1,0.99999759348763284,0.99997409273376459,0.11766631602764921,8.3688602864234296E-2]
[null,272,"2012-03-11",54,"Year 2",12.222222222222223,null,0.48446258026253625,206.19904869288567,0.60241654289579827,0.78793302508379182,0.870275099824108,0.2457431116397851,0.77414987666130175,0.33393625462121346,1,0.99999767295537401,0.99997480756645041,0.11813549088412889,8.4039972760306059E-2]
[null,273,"2012-03-12",54,"Year 2",12.222222222222223,null,0.48446258026253625,206.68351127314821,0.60341215278385263,0.78894675595814789,0.87087122756392876,0.24626527217010971,0.77542196331471358,0.33467485392105156,1,0.99999774979898137,0.99997550267730206,0.11860511946655783,8.4391782609638644E-2]
[null,274,"2012-03-13",54,"Year 2",12.222222222222223,null,0.48446258026253625,207.16797385341076,0.60440565280828973,0.78995606700368448,0.87146453586213724,0.24678716313534152,0.77668749398395165,0.33541299257624069,1,0.99999782410510485,0.99997617861035026,0.11907519941825417,8.474403082238724E-2]
[null,275,"2012-03-14",56,"Year 2",13.333333333333334,null,0.52736111759084314,207.69533497100161,0.60548473028607785,0.79104974469736788,0.87210719212548338,0.24735496041801172,0.77805766464992365,0.33621596774022888,1,0.99999790220445728,0.99997689321489414,0.11958741468445178,8.5127966610686334E-2]
[null,276,"2012-03-15",57,"Year 2",13.888888888888889,null,0.55007899699107821,208.2454139679927,0.60660763488335945,0.79218499588555269,0.87277400996987298,0.24794687708664126,0.77947865362733137,0.33705294973493882,1,0.99999798068285084,0.99997761577322519,0.12012225903651963,8.5528991012990829E-2]
[null,277,"2012-03-16",58,"Year 2",14.444444444444445,null,0.57368203924829098,208.819096007241,0.60777583416572667,0.79336295593784822,0.87346562922026627,0.24856382166125324,0.78095173024452269,0.33792520859882647,1,0.99999805940283482,0.99997834527855545,0.1206806622134835,8.5947817755951395E-2]
[null,278,"2012-03-17",56,"Year 2",13.333333333333334,null,0.52736111759084314,209.34645712483186,0.60884711195459507,0.79444041815529376,0.87409799190325543,0.24913061858306348,0.78229790118599352,0.33872646372452131,1,0.99999812905678021,0.9999789948917448,0.12119452379842788,8.6333360776444379E-2]
[null,279,"2012-03-18",54,"Year 2",12.222222222222223,null,0.48446258026253625,209.8309197050944,0.60982905589586767,0.79542570407959812,0.87467604878077854,0.24965102740062456,0.78352787340714847,0.33946205396854978,1,0.99999819083924091,0.99997957447485264,0.12166704298576325,8.6687990301802187E-2]
[null,280,"2012-03-19",52,"Year 2",11.111111111111111,null,0.44475855457972224,210.27567825967412,0.61072868048377205,0.79632643564453254,0.8752043268596239,0.25012854876014229,0.78465142371710084,0.34013694832114738,1,0.99999824576049212,0.99998009246888653,0.12210122106952126,8.7013933202488181E-2]
[null,281,"2012-03-20",52,"Year 2",11.111111111111111,null,0.44475855457972224,210.72043681425384,{"$f":"1-J$4/J$5*EXP(-J$6*$I293)-(1-J$4/J$5)*EXP(J$6*$I293/(J$3-1))","v":0.61162654141200945},0.79722353633066823,0.87573031410343094,0.25060584278228232,0.78576961556677716,0.34081144876195424,1,0.9999982990145061,0.99998059732755129,0.12253576500346108,8.7340235710160807E-2]
[null,282,"2012-03-21",52,"Year 2",11.111111111111111,null,0.44475855457972224,211.16519536883357,0.61252264051941596,0.7981170177694018,0.87625402085928061,0.25108290945020761,0.78688246954080809,0.3414855546053458,1,0.99999835065189402,0.99998108938389219,0.12297067300353515,8.7666896615962386E-2]
[null,283,"2012-03-22",52,"Year 2",11.111111111111111,null,0.44475855457972224,211.60995392341329,0.61341697965283171,0.79900689158430638,0.87677545742492657,0.25155974874735304,0.78799000620159487,0.34215926516946749,1,0.9999984007217303,0.99998156896251134,0.12340594328997223,8.799391471334661E-2]
[null,284,"2012-03-23",53,"Year 2",11.666666666666668,null,0.46422496504035882,212.07417888845364,0.61434858746028509,0.79993187847262737,0.87731730616318515,0.25205721604691961,0.78914036879425187,0.34286204068502568,1,0.99999845136255838,0.99998205656496841,0.1238606491968135,8.8335625580291843E-2]
[null,285,"2012-03-24",52,"Year 2",11.111111111111111,null,0.44475855457972224,212.51893744303337,0.61523933539182385,0.80081441525866437,0.87783413481006212,0.252533590600443,0.79023710195731789,0.34353494128474749,1,0.99999849837512644,0.99998251161737983,0.12429665439481852,8.8663369951431759E-2]
[null,286,"2012-03-25",52,"Year 2",11.111111111111111,null,0.44475855457972224,212.96369599761309,0.61612832901916215,0.80169337974852406,0.87834872430973543,0.2530097377344338,0.79132858024949448,0.34420744455286983,1,0.99999854396053522,0.99998295513031332,0.12473301648819657,8.8991467855893069E-2]
[null,287,"2012-03-26",52,"Year 2",11.111111111111111,null,0.44475855457972224,213.40845455219281,0.61701557022069975,0.80256878353055072,0.87886108476303537,0.25348565743342055,0.79241482413544351,0.34487954982266317,1,0.99999858816210763,0.99998338739635861,0.1251697337143769,8.9319918096437911E-2]
[null,288,"2012-03-27",53,"Year 2",11.666666666666668,null,0.46422496504035882,213.87267951723317,0.61793977751530049,0.8034787170559462,0.87939350381364578,0.25398216481808428,0.79354305032106531,0.34558064689872203,1,0.99999863286774682,0.99998382689450549,0.1256259422798427,8.9663118620418869E-2]
[null,289,"2012-03-28",54,"Year 2",12.222222222222223,null,0.48446258026253625,214.35714209749571,0.61890224376213621,0.80442420970537643,0.87994656779714087,0.25450005289727651,0.79471442875787279,0.3463118439434793,1,0.99999867801350961,0.99998427315934668,0.12610244735794718,9.0021687233804548E-2]
[null,290,"2012-03-29",54,"Year 2",12.222222222222223,null,0.48446258026253625,214.84160467775826,0.61986263777696571,0.80536552053773192,0.88049702417189069,0.2550176710668372,0.79587967238341761,0.3470425663087664,1,0.99999872166847636,0.99998470711121035,0.1265793672854989,9.0380669464951158E-2]
[null,291,"2012-03-30",56,"Year 2",13.333333333333334,null,0.52736111759084314,215.36896579534911,{"$f":"1-J$4/J$5*EXP(-J$6*$I303)-(1-J$4/J$5)*EXP(J$6*$I303/(J$3-1))","v":0.62090572073691574},0.80638544704162973,0.88109327354187816,0.25558081681872513,0.79714115390451357,0.34783745262429222,1,0.99999876755194994,0.999985165889551,0.12709898679648468,9.0771907491150827E-2]
[null,292,"2012-03-31",56,"Year 2",13.333333333333334,null,0.52736111759084314,215.89632691293997,0.62194635435190382,0.80740045525972715,0.88168646463638534,0.25614364269896484,0.79839543109034838,0.34863177439776927,1,0.99999881178853522,0.99998561090566651,0.12761909230529689,9.1163631834424219E-2]
[null,293,"2012-04-01",58,"Year 2",14.444444444444445,null,0.57368203924829098,216.47000895218827,0.62307561458448713,0.80849905421899815,0.88232830491779179,0.25675554128257022,0.79975173629047402,0.3494952233098092,1,0.99999885810946776,0.99998607986355204,0.128185429960467,9.1590313365567E-2]
[null,294,"2012-04-02",60,"Year 2",15.555555555555557,null,0.62366729009892607,217.09367624228719,0.62429998873458037,0.80968682635371603,0.88302200955848964,0.25742032544167309,0.80121664114991642,0.35043314407094095,1,0.99999890642010858,0.99998657236013722,0.12880175720059572,9.2054819206805583E-2]
[null,295,"2012-04-03",58,"Year 2",14.444444444444445,null,0.57368203924829098,217.66735828153548,0.62542322071362277,0.81077340467770764,0.88365640373953791,0.25803143383224292,0.80255537588227666,0.35129519158374306,1,0.99999894905198616,0.99998700998491075,0.12936927612026639,9.2482688866492024E-2]
[null,296,"2012-04-04",56,"Year 2",13.333333333333334,null,0.52736111759084314,218.19471939912634,0.62645321705604606,0.81176720152070458,0.88423645540441786,0.25859286535874582,0.80377864850051683,0.3520870405005927,1,0.99999898677400745,0.99998739968221961,0.12989146607950708,9.2876509763005988E-2]
[null,297,"2012-04-05",58,"Year 2",14.444444444444445,null,0.57368203924829098,218.76840143837464,0.62757092176883289,0.81284282072842484,0.88486408172411146,0.25920324700885111,0.80510139235503664,0.35294779414410532,1,0.99999902627341708,0.99998781034497908,0.13046005706688202,9.3305462302951114E-2]
[null,298,"2012-04-06",58,"Year 2",14.444444444444445,null,0.57368203924829098,219.34208347762294,0.62868575274739424,0.81391276570560089,0.88548821156137403,0.25981324996368493,0.8064158673329338,0.35380787169076255,1,0.99999906423300411,0.9999882076243809,0.13102920128185624,9.3734975400148302E-2]
[null,299,"2012-04-07",58,"Year 2",14.444444444444445,null,0.57368203924829098,219.91576551687123,0.62979771423951247,0.8149770609664192,0.88610886517647247,0.26042287419813237,0.80772211642429026,0.35466727182048452,1,0.99999910071279496,0.99998859195654366,0.13159889506908529,9.4165046554349874E-2]
[null,300,"2012-04-08",56,"Year 2",13.333333333333334,null,0.52736111759084314,220.44312663446209,0.63081736476491679,0.81595045876775663,0.88667635599032979,0.26098294131596866,0.80891567518517415,0.35545668253179219,1,0.99999913299125409,0.99998893419756563,0.13212307163307124,9.4560882534970192E-2]
[null,301,"2012-04-09",54,"Year 2",12.222222222222223,null,0.48446258026253625,220.92758921472463,{"$f":"1-J$4/J$5*EXP(-J$6*$I313)-(1-J$4/J$5)*EXP(J$6*$I313/(J$3-1))","v":0.63175194021431058},0.81684050193605273,0.88719512341233031,0.26149716733102363,0.81000607759591681,0.35618137178119913,1,0.99999916162195857,0.9999892395434159,0.13260501285268034,9.4924931058273265E-2]
[null,302,"2012-04-10",54,"Year 2",12.222222222222223,null,0.48446258026253625,221.41205179498718,0.63268447774168957,0.8177265642079844,0.88771145125989193,0.26201112321661502,0.81109069812206369,0.35690557536833778,1,0.99999918930721687,0.99998953646409117,0.13308733883457857,9.5289372652262005E-2]
[null,303,"2012-04-11",56,"Year 2",13.333333333333334,null,0.52736111759084314,221.93941291257804,0.63369727671131404,0.81868657806796585,0.8882707400618074,0.26257028214999162,0.81226481791649252,0.35769335327178775,1,0.99999921840574924,0.99998985037131405,0.13361280899014871,9.5686530154397653E-2]
[null,304,"2012-04-12",56,"Year 2",13.333333333333334,null,0.52736111759084314,222.46677403016889,0.63470766730969097,0.81964191109989193,0.88882716755695523,0.26312912096364616,0.81343214998517244,0.35848055378833754,1,0.99999924645984473,0.99999015486174703,0.13413872968743634,9.6084149732860724E-2]
[null,305,"2012-04-13",56,"Year 2",13.333333333333334,null,0.52736111759084314,222.99413514775975,0.63571565291134235,0.82059258217319886,0.88938074896376218,0.26368763964113329,0.81459272728906229,0.35926717593403451,1,0.99999927350699069,0.99999045021785771,0.13466509813518468,9.6482229471745784E-2]
[null,306,"2012-04-14",56,"Year 2",13.333333333333334,null,0.52736111759084314,223.52149626535061,0.63672123690276339,0.82153861012622076,0.88993149941537886,0.26424583816651676,0.81574658271223655,0.36005321873178631,1,0.99999929958332923,0.99999073671364203,0.13519191155014787,9.6880767459523787E-2]
[null,307,"2012-04-15",56,"Year 2",13.333333333333334,null,0.52736111759084314,224.04885738294146,0.63772442268226281,0.82248001376562141,0.89047943396018958,0.26480371652436829,0.81689374906075329,0.36083868121133567,1,0.99999932472370545,0.99999101461487838,0.13571916715707177,9.7279761789031971E-2]
[null,308,"2012-04-16",58,"Year 2",14.444444444444445,null,0.57368203924829098,224.62253942218976,0.63881300413656195,0.82349887640042707,0.8910723162153521,0.26541023269178265,0.8181341191768815,0.36169247488155998,1,0.99999935104864102,0.99999130746673459,0.13629323334155385,9.77143179073795E-2]
[null,309,"2012-04-17",60,"Year 2",15.555555555555557,null,0.62366729009892607,225.24620671228868,0.63999322435127259,0.82460035816731359,0.89171311861956004,0.26606916508704165,0.81947367609798261,0.3626198782609894,1,0.99999937850435017,0.99999161501743639,0.13691790404746818,9.818734440427801E-2]
[null,310,"2012-04-18",60,"Year 2",15.555555555555557,null,0.62366729009892607,225.8698740023876,0.64117010611328307,0.82569545812746414,0.89235005073948603,0.26672764963430129,0.8208040270321455,0.36354646564314436,1,0.99999940479847649,0.99999191168714452,0.13754318058167869,9.8661000454436931E-2]
[null,311,"2012-04-19",60,"Year 2",15.555555555555557,null,0.62366729009892607,226.49354129248653,{"$f":"1-J$4/J$5*EXP(-J$6*$I323)-(1-J$4/J$5)*EXP(J$6*$I323/(J$3-1))","v":0.64234365512557701},0.82678420714796985,0.89298313686331987,0.26738568631168141,0.82212522565672874,0.36447223547204033,1,0.99999942998016333,0.99999219786079618,0.13816905841121008,9.9135282934752378E-2]
[null,312,"2012-04-20",60,"Year 2",15.555555555555557,null,0.62366729009892607,227.11720858258545,0.64351387711259278,0.82786663602827826,0.89361240111876172,0.26804327509828196,0.82343732548530335,0.36539718620479261,1,0.99999945409647462,0.99999247390971158,0.13879553301851733,9.9610188730569815E-2]
[null,313,"2012-04-21",60,"Year 2",15.555555555555557,null,0.62366729009892607,227.74087587268437,0.64468077781987321,0.82894277549903383,0.89423786747415079,0.2687004159741796,0.82474037986541571,0.36632131631155845,1,0.99999947719248328,0.99999274019207662,0.13942259990143979,0.10008571473566685]
[null,314,"2012-04-22",60,"Year 2",15.555555555555557,null,0.62366729009892607,228.36454316278329,0.64584436301371806,0.83001265622094522,0.89485955973958631,0.26935710892042569,0.82603444197641829,0.36724462427547933,1,0.99999949931135546,0.99999299705340683,0.14005025457315856,0.10056185785223182]
[null,315,"2012-04-23",60,"Year 2",15.555555555555557,null,0.62366729009892607,228.98821045288221,0.64700463848084033,0.83107630878367811,0.89547750156803874,0.27001335391904246,0.82731956482736224,0.36816710859262369,1,0.99999952049443086,0.9999932448269957,0.14067849256215248,0.10103861499084599]
[null,316,"2012-04-24",60,"Year 2",15.555555555555557,null,0.62366729009892607,229.61187774298114,0.64816161002802519,0.83213376370477421,0.89609171645645525,0.27066915095302091,0.82859580125495524,0.36908876777192928,1,0.9999995407813006,0.99999348383434694,0.14130730941215441,0.10151598307046306]
[null,317,"2012-04-25",60,"Year 2",15.555555555555557,null,0.62366729009892607,230.23554503308006,0.64931528348179124,0.83318505142859445,0.89670222774685371,0.2713245000063173,0.82986320392157964,0.37000960033514685,1,0.99999956020988046,0.99999371438559115,0.14193670068210917,0.10199395901838981]
[null,318,"2012-04-26",60,"Year 2",15.555555555555557,null,0.62366729009892607,230.85921232317898,0.65046566468805567,0.834230202325288,0.89730905862741095,0.27197940106385143,0.83112182531337186,0.37092960481678239,1,0.99999957881648249,0.99999393677988846,0.14256666194612821,0.10247253977026816]
[null,319,"2012-04-27",60,"Year 2",15.555555555555557,null,0.62366729009892607,231.4828796132779,0.65161275951180142,0.83526924668978531,0.8979122321335411,0.27263385411150232,0.83237171773836183,0.37184877976404096,1,0.99999959663588223,0.99999415130581637,0.14319718879344745,0.10295172227005389]
[null,320,"2012-04-28",60,"Year 2",15.555555555555557,null,0.62366729009892607,232.10654690337682,0.65275657383674834,0.83630221474081512,0.89851177114896763,0.2732878591361067,0.83361293332467079,0.37276712373677079,1,0.99999961370138424,0.99999435824174421,0.1438282768283845,0.10343150346999974]
[null,321,"2012-04-29",60,"Year 2",15.555555555555557,null,{"$f":"D$4^((1+(D$3+273.15)/10)*(1-(D$3+273.15)/(F333+273.15)))","v":0.62366729009892607},232.73021419347575,{"$f":"1-J$4/J$5*EXP(-J$6*$I333)-(1-J$4/J$5)*EXP(J$6*$I333/(J$3-1))","v":0.653897113565026},0.83732913661994479,0.89910769840678539,0.27394141612545581,0.83484552401876666,0.37368463530740625,1,0.99999963004488379,0.99999455785619351,0.14445992167029575,0.10391188033063359]
[null,322,"2012-04-30",60,"Year 2",15.555555555555557,null,0.62366729009892607,{"$f":"H334+I333","v":233.35388148357467},0.6550343846168496,0.8383500423906457,0.89970003649051644,0.27459452506829218,0.83606954158377589,0.37460131306091193,1,0.99999964569692668,0.99999475040818742,0.14509211895353236,0.10439284982074171]
[null,323,{"$f":"C334+1","v":"2012-05-01"},61,"Year 2",16.111111111111111,null,0.65011367229519368,234.00399515586986,0.65621640811438542,0.83940786748052387,0.90031369597359279,0.27527485189645717,0.83733639269535443,0.37555597308025956,1,0.99999966130819595,0.99999494387688648,0.14575170771067425,0.10489484223956702]
[null,324,"2012-05-02",62,"Year 2",16.666666666666668,null,0.67757361163871366,234.68156876750857,0.6574445928952013,0.84050348776623895,0.9009491782017699,0.27598339667342997,0.83864696222249069,0.37654998910756621,1,0.99999967684726954,0.9999951379334332,0.14643978514675515,0.1054187163014163]
[null,325,"2012-05-03",63,"Year 2",17.222222222222221,null,0.70608163640054389,235.38765040390911,0.6587203704134269,0.84163776741041629,0.90160697791588085,0.2767211898187964,0.84000210832400224,0.37758477440444038,1,0.99999969228207408,0.99999533223456538,0.14715748922466454,0.10596536404807666]
[null,326,"2012-05-04",64,"Year 2",17.777777777777779,null,0.73567329544354487,236.12332369935265,0.66004519346624868,0.84281155574311417,0.90228758155119426,0.2774892927006693,0.84140265806730574,0.37866178229599623,1,0.99999970758007151,0.99999552642394673,0.14790600005569121,0.10653571210378798]
[null,327,"2012-05-05",66,"Year 2",18.888888888888889,null,0.79825496637238269,236.92157866572504,0.66147762203842619,0.8440759822708267,0.90302062327276689,0.27832203064217031,0.84290929513769719,0.37982908394630877,1,0.99999972332033127,0.99999572800482228,0.14871901696644063,0.1071554849979961]
[null,328,"2012-05-06",66,"Year 2",18.888888888888889,null,0.79825496637238269,237.71983363209742,0.66290476164788381,0.84533088053135097,0.90374802746745131,0.27915403449253284,0.8444024492724298,0.38099500455217117,1,0.9999997382133341,0.9999959205026353,0.14953289147663729,0.10777619573727726]
[null,329,"2012-05-07",66,"Year 2",{"$f":"5/9*(D341-32)","v":18.888888888888889},null,0.79825496637238269,238.5180885984698,0.66432662498345785,0.84657631221279694,0.90446983909939305,0.27998530424363416,0.84588222587825523,0.38215954134896052,1,0.99999975230468552,0.99999610432664265,0.15034761467625335,0.10839783810035941]
[null,330,"2012-05-08",66,"Year 2",18.888888888888889,null,0.79825496637238269,239.31634356484219,0.66574322477503733,0.8478123387737474,0.90518610275585765,0.28081583988983816,0.84734872983549725,0.38332269160435689,1,0.99999976563753579,0.99999627986766282,0.15116317769448595,0.10902040588767581]
[null,331,"2012-05-09",64,"Year 2",17.777777777777779,null,0.73567329544354487,240.05201686028573,{"$f":"1-J$4/J$5*EXP(-J$6*$I343)-(1-J$4/J$5)*EXP(J$6*$I343/(J$3-1))","v":0.66704411610710779},0.84894318799700474,0.90584133823845725,0.2815806130861967,0.84868860005418068,0.38439342301413931,1,0.99999977728872647,0.99999643463433441,0.1519155381460916,0.10959497965783127]
[null,332,"2012-05-10",64,"Year 2",17.777777777777779,null,0.73567329544354487,240.78769015572928,0.66834055771866119,0.85006614873554209,0.90649193343496537,0.28234476276718823,0.85001736706266828,0.38546297238154503,1,0.99999978836068726,0.99999658296248251,0.15266859751220307,0.11017032937004645]
[null,333,"2012-05-11",65,"Year 2",18.333333333333336,null,0.76638518340670914,241.55407533913598,0.66968640001174429,0.85122765127823663,0.90716479062010513,0.28314015002761872,0.8513898846809379,0.38657591252090873,1,0.99999979930989291,0.99999673092420294,0.15345383047354555,0.11077051802699833]
[null,334,"2012-05-12",66,"Year 2",18.888888888888889,null,0.79825496637238269,242.35233030550836,0.67108309804557331,0.85242846477835477,0.90786035448129365,0.28396789365990915,0.85280685761518571,0.38773376497978107,1,0.99999981011257255,0.99999687823102879,0.15427250721860242,0.11139654921538433]
[null,335,"2012-05-13",68,"Year 2",20,null,0.86562439628783228,243.2179547017962,0.67259179314262862,0.85372032458078406,0.90860858856819526,0.28486466580008224,0.85432898122219625,0.38898775399701746,1,0.99999982117079733,0.99999703047802757,0.15516117821573883,0.11207642722168609]
[null,336,"2012-05-14",68,"Year 2",20,null,0.86562439628783228,244.08357909808404,0.67409438781304021,0.85500154464392797,0.90935059862231649,0.28576057471545585,0.85583621066108173,0.39024009440248048,1,0.99999983158504069,0.99999717530017462,0.15605077627851105,0.11275735103944251]
[null,337,"2012-05-15",66,"Year 2",18.888888888888889,null,0.79825496637238269,244.88183406445643,0.67547464678034497,0.85617368645860847,0.91002938988381865,0.28658599217816616,0.85721304695059297,0.39139350430548969,1,0.99999984065042924,0.99999730258350361,0.15687195127470621,0.1133862004494125]
[null,338,"2012-05-16",64,"Year 2",17.777777777777779,null,0.73567329544354487,245.61750735989997,0.67674212608276307,0.85724603153089596,0.91065035480145373,0.28734604848728051,0.85847091026574407,0.39245524308987034,1,0.9999998485724082,0.9999974148034646,0.15762943015741604,0.1139665257592728]
[null,339,"2012-05-17",63,"Year 2",17.222222222222221,null,0.70608163640054389,246.32358899630051,0.67795450955812364,0.858268157635099,0.91124221393713678,0.28807494600678518,0.85966830047200393,0.39347314875313477,1,0.99999985580509188,0.99999751811635729,0.15835704953851515,0.11452420410517106]
[null,340,"2012-05-18",63,"Year 2",17.222222222222221,null,0.70608163640054389,247.02967063270106,0.67916287377872508,0.85928338556684103,0.91183005847004872,0.28880326922349997,0.86085608631396582,0.39448994999039827,1,0.99999986269231955,0.99999761730060532,0.15908525971847376,0.11508255995407679]
[null,341,"2012-05-19",64,"Year 2",17.777777777777779,null,0.73567329544354487,247.7653439281446,{"$f":"1-J$4/J$5*EXP(-J$6*$I353)-(1-J$4/J$5)*EXP(J$6*$I353/(J$3-1))","v":0.68041761449523319},0.86033386743495799,0.91243829929432996,0.2895615053417393,0.86208350922599752,0.39554818843281681,1,0.99999986951850039,0.9999977164276973,0.15984461110164649,0.11566503255286065]
[null,342,"2012-05-20",66,"Year 2",18.888888888888889,null,0.79825496637238269,248.56359889451699,0.68177417985788491,0.86146534314343581,0.91309342289049145,0.29038353726757771,0.86340372503459817,0.39669508780491669,1,0.99999987654202294,0.99999781932777787,0.16066926903950129,0.11629787596378649]
[null,343,"2012-05-21",68,"Year 2",20,null,0.86562439628783228,249.42922329080483,0.68323947009617025,0.86268253420592855,0.91379816667251323,0.29127411580489015,0.86482180372183437,0.39793717785255672,1,0.99999988373169135,0.99999792567871781,0.16156435112845879,0.11698508833067878]
[null,344,"2012-05-22",67,"Year 2",19.444444444444446,null,0.83132140802218946,250.260544698827,0.68464106373567712,0.86384198171655968,0.91446947563730074,0.29212859004611519,0.86617051967739755,0.39912847367820359,1,0.99999989024200397,0.99999802292959494,0.16242476269078676,0.11764600087761135]
[null,345,"2012-05-23",68,"Year 2",20,null,0.86562439628783228,251.12616909511485,0.68609464558367106,0.86503944206863048,0.91516279913008192,0.29301747672492817,0.86756129696549666,0.40036728584653103,1,0.99999989663384536,0.99999811935106886,0.16332150015873104,0.11833514908629827]
[null,346,"2012-05-24",68,"Year 2",20,null,0.86562439628783228,251.99179349140269,0.68754227988745709,0.86622694647320153,0.91585037101527589,0.29390550043388841,0.86893832951744721,0.40160442168369553,1,0.99999990265345351,0.9999982110701503,0.16421906641104456,0.11902527369641547]
[null,347,"2012-05-25",68,"Year 2",20,null,0.86562439628783228,252.85741788769053,0.68898398357742052,0.86740456798077981,0.91653224066920969,0.29479266121743769,0.87030173918730558,0.4028398783645325,1,0.99999990832250596,0.99999829831616505,0.16511745095124875,0.11971636725638923]
[null,348,"2012-05-26",66,"Year 2",18.888888888888889,null,0.79825496637238269,253.65567285406291,0.69030824141213121,0.86848184175845844,0.91715603051074768,0.29561001168802947,0.8715470687574024,0.40397769185348775,1,0.99999991325730087,0.99999837499611599,0.16594663263920761,0.12035452705370497]
[null,349,"2012-05-27",68,"Year 2",20,null,0.86562439628783228,254.52129725035076,0.69173859311133834,0.86964067046220517,0.91782707653601847,0.29649551391673046,0.87288463221840296,0.40520991311959942,1,0.99999991830883106,0.99999845424757772,0.16684656077725379,0.12104746227936869]
[null,350,"2012-05-28",68,"Year 2",20,null,0.86562439628783228,255.3869216466386,0.69316306385994086,0.87078982765389201,0.91849256208480179,0.29738015336825013,0.874208924342327,0.4064404472036271,1,0.99999992306618168,0.99999852963399527,0.16774727682102764,0.12174134484285881]
[null,351,"2012-05-29",66,"Year 2",18.888888888888889,null,0.79825496637238269,256.18517661301098,{"$f":"1-J$4/J$5*EXP(-J$6*$I363)-(1-J$4/J$5)*EXP(J$6*$I363/(J$3-1))","v":0.69447147404633647},0.87184103884994002,0.91910136749094862,0.29819517887533203,0.87541849035890729,0.40757371419667643,1,0.99999992720735875,0.9999985958906128,0.16857858175716922,0.12238205749924713]
[null,352,"2012-05-30",66,"Year 2",18.888888888888889,null,0.79825496637238269,256.98343157938336,0.69577491096267452,0.8728841421716772,0.91970552184006404,0.29900947077042478,0.87661696391845079,0.40870554207363663,1,0.9999999311256258,0.99999865916165709,0.16941053993313582,0.12302356379563628]
[null,353,"2012-05-31",68,"Year 2",20,null,0.86562439628783228,257.84905597567121,0.69718274760872112,0.87400618058236978,0.92035545059808122,0.29989165650814653,0.87790415433570268,0.40993126277138614,1,0.99999993513658125,0.99999872455452243,0.1703134409158269,0.12372010087628094]
[null,354,"2012-06-01",68,"Year 2",20,null,0.86562439628783228,258.71468037195905,0.69858476902967848,0.87511882079780545,0.92099999976430613,0.30077297970492278,0.87917852556915299,0.41115528624175668,1,0.99999993891395589,0.99999878675820564,0.17121709048638856,0.12441755722876335]
[null,355,"2012-06-02",67,"Year 2",19.444444444444446,null,0.83132140802218946,259.54600177998122,0.69992577292504488,0.87617858755903877,0.9216139854410843,0.301618565918019,0.88039043620125623,0.4123292040615002,1,0.99999994233440392,0.99999884363931024,0.17208562549490369,0.12508823339226482]
[null,356,"2012-06-03",68,"Year 2",20,null,0.86562439628783228,260.41162617626907,0.70131644416344174,0.87727300716314871,0.92224812180055693,0.30249819841693992,0.88164001201334607,0.41354989306109513,1,0.99999994569260786,0.9999989000352707,0.1729907132935723,0.1257874708973401]
[null,357,"2012-06-04",67,"Year 2",19.444444444444446,null,0.83132140802218946,261.24294758429124,0.70264657939761554,0.87831540389080753,0.92285219114630535,0.30334216106702738,0.88282832114432452,0.4147206040036242,1,0.99999994873349296,0.99999895160559715,0.1738606110174814,0.12645984435738311]
[null,358,"2012-06-05",67,"Year 2",19.444444444444446,null,0.83132140802218946,262.07426899231342,0.70397141335271396,0.87934938440311672,0.92345146312047066,0.3041853284492867,0.88400522109160617,0.41588974066133488,1,0.99999995160410693,0.99999900075814419,0.17473116288445345,0.12713303966565026]
[null,359,"2012-06-06",68,"Year 2",20,null,0.86562439628783228,262.93989338860126,0.70534529675657021,0.88041715155955158,0.92407040700185972,0.30506244253232445,0.88521866606302557,0.4171054443210388,1,0.9999999544224828,0.99999904949145857,0.17563832223978393,0.12783487978881469]
[null,360,"2012-06-07",68,"Year 2",20,null,0.86562439628783228,263.8055177848891,0.70671346619958963,0.88147592798894581,0.92468423617308626,0.30593869452487876,0.88641996077031326,0.41831943648455205,1,0.99999995707672829,0.99999909584805724,0.17654617144436602,0.12853759704275181]
[null,361,"2012-06-08",68,"Year 2",20,null,0.86562439628783228,264.67114218117695,0.70807593897286603,0.88252578168170726,0.92529299429725487,0.30681408451409942,0.88760921621209499,0.41953171485483975,1,0.99999995957640164,0.99999913994385059,0.17745470067778268,0.12924118435646426]
[null,362,"2012-06-09",70,"Year 2",21.111111111111111,null,0.938105349059845,265.60924753023681,0.7095460830439414,0.88365354608082136,0.92594704977427122,0.30776179996722391,0.88888458536128401,0.42084356273125478,1,0.99999996212128572,0.99999918530704779,0.17844005987891931,0.13000465905594505]
[null,363,"2012-06-10",70,"Year 2",21.111111111111111,null,0.938105349059845,266.54735287929668,0.71100957889576755,0.8847709958964648,0.92659525480986471,0.30870850324264676,0.89014608331040035,0.42215339231625859,1,0.99999996450595563,0.99999922827760757,0.17942619390639858,0.13076913841827309]
[null,364,"2012-06-11",70,"Year 2",21.111111111111111,null,0.938105349059845,267.48545822835655,0.7124664486050718,0.88587821616201234,0.92723766344301939,0.30965419446331022,0.89139384817890188,0.42346120083199923,1,0.99999996674049796,0.99999926898172586,0.18041309045116249,0.13153461355131213]
[null,365,"2012-06-12",70,"Year 2",21.111111111111111,null,0.938105349059845,268.42356357741642,0.71391671426931669,0.88697529138727471,0.92787432919060198,0.31059887375628592,0.8926280169929186,0.42476698555051701,1,0.99999996883436382,0.99999930753894206,0.18140073726966954,0.13230107560010573]
[null,366,"2012-06-13",72,"Year 2",{"$f":"5/9*(D378-32)","v":22.222222222222221},null,{"$f":"D$4^((1+(D$3+273.15)/10)*(1-(D$3+273.15)/(F378+273.15)))","v":1.016040457620875},{"$f":"H378+I377","v":269.43960403503729},{"$f":"1-J$4/J$5*EXP(-J$6*$I378)-(1-J$4/J$5)*EXP(J$6*$I378/(J$3-1))","v":0.71548003969356844},0.88815216155484022,0.92855747038052461,0.31162089293261375,0.89394953732953919,0.42617896504571545,1,0.99999997095374316,0.99999934700866167,0.18247126720222862,0.13313231620808397]
[null,367,"2012-06-14",74,"Year 2",23.333333333333336,null,1.0997921338428738,270.53939616888016,0.71716355991619152,0.88941286169200529,0.92928947720334587,0.31272581912839159,0.89536239276211771,0.42770465023053295,1,0.99999997308569488,0.99999938720033887,0.18363099835828156,0.13403335575012809]
[null,368,"2012-06-15",74,"Year 2",23.333333333333336,null,1.0997921338428738,271.63918830272303,0.71883810248239999,0.89065999143897312,0.93001382546403444,0.31382935512296228,0.89675716424453866,0.4292275421429258,1,0.99999997506116456,0.99999942491823157,0.18479170654234967,0.13493571245779767]
[null,369,"2012-06-16",74,"Year 2",23.333333333333336,null,1.0997921338428738,272.7389804365659,0.7205037031154663,0.89189368329615892,0.93073059784091317,0.31493150114961077,0.898134064957544,0.43074763672987321,1,0.99999997689163789,0.99999946031459852,0.18595337247940569,0.13583937232073307]
[null,370,"2012-06-17",74,"Year 2",23.333333333333336,null,1.0997921338428738,273.83877257040876,0.72216039756305173,0.8931140687718544,0.9314398760794933,0.31603225744923025,0.89949330603991584,0.43226493002908095,1,0.99999997858775724,0.99999949353232753,0.18711597701529503,0.13674432139748016]
[null,371,"2012-06-18",74,"Year 2",23.333333333333336,null,1.0997921338428738,274.93856470425163,0.72380822159416469,0.89432127838226816,0.93214174100361569,0.31713162427028035,0.90083509659485783,0.43377941816823462,1,0.99999998015938407,0.99999952470551201,0.18827950111612379,0.13765054581520342]
[null,372,"2012-06-19",75,"Year 2",23.888888888888889,null,{"$f":"D$4^((1+(D$3+273.15)/10)*(1-(D$3+273.15)/(F384+273.15)))","v":1.1439680783213937},{"$f":"H384+I383","v":276.08253278257303},{"$f":"1-J$4/J$5*EXP(-J$6*$I384)-(1-J$4/J$5)*EXP(J$6*$I384/(J$3-1))","v":0.72551286111736202},0.8955631375376566,0.93286401807639152,0.31827367590998662,0.90221249019134397,0.43535175906579071,1,0.99999998167186344,0.9999995550966928,0.18949071649298221,0.13859450940646068]
[null,373,"2012-06-20",78,"Year 2",25.555555555555557,null,1.2862994266469954,277.36883220922005,0.72741822377540055,0.89694282832967809,0.93366679411457221,0.31955602560983903,0.90373926181966791,0.43711609401528084,1,0.99999998323525785,0.99999958695439262,0.19085376761881145,0.13965753098105349]
[null,374,"2012-06-21",80,"Year 2",26.666666666666668,null,1.3898874255150788,278.75871963473514,0.72946356793561473,0.8984140087187994,0.93452321359678026,0.32093951007837301,0.90536317566463054,0.43901818243711027,1,0.99999998477500596,0.99999961881851573,0.19232790803274946,0.14080805214714975]
[null,375,"2012-06-22",79,"Year 2",{"$f":"5/9*(D387-32)","v":26.111111111111111},null,1.3371867781505729,280.09590641288571,{"$f":"1-J$4/J$5*EXP(-J$6*$I387)-(1-J$4/J$5)*EXP(J$6*$I387/(J$3-1))","v":0.73141822743224272},0.89981040309296279,0.9353365115394463,0.3222684439440564,0.90690057762990739,0.4408438959989342,1,0.99999998612273655,0.99999964715204792,0.19374741363476122,0.141916779289468]
[null,376,"2012-06-23",79,"Year 2",{"$f":"5/9*(D388-32)","v":26.111111111111111},null,1.3371867781505729,281.43309319103628,0.73336007501027534,0.90118838936380186,0.93613950495238418,0.32359532604195668,0.90841388429205883,0.44266543260395058,1,0.99999998735116502,0.9999996733795351,0.19516812188989935,0.1430272770048332]
[null,377,"2012-06-24",76,"Year 2",{"$f":"5/9*(D389-32)","v":24.444444444444446},null,1.1897435120081656,282.62283670304447,0.73507708853224152,0.90239913850278575,0.93684540340773892,0.32477417665418051,0.90974035612447324,0.44428260342446968,1,0.99999998835241988,0.99999969507159303,0.19643316199254651,0.14401679601073969]
[null,378,"2012-06-25",76,"Year 2",{"$f":"5/9*(D390-32)","v":24.444444444444446},null,1.1897435120081656,283.81258021505266,0.73678405610852082,0.90359564668082548,0.93754334453225396,0.32595140383815313,0.91104827615652761,0.44589645893868229,1,0.99999998927441769,0.99999971532300813,0.19769910529188794,0.14500768068303649]
[null,379,"2012-06-26",76,"Year 2",{"$f":"5/9*(D391-32)","v":24.444444444444446},null,1.1897435120081656,285.00232372706085,0.73848102310235342,0.90477806783964776,0.93823342072317839,0.3271270079925796,0.9123378862943472,0.44750699523096293,1,0.9999999901234321,0.99999973422945787,0.19896592903112076,0.14599991422719016]
[null,380,"2012-06-27",76,"Year 2",{"$f":"5/9*(D392-32)","v":24.444444444444446},null,{"$f":"D$4^((1+(D$3+273.15)/10)*(1-(D$3+273.15)/(F392+273.15)))","v":1.1897435120081656},{"$f":"H392+I391","v":286.19206723906905},0.74016803486808025,0.90594655457921114,0.93891572325870953,0.3283009895259737,0.91360942577338167,0.44911420849900197,1,0.99999999090524039,0.99999975188026524,0.20023361060987488,0.14699347993881751]
[null,381,"2012-06-28",76,"Year 2",24.444444444444446,null,1.1897435120081656,287.38181075107724,0.74184513674743646,0.90710125816106668,0.9395903423123132,0.32947334885659885,0.91486313117359852,0.45071809505278149,1,0.99999999162516229,0.99999976835882143,0.20150212758335084,0.14798836120328251]
[null,382,"2012-06-29",74,"Year 2",23.333333333333336,null,1.0997921338428738,288.48160288492011,0.74338666513820073,0.90815653017243103,0.94020719951323461,0.33055562865540111,0.91600638967617654,0.45219775660901379,1,0.99999999223986324,0.99999978261643341,0.20267546116951318,0.14890917957257432]
[null,383,"2012-06-30",74,"Year 2",23.333333333333336,null,1.0997921338428738,289.58139501876298,0.74491980000176594,0.90920026995112524,0.94081763682232544,0.33163652298503909,0.91713479159660005,0.4536745696695903,1,0.99999999280944607,0.99999979599648636,0.20384947206595239,0.1498310949805739]
[null,384,"2012-07-01",74,"Year 2",23.333333333333336,null,1.0997921338428738,290.68118715260584,0.74644457710893675,0.91023259394349587,0.9414217230104942,0.33271603219787449,0.91824851782441708,0.45514853157132995,1,0.99999999333722234,0.99999980855299386,0.20502414289446114,0.15075409450626087]
[null,385,"2012-07-02",75,"Year 2",23.888888888888889,null,1.1439680783213937,291.82515523092724,0.74802177113925949,0.91129439520077105,0.94204340806016063,0.33383743333728644,0.91939160038122825,0.45667867087402675,1,0.99999999384513594,0.999999820794506,0.20624667902120991,0.15171530514048182]
[null,386,"2012-07-03",76,"Year 2",24.444444444444446,null,1.1897435120081656,293.01489874293543,0.74965256756927079,0.91238585252994342,0.94268283942888598,0.3350021179837892,0.92056399846243586,0.45826675967419633,1,0.99999999433234199,0.99999983269622328,0.20751885132294012,0.15271619231336064]
[null,387,{"$f":"C398+1","v":"2012-07-04"},76,"Year 2",24.444444444444446,null,1.1897435120081656,294.20464225494362,0.75127371371420915,0.91346436849095169,0.94331508379296203,0.33616518301154946,0.92171986870135303,0.45985150271711839,1,0.99999999478098189,0.99999984380750473,0.20879173326659373,0.15371830147223609]
[null,388,"2012-07-05",78,"Year 2",25.555555555555557,null,1.2862994266469954,295.49094168159064,0.75301562242079034,0.91461601852634,0.94399064956034207,0.33742081725068068,0.92295120463588431,0.46156109112835753,1,0.99999999522616567,0.99999985499185395,0.21016869200538735,0.15480309498030265]
[null,389,"2012-07-06",78,"Year 2",25.555555555555557,null,1.2862994266469954,296.77724110823766,0.75474636072725543,0.91575288595563453,0.94465801523942183,0.33867455950299252,0.92416375085617508,0.46326676162178149,1,0.99999999563337505,0.99999986537533658,0.21154642833726756,0.15588927801087094]
[null,390,"2012-07-07",76,"Year 2",24.444444444444446,null,{"$f":"D$4^((1+(D$3+273.15)/10)*(1-(D$3+273.15)/(F402+273.15)))","v":1.1897435120081656},{"$f":"H402+I401","v":297.96698462024585},{"$f":"1-J$4/J$5*EXP(-J$6*$I402)-(1-J$4/J$5)*EXP(J$6*$I402/(J$3-1))","v":0.75633728670036882},0.91679140793834069,0.94526807416177205,0.33983250600707055,0.92526878500757326,0.46484090534519173,1,0.99999999597902789,0.99999987431627857,0.21282141413105743,0.156895146447943]
[null,391,"2012-07-08",78,"Year 2",25.555555555555557,null,{"$f":"D$4^((1+(D$3+273.15)/10)*(1-(D$3+273.15)/(F403+273.15)))","v":1.2862994266469954},{"$f":"H403+I402","v":299.25328404689287},0.75804668303545963,0.91790031490506108,0.94591994216760755,0.34108260810475943,0.92644591987536329,0.46653902447769263,1,0.99999999632201808,0.99999988331601564,0.21420057237192713,0.15798394797742765]
[null,392,"2012-07-09",78,"Year 2",25.555555555555557,null,{"$f":"D$4^((1+(D$3+273.15)/10)*(1-(D$3+273.15)/(F404+273.15)))","v":1.2862994266469954},{"$f":"H404+I403","v":300.53958347353989},0.75974507542344971,0.91899495029546996,0.94656390571248539,0.34233082010690818,0.92760504572624636,0.46823321596060863,1,0.99999999663575101,0.99999989167131698,0.21558043076141054,0.15907408081840346]
[null,393,"2012-07-10",77,"Year 2",25,null,{"$f":"D$4^((1+(D$3+273.15)/10)*(1-(D$3+273.15)/(F405+273.15)))","v":1.2371697249893219},{"$f":"H405+I404","v":301.77675319852921},{"$f":"1-J$4/J$5*EXP(-J$6*$I405)-(1-J$4/J$5)*EXP(J$6*$I405/(J$3-1))","v":0.76136826972692451},0.92003447171752362,0.94717590772177862,0.34352957457951816,0.92870315133099257,0.46985899012557808,1,0.99999999691222519,0.99999989914251664,0.21690822224931194,0.16012381414779231]
[null,394,"2012-07-11",76,"Year 2",24.444444444444446,null,1.1897435120081656,302.9664967105374,0.76291973473492447,0.92102198085970743,0.94775771843392387,0.34468072740305711,0.92974388794567298,0.47141900895811495,1,0.999999997156647,0.99999990584085452,0.21818568029338664,0.16113443480604661]
[null,395,"2012-07-12",76,"Year 2",24.444444444444446,null,1.1897435120081656,304.15624022254559,0.76446192584780648,0.92199769953791022,0.9483330071669569,0.34583026492616742,0.9307698529613605,0.47297566043504191,1,0.99999999738172085,0.99999991209433048,0.21946367335433969,0.16214614609124567]
[null,396,"2012-07-13",76,"Year 2",24.444444444444446,null,1.1897435120081656,305.34598373455378,0.76599488781357605,0.92296175937005309,0.94890184902560848,0.34697818770742306,0.93178124494404702,0.47452894244230448,1,0.9999999975889784,0.99999991793248943,0.22074218123421263,0.16315893269608672]
[null,397,"2012-07-14",75,"Year 2",23.888888888888889,null,1.1439680783213937,306.48995181287518,0.76746020725942199,0.92387785371481501,0.94944279417674049,0.34808042189145594,0.93274016347186628,0.47601928247467562,1,0.99999999777277415,0.99999992318006392,0.22197196528410235,0.16413375217499226]
[null,398,"2012-07-15",75,"Year 2",{"$f":"5/9*(D410-32)","v":23.888888888888889},null,1.1439680783213937,307.63391989119657,0.7689170750583314,0.9247834044345139,0.94997791279931232,0.34918116423443857,0.93368596255858982,0.47750650375519726,1,0.99999999794255912,0.99999992809209759,0.22320218905132461,0.16510953828320196]
[null,399,"2012-07-16",75,"Year 2",23.888888888888889,null,1.1439680783213937,308.77788796951796,0.77036553081776893,0.92567852526656236,0.95050726933497143,0.35028041525592252,0.93461881257712098,0.47899060465542453,1,0.99999999809940088,0.99999993269004572,0.22443283495074723,0.16608627763058537]
[null,400,"2012-07-17",75,"Year 2",23.888888888888889,null,1.1439680783213937,309.92185604783936,0.77180561408484127,0.92656332889250326,0.95103092748472862,0.35137817548288658,0.93553888192551138,0.48047158362739772,1,0.99999999824428643,0.99999993699399137,0.22566388551684491,0.16706395689744502]
[null,401,"2012-07-18",75,"Year 2",23.888888888888889,null,1.1439680783213937,311.06582412616075,0.77323736434427692,0.92743792694371174,0.95154895021792074,0.35247444544969259,0.93644633704332692,0.48194943920291544,1,0.99999999837812725,0.99999994102273382,0.2268953234030559,0.16804256283421037]
[null,402,"2012-07-19",76,"Year 2",24.444444444444446,null,1.1897435120081656,312.25556763816894,0.77471760806155798,0.92833681425616699,0.95208179015636729,0.35361300190986583,0.9373768989714506,0.48348311572758829,1,0.99999999850651122,0.99999994493964695,0.22817642915227243,0.16906129616864196]
[null,403,"2012-07-20",77,"Year 2",25,null,1.2371697249893219,313.49273736315826,0.77624739153489342,0.92926008528823134,0.95262955146781669,0.35479523584827,0.93833047003186199,0.4850743422883419,1,0.99999999862924627,0.99999994873704712,0.22950900692264198,0.17012167089132046]
[null,404,"2012-07-21",75,"Year 2",23.888888888888889,null,1.1439680783213937,314.63670544147965,0.77765338369139381,0.93010353341562957,0.95313038049083887,0.35588685750526378,0.93919959940070907,0.48654243964233457,1,0.9999999987337409,0.99999995201491365,0.23074154353597631,0.17110308495207116]
[null,405,{"$f":"C415","v":"2012-07-20"},77,"Year 2",{"$f":"5/9*(D417-32)","v":25},null,{"$f":"D$4^((1+(D$3+273.15)/10)*(1-(D$3+273.15)/(F417+273.15)))","v":1.2371697249893219},{"$f":"H417+I416","v":315.87387516646896},0.77916472972936957,0.93100472126789191,0.95366595580857405,0.3570657412830085,0.94012609505374556,0.48812662480076707,1,0.99999999883780222,0.9999999553243476,0.23207485402963318,0.17216543897945047]
[null,406,{"$f":"C417+1","v":"2012-07-21"},75,"Year 2",23.888888888888889,null,1.1439680783213937,317.01784324479036,0.78055375827958096,0.93182798128896016,0.95415564617510273,0.35815426639270986,0.94097053008843767,0.48958820881330622,1,0.99999999892639835,0.99999995818100806,0.23330803176597414,0.17314865522828882]
[null,407,"2012-07-22",76,"Year 2",24.444444444444446,null,1.1897435120081656,318.20758675679855,0.78198978718778089,0.93267406896659699,0.95465935153249415,0.35928477120263203,0.94183642543631307,0.49110495633678791,1,0.99999999901138248,0.99999996095837362,0.23459085390301815,0.17417211179810521]
[null,408,"2012-07-23",76,"Year 2",24.444444444444446,null,1.1897435120081656,319.39733026880674,0.78341710998856529,0.93350995920056734,0.95515743200084879,0.36041366852233397,0.94268991916533296,0.49261831650239296,1,0.99999999908963921,0.9999999635512834,0.23587396285944906,0.17519646911705611]
[null,409,{"$f":"C419","v":"2012-07-22"},59,"Backup",15,null,0.59820093266305963,319.99553120146982,{"$f":"1-J$4/J$5*EXP(-J$6*$I421)-(1-J$4/J$5)*EXP(J$6*$I421/(J$3-1))","v":0.78413148997613624},0.9339264273447252,0.9554057612130572,0.36098066899410108,0.94311442252599875,0.49337795126490502,1,0.99999999912661475,0.99999996478919995,0.23651921031774925,0.17571184996999167]
[null,410,{"$f":"C421+1","v":"2012-07-23"},60,"Backup",15.555555555555557,null,0.62366729009892607,320.61919849156874,0.78487395652458491,0.93435792733492873,0.95566317420073121,0.361571375140541,0.94355372821715244,0.49416901269828262,1,0.99999999916356608,0.99999996603507169,0.23719199670286828,0.17624940807007627]
[null,411,"2012-07-24",61,"Backup",16.111111111111111,null,0.65011367229519368,321.26931216386396,0.78564538644372239,0.9348048107589858,0.95592989543383766,0.36218666014965717,0.94400813524819693,0.49499262741480132,1,0.99999999920042126,0.99999996728687124,0.23789338531421678,0.17681001613943248]
[null,412,"2012-07-25",62,"Backup",16.666666666666668,null,0.67757361163871366,321.94688577550266,0.78644666981313749,0.93526742395474982,0.95620614752911037,0.36282742371917687,0.94447793283469861,0.4958499533995715,1,0.99999999923710592,0.99999996854247075,0.23862447575650014,0.17739457813177995]
[null,413,"2012-07-26",63,"Backup",17.222222222222221,null,0.70608163640054389,322.65296741190321,0.78727870912048215,0.93574610672894998,0.95649215057150738,0.36349459256827321,0.94496339888149783,0.49674218035036866,1,0.99999999927354444,0.99999996979964934,0.239386404962181,0.17800403023401112]
[null,414,"2012-07-27",64,"Backup",17.777777777777779,null,0.73567329544354487,323.38864070734672,0.78814241829581777,0.93624119099182734,0.95678812138909042,0.36418912094065836,0.94546479838163366,0.4976705299796807,1,0.99999999930965988,0.99999997105610117,0.2401803482288285,0.17863934189353203]
[null,415,"2012-07-28",65,"Backup",18.333333333333336,null,0.76638518340670914,324.15502589075345,0.78903872163582667,0.93675299930599454,0.95709427278027481,0.36491199109733286,0.94598238173123228,0.4986362562748754,1,0.99999999934537498,0.99999997230944593,0.24100752027015038,0.17930151687134877]
[null,416,"2012-07-29",66,"Backup",18.888888888888889,null,0.79825496637238269,324.95328085712583,0.78996855261154275,0.93728184334829512,0.95741081269256778,0.36566421379714981,0.94651638296109264,0.49964064571210393,1,0.99999999938061213,0.99999997355724024,0.24186917627931315,0.1799915943207917]
[null,417,"2012-07-30",67,"Backup",19.444444444444446,null,0.83132140802218946,325.78460226514801,0.79093285255313384,0.93782802228387208,0.95773794335210916,0.36644682876321943,0.94706701788638514,0.50068501741927474,1,0.99999999941529416,0.99999997479698988,0.24276661300293478,0.18071064989164065]
[null,418,"2012-07-31",68,"Backup",20,null,0.86562439628783228,326.65022666143585,0.79193256920515775,0.93839182105212704,0.95807586034355874,0.36726090513304033,0.94763448217661306,0.50177072328312933,1,0.99999999944934503,0.99999997602616408,0.24370116982389595,0.18145979685929026]
[null,419,"2012-08-01",69,"Backup",20.555555555555557,null,0.90120497050261594,327.55143163193844,0.79296865514564241,0.93897350856481654,0.95842475164013097,0.36810754189009742,0.94821894934882134,0.50289914799513169,1,0.99999999948269036,0.99999997724221046,0.24467422985085951,0.18224018727845359]
[null,420,"2012-08-02",70,"Backup",21.111111111111111,null,0.938105349059845,328.48953698099831,0.79404206606230343,0.9395733358171392,0.95878479658386728,0.36898786827450991,0.94882056868793485,0.50407170903055787,1,0.99999999951525775,0.99999997844257171,0.24568722101209284,0.18305301316072053]
[null,421,"2012-08-03",71,"Backup",21.666666666666668,null,0.97636895758401132,329.4659059385823,0.7951537588791916,0.94019153391337029,0.95915616481656796,0.36990304417015191,0.94943946309910399,0.50528985655483005,1,0.99999999954697805,0.99999997962470311,0.24674161715087795,0.18389950767512941]
[null,422,"2012-08-04",72,"Backup",22.222222222222221,null,1.016040457620875,330.48194639620317,0.79630468972711566,0.94082831200936767,0.95953901516216256,0.37085426046550013,0.95007572689800868,0.50655507325078086,1,0.99999999957778529,0.99999998078609009,0.24783893911945332,0.18478094637067555]
[null,423,"2012-08-05",73,"Backup",22.777777777777779,null,1.0571657758524404,331.53911217205564,0.79749581175125805,0.94148385517512467,0.95993349446170062,0.37184273938528017,0.9507294235462328,0.5078688740601689,1,0.99999999960761765,0.99999998192426809,0.24898075586804758,0.18569864841946737]
[null,424,"2012-08-06",74,"Backup",23.333333333333336,null,1.0997921338428738,332.63890430589851,0.79872807274954361,0.94215832218147988,0.9603397363625884,0.37286973478980046,0.95140058334006405,0.50923280583238639,1,0.99999999963641795,0.99999998303684168,0.2501686855251688,0.18665397787899063]
[null,425,"2012-08-07",75,"Backup",23.888888888888889,null,1.1439680783213937,333.7828723842199,0.80000241263552208,0.94285184321611526,0.9607578600641693,0.37393653243866837,0.95208920106240791,0.51064844687290378,1,0.99999999966413433,0.99999998412150459,0.2514043964648599,0.18764834497164062]
[null,426,"2012-08-08",76,"Backup",24.444444444444446,null,1.1897435120081656,334.97261589622809,0.80131976071978672,0.94356451753507475,0.96118796902227677,0.37504445021537647,0.9527952336089065,0.51211740638360292,1,0.99999999969072073,0.99999998517605948,0.25268960835615617,0.18868320737938715]
[null,427,"2012-08-09",77,"Backup",25,null,1.2371697249893219,336.20978562121741,0.80268103280429715,0.94429641105723749,0.96163014961593996,0.37619483830903833,0.95351859760083624,0.51364132378673055,1,0.9999999997161374,0.99999998619843755,0.25402609318945812,0.18976007155108798]
[null,428,"2012-08-10",78,"Backup",25.555555555555557,null,1.2862994266469954,337.49608504786443,0.80408712808439697,0.94504755391044681,0.96208446978003681,0.37738907934933175,0.95425916699890867,0.51522186792379243,1,0.99999999974035092,0.9999999871867179,0.2554156762739721,0.19088049401958762]
[null,429,"2012-08-11",79,"Backup",26.111111111111111,null,1.3371867781505729,338.83327182601499,0.8055389258538288,0.94581793793937075,0.96255097760832087,0.37862858849047676,0.95501677073370084,0.51686073612027816,1,0.99999999976333531,0.99999998813914581,0.25686023719975981,0.19204608272532508]
[null,430,"2012-08-12",80,"Backup",26.666666666666668,null,1.3898874255150788,340.22315925153009,0.8070372820086712,0.94660751418660427,0.96302969993193988,0.37991481343984246,0.9557911903700963,0.51855965310668417,1,0.9999999997850717,0.99999998905414966,0.25836171075729708,0.19325849834272268]
[null,431,"2012-08-13",81,"Backup",27.222222222222225,null,1.4444585332327726,341.66761778476285,0.80858302534683457,0.94741619036004854,0.96352064087927736,0.38124923442652603,0.95658215782480061,0.52032036978586949,1,0.99999999980554855,0.99999998993035677,0.25992208780673082,0.19451945560513739]
[null,432,"2012-08-14",82,"Backup",27.777777777777779,null,1.5009588184839993,343.16857660324683,0.81017695366060416,0.94824382830118659,{"$f":"1-L$4/L$5*EXP(-L$6*$I444)-(1-L$4/L$5)*EXP(L$6*$I444/(L$3-1))","v":0.9640237804237024},0.38263336410499721,0.95738935315769114,0.52214466183634944,1,0.99999999982476218,0.99999999076660739,0.26154341608827969,0.19583072462360829]
[null,433,{"$f":"C444+1","v":"2012-08-15"},83,"Backup",{"$f":"5/9*(D445-32)","v":28.333333333333336},null,{"$f":"D$4^((1+(D$3+273.15)/10)*(1-(D$3+273.15)/(F445+273.15)))","v":1.5594485859332698},{"$f":"H445+I444","v":344.72802518918013},{"$f":"1-J$4/J$5*EXP(-J$6*$I445)-(1-J$4/J$5)*EXP(J$6*$I445/(J$3-1))","v":0.81181982962067634},0.94909024147052368,0.96453907292659835,0.38406874738863372,0.95821240245945594,0.52403432814071604,1,0.99999999984271637,0.99999999156196628,0.26322780096442222,0.19719413219405957]
[null,434,"2012-08-16",84,"Backup",28.888888888888889,null,1.61998976311659,346.34801495229669,0.81351237645124208,0.94995519246815063,0.96506644568384514,0.38555696120771432,0.95905087585963578,0.5259911890279535,1,0.99999999985942212,0.99999999231573222,0.26497740608366716,0.19861156308698125]
[null,435,"2012-08-17",85,"Backup",29.444444444444446,null,1.6826459364260606,348.03066088872276,0.81525527339691928,0.95083839060912256,0.9656057974847666,0.38709961418614608,0.95990428568079511,0.52801708431802197,1,0.99999999987489796,0.99999999302744524,0.26679445395478441,0.20008496131292353]
[null,436,"2012-08-18",86,"Backup",30,null,1.7474823876977226,349.77814327642051,0.81704915098373565,0.95173948957508148,0.96615699719339032,0.3886983462309298,0.96077208476606324,0.53011387115669628,1,0.99999999988916932,0.99999999369688974,0.26868122641942738,0.20161633135640505]
[null,437,"2012-08-19",87,"Backup",30.555555555555557,null,1.8145661314086066,351.59270940782909,0.81889458607793375,0.95265808516529793,0.96671988236272066,0.39035482802807486,0.96165366500869398,0.53228342162829589,1,0.99999999990226818,0.99999999432409625,0.27064006501004645,0.20320773937004227]
[null,438,"2012-08-20",88,"Backup",31.111111111111114,null,1.8839659524889836,353.4766753603181,0.82079209674810372,0.95359371317201469,0.96729425789357093,0.39207076043837774,0.96254835611353406,0.53452762013360944,1,0.99999999991423238,0.99999999490933889,0.27267337117894475,0.20486131431984617]
[null,439,"2012-08-21",89,"Backup",31.666666666666668,null,1.9557524447557404,355.43242780507381,0.82274213693806708,0.95454584740663917,0.96787989475033243,0.39384787378618924,0.96345542462133649,0.5368483605200316,1,0.99999999992510569,0.99999999545313012,0.274783606383181,0.20657924907173864]
[null,440,"2012-08-22",90,"Backup",32.222222222222221,null,2.0299980499727899,357.4624258550466,0.82474509096003812,0.95551389790490637,0.96847652874686718,0.39568792703398481,0.96437407322766744,0.53924754295069011,1,0.99999999993493616,0.99999999595621225,0.27697329200886917,0.20836380140834165]
[null,441,"2012-08-23",91,"Backup",32.777777777777779,null,2.1067770975445232,359.56920295259113,0.82680126781988017,0.95649720934059157,0.9690838594164809,0.39759270683525882,0.96530344042866978,0.54172707049914859,1,0.99999999994377631,0.99999999641954584,0.27924500911719141,0.21021729496408081]
[null,442,"2012-08-24",92,"Backup",33.333333333333336,null,2.1861658448480803,361.75536879743919,0.82891089538876572,0.95749505967866111,0.96970154898065153,0.39956402645795841,0.96624260052613409,0.54428884545615619,1,0.99999999995168198,0.99999999684429541,0.28160139799317457,0.21214212006552957]
[null,443,"2012-08-25",93,"Backup",33.888888888888893,null,2.2682425182103998,364.02361131564959,0.83107411443823043,0.95850665909985866,0.97032922143184053,0.40160372457037341,0.96719056402412396,0.54693476533485874,1,0.99999999995871158,0.99999999723181188,0.28404515747696929,0.21414073446276544]
[null,444,"2012-08-26",94,"Backup",34.444444444444443,null,2.3530873545358566,366.37669867018542,0.83329097255849693,0.95953114922959915,0.97096646174627987,0.40371366388110652,0.96814627844876611,0.5496667185609404,1,0.99999999996492528,0.99999999758361313,0.28657904405602425,0.21621566393627467]
[null,445,"2012-08-27",95,"Backup",35,null,2.4407826435903761,368.81748131377577,0.83556141798301431,0.96056760270463337,0.97161281524309739,0.4058957296244553,0.96910862962168509,0.55248657983429483,1,0.99999999997038447,0.99999999790136263,0.28920587069517673,0.2183695027626662]
[null,446,"2012-08-28",96,"Backup",35.555555555555557,null,2.5314127709477945,371.34889408472355,0.83788529334542949,0.96161502311120017,0.97226778710648454,0.40815182788226412,0.97007644341589683,0.55539620514909116,1,0.99999999997515066,0.99999999818684548,0.29192850538027815,0.22060491402109095]
[null,447,"2012-08-29",97,"Backup",36.111111111111114,null,2.6250642616042339,373.97395834632778,0.84026232939864143,0.96267234532826385,0.97293084208781944,0.41048388373303246,0.97104848802072474,0.55839742645948043,1,0.99999999997928457,0.99999999844194454,0.29474986934958014,0.22292462972087412]
[null,448,"2012-08-30",98,"Backup",36.666666666666671,null,2.721825824266316,376.6957841705941,0.84269213872919801,0.96373843630886469,0.97360140440470222,0.41289383921882045,0.97202347673941158,0.56149204597872437,1,0.99999999998284628,0.99999999866861511,0.29767293498569086,0.2253314507293887]

{"sheet":"uptake calcs","index":6,"n_rows":419,"n_cols":52,"rows_kept":419,"cut":false,"hidden":true,"merged":[]}
[null,null,null,null,null,null,"Adjust Karlen's times (GDD °C) to local conditons:","Karlen:",null,null,null,null,null,null,"Scenario 2:     Winter forage 130 lbs N/acre  planted Nov 4, harvest March 28",null,null,null,null,null,null,null,null,null,null,null,null,null,null,null,null,null,null,null,null,null,"Adjust Karlen's times (GDD °C) to local conditons:","Karlen:",null,null,null,null,null,null,null,null,"Karlen:"]
[null,null,"Adjust Karlen's metric yields to English:",null,null,null,null,"Linear","Start S","Start Flat","Start S","End S",null,null,"                Corn 240 lbs N/acre planted April 10, harvested Aug 8",null,null,null,null,null,null,null,null,null,null,null,null,null,null,null,null,null,"Adjust Karlen's metric yields to English:",null,null,null,null,"Linear","Start S","Start Flat","Start S","End S",null,null,null,null,"Linear","Start S","Start Flat","Start S","End S"]
[null,null,"Maize","GDD °C","GDD °C","GDD °C","GDD °C","GDD °C",0,491.05689999999998,764.22760000000005,991.86990000000003,1469.9186,null,"                Sudan 100 lbs N/acre planted Aug 15, harvest Oct 15",null,null,null,null,null,null,null,null,null,null,null,null,null,null,null,null,null,"Maize","GDD °C","GDD °C","GDD °C","GDD °C","GDD °C",182.1138,491.05689999999998,764.22760000000005,991.86990000000003,1469.9186,null,null,null,"GDD °C",182.1138,491.05689999999998,764.22760000000005,991.86990000000003,1469.9186]
[null,null,"CS, CH","180-491","491-765","765-991","991-1470","tM:",364.49175592288043,611.56171450391901,1265.95476983615,"Corn",{"$f":"VLOOKUP('daily uptake'!$AB$502,'daily uptake'!$AA$499:$AC$501,3)","v":1400},5926.7419024965593,null,null,null,null,null,null,null,null,null,null,null,null,null,null,null,null,null,null,"CS, CH","180-491","491-765","765-991","991-1470","tM:",364.49175592288043,611.56171450391901,1265.95476983615,"Corn",null,null,null,null,"tM:",364.49175592288043,611.56171450391901,1265.95476983615,"Corn"]
[null,null,"kg/ha",0,50.363100000000003,262.46969999999999,422.27600000000012,"N:",2.18627399578189E-2,2.0409473611461699,170259.65089950652,"Adj.",0.755,0.19001192305313824,null,null,null,0.21128219043603233,null,null,null,null,null,null,null,null,null,null,null,null,null,null,"kg/ha",0,50.363100000000003,262.46969999999999,422.27600000000012,"N:",2.18627399578189E-2,2.0409473611461699,170259.65089950652,"Adj.",null,null,null,null,"N:",2.18627399578189E-2,2.0409473611461699,170259.65089950652,"Adj."]
[null,null,"lb/ac",{"$f":"D5*0.893","v":0},{"$f":"E5*0.893","v":44.974248300000006},{"$f":"F5*0.893","v":234.38544210000001},{"$f":"G5*0.893","v":377.09246800000011},"B:",-2.6892642818102837E-2,-1.5895957126426167E-2,-6.2612840584429317E-3,"Factors",-2.0400000000000001E-3,-2.4415269659742471E-3,null,null,null,-4.6185553231075111E-3,null,null,null,null,null,null,null,null,null,null,null,null,null,null,"lb/ac",{"$f":"AH5*0.893","v":0},{"$f":"AI5*0.893","v":44.974248300000006},{"$f":"AJ5*0.893","v":234.38544210000001},{"$f":"AK5*0.893","v":377.09246800000011},"B:",-2.6892642818102837E-2,-1.5895957126426167E-2,-6.2612840584429317E-3,"Factors",null,null,null,null,"B:",-2.6892642818102837E-2,-1.5895957126426167E-2,-6.2612840584429317E-3,"Factors"]
[null,null,null,null,null,null,null,"tS:",{"$f":"I3","v":0},{"$f":"I9","v":491.05689999999998},{"$f":"L3","v":991.86990000000003},{"$f":"'daily uptake'!I11","v":250},null,null,null,null,null,null,null,null,null,null,null,null,null,null,null,null,null,null,null,null,null,null,null,null,null,"tS:",{"$f":"AM3","v":182.1138},{"$f":"AM9","v":491.05689999999998},{"$f":"AP3","v":991.86990000000003},{"$f":"'daily uptake'!I11","v":250},null,null,null,null,"tS:",{"$f":"AV3","v":182.1138},{"$f":"AV9","v":491.05689999999998},{"$f":"AY3","v":991.86990000000003},{"$f":"AP7","v":250}]
[null,null,null,null,null,null,null,"CS:",0,44.974248300000006,234.38544210000001,{"$f":"MAX(K12:K376)","v":292.62156139207212},null,null,null,null,null,null,null,null,null,null,null,null,null,null,null,null,null,null,null,null,null,null,null,null,null,"CS:",0,44.974248300000006,234.38544210000001,{"$f":"MAX(AO12:AO376)","v":326.98438017402481},null,null,null,null,"CS:",0,44.974248300000006,234.38544210000001,{"$f":"MAX(AX12:AX376)","v":0}]
[null,null,"Denair","Denair","Specific","Specific",null,"tH:",{"$f":"J3","v":491.05689999999998},{"$f":"K3","v":764.22760000000005},{"$f":"M3","v":1469.9186},null,{"$f":"MAX(E12:E419)","v":1663.8888888888882},{"$f":"MAX(G12:G419)","v":825.83333333333326},null,null,null,null,null,null,null,null,null,null,null,null,null,null,null,null,null,null,null,null,null,null,null,"tH:",{"$f":"AN3","v":491.05689999999998},{"$f":"AO3","v":764.22760000000005},{"$f":"AQ3","v":1469.9186},null,null,null,null,null,"tH:",{"$f":"AW3","v":491.05689999999998},{"$f":"AX3","v":764.22760000000005},{"$f":"AZ3","v":1469.9186}]
[null,null,"GDD °C","GDD °C","GDD °C","GDD °C",null,"CH:",{"$f":"E6","v":44.974248300000006},{"$f":"F6","v":234.38544210000001},{"$f":"G6","v":377.09246800000011},null,{"$f":"'daily uptake'!E11","v":140},{"$f":"'daily uptake'!P11","v":100},null,null,null,"Daily",null,null,null,null,null,null,null,null,null,null,null,null,null,null,null,null,null,null,null,"CH:",{"$f":"AI6","v":44.974248300000006},{"$f":"AJ6","v":234.38544210000001},{"$f":"AK6","v":377.09246800000011},null,null,null,null,null,"CH:",{"$f":"AO6","v":-6.2612840584429317E-3},{"$f":"AP6","v":"Factors"},{"$f":"AQ6","v":0}]
[null,"Date","Wheat","Corn","Wheat","Corn","Sudan","180-491","491-765","765-991-","Corn","Corn","Wheat","Sudan",{"$f":"B11","v":"Date"},"Total",{"$f":"B11","v":"Date"},"N demand (lb/ac)",null,null,null,null,null,null,"period ending","lbs this period","cumulative","% this period",null,null,null,null,null,null,null,"GDD",null,"180-491","491-765","765-991-","Corn","Corn",null,null,"GDD",null,"180-491","491-765","765-991-","Corn","Corn"]
[1,{"$f":"'daily uptake'!F95","v":"2010-11-01"},{"$f":"5/9*'daily uptake'!Q95","v":14.444444444444445},{"$f":"5/9*'daily uptake'!N95","v":5.8333333333333339},{"$f":"IF(AND($A12>='daily uptake'!$C$9,$A12<='daily uptake'!$C$10),$C12,0)","v":14.444444444444445},{"$f":"IF(AND($A12>='daily uptake'!$C$18,$A12<='daily uptake'!$C$20),$D12,0)","v":0},{"$f":"IF(AND($A12>='daily uptake'!$C$24,$A12<='daily uptake'!$C$25),$C12,0)","v":0},{"$f":"IF(OR(F12<=I7,F12>I9),0,I8+(I10-I8)*(1-((I5+EXP(I6*(I4-I7)))/(I5+EXP(I6*(I4-F12))))^I5)/(1-((I5+EXP(I6*(I4-I7)))/(I5+EXP(I6*(I4-I9))))^I5))","v":0},{"$f":"IF(OR(F12<=J7,F12>J9),0,J8+(J10-J8)*(1-((J5+EXP(J6*(J4-J7)))/(J5+EXP(J6*(J4-F12))))^J5)/(1-((J5+EXP(J6*(J4-J7)))/(J5+EXP(J6*(J4-J9))))^J5))","v":0},{"$f":"IF(OR(F12<=J9,F12>100000),0,IF(F12<=K7,K8,K8+(K10-K8)*(1-((K5+EXP(K6*(K4-K7)))/(K5+EXP(K6*(K4-F12))))^K5)/(1-((K5+EXP(K6*(K4-K7)))/(K5+EXP(K6*(K4-K9))))^K5)))","v":0},{"$f":"H12+I12+J12","v":0},{"$f":"IF(L$8=0,0,K12*L$7/L$8)","v":0},{"$f":"M$10*(1-(($M$5+EXP($M$6*$M$4))/($M$5+EXP($M$6*($M$4-$E12))))^$M$5)/(1-(($M$5+EXP($M$6*$M$4))/($M$5+EXP($M$6*($M$4-M$9))))^$M$5)","v":0.39322825405444589},{"$f":"N$10*(1-(($N$5+EXP($N$6*$N$4))/($N$5+EXP($N$6*($N$4-$G12))))^$N$5)/(1-(($N$5+EXP($N$6*$N$4))/($N$5+EXP($N$6*($N$4-N$9))))^$N$5)","v":0},"2010-11-01",{"$f":"MAX(L$12:L12)+MAX(M$12:M12)+MAX(N$12:N12)","v":0.39322825405444589},"2010-11-01",{"$f":"P12","v":0.39322825405444589},null,null,null,null,null,null,{"$f":"O38","v":"2010-11-27"},{"$f":"AA12-Z9","v":10.867449952341813},{"$f":"P38","v":10.867449952341813},{"$f":"Z12/AA$22","v":7.7624642516727238E-2},null,null,null,null,null,null,null,0,null,{"$f":"IF(OR(AJ12<=AM7,AJ12>AM9),0,AM8+(AM10-AM8)*(1-((AM5+EXP(AM6*(AM4-AM7)))/(AM5+EXP(AM6*(AM4-AJ12))))^AM5)/(1-((AM5+EXP(AM6*(AM4-AM7)))/(AM5+EXP(AM6*(AM4-AM9))))^AM5))","v":0},{"$f":"IF(OR(AJ12<=AN7,AJ12>AN9),0,AN8+(AN10-AN8)*(1-((AN5+EXP(AN6*(AN4-AN7)))/(AN5+EXP(AN6*(AN4-AJ12))))^AN5)/(1-((AN5+EXP(AN6*(AN4-AN7)))/(AN5+EXP(AN6*(AN4-AN9))))^AN5))","v":0},{"$f":"IF(OR(AJ12<=AN9,AJ12>100000),0,IF(AJ12<=AO7,AO8,AO8+(AO10-AO8)*(1-((AO5+EXP(AO6*(AO4-AO7)))/(AO5+EXP(AO6*(AO4-AJ12))))^AO5)/(1-((AO5+EXP(AO6*(AO4-AO7)))/(AO5+EXP(AO6*(AO4-AO9))))^AO5)))","v":0},{"$f":"AL12+AM12+AN12","v":0},{"$f":"IF(AP$8=0,0,AO12*AP$7/AP$8)","v":0},null,null,0,null,{"$f":"IF(OR(AS12<=AV7,AS12>AV9),0,AV8+(AV10-AV8)*(1-((AV5+EXP(AV6*(AV4-AV7)))/(AV5+EXP(AV6*(AV4-AS12))))^AV5)/(1-((AV5+EXP(AV6*(AV4-AV7)))/(AV5+EXP(AV6*(AV4-AV9))))^AV5))","v":0},{"$f":"IF(OR(AS12<=AW7,AS12>AW9),0,AW8+(AW10-AW8)*(1-((AW5+EXP(AW6*(AW4-AW7)))/(AW5+EXP(AW6*(AW4-AS12))))^AW5)/(1-((AW5+EXP(AW6*(AW4-AW7)))/(AW5+EXP(AW6*(AW4-AW9))))^AW5))","v":0},{"$f":"IF(OR(AS12<=AW9,AS12>100000),0,IF(AS12<=AX7,AX8,AX8+(AX10-AX8)*(1-((AX5+EXP(AX6*(AX4-AX7)))/(AX5+EXP(AX6*(AX4-AS12))))^AX5)/(1-((AX5+EXP(AX6*(AX4-AX7)))/(AX5+EXP(AX6*(AX4-AX9))))^AX5)))","v":0},{"$f":"AU12+AV12+AW12","v":0},{"$f":"IF(AY$8=0,0,AX12*AY$7/AY$8)","v":0}]
[2,{"$f":"'daily uptake'!F96","v":"2010-11-02"},{"$f":"5/9*'daily uptake'!Q96","v":16.111111111111111},{"$f":"5/9*'daily uptake'!N96","v":7.5},{"$f":"IF(AND($A13>='daily uptake'!$C$9,$A13<='daily uptake'!$C$10),$C13+E12,0)","v":30.555555555555557},{"$f":"IF(AND($A13>='daily uptake'!$C$18,$A13<='daily uptake'!$C$20),$D13+F12,0)","v":0},{"$f":"IF(AND($A13>='daily uptake'!$C$24,$A13<='daily uptake'!$C$25),$C13+G12,0)","v":0},{"$f":"IF(OR(F13<=I7,F13>I9),0,I8+(I10-I8)*(1-((I5+EXP(I6*(I4-I7)))/(I5+EXP(I6*(I4-F13))))^I5)/(1-((I5+EXP(I6*(I4-I7)))/(I5+EXP(I6*(I4-I9))))^I5))","v":0},{"$f":"IF(OR(F13<=J7,F13>J9),0,J8+(J10-J8)*(1-((J5+EXP(J6*(J4-J7)))/(J5+EXP(J6*(J4-F13))))^J5)/(1-((J5+EXP(J6*(J4-J7)))/(J5+EXP(J6*(J4-J9))))^J5))","v":0},{"$f":"IF(OR(F13<=J9,F13>100000),0,IF(F13<=K7,K8,K8+(K10-K8)*(1-((K5+EXP(K6*(K4-K7)))/(K5+EXP(K6*(K4-F13))))^K5)/(1-((K5+EXP(K6*(K4-K7)))/(K5+EXP(K6*(K4-K9))))^K5)))","v":0},0,{"$f":"IF(L$8=0,0,K13*L$7/L$8)","v":0},0.84391841041316717,{"$f":"N$10*(1-(($N$5+EXP($N$6*$N$4))/($N$5+EXP($N$6*($N$4-$G13))))^$N$5)/(1-(($N$5+EXP($N$6*$N$4))/($N$5+EXP($N$6*($N$4-N$9))))^$N$5)","v":0},"2010-11-02",{"$f":"MAX(L$12:L13)+MAX(M$12:M13)+MAX(N$12:N13)","v":0.84391841041316717},"2010-11-02",{"$f":"P13-P12","v":0.45069015635872128},null,null,null,null,null,null,{"$f":"O53","v":"2010-12-12"},{"$f":"AA13-AA12","v":7.4510209080570302},{"$f":"P53","v":18.318470860398843},5.322157791469307E-2,null,null,null,null,null,null,null,0,null,{"$f":"IF(OR(AJ13<=AM7,AJ13>AM9),0,AM8+(AM10-AM8)*(1-((AM5+EXP(AM6*(AM4-AM7)))/(AM5+EXP(AM6*(AM4-AJ13))))^AM5)/(1-((AM5+EXP(AM6*(AM4-AM7)))/(AM5+EXP(AM6*(AM4-AM9))))^AM5))","v":0},{"$f":"IF(OR(AJ13<=AN7,AJ13>AN9),0,AN8+(AN10-AN8)*(1-((AN5+EXP(AN6*(AN4-AN7)))/(AN5+EXP(AN6*(AN4-AJ13))))^AN5)/(1-((AN5+EXP(AN6*(AN4-AN7)))/(AN5+EXP(AN6*(AN4-AN9))))^AN5))","v":0},{"$f":"IF(OR(AJ13<=AN9,AJ13>100000),0,IF(AJ13<=AO7,AO8,AO8+(AO10-AO8)*(1-((AO5+EXP(AO6*(AO4-AO7)))/(AO5+EXP(AO6*(AO4-AJ13))))^AO5)/(1-((AO5+EXP(AO6*(AO4-AO7)))/(AO5+EXP(AO6*(AO4-AO9))))^AO5)))","v":0},0,{"$f":"IF(AP$8=0,0,AO13*AP$7/AP$8)","v":0},null,null,0,null,{"$f":"IF(OR(AS13<=AV7,AS13>AV9),0,AV8+(AV10-AV8)*(1-((AV5+EXP(AV6*(AV4-AV7)))/(AV5+EXP(AV6*(AV4-AS13))))^AV5)/(1-((AV5+EXP(AV6*(AV4-AV7)))/(AV5+EXP(AV6*(AV4-AV9))))^AV5))","v":0},{"$f":"IF(OR(AS13<=AW7,AS13>AW9),0,AW8+(AW10-AW8)*(1-((AW5+EXP(AW6*(AW4-AW7)))/(AW5+EXP(AW6*(AW4-AS13))))^AW5)/(1-((AW5+EXP(AW6*(AW4-AW7)))/(AW5+EXP(AW6*(AW4-AW9))))^AW5))","v":0},{"$f":"IF(OR(AS13<=AW9,AS13>100000),0,IF(AS13<=AX7,AX8,AX8+(AX10-AX8)*(1-((AX5+EXP(AX6*(AX4-AX7)))/(AX5+EXP(AX6*(AX4-AS13))))^AX5)/(1-((AX5+EXP(AX6*(AX4-AX7)))/(AX5+EXP(AX6*(AX4-AX9))))^AX5)))","v":0},0,{"$f":"IF(AY$8=0,0,AX13*AY$7/AY$8)","v":0}]
[3,{"$f":"'daily uptake'!F97","v":"2010-11-03"},{"$f":"5/9*'daily uptake'!Q97","v":17.5},{"$f":"5/9*'daily uptake'!N97","v":8.0555555555555554},{"$f":"IF(AND($A14>='daily uptake'!$C$9,$A14<='daily uptake'!$C$10),$C14+E13,0)","v":48.055555555555557},{"$f":"IF(AND($A14>='daily uptake'!$C$18,$A14<='daily uptake'!$C$20),$D14+F13,0)","v":0},{"$f":"IF(AND($A14>='daily uptake'!$C$24,$A14<='daily uptake'!$C$25),$C14+G13,0)","v":0},{"$f":"IF(OR(F14<=I7,F14>I9),0,I8+(I10-I8)*(1-((I5+EXP(I6*(I4-I7)))/(I5+EXP(I6*(I4-F14))))^I5)/(1-((I5+EXP(I6*(I4-I7)))/(I5+EXP(I6*(I4-I9))))^I5))","v":0},{"$f":"IF(OR(F14<=J7,F14>J9),0,J8+(J10-J8)*(1-((J5+EXP(J6*(J4-J7)))/(J5+EXP(J6*(J4-F14))))^J5)/(1-((J5+EXP(J6*(J4-J7)))/(J5+EXP(J6*(J4-J9))))^J5))","v":0},{"$f":"IF(OR(F14<=J9,F14>100000),0,IF(F14<=K7,K8,K8+(K10-K8)*(1-((K5+EXP(K6*(K4-K7)))/(K5+EXP(K6*(K4-F14))))^K5)/(1-((K5+EXP(K6*(K4-K7)))/(K5+EXP(K6*(K4-K9))))^K5)))","v":0},0,0,1.3482557662035544,0,"2010-11-03",{"$f":"MAX(L$12:L14)+MAX(M$12:M14)+MAX(N$12:N14)","v":1.3482557662035544},"2010-11-03",0.50433735579038719,null,null,null,null,null,null,{"$f":"O68","v":"2010-12-27"},9.0546702974863464,{"$f":"P68","v":27.37314115788519},6.4676216410616758E-2,null,null,null,null,null,null,null,0,null,{"$f":"IF(OR(AJ14<=AM7,AJ14>AM9),0,AM8+(AM10-AM8)*(1-((AM5+EXP(AM6*(AM4-AM7)))/(AM5+EXP(AM6*(AM4-AJ14))))^AM5)/(1-((AM5+EXP(AM6*(AM4-AM7)))/(AM5+EXP(AM6*(AM4-AM9))))^AM5))","v":0},{"$f":"IF(OR(AJ14<=AN7,AJ14>AN9),0,AN8+(AN10-AN8)*(1-((AN5+EXP(AN6*(AN4-AN7)))/(AN5+EXP(AN6*(AN4-AJ14))))^AN5)/(1-((AN5+EXP(AN6*(AN4-AN7)))/(AN5+EXP(AN6*(AN4-AN9))))^AN5))","v":0},{"$f":"IF(OR(AJ14<=AN9,AJ14>100000),0,IF(AJ14<=AO7,AO8,AO8+(AO10-AO8)*(1-((AO5+EXP(AO6*(AO4-AO7)))/(AO5+EXP(AO6*(AO4-AJ14))))^AO5)/(1-((AO5+EXP(AO6*(AO4-AO7)))/(AO5+EXP(AO6*(AO4-AO9))))^AO5)))","v":0},0,0,null,null,0,null,{"$f":"IF(OR(AS14<=AV7,AS14>AV9),0,AV8+(AV10-AV8)*(1-((AV5+EXP(AV6*(AV4-AV7)))/(AV5+EXP(AV6*(AV4-AS14))))^AV5)/(1-((AV5+EXP(AV6*(AV4-AV7)))/(AV5+EXP(AV6*(AV4-AV9))))^AV5))","v":0},{"$f":"IF(OR(AS14<=AW7,AS14>AW9),0,AW8+(AW10-AW8)*(1-((AW5+EXP(AW6*(AW4-AW7)))/(AW5+EXP(AW6*(AW4-AS14))))^AW5)/(1-((AW5+EXP(AW6*(AW4-AW7)))/(AW5+EXP(AW6*(AW4-AW9))))^AW5))","v":0},{"$f":"IF(OR(AS14<=AW9,AS14>100000),0,IF(AS14<=AX7,AX8,AX8+(AX10-AX8)*(1-((AX5+EXP(AX6*(AX4-AX7)))/(AX5+EXP(AX6*(AX4-AS14))))^AX5)/(1-((AX5+EXP(AX6*(AX4-AX7)))/(AX5+EXP(AX6*(AX4-AX9))))^AX5)))","v":0},0,0]
[4,{"$f":"'daily uptake'!F98","v":"2010-11-04"},{"$f":"5/9*'daily uptake'!Q98","v":17.777777777777779},{"$f":"5/9*'daily uptake'!N98","v":8.0555555555555554},{"$f":"IF(AND($A15>='daily uptake'!$C$9,$A15<='daily uptake'!$C$10),$C15+E14,0)","v":65.833333333333343},{"$f":"IF(AND($A15>='daily uptake'!$C$18,$A15<='daily uptake'!$C$20),$D15+F14,0)","v":0},{"$f":"IF(AND($A15>='daily uptake'!$C$24,$A15<='daily uptake'!$C$25),$C15+G14,0)","v":0},{"$f":"IF(OR(F15<=I7,F15>I9),0,I8+(I10-I8)*(1-((I5+EXP(I6*(I4-I7)))/(I5+EXP(I6*(I4-F15))))^I5)/(1-((I5+EXP(I6*(I4-I7)))/(I5+EXP(I6*(I4-I9))))^I5))","v":0},{"$f":"IF(OR(F15<=J7,F15>J9),0,J8+(J10-J8)*(1-((J5+EXP(J6*(J4-J7)))/(J5+EXP(J6*(J4-F15))))^J5)/(1-((J5+EXP(J6*(J4-J7)))/(J5+EXP(J6*(J4-J9))))^J5))","v":0},{"$f":"IF(OR(F15<=J9,F15>100000),0,IF(F15<=K7,K8,K8+(K10-K8)*(1-((K5+EXP(K6*(K4-K7)))/(K5+EXP(K6*(K4-F15))))^K5)/(1-((K5+EXP(K6*(K4-K7)))/(K5+EXP(K6*(K4-K9))))^K5)))","v":0},0,0,1.8767770260912613,0,"2010-11-04",{"$f":"MAX(L$12:L15)+MAX(M$12:M15)+MAX(N$12:N15)","v":1.8767770260912613},"2010-11-04",0.52852125988770693,null,null,null,null,null,null,{"$f":"O84","v":"2011-01-12"},6.4227557979075449,{"$f":"P84","v":33.795896955792735},4.5876827127911038E-2,null,null,null,null,null,null,null,0,null,{"$f":"IF(OR(AJ15<=AM7,AJ15>AM9),0,AM8+(AM10-AM8)*(1-((AM5+EXP(AM6*(AM4-AM7)))/(AM5+EXP(AM6*(AM4-AJ15))))^AM5)/(1-((AM5+EXP(AM6*(AM4-AM7)))/(AM5+EXP(AM6*(AM4-AM9))))^AM5))","v":0},{"$f":"IF(OR(AJ15<=AN7,AJ15>AN9),0,AN8+(AN10-AN8)*(1-((AN5+EXP(AN6*(AN4-AN7)))/(AN5+EXP(AN6*(AN4-AJ15))))^AN5)/(1-((AN5+EXP(AN6*(AN4-AN7)))/(AN5+EXP(AN6*(AN4-AN9))))^AN5))","v":0},{"$f":"IF(OR(AJ15<=AN9,AJ15>100000),0,IF(AJ15<=AO7,AO8,AO8+(AO10-AO8)*(1-((AO5+EXP(AO6*(AO4-AO7)))/(AO5+EXP(AO6*(AO4-AJ15))))^AO5)/(1-((AO5+EXP(AO6*(AO4-AO7)))/(AO5+EXP(AO6*(AO4-AO9))))^AO5)))","v":0},0,0,null,null,0,null,{"$f":"IF(OR(AS15<=AV7,AS15>AV9),0,AV8+(AV10-AV8)*(1-((AV5+EXP(AV6*(AV4-AV7)))/(AV5+EXP(AV6*(AV4-AS15))))^AV5)/(1-((AV5+EXP(AV6*(AV4-AV7)))/(AV5+EXP(AV6*(AV4-AV9))))^AV5))","v":0},{"$f":"IF(OR(AS15<=AW7,AS15>AW9),0,AW8+(AW10-AW8)*(1-((AW5+EXP(AW6*(AW4-AW7)))/(AW5+EXP(AW6*(AW4-AS15))))^AW5)/(1-((AW5+EXP(AW6*(AW4-AW7)))/(AW5+EXP(AW6*(AW4-AW9))))^AW5))","v":0},{"$f":"IF(OR(AS15<=AW9,AS15>100000),0,IF(AS15<=AX7,AX8,AX8+(AX10-AX8)*(1-((AX5+EXP(AX6*(AX4-AX7)))/(AX5+EXP(AX6*(AX4-AS15))))^AX5)/(1-((AX5+EXP(AX6*(AX4-AX7)))/(AX5+EXP(AX6*(AX4-AX9))))^AX5)))","v":0},0,0]
[5,{"$f":"'daily uptake'!F99","v":"2010-11-05"},{"$f":"5/9*'daily uptake'!Q99","v":20},{"$f":"5/9*'daily uptake'!N99","v":10},{"$f":"IF(AND($A16>='daily uptake'!$C$9,$A16<='daily uptake'!$C$10),$C16+E15,0)","v":85.833333333333343},{"$f":"IF(AND($A16>='daily uptake'!$C$18,$A16<='daily uptake'!$C$20),$D16+F15,0)","v":0},{"$f":"IF(AND($A16>='daily uptake'!$C$24,$A16<='daily uptake'!$C$25),$C16+G15,0)","v":0},{"$f":"IF(OR(F16<=I7,F16>I9),0,I8+(I10-I8)*(1-((I5+EXP(I6*(I4-I7)))/(I5+EXP(I6*(I4-F16))))^I5)/(1-((I5+EXP(I6*(I4-I7)))/(I5+EXP(I6*(I4-I9))))^I5))","v":0},{"$f":"IF(OR(F16<=J7,F16>J9),0,J8+(J10-J8)*(1-((J5+EXP(J6*(J4-J7)))/(J5+EXP(J6*(J4-F16))))^J5)/(1-((J5+EXP(J6*(J4-J7)))/(J5+EXP(J6*(J4-J9))))^J5))","v":0},{"$f":"IF(OR(F16<=J9,F16>100000),0,IF(F16<=K7,K8,K8+(K10-K8)*(1-((K5+EXP(K6*(K4-K7)))/(K5+EXP(K6*(K4-F16))))^K5)/(1-((K5+EXP(K6*(K4-K7)))/(K5+EXP(K6*(K4-K9))))^K5)))","v":0},0,0,2.4913840561955793,0,"2010-11-05",{"$f":"MAX(L$12:L16)+MAX(M$12:M16)+MAX(N$12:N16)","v":2.4913840561955793},"2010-11-05",0.61460703010431805,null,null,null,null,null,null,{"$f":"O99","v":"2011-01-27"},9.8555861202461585,{"$f":"P99","v":43.651483076038893},7.0397043716043994E-2,null,null,null,null,null,null,null,0,null,{"$f":"IF(OR(AJ16<=AM7,AJ16>AM9),0,AM8+(AM10-AM8)*(1-((AM5+EXP(AM6*(AM4-AM7)))/(AM5+EXP(AM6*(AM4-AJ16))))^AM5)/(1-((AM5+EXP(AM6*(AM4-AM7)))/(AM5+EXP(AM6*(AM4-AM9))))^AM5))","v":0},{"$f":"IF(OR(AJ16<=AN7,AJ16>AN9),0,AN8+(AN10-AN8)*(1-((AN5+EXP(AN6*(AN4-AN7)))/(AN5+EXP(AN6*(AN4-AJ16))))^AN5)/(1-((AN5+EXP(AN6*(AN4-AN7)))/(AN5+EXP(AN6*(AN4-AN9))))^AN5))","v":0},{"$f":"IF(OR(AJ16<=AN9,AJ16>100000),0,IF(AJ16<=AO7,AO8,AO8+(AO10-AO8)*(1-((AO5+EXP(AO6*(AO4-AO7)))/(AO5+EXP(AO6*(AO4-AJ16))))^AO5)/(1-((AO5+EXP(AO6*(AO4-AO7)))/(AO5+EXP(AO6*(AO4-AO9))))^AO5)))","v":0},0,0,null,null,0,null,{"$f":"IF(OR(AS16<=AV7,AS16>AV9),0,AV8+(AV10-AV8)*(1-((AV5+EXP(AV6*(AV4-AV7)))/(AV5+EXP(AV6*(AV4-AS16))))^AV5)/(1-((AV5+EXP(AV6*(AV4-AV7)))/(AV5+EXP(AV6*(AV4-AV9))))^AV5))","v":0},{"$f":"IF(OR(AS16<=AW7,AS16>AW9),0,AW8+(AW10-AW8)*(1-((AW5+EXP(AW6*(AW4-AW7)))/(AW5+EXP(AW6*(AW4-AS16))))^AW5)/(1-((AW5+EXP(AW6*(AW4-AW7)))/(AW5+EXP(AW6*(AW4-AW9))))^AW5))","v":0},{"$f":"IF(OR(AS16<=AW9,AS16>100000),0,IF(AS16<=AX7,AX8,AX8+(AX10-AX8)*(1-((AX5+EXP(AX6*(AX4-AX7)))/(AX5+EXP(AX6*(AX4-AS16))))^AX5)/(1-((AX5+EXP(AX6*(AX4-AX7)))/(AX5+EXP(AX6*(AX4-AX9))))^AX5)))","v":0},0,0]
[6,{"$f":"'daily uptake'!F100","v":"2010-11-06"},{"$f":"5/9*'daily uptake'!Q100","v":16.388888888888889},{"$f":"5/9*'daily uptake'!N100","v":6.3888888888888893},{"$f":"IF(AND($A17>='daily uptake'!$C$9,$A17<='daily uptake'!$C$10),$C17+E16,0)","v":102.22222222222223},{"$f":"IF(AND($A17>='daily uptake'!$C$18,$A17<='daily uptake'!$C$20),$D17+F16,0)","v":0},{"$f":"IF(AND($A17>='daily uptake'!$C$24,$A17<='daily uptake'!$C$25),$C17+G16,0)","v":0},{"$f":"IF(OR(F17<=I7,F17>I9),0,I8+(I10-I8)*(1-((I5+EXP(I6*(I4-I7)))/(I5+EXP(I6*(I4-F17))))^I5)/(1-((I5+EXP(I6*(I4-I7)))/(I5+EXP(I6*(I4-I9))))^I5))","v":0},{"$f":"IF(OR(F17<=J7,F17>J9),0,J8+(J10-J8)*(1-((J5+EXP(J6*(J4-J7)))/(J5+EXP(J6*(J4-F17))))^J5)/(1-((J5+EXP(J6*(J4-J7)))/(J5+EXP(J6*(J4-J9))))^J5))","v":0},{"$f":"IF(OR(F17<=J9,F17>100000),0,IF(F17<=K7,K8,K8+(K10-K8)*(1-((K5+EXP(K6*(K4-K7)))/(K5+EXP(K6*(K4-F17))))^K5)/(1-((K5+EXP(K6*(K4-K7)))/(K5+EXP(K6*(K4-K9))))^K5)))","v":0},0,0,3.0112376076912617,0,"2010-11-06",{"$f":"MAX(L$12:L17)+MAX(M$12:M17)+MAX(N$12:N17)","v":3.0112376076912617},"2010-11-06",0.51985355149568235,null,null,null,null,null,null,{"$f":"O115","v":"2011-02-12"},12.848637562713421,{"$f":"P115","v":56.500120638752314},9.1775982590810143E-2,null,null,null,null,null,null,null,0,null,{"$f":"IF(OR(AJ17<=AM7,AJ17>AM9),0,AM8+(AM10-AM8)*(1-((AM5+EXP(AM6*(AM4-AM7)))/(AM5+EXP(AM6*(AM4-AJ17))))^AM5)/(1-((AM5+EXP(AM6*(AM4-AM7)))/(AM5+EXP(AM6*(AM4-AM9))))^AM5))","v":0},{"$f":"IF(OR(AJ17<=AN7,AJ17>AN9),0,AN8+(AN10-AN8)*(1-((AN5+EXP(AN6*(AN4-AN7)))/(AN5+EXP(AN6*(AN4-AJ17))))^AN5)/(1-((AN5+EXP(AN6*(AN4-AN7)))/(AN5+EXP(AN6*(AN4-AN9))))^AN5))","v":0},{"$f":"IF(OR(AJ17<=AN9,AJ17>100000),0,IF(AJ17<=AO7,AO8,AO8+(AO10-AO8)*(1-((AO5+EXP(AO6*(AO4-AO7)))/(AO5+EXP(AO6*(AO4-AJ17))))^AO5)/(1-((AO5+EXP(AO6*(AO4-AO7)))/(AO5+EXP(AO6*(AO4-AO9))))^AO5)))","v":0},0,0,null,null,0,null,{"$f":"IF(OR(AS17<=AV7,AS17>AV9),0,AV8+(AV10-AV8)*(1-((AV5+EXP(AV6*(AV4-AV7)))/(AV5+EXP(AV6*(AV4-AS17))))^AV5)/(1-((AV5+EXP(AV6*(AV4-AV7)))/(AV5+EXP(AV6*(AV4-AV9))))^AV5))","v":0},{"$f":"IF(OR(AS17<=AW7,AS17>AW9),0,AW8+(AW10-AW8)*(1-((AW5+EXP(AW6*(AW4-AW7)))/(AW5+EXP(AW6*(AW4-AS17))))^AW5)/(1-((AW5+EXP(AW6*(AW4-AW7)))/(AW5+EXP(AW6*(AW4-AW9))))^AW5))","v":0},{"$f":"IF(OR(AS17<=AW9,AS17>100000),0,IF(AS17<=AX7,AX8,AX8+(AX10-AX8)*(1-((AX5+EXP(AX6*(AX4-AX7)))/(AX5+EXP(AX6*(AX4-AS17))))^AX5)/(1-((AX5+EXP(AX6*(AX4-AX7)))/(AX5+EXP(AX6*(AX4-AX9))))^AX5)))","v":0},0,0]
[7,{"$f":"'daily uptake'!F101","v":"2010-11-07"},{"$f":"5/9*'daily uptake'!Q101","v":11.944444444444445},{"$f":"5/9*'daily uptake'!N101","v":1.9444444444444446},{"$f":"IF(AND($A18>='daily uptake'!$C$9,$A18<='daily uptake'!$C$10),$C18+E17,0)","v":114.16666666666667},{"$f":"IF(AND($A18>='daily uptake'!$C$18,$A18<='daily uptake'!$C$20),$D18+F17,0)","v":0},{"$f":"IF(AND($A18>='daily uptake'!$C$24,$A18<='daily uptake'!$C$25),$C18+G17,0)","v":0},{"$f":"IF(OR(F18<=I7,F18>I9),0,I8+(I10-I8)*(1-((I5+EXP(I6*(I4-I7)))/(I5+EXP(I6*(I4-F18))))^I5)/(1-((I5+EXP(I6*(I4-I7)))/(I5+EXP(I6*(I4-I9))))^I5))","v":0},{"$f":"IF(OR(F18<=J7,F18>J9),0,J8+(J10-J8)*(1-((J5+EXP(J6*(J4-J7)))/(J5+EXP(J6*(J4-F18))))^J5)/(1-((J5+EXP(J6*(J4-J7)))/(J5+EXP(J6*(J4-J9))))^J5))","v":0},{"$f":"IF(OR(F18<=J9,F18>100000),0,IF(F18<=K7,K8,K8+(K10-K8)*(1-((K5+EXP(K6*(K4-K7)))/(K5+EXP(K6*(K4-F18))))^K5)/(1-((K5+EXP(K6*(K4-K7)))/(K5+EXP(K6*(K4-K9))))^K5)))","v":0},0,0,3.3995287522513995,0,"2010-11-07",{"$f":"MAX(L$12:L18)+MAX(M$12:M18)+MAX(N$12:N18)","v":3.3995287522513995},"2010-11-07",0.3882911445601378,null,null,null,null,null,null,{"$f":"O130","v":"2011-02-27"},12.74161957993055,{"$f":"P130","v":69.241740218682864},9.1011568428075354E-2,null,null,null,null,null,null,null,0,null,{"$f":"IF(OR(AJ18<=AM7,AJ18>AM9),0,AM8+(AM10-AM8)*(1-((AM5+EXP(AM6*(AM4-AM7)))/(AM5+EXP(AM6*(AM4-AJ18))))^AM5)/(1-((AM5+EXP(AM6*(AM4-AM7)))/(AM5+EXP(AM6*(AM4-AM9))))^AM5))","v":0},{"$f":"IF(OR(AJ18<=AN7,AJ18>AN9),0,AN8+(AN10-AN8)*(1-((AN5+EXP(AN6*(AN4-AN7)))/(AN5+EXP(AN6*(AN4-AJ18))))^AN5)/(1-((AN5+EXP(AN6*(AN4-AN7)))/(AN5+EXP(AN6*(AN4-AN9))))^AN5))","v":0},{"$f":"IF(OR(AJ18<=AN9,AJ18>100000),0,IF(AJ18<=AO7,AO8,AO8+(AO10-AO8)*(1-((AO5+EXP(AO6*(AO4-AO7)))/(AO5+EXP(AO6*(AO4-AJ18))))^AO5)/(1-((AO5+EXP(AO6*(AO4-AO7)))/(AO5+EXP(AO6*(AO4-AO9))))^AO5)))","v":0},0,0,null,null,0,null,{"$f":"IF(OR(AS18<=AV7,AS18>AV9),0,AV8+(AV10-AV8)*(1-((AV5+EXP(AV6*(AV4-AV7)))/(AV5+EXP(AV6*(AV4-AS18))))^AV5)/(1-((AV5+EXP(AV6*(AV4-AV7)))/(AV5+EXP(AV6*(AV4-AV9))))^AV5))","v":0},{"$f":"IF(OR(AS18<=AW7,AS18>AW9),0,AW8+(AW10-AW8)*(1-((AW5+EXP(AW6*(AW4-AW7)))/(AW5+EXP(AW6*(AW4-AS18))))^AW5)/(1-((AW5+EXP(AW6*(AW4-AW7)))/(AW5+EXP(AW6*(AW4-AW9))))^AW5))","v":0},{"$f":"IF(OR(AS18<=AW9,AS18>100000),0,IF(AS18<=AX7,AX8,AX8+(AX10-AX8)*(1-((AX5+EXP(AX6*(AX4-AX7)))/(AX5+EXP(AX6*(AX4-AS18))))^AX5)/(1-((AX5+EXP(AX6*(AX4-AX7)))/(AX5+EXP(AX6*(AX4-AX9))))^AX5)))","v":0},0,0]
[8,{"$f":"'daily uptake'!F102","v":"2010-11-08"},{"$f":"5/9*'daily uptake'!Q102","v":10.277777777777779},{"$f":"5/9*'daily uptake'!N102","v":2.7777777777777777},{"$f":"IF(AND($A19>='daily uptake'!$C$9,$A19<='daily uptake'!$C$10),$C19+E18,0)","v":124.44444444444446},{"$f":"IF(AND($A19>='daily uptake'!$C$18,$A19<='daily uptake'!$C$20),$D19+F18,0)","v":0},{"$f":"IF(AND($A19>='daily uptake'!$C$24,$A19<='daily uptake'!$C$25),$C19+G18,0)","v":0},{"$f":"IF(OR(F19<=I7,F19>I9),0,I8+(I10-I8)*(1-((I5+EXP(I6*(I4-I7)))/(I5+EXP(I6*(I4-F19))))^I5)/(1-((I5+EXP(I6*(I4-I7)))/(I5+EXP(I6*(I4-I9))))^I5))","v":0},{"$f":"IF(OR(F19<=J7,F19>J9),0,J8+(J10-J8)*(1-((J5+EXP(J6*(J4-J7)))/(J5+EXP(J6*(J4-F19))))^J5)/(1-((J5+EXP(J6*(J4-J7)))/(J5+EXP(J6*(J4-J9))))^J5))","v":0},{"$f":"IF(OR(F19<=J9,F19>100000),0,IF(F19<=K7,K8,K8+(K10-K8)*(1-((K5+EXP(K6*(K4-K7)))/(K5+EXP(K6*(K4-F19))))^K5)/(1-((K5+EXP(K6*(K4-K7)))/(K5+EXP(K6*(K4-K9))))^K5)))","v":0},0,0,3.7401087418775769,0,"2010-11-08",{"$f":"MAX(L$12:L19)+MAX(M$12:M19)+MAX(N$12:N19)","v":3.7401087418775769},"2010-11-08",0.34057998962617742,null,null,null,null,null,null,{"$f":"O143","v":"2011-03-12"},16.892333116083392,{"$f":"P143","v":86.134073334766256},0.12065952225773852,null,null,null,null,null,null,null,0,null,{"$f":"IF(OR(AJ19<=AM7,AJ19>AM9),0,AM8+(AM10-AM8)*(1-((AM5+EXP(AM6*(AM4-AM7)))/(AM5+EXP(AM6*(AM4-AJ19))))^AM5)/(1-((AM5+EXP(AM6*(AM4-AM7)))/(AM5+EXP(AM6*(AM4-AM9))))^AM5))","v":0},{"$f":"IF(OR(AJ19<=AN7,AJ19>AN9),0,AN8+(AN10-AN8)*(1-((AN5+EXP(AN6*(AN4-AN7)))/(AN5+EXP(AN6*(AN4-AJ19))))^AN5)/(1-((AN5+EXP(AN6*(AN4-AN7)))/(AN5+EXP(AN6*(AN4-AN9))))^AN5))","v":0},{"$f":"IF(OR(AJ19<=AN9,AJ19>100000),0,IF(AJ19<=AO7,AO8,AO8+(AO10-AO8)*(1-((AO5+EXP(AO6*(AO4-AO7)))/(AO5+EXP(AO6*(AO4-AJ19))))^AO5)/(1-((AO5+EXP(AO6*(AO4-AO7)))/(AO5+EXP(AO6*(AO4-AO9))))^AO5)))","v":0},0,0]
[9,{"$f":"'daily uptake'!F103","v":"2010-11-09"},{"$f":"5/9*'daily uptake'!Q103","v":10.277777777777779},{"$f":"5/9*'daily uptake'!N103","v":3.8888888888888893},{"$f":"IF(AND($A20>='daily uptake'!$C$9,$A20<='daily uptake'!$C$10),$C20+E19,0)","v":134.72222222222223},{"$f":"IF(AND($A20>='daily uptake'!$C$18,$A20<='daily uptake'!$C$20),$D20+F19,0)","v":0},{"$f":"IF(AND($A20>='daily uptake'!$C$24,$A20<='daily uptake'!$C$25),$C20+G19,0)","v":0},{"$f":"IF(OR(F20<=I7,F20>I9),0,I8+(I10-I8)*(1-((I5+EXP(I6*(I4-I7)))/(I5+EXP(I6*(I4-F20))))^I5)/(1-((I5+EXP(I6*(I4-I7)))/(I5+EXP(I6*(I4-I9))))^I5))","v":0},{"$f":"IF(OR(F20<=J7,F20>J9),0,J8+(J10-J8)*(1-((J5+EXP(J6*(J4-J7)))/(J5+EXP(J6*(J4-F20))))^J5)/(1-((J5+EXP(J6*(J4-J7)))/(J5+EXP(J6*(J4-J9))))^J5))","v":0},{"$f":"IF(OR(F20<=J9,F20>100000),0,IF(F20<=K7,K8,K8+(K10-K8)*(1-((K5+EXP(K6*(K4-K7)))/(K5+EXP(K6*(K4-F20))))^K5)/(1-((K5+EXP(K6*(K4-K7)))/(K5+EXP(K6*(K4-K9))))^K5)))","v":0},0,0,4.0867627649349352,0,"2010-11-09",{"$f":"MAX(L$12:L20)+MAX(M$12:M20)+MAX(N$12:N20)","v":4.0867627649349352},"2010-11-09",0.34665402305735826,null,null,null,null,null,null,{"$f":"O158","v":"2011-03-27"},18.846713578166074,{"$f":"P158","v":104.98078691293233},0.13461938270118626,null,null,null,null,null,null,null,0,null,{"$f":"IF(OR(AJ20<=AM7,AJ20>AM9),0,AM8+(AM10-AM8)*(1-((AM5+EXP(AM6*(AM4-AM7)))/(AM5+EXP(AM6*(AM4-AJ20))))^AM5)/(1-((AM5+EXP(AM6*(AM4-AM7)))/(AM5+EXP(AM6*(AM4-AM9))))^AM5))","v":0},{"$f":"IF(OR(AJ20<=AN7,AJ20>AN9),0,AN8+(AN10-AN8)*(1-((AN5+EXP(AN6*(AN4-AN7)))/(AN5+EXP(AN6*(AN4-AJ20))))^AN5)/(1-((AN5+EXP(AN6*(AN4-AN7)))/(AN5+EXP(AN6*(AN4-AN9))))^AN5))","v":0},{"$f":"IF(OR(AJ20<=AN9,AJ20>100000),0,IF(AJ20<=AO7,AO8,AO8+(AO10-AO8)*(1-((AO5+EXP(AO6*(AO4-AO7)))/(AO5+EXP(AO6*(AO4-AJ20))))^AO5)/(1-((AO5+EXP(AO6*(AO4-AO7)))/(AO5+EXP(AO6*(AO4-AO9))))^AO5)))","v":0},0,0]
[10,{"$f":"'daily uptake'!F104","v":"2010-11-10"},{"$f":"5/9*'daily uptake'!Q104","v":11.388888888888889},{"$f":"5/9*'daily uptake'!N104","v":3.0555555555555558},{"$f":"IF(AND($A21>='daily uptake'!$C$9,$A21<='daily uptake'!$C$10),$C21+E20,0)","v":146.11111111111111},{"$f":"IF(AND($A21>='daily uptake'!$C$18,$A21<='daily uptake'!$C$20),$D21+F20,0)","v":0},{"$f":"IF(AND($A21>='daily uptake'!$C$24,$A21<='daily uptake'!$C$25),$C21+G20,0)","v":0},{"$f":"IF(OR(F21<=I7,F21>I9),0,I8+(I10-I8)*(1-((I5+EXP(I6*(I4-I7)))/(I5+EXP(I6*(I4-F21))))^I5)/(1-((I5+EXP(I6*(I4-I7)))/(I5+EXP(I6*(I4-I9))))^I5))","v":0},{"$f":"IF(OR(F21<=J7,F21>J9),0,J8+(J10-J8)*(1-((J5+EXP(J6*(J4-J7)))/(J5+EXP(J6*(J4-F21))))^J5)/(1-((J5+EXP(J6*(J4-J7)))/(J5+EXP(J6*(J4-J9))))^J5))","v":0},{"$f":"IF(OR(F21<=J9,F21>100000),0,IF(F21<=K7,K8,K8+(K10-K8)*(1-((K5+EXP(K6*(K4-K7)))/(K5+EXP(K6*(K4-F21))))^K5)/(1-((K5+EXP(K6*(K4-K7)))/(K5+EXP(K6*(K4-K9))))^K5)))","v":0},0,0,4.4780914567655801,0,"2010-11-10",{"$f":"MAX(L$12:L21)+MAX(M$12:M21)+MAX(N$12:N21)","v":4.4780914567655801},"2010-11-10",0.39132869183064489,null,null,null,null,null,null,{"$f":"O174","v":"2011-04-12"},25.136687221040035,{"$f":"P174","v":130.11747413397237},0.17954776586457166,null,null,null,null,null,null,null,0,null,{"$f":"IF(OR(AJ21<=AM7,AJ21>AM9),0,AM8+(AM10-AM8)*(1-((AM5+EXP(AM6*(AM4-AM7)))/(AM5+EXP(AM6*(AM4-AJ21))))^AM5)/(1-((AM5+EXP(AM6*(AM4-AM7)))/(AM5+EXP(AM6*(AM4-AM9))))^AM5))","v":0},{"$f":"IF(OR(AJ21<=AN7,AJ21>AN9),0,AN8+(AN10-AN8)*(1-((AN5+EXP(AN6*(AN4-AN7)))/(AN5+EXP(AN6*(AN4-AJ21))))^AN5)/(1-((AN5+EXP(AN6*(AN4-AN7)))/(AN5+EXP(AN6*(AN4-AN9))))^AN5))","v":0},{"$f":"IF(OR(AJ21<=AN9,AJ21>100000),0,IF(AJ21<=AO7,AO8,AO8+(AO10-AO8)*(1-((AO5+EXP(AO6*(AO4-AO7)))/(AO5+EXP(AO6*(AO4-AJ21))))^AO5)/(1-((AO5+EXP(AO6*(AO4-AO7)))/(AO5+EXP(AO6*(AO4-AO9))))^AO5)))","v":0},0,0]
[11,{"$f":"'daily uptake'!F105","v":"2010-11-11"},{"$f":"5/9*'daily uptake'!Q105","v":10.555555555555555},{"$f":"5/9*'daily uptake'!N105","v":3.6111111111111112},{"$f":"IF(AND($A22>='daily uptake'!$C$9,$A22<='daily uptake'!$C$10),$C22+E21,0)","v":156.66666666666666},{"$f":"IF(AND($A22>='daily uptake'!$C$18,$A22<='daily uptake'!$C$20),$D22+F21,0)","v":0},{"$f":"IF(AND($A22>='daily uptake'!$C$24,$A22<='daily uptake'!$C$25),$C22+G21,0)","v":0},{"$f":"IF(OR(F22<=I7,F22>I9),0,I8+(I10-I8)*(1-((I5+EXP(I6*(I4-I7)))/(I5+EXP(I6*(I4-F22))))^I5)/(1-((I5+EXP(I6*(I4-I7)))/(I5+EXP(I6*(I4-I9))))^I5))","v":0},{"$f":"IF(OR(F22<=J7,F22>J9),0,J8+(J10-J8)*(1-((J5+EXP(J6*(J4-J7)))/(J5+EXP(J6*(J4-F22))))^J5)/(1-((J5+EXP(J6*(J4-J7)))/(J5+EXP(J6*(J4-J9))))^J5))","v":0},{"$f":"IF(OR(F22<=J9,F22>100000),0,IF(F22<=K7,K8,K8+(K10-K8)*(1-((K5+EXP(K6*(K4-K7)))/(K5+EXP(K6*(K4-F22))))^K5)/(1-((K5+EXP(K6*(K4-K7)))/(K5+EXP(K6*(K4-K9))))^K5)))","v":0},0,0,4.8476426455615931,0,"2010-11-11",{"$f":"MAX(L$12:L22)+MAX(M$12:M22)+MAX(N$12:N22)","v":4.8476426455615931},"2010-11-11",0.36955118879601301,null,null,null,null,null,null,{"$f":"O189","v":"2011-04-27"},9.8825258660276347,{"$f":"P189","v":140},7.0589470471625962E-2,null,null,null,null,null,null,null,0,null,{"$f":"IF(OR(AJ22<=AM7,AJ22>AM9),0,AM8+(AM10-AM8)*(1-((AM5+EXP(AM6*(AM4-AM7)))/(AM5+EXP(AM6*(AM4-AJ22))))^AM5)/(1-((AM5+EXP(AM6*(AM4-AM7)))/(AM5+EXP(AM6*(AM4-AM9))))^AM5))","v":0},{"$f":"IF(OR(AJ22<=AN7,AJ22>AN9),0,AN8+(AN10-AN8)*(1-((AN5+EXP(AN6*(AN4-AN7)))/(AN5+EXP(AN6*(AN4-AJ22))))^AN5)/(1-((AN5+EXP(AN6*(AN4-AN7)))/(AN5+EXP(AN6*(AN4-AN9))))^AN5))","v":0},{"$f":"IF(OR(AJ22<=AN9,AJ22>100000),0,IF(AJ22<=AO7,AO8,AO8+(AO10-AO8)*(1-((AO5+EXP(AO6*(AO4-AO7)))/(AO5+EXP(AO6*(AO4-AJ22))))^AO5)/(1-((AO5+EXP(AO6*(AO4-AO7)))/(AO5+EXP(AO6*(AO4-AO9))))^AO5)))","v":0},0,0]
[12,{"$f":"'daily uptake'!F106","v":"2010-11-12"},{"$f":"5/9*'daily uptake'!Q106","v":10},{"$f":"5/9*'daily uptake'!N106","v":3.8888888888888893},{"$f":"IF(AND($A23>='daily uptake'!$C$9,$A23<='daily uptake'!$C$10),$C23+E22,0)","v":166.66666666666666},{"$f":"IF(AND($A23>='daily uptake'!$C$18,$A23<='daily uptake'!$C$20),$D23+F22,0)","v":0},{"$f":"IF(AND($A23>='daily uptake'!$C$24,$A23<='daily uptake'!$C$25),$C23+G22,0)","v":0},{"$f":"IF(OR(F23<=I7,F23>I9),0,I8+(I10-I8)*(1-((I5+EXP(I6*(I4-I7)))/(I5+EXP(I6*(I4-F23))))^I5)/(1-((I5+EXP(I6*(I4-I7)))/(I5+EXP(I6*(I4-I9))))^I5))","v":0},{"$f":"IF(OR(F23<=J7,F23>J9),0,J8+(J10-J8)*(1-((J5+EXP(J6*(J4-J7)))/(J5+EXP(J6*(J4-F23))))^J5)/(1-((J5+EXP(J6*(J4-J7)))/(J5+EXP(J6*(J4-J9))))^J5))","v":0},{"$f":"IF(OR(F23<=J9,F23>100000),0,IF(F23<=K7,K8,K8+(K10-K8)*(1-((K5+EXP(K6*(K4-K7)))/(K5+EXP(K6*(K4-F23))))^K5)/(1-((K5+EXP(K6*(K4-K7)))/(K5+EXP(K6*(K4-K9))))^K5)))","v":0},0,0,5.2039154692777867,0,"2010-11-12",{"$f":"MAX(L$12:L23)+MAX(M$12:M23)+MAX(N$12:N23)","v":5.2039154692777867},"2010-11-12",0.35627282371619362,null,null,null,null,null,null,null,null,null,null,null,null,null,null,null,null,null,0,null,{"$f":"IF(OR(AJ23<=AM7,AJ23>AM9),0,AM8+(AM10-AM8)*(1-((AM5+EXP(AM6*(AM4-AM7)))/(AM5+EXP(AM6*(AM4-AJ23))))^AM5)/(1-((AM5+EXP(AM6*(AM4-AM7)))/(AM5+EXP(AM6*(AM4-AM9))))^AM5))","v":0},{"$f":"IF(OR(AJ23<=AN7,AJ23>AN9),0,AN8+(AN10-AN8)*(1-((AN5+EXP(AN6*(AN4-AN7)))/(AN5+EXP(AN6*(AN4-AJ23))))^AN5)/(1-((AN5+EXP(AN6*(AN4-AN7)))/(AN5+EXP(AN6*(AN4-AN9))))^AN5))","v":0},{"$f":"IF(OR(AJ23<=AN9,AJ23>100000),0,IF(AJ23<=AO7,AO8,AO8+(AO10-AO8)*(1-((AO5+EXP(AO6*(AO4-AO7)))/(AO5+EXP(AO6*(AO4-AJ23))))^AO5)/(1-((AO5+EXP(AO6*(AO4-AO7)))/(AO5+EXP(AO6*(AO4-AO9))))^AO5)))","v":0},0,0]
[13,{"$f":"'daily uptake'!F107","v":"2010-11-13"},{"$f":"5/9*'daily uptake'!Q107","v":10},{"$f":"5/9*'daily uptake'!N107","v":3.6111111111111112},{"$f":"IF(AND($A24>='daily uptake'!$C$9,$A24<='daily uptake'!$C$10),$C24+E23,0)","v":176.66666666666666},{"$f":"IF(AND($A24>='daily uptake'!$C$18,$A24<='daily uptake'!$C$20),$D24+F23,0)","v":0},{"$f":"IF(AND($A24>='daily uptake'!$C$24,$A24<='daily uptake'!$C$25),$C24+G23,0)","v":0},{"$f":"IF(OR(F24<=I7,F24>I9),0,I8+(I10-I8)*(1-((I5+EXP(I6*(I4-I7)))/(I5+EXP(I6*(I4-F24))))^I5)/(1-((I5+EXP(I6*(I4-I7)))/(I5+EXP(I6*(I4-I9))))^I5))","v":0},{"$f":"IF(OR(F24<=J7,F24>J9),0,J8+(J10-J8)*(1-((J5+EXP(J6*(J4-J7)))/(J5+EXP(J6*(J4-F24))))^J5)/(1-((J5+EXP(J6*(J4-J7)))/(J5+EXP(J6*(J4-J9))))^J5))","v":0},{"$f":"IF(OR(F24<=J9,F24>100000),0,IF(F24<=K7,K8,K8+(K10-K8)*(1-((K5+EXP(K6*(K4-K7)))/(K5+EXP(K6*(K4-F24))))^K5)/(1-((K5+EXP(K6*(K4-K7)))/(K5+EXP(K6*(K4-K9))))^K5)))","v":0},0,0,5.566274745233069,0,"2010-11-13",{"$f":"MAX(L$12:L24)+MAX(M$12:M24)+MAX(N$12:N24)","v":5.566274745233069},"2010-11-13",0.36235927595528228,null,null,null,null,null,null,null,null,null,null,null,null,null,null,null,null,null,0,null,{"$f":"IF(OR(AJ24<=AM7,AJ24>AM9),0,AM8+(AM10-AM8)*(1-((AM5+EXP(AM6*(AM4-AM7)))/(AM5+EXP(AM6*(AM4-AJ24))))^AM5)/(1-((AM5+EXP(AM6*(AM4-AM7)))/(AM5+EXP(AM6*(AM4-AM9))))^AM5))","v":0},{"$f":"IF(OR(AJ24<=AN7,AJ24>AN9),0,AN8+(AN10-AN8)*(1-((AN5+EXP(AN6*(AN4-AN7)))/(AN5+EXP(AN6*(AN4-AJ24))))^AN5)/(1-((AN5+EXP(AN6*(AN4-AN7)))/(AN5+EXP(AN6*(AN4-AN9))))^AN5))","v":0},{"$f":"IF(OR(AJ24<=AN9,AJ24>100000),0,IF(AJ24<=AO7,AO8,AO8+(AO10-AO8)*(1-((AO5+EXP(AO6*(AO4-AO7)))/(AO5+EXP(AO6*(AO4-AJ24))))^AO5)/(1-((AO5+EXP(AO6*(AO4-AO7)))/(AO5+EXP(AO6*(AO4-AO9))))^AO5)))","v":0},0,0]
[14,{"$f":"'daily uptake'!F108","v":"2010-11-14"},{"$f":"5/9*'daily uptake'!Q108","v":12.222222222222223},{"$f":"5/9*'daily uptake'!N108","v":5.2777777777777777},{"$f":"IF(AND($A25>='daily uptake'!$C$9,$A25<='daily uptake'!$C$10),$C25+E24,0)","v":188.88888888888889},{"$f":"IF(AND($A25>='daily uptake'!$C$18,$A25<='daily uptake'!$C$20),$D25+F24,0)","v":0},{"$f":"IF(AND($A25>='daily uptake'!$C$24,$A25<='daily uptake'!$C$25),$C25+G24,0)","v":0},{"$f":"IF(OR(F25<=I7,F25>I9),0,I8+(I10-I8)*(1-((I5+EXP(I6*(I4-I7)))/(I5+EXP(I6*(I4-F25))))^I5)/(1-((I5+EXP(I6*(I4-I7)))/(I5+EXP(I6*(I4-I9))))^I5))","v":0},{"$f":"IF(OR(F25<=J7,F25>J9),0,J8+(J10-J8)*(1-((J5+EXP(J6*(J4-J7)))/(J5+EXP(J6*(J4-F25))))^J5)/(1-((J5+EXP(J6*(J4-J7)))/(J5+EXP(J6*(J4-J9))))^J5))","v":0},{"$f":"IF(OR(F25<=J9,F25>100000),0,IF(F25<=K7,K8,K8+(K10-K8)*(1-((K5+EXP(K6*(K4-K7)))/(K5+EXP(K6*(K4-F25))))^K5)/(1-((K5+EXP(K6*(K4-K7)))/(K5+EXP(K6*(K4-K9))))^K5)))","v":0},0,0,6.0175409729732614,0,"2010-11-14",{"$f":"MAX(L$12:L25)+MAX(M$12:M25)+MAX(N$12:N25)","v":6.0175409729732614},"2010-11-14",0.45126622774019243,null,null,null,null,null,null,null,null,null,null,null,null,null,null,null,null,null,0,null,{"$f":"IF(OR(AJ25<=AM7,AJ25>AM9),0,AM8+(AM10-AM8)*(1-((AM5+EXP(AM6*(AM4-AM7)))/(AM5+EXP(AM6*(AM4-AJ25))))^AM5)/(1-((AM5+EXP(AM6*(AM4-AM7)))/(AM5+EXP(AM6*(AM4-AM9))))^AM5))","v":0},{"$f":"IF(OR(AJ25<=AN7,AJ25>AN9),0,AN8+(AN10-AN8)*(1-((AN5+EXP(AN6*(AN4-AN7)))/(AN5+EXP(AN6*(AN4-AJ25))))^AN5)/(1-((AN5+EXP(AN6*(AN4-AN7)))/(AN5+EXP(AN6*(AN4-AN9))))^AN5))","v":0},{"$f":"IF(OR(AJ25<=AN9,AJ25>100000),0,IF(AJ25<=AO7,AO8,AO8+(AO10-AO8)*(1-((AO5+EXP(AO6*(AO4-AO7)))/(AO5+EXP(AO6*(AO4-AJ25))))^AO5)/(1-((AO5+EXP(AO6*(AO4-AO7)))/(AO5+EXP(AO6*(AO4-AO9))))^AO5)))","v":0},0,0]
[15,{"$f":"'daily uptake'!F109","v":"2010-11-15"},{"$f":"5/9*'daily uptake'!Q109","v":14.166666666666668},{"$f":"5/9*'daily uptake'!N109","v":6.3888888888888893},{"$f":"IF(AND($A26>='daily uptake'!$C$9,$A26<='daily uptake'!$C$10),$C26+E25,0)","v":203.05555555555554},{"$f":"IF(AND($A26>='daily uptake'!$C$18,$A26<='daily uptake'!$C$20),$D26+F25,0)","v":0},{"$f":"IF(AND($A26>='daily uptake'!$C$24,$A26<='daily uptake'!$C$25),$C26+G25,0)","v":0},{"$f":"IF(OR(F26<=I7,F26>I9),0,I8+(I10-I8)*(1-((I5+EXP(I6*(I4-I7)))/(I5+EXP(I6*(I4-F26))))^I5)/(1-((I5+EXP(I6*(I4-I7)))/(I5+EXP(I6*(I4-I9))))^I5))","v":0},{"$f":"IF(OR(F26<=J7,F26>J9),0,J8+(J10-J8)*(1-((J5+EXP(J6*(J4-J7)))/(J5+EXP(J6*(J4-F26))))^J5)/(1-((J5+EXP(J6*(J4-J7)))/(J5+EXP(J6*(J4-J9))))^J5))","v":0},{"$f":"IF(OR(F26<=J9,F26>100000),0,IF(F26<=K7,K8,K8+(K10-K8)*(1-((K5+EXP(K6*(K4-K7)))/(K5+EXP(K6*(K4-F26))))^K5)/(1-((K5+EXP(K6*(K4-K7)))/(K5+EXP(K6*(K4-K9))))^K5)))","v":0},0,0,6.552320102673872,0,"2010-11-15",{"$f":"MAX(L$12:L26)+MAX(M$12:M26)+MAX(N$12:N26)","v":6.552320102673872},"2010-11-15",0.53477912970061059,null,null,null,null,null,null,null,null,null,null,null,null,null,null,null,null,null,0,null,{"$f":"IF(OR(AJ26<=AM7,AJ26>AM9),0,AM8+(AM10-AM8)*(1-((AM5+EXP(AM6*(AM4-AM7)))/(AM5+EXP(AM6*(AM4-AJ26))))^AM5)/(1-((AM5+EXP(AM6*(AM4-AM7)))/(AM5+EXP(AM6*(AM4-AM9))))^AM5))","v":0},{"$f":"IF(OR(AJ26<=AN7,AJ26>AN9),0,AN8+(AN10-AN8)*(1-((AN5+EXP(AN6*(AN4-AN7)))/(AN5+EXP(AN6*(AN4-AJ26))))^AN5)/(1-((AN5+EXP(AN6*(AN4-AN7)))/(AN5+EXP(AN6*(AN4-AN9))))^AN5))","v":0},{"$f":"IF(OR(AJ26<=AN9,AJ26>100000),0,IF(AJ26<=AO7,AO8,AO8+(AO10-AO8)*(1-((AO5+EXP(AO6*(AO4-AO7)))/(AO5+EXP(AO6*(AO4-AJ26))))^AO5)/(1-((AO5+EXP(AO6*(AO4-AO7)))/(AO5+EXP(AO6*(AO4-AO9))))^AO5)))","v":0},0,0]
[16,{"$f":"'daily uptake'!F110","v":"2010-11-16"},{"$f":"5/9*'daily uptake'!Q110","v":12.777777777777779},{"$f":"5/9*'daily uptake'!N110","v":5},{"$f":"IF(AND($A27>='daily uptake'!$C$9,$A27<='daily uptake'!$C$10),$C27+E26,0)","v":215.83333333333331},{"$f":"IF(AND($A27>='daily uptake'!$C$18,$A27<='daily uptake'!$C$20),$D27+F26,0)","v":0},{"$f":"IF(AND($A27>='daily uptake'!$C$24,$A27<='daily uptake'!$C$25),$C27+G26,0)","v":0},{"$f":"IF(OR(F27<=I7,F27>I9),0,I8+(I10-I8)*(1-((I5+EXP(I6*(I4-I7)))/(I5+EXP(I6*(I4-F27))))^I5)/(1-((I5+EXP(I6*(I4-I7)))/(I5+EXP(I6*(I4-I9))))^I5))","v":0},{"$f":"IF(OR(F27<=J7,F27>J9),0,J8+(J10-J8)*(1-((J5+EXP(J6*(J4-J7)))/(J5+EXP(J6*(J4-F27))))^J5)/(1-((J5+EXP(J6*(J4-J7)))/(J5+EXP(J6*(J4-J9))))^J5))","v":0},{"$f":"IF(OR(F27<=J9,F27>100000),0,IF(F27<=K7,K8,K8+(K10-K8)*(1-((K5+EXP(K6*(K4-K7)))/(K5+EXP(K6*(K4-F27))))^K5)/(1-((K5+EXP(K6*(K4-K7)))/(K5+EXP(K6*(K4-K9))))^K5)))","v":0},0,0,7.0456451351932721,0,"2010-11-16",{"$f":"MAX(L$12:L27)+MAX(M$12:M27)+MAX(N$12:N27)","v":7.0456451351932721},"2010-11-16",0.49332503251940008,null,null,null,null,null,null,null,null,null,null,null,null,null,null,null,null,null,0,null,{"$f":"IF(OR(AJ27<=AM7,AJ27>AM9),0,AM8+(AM10-AM8)*(1-((AM5+EXP(AM6*(AM4-AM7)))/(AM5+EXP(AM6*(AM4-AJ27))))^AM5)/(1-((AM5+EXP(AM6*(AM4-AM7)))/(AM5+EXP(AM6*(AM4-AM9))))^AM5))","v":0},{"$f":"IF(OR(AJ27<=AN7,AJ27>AN9),0,AN8+(AN10-AN8)*(1-((AN5+EXP(AN6*(AN4-AN7)))/(AN5+EXP(AN6*(AN4-AJ27))))^AN5)/(1-((AN5+EXP(AN6*(AN4-AN7)))/(AN5+EXP(AN6*(AN4-AN9))))^AN5))","v":0},{"$f":"IF(OR(AJ27<=AN9,AJ27>100000),0,IF(AJ27<=AO7,AO8,AO8+(AO10-AO8)*(1-((AO5+EXP(AO6*(AO4-AO7)))/(AO5+EXP(AO6*(AO4-AJ27))))^AO5)/(1-((AO5+EXP(AO6*(AO4-AO7)))/(AO5+EXP(AO6*(AO4-AO9))))^AO5)))","v":0},0,0]
[17,{"$f":"'daily uptake'!F111","v":"2010-11-17"},{"$f":"5/9*'daily uptake'!Q111","v":13.055555555555555},{"$f":"5/9*'daily uptake'!N111","v":6.3888888888888893},{"$f":"IF(AND($A28>='daily uptake'!$C$9,$A28<='daily uptake'!$C$10),$C28+E27,0)","v":228.88888888888886},{"$f":"IF(AND($A28>='daily uptake'!$C$18,$A28<='daily uptake'!$C$20),$D28+F27,0)","v":0},{"$f":"IF(AND($A28>='daily uptake'!$C$24,$A28<='daily uptake'!$C$25),$C28+G27,0)","v":0},{"$f":"IF(OR(F28<=I7,F28>I9),0,I8+(I10-I8)*(1-((I5+EXP(I6*(I4-I7)))/(I5+EXP(I6*(I4-F28))))^I5)/(1-((I5+EXP(I6*(I4-I7)))/(I5+EXP(I6*(I4-I9))))^I5))","v":0},{"$f":"IF(OR(F28<=J7,F28>J9),0,J8+(J10-J8)*(1-((J5+EXP(J6*(J4-J7)))/(J5+EXP(J6*(J4-F28))))^J5)/(1-((J5+EXP(J6*(J4-J7)))/(J5+EXP(J6*(J4-J9))))^J5))","v":0},{"$f":"IF(OR(F28<=J9,F28>100000),0,IF(F28<=K7,K8,K8+(K10-K8)*(1-((K5+EXP(K6*(K4-K7)))/(K5+EXP(K6*(K4-F28))))^K5)/(1-((K5+EXP(K6*(K4-K7)))/(K5+EXP(K6*(K4-K9))))^K5)))","v":0},0,0,7.5606274958788706,0,"2010-11-17",{"$f":"MAX(L$12:L28)+MAX(M$12:M28)+MAX(N$12:N28)","v":7.5606274958788706},"2010-11-17",0.51498236068559855,null,null,null,null,null,null,null,null,null,null,null,null,null,null,null,null,null,0,null,{"$f":"IF(OR(AJ28<=AM7,AJ28>AM9),0,AM8+(AM10-AM8)*(1-((AM5+EXP(AM6*(AM4-AM7)))/(AM5+EXP(AM6*(AM4-AJ28))))^AM5)/(1-((AM5+EXP(AM6*(AM4-AM7)))/(AM5+EXP(AM6*(AM4-AM9))))^AM5))","v":0},{"$f":"IF(OR(AJ28<=AN7,AJ28>AN9),0,AN8+(AN10-AN8)*(1-((AN5+EXP(AN6*(AN4-AN7)))/(AN5+EXP(AN6*(AN4-AJ28))))^AN5)/(1-((AN5+EXP(AN6*(AN4-AN7)))/(AN5+EXP(AN6*(AN4-AN9))))^AN5))","v":0},{"$f":"IF(OR(AJ28<=AN9,AJ28>100000),0,IF(AJ28<=AO7,AO8,AO8+(AO10-AO8)*(1-((AO5+EXP(AO6*(AO4-AO7)))/(AO5+EXP(AO6*(AO4-AJ28))))^AO5)/(1-((AO5+EXP(AO6*(AO4-AO7)))/(AO5+EXP(AO6*(AO4-AO9))))^AO5)))","v":0},0,0]
[18,{"$f":"'daily uptake'!F112","v":"2010-11-18"},{"$f":"5/9*'daily uptake'!Q112","v":13.333333333333334},{"$f":"5/9*'daily uptake'!N112","v":5.8333333333333339},{"$f":"IF(AND($A29>='daily uptake'!$C$9,$A29<='daily uptake'!$C$10),$C29+E28,0)","v":242.2222222222222},{"$f":"IF(AND($A29>='daily uptake'!$C$18,$A29<='daily uptake'!$C$20),$D29+F28,0)","v":0},{"$f":"IF(AND($A29>='daily uptake'!$C$24,$A29<='daily uptake'!$C$25),$C29+G28,0)","v":0},{"$f":"IF(OR(F29<=I7,F29>I9),0,I8+(I10-I8)*(1-((I5+EXP(I6*(I4-I7)))/(I5+EXP(I6*(I4-F29))))^I5)/(1-((I5+EXP(I6*(I4-I7)))/(I5+EXP(I6*(I4-I9))))^I5))","v":0},{"$f":"IF(OR(F29<=J7,F29>J9),0,J8+(J10-J8)*(1-((J5+EXP(J6*(J4-J7)))/(J5+EXP(J6*(J4-F29))))^J5)/(1-((J5+EXP(J6*(J4-J7)))/(J5+EXP(J6*(J4-J9))))^J5))","v":0},{"$f":"IF(OR(F29<=J9,F29>100000),0,IF(F29<=K7,K8,K8+(K10-K8)*(1-((K5+EXP(K6*(K4-K7)))/(K5+EXP(K6*(K4-F29))))^K5)/(1-((K5+EXP(K6*(K4-K7)))/(K5+EXP(K6*(K4-K9))))^K5)))","v":0},0,0,8.0981579457208408,0,"2010-11-18",{"$f":"MAX(L$12:L29)+MAX(M$12:M29)+MAX(N$12:N29)","v":8.0981579457208408},"2010-11-18",0.53753044984197018,null,null,null,null,null,null,null,null,null,null,null,null,null,null,null,null,null,0,null,{"$f":"IF(OR(AJ29<=AM7,AJ29>AM9),0,AM8+(AM10-AM8)*(1-((AM5+EXP(AM6*(AM4-AM7)))/(AM5+EXP(AM6*(AM4-AJ29))))^AM5)/(1-((AM5+EXP(AM6*(AM4-AM7)))/(AM5+EXP(AM6*(AM4-AM9))))^AM5))","v":0},{"$f":"IF(OR(AJ29<=AN7,AJ29>AN9),0,AN8+(AN10-AN8)*(1-((AN5+EXP(AN6*(AN4-AN7)))/(AN5+EXP(AN6*(AN4-AJ29))))^AN5)/(1-((AN5+EXP(AN6*(AN4-AN7)))/(AN5+EXP(AN6*(AN4-AN9))))^AN5))","v":0},{"$f":"IF(OR(AJ29<=AN9,AJ29>100000),0,IF(AJ29<=AO7,AO8,AO8+(AO10-AO8)*(1-((AO5+EXP(AO6*(AO4-AO7)))/(AO5+EXP(AO6*(AO4-AJ29))))^AO5)/(1-((AO5+EXP(AO6*(AO4-AO7)))/(AO5+EXP(AO6*(AO4-AO9))))^AO5)))","v":0},0,0]
[19,{"$f":"'daily uptake'!F113","v":"2010-11-19"},{"$f":"5/9*'daily uptake'!Q113","v":10.277777777777779},{"$f":"5/9*'daily uptake'!N113","v":1.3888888888888888},{"$f":"IF(AND($A30>='daily uptake'!$C$9,$A30<='daily uptake'!$C$10),$C30+E29,0)","v":252.49999999999997},{"$f":"IF(AND($A30>='daily uptake'!$C$18,$A30<='daily uptake'!$C$20),$D30+F29,0)","v":0},{"$f":"IF(AND($A30>='daily uptake'!$C$24,$A30<='daily uptake'!$C$25),$C30+G29,0)","v":0},{"$f":"IF(OR(F30<=I7,F30>I9),0,I8+(I10-I8)*(1-((I5+EXP(I6*(I4-I7)))/(I5+EXP(I6*(I4-F30))))^I5)/(1-((I5+EXP(I6*(I4-I7)))/(I5+EXP(I6*(I4-I9))))^I5))","v":0},{"$f":"IF(OR(F30<=J7,F30>J9),0,J8+(J10-J8)*(1-((J5+EXP(J6*(J4-J7)))/(J5+EXP(J6*(J4-F30))))^J5)/(1-((J5+EXP(J6*(J4-J7)))/(J5+EXP(J6*(J4-J9))))^J5))","v":0},{"$f":"IF(OR(F30<=J9,F30>100000),0,IF(F30<=K7,K8,K8+(K10-K8)*(1-((K5+EXP(K6*(K4-K7)))/(K5+EXP(K6*(K4-F30))))^K5)/(1-((K5+EXP(K6*(K4-K7)))/(K5+EXP(K6*(K4-K9))))^K5)))","v":0},0,0,8.5206182135734743,0,"2010-11-19",{"$f":"MAX(L$12:L30)+MAX(M$12:M30)+MAX(N$12:N30)","v":8.5206182135734743},"2010-11-19",0.42246026785263346,null,null,null,null,null,null,null,null,null,null,null,null,null,null,null,null,null,0,null,{"$f":"IF(OR(AJ30<=AM7,AJ30>AM9),0,AM8+(AM10-AM8)*(1-((AM5+EXP(AM6*(AM4-AM7)))/(AM5+EXP(AM6*(AM4-AJ30))))^AM5)/(1-((AM5+EXP(AM6*(AM4-AM7)))/(AM5+EXP(AM6*(AM4-AM9))))^AM5))","v":0},{"$f":"IF(OR(AJ30<=AN7,AJ30>AN9),0,AN8+(AN10-AN8)*(1-((AN5+EXP(AN6*(AN4-AN7)))/(AN5+EXP(AN6*(AN4-AJ30))))^AN5)/(1-((AN5+EXP(AN6*(AN4-AN7)))/(AN5+EXP(AN6*(AN4-AN9))))^AN5))","v":0},{"$f":"IF(OR(AJ30<=AN9,AJ30>100000),0,IF(AJ30<=AO7,AO8,AO8+(AO10-AO8)*(1-((AO5+EXP(AO6*(AO4-AO7)))/(AO5+EXP(AO6*(AO4-AJ30))))^AO5)/(1-((AO5+EXP(AO6*(AO4-AO7)))/(AO5+EXP(AO6*(AO4-AO9))))^AO5)))","v":0},0,0]
[20,{"$f":"'daily uptake'!F114","v":"2010-11-20"},{"$f":"5/9*'daily uptake'!Q114","v":10},{"$f":"5/9*'daily uptake'!N114","v":1.6666666666666667},{"$f":"IF(AND($A31>='daily uptake'!$C$9,$A31<='daily uptake'!$C$10),$C31+E30,0)","v":262.5},{"$f":"IF(AND($A31>='daily uptake'!$C$18,$A31<='daily uptake'!$C$20),$D31+F30,0)","v":0},{"$f":"IF(AND($A31>='daily uptake'!$C$24,$A31<='daily uptake'!$C$25),$C31+G30,0)","v":0},{"$f":"IF(OR(F31<=I7,F31>I9),0,I8+(I10-I8)*(1-((I5+EXP(I6*(I4-I7)))/(I5+EXP(I6*(I4-F31))))^I5)/(1-((I5+EXP(I6*(I4-I7)))/(I5+EXP(I6*(I4-I9))))^I5))","v":0},{"$f":"IF(OR(F31<=J7,F31>J9),0,J8+(J10-J8)*(1-((J5+EXP(J6*(J4-J7)))/(J5+EXP(J6*(J4-F31))))^J5)/(1-((J5+EXP(J6*(J4-J7)))/(J5+EXP(J6*(J4-J9))))^J5))","v":0},{"$f":"IF(OR(F31<=J9,F31>100000),0,IF(F31<=K7,K8,K8+(K10-K8)*(1-((K5+EXP(K6*(K4-K7)))/(K5+EXP(K6*(K4-F31))))^K5)/(1-((K5+EXP(K6*(K4-K7)))/(K5+EXP(K6*(K4-K9))))^K5)))","v":0},0,0,8.9385321998848166,0,"2010-11-20",{"$f":"MAX(L$12:L31)+MAX(M$12:M31)+MAX(N$12:N31)","v":8.9385321998848166},"2010-11-20",0.41791398631134236,null,null,null,null,null,null,null,null,null,null,null,null,null,null,null,null,null,0,null,{"$f":"IF(OR(AJ31<=AM7,AJ31>AM9),0,AM8+(AM10-AM8)*(1-((AM5+EXP(AM6*(AM4-AM7)))/(AM5+EXP(AM6*(AM4-AJ31))))^AM5)/(1-((AM5+EXP(AM6*(AM4-AM7)))/(AM5+EXP(AM6*(AM4-AM9))))^AM5))","v":0},{"$f":"IF(OR(AJ31<=AN7,AJ31>AN9),0,AN8+(AN10-AN8)*(1-((AN5+EXP(AN6*(AN4-AN7)))/(AN5+EXP(AN6*(AN4-AJ31))))^AN5)/(1-((AN5+EXP(AN6*(AN4-AN7)))/(AN5+EXP(AN6*(AN4-AN9))))^AN5))","v":0},{"$f":"IF(OR(AJ31<=AN9,AJ31>100000),0,IF(AJ31<=AO7,AO8,AO8+(AO10-AO8)*(1-((AO5+EXP(AO6*(AO4-AO7)))/(AO5+EXP(AO6*(AO4-AJ31))))^AO5)/(1-((AO5+EXP(AO6*(AO4-AO7)))/(AO5+EXP(AO6*(AO4-AO9))))^AO5)))","v":0},0,0]
[21,{"$f":"'daily uptake'!F115","v":"2010-11-21"},{"$f":"5/9*'daily uptake'!Q115","v":8.6111111111111107},{"$f":"5/9*'daily uptake'!N115","v":1.1111111111111112},{"$f":"IF(AND($A32>='daily uptake'!$C$9,$A32<='daily uptake'!$C$10),$C32+E31,0)","v":271.11111111111109},{"$f":"IF(AND($A32>='daily uptake'!$C$18,$A32<='daily uptake'!$C$20),$D32+F31,0)","v":0},{"$f":"IF(AND($A32>='daily uptake'!$C$24,$A32<='daily uptake'!$C$25),$C32+G31,0)","v":0},{"$f":"IF(OR(F32<=I7,F32>I9),0,I8+(I10-I8)*(1-((I5+EXP(I6*(I4-I7)))/(I5+EXP(I6*(I4-F32))))^I5)/(1-((I5+EXP(I6*(I4-I7)))/(I5+EXP(I6*(I4-I9))))^I5))","v":0},{"$f":"IF(OR(F32<=J7,F32>J9),0,J8+(J10-J8)*(1-((J5+EXP(J6*(J4-J7)))/(J5+EXP(J6*(J4-F32))))^J5)/(1-((J5+EXP(J6*(J4-J7)))/(J5+EXP(J6*(J4-J9))))^J5))","v":0},{"$f":"IF(OR(F32<=J9,F32>100000),0,IF(F32<=K7,K8,K8+(K10-K8)*(1-((K5+EXP(K6*(K4-K7)))/(K5+EXP(K6*(K4-F32))))^K5)/(1-((K5+EXP(K6*(K4-K7)))/(K5+EXP(K6*(K4-K9))))^K5)))","v":0},0,0,9.3038954508955563,0,"2010-11-21",{"$f":"MAX(L$12:L32)+MAX(M$12:M32)+MAX(N$12:N32)","v":9.3038954508955563},"2010-11-21",0.36536325101073963,null,null,null,null,null,null,null,null,null,null,null,null,null,null,null,null,null,0,null,{"$f":"IF(OR(AJ32<=AM7,AJ32>AM9),0,AM8+(AM10-AM8)*(1-((AM5+EXP(AM6*(AM4-AM7)))/(AM5+EXP(AM6*(AM4-AJ32))))^AM5)/(1-((AM5+EXP(AM6*(AM4-AM7)))/(AM5+EXP(AM6*(AM4-AM9))))^AM5))","v":0},{"$f":"IF(OR(AJ32<=AN7,AJ32>AN9),0,AN8+(AN10-AN8)*(1-((AN5+EXP(AN6*(AN4-AN7)))/(AN5+EXP(AN6*(AN4-AJ32))))^AN5)/(1-((AN5+EXP(AN6*(AN4-AN7)))/(AN5+EXP(AN6*(AN4-AN9))))^AN5))","v":0},{"$f":"IF(OR(AJ32<=AN9,AJ32>100000),0,IF(AJ32<=AO7,AO8,AO8+(AO10-AO8)*(1-((AO5+EXP(AO6*(AO4-AO7)))/(AO5+EXP(AO6*(AO4-AJ32))))^AO5)/(1-((AO5+EXP(AO6*(AO4-AO7)))/(AO5+EXP(AO6*(AO4-AO9))))^AO5)))","v":0},0,0]
[22,{"$f":"'daily uptake'!F116","v":"2010-11-22"},{"$f":"5/9*'daily uptake'!Q116","v":10.277777777777779},{"$f":"5/9*'daily uptake'!N116","v":1.9444444444444446},{"$f":"IF(AND($A33>='daily uptake'!$C$9,$A33<='daily uptake'!$C$10),$C33+E32,0)","v":281.38888888888886},{"$f":"IF(AND($A33>='daily uptake'!$C$18,$A33<='daily uptake'!$C$20),$D33+F32,0)","v":0},{"$f":"IF(AND($A33>='daily uptake'!$C$24,$A33<='daily uptake'!$C$25),$C33+G32,0)","v":0},{"$f":"IF(OR(F33<=I7,F33>I9),0,I8+(I10-I8)*(1-((I5+EXP(I6*(I4-I7)))/(I5+EXP(I6*(I4-F33))))^I5)/(1-((I5+EXP(I6*(I4-I7)))/(I5+EXP(I6*(I4-I9))))^I5))","v":0},{"$f":"IF(OR(F33<=J7,F33>J9),0,J8+(J10-J8)*(1-((J5+EXP(J6*(J4-J7)))/(J5+EXP(J6*(J4-F33))))^J5)/(1-((J5+EXP(J6*(J4-J7)))/(J5+EXP(J6*(J4-J9))))^J5))","v":0},{"$f":"IF(OR(F33<=J9,F33>100000),0,IF(F33<=K7,K8,K8+(K10-K8)*(1-((K5+EXP(K6*(K4-K7)))/(K5+EXP(K6*(K4-F33))))^K5)/(1-((K5+EXP(K6*(K4-K7)))/(K5+EXP(K6*(K4-K9))))^K5)))","v":0},0,0,9.7467029958299616,0,"2010-11-22",{"$f":"MAX(L$12:L33)+MAX(M$12:M33)+MAX(N$12:N33)","v":9.7467029958299616},"2010-11-22",0.44280754493440533,null,null,null,null,null,null,null,null,null,null,null,null,null,null,null,null,null,0,null,{"$f":"IF(OR(AJ33<=AM7,AJ33>AM9),0,AM8+(AM10-AM8)*(1-((AM5+EXP(AM6*(AM4-AM7)))/(AM5+EXP(AM6*(AM4-AJ33))))^AM5)/(1-((AM5+EXP(AM6*(AM4-AM7)))/(AM5+EXP(AM6*(AM4-AM9))))^AM5))","v":0},{"$f":"IF(OR(AJ33<=AN7,AJ33>AN9),0,AN8+(AN10-AN8)*(1-((AN5+EXP(AN6*(AN4-AN7)))/(AN5+EXP(AN6*(AN4-AJ33))))^AN5)/(1-((AN5+EXP(AN6*(AN4-AN7)))/(AN5+EXP(AN6*(AN4-AN9))))^AN5))","v":0},{"$f":"IF(OR(AJ33<=AN9,AJ33>100000),0,IF(AJ33<=AO7,AO8,AO8+(AO10-AO8)*(1-((AO5+EXP(AO6*(AO4-AO7)))/(AO5+EXP(AO6*(AO4-AJ33))))^AO5)/(1-((AO5+EXP(AO6*(AO4-AO7)))/(AO5+EXP(AO6*(AO4-AO9))))^AO5)))","v":0},0,0]
[23,{"$f":"'daily uptake'!F117","v":"2010-11-23"},{"$f":"5/9*'daily uptake'!Q117","v":6.9444444444444446},{"$f":"5/9*'daily uptake'!N117","v":0.27777777777777779},{"$f":"IF(AND($A34>='daily uptake'!$C$9,$A34<='daily uptake'!$C$10),$C34+E33,0)","v":288.33333333333331},{"$f":"IF(AND($A34>='daily uptake'!$C$18,$A34<='daily uptake'!$C$20),$D34+F33,0)","v":0},{"$f":"IF(AND($A34>='daily uptake'!$C$24,$A34<='daily uptake'!$C$25),$C34+G33,0)","v":0},{"$f":"IF(OR(F34<=I7,F34>I9),0,I8+(I10-I8)*(1-((I5+EXP(I6*(I4-I7)))/(I5+EXP(I6*(I4-F34))))^I5)/(1-((I5+EXP(I6*(I4-I7)))/(I5+EXP(I6*(I4-I9))))^I5))","v":0},{"$f":"IF(OR(F34<=J7,F34>J9),0,J8+(J10-J8)*(1-((J5+EXP(J6*(J4-J7)))/(J5+EXP(J6*(J4-F34))))^J5)/(1-((J5+EXP(J6*(J4-J7)))/(J5+EXP(J6*(J4-J9))))^J5))","v":0},{"$f":"IF(OR(F34<=J9,F34>100000),0,IF(F34<=K7,K8,K8+(K10-K8)*(1-((K5+EXP(K6*(K4-K7)))/(K5+EXP(K6*(K4-F34))))^K5)/(1-((K5+EXP(K6*(K4-K7)))/(K5+EXP(K6*(K4-K9))))^K5)))","v":0},0,0,10.05008380709925,0,"2010-11-23",{"$f":"MAX(L$12:L34)+MAX(M$12:M34)+MAX(N$12:N34)","v":10.05008380709925},"2010-11-23",0.30338081126928884,null,null,null,null,null,null,null,null,null,null,null,null,null,null,null,null,null,0,null,{"$f":"IF(OR(AJ34<=AM7,AJ34>AM9),0,AM8+(AM10-AM8)*(1-((AM5+EXP(AM6*(AM4-AM7)))/(AM5+EXP(AM6*(AM4-AJ34))))^AM5)/(1-((AM5+EXP(AM6*(AM4-AM7)))/(AM5+EXP(AM6*(AM4-AM9))))^AM5))","v":0},{"$f":"IF(OR(AJ34<=AN7,AJ34>AN9),0,AN8+(AN10-AN8)*(1-((AN5+EXP(AN6*(AN4-AN7)))/(AN5+EXP(AN6*(AN4-AJ34))))^AN5)/(1-((AN5+EXP(AN6*(AN4-AN7)))/(AN5+EXP(AN6*(AN4-AN9))))^AN5))","v":0},{"$f":"IF(OR(AJ34<=AN9,AJ34>100000),0,IF(AJ34<=AO7,AO8,AO8+(AO10-AO8)*(1-((AO5+EXP(AO6*(AO4-AO7)))/(AO5+EXP(AO6*(AO4-AJ34))))^AO5)/(1-((AO5+EXP(AO6*(AO4-AO7)))/(AO5+EXP(AO6*(AO4-AO9))))^AO5)))","v":0},0,0]
[24,{"$f":"'daily uptake'!F118","v":"2010-11-24"},{"$f":"5/9*'daily uptake'!Q118","v":3.6111111111111112},{"$f":"5/9*'daily uptake'!N118","v":0},{"$f":"IF(AND($A35>='daily uptake'!$C$9,$A35<='daily uptake'!$C$10),$C35+E34,0)","v":291.9444444444444},{"$f":"IF(AND($A35>='daily uptake'!$C$18,$A35<='daily uptake'!$C$20),$D35+F34,0)","v":0},{"$f":"IF(AND($A35>='daily uptake'!$C$24,$A35<='daily uptake'!$C$25),$C35+G34,0)","v":0},{"$f":"IF(OR(F35<=I7,F35>I9),0,I8+(I10-I8)*(1-((I5+EXP(I6*(I4-I7)))/(I5+EXP(I6*(I4-F35))))^I5)/(1-((I5+EXP(I6*(I4-I7)))/(I5+EXP(I6*(I4-I9))))^I5))","v":0},{"$f":"IF(OR(F35<=J7,F35>J9),0,J8+(J10-J8)*(1-((J5+EXP(J6*(J4-J7)))/(J5+EXP(J6*(J4-F35))))^J5)/(1-((J5+EXP(J6*(J4-J7)))/(J5+EXP(J6*(J4-J9))))^J5))","v":0},{"$f":"IF(OR(F35<=J9,F35>100000),0,IF(F35<=K7,K8,K8+(K10-K8)*(1-((K5+EXP(K6*(K4-K7)))/(K5+EXP(K6*(K4-F35))))^K5)/(1-((K5+EXP(K6*(K4-K7)))/(K5+EXP(K6*(K4-K9))))^K5)))","v":0},0,0,10.20918667114578,0,"2010-11-24",{"$f":"MAX(L$12:L35)+MAX(M$12:M35)+MAX(N$12:N35)","v":10.20918667114578},"2010-11-24",0.15910286404652929,null,null,null,null,null,null,null,null,null,null,null,null,null,null,null,null,null,0,null,{"$f":"IF(OR(AJ35<=AM7,AJ35>AM9),0,AM8+(AM10-AM8)*(1-((AM5+EXP(AM6*(AM4-AM7)))/(AM5+EXP(AM6*(AM4-AJ35))))^AM5)/(1-((AM5+EXP(AM6*(AM4-AM7)))/(AM5+EXP(AM6*(AM4-AM9))))^AM5))","v":0},{"$f":"IF(OR(AJ35<=AN7,AJ35>AN9),0,AN8+(AN10-AN8)*(1-((AN5+EXP(AN6*(AN4-AN7)))/(AN5+EXP(AN6*(AN4-AJ35))))^AN5)/(1-((AN5+EXP(AN6*(AN4-AN7)))/(AN5+EXP(AN6*(AN4-AN9))))^AN5))","v":0},{"$f":"IF(OR(AJ35<=AN9,AJ35>100000),0,IF(AJ35<=AO7,AO8,AO8+(AO10-AO8)*(1-((AO5+EXP(AO6*(AO4-AO7)))/(AO5+EXP(AO6*(AO4-AJ35))))^AO5)/(1-((AO5+EXP(AO6*(AO4-AO7)))/(AO5+EXP(AO6*(AO4-AO9))))^AO5)))","v":0},0,0]
[25,{"$f":"'daily uptake'!F119","v":"2010-11-25"},{"$f":"5/9*'daily uptake'!Q119","v":4.166666666666667},{"$f":"5/9*'daily uptake'!N119","v":0.55555555555555558},{"$f":"IF(AND($A36>='daily uptake'!$C$9,$A36<='daily uptake'!$C$10),$C36+E35,0)","v":296.11111111111109},{"$f":"IF(AND($A36>='daily uptake'!$C$18,$A36<='daily uptake'!$C$20),$D36+F35,0)","v":0},{"$f":"IF(AND($A36>='daily uptake'!$C$24,$A36<='daily uptake'!$C$25),$C36+G35,0)","v":0},{"$f":"IF(OR(F36<=I7,F36>I9),0,I8+(I10-I8)*(1-((I5+EXP(I6*(I4-I7)))/(I5+EXP(I6*(I4-F36))))^I5)/(1-((I5+EXP(I6*(I4-I7)))/(I5+EXP(I6*(I4-I9))))^I5))","v":0},{"$f":"IF(OR(F36<=J7,F36>J9),0,J8+(J10-J8)*(1-((J5+EXP(J6*(J4-J7)))/(J5+EXP(J6*(J4-F36))))^J5)/(1-((J5+EXP(J6*(J4-J7)))/(J5+EXP(J6*(J4-J9))))^J5))","v":0},{"$f":"IF(OR(F36<=J9,F36>100000),0,IF(F36<=K7,K8,K8+(K10-K8)*(1-((K5+EXP(K6*(K4-K7)))/(K5+EXP(K6*(K4-F36))))^K5)/(1-((K5+EXP(K6*(K4-K7)))/(K5+EXP(K6*(K4-K9))))^K5)))","v":0},0,0,10.393916613116152,0,"2010-11-25",{"$f":"MAX(L$12:L36)+MAX(M$12:M36)+MAX(N$12:N36)","v":10.393916613116152},"2010-11-25",0.18472994197037274,null,null,null,null,null,null,null,null,null,null,null,null,null,null,null,null,null,0,null,{"$f":"IF(OR(AJ36<=AM7,AJ36>AM9),0,AM8+(AM10-AM8)*(1-((AM5+EXP(AM6*(AM4-AM7)))/(AM5+EXP(AM6*(AM4-AJ36))))^AM5)/(1-((AM5+EXP(AM6*(AM4-AM7)))/(AM5+EXP(AM6*(AM4-AM9))))^AM5))","v":0},{"$f":"IF(OR(AJ36<=AN7,AJ36>AN9),0,AN8+(AN10-AN8)*(1-((AN5+EXP(AN6*(AN4-AN7)))/(AN5+EXP(AN6*(AN4-AJ36))))^AN5)/(1-((AN5+EXP(AN6*(AN4-AN7)))/(AN5+EXP(AN6*(AN4-AN9))))^AN5))","v":0},{"$f":"IF(OR(AJ36<=AN9,AJ36>100000),0,IF(AJ36<=AO7,AO8,AO8+(AO10-AO8)*(1-((AO5+EXP(AO6*(AO4-AO7)))/(AO5+EXP(AO6*(AO4-AJ36))))^AO5)/(1-((AO5+EXP(AO6*(AO4-AO7)))/(AO5+EXP(AO6*(AO4-AO9))))^AO5)))","v":0},0,0]
[26,{"$f":"'daily uptake'!F120","v":"2010-11-26"},{"$f":"5/9*'daily uptake'!Q120","v":5.2777777777777777},{"$f":"5/9*'daily uptake'!N120","v":1.3888888888888888},{"$f":"IF(AND($A37>='daily uptake'!$C$9,$A37<='daily uptake'!$C$10),$C37+E36,0)","v":301.38888888888886},{"$f":"IF(AND($A37>='daily uptake'!$C$18,$A37<='daily uptake'!$C$20),$D37+F36,0)","v":0},{"$f":"IF(AND($A37>='daily uptake'!$C$24,$A37<='daily uptake'!$C$25),$C37+G36,0)","v":0},{"$f":"IF(OR(F37<=I7,F37>I9),0,I8+(I10-I8)*(1-((I5+EXP(I6*(I4-I7)))/(I5+EXP(I6*(I4-F37))))^I5)/(1-((I5+EXP(I6*(I4-I7)))/(I5+EXP(I6*(I4-I9))))^I5))","v":0},{"$f":"IF(OR(F37<=J7,F37>J9),0,J8+(J10-J8)*(1-((J5+EXP(J6*(J4-J7)))/(J5+EXP(J6*(J4-F37))))^J5)/(1-((J5+EXP(J6*(J4-J7)))/(J5+EXP(J6*(J4-J9))))^J5))","v":0},{"$f":"IF(OR(F37<=J9,F37>100000),0,IF(F37<=K7,K8,K8+(K10-K8)*(1-((K5+EXP(K6*(K4-K7)))/(K5+EXP(K6*(K4-F37))))^K5)/(1-((K5+EXP(K6*(K4-K7)))/(K5+EXP(K6*(K4-K9))))^K5)))","v":0},0,0,10.629684852032309,0,"2010-11-26",{"$f":"MAX(L$12:L37)+MAX(M$12:M37)+MAX(N$12:N37)","v":10.629684852032309},"2010-11-26",0.23576823891615639,null,null,null,null,null,null,null,null,null,null,null,null,null,null,null,null,null,0,null,{"$f":"IF(OR(AJ37<=AM7,AJ37>AM9),0,AM8+(AM10-AM8)*(1-((AM5+EXP(AM6*(AM4-AM7)))/(AM5+EXP(AM6*(AM4-AJ37))))^AM5)/(1-((AM5+EXP(AM6*(AM4-AM7)))/(AM5+EXP(AM6*(AM4-AM9))))^AM5))","v":0},{"$f":"IF(OR(AJ37<=AN7,AJ37>AN9),0,AN8+(AN10-AN8)*(1-((AN5+EXP(AN6*(AN4-AN7)))/(AN5+EXP(AN6*(AN4-AJ37))))^AN5)/(1-((AN5+EXP(AN6*(AN4-AN7)))/(AN5+EXP(AN6*(AN4-AN9))))^AN5))","v":0},{"$f":"IF(OR(AJ37<=AN9,AJ37>100000),0,IF(AJ37<=AO7,AO8,AO8+(AO10-AO8)*(1-((AO5+EXP(AO6*(AO4-AO7)))/(AO5+EXP(AO6*(AO4-AJ37))))^AO5)/(1-((AO5+EXP(AO6*(AO4-AO7)))/(AO5+EXP(AO6*(AO4-AO9))))^AO5)))","v":0},0,0]
[27,{"$f":"'daily uptake'!F121","v":"2010-11-27"},{"$f":"5/9*'daily uptake'!Q121","v":5.2777777777777777},{"$f":"5/9*'daily uptake'!N121","v":0},{"$f":"IF(AND($A38>='daily uptake'!$C$9,$A38<='daily uptake'!$C$10),$C38+E37,0)","v":306.66666666666663},{"$f":"IF(AND($A38>='daily uptake'!$C$18,$A38<='daily uptake'!$C$20),$D38+F37,0)","v":0},{"$f":"IF(AND($A38>='daily uptake'!$C$24,$A38<='daily uptake'!$C$25),$C38+G37,0)","v":0},{"$f":"IF(OR(F38<=I7,F38>I9),0,I8+(I10-I8)*(1-((I5+EXP(I6*(I4-I7)))/(I5+EXP(I6*(I4-F38))))^I5)/(1-((I5+EXP(I6*(I4-I7)))/(I5+EXP(I6*(I4-I9))))^I5))","v":0},{"$f":"IF(OR(F38<=J7,F38>J9),0,J8+(J10-J8)*(1-((J5+EXP(J6*(J4-J7)))/(J5+EXP(J6*(J4-F38))))^J5)/(1-((J5+EXP(J6*(J4-J7)))/(J5+EXP(J6*(J4-J9))))^J5))","v":0},{"$f":"IF(OR(F38<=J9,F38>100000),0,IF(F38<=K7,K8,K8+(K10-K8)*(1-((K5+EXP(K6*(K4-K7)))/(K5+EXP(K6*(K4-F38))))^K5)/(1-((K5+EXP(K6*(K4-K7)))/(K5+EXP(K6*(K4-K9))))^K5)))","v":0},0,0,10.867449952341813,0,"2010-11-27",{"$f":"MAX(L$12:L38)+MAX(M$12:M38)+MAX(N$12:N38)","v":10.867449952341813},"2010-11-27",0.23776510030950426,null,null,null,null,null,null,null,null,null,null,null,null,null,null,null,null,null,0,null,{"$f":"IF(OR(AJ38<=AM7,AJ38>AM9),0,AM8+(AM10-AM8)*(1-((AM5+EXP(AM6*(AM4-AM7)))/(AM5+EXP(AM6*(AM4-AJ38))))^AM5)/(1-((AM5+EXP(AM6*(AM4-AM7)))/(AM5+EXP(AM6*(AM4-AM9))))^AM5))","v":0},{"$f":"IF(OR(AJ38<=AN7,AJ38>AN9),0,AN8+(AN10-AN8)*(1-((AN5+EXP(AN6*(AN4-AN7)))/(AN5+EXP(AN6*(AN4-AJ38))))^AN5)/(1-((AN5+EXP(AN6*(AN4-AN7)))/(AN5+EXP(AN6*(AN4-AN9))))^AN5))","v":0},{"$f":"IF(OR(AJ38<=AN9,AJ38>100000),0,IF(AJ38<=AO7,AO8,AO8+(AO10-AO8)*(1-((AO5+EXP(AO6*(AO4-AO7)))/(AO5+EXP(AO6*(AO4-AJ38))))^AO5)/(1-((AO5+EXP(AO6*(AO4-AO7)))/(AO5+EXP(AO6*(AO4-AO9))))^AO5)))","v":0},0,0]
[28,{"$f":"'daily uptake'!F122","v":"2010-11-28"},{"$f":"5/9*'daily uptake'!Q122","v":6.1111111111111116},{"$f":"5/9*'daily uptake'!N122","v":0},{"$f":"IF(AND($A39>='daily uptake'!$C$9,$A39<='daily uptake'!$C$10),$C39+E38,0)","v":312.77777777777771},{"$f":"IF(AND($A39>='daily uptake'!$C$18,$A39<='daily uptake'!$C$20),$D39+F38,0)","v":0},{"$f":"IF(AND($A39>='daily uptake'!$C$24,$A39<='daily uptake'!$C$25),$C39+G38,0)","v":0},{"$f":"IF(OR(F39<=I7,F39>I9),0,I8+(I10-I8)*(1-((I5+EXP(I6*(I4-I7)))/(I5+EXP(I6*(I4-F39))))^I5)/(1-((I5+EXP(I6*(I4-I7)))/(I5+EXP(I6*(I4-I9))))^I5))","v":0},{"$f":"IF(OR(F39<=J7,F39>J9),0,J8+(J10-J8)*(1-((J5+EXP(J6*(J4-J7)))/(J5+EXP(J6*(J4-F39))))^J5)/(1-((J5+EXP(J6*(J4-J7)))/(J5+EXP(J6*(J4-J9))))^J5))","v":0},{"$f":"IF(OR(F39<=J9,F39>100000),0,IF(F39<=K7,K8,K8+(K10-K8)*(1-((K5+EXP(K6*(K4-K7)))/(K5+EXP(K6*(K4-F39))))^K5)/(1-((K5+EXP(K6*(K4-K7)))/(K5+EXP(K6*(K4-K9))))^K5)))","v":0},0,0,11.145266873817912,0,"2010-11-28",{"$f":"MAX(L$12:L39)+MAX(M$12:M39)+MAX(N$12:N39)","v":11.145266873817912},"2010-11-28",0.2778169214760986,null,null,null,null,null,null,null,null,null,null,null,null,null,null,null,null,null,0,null,{"$f":"IF(OR(AJ39<=AM7,AJ39>AM9),0,AM8+(AM10-AM8)*(1-((AM5+EXP(AM6*(AM4-AM7)))/(AM5+EXP(AM6*(AM4-AJ39))))^AM5)/(1-((AM5+EXP(AM6*(AM4-AM7)))/(AM5+EXP(AM6*(AM4-AM9))))^AM5))","v":0},{"$f":"IF(OR(AJ39<=AN7,AJ39>AN9),0,AN8+(AN10-AN8)*(1-((AN5+EXP(AN6*(AN4-AN7)))/(AN5+EXP(AN6*(AN4-AJ39))))^AN5)/(1-((AN5+EXP(AN6*(AN4-AN7)))/(AN5+EXP(AN6*(AN4-AN9))))^AN5))","v":0},{"$f":"IF(OR(AJ39<=AN9,AJ39>100000),0,IF(AJ39<=AO7,AO8,AO8+(AO10-AO8)*(1-((AO5+EXP(AO6*(AO4-AO7)))/(AO5+EXP(AO6*(AO4-AJ39))))^AO5)/(1-((AO5+EXP(AO6*(AO4-AO7)))/(AO5+EXP(AO6*(AO4-AO9))))^AO5)))","v":0},0,0]
[29,{"$f":"'daily uptake'!F123","v":"2010-11-29"},{"$f":"5/9*'daily uptake'!Q123","v":5},{"$f":"5/9*'daily uptake'!N123","v":0.55555555555555558},{"$f":"IF(AND($A40>='daily uptake'!$C$9,$A40<='daily uptake'!$C$10),$C40+E39,0)","v":317.77777777777771},{"$f":"IF(AND($A40>='daily uptake'!$C$18,$A40<='daily uptake'!$C$20),$D40+F39,0)","v":0},{"$f":"IF(AND($A40>='daily uptake'!$C$24,$A40<='daily uptake'!$C$25),$C40+G39,0)","v":0},{"$f":"IF(OR(F40<=I7,F40>I9),0,I8+(I10-I8)*(1-((I5+EXP(I6*(I4-I7)))/(I5+EXP(I6*(I4-F40))))^I5)/(1-((I5+EXP(I6*(I4-I7)))/(I5+EXP(I6*(I4-I9))))^I5))","v":0},{"$f":"IF(OR(F40<=J7,F40>J9),0,J8+(J10-J8)*(1-((J5+EXP(J6*(J4-J7)))/(J5+EXP(J6*(J4-F40))))^J5)/(1-((J5+EXP(J6*(J4-J7)))/(J5+EXP(J6*(J4-J9))))^J5))","v":0},{"$f":"IF(OR(F40<=J9,F40>100000),0,IF(F40<=K7,K8,K8+(K10-K8)*(1-((K5+EXP(K6*(K4-K7)))/(K5+EXP(K6*(K4-F40))))^K5)/(1-((K5+EXP(K6*(K4-K7)))/(K5+EXP(K6*(K4-K9))))^K5)))","v":0},0,0,11.37458709469618,0,"2010-11-29",{"$f":"MAX(L$12:L40)+MAX(M$12:M40)+MAX(N$12:N40)","v":11.37458709469618},"2010-11-29",0.22932022087826809,null,null,null,null,null,null,null,null,null,null,null,null,null,null,null,null,null,0,null,{"$f":"IF(OR(AJ40<=AM7,AJ40>AM9),0,AM8+(AM10-AM8)*(1-((AM5+EXP(AM6*(AM4-AM7)))/(AM5+EXP(AM6*(AM4-AJ40))))^AM5)/(1-((AM5+EXP(AM6*(AM4-AM7)))/(AM5+EXP(AM6*(AM4-AM9))))^AM5))","v":0},{"$f":"IF(OR(AJ40<=AN7,AJ40>AN9),0,AN8+(AN10-AN8)*(1-((AN5+EXP(AN6*(AN4-AN7)))/(AN5+EXP(AN6*(AN4-AJ40))))^AN5)/(1-((AN5+EXP(AN6*(AN4-AN7)))/(AN5+EXP(AN6*(AN4-AN9))))^AN5))","v":0},{"$f":"IF(OR(AJ40<=AN9,AJ40>100000),0,IF(AJ40<=AO7,AO8,AO8+(AO10-AO8)*(1-((AO5+EXP(AO6*(AO4-AO7)))/(AO5+EXP(AO6*(AO4-AJ40))))^AO5)/(1-((AO5+EXP(AO6*(AO4-AO7)))/(AO5+EXP(AO6*(AO4-AO9))))^AO5)))","v":0},0,0]
[30,{"$f":"'daily uptake'!F124","v":"2010-11-30"},{"$f":"5/9*'daily uptake'!Q124","v":5.2777777777777777},{"$f":"5/9*'daily uptake'!N124","v":0.83333333333333337},{"$f":"IF(AND($A41>='daily uptake'!$C$9,$A41<='daily uptake'!$C$10),$C41+E40,0)","v":323.05555555555549},{"$f":"IF(AND($A41>='daily uptake'!$C$18,$A41<='daily uptake'!$C$20),$D41+F40,0)","v":0},{"$f":"IF(AND($A41>='daily uptake'!$C$24,$A41<='daily uptake'!$C$25),$C41+G40,0)","v":0},{"$f":"IF(OR(F41<=I7,F41>I9),0,I8+(I10-I8)*(1-((I5+EXP(I6*(I4-I7)))/(I5+EXP(I6*(I4-F41))))^I5)/(1-((I5+EXP(I6*(I4-I7)))/(I5+EXP(I6*(I4-I9))))^I5))","v":0},{"$f":"IF(OR(F41<=J7,F41>J9),0,J8+(J10-J8)*(1-((J5+EXP(J6*(J4-J7)))/(J5+EXP(J6*(J4-F41))))^J5)/(1-((J5+EXP(J6*(J4-J7)))/(J5+EXP(J6*(J4-J9))))^J5))","v":0},{"$f":"IF(OR(F41<=J9,F41>100000),0,IF(F41<=K7,K8,K8+(K10-K8)*(1-((K5+EXP(K6*(K4-K7)))/(K5+EXP(K6*(K4-F41))))^K5)/(1-((K5+EXP(K6*(K4-K7)))/(K5+EXP(K6*(K4-K9))))^K5)))","v":0},0,0,11.61862683561314,0,"2010-11-30",{"$f":"MAX(L$12:L41)+MAX(M$12:M41)+MAX(N$12:N41)","v":11.61862683561314},"2010-11-30",0.24403974091696057,null,null,null,null,null,null,null,null,null,null,null,null,null,null,null,null,null,0,null,{"$f":"IF(OR(AJ41<=AM7,AJ41>AM9),0,AM8+(AM10-AM8)*(1-((AM5+EXP(AM6*(AM4-AM7)))/(AM5+EXP(AM6*(AM4-AJ41))))^AM5)/(1-((AM5+EXP(AM6*(AM4-AM7)))/(AM5+EXP(AM6*(AM4-AM9))))^AM5))","v":0},{"$f":"IF(OR(AJ41<=AN7,AJ41>AN9),0,AN8+(AN10-AN8)*(1-((AN5+EXP(AN6*(AN4-AN7)))/(AN5+EXP(AN6*(AN4-AJ41))))^AN5)/(1-((AN5+EXP(AN6*(AN4-AN7)))/(AN5+EXP(AN6*(AN4-AN9))))^AN5))","v":0},{"$f":"IF(OR(AJ41<=AN9,AJ41>100000),0,IF(AJ41<=AO7,AO8,AO8+(AO10-AO8)*(1-((AO5+EXP(AO6*(AO4-AO7)))/(AO5+EXP(AO6*(AO4-AJ41))))^AO5)/(1-((AO5+EXP(AO6*(AO4-AO7)))/(AO5+EXP(AO6*(AO4-AO9))))^AO5)))","v":0},0,0]
[31,{"$f":"'daily uptake'!F125","v":"2010-12-01"},{"$f":"5/9*'daily uptake'!Q125","v":6.1111111111111116},{"$f":"5/9*'daily uptake'!N125","v":1.6666666666666667},{"$f":"IF(AND($A42>='daily uptake'!$C$9,$A42<='daily uptake'!$C$10),$C42+E41,0)","v":329.16666666666657},{"$f":"IF(AND($A42>='daily uptake'!$C$18,$A42<='daily uptake'!$C$20),$D42+F41,0)","v":0},{"$f":"IF(AND($A42>='daily uptake'!$C$24,$A42<='daily uptake'!$C$25),$C42+G41,0)","v":0},{"$f":"IF(OR(F42<=I7,F42>I9),0,I8+(I10-I8)*(1-((I5+EXP(I6*(I4-I7)))/(I5+EXP(I6*(I4-F42))))^I5)/(1-((I5+EXP(I6*(I4-I7)))/(I5+EXP(I6*(I4-I9))))^I5))","v":0},{"$f":"IF(OR(F42<=J7,F42>J9),0,J8+(J10-J8)*(1-((J5+EXP(J6*(J4-J7)))/(J5+EXP(J6*(J4-F42))))^J5)/(1-((J5+EXP(J6*(J4-J7)))/(J5+EXP(J6*(J4-J9))))^J5))","v":0},{"$f":"IF(OR(F42<=J9,F42>100000),0,IF(F42<=K7,K8,K8+(K10-K8)*(1-((K5+EXP(K6*(K4-K7)))/(K5+EXP(K6*(K4-F42))))^K5)/(1-((K5+EXP(K6*(K4-K7)))/(K5+EXP(K6*(K4-K9))))^K5)))","v":0},0,0,11.90375388465803,0,"2010-12-01",{"$f":"MAX(L$12:L42)+MAX(M$12:M42)+MAX(N$12:N42)","v":11.90375388465803},"2010-12-01",0.28512704904489006,null,null,null,null,null,null,null,null,null,null,null,null,null,null,null,null,null,0,null,{"$f":"IF(OR(AJ42<=AM7,AJ42>AM9),0,AM8+(AM10-AM8)*(1-((AM5+EXP(AM6*(AM4-AM7)))/(AM5+EXP(AM6*(AM4-AJ42))))^AM5)/(1-((AM5+EXP(AM6*(AM4-AM7)))/(AM5+EXP(AM6*(AM4-AM9))))^AM5))","v":0},{"$f":"IF(OR(AJ42<=AN7,AJ42>AN9),0,AN8+(AN10-AN8)*(1-((AN5+EXP(AN6*(AN4-AN7)))/(AN5+EXP(AN6*(AN4-AJ42))))^AN5)/(1-((AN5+EXP(AN6*(AN4-AN7)))/(AN5+EXP(AN6*(AN4-AN9))))^AN5))","v":0},{"$f":"IF(OR(AJ42<=AN9,AJ42>100000),0,IF(AJ42<=AO7,AO8,AO8+(AO10-AO8)*(1-((AO5+EXP(AO6*(AO4-AO7)))/(AO5+EXP(AO6*(AO4-AJ42))))^AO5)/(1-((AO5+EXP(AO6*(AO4-AO7)))/(AO5+EXP(AO6*(AO4-AO9))))^AO5)))","v":0},0,0]
[32,{"$f":"'daily uptake'!F126","v":"2010-12-02"},{"$f":"5/9*'daily uptake'!Q126","v":6.3888888888888893},{"$f":"5/9*'daily uptake'!N126","v":0.83333333333333337},{"$f":"IF(AND($A43>='daily uptake'!$C$9,$A43<='daily uptake'!$C$10),$C43+E42,0)","v":335.55555555555549},{"$f":"IF(AND($A43>='daily uptake'!$C$18,$A43<='daily uptake'!$C$20),$D43+F42,0)","v":0},{"$f":"IF(AND($A43>='daily uptake'!$C$24,$A43<='daily uptake'!$C$25),$C43+G42,0)","v":0},{"$f":"IF(OR(F43<=I7,F43>I9),0,I8+(I10-I8)*(1-((I5+EXP(I6*(I4-I7)))/(I5+EXP(I6*(I4-F43))))^I5)/(1-((I5+EXP(I6*(I4-I7)))/(I5+EXP(I6*(I4-I9))))^I5))","v":0},{"$f":"IF(OR(F43<=J7,F43>J9),0,J8+(J10-J8)*(1-((J5+EXP(J6*(J4-J7)))/(J5+EXP(J6*(J4-F43))))^J5)/(1-((J5+EXP(J6*(J4-J7)))/(J5+EXP(J6*(J4-J9))))^J5))","v":0},{"$f":"IF(OR(F43<=J9,F43>100000),0,IF(F43<=K7,K8,K8+(K10-K8)*(1-((K5+EXP(K6*(K4-K7)))/(K5+EXP(K6*(K4-F43))))^K5)/(1-((K5+EXP(K6*(K4-K7)))/(K5+EXP(K6*(K4-K9))))^K5)))","v":0},0,0,12.204791094451048,0,"2010-12-02",{"$f":"MAX(L$12:L43)+MAX(M$12:M43)+MAX(N$12:N43)","v":12.204791094451048},"2010-12-02",0.30103720979301762,null,null,null,null,null,null,null,null,null,null,null,null,null,null,null,null,null,0,null,{"$f":"IF(OR(AJ43<=AM7,AJ43>AM9),0,AM8+(AM10-AM8)*(1-((AM5+EXP(AM6*(AM4-AM7)))/(AM5+EXP(AM6*(AM4-AJ43))))^AM5)/(1-((AM5+EXP(AM6*(AM4-AM7)))/(AM5+EXP(AM6*(AM4-AM9))))^AM5))","v":0},{"$f":"IF(OR(AJ43<=AN7,AJ43>AN9),0,AN8+(AN10-AN8)*(1-((AN5+EXP(AN6*(AN4-AN7)))/(AN5+EXP(AN6*(AN4-AJ43))))^AN5)/(1-((AN5+EXP(AN6*(AN4-AN7)))/(AN5+EXP(AN6*(AN4-AN9))))^AN5))","v":0},{"$f":"IF(OR(AJ43<=AN9,AJ43>100000),0,IF(AJ43<=AO7,AO8,AO8+(AO10-AO8)*(1-((AO5+EXP(AO6*(AO4-AO7)))/(AO5+EXP(AO6*(AO4-AJ43))))^AO5)/(1-((AO5+EXP(AO6*(AO4-AO7)))/(AO5+EXP(AO6*(AO4-AO9))))^AO5)))","v":0},0,0]
[33,{"$f":"'daily uptake'!F127","v":"2010-12-03"},{"$f":"5/9*'daily uptake'!Q127","v":8.3333333333333339},{"$f":"5/9*'daily uptake'!N127","v":0.83333333333333337},{"$f":"IF(AND($A44>='daily uptake'!$C$9,$A44<='daily uptake'!$C$10),$C44+E43,0)","v":343.8888888888888},{"$f":"IF(AND($A44>='daily uptake'!$C$18,$A44<='daily uptake'!$C$20),$D44+F43,0)","v":0},{"$f":"IF(AND($A44>='daily uptake'!$C$24,$A44<='daily uptake'!$C$25),$C44+G43,0)","v":0},{"$f":"IF(OR(F44<=I7,F44>I9),0,I8+(I10-I8)*(1-((I5+EXP(I6*(I4-I7)))/(I5+EXP(I6*(I4-F44))))^I5)/(1-((I5+EXP(I6*(I4-I7)))/(I5+EXP(I6*(I4-I9))))^I5))","v":0},{"$f":"IF(OR(F44<=J7,F44>J9),0,J8+(J10-J8)*(1-((J5+EXP(J6*(J4-J7)))/(J5+EXP(J6*(J4-F44))))^J5)/(1-((J5+EXP(J6*(J4-J7)))/(J5+EXP(J6*(J4-J9))))^J5))","v":0},{"$f":"IF(OR(F44<=J9,F44>100000),0,IF(F44<=K7,K8,K8+(K10-K8)*(1-((K5+EXP(K6*(K4-K7)))/(K5+EXP(K6*(K4-F44))))^K5)/(1-((K5+EXP(K6*(K4-K7)))/(K5+EXP(K6*(K4-K9))))^K5)))","v":0},0,0,12.602012979703538,0,"2010-12-03",{"$f":"MAX(L$12:L44)+MAX(M$12:M44)+MAX(N$12:N44)","v":12.602012979703538},"2010-12-03",0.39722188525249003,null,null,null,null,null,null,null,null,null,null,null,null,null,null,null,null,null,0,null,{"$f":"IF(OR(AJ44<=AM7,AJ44>AM9),0,AM8+(AM10-AM8)*(1-((AM5+EXP(AM6*(AM4-AM7)))/(AM5+EXP(AM6*(AM4-AJ44))))^AM5)/(1-((AM5+EXP(AM6*(AM4-AM7)))/(AM5+EXP(AM6*(AM4-AM9))))^AM5))","v":0},{"$f":"IF(OR(AJ44<=AN7,AJ44>AN9),0,AN8+(AN10-AN8)*(1-((AN5+EXP(AN6*(AN4-AN7)))/(AN5+EXP(AN6*(AN4-AJ44))))^AN5)/(1-((AN5+EXP(AN6*(AN4-AN7)))/(AN5+EXP(AN6*(AN4-AN9))))^AN5))","v":0},{"$f":"IF(OR(AJ44<=AN9,AJ44>100000),0,IF(AJ44<=AO7,AO8,AO8+(AO10-AO8)*(1-((AO5+EXP(AO6*(AO4-AO7)))/(AO5+EXP(AO6*(AO4-AJ44))))^AO5)/(1-((AO5+EXP(AO6*(AO4-AO7)))/(AO5+EXP(AO6*(AO4-AO9))))^AO5)))","v":0},0,0]
[34,{"$f":"'daily uptake'!F128","v":"2010-12-04"},{"$f":"5/9*'daily uptake'!Q128","v":11.666666666666668},{"$f":"5/9*'daily uptake'!N128","v":3.0555555555555558},{"$f":"IF(AND($A45>='daily uptake'!$C$9,$A45<='daily uptake'!$C$10),$C45+E44,0)","v":355.55555555555549},{"$f":"IF(AND($A45>='daily uptake'!$C$18,$A45<='daily uptake'!$C$20),$D45+F44,0)","v":0},{"$f":"IF(AND($A45>='daily uptake'!$C$24,$A45<='daily uptake'!$C$25),$C45+G44,0)","v":0},{"$f":"IF(OR(F45<=I7,F45>I9),0,I8+(I10-I8)*(1-((I5+EXP(I6*(I4-I7)))/(I5+EXP(I6*(I4-F45))))^I5)/(1-((I5+EXP(I6*(I4-I7)))/(I5+EXP(I6*(I4-I9))))^I5))","v":0},{"$f":"IF(OR(F45<=J7,F45>J9),0,J8+(J10-J8)*(1-((J5+EXP(J6*(J4-J7)))/(J5+EXP(J6*(J4-F45))))^J5)/(1-((J5+EXP(J6*(J4-J7)))/(J5+EXP(J6*(J4-J9))))^J5))","v":0},{"$f":"IF(OR(F45<=J9,F45>100000),0,IF(F45<=K7,K8,K8+(K10-K8)*(1-((K5+EXP(K6*(K4-K7)))/(K5+EXP(K6*(K4-F45))))^K5)/(1-((K5+EXP(K6*(K4-K7)))/(K5+EXP(K6*(K4-K9))))^K5)))","v":0},0,0,13.166884090235873,0,"2010-12-04",{"$f":"MAX(L$12:L45)+MAX(M$12:M45)+MAX(N$12:N45)","v":13.166884090235873},"2010-12-04",0.56487111053233541,null,null,null,null,null,null,null,null,null,null,null,null,null,null,null,null,null,0,null,{"$f":"IF(OR(AJ45<=AM7,AJ45>AM9),0,AM8+(AM10-AM8)*(1-((AM5+EXP(AM6*(AM4-AM7)))/(AM5+EXP(AM6*(AM4-AJ45))))^AM5)/(1-((AM5+EXP(AM6*(AM4-AM7)))/(AM5+EXP(AM6*(AM4-AM9))))^AM5))","v":0},{"$f":"IF(OR(AJ45<=AN7,AJ45>AN9),0,AN8+(AN10-AN8)*(1-((AN5+EXP(AN6*(AN4-AN7)))/(AN5+EXP(AN6*(AN4-AJ45))))^AN5)/(1-((AN5+EXP(AN6*(AN4-AN7)))/(AN5+EXP(AN6*(AN4-AN9))))^AN5))","v":0},{"$f":"IF(OR(AJ45<=AN9,AJ45>100000),0,IF(AJ45<=AO7,AO8,AO8+(AO10-AO8)*(1-((AO5+EXP(AO6*(AO4-AO7)))/(AO5+EXP(AO6*(AO4-AJ45))))^AO5)/(1-((AO5+EXP(AO6*(AO4-AO7)))/(AO5+EXP(AO6*(AO4-AO9))))^AO5)))","v":0},0,0]
[35,{"$f":"'daily uptake'!F129","v":"2010-12-05"},{"$f":"5/9*'daily uptake'!Q129","v":12.222222222222223},{"$f":"5/9*'daily uptake'!N129","v":3.3333333333333335},{"$f":"IF(AND($A46>='daily uptake'!$C$9,$A46<='daily uptake'!$C$10),$C46+E45,0)","v":367.77777777777771},{"$f":"IF(AND($A46>='daily uptake'!$C$18,$A46<='daily uptake'!$C$20),$D46+F45,0)","v":0},{"$f":"IF(AND($A46>='daily uptake'!$C$24,$A46<='daily uptake'!$C$25),$C46+G45,0)","v":0},{"$f":"IF(OR(F46<=I7,F46>I9),0,I8+(I10-I8)*(1-((I5+EXP(I6*(I4-I7)))/(I5+EXP(I6*(I4-F46))))^I5)/(1-((I5+EXP(I6*(I4-I7)))/(I5+EXP(I6*(I4-I9))))^I5))","v":0},{"$f":"IF(OR(F46<=J7,F46>J9),0,J8+(J10-J8)*(1-((J5+EXP(J6*(J4-J7)))/(J5+EXP(J6*(J4-F46))))^J5)/(1-((J5+EXP(J6*(J4-J7)))/(J5+EXP(J6*(J4-J9))))^J5))","v":0},{"$f":"IF(OR(F46<=J9,F46>100000),0,IF(F46<=K7,K8,K8+(K10-K8)*(1-((K5+EXP(K6*(K4-K7)))/(K5+EXP(K6*(K4-F46))))^K5)/(1-((K5+EXP(K6*(K4-K7)))/(K5+EXP(K6*(K4-K9))))^K5)))","v":0},0,0,13.769735692695015,0,"2010-12-05",{"$f":"MAX(L$12:L46)+MAX(M$12:M46)+MAX(N$12:N46)","v":13.769735692695015},"2010-12-05",0.60285160245914149,null,null,null,null,null,null,null,null,null,null,null,null,null,null,null,null,null,0,null,{"$f":"IF(OR(AJ46<=AM7,AJ46>AM9),0,AM8+(AM10-AM8)*(1-((AM5+EXP(AM6*(AM4-AM7)))/(AM5+EXP(AM6*(AM4-AJ46))))^AM5)/(1-((AM5+EXP(AM6*(AM4-AM7)))/(AM5+EXP(AM6*(AM4-AM9))))^AM5))","v":0},{"$f":"IF(OR(AJ46<=AN7,AJ46>AN9),0,AN8+(AN10-AN8)*(1-((AN5+EXP(AN6*(AN4-AN7)))/(AN5+EXP(AN6*(AN4-AJ46))))^AN5)/(1-((AN5+EXP(AN6*(AN4-AN7)))/(AN5+EXP(AN6*(AN4-AN9))))^AN5))","v":0},{"$f":"IF(OR(AJ46<=AN9,AJ46>100000),0,IF(AJ46<=AO7,AO8,AO8+(AO10-AO8)*(1-((AO5+EXP(AO6*(AO4-AO7)))/(AO5+EXP(AO6*(AO4-AJ46))))^AO5)/(1-((AO5+EXP(AO6*(AO4-AO7)))/(AO5+EXP(AO6*(AO4-AO9))))^AO5)))","v":0},0,0]
[36,{"$f":"'daily uptake'!F130","v":"2010-12-06"},{"$f":"5/9*'daily uptake'!Q130","v":13.611111111111112},{"$f":"5/9*'daily uptake'!N130","v":4.7222222222222223},{"$f":"IF(AND($A47>='daily uptake'!$C$9,$A47<='daily uptake'!$C$10),$C47+E46,0)","v":381.3888888888888},{"$f":"IF(AND($A47>='daily uptake'!$C$18,$A47<='daily uptake'!$C$20),$D47+F46,0)","v":0},{"$f":"IF(AND($A47>='daily uptake'!$C$24,$A47<='daily uptake'!$C$25),$C47+G46,0)","v":0},{"$f":"IF(OR(F47<=I7,F47>I9),0,I8+(I10-I8)*(1-((I5+EXP(I6*(I4-I7)))/(I5+EXP(I6*(I4-F47))))^I5)/(1-((I5+EXP(I6*(I4-I7)))/(I5+EXP(I6*(I4-I9))))^I5))","v":0},{"$f":"IF(OR(F47<=J7,F47>J9),0,J8+(J10-J8)*(1-((J5+EXP(J6*(J4-J7)))/(J5+EXP(J6*(J4-F47))))^J5)/(1-((J5+EXP(J6*(J4-J7)))/(J5+EXP(J6*(J4-J9))))^J5))","v":0},{"$f":"IF(OR(F47<=J9,F47>100000),0,IF(F47<=K7,K8,K8+(K10-K8)*(1-((K5+EXP(K6*(K4-K7)))/(K5+EXP(K6*(K4-F47))))^K5)/(1-((K5+EXP(K6*(K4-K7)))/(K5+EXP(K6*(K4-K9))))^K5)))","v":0},0,0,14.454604698550208,0,"2010-12-06",{"$f":"MAX(L$12:L47)+MAX(M$12:M47)+MAX(N$12:N47)","v":14.454604698550208},"2010-12-06",0.68486900585519273,null,null,null,null,null,null,null,null,null,null,null,null,null,null,null,null,null,0,null,{"$f":"IF(OR(AJ47<=AM7,AJ47>AM9),0,AM8+(AM10-AM8)*(1-((AM5+EXP(AM6*(AM4-AM7)))/(AM5+EXP(AM6*(AM4-AJ47))))^AM5)/(1-((AM5+EXP(AM6*(AM4-AM7)))/(AM5+EXP(AM6*(AM4-AM9))))^AM5))","v":0},{"$f":"IF(OR(AJ47<=AN7,AJ47>AN9),0,AN8+(AN10-AN8)*(1-((AN5+EXP(AN6*(AN4-AN7)))/(AN5+EXP(AN6*(AN4-AJ47))))^AN5)/(1-((AN5+EXP(AN6*(AN4-AN7)))/(AN5+EXP(AN6*(AN4-AN9))))^AN5))","v":0},{"$f":"IF(OR(AJ47<=AN9,AJ47>100000),0,IF(AJ47<=AO7,AO8,AO8+(AO10-AO8)*(1-((AO5+EXP(AO6*(AO4-AO7)))/(AO5+EXP(AO6*(AO4-AJ47))))^AO5)/(1-((AO5+EXP(AO6*(AO4-AO7)))/(AO5+EXP(AO6*(AO4-AO9))))^AO5)))","v":0},0,0]
[37,{"$f":"'daily uptake'!F131","v":"2010-12-07"},{"$f":"5/9*'daily uptake'!Q131","v":10},{"$f":"5/9*'daily uptake'!N131","v":3.3333333333333335},{"$f":"IF(AND($A48>='daily uptake'!$C$9,$A48<='daily uptake'!$C$10),$C48+E47,0)","v":391.3888888888888},{"$f":"IF(AND($A48>='daily uptake'!$C$18,$A48<='daily uptake'!$C$20),$D48+F47,0)","v":0},{"$f":"IF(AND($A48>='daily uptake'!$C$24,$A48<='daily uptake'!$C$25),$C48+G47,0)","v":0},{"$f":"IF(OR(F48<=I7,F48>I9),0,I8+(I10-I8)*(1-((I5+EXP(I6*(I4-I7)))/(I5+EXP(I6*(I4-F48))))^I5)/(1-((I5+EXP(I6*(I4-I7)))/(I5+EXP(I6*(I4-I9))))^I5))","v":0},{"$f":"IF(OR(F48<=J7,F48>J9),0,J8+(J10-J8)*(1-((J5+EXP(J6*(J4-J7)))/(J5+EXP(J6*(J4-F48))))^J5)/(1-((J5+EXP(J6*(J4-J7)))/(J5+EXP(J6*(J4-J9))))^J5))","v":0},{"$f":"IF(OR(F48<=J9,F48>100000),0,IF(F48<=K7,K8,K8+(K10-K8)*(1-((K5+EXP(K6*(K4-K7)))/(K5+EXP(K6*(K4-F48))))^K5)/(1-((K5+EXP(K6*(K4-K7)))/(K5+EXP(K6*(K4-K9))))^K5)))","v":0},0,0,14.966951723260729,0,"2010-12-07",{"$f":"MAX(L$12:L48)+MAX(M$12:M48)+MAX(N$12:N48)","v":14.966951723260729},"2010-12-07",0.51234702471052174,null,null,null,null,null,null,null,null,null,null,null,null,null,null,null,null,null,0,null,{"$f":"IF(OR(AJ48<=AM7,AJ48>AM9),0,AM8+(AM10-AM8)*(1-((AM5+EXP(AM6*(AM4-AM7)))/(AM5+EXP(AM6*(AM4-AJ48))))^AM5)/(1-((AM5+EXP(AM6*(AM4-AM7)))/(AM5+EXP(AM6*(AM4-AM9))))^AM5))","v":0},{"$f":"IF(OR(AJ48<=AN7,AJ48>AN9),0,AN8+(AN10-AN8)*(1-((AN5+EXP(AN6*(AN4-AN7)))/(AN5+EXP(AN6*(AN4-AJ48))))^AN5)/(1-((AN5+EXP(AN6*(AN4-AN7)))/(AN5+EXP(AN6*(AN4-AN9))))^AN5))","v":0},{"$f":"IF(OR(AJ48<=AN9,AJ48>100000),0,IF(AJ48<=AO7,AO8,AO8+(AO10-AO8)*(1-((AO5+EXP(AO6*(AO4-AO7)))/(AO5+EXP(AO6*(AO4-AJ48))))^AO5)/(1-((AO5+EXP(AO6*(AO4-AO7)))/(AO5+EXP(AO6*(AO4-AO9))))^AO5)))","v":0},0,0]
[38,{"$f":"'daily uptake'!F132","v":"2010-12-08"},{"$f":"5/9*'daily uptake'!Q132","v":10},{"$f":"5/9*'daily uptake'!N132","v":1.6666666666666667},{"$f":"IF(AND($A49>='daily uptake'!$C$9,$A49<='daily uptake'!$C$10),$C49+E48,0)","v":401.3888888888888},{"$f":"IF(AND($A49>='daily uptake'!$C$18,$A49<='daily uptake'!$C$20),$D49+F48,0)","v":0},{"$f":"IF(AND($A49>='daily uptake'!$C$24,$A49<='daily uptake'!$C$25),$C49+G48,0)","v":0},{"$f":"IF(OR(F49<=I7,F49>I9),0,I8+(I10-I8)*(1-((I5+EXP(I6*(I4-I7)))/(I5+EXP(I6*(I4-F49))))^I5)/(1-((I5+EXP(I6*(I4-I7)))/(I5+EXP(I6*(I4-I9))))^I5))","v":0},{"$f":"IF(OR(F49<=J7,F49>J9),0,J8+(J10-J8)*(1-((J5+EXP(J6*(J4-J7)))/(J5+EXP(J6*(J4-F49))))^J5)/(1-((J5+EXP(J6*(J4-J7)))/(J5+EXP(J6*(J4-J9))))^J5))","v":0},{"$f":"IF(OR(F49<=J9,F49>100000),0,IF(F49<=K7,K8,K8+(K10-K8)*(1-((K5+EXP(K6*(K4-K7)))/(K5+EXP(K6*(K4-F49))))^K5)/(1-((K5+EXP(K6*(K4-K7)))/(K5+EXP(K6*(K4-K9))))^K5)))","v":0},0,0,15.487155311295728,0,"2010-12-08",{"$f":"MAX(L$12:L49)+MAX(M$12:M49)+MAX(N$12:N49)","v":15.487155311295728},"2010-12-08",0.52020358803499889,null,null,null,null,null,null,null,null,null,null,null,null,null,null,null,null,null,0,null,{"$f":"IF(OR(AJ49<=AM7,AJ49>AM9),0,AM8+(AM10-AM8)*(1-((AM5+EXP(AM6*(AM4-AM7)))/(AM5+EXP(AM6*(AM4-AJ49))))^AM5)/(1-((AM5+EXP(AM6*(AM4-AM7)))/(AM5+EXP(AM6*(AM4-AM9))))^AM5))","v":0},{"$f":"IF(OR(AJ49<=AN7,AJ49>AN9),0,AN8+(AN10-AN8)*(1-((AN5+EXP(AN6*(AN4-AN7)))/(AN5+EXP(AN6*(AN4-AJ49))))^AN5)/(1-((AN5+EXP(AN6*(AN4-AN7)))/(AN5+EXP(AN6*(AN4-AN9))))^AN5))","v":0},{"$f":"IF(OR(AJ49<=AN9,AJ49>100000),0,IF(AJ49<=AO7,AO8,AO8+(AO10-AO8)*(1-((AO5+EXP(AO6*(AO4-AO7)))/(AO5+EXP(AO6*(AO4-AJ49))))^AO5)/(1-((AO5+EXP(AO6*(AO4-AO7)))/(AO5+EXP(AO6*(AO4-AO9))))^AO5)))","v":0},0,0]
[39,{"$f":"'daily uptake'!F133","v":"2010-12-09"},{"$f":"5/9*'daily uptake'!Q133","v":12.777777777777779},{"$f":"5/9*'daily uptake'!N133","v":3.6111111111111112},{"$f":"IF(AND($A50>='daily uptake'!$C$9,$A50<='daily uptake'!$C$10),$C50+E49,0)","v":414.16666666666657},{"$f":"IF(AND($A50>='daily uptake'!$C$18,$A50<='daily uptake'!$C$20),$D50+F49,0)","v":0},{"$f":"IF(AND($A50>='daily uptake'!$C$24,$A50<='daily uptake'!$C$25),$C50+G49,0)","v":0},{"$f":"IF(OR(F50<=I7,F50>I9),0,I8+(I10-I8)*(1-((I5+EXP(I6*(I4-I7)))/(I5+EXP(I6*(I4-F50))))^I5)/(1-((I5+EXP(I6*(I4-I7)))/(I5+EXP(I6*(I4-I9))))^I5))","v":0},{"$f":"IF(OR(F50<=J7,F50>J9),0,J8+(J10-J8)*(1-((J5+EXP(J6*(J4-J7)))/(J5+EXP(J6*(J4-F50))))^J5)/(1-((J5+EXP(J6*(J4-J7)))/(J5+EXP(J6*(J4-J9))))^J5))","v":0},{"$f":"IF(OR(F50<=J9,F50>100000),0,IF(F50<=K7,K8,K8+(K10-K8)*(1-((K5+EXP(K6*(K4-K7)))/(K5+EXP(K6*(K4-F50))))^K5)/(1-((K5+EXP(K6*(K4-K7)))/(K5+EXP(K6*(K4-K9))))^K5)))","v":0},0,0,16.163408101624569,0,"2010-12-09",{"$f":"MAX(L$12:L50)+MAX(M$12:M50)+MAX(N$12:N50)","v":16.163408101624569},"2010-12-09",0.67625279032884045,null,null,null,null,null,null,null,null,null,null,null,null,null,null,null,null,null,0,null,{"$f":"IF(OR(AJ50<=AM7,AJ50>AM9),0,AM8+(AM10-AM8)*(1-((AM5+EXP(AM6*(AM4-AM7)))/(AM5+EXP(AM6*(AM4-AJ50))))^AM5)/(1-((AM5+EXP(AM6*(AM4-AM7)))/(AM5+EXP(AM6*(AM4-AM9))))^AM5))","v":0},{"$f":"IF(OR(AJ50<=AN7,AJ50>AN9),0,AN8+(AN10-AN8)*(1-((AN5+EXP(AN6*(AN4-AN7)))/(AN5+EXP(AN6*(AN4-AJ50))))^AN5)/(1-((AN5+EXP(AN6*(AN4-AN7)))/(AN5+EXP(AN6*(AN4-AN9))))^AN5))","v":0},{"$f":"IF(OR(AJ50<=AN9,AJ50>100000),0,IF(AJ50<=AO7,AO8,AO8+(AO10-AO8)*(1-((AO5+EXP(AO6*(AO4-AO7)))/(AO5+EXP(AO6*(AO4-AJ50))))^AO5)/(1-((AO5+EXP(AO6*(AO4-AO7)))/(AO5+EXP(AO6*(AO4-AO9))))^AO5)))","v":0},0,0]
[40,{"$f":"'daily uptake'!F134","v":"2010-12-10"},{"$f":"5/9*'daily uptake'!Q134","v":13.888888888888889},{"$f":"5/9*'daily uptake'!N134","v":4.4444444444444446},{"$f":"IF(AND($A51>='daily uptake'!$C$9,$A51<='daily uptake'!$C$10),$C51+E50,0)","v":428.05555555555549},{"$f":"IF(AND($A51>='daily uptake'!$C$18,$A51<='daily uptake'!$C$20),$D51+F50,0)","v":0},{"$f":"IF(AND($A51>='daily uptake'!$C$24,$A51<='daily uptake'!$C$25),$C51+G50,0)","v":0},{"$f":"IF(OR(F51<=I7,F51>I9),0,I8+(I10-I8)*(1-((I5+EXP(I6*(I4-I7)))/(I5+EXP(I6*(I4-F51))))^I5)/(1-((I5+EXP(I6*(I4-I7)))/(I5+EXP(I6*(I4-I9))))^I5))","v":0},{"$f":"IF(OR(F51<=J7,F51>J9),0,J8+(J10-J8)*(1-((J5+EXP(J6*(J4-J7)))/(J5+EXP(J6*(J4-F51))))^J5)/(1-((J5+EXP(J6*(J4-J7)))/(J5+EXP(J6*(J4-J9))))^J5))","v":0},{"$f":"IF(OR(F51<=J9,F51>100000),0,IF(F51<=K7,K8,K8+(K10-K8)*(1-((K5+EXP(K6*(K4-K7)))/(K5+EXP(K6*(K4-F51))))^K5)/(1-((K5+EXP(K6*(K4-K7)))/(K5+EXP(K6*(K4-K9))))^K5)))","v":0},0,0,16.91332179377974,0,"2010-12-10",{"$f":"MAX(L$12:L51)+MAX(M$12:M51)+MAX(N$12:N51)","v":16.91332179377974},"2010-12-10",0.74991369215517167,null,null,null,null,null,null,null,null,null,null,null,null,null,null,null,null,null,0,null,{"$f":"IF(OR(AJ51<=AM7,AJ51>AM9),0,AM8+(AM10-AM8)*(1-((AM5+EXP(AM6*(AM4-AM7)))/(AM5+EXP(AM6*(AM4-AJ51))))^AM5)/(1-((AM5+EXP(AM6*(AM4-AM7)))/(AM5+EXP(AM6*(AM4-AM9))))^AM5))","v":0},{"$f":"IF(OR(AJ51<=AN7,AJ51>AN9),0,AN8+(AN10-AN8)*(1-((AN5+EXP(AN6*(AN4-AN7)))/(AN5+EXP(AN6*(AN4-AJ51))))^AN5)/(1-((AN5+EXP(AN6*(AN4-AN7)))/(AN5+EXP(AN6*(AN4-AN9))))^AN5))","v":0},{"$f":"IF(OR(AJ51<=AN9,AJ51>100000),0,IF(AJ51<=AO7,AO8,AO8+(AO10-AO8)*(1-((AO5+EXP(AO6*(AO4-AO7)))/(AO5+EXP(AO6*(AO4-AJ51))))^AO5)/(1-((AO5+EXP(AO6*(AO4-AO7)))/(AO5+EXP(AO6*(AO4-AO9))))^AO5)))","v":0},0,0]
[41,{"$f":"'daily uptake'!F135","v":"2010-12-11"},{"$f":"5/9*'daily uptake'!Q135","v":11.944444444444445},{"$f":"5/9*'daily uptake'!N135","v":1.9444444444444446},{"$f":"IF(AND($A52>='daily uptake'!$C$9,$A52<='daily uptake'!$C$10),$C52+E51,0)","v":439.99999999999994},{"$f":"IF(AND($A52>='daily uptake'!$C$18,$A52<='daily uptake'!$C$20),$D52+F51,0)","v":0},{"$f":"IF(AND($A52>='daily uptake'!$C$24,$A52<='daily uptake'!$C$25),$C52+G51,0)","v":0},{"$f":"IF(OR(F52<=I7,F52>I9),0,I8+(I10-I8)*(1-((I5+EXP(I6*(I4-I7)))/(I5+EXP(I6*(I4-F52))))^I5)/(1-((I5+EXP(I6*(I4-I7)))/(I5+EXP(I6*(I4-I9))))^I5))","v":0},{"$f":"IF(OR(F52<=J7,F52>J9),0,J8+(J10-J8)*(1-((J5+EXP(J6*(J4-J7)))/(J5+EXP(J6*(J4-F52))))^J5)/(1-((J5+EXP(J6*(J4-J7)))/(J5+EXP(J6*(J4-J9))))^J5))","v":0},{"$f":"IF(OR(F52<=J9,F52>100000),0,IF(F52<=K7,K8,K8+(K10-K8)*(1-((K5+EXP(K6*(K4-K7)))/(K5+EXP(K6*(K4-F52))))^K5)/(1-((K5+EXP(K6*(K4-K7)))/(K5+EXP(K6*(K4-K9))))^K5)))","v":0},0,0,17.570763026172191,0,"2010-12-11",{"$f":"MAX(L$12:L52)+MAX(M$12:M52)+MAX(N$12:N52)","v":17.570763026172191},"2010-12-11",0.65744123239245056,null,null,null,null,null,null,null,null,null,null,null,null,null,null,null,null,null,0,null,{"$f":"IF(OR(AJ52<=AM7,AJ52>AM9),0,AM8+(AM10-AM8)*(1-((AM5+EXP(AM6*(AM4-AM7)))/(AM5+EXP(AM6*(AM4-AJ52))))^AM5)/(1-((AM5+EXP(AM6*(AM4-AM7)))/(AM5+EXP(AM6*(AM4-AM9))))^AM5))","v":0},{"$f":"IF(OR(AJ52<=AN7,AJ52>AN9),0,AN8+(AN10-AN8)*(1-((AN5+EXP(AN6*(AN4-AN7)))/(AN5+EXP(AN6*(AN4-AJ52))))^AN5)/(1-((AN5+EXP(AN6*(AN4-AN7)))/(AN5+EXP(AN6*(AN4-AN9))))^AN5))","v":0},{"$f":"IF(OR(AJ52<=AN9,AJ52>100000),0,IF(AJ52<=AO7,AO8,AO8+(AO10-AO8)*(1-((AO5+EXP(AO6*(AO4-AO7)))/(AO5+EXP(AO6*(AO4-AJ52))))^AO5)/(1-((AO5+EXP(AO6*(AO4-AO7)))/(AO5+EXP(AO6*(AO4-AO9))))^AO5)))","v":0},0,0]
[42,{"$f":"'daily uptake'!F136","v":"2010-12-12"},{"$f":"5/9*'daily uptake'!Q136","v":13.333333333333334},{"$f":"5/9*'daily uptake'!N136","v":3.3333333333333335},{"$f":"IF(AND($A53>='daily uptake'!$C$9,$A53<='daily uptake'!$C$10),$C53+E52,0)","v":453.33333333333326},{"$f":"IF(AND($A53>='daily uptake'!$C$18,$A53<='daily uptake'!$C$20),$D53+F52,0)","v":0},{"$f":"IF(AND($A53>='daily uptake'!$C$24,$A53<='daily uptake'!$C$25),$C53+G52,0)","v":0},{"$f":"IF(OR(F53<=I7,F53>I9),0,I8+(I10-I8)*(1-((I5+EXP(I6*(I4-I7)))/(I5+EXP(I6*(I4-F53))))^I5)/(1-((I5+EXP(I6*(I4-I7)))/(I5+EXP(I6*(I4-I9))))^I5))","v":0},{"$f":"IF(OR(F53<=J7,F53>J9),0,J8+(J10-J8)*(1-((J5+EXP(J6*(J4-J7)))/(J5+EXP(J6*(J4-F53))))^J5)/(1-((J5+EXP(J6*(J4-J7)))/(J5+EXP(J6*(J4-J9))))^J5))","v":0},{"$f":"IF(OR(F53<=J9,F53>100000),0,IF(F53<=K7,K8,K8+(K10-K8)*(1-((K5+EXP(K6*(K4-K7)))/(K5+EXP(K6*(K4-F53))))^K5)/(1-((K5+EXP(K6*(K4-K7)))/(K5+EXP(K6*(K4-K9))))^K5)))","v":0},0,0,18.318470860398843,0,"2010-12-12",{"$f":"MAX(L$12:L53)+MAX(M$12:M53)+MAX(N$12:N53)","v":18.318470860398843},"2010-12-12",0.74770783422665232,null,null,null,null,null,null,null,null,null,null,null,null,null,null,null,null,null,0,null,{"$f":"IF(OR(AJ53<=AM7,AJ53>AM9),0,AM8+(AM10-AM8)*(1-((AM5+EXP(AM6*(AM4-AM7)))/(AM5+EXP(AM6*(AM4-AJ53))))^AM5)/(1-((AM5+EXP(AM6*(AM4-AM7)))/(AM5+EXP(AM6*(AM4-AM9))))^AM5))","v":0},{"$f":"IF(OR(AJ53<=AN7,AJ53>AN9),0,AN8+(AN10-AN8)*(1-((AN5+EXP(AN6*(AN4-AN7)))/(AN5+EXP(AN6*(AN4-AJ53))))^AN5)/(1-((AN5+EXP(AN6*(AN4-AN7)))/(AN5+EXP(AN6*(AN4-AN9))))^AN5))","v":0},{"$f":"IF(OR(AJ53<=AN9,AJ53>100000),0,IF(AJ53<=AO7,AO8,AO8+(AO10-AO8)*(1-((AO5+EXP(AO6*(AO4-AO7)))/(AO5+EXP(AO6*(AO4-AJ53))))^AO5)/(1-((AO5+EXP(AO6*(AO4-AO7)))/(AO5+EXP(AO6*(AO4-AO9))))^AO5)))","v":0},0,0]
[43,{"$f":"'daily uptake'!F137","v":"2010-12-13"},{"$f":"5/9*'daily uptake'!Q137","v":11.944444444444445},{"$f":"5/9*'daily uptake'!N137","v":1.9444444444444446},{"$f":"IF(AND($A54>='daily uptake'!$C$9,$A54<='daily uptake'!$C$10),$C54+E53,0)","v":465.27777777777771},{"$f":"IF(AND($A54>='daily uptake'!$C$18,$A54<='daily uptake'!$C$20),$D54+F53,0)","v":0},{"$f":"IF(AND($A54>='daily uptake'!$C$24,$A54<='daily uptake'!$C$25),$C54+G53,0)","v":0},{"$f":"IF(OR(F54<=I7,F54>I9),0,I8+(I10-I8)*(1-((I5+EXP(I6*(I4-I7)))/(I5+EXP(I6*(I4-F54))))^I5)/(1-((I5+EXP(I6*(I4-I7)))/(I5+EXP(I6*(I4-I9))))^I5))","v":0},{"$f":"IF(OR(F54<=J7,F54>J9),0,J8+(J10-J8)*(1-((J5+EXP(J6*(J4-J7)))/(J5+EXP(J6*(J4-F54))))^J5)/(1-((J5+EXP(J6*(J4-J7)))/(J5+EXP(J6*(J4-J9))))^J5))","v":0},{"$f":"IF(OR(F54<=J9,F54>100000),0,IF(F54<=K7,K8,K8+(K10-K8)*(1-((K5+EXP(K6*(K4-K7)))/(K5+EXP(K6*(K4-F54))))^K5)/(1-((K5+EXP(K6*(K4-K7)))/(K5+EXP(K6*(K4-K9))))^K5)))","v":0},0,0,19.000797006862822,0,"2010-12-13",{"$f":"MAX(L$12:L54)+MAX(M$12:M54)+MAX(N$12:N54)","v":19.000797006862822},"2010-12-13",0.68232614646397849,null,null,null,null,null,null,null,null,null,null,null,null,null,null,null,null,null,0,null,{"$f":"IF(OR(AJ54<=AM7,AJ54>AM9),0,AM8+(AM10-AM8)*(1-((AM5+EXP(AM6*(AM4-AM7)))/(AM5+EXP(AM6*(AM4-AJ54))))^AM5)/(1-((AM5+EXP(AM6*(AM4-AM7)))/(AM5+EXP(AM6*(AM4-AM9))))^AM5))","v":0},{"$f":"IF(OR(AJ54<=AN7,AJ54>AN9),0,AN8+(AN10-AN8)*(1-((AN5+EXP(AN6*(AN4-AN7)))/(AN5+EXP(AN6*(AN4-AJ54))))^AN5)/(1-((AN5+EXP(AN6*(AN4-AN7)))/(AN5+EXP(AN6*(AN4-AN9))))^AN5))","v":0},{"$f":"IF(OR(AJ54<=AN9,AJ54>100000),0,IF(AJ54<=AO7,AO8,AO8+(AO10-AO8)*(1-((AO5+EXP(AO6*(AO4-AO7)))/(AO5+EXP(AO6*(AO4-AJ54))))^AO5)/(1-((AO5+EXP(AO6*(AO4-AO7)))/(AO5+EXP(AO6*(AO4-AO9))))^AO5)))","v":0},0,0]
[44,{"$f":"'daily uptake'!F138","v":"2010-12-14"},{"$f":"5/9*'daily uptake'!Q138","v":10.555555555555555},{"$f":"5/9*'daily uptake'!N138","v":0.83333333333333337},{"$f":"IF(AND($A55>='daily uptake'!$C$9,$A55<='daily uptake'!$C$10),$C55+E54,0)","v":475.83333333333326},{"$f":"IF(AND($A55>='daily uptake'!$C$18,$A55<='daily uptake'!$C$20),$D55+F54,0)","v":0},{"$f":"IF(AND($A55>='daily uptake'!$C$24,$A55<='daily uptake'!$C$25),$C55+G54,0)","v":0},{"$f":"IF(OR(F55<=I7,F55>I9),0,I8+(I10-I8)*(1-((I5+EXP(I6*(I4-I7)))/(I5+EXP(I6*(I4-F55))))^I5)/(1-((I5+EXP(I6*(I4-I7)))/(I5+EXP(I6*(I4-I9))))^I5))","v":0},{"$f":"IF(OR(F55<=J7,F55>J9),0,J8+(J10-J8)*(1-((J5+EXP(J6*(J4-J7)))/(J5+EXP(J6*(J4-F55))))^J5)/(1-((J5+EXP(J6*(J4-J7)))/(J5+EXP(J6*(J4-J9))))^J5))","v":0},{"$f":"IF(OR(F55<=J9,F55>100000),0,IF(F55<=K7,K8,K8+(K10-K8)*(1-((K5+EXP(K6*(K4-K7)))/(K5+EXP(K6*(K4-F55))))^K5)/(1-((K5+EXP(K6*(K4-K7)))/(K5+EXP(K6*(K4-K9))))^K5)))","v":0},0,0,19.613710671599641,0,"2010-12-14",{"$f":"MAX(L$12:L55)+MAX(M$12:M55)+MAX(N$12:N55)","v":19.613710671599641},"2010-12-14",0.61291366473681919,null,null,null,null,null,null,null,null,null,null,null,null,null,null,null,null,null,0,null,{"$f":"IF(OR(AJ55<=AM7,AJ55>AM9),0,AM8+(AM10-AM8)*(1-((AM5+EXP(AM6*(AM4-AM7)))/(AM5+EXP(AM6*(AM4-AJ55))))^AM5)/(1-((AM5+EXP(AM6*(AM4-AM7)))/(AM5+EXP(AM6*(AM4-AM9))))^AM5))","v":0},{"$f":"IF(OR(AJ55<=AN7,AJ55>AN9),0,AN8+(AN10-AN8)*(1-((AN5+EXP(AN6*(AN4-AN7)))/(AN5+EXP(AN6*(AN4-AJ55))))^AN5)/(1-((AN5+EXP(AN6*(AN4-AN7)))/(AN5+EXP(AN6*(AN4-AN9))))^AN5))","v":0},{"$f":"IF(OR(AJ55<=AN9,AJ55>100000),0,IF(AJ55<=AO7,AO8,AO8+(AO10-AO8)*(1-((AO5+EXP(AO6*(AO4-AO7)))/(AO5+EXP(AO6*(AO4-AJ55))))^AO5)/(1-((AO5+EXP(AO6*(AO4-AO7)))/(AO5+EXP(AO6*(AO4-AO9))))^AO5)))","v":0},0,0]
[45,{"$f":"'daily uptake'!F139","v":"2010-12-15"},{"$f":"5/9*'daily uptake'!Q139","v":8.6111111111111107},{"$f":"5/9*'daily uptake'!N139","v":1.3888888888888888},{"$f":"IF(AND($A56>='daily uptake'!$C$9,$A56<='daily uptake'!$C$10),$C56+E55,0)","v":484.44444444444434},{"$f":"IF(AND($A56>='daily uptake'!$C$18,$A56<='daily uptake'!$C$20),$D56+F55,0)","v":0},{"$f":"IF(AND($A56>='daily uptake'!$C$24,$A56<='daily uptake'!$C$25),$C56+G55,0)","v":0},{"$f":"IF(OR(F56<=I7,F56>I9),0,I8+(I10-I8)*(1-((I5+EXP(I6*(I4-I7)))/(I5+EXP(I6*(I4-F56))))^I5)/(1-((I5+EXP(I6*(I4-I7)))/(I5+EXP(I6*(I4-I9))))^I5))","v":0},{"$f":"IF(OR(F56<=J7,F56>J9),0,J8+(J10-J8)*(1-((J5+EXP(J6*(J4-J7)))/(J5+EXP(J6*(J4-F56))))^J5)/(1-((J5+EXP(J6*(J4-J7)))/(J5+EXP(J6*(J4-J9))))^J5))","v":0},{"$f":"IF(OR(F56<=J9,F56>100000),0,IF(F56<=K7,K8,K8+(K10-K8)*(1-((K5+EXP(K6*(K4-K7)))/(K5+EXP(K6*(K4-F56))))^K5)/(1-((K5+EXP(K6*(K4-K7)))/(K5+EXP(K6*(K4-K9))))^K5)))","v":0},0,0,20.120672105895334,0,"2010-12-15",{"$f":"MAX(L$12:L56)+MAX(M$12:M56)+MAX(N$12:N56)","v":20.120672105895334},"2010-12-15",0.50696143429569318,null,null,null,null,null,null,null,null,null,null,null,null,null,null,null,null,null,0,null,{"$f":"IF(OR(AJ56<=AM7,AJ56>AM9),0,AM8+(AM10-AM8)*(1-((AM5+EXP(AM6*(AM4-AM7)))/(AM5+EXP(AM6*(AM4-AJ56))))^AM5)/(1-((AM5+EXP(AM6*(AM4-AM7)))/(AM5+EXP(AM6*(AM4-AM9))))^AM5))","v":0},{"$f":"IF(OR(AJ56<=AN7,AJ56>AN9),0,AN8+(AN10-AN8)*(1-((AN5+EXP(AN6*(AN4-AN7)))/(AN5+EXP(AN6*(AN4-AJ56))))^AN5)/(1-((AN5+EXP(AN6*(AN4-AN7)))/(AN5+EXP(AN6*(AN4-AN9))))^AN5))","v":0},{"$f":"IF(OR(AJ56<=AN9,AJ56>100000),0,IF(AJ56<=AO7,AO8,AO8+(AO10-AO8)*(1-((AO5+EXP(AO6*(AO4-AO7)))/(AO5+EXP(AO6*(AO4-AJ56))))^AO5)/(1-((AO5+EXP(AO6*(AO4-AO7)))/(AO5+EXP(AO6*(AO4-AO9))))^AO5)))","v":0},0,0]
[46,{"$f":"'daily uptake'!F140","v":"2010-12-16"},{"$f":"5/9*'daily uptake'!Q140","v":5.5555555555555554},{"$f":"5/9*'daily uptake'!N140","v":0},{"$f":"IF(AND($A57>='daily uptake'!$C$9,$A57<='daily uptake'!$C$10),$C57+E56,0)","v":489.99999999999989},{"$f":"IF(AND($A57>='daily uptake'!$C$18,$A57<='daily uptake'!$C$20),$D57+F56,0)","v":0},{"$f":"IF(AND($A57>='daily uptake'!$C$24,$A57<='daily uptake'!$C$25),$C57+G56,0)","v":0},{"$f":"IF(OR(F57<=I7,F57>I9),0,I8+(I10-I8)*(1-((I5+EXP(I6*(I4-I7)))/(I5+EXP(I6*(I4-F57))))^I5)/(1-((I5+EXP(I6*(I4-I7)))/(I5+EXP(I6*(I4-I9))))^I5))","v":0},{"$f":"IF(OR(F57<=J7,F57>J9),0,J8+(J10-J8)*(1-((J5+EXP(J6*(J4-J7)))/(J5+EXP(J6*(J4-F57))))^J5)/(1-((J5+EXP(J6*(J4-J7)))/(J5+EXP(J6*(J4-J9))))^J5))","v":0},{"$f":"IF(OR(F57<=J9,F57>100000),0,IF(F57<=K7,K8,K8+(K10-K8)*(1-((K5+EXP(K6*(K4-K7)))/(K5+EXP(K6*(K4-F57))))^K5)/(1-((K5+EXP(K6*(K4-K7)))/(K5+EXP(K6*(K4-K9))))^K5)))","v":0},0,0,20.451079461125662,0,"2010-12-16",{"$f":"MAX(L$12:L57)+MAX(M$12:M57)+MAX(N$12:N57)","v":20.451079461125662},"2010-12-16",0.33040735523032794,null,null,null,null,null,null,null,null,null,null,null,null,null,null,null,null,null,0,null,{"$f":"IF(OR(AJ57<=AM7,AJ57>AM9),0,AM8+(AM10-AM8)*(1-((AM5+EXP(AM6*(AM4-AM7)))/(AM5+EXP(AM6*(AM4-AJ57))))^AM5)/(1-((AM5+EXP(AM6*(AM4-AM7)))/(AM5+EXP(AM6*(AM4-AM9))))^AM5))","v":0},{"$f":"IF(OR(AJ57<=AN7,AJ57>AN9),0,AN8+(AN10-AN8)*(1-((AN5+EXP(AN6*(AN4-AN7)))/(AN5+EXP(AN6*(AN4-AJ57))))^AN5)/(1-((AN5+EXP(AN6*(AN4-AN7)))/(AN5+EXP(AN6*(AN4-AN9))))^AN5))","v":0},{"$f":"IF(OR(AJ57<=AN9,AJ57>100000),0,IF(AJ57<=AO7,AO8,AO8+(AO10-AO8)*(1-((AO5+EXP(AO6*(AO4-AO7)))/(AO5+EXP(AO6*(AO4-AJ57))))^AO5)/(1-((AO5+EXP(AO6*(AO4-AO7)))/(AO5+EXP(AO6*(AO4-AO9))))^AO5)))","v":0},0,0]
[47,{"$f":"'daily uptake'!F141","v":"2010-12-17"},{"$f":"5/9*'daily uptake'!Q141","v":9.7222222222222232},{"$f":"5/9*'daily uptake'!N141","v":1.3888888888888888},{"$f":"IF(AND($A58>='daily uptake'!$C$9,$A58<='daily uptake'!$C$10),$C58+E57,0)","v":499.72222222222211},{"$f":"IF(AND($A58>='daily uptake'!$C$18,$A58<='daily uptake'!$C$20),$D58+F57,0)","v":0},{"$f":"IF(AND($A58>='daily uptake'!$C$24,$A58<='daily uptake'!$C$25),$C58+G57,0)","v":0},{"$f":"IF(OR(F58<=I7,F58>I9),0,I8+(I10-I8)*(1-((I5+EXP(I6*(I4-I7)))/(I5+EXP(I6*(I4-F58))))^I5)/(1-((I5+EXP(I6*(I4-I7)))/(I5+EXP(I6*(I4-I9))))^I5))","v":0},{"$f":"IF(OR(F58<=J7,F58>J9),0,J8+(J10-J8)*(1-((J5+EXP(J6*(J4-J7)))/(J5+EXP(J6*(J4-F58))))^J5)/(1-((J5+EXP(J6*(J4-J7)))/(J5+EXP(J6*(J4-J9))))^J5))","v":0},{"$f":"IF(OR(F58<=J9,F58>100000),0,IF(F58<=K7,K8,K8+(K10-K8)*(1-((K5+EXP(K6*(K4-K7)))/(K5+EXP(K6*(K4-F58))))^K5)/(1-((K5+EXP(K6*(K4-K7)))/(K5+EXP(K6*(K4-K9))))^K5)))","v":0},0,0,21.035622638065647,0,"2010-12-17",{"$f":"MAX(L$12:L58)+MAX(M$12:M58)+MAX(N$12:N58)","v":21.035622638065647},"2010-12-17",0.58454317693998448,null,null,null,null,null,null,null,null,null,null,null,null,null,null,null,null,null,0,null,{"$f":"IF(OR(AJ58<=AM7,AJ58>AM9),0,AM8+(AM10-AM8)*(1-((AM5+EXP(AM6*(AM4-AM7)))/(AM5+EXP(AM6*(AM4-AJ58))))^AM5)/(1-((AM5+EXP(AM6*(AM4-AM7)))/(AM5+EXP(AM6*(AM4-AM9))))^AM5))","v":0},{"$f":"IF(OR(AJ58<=AN7,AJ58>AN9),0,AN8+(AN10-AN8)*(1-((AN5+EXP(AN6*(AN4-AN7)))/(AN5+EXP(AN6*(AN4-AJ58))))^AN5)/(1-((AN5+EXP(AN6*(AN4-AN7)))/(AN5+EXP(AN6*(AN4-AN9))))^AN5))","v":0},{"$f":"IF(OR(AJ58<=AN9,AJ58>100000),0,IF(AJ58<=AO7,AO8,AO8+(AO10-AO8)*(1-((AO5+EXP(AO6*(AO4-AO7)))/(AO5+EXP(AO6*(AO4-AJ58))))^AO5)/(1-((AO5+EXP(AO6*(AO4-AO7)))/(AO5+EXP(AO6*(AO4-AO9))))^AO5)))","v":0},0,0]
[48,{"$f":"'daily uptake'!F142","v":"2010-12-18"},{"$f":"5/9*'daily uptake'!Q142","v":12.5},{"$f":"5/9*'daily uptake'!N142","v":2.5},{"$f":"IF(AND($A59>='daily uptake'!$C$9,$A59<='daily uptake'!$C$10),$C59+E58,0)","v":512.22222222222217},{"$f":"IF(AND($A59>='daily uptake'!$C$18,$A59<='daily uptake'!$C$20),$D59+F58,0)","v":0},{"$f":"IF(AND($A59>='daily uptake'!$C$24,$A59<='daily uptake'!$C$25),$C59+G58,0)","v":0},{"$f":"IF(OR(F59<=I7,F59>I9),0,I8+(I10-I8)*(1-((I5+EXP(I6*(I4-I7)))/(I5+EXP(I6*(I4-F59))))^I5)/(1-((I5+EXP(I6*(I4-I7)))/(I5+EXP(I6*(I4-I9))))^I5))","v":0},{"$f":"IF(OR(F59<=J7,F59>J9),0,J8+(J10-J8)*(1-((J5+EXP(J6*(J4-J7)))/(J5+EXP(J6*(J4-F59))))^J5)/(1-((J5+EXP(J6*(J4-J7)))/(J5+EXP(J6*(J4-J9))))^J5))","v":0},{"$f":"IF(OR(F59<=J9,F59>100000),0,IF(F59<=K7,K8,K8+(K10-K8)*(1-((K5+EXP(K6*(K4-K7)))/(K5+EXP(K6*(K4-F59))))^K5)/(1-((K5+EXP(K6*(K4-K7)))/(K5+EXP(K6*(K4-K9))))^K5)))","v":0},0,0,21.799091636750447,0,"2010-12-18",{"$f":"MAX(L$12:L59)+MAX(M$12:M59)+MAX(N$12:N59)","v":21.799091636750447},"2010-12-18",0.76346899868480023,null,null,null,null,null,null,null,null,null,null,null,null,null,null,null,null,null,0,null,{"$f":"IF(OR(AJ59<=AM7,AJ59>AM9),0,AM8+(AM10-AM8)*(1-((AM5+EXP(AM6*(AM4-AM7)))/(AM5+EXP(AM6*(AM4-AJ59))))^AM5)/(1-((AM5+EXP(AM6*(AM4-AM7)))/(AM5+EXP(AM6*(AM4-AM9))))^AM5))","v":0},{"$f":"IF(OR(AJ59<=AN7,AJ59>AN9),0,AN8+(AN10-AN8)*(1-((AN5+EXP(AN6*(AN4-AN7)))/(AN5+EXP(AN6*(AN4-AJ59))))^AN5)/(1-((AN5+EXP(AN6*(AN4-AN7)))/(AN5+EXP(AN6*(AN4-AN9))))^AN5))","v":0},{"$f":"IF(OR(AJ59<=AN9,AJ59>100000),0,IF(AJ59<=AO7,AO8,AO8+(AO10-AO8)*(1-((AO5+EXP(AO6*(AO4-AO7)))/(AO5+EXP(AO6*(AO4-AJ59))))^AO5)/(1-((AO5+EXP(AO6*(AO4-AO7)))/(AO5+EXP(AO6*(AO4-AO9))))^AO5)))","v":0},0,0]
[49,{"$f":"'daily uptake'!F143","v":"2010-12-19"},{"$f":"5/9*'daily uptake'!Q143","v":12.222222222222223},{"$f":"5/9*'daily uptake'!N143","v":2.5},{"$f":"IF(AND($A60>='daily uptake'!$C$9,$A60<='daily uptake'!$C$10),$C60+E59,0)","v":524.44444444444434},{"$f":"IF(AND($A60>='daily uptake'!$C$18,$A60<='daily uptake'!$C$20),$D60+F59,0)","v":0},{"$f":"IF(AND($A60>='daily uptake'!$C$24,$A60<='daily uptake'!$C$25),$C60+G59,0)","v":0},{"$f":"IF(OR(F60<=I7,F60>I9),0,I8+(I10-I8)*(1-((I5+EXP(I6*(I4-I7)))/(I5+EXP(I6*(I4-F60))))^I5)/(1-((I5+EXP(I6*(I4-I7)))/(I5+EXP(I6*(I4-I9))))^I5))","v":0},{"$f":"IF(OR(F60<=J7,F60>J9),0,J8+(J10-J8)*(1-((J5+EXP(J6*(J4-J7)))/(J5+EXP(J6*(J4-F60))))^J5)/(1-((J5+EXP(J6*(J4-J7)))/(J5+EXP(J6*(J4-J9))))^J5))","v":0},{"$f":"IF(OR(F60<=J9,F60>100000),0,IF(F60<=K7,K8,K8+(K10-K8)*(1-((K5+EXP(K6*(K4-K7)))/(K5+EXP(K6*(K4-F60))))^K5)/(1-((K5+EXP(K6*(K4-K7)))/(K5+EXP(K6*(K4-K9))))^K5)))","v":0},0,0,22.55865182570097,0,"2010-12-19",{"$f":"MAX(L$12:L60)+MAX(M$12:M60)+MAX(N$12:N60)","v":22.55865182570097},"2010-12-19",0.75956018895052324,null,null,null,null,null,null,null,null,null,null,null,null,null,null,null,null,null,0,null,{"$f":"IF(OR(AJ60<=AM7,AJ60>AM9),0,AM8+(AM10-AM8)*(1-((AM5+EXP(AM6*(AM4-AM7)))/(AM5+EXP(AM6*(AM4-AJ60))))^AM5)/(1-((AM5+EXP(AM6*(AM4-AM7)))/(AM5+EXP(AM6*(AM4-AM9))))^AM5))","v":0},{"$f":"IF(OR(AJ60<=AN7,AJ60>AN9),0,AN8+(AN10-AN8)*(1-((AN5+EXP(AN6*(AN4-AN7)))/(AN5+EXP(AN6*(AN4-AJ60))))^AN5)/(1-((AN5+EXP(AN6*(AN4-AN7)))/(AN5+EXP(AN6*(AN4-AN9))))^AN5))","v":0},{"$f":"IF(OR(AJ60<=AN9,AJ60>100000),0,IF(AJ60<=AO7,AO8,AO8+(AO10-AO8)*(1-((AO5+EXP(AO6*(AO4-AO7)))/(AO5+EXP(AO6*(AO4-AJ60))))^AO5)/(1-((AO5+EXP(AO6*(AO4-AO7)))/(AO5+EXP(AO6*(AO4-AO9))))^AO5)))","v":0},0,0]
[50,{"$f":"'daily uptake'!F144","v":"2010-12-20"},{"$f":"5/9*'daily uptake'!Q144","v":8.6111111111111107},{"$f":"5/9*'daily uptake'!N144","v":0.55555555555555558},{"$f":"IF(AND($A61>='daily uptake'!$C$9,$A61<='daily uptake'!$C$10),$C61+E60,0)","v":533.05555555555543},{"$f":"IF(AND($A61>='daily uptake'!$C$18,$A61<='daily uptake'!$C$20),$D61+F60,0)","v":0},{"$f":"IF(AND($A61>='daily uptake'!$C$24,$A61<='daily uptake'!$C$25),$C61+G60,0)","v":0},{"$f":"IF(OR(F61<=I7,F61>I9),0,I8+(I10-I8)*(1-((I5+EXP(I6*(I4-I7)))/(I5+EXP(I6*(I4-F61))))^I5)/(1-((I5+EXP(I6*(I4-I7)))/(I5+EXP(I6*(I4-I9))))^I5))","v":0},{"$f":"IF(OR(F61<=J7,F61>J9),0,J8+(J10-J8)*(1-((J5+EXP(J6*(J4-J7)))/(J5+EXP(J6*(J4-F61))))^J5)/(1-((J5+EXP(J6*(J4-J7)))/(J5+EXP(J6*(J4-J9))))^J5))","v":0},{"$f":"IF(OR(F61<=J9,F61>100000),0,IF(F61<=K7,K8,K8+(K10-K8)*(1-((K5+EXP(K6*(K4-K7)))/(K5+EXP(K6*(K4-F61))))^K5)/(1-((K5+EXP(K6*(K4-K7)))/(K5+EXP(K6*(K4-K9))))^K5)))","v":0},0,0,23.101602982772349,0,"2010-12-20",{"$f":"MAX(L$12:L61)+MAX(M$12:M61)+MAX(N$12:N61)","v":23.101602982772349},"2010-12-20",0.54295115707137853,null,null,null,null,null,null,null,null,null,null,null,null,null,null,null,null,null,0,null,{"$f":"IF(OR(AJ61<=AM7,AJ61>AM9),0,AM8+(AM10-AM8)*(1-((AM5+EXP(AM6*(AM4-AM7)))/(AM5+EXP(AM6*(AM4-AJ61))))^AM5)/(1-((AM5+EXP(AM6*(AM4-AM7)))/(AM5+EXP(AM6*(AM4-AM9))))^AM5))","v":0},{"$f":"IF(OR(AJ61<=AN7,AJ61>AN9),0,AN8+(AN10-AN8)*(1-((AN5+EXP(AN6*(AN4-AN7)))/(AN5+EXP(AN6*(AN4-AJ61))))^AN5)/(1-((AN5+EXP(AN6*(AN4-AN7)))/(AN5+EXP(AN6*(AN4-AN9))))^AN5))","v":0},{"$f":"IF(OR(AJ61<=AN9,AJ61>100000),0,IF(AJ61<=AO7,AO8,AO8+(AO10-AO8)*(1-((AO5+EXP(AO6*(AO4-AO7)))/(AO5+EXP(AO6*(AO4-AJ61))))^AO5)/(1-((AO5+EXP(AO6*(AO4-AO7)))/(AO5+EXP(AO6*(AO4-AO9))))^AO5)))","v":0},0,0]
[51,{"$f":"'daily uptake'!F145","v":"2010-12-21"},{"$f":"5/9*'daily uptake'!Q145","v":8.0555555555555554},{"$f":"5/9*'daily uptake'!N145","v":1.3888888888888888},{"$f":"IF(AND($A62>='daily uptake'!$C$9,$A62<='daily uptake'!$C$10),$C62+E61,0)","v":541.11111111111097},{"$f":"IF(AND($A62>='daily uptake'!$C$18,$A62<='daily uptake'!$C$20),$D62+F61,0)","v":0},{"$f":"IF(AND($A62>='daily uptake'!$C$24,$A62<='daily uptake'!$C$25),$C62+G61,0)","v":0},{"$f":"IF(OR(F62<=I7,F62>I9),0,I8+(I10-I8)*(1-((I5+EXP(I6*(I4-I7)))/(I5+EXP(I6*(I4-F62))))^I5)/(1-((I5+EXP(I6*(I4-I7)))/(I5+EXP(I6*(I4-I9))))^I5))","v":0},{"$f":"IF(OR(F62<=J7,F62>J9),0,J8+(J10-J8)*(1-((J5+EXP(J6*(J4-J7)))/(J5+EXP(J6*(J4-F62))))^J5)/(1-((J5+EXP(J6*(J4-J7)))/(J5+EXP(J6*(J4-J9))))^J5))","v":0},{"$f":"IF(OR(F62<=J9,F62>100000),0,IF(F62<=K7,K8,K8+(K10-K8)*(1-((K5+EXP(K6*(K4-K7)))/(K5+EXP(K6*(K4-F62))))^K5)/(1-((K5+EXP(K6*(K4-K7)))/(K5+EXP(K6*(K4-K9))))^K5)))","v":0},0,0,23.615401105449461,0,"2010-12-21",{"$f":"MAX(L$12:L62)+MAX(M$12:M62)+MAX(N$12:N62)","v":23.615401105449461},"2010-12-21",0.51379812267711245,null,null,null,null,null,null,null,null,null,null,null,null,null,null,null,null,null,0,null,{"$f":"IF(OR(AJ62<=AM7,AJ62>AM9),0,AM8+(AM10-AM8)*(1-((AM5+EXP(AM6*(AM4-AM7)))/(AM5+EXP(AM6*(AM4-AJ62))))^AM5)/(1-((AM5+EXP(AM6*(AM4-AM7)))/(AM5+EXP(AM6*(AM4-AM9))))^AM5))","v":0},{"$f":"IF(OR(AJ62<=AN7,AJ62>AN9),0,AN8+(AN10-AN8)*(1-((AN5+EXP(AN6*(AN4-AN7)))/(AN5+EXP(AN6*(AN4-AJ62))))^AN5)/(1-((AN5+EXP(AN6*(AN4-AN7)))/(AN5+EXP(AN6*(AN4-AN9))))^AN5))","v":0},{"$f":"IF(OR(AJ62<=AN9,AJ62>100000),0,IF(AJ62<=AO7,AO8,AO8+(AO10-AO8)*(1-((AO5+EXP(AO6*(AO4-AO7)))/(AO5+EXP(AO6*(AO4-AJ62))))^AO5)/(1-((AO5+EXP(AO6*(AO4-AO7)))/(AO5+EXP(AO6*(AO4-AO9))))^AO5)))","v":0},0,0]
[52,{"$f":"'daily uptake'!F146","v":"2010-12-22"},{"$f":"5/9*'daily uptake'!Q146","v":11.944444444444445},{"$f":"5/9*'daily uptake'!N146","v":2.2222222222222223},{"$f":"IF(AND($A63>='daily uptake'!$C$9,$A63<='daily uptake'!$C$10),$C63+E62,0)","v":553.05555555555543},{"$f":"IF(AND($A63>='daily uptake'!$C$18,$A63<='daily uptake'!$C$20),$D63+F62,0)","v":0},{"$f":"IF(AND($A63>='daily uptake'!$C$24,$A63<='daily uptake'!$C$25),$C63+G62,0)","v":0},{"$f":"IF(OR(F63<=I7,F63>I9),0,I8+(I10-I8)*(1-((I5+EXP(I6*(I4-I7)))/(I5+EXP(I6*(I4-F63))))^I5)/(1-((I5+EXP(I6*(I4-I7)))/(I5+EXP(I6*(I4-I9))))^I5))","v":0},{"$f":"IF(OR(F63<=J7,F63>J9),0,J8+(J10-J8)*(1-((J5+EXP(J6*(J4-J7)))/(J5+EXP(J6*(J4-F63))))^J5)/(1-((J5+EXP(J6*(J4-J7)))/(J5+EXP(J6*(J4-J9))))^J5))","v":0},{"$f":"IF(OR(F63<=J9,F63>100000),0,IF(F63<=K7,K8,K8+(K10-K8)*(1-((K5+EXP(K6*(K4-K7)))/(K5+EXP(K6*(K4-F63))))^K5)/(1-((K5+EXP(K6*(K4-K7)))/(K5+EXP(K6*(K4-K9))))^K5)))","v":0},0,0,24.387752174109764,0,"2010-12-22",{"$f":"MAX(L$12:L63)+MAX(M$12:M63)+MAX(N$12:N63)","v":24.387752174109764},"2010-12-22",0.77235106866030279,null,null,null,null,null,null,null,null,null,null,null,null,null,null,null,null,null,0,null,{"$f":"IF(OR(AJ63<=AM7,AJ63>AM9),0,AM8+(AM10-AM8)*(1-((AM5+EXP(AM6*(AM4-AM7)))/(AM5+EXP(AM6*(AM4-AJ63))))^AM5)/(1-((AM5+EXP(AM6*(AM4-AM7)))/(AM5+EXP(AM6*(AM4-AM9))))^AM5))","v":0},{"$f":"IF(OR(AJ63<=AN7,AJ63>AN9),0,AN8+(AN10-AN8)*(1-((AN5+EXP(AN6*(AN4-AN7)))/(AN5+EXP(AN6*(AN4-AJ63))))^AN5)/(1-((AN5+EXP(AN6*(AN4-AN7)))/(AN5+EXP(AN6*(AN4-AN9))))^AN5))","v":0},{"$f":"IF(OR(AJ63<=AN9,AJ63>100000),0,IF(AJ63<=AO7,AO8,AO8+(AO10-AO8)*(1-((AO5+EXP(AO6*(AO4-AO7)))/(AO5+EXP(AO6*(AO4-AJ63))))^AO5)/(1-((AO5+EXP(AO6*(AO4-AO7)))/(AO5+EXP(AO6*(AO4-AO9))))^AO5)))","v":0},0,0]
[53,{"$f":"'daily uptake'!F147","v":"2010-12-23"},{"$f":"5/9*'daily uptake'!Q147","v":10.277777777777779},{"$f":"5/9*'daily uptake'!N147","v":2.7777777777777777},{"$f":"IF(AND($A64>='daily uptake'!$C$9,$A64<='daily uptake'!$C$10),$C64+E63,0)","v":563.33333333333326},{"$f":"IF(AND($A64>='daily uptake'!$C$18,$A64<='daily uptake'!$C$20),$D64+F63,0)","v":0},{"$f":"IF(AND($A64>='daily uptake'!$C$24,$A64<='daily uptake'!$C$25),$C64+G63,0)","v":0},{"$f":"IF(OR(F64<=I7,F64>I9),0,I8+(I10-I8)*(1-((I5+EXP(I6*(I4-I7)))/(I5+EXP(I6*(I4-F64))))^I5)/(1-((I5+EXP(I6*(I4-I7)))/(I5+EXP(I6*(I4-I9))))^I5))","v":0},{"$f":"IF(OR(F64<=J7,F64>J9),0,J8+(J10-J8)*(1-((J5+EXP(J6*(J4-J7)))/(J5+EXP(J6*(J4-F64))))^J5)/(1-((J5+EXP(J6*(J4-J7)))/(J5+EXP(J6*(J4-J9))))^J5))","v":0},{"$f":"IF(OR(F64<=J9,F64>100000),0,IF(F64<=K7,K8,K8+(K10-K8)*(1-((K5+EXP(K6*(K4-K7)))/(K5+EXP(K6*(K4-F64))))^K5)/(1-((K5+EXP(K6*(K4-K7)))/(K5+EXP(K6*(K4-K9))))^K5)))","v":0},0,0,25.06243933552722,0,"2010-12-23",{"$f":"MAX(L$12:L64)+MAX(M$12:M64)+MAX(N$12:N64)","v":25.06243933552722},"2010-12-23",0.67468716141745588,null,null,null,null,null,null,null,null,null,null,null,null,null,null,null,null,null,0,null,{"$f":"IF(OR(AJ64<=AM7,AJ64>AM9),0,AM8+(AM10-AM8)*(1-((AM5+EXP(AM6*(AM4-AM7)))/(AM5+EXP(AM6*(AM4-AJ64))))^AM5)/(1-((AM5+EXP(AM6*(AM4-AM7)))/(AM5+EXP(AM6*(AM4-AM9))))^AM5))","v":0},{"$f":"IF(OR(AJ64<=AN7,AJ64>AN9),0,AN8+(AN10-AN8)*(1-((AN5+EXP(AN6*(AN4-AN7)))/(AN5+EXP(AN6*(AN4-AJ64))))^AN5)/(1-((AN5+EXP(AN6*(AN4-AN7)))/(AN5+EXP(AN6*(AN4-AN9))))^AN5))","v":0},{"$f":"IF(OR(AJ64<=AN9,AJ64>100000),0,IF(AJ64<=AO7,AO8,AO8+(AO10-AO8)*(1-((AO5+EXP(AO6*(AO4-AO7)))/(AO5+EXP(AO6*(AO4-AJ64))))^AO5)/(1-((AO5+EXP(AO6*(AO4-AO7)))/(AO5+EXP(AO6*(AO4-AO9))))^AO5)))","v":0},0,0]
[54,{"$f":"'daily uptake'!F148","v":"2010-12-24"},{"$f":"5/9*'daily uptake'!Q148","v":7.7777777777777786},{"$f":"5/9*'daily uptake'!N148","v":0.55555555555555558},{"$f":"IF(AND($A65>='daily uptake'!$C$9,$A65<='daily uptake'!$C$10),$C65+E64,0)","v":571.11111111111109},{"$f":"IF(AND($A65>='daily uptake'!$C$18,$A65<='daily uptake'!$C$20),$D65+F64,0)","v":0},{"$f":"IF(AND($A65>='daily uptake'!$C$24,$A65<='daily uptake'!$C$25),$C65+G64,0)","v":0},{"$f":"IF(OR(F65<=I7,F65>I9),0,I8+(I10-I8)*(1-((I5+EXP(I6*(I4-I7)))/(I5+EXP(I6*(I4-F65))))^I5)/(1-((I5+EXP(I6*(I4-I7)))/(I5+EXP(I6*(I4-I9))))^I5))","v":0},{"$f":"IF(OR(F65<=J7,F65>J9),0,J8+(J10-J8)*(1-((J5+EXP(J6*(J4-J7)))/(J5+EXP(J6*(J4-F65))))^J5)/(1-((J5+EXP(J6*(J4-J7)))/(J5+EXP(J6*(J4-J9))))^J5))","v":0},{"$f":"IF(OR(F65<=J9,F65>100000),0,IF(F65<=K7,K8,K8+(K10-K8)*(1-((K5+EXP(K6*(K4-K7)))/(K5+EXP(K6*(K4-F65))))^K5)/(1-((K5+EXP(K6*(K4-K7)))/(K5+EXP(K6*(K4-K9))))^K5)))","v":0},0,0,25.579259415829071,0,"2010-12-24",{"$f":"MAX(L$12:L65)+MAX(M$12:M65)+MAX(N$12:N65)","v":25.579259415829071},"2010-12-24",0.51682008030185145,null,null,null,null,null,null,null,null,null,null,null,null,null,null,null,null,null,0,null,{"$f":"IF(OR(AJ65<=AM7,AJ65>AM9),0,AM8+(AM10-AM8)*(1-((AM5+EXP(AM6*(AM4-AM7)))/(AM5+EXP(AM6*(AM4-AJ65))))^AM5)/(1-((AM5+EXP(AM6*(AM4-AM7)))/(AM5+EXP(AM6*(AM4-AM9))))^AM5))","v":0},{"$f":"IF(OR(AJ65<=AN7,AJ65>AN9),0,AN8+(AN10-AN8)*(1-((AN5+EXP(AN6*(AN4-AN7)))/(AN5+EXP(AN6*(AN4-AJ65))))^AN5)/(1-((AN5+EXP(AN6*(AN4-AN7)))/(AN5+EXP(AN6*(AN4-AN9))))^AN5))","v":0},{"$f":"IF(OR(AJ65<=AN9,AJ65>100000),0,IF(AJ65<=AO7,AO8,AO8+(AO10-AO8)*(1-((AO5+EXP(AO6*(AO4-AO7)))/(AO5+EXP(AO6*(AO4-AJ65))))^AO5)/(1-((AO5+EXP(AO6*(AO4-AO7)))/(AO5+EXP(AO6*(AO4-AO9))))^AO5)))","v":0},0,0]
[55,{"$f":"'daily uptake'!F149","v":"2010-12-25"},{"$f":"5/9*'daily uptake'!Q149","v":8.8888888888888893},{"$f":"5/9*'daily uptake'!N149","v":1.1111111111111112},{"$f":"IF(AND($A66>='daily uptake'!$C$9,$A66<='daily uptake'!$C$10),$C66+E65,0)","v":580},{"$f":"IF(AND($A66>='daily uptake'!$C$18,$A66<='daily uptake'!$C$20),$D66+F65,0)","v":0},{"$f":"IF(AND($A66>='daily uptake'!$C$24,$A66<='daily uptake'!$C$25),$C66+G65,0)","v":0},{"$f":"IF(OR(F66<=I7,F66>I9),0,I8+(I10-I8)*(1-((I5+EXP(I6*(I4-I7)))/(I5+EXP(I6*(I4-F66))))^I5)/(1-((I5+EXP(I6*(I4-I7)))/(I5+EXP(I6*(I4-I9))))^I5))","v":0},{"$f":"IF(OR(F66<=J7,F66>J9),0,J8+(J10-J8)*(1-((J5+EXP(J6*(J4-J7)))/(J5+EXP(J6*(J4-F66))))^J5)/(1-((J5+EXP(J6*(J4-J7)))/(J5+EXP(J6*(J4-J9))))^J5))","v":0},{"$f":"IF(OR(F66<=J9,F66>100000),0,IF(F66<=K7,K8,K8+(K10-K8)*(1-((K5+EXP(K6*(K4-K7)))/(K5+EXP(K6*(K4-F66))))^K5)/(1-((K5+EXP(K6*(K4-K7)))/(K5+EXP(K6*(K4-K9))))^K5)))","v":0},0,0,26.176529100971848,0,"2010-12-25",{"$f":"MAX(L$12:L66)+MAX(M$12:M66)+MAX(N$12:N66)","v":26.176529100971848},"2010-12-25",0.59726968514277701,null,null,null,null,null,null,null,null,null,null,null,null,null,null,null,null,null,0,null,{"$f":"IF(OR(AJ66<=AM7,AJ66>AM9),0,AM8+(AM10-AM8)*(1-((AM5+EXP(AM6*(AM4-AM7)))/(AM5+EXP(AM6*(AM4-AJ66))))^AM5)/(1-((AM5+EXP(AM6*(AM4-AM7)))/(AM5+EXP(AM6*(AM4-AM9))))^AM5))","v":0},{"$f":"IF(OR(AJ66<=AN7,AJ66>AN9),0,AN8+(AN10-AN8)*(1-((AN5+EXP(AN6*(AN4-AN7)))/(AN5+EXP(AN6*(AN4-AJ66))))^AN5)/(1-((AN5+EXP(AN6*(AN4-AN7)))/(AN5+EXP(AN6*(AN4-AN9))))^AN5))","v":0},{"$f":"IF(OR(AJ66<=AN9,AJ66>100000),0,IF(AJ66<=AO7,AO8,AO8+(AO10-AO8)*(1-((AO5+EXP(AO6*(AO4-AO7)))/(AO5+EXP(AO6*(AO4-AJ66))))^AO5)/(1-((AO5+EXP(AO6*(AO4-AO7)))/(AO5+EXP(AO6*(AO4-AO9))))^AO5)))","v":0},0,0]
[56,{"$f":"'daily uptake'!F150","v":"2010-12-26"},{"$f":"5/9*'daily uptake'!Q150","v":9.4444444444444446},{"$f":"5/9*'daily uptake'!N150","v":2.7777777777777777},{"$f":"IF(AND($A67>='daily uptake'!$C$9,$A67<='daily uptake'!$C$10),$C67+E66,0)","v":589.44444444444446},{"$f":"IF(AND($A67>='daily uptake'!$C$18,$A67<='daily uptake'!$C$20),$D67+F66,0)","v":0},{"$f":"IF(AND($A67>='daily uptake'!$C$24,$A67<='daily uptake'!$C$25),$C67+G66,0)","v":0},{"$f":"IF(OR(F67<=I7,F67>I9),0,I8+(I10-I8)*(1-((I5+EXP(I6*(I4-I7)))/(I5+EXP(I6*(I4-F67))))^I5)/(1-((I5+EXP(I6*(I4-I7)))/(I5+EXP(I6*(I4-I9))))^I5))","v":0},{"$f":"IF(OR(F67<=J7,F67>J9),0,J8+(J10-J8)*(1-((J5+EXP(J6*(J4-J7)))/(J5+EXP(J6*(J4-F67))))^J5)/(1-((J5+EXP(J6*(J4-J7)))/(J5+EXP(J6*(J4-J9))))^J5))","v":0},{"$f":"IF(OR(F67<=J9,F67>100000),0,IF(F67<=K7,K8,K8+(K10-K8)*(1-((K5+EXP(K6*(K4-K7)))/(K5+EXP(K6*(K4-F67))))^K5)/(1-((K5+EXP(K6*(K4-K7)))/(K5+EXP(K6*(K4-K9))))^K5)))","v":0},0,0,26.818894251002064,0,"2010-12-26",{"$f":"MAX(L$12:L67)+MAX(M$12:M67)+MAX(N$12:N67)","v":26.818894251002064},"2010-12-26",0.64236515003021566,null,null,null,null,null,null,null,null,null,null,null,null,null,null,null,null,null,0,null,{"$f":"IF(OR(AJ67<=AM7,AJ67>AM9),0,AM8+(AM10-AM8)*(1-((AM5+EXP(AM6*(AM4-AM7)))/(AM5+EXP(AM6*(AM4-AJ67))))^AM5)/(1-((AM5+EXP(AM6*(AM4-AM7)))/(AM5+EXP(AM6*(AM4-AM9))))^AM5))","v":0},{"$f":"IF(OR(AJ67<=AN7,AJ67>AN9),0,AN8+(AN10-AN8)*(1-((AN5+EXP(AN6*(AN4-AN7)))/(AN5+EXP(AN6*(AN4-AJ67))))^AN5)/(1-((AN5+EXP(AN6*(AN4-AN7)))/(AN5+EXP(AN6*(AN4-AN9))))^AN5))","v":0},{"$f":"IF(OR(AJ67<=AN9,AJ67>100000),0,IF(AJ67<=AO7,AO8,AO8+(AO10-AO8)*(1-((AO5+EXP(AO6*(AO4-AO7)))/(AO5+EXP(AO6*(AO4-AJ67))))^AO5)/(1-((AO5+EXP(AO6*(AO4-AO7)))/(AO5+EXP(AO6*(AO4-AO9))))^AO5)))","v":0},0,0]
[57,{"$f":"'daily uptake'!F151","v":"2010-12-27"},{"$f":"5/9*'daily uptake'!Q151","v":8.0555555555555554},{"$f":"5/9*'daily uptake'!N151","v":1.6666666666666667},{"$f":"IF(AND($A68>='daily uptake'!$C$9,$A68<='daily uptake'!$C$10),$C68+E67,0)","v":597.5},{"$f":"IF(AND($A68>='daily uptake'!$C$18,$A68<='daily uptake'!$C$20),$D68+F67,0)","v":0},{"$f":"IF(AND($A68>='daily uptake'!$C$24,$A68<='daily uptake'!$C$25),$C68+G67,0)","v":0},{"$f":"IF(OR(F68<=I7,F68>I9),0,I8+(I10-I8)*(1-((I5+EXP(I6*(I4-I7)))/(I5+EXP(I6*(I4-F68))))^I5)/(1-((I5+EXP(I6*(I4-I7)))/(I5+EXP(I6*(I4-I9))))^I5))","v":0},{"$f":"IF(OR(F68<=J7,F68>J9),0,J8+(J10-J8)*(1-((J5+EXP(J6*(J4-J7)))/(J5+EXP(J6*(J4-F68))))^J5)/(1-((J5+EXP(J6*(J4-J7)))/(J5+EXP(J6*(J4-J9))))^J5))","v":0},{"$f":"IF(OR(F68<=J9,F68>100000),0,IF(F68<=K7,K8,K8+(K10-K8)*(1-((K5+EXP(K6*(K4-K7)))/(K5+EXP(K6*(K4-F68))))^K5)/(1-((K5+EXP(K6*(K4-K7)))/(K5+EXP(K6*(K4-K9))))^K5)))","v":0},0,0,27.37314115788519,0,"2010-12-27",{"$f":"MAX(L$12:L68)+MAX(M$12:M68)+MAX(N$12:N68)","v":27.37314115788519},"2010-12-27",0.55424690688312594,null,null,null,null,null,null,null,null,null,null,null,null,null,null,null,null,null,0,null,{"$f":"IF(OR(AJ68<=AM7,AJ68>AM9),0,AM8+(AM10-AM8)*(1-((AM5+EXP(AM6*(AM4-AM7)))/(AM5+EXP(AM6*(AM4-AJ68))))^AM5)/(1-((AM5+EXP(AM6*(AM4-AM7)))/(AM5+EXP(AM6*(AM4-AM9))))^AM5))","v":0},{"$f":"IF(OR(AJ68<=AN7,AJ68>AN9),0,AN8+(AN10-AN8)*(1-((AN5+EXP(AN6*(AN4-AN7)))/(AN5+EXP(AN6*(AN4-AJ68))))^AN5)/(1-((AN5+EXP(AN6*(AN4-AN7)))/(AN5+EXP(AN6*(AN4-AN9))))^AN5))","v":0},{"$f":"IF(OR(AJ68<=AN9,AJ68>100000),0,IF(AJ68<=AO7,AO8,AO8+(AO10-AO8)*(1-((AO5+EXP(AO6*(AO4-AO7)))/(AO5+EXP(AO6*(AO4-AJ68))))^AO5)/(1-((AO5+EXP(AO6*(AO4-AO7)))/(AO5+EXP(AO6*(AO4-AO9))))^AO5)))","v":0},0,0]
[58,{"$f":"'daily uptake'!F152","v":"2010-12-28"},{"$f":"5/9*'daily uptake'!Q152","v":6.9444444444444446},{"$f":"5/9*'daily uptake'!N152","v":0},{"$f":"IF(AND($A69>='daily uptake'!$C$9,$A69<='daily uptake'!$C$10),$C69+E68,0)","v":604.44444444444446},{"$f":"IF(AND($A69>='daily uptake'!$C$18,$A69<='daily uptake'!$C$20),$D69+F68,0)","v":0},{"$f":"IF(AND($A69>='daily uptake'!$C$24,$A69<='daily uptake'!$C$25),$C69+G68,0)","v":0},{"$f":"IF(OR(F69<=I7,F69>I9),0,I8+(I10-I8)*(1-((I5+EXP(I6*(I4-I7)))/(I5+EXP(I6*(I4-F69))))^I5)/(1-((I5+EXP(I6*(I4-I7)))/(I5+EXP(I6*(I4-I9))))^I5))","v":0},{"$f":"IF(OR(F69<=J7,F69>J9),0,J8+(J10-J8)*(1-((J5+EXP(J6*(J4-J7)))/(J5+EXP(J6*(J4-F69))))^J5)/(1-((J5+EXP(J6*(J4-J7)))/(J5+EXP(J6*(J4-J9))))^J5))","v":0},{"$f":"IF(OR(F69<=J9,F69>100000),0,IF(F69<=K7,K8,K8+(K10-K8)*(1-((K5+EXP(K6*(K4-K7)))/(K5+EXP(K6*(K4-F69))))^K5)/(1-((K5+EXP(K6*(K4-K7)))/(K5+EXP(K6*(K4-K9))))^K5)))","v":0},0,0,27.855645979346928,0,"2010-12-28",{"$f":"MAX(L$12:L69)+MAX(M$12:M69)+MAX(N$12:N69)","v":27.855645979346928},"2010-12-28",0.48250482146173823,null,null,null,null,null,null,null,null,null,null,null,null,null,null,null,null,null,0,null,{"$f":"IF(OR(AJ69<=AM7,AJ69>AM9),0,AM8+(AM10-AM8)*(1-((AM5+EXP(AM6*(AM4-AM7)))/(AM5+EXP(AM6*(AM4-AJ69))))^AM5)/(1-((AM5+EXP(AM6*(AM4-AM7)))/(AM5+EXP(AM6*(AM4-AM9))))^AM5))","v":0},{"$f":"IF(OR(AJ69<=AN7,AJ69>AN9),0,AN8+(AN10-AN8)*(1-((AN5+EXP(AN6*(AN4-AN7)))/(AN5+EXP(AN6*(AN4-AJ69))))^AN5)/(1-((AN5+EXP(AN6*(AN4-AN7)))/(AN5+EXP(AN6*(AN4-AN9))))^AN5))","v":0},{"$f":"IF(OR(AJ69<=AN9,AJ69>100000),0,IF(AJ69<=AO7,AO8,AO8+(AO10-AO8)*(1-((AO5+EXP(AO6*(AO4-AO7)))/(AO5+EXP(AO6*(AO4-AJ69))))^AO5)/(1-((AO5+EXP(AO6*(AO4-AO7)))/(AO5+EXP(AO6*(AO4-AO9))))^AO5)))","v":0},0,0]
[59,{"$f":"'daily uptake'!F153","v":"2010-12-29"},{"$f":"5/9*'daily uptake'!Q153","v":8.0555555555555554},{"$f":"5/9*'daily uptake'!N153","v":1.1111111111111112},{"$f":"IF(AND($A70>='daily uptake'!$C$9,$A70<='daily uptake'!$C$10),$C70+E69,0)","v":612.5},{"$f":"IF(AND($A70>='daily uptake'!$C$18,$A70<='daily uptake'!$C$20),$D70+F69,0)","v":0},{"$f":"IF(AND($A70>='daily uptake'!$C$24,$A70<='daily uptake'!$C$25),$C70+G69,0)","v":0},{"$f":"IF(OR(F70<=I7,F70>I9),0,I8+(I10-I8)*(1-((I5+EXP(I6*(I4-I7)))/(I5+EXP(I6*(I4-F70))))^I5)/(1-((I5+EXP(I6*(I4-I7)))/(I5+EXP(I6*(I4-I9))))^I5))","v":0},{"$f":"IF(OR(F70<=J7,F70>J9),0,J8+(J10-J8)*(1-((J5+EXP(J6*(J4-J7)))/(J5+EXP(J6*(J4-F70))))^J5)/(1-((J5+EXP(J6*(J4-J7)))/(J5+EXP(J6*(J4-J9))))^J5))","v":0},{"$f":"IF(OR(F70<=J9,F70>100000),0,IF(F70<=K7,K8,K8+(K10-K8)*(1-((K5+EXP(K6*(K4-K7)))/(K5+EXP(K6*(K4-F70))))^K5)/(1-((K5+EXP(K6*(K4-K7)))/(K5+EXP(K6*(K4-K9))))^K5)))","v":0},0,0,28.420826428787819,0,"2010-12-29",{"$f":"MAX(L$12:L70)+MAX(M$12:M70)+MAX(N$12:N70)","v":28.420826428787819},"2010-12-29",0.56518044944089141,null,null,null,null,null,null,null,null,null,null,null,null,null,null,null,null,null,0,null,{"$f":"IF(OR(AJ70<=AM7,AJ70>AM9),0,AM8+(AM10-AM8)*(1-((AM5+EXP(AM6*(AM4-AM7)))/(AM5+EXP(AM6*(AM4-AJ70))))^AM5)/(1-((AM5+EXP(AM6*(AM4-AM7)))/(AM5+EXP(AM6*(AM4-AM9))))^AM5))","v":0},{"$f":"IF(OR(AJ70<=AN7,AJ70>AN9),0,AN8+(AN10-AN8)*(1-((AN5+EXP(AN6*(AN4-AN7)))/(AN5+EXP(AN6*(AN4-AJ70))))^AN5)/(1-((AN5+EXP(AN6*(AN4-AN7)))/(AN5+EXP(AN6*(AN4-AN9))))^AN5))","v":0},{"$f":"IF(OR(AJ70<=AN9,AJ70>100000),0,IF(AJ70<=AO7,AO8,AO8+(AO10-AO8)*(1-((AO5+EXP(AO6*(AO4-AO7)))/(AO5+EXP(AO6*(AO4-AJ70))))^AO5)/(1-((AO5+EXP(AO6*(AO4-AO7)))/(AO5+EXP(AO6*(AO4-AO9))))^AO5)))","v":0},0,0]
[60,{"$f":"'daily uptake'!F154","v":"2010-12-30"},{"$f":"5/9*'daily uptake'!Q154","v":4.4444444444444446},{"$f":"5/9*'daily uptake'!N154","v":0},{"$f":"IF(AND($A71>='daily uptake'!$C$9,$A71<='daily uptake'!$C$10),$C71+E70,0)","v":616.94444444444446},{"$f":"IF(AND($A71>='daily uptake'!$C$18,$A71<='daily uptake'!$C$20),$D71+F70,0)","v":0},{"$f":"IF(AND($A71>='daily uptake'!$C$24,$A71<='daily uptake'!$C$25),$C71+G70,0)","v":0},{"$f":"IF(OR(F71<=I7,F71>I9),0,I8+(I10-I8)*(1-((I5+EXP(I6*(I4-I7)))/(I5+EXP(I6*(I4-F71))))^I5)/(1-((I5+EXP(I6*(I4-I7)))/(I5+EXP(I6*(I4-I9))))^I5))","v":0},{"$f":"IF(OR(F71<=J7,F71>J9),0,J8+(J10-J8)*(1-((J5+EXP(J6*(J4-J7)))/(J5+EXP(J6*(J4-F71))))^J5)/(1-((J5+EXP(J6*(J4-J7)))/(J5+EXP(J6*(J4-J9))))^J5))","v":0},{"$f":"IF(OR(F71<=J9,F71>100000),0,IF(F71<=K7,K8,K8+(K10-K8)*(1-((K5+EXP(K6*(K4-K7)))/(K5+EXP(K6*(K4-F71))))^K5)/(1-((K5+EXP(K6*(K4-K7)))/(K5+EXP(K6*(K4-K9))))^K5)))","v":0},0,0,28.735173232536962,0,"2010-12-30",{"$f":"MAX(L$12:L71)+MAX(M$12:M71)+MAX(N$12:N71)","v":28.735173232536962},"2010-12-30",0.31434680374914237,null,null,null,null,null,null,null,null,null,null,null,null,null,null,null,null,null,0,null,{"$f":"IF(OR(AJ71<=AM7,AJ71>AM9),0,AM8+(AM10-AM8)*(1-((AM5+EXP(AM6*(AM4-AM7)))/(AM5+EXP(AM6*(AM4-AJ71))))^AM5)/(1-((AM5+EXP(AM6*(AM4-AM7)))/(AM5+EXP(AM6*(AM4-AM9))))^AM5))","v":0},{"$f":"IF(OR(AJ71<=AN7,AJ71>AN9),0,AN8+(AN10-AN8)*(1-((AN5+EXP(AN6*(AN4-AN7)))/(AN5+EXP(AN6*(AN4-AJ71))))^AN5)/(1-((AN5+EXP(AN6*(AN4-AN7)))/(AN5+EXP(AN6*(AN4-AN9))))^AN5))","v":0},{"$f":"IF(OR(AJ71<=AN9,AJ71>100000),0,IF(AJ71<=AO7,AO8,AO8+(AO10-AO8)*(1-((AO5+EXP(AO6*(AO4-AO7)))/(AO5+EXP(AO6*(AO4-AJ71))))^AO5)/(1-((AO5+EXP(AO6*(AO4-AO7)))/(AO5+EXP(AO6*(AO4-AO9))))^AO5)))","v":0},0,0]
[61,{"$f":"'daily uptake'!F155","v":"2010-12-31"},{"$f":"5/9*'daily uptake'!Q155","v":10},{"$f":"5/9*'daily uptake'!N155","v":1.3888888888888888},{"$f":"IF(AND($A72>='daily uptake'!$C$9,$A72<='daily uptake'!$C$10),$C72+E71,0)","v":626.94444444444446},{"$f":"IF(AND($A72>='daily uptake'!$C$18,$A72<='daily uptake'!$C$20),$D72+F71,0)","v":0},{"$f":"IF(AND($A72>='daily uptake'!$C$24,$A72<='daily uptake'!$C$25),$C72+G71,0)","v":0},{"$f":"IF(OR(F72<=I7,F72>I9),0,I8+(I10-I8)*(1-((I5+EXP(I6*(I4-I7)))/(I5+EXP(I6*(I4-F72))))^I5)/(1-((I5+EXP(I6*(I4-I7)))/(I5+EXP(I6*(I4-I9))))^I5))","v":0},{"$f":"IF(OR(F72<=J7,F72>J9),0,J8+(J10-J8)*(1-((J5+EXP(J6*(J4-J7)))/(J5+EXP(J6*(J4-F72))))^J5)/(1-((J5+EXP(J6*(J4-J7)))/(J5+EXP(J6*(J4-J9))))^J5))","v":0},{"$f":"IF(OR(F72<=J9,F72>100000),0,IF(F72<=K7,K8,K8+(K10-K8)*(1-((K5+EXP(K6*(K4-K7)))/(K5+EXP(K6*(K4-F72))))^K5)/(1-((K5+EXP(K6*(K4-K7)))/(K5+EXP(K6*(K4-K9))))^K5)))","v":0},0,0,29.449030352208553,0,"2010-12-31",{"$f":"MAX(L$12:L72)+MAX(M$12:M72)+MAX(N$12:N72)","v":29.449030352208553},"2010-12-31",0.71385711967159082,null,null,null,null,null,null,null,null,null,null,null,null,null,null,null,null,null,0,null,{"$f":"IF(OR(AJ72<=AM7,AJ72>AM9),0,AM8+(AM10-AM8)*(1-((AM5+EXP(AM6*(AM4-AM7)))/(AM5+EXP(AM6*(AM4-AJ72))))^AM5)/(1-((AM5+EXP(AM6*(AM4-AM7)))/(AM5+EXP(AM6*(AM4-AM9))))^AM5))","v":0},{"$f":"IF(OR(AJ72<=AN7,AJ72>AN9),0,AN8+(AN10-AN8)*(1-((AN5+EXP(AN6*(AN4-AN7)))/(AN5+EXP(AN6*(AN4-AJ72))))^AN5)/(1-((AN5+EXP(AN6*(AN4-AN7)))/(AN5+EXP(AN6*(AN4-AN9))))^AN5))","v":0},{"$f":"IF(OR(AJ72<=AN9,AJ72>100000),0,IF(AJ72<=AO7,AO8,AO8+(AO10-AO8)*(1-((AO5+EXP(AO6*(AO4-AO7)))/(AO5+EXP(AO6*(AO4-AJ72))))^AO5)/(1-((AO5+EXP(AO6*(AO4-AO7)))/(AO5+EXP(AO6*(AO4-AO9))))^AO5)))","v":0},0,0]
[62,{"$f":"'daily uptake'!F156","v":"2011-01-01"},{"$f":"5/9*'daily uptake'!Q156","v":8.0555555555555554},{"$f":"5/9*'daily uptake'!N156","v":0.27777777777777779},{"$f":"IF(AND($A73>='daily uptake'!$C$9,$A73<='daily uptake'!$C$10),$C73+E72,0)","v":635},{"$f":"IF(AND($A73>='daily uptake'!$C$18,$A73<='daily uptake'!$C$20),$D73+F72,0)","v":0},{"$f":"IF(AND($A73>='daily uptake'!$C$24,$A73<='daily uptake'!$C$25),$C73+G72,0)","v":0},{"$f":"IF(OR(F73<=I7,F73>I9),0,I8+(I10-I8)*(1-((I5+EXP(I6*(I4-I7)))/(I5+EXP(I6*(I4-F73))))^I5)/(1-((I5+EXP(I6*(I4-I7)))/(I5+EXP(I6*(I4-I9))))^I5))","v":0},{"$f":"IF(OR(F73<=J7,F73>J9),0,J8+(J10-J8)*(1-((J5+EXP(J6*(J4-J7)))/(J5+EXP(J6*(J4-F73))))^J5)/(1-((J5+EXP(J6*(J4-J7)))/(J5+EXP(J6*(J4-J9))))^J5))","v":0},{"$f":"IF(OR(F73<=J9,F73>100000),0,IF(F73<=K7,K8,K8+(K10-K8)*(1-((K5+EXP(K6*(K4-K7)))/(K5+EXP(K6*(K4-F73))))^K5)/(1-((K5+EXP(K6*(K4-K7)))/(K5+EXP(K6*(K4-K9))))^K5)))","v":0},0,0,30.030720059669143,0,"2011-01-01",{"$f":"MAX(L$12:L73)+MAX(M$12:M73)+MAX(N$12:N73)","v":30.030720059669143},"2011-01-01",0.58168970746059045,null,null,null,null,null,null,null,null,null,null,null,null,null,null,null,null,null,0,null,{"$f":"IF(OR(AJ73<=AM7,AJ73>AM9),0,AM8+(AM10-AM8)*(1-((AM5+EXP(AM6*(AM4-AM7)))/(AM5+EXP(AM6*(AM4-AJ73))))^AM5)/(1-((AM5+EXP(AM6*(AM4-AM7)))/(AM5+EXP(AM6*(AM4-AM9))))^AM5))","v":0},{"$f":"IF(OR(AJ73<=AN7,AJ73>AN9),0,AN8+(AN10-AN8)*(1-((AN5+EXP(AN6*(AN4-AN7)))/(AN5+EXP(AN6*(AN4-AJ73))))^AN5)/(1-((AN5+EXP(AN6*(AN4-AN7)))/(AN5+EXP(AN6*(AN4-AN9))))^AN5))","v":0},{"$f":"IF(OR(AJ73<=AN9,AJ73>100000),0,IF(AJ73<=AO7,AO8,AO8+(AO10-AO8)*(1-((AO5+EXP(AO6*(AO4-AO7)))/(AO5+EXP(AO6*(AO4-AJ73))))^AO5)/(1-((AO5+EXP(AO6*(AO4-AO7)))/(AO5+EXP(AO6*(AO4-AO9))))^AO5)))","v":0},0,0]
[63,{"$f":"'daily uptake'!F157","v":"2011-01-02"},{"$f":"5/9*'daily uptake'!Q157","v":8.0555555555555554},{"$f":"5/9*'daily uptake'!N157","v":0},{"$f":"IF(AND($A74>='daily uptake'!$C$9,$A74<='daily uptake'!$C$10),$C74+E73,0)","v":643.05555555555554},{"$f":"IF(AND($A74>='daily uptake'!$C$18,$A74<='daily uptake'!$C$20),$D74+F73,0)","v":0},{"$f":"IF(AND($A74>='daily uptake'!$C$24,$A74<='daily uptake'!$C$25),$C74+G73,0)","v":0},{"$f":"IF(OR(F74<=I7,F74>I9),0,I8+(I10-I8)*(1-((I5+EXP(I6*(I4-I7)))/(I5+EXP(I6*(I4-F74))))^I5)/(1-((I5+EXP(I6*(I4-I7)))/(I5+EXP(I6*(I4-I9))))^I5))","v":0},{"$f":"IF(OR(F74<=J7,F74>J9),0,J8+(J10-J8)*(1-((J5+EXP(J6*(J4-J7)))/(J5+EXP(J6*(J4-F74))))^J5)/(1-((J5+EXP(J6*(J4-J7)))/(J5+EXP(J6*(J4-J9))))^J5))","v":0},{"$f":"IF(OR(F74<=J9,F74>100000),0,IF(F74<=K7,K8,K8+(K10-K8)*(1-((K5+EXP(K6*(K4-K7)))/(K5+EXP(K6*(K4-F74))))^K5)/(1-((K5+EXP(K6*(K4-K7)))/(K5+EXP(K6*(K4-K9))))^K5)))","v":0},0,0,30.618347977054459,0,"2011-01-02",{"$f":"MAX(L$12:L74)+MAX(M$12:M74)+MAX(N$12:N74)","v":30.618347977054459},"2011-01-02",0.58762791738531561,null,null,null,null,null,null,null,null,null,null,null,null,null,null,null,null,null,0,null,{"$f":"IF(OR(AJ74<=AM7,AJ74>AM9),0,AM8+(AM10-AM8)*(1-((AM5+EXP(AM6*(AM4-AM7)))/(AM5+EXP(AM6*(AM4-AJ74))))^AM5)/(1-((AM5+EXP(AM6*(AM4-AM7)))/(AM5+EXP(AM6*(AM4-AM9))))^AM5))","v":0},{"$f":"IF(OR(AJ74<=AN7,AJ74>AN9),0,AN8+(AN10-AN8)*(1-((AN5+EXP(AN6*(AN4-AN7)))/(AN5+EXP(AN6*(AN4-AJ74))))^AN5)/(1-((AN5+EXP(AN6*(AN4-AN7)))/(AN5+EXP(AN6*(AN4-AN9))))^AN5))","v":0},{"$f":"IF(OR(AJ74<=AN9,AJ74>100000),0,IF(AJ74<=AO7,AO8,AO8+(AO10-AO8)*(1-((AO5+EXP(AO6*(AO4-AO7)))/(AO5+EXP(AO6*(AO4-AJ74))))^AO5)/(1-((AO5+EXP(AO6*(AO4-AO7)))/(AO5+EXP(AO6*(AO4-AO9))))^AO5)))","v":0},0,0]
[64,{"$f":"'daily uptake'!F158","v":"2011-01-03"},{"$f":"5/9*'daily uptake'!Q158","v":7.2222222222222223},{"$f":"5/9*'daily uptake'!N158","v":1.1111111111111112},{"$f":"IF(AND($A75>='daily uptake'!$C$9,$A75<='daily uptake'!$C$10),$C75+E74,0)","v":650.27777777777771},{"$f":"IF(AND($A75>='daily uptake'!$C$18,$A75<='daily uptake'!$C$20),$D75+F74,0)","v":0},{"$f":"IF(AND($A75>='daily uptake'!$C$24,$A75<='daily uptake'!$C$25),$C75+G74,0)","v":0},{"$f":"IF(OR(F75<=I7,F75>I9),0,I8+(I10-I8)*(1-((I5+EXP(I6*(I4-I7)))/(I5+EXP(I6*(I4-F75))))^I5)/(1-((I5+EXP(I6*(I4-I7)))/(I5+EXP(I6*(I4-I9))))^I5))","v":0},{"$f":"IF(OR(F75<=J7,F75>J9),0,J8+(J10-J8)*(1-((J5+EXP(J6*(J4-J7)))/(J5+EXP(J6*(J4-F75))))^J5)/(1-((J5+EXP(J6*(J4-J7)))/(J5+EXP(J6*(J4-J9))))^J5))","v":0},{"$f":"IF(OR(F75<=J9,F75>100000),0,IF(F75<=K7,K8,K8+(K10-K8)*(1-((K5+EXP(K6*(K4-K7)))/(K5+EXP(K6*(K4-F75))))^K5)/(1-((K5+EXP(K6*(K4-K7)))/(K5+EXP(K6*(K4-K9))))^K5)))","v":0},0,0,31.150245622658613,0,{"$f":"B75","v":"2011-01-03"},{"$f":"MAX(L$12:L75)+MAX(M$12:M75)+MAX(N$12:N75)","v":31.150245622658613},{"$f":"B75","v":"2011-01-03"},0.53189764560415398,null,null,null,null,null,null,null,null,null,null,null,null,null,null,null,null,null,0,null,{"$f":"IF(OR(AJ75<=AM7,AJ75>AM9),0,AM8+(AM10-AM8)*(1-((AM5+EXP(AM6*(AM4-AM7)))/(AM5+EXP(AM6*(AM4-AJ75))))^AM5)/(1-((AM5+EXP(AM6*(AM4-AM7)))/(AM5+EXP(AM6*(AM4-AM9))))^AM5))","v":0},{"$f":"IF(OR(AJ75<=AN7,AJ75>AN9),0,AN8+(AN10-AN8)*(1-((AN5+EXP(AN6*(AN4-AN7)))/(AN5+EXP(AN6*(AN4-AJ75))))^AN5)/(1-((AN5+EXP(AN6*(AN4-AN7)))/(AN5+EXP(AN6*(AN4-AN9))))^AN5))","v":0},{"$f":"IF(OR(AJ75<=AN9,AJ75>100000),0,IF(AJ75<=AO7,AO8,AO8+(AO10-AO8)*(1-((AO5+EXP(AO6*(AO4-AO7)))/(AO5+EXP(AO6*(AO4-AJ75))))^AO5)/(1-((AO5+EXP(AO6*(AO4-AO7)))/(AO5+EXP(AO6*(AO4-AO9))))^AO5)))","v":0},0,0]
[65,{"$f":"'daily uptake'!F159","v":"2011-01-04"},{"$f":"5/9*'daily uptake'!Q159","v":3.8888888888888893},{"$f":"5/9*'daily uptake'!N159","v":0},{"$f":"IF(AND($A76>='daily uptake'!$C$9,$A76<='daily uptake'!$C$10),$C76+E75,0)","v":654.16666666666663},{"$f":"IF(AND($A76>='daily uptake'!$C$18,$A76<='daily uptake'!$C$20),$D76+F75,0)","v":0},{"$f":"IF(AND($A76>='daily uptake'!$C$24,$A76<='daily uptake'!$C$25),$C76+G75,0)","v":0},{"$f":"IF(OR(F76<=I7,F76>I9),0,I8+(I10-I8)*(1-((I5+EXP(I6*(I4-I7)))/(I5+EXP(I6*(I4-F76))))^I5)/(1-((I5+EXP(I6*(I4-I7)))/(I5+EXP(I6*(I4-I9))))^I5))","v":0},{"$f":"IF(OR(F76<=J7,F76>J9),0,J8+(J10-J8)*(1-((J5+EXP(J6*(J4-J7)))/(J5+EXP(J6*(J4-F76))))^J5)/(1-((J5+EXP(J6*(J4-J7)))/(J5+EXP(J6*(J4-J9))))^J5))","v":0},{"$f":"IF(OR(F76<=J9,F76>100000),0,IF(F76<=K7,K8,K8+(K10-K8)*(1-((K5+EXP(K6*(K4-K7)))/(K5+EXP(K6*(K4-F76))))^K5)/(1-((K5+EXP(K6*(K4-K7)))/(K5+EXP(K6*(K4-K9))))^K5)))","v":0},{"$f":"H76+I76+J76","v":0},0,{"$f":"M$10*(1-(($M$5+EXP($M$6*$M$4))/($M$5+EXP($M$6*($M$4-$E76))))^$M$5)/(1-(($M$5+EXP($M$6*$M$4))/($M$5+EXP($M$6*($M$4-M$9))))^$M$5)","v":31.438636146201382},0,"2011-01-04",{"$f":"MAX(L$12:L76)+MAX(M$12:M76)+MAX(N$12:N76)","v":31.438636146201382},"2011-01-04",0.28839052354276973,null,null,null,null,null,null,null,null,null,null,null,null,null,null,null,null,null,0,null,{"$f":"IF(OR(AJ76<=AM7,AJ76>AM9),0,AM8+(AM10-AM8)*(1-((AM5+EXP(AM6*(AM4-AM7)))/(AM5+EXP(AM6*(AM4-AJ76))))^AM5)/(1-((AM5+EXP(AM6*(AM4-AM7)))/(AM5+EXP(AM6*(AM4-AM9))))^AM5))","v":0},{"$f":"IF(OR(AJ76<=AN7,AJ76>AN9),0,AN8+(AN10-AN8)*(1-((AN5+EXP(AN6*(AN4-AN7)))/(AN5+EXP(AN6*(AN4-AJ76))))^AN5)/(1-((AN5+EXP(AN6*(AN4-AN7)))/(AN5+EXP(AN6*(AN4-AN9))))^AN5))","v":0},{"$f":"IF(OR(AJ76<=AN9,AJ76>100000),0,IF(AJ76<=AO7,AO8,AO8+(AO10-AO8)*(1-((AO5+EXP(AO6*(AO4-AO7)))/(AO5+EXP(AO6*(AO4-AJ76))))^AO5)/(1-((AO5+EXP(AO6*(AO4-AO7)))/(AO5+EXP(AO6*(AO4-AO9))))^AO5)))","v":0},{"$f":"AL76+AM76+AN76","v":0},0]
[66,{"$f":"'daily uptake'!F160","v":"2011-01-05"},{"$f":"5/9*'daily uptake'!Q160","v":3.0555555555555558},{"$f":"5/9*'daily uptake'!N160","v":0},{"$f":"IF(AND($A77>='daily uptake'!$C$9,$A77<='daily uptake'!$C$10),$C77+E76,0)","v":657.22222222222217},{"$f":"IF(AND($A77>='daily uptake'!$C$18,$A77<='daily uptake'!$C$20),$D77+F76,0)","v":0},{"$f":"IF(AND($A77>='daily uptake'!$C$24,$A77<='daily uptake'!$C$25),$C77+G76,0)","v":0},{"$f":"IF(OR(F77<=I7,F77>I9),0,I8+(I10-I8)*(1-((I5+EXP(I6*(I4-I7)))/(I5+EXP(I6*(I4-F77))))^I5)/(1-((I5+EXP(I6*(I4-I7)))/(I5+EXP(I6*(I4-I9))))^I5))","v":0},{"$f":"IF(OR(F77<=J7,F77>J9),0,J8+(J10-J8)*(1-((J5+EXP(J6*(J4-J7)))/(J5+EXP(J6*(J4-F77))))^J5)/(1-((J5+EXP(J6*(J4-J7)))/(J5+EXP(J6*(J4-J9))))^J5))","v":0},{"$f":"IF(OR(F77<=J9,F77>100000),0,IF(F77<=K7,K8,K8+(K10-K8)*(1-((K5+EXP(K6*(K4-K7)))/(K5+EXP(K6*(K4-F77))))^K5)/(1-((K5+EXP(K6*(K4-K7)))/(K5+EXP(K6*(K4-K9))))^K5)))","v":0},0,{"$f":"IF(L$8=0,0,K77*L$7/L$8)","v":0},31.66620404486223,{"$f":"N$10*(1-(($N$5+EXP($N$6*$N$4))/($N$5+EXP($N$6*($N$4-$G77))))^$N$5)/(1-(($N$5+EXP($N$6*$N$4))/($N$5+EXP($N$6*($N$4-N$9))))^$N$5)","v":0},"2011-01-05",{"$f":"MAX(L$12:L77)+MAX(M$12:M77)+MAX(N$12:N77)","v":31.66620404486223},"2011-01-05",{"$f":"P77-P76","v":0.22756789866084759},null,null,null,null,null,null,null,null,null,null,null,null,null,null,null,null,null,0,null,{"$f":"IF(OR(AJ77<=AM7,AJ77>AM9),0,AM8+(AM10-AM8)*(1-((AM5+EXP(AM6*(AM4-AM7)))/(AM5+EXP(AM6*(AM4-AJ77))))^AM5)/(1-((AM5+EXP(AM6*(AM4-AM7)))/(AM5+EXP(AM6*(AM4-AM9))))^AM5))","v":0},{"$f":"IF(OR(AJ77<=AN7,AJ77>AN9),0,AN8+(AN10-AN8)*(1-((AN5+EXP(AN6*(AN4-AN7)))/(AN5+EXP(AN6*(AN4-AJ77))))^AN5)/(1-((AN5+EXP(AN6*(AN4-AN7)))/(AN5+EXP(AN6*(AN4-AN9))))^AN5))","v":0},{"$f":"IF(OR(AJ77<=AN9,AJ77>100000),0,IF(AJ77<=AO7,AO8,AO8+(AO10-AO8)*(1-((AO5+EXP(AO6*(AO4-AO7)))/(AO5+EXP(AO6*(AO4-AJ77))))^AO5)/(1-((AO5+EXP(AO6*(AO4-AO7)))/(AO5+EXP(AO6*(AO4-AO9))))^AO5)))","v":0},0,{"$f":"IF(AP$8=0,0,AO77*AP$7/AP$8)","v":0}]
[67,{"$f":"'daily uptake'!F161","v":"2011-01-06"},{"$f":"5/9*'daily uptake'!Q161","v":3.8888888888888893},{"$f":"5/9*'daily uptake'!N161","v":0},{"$f":"IF(AND($A78>='daily uptake'!$C$9,$A78<='daily uptake'!$C$10),$C78+E77,0)","v":661.11111111111109},{"$f":"IF(AND($A78>='daily uptake'!$C$18,$A78<='daily uptake'!$C$20),$D78+F77,0)","v":0},{"$f":"IF(AND($A78>='daily uptake'!$C$24,$A78<='daily uptake'!$C$25),$C78+G77,0)","v":0},{"$f":"IF(OR(F78<=I7,F78>I9),0,I8+(I10-I8)*(1-((I5+EXP(I6*(I4-I7)))/(I5+EXP(I6*(I4-F78))))^I5)/(1-((I5+EXP(I6*(I4-I7)))/(I5+EXP(I6*(I4-I9))))^I5))","v":0},{"$f":"IF(OR(F78<=J7,F78>J9),0,J8+(J10-J8)*(1-((J5+EXP(J6*(J4-J7)))/(J5+EXP(J6*(J4-F78))))^J5)/(1-((J5+EXP(J6*(J4-J7)))/(J5+EXP(J6*(J4-J9))))^J5))","v":0},{"$f":"IF(OR(F78<=J9,F78>100000),0,IF(F78<=K7,K8,K8+(K10-K8)*(1-((K5+EXP(K6*(K4-K7)))/(K5+EXP(K6*(K4-F78))))^K5)/(1-((K5+EXP(K6*(K4-K7)))/(K5+EXP(K6*(K4-K9))))^K5)))","v":0},0,0,31.957078177076067,0,"2011-01-06",{"$f":"MAX(L$12:L78)+MAX(M$12:M78)+MAX(N$12:N78)","v":31.957078177076067},"2011-01-06",0.29087413221383684,null,null,null,null,null,null,null,null,null,null,null,null,null,null,null,null,null,0,null,{"$f":"IF(OR(AJ78<=AM7,AJ78>AM9),0,AM8+(AM10-AM8)*(1-((AM5+EXP(AM6*(AM4-AM7)))/(AM5+EXP(AM6*(AM4-AJ78))))^AM5)/(1-((AM5+EXP(AM6*(AM4-AM7)))/(AM5+EXP(AM6*(AM4-AM9))))^AM5))","v":0},{"$f":"IF(OR(AJ78<=AN7,AJ78>AN9),0,AN8+(AN10-AN8)*(1-((AN5+EXP(AN6*(AN4-AN7)))/(AN5+EXP(AN6*(AN4-AJ78))))^AN5)/(1-((AN5+EXP(AN6*(AN4-AN7)))/(AN5+EXP(AN6*(AN4-AN9))))^AN5))","v":0},{"$f":"IF(OR(AJ78<=AN9,AJ78>100000),0,IF(AJ78<=AO7,AO8,AO8+(AO10-AO8)*(1-((AO5+EXP(AO6*(AO4-AO7)))/(AO5+EXP(AO6*(AO4-AJ78))))^AO5)/(1-((AO5+EXP(AO6*(AO4-AO7)))/(AO5+EXP(AO6*(AO4-AO9))))^AO5)))","v":0},0,0]
[68,{"$f":"'daily uptake'!F162","v":"2011-01-07"},{"$f":"5/9*'daily uptake'!Q162","v":3.3333333333333335},{"$f":"5/9*'daily uptake'!N162","v":0},{"$f":"IF(AND($A79>='daily uptake'!$C$9,$A79<='daily uptake'!$C$10),$C79+E78,0)","v":664.44444444444446},{"$f":"IF(AND($A79>='daily uptake'!$C$18,$A79<='daily uptake'!$C$20),$D79+F78,0)","v":0},{"$f":"IF(AND($A79>='daily uptake'!$C$24,$A79<='daily uptake'!$C$25),$C79+G78,0)","v":0},{"$f":"IF(OR(F79<=I7,F79>I9),0,I8+(I10-I8)*(1-((I5+EXP(I6*(I4-I7)))/(I5+EXP(I6*(I4-F79))))^I5)/(1-((I5+EXP(I6*(I4-I7)))/(I5+EXP(I6*(I4-I9))))^I5))","v":0},{"$f":"IF(OR(F79<=J7,F79>J9),0,J8+(J10-J8)*(1-((J5+EXP(J6*(J4-J7)))/(J5+EXP(J6*(J4-F79))))^J5)/(1-((J5+EXP(J6*(J4-J7)))/(J5+EXP(J6*(J4-J9))))^J5))","v":0},{"$f":"IF(OR(F79<=J9,F79>100000),0,IF(F79<=K7,K8,K8+(K10-K8)*(1-((K5+EXP(K6*(K4-K7)))/(K5+EXP(K6*(K4-F79))))^K5)/(1-((K5+EXP(K6*(K4-K7)))/(K5+EXP(K6*(K4-K9))))^K5)))","v":0},0,0,32.207506975108224,0,"2011-01-07",{"$f":"MAX(L$12:L79)+MAX(M$12:M79)+MAX(N$12:N79)","v":32.207506975108224},"2011-01-07",0.25042879803215712,null,null,null,null,null,null,null,null,null,null,null,null,null,null,null,null,null,0,null,{"$f":"IF(OR(AJ79<=AM7,AJ79>AM9),0,AM8+(AM10-AM8)*(1-((AM5+EXP(AM6*(AM4-AM7)))/(AM5+EXP(AM6*(AM4-AJ79))))^AM5)/(1-((AM5+EXP(AM6*(AM4-AM7)))/(AM5+EXP(AM6*(AM4-AM9))))^AM5))","v":0},{"$f":"IF(OR(AJ79<=AN7,AJ79>AN9),0,AN8+(AN10-AN8)*(1-((AN5+EXP(AN6*(AN4-AN7)))/(AN5+EXP(AN6*(AN4-AJ79))))^AN5)/(1-((AN5+EXP(AN6*(AN4-AN7)))/(AN5+EXP(AN6*(AN4-AN9))))^AN5))","v":0},{"$f":"IF(OR(AJ79<=AN9,AJ79>100000),0,IF(AJ79<=AO7,AO8,AO8+(AO10-AO8)*(1-((AO5+EXP(AO6*(AO4-AO7)))/(AO5+EXP(AO6*(AO4-AJ79))))^AO5)/(1-((AO5+EXP(AO6*(AO4-AO7)))/(AO5+EXP(AO6*(AO4-AO9))))^AO5)))","v":0},0,0]
[69,{"$f":"'daily uptake'!F163","v":"2011-01-08"},{"$f":"5/9*'daily uptake'!Q163","v":3.6111111111111112},{"$f":"5/9*'daily uptake'!N163","v":0},{"$f":"IF(AND($A80>='daily uptake'!$C$9,$A80<='daily uptake'!$C$10),$C80+E79,0)","v":668.05555555555554},{"$f":"IF(AND($A80>='daily uptake'!$C$18,$A80<='daily uptake'!$C$20),$D80+F79,0)","v":0},{"$f":"IF(AND($A80>='daily uptake'!$C$24,$A80<='daily uptake'!$C$25),$C80+G79,0)","v":0},{"$f":"IF(OR(F80<=I7,F80>I9),0,I8+(I10-I8)*(1-((I5+EXP(I6*(I4-I7)))/(I5+EXP(I6*(I4-F80))))^I5)/(1-((I5+EXP(I6*(I4-I7)))/(I5+EXP(I6*(I4-I9))))^I5))","v":0},{"$f":"IF(OR(F80<=J7,F80>J9),0,J8+(J10-J8)*(1-((J5+EXP(J6*(J4-J7)))/(J5+EXP(J6*(J4-F80))))^J5)/(1-((J5+EXP(J6*(J4-J7)))/(J5+EXP(J6*(J4-J9))))^J5))","v":0},{"$f":"IF(OR(F80<=J9,F80>100000),0,IF(F80<=K7,K8,K8+(K10-K8)*(1-((K5+EXP(K6*(K4-K7)))/(K5+EXP(K6*(K4-F80))))^K5)/(1-((K5+EXP(K6*(K4-K7)))/(K5+EXP(K6*(K4-K9))))^K5)))","v":0},0,0,32.479959871001959,0,"2011-01-08",{"$f":"MAX(L$12:L80)+MAX(M$12:M80)+MAX(N$12:N80)","v":32.479959871001959},"2011-01-08",0.27245289589373556,null,null,null,null,null,null,null,null,null,null,null,null,null,null,null,null,null,0,null,{"$f":"IF(OR(AJ80<=AM7,AJ80>AM9),0,AM8+(AM10-AM8)*(1-((AM5+EXP(AM6*(AM4-AM7)))/(AM5+EXP(AM6*(AM4-AJ80))))^AM5)/(1-((AM5+EXP(AM6*(AM4-AM7)))/(AM5+EXP(AM6*(AM4-AM9))))^AM5))","v":0},{"$f":"IF(OR(AJ80<=AN7,AJ80>AN9),0,AN8+(AN10-AN8)*(1-((AN5+EXP(AN6*(AN4-AN7)))/(AN5+EXP(AN6*(AN4-AJ80))))^AN5)/(1-((AN5+EXP(AN6*(AN4-AN7)))/(AN5+EXP(AN6*(AN4-AN9))))^AN5))","v":0},{"$f":"IF(OR(AJ80<=AN9,AJ80>100000),0,IF(AJ80<=AO7,AO8,AO8+(AO10-AO8)*(1-((AO5+EXP(AO6*(AO4-AO7)))/(AO5+EXP(AO6*(AO4-AJ80))))^AO5)/(1-((AO5+EXP(AO6*(AO4-AO7)))/(AO5+EXP(AO6*(AO4-AO9))))^AO5)))","v":0},0,0]
[70,{"$f":"'daily uptake'!F164","v":"2011-01-09"},{"$f":"5/9*'daily uptake'!Q164","v":1.1111111111111112},{"$f":"5/9*'daily uptake'!N164","v":0},{"$f":"IF(AND($A81>='daily uptake'!$C$9,$A81<='daily uptake'!$C$10),$C81+E80,0)","v":669.16666666666663},{"$f":"IF(AND($A81>='daily uptake'!$C$18,$A81<='daily uptake'!$C$20),$D81+F80,0)","v":0},{"$f":"IF(AND($A81>='daily uptake'!$C$24,$A81<='daily uptake'!$C$25),$C81+G80,0)","v":0},{"$f":"IF(OR(F81<=I7,F81>I9),0,I8+(I10-I8)*(1-((I5+EXP(I6*(I4-I7)))/(I5+EXP(I6*(I4-F81))))^I5)/(1-((I5+EXP(I6*(I4-I7)))/(I5+EXP(I6*(I4-I9))))^I5))","v":0},{"$f":"IF(OR(F81<=J7,F81>J9),0,J8+(J10-J8)*(1-((J5+EXP(J6*(J4-J7)))/(J5+EXP(J6*(J4-F81))))^J5)/(1-((J5+EXP(J6*(J4-J7)))/(J5+EXP(J6*(J4-J9))))^J5))","v":0},{"$f":"IF(OR(F81<=J9,F81>100000),0,IF(F81<=K7,K8,K8+(K10-K8)*(1-((K5+EXP(K6*(K4-K7)))/(K5+EXP(K6*(K4-F81))))^K5)/(1-((K5+EXP(K6*(K4-K7)))/(K5+EXP(K6*(K4-K9))))^K5)))","v":0},0,0,32.564033308724966,0,"2011-01-09",{"$f":"MAX(L$12:L81)+MAX(M$12:M81)+MAX(N$12:N81)","v":32.564033308724966},"2011-01-09",8.407343772300635E-2,null,null,null,null,null,null,null,null,null,null,null,null,null,null,null,null,null,0,null,{"$f":"IF(OR(AJ81<=AM7,AJ81>AM9),0,AM8+(AM10-AM8)*(1-((AM5+EXP(AM6*(AM4-AM7)))/(AM5+EXP(AM6*(AM4-AJ81))))^AM5)/(1-((AM5+EXP(AM6*(AM4-AM7)))/(AM5+EXP(AM6*(AM4-AM9))))^AM5))","v":0},{"$f":"IF(OR(AJ81<=AN7,AJ81>AN9),0,AN8+(AN10-AN8)*(1-((AN5+EXP(AN6*(AN4-AN7)))/(AN5+EXP(AN6*(AN4-AJ81))))^AN5)/(1-((AN5+EXP(AN6*(AN4-AN7)))/(AN5+EXP(AN6*(AN4-AN9))))^AN5))","v":0},{"$f":"IF(OR(AJ81<=AN9,AJ81>100000),0,IF(AJ81<=AO7,AO8,AO8+(AO10-AO8)*(1-((AO5+EXP(AO6*(AO4-AO7)))/(AO5+EXP(AO6*(AO4-AJ81))))^AO5)/(1-((AO5+EXP(AO6*(AO4-AO7)))/(AO5+EXP(AO6*(AO4-AO9))))^AO5)))","v":0},0,0]
[71,{"$f":"'daily uptake'!F165","v":"2011-01-10"},{"$f":"5/9*'daily uptake'!Q165","v":2.2222222222222223},{"$f":"5/9*'daily uptake'!N165","v":0},{"$f":"IF(AND($A82>='daily uptake'!$C$9,$A82<='daily uptake'!$C$10),$C82+E81,0)","v":671.3888888888888},{"$f":"IF(AND($A82>='daily uptake'!$C$18,$A82<='daily uptake'!$C$20),$D82+F81,0)","v":0},{"$f":"IF(AND($A82>='daily uptake'!$C$24,$A82<='daily uptake'!$C$25),$C82+G81,0)","v":0},{"$f":"IF(OR(F82<=I7,F82>I9),0,I8+(I10-I8)*(1-((I5+EXP(I6*(I4-I7)))/(I5+EXP(I6*(I4-F82))))^I5)/(1-((I5+EXP(I6*(I4-I7)))/(I5+EXP(I6*(I4-I9))))^I5))","v":0},{"$f":"IF(OR(F82<=J7,F82>J9),0,J8+(J10-J8)*(1-((J5+EXP(J6*(J4-J7)))/(J5+EXP(J6*(J4-F82))))^J5)/(1-((J5+EXP(J6*(J4-J7)))/(J5+EXP(J6*(J4-J9))))^J5))","v":0},{"$f":"IF(OR(F82<=J9,F82>100000),0,IF(F82<=K7,K8,K8+(K10-K8)*(1-((K5+EXP(K6*(K4-K7)))/(K5+EXP(K6*(K4-F82))))^K5)/(1-((K5+EXP(K6*(K4-K7)))/(K5+EXP(K6*(K4-K9))))^K5)))","v":0},0,0,32.732521642921938,0,"2011-01-10",{"$f":"MAX(L$12:L82)+MAX(M$12:M82)+MAX(N$12:N82)","v":32.732521642921938},"2011-01-10",0.16848833419697229,null,null,null,null,null,null,null,null,null,null,null,null,null,null,null,null,null,0,null,{"$f":"IF(OR(AJ82<=AM7,AJ82>AM9),0,AM8+(AM10-AM8)*(1-((AM5+EXP(AM6*(AM4-AM7)))/(AM5+EXP(AM6*(AM4-AJ82))))^AM5)/(1-((AM5+EXP(AM6*(AM4-AM7)))/(AM5+EXP(AM6*(AM4-AM9))))^AM5))","v":0},{"$f":"IF(OR(AJ82<=AN7,AJ82>AN9),0,AN8+(AN10-AN8)*(1-((AN5+EXP(AN6*(AN4-AN7)))/(AN5+EXP(AN6*(AN4-AJ82))))^AN5)/(1-((AN5+EXP(AN6*(AN4-AN7)))/(AN5+EXP(AN6*(AN4-AN9))))^AN5))","v":0},{"$f":"IF(OR(AJ82<=AN9,AJ82>100000),0,IF(AJ82<=AO7,AO8,AO8+(AO10-AO8)*(1-((AO5+EXP(AO6*(AO4-AO7)))/(AO5+EXP(AO6*(AO4-AJ82))))^AO5)/(1-((AO5+EXP(AO6*(AO4-AO7)))/(AO5+EXP(AO6*(AO4-AO9))))^AO5)))","v":0},0,0]
[72,{"$f":"'daily uptake'!F166","v":"2011-01-11"},{"$f":"5/9*'daily uptake'!Q166","v":5.2777777777777777},{"$f":"5/9*'daily uptake'!N166","v":0},{"$f":"IF(AND($A83>='daily uptake'!$C$9,$A83<='daily uptake'!$C$10),$C83+E82,0)","v":676.66666666666663},{"$f":"IF(AND($A83>='daily uptake'!$C$18,$A83<='daily uptake'!$C$20),$D83+F82,0)","v":0},{"$f":"IF(AND($A83>='daily uptake'!$C$24,$A83<='daily uptake'!$C$25),$C83+G82,0)","v":0},{"$f":"IF(OR(F83<=I7,F83>I9),0,I8+(I10-I8)*(1-((I5+EXP(I6*(I4-I7)))/(I5+EXP(I6*(I4-F83))))^I5)/(1-((I5+EXP(I6*(I4-I7)))/(I5+EXP(I6*(I4-I9))))^I5))","v":0},{"$f":"IF(OR(F83<=J7,F83>J9),0,J8+(J10-J8)*(1-((J5+EXP(J6*(J4-J7)))/(J5+EXP(J6*(J4-F83))))^J5)/(1-((J5+EXP(J6*(J4-J7)))/(J5+EXP(J6*(J4-J9))))^J5))","v":0},{"$f":"IF(OR(F83<=J9,F83>100000),0,IF(F83<=K7,K8,K8+(K10-K8)*(1-((K5+EXP(K6*(K4-K7)))/(K5+EXP(K6*(K4-F83))))^K5)/(1-((K5+EXP(K6*(K4-K7)))/(K5+EXP(K6*(K4-K9))))^K5)))","v":0},0,0,33.134506883809607,0,"2011-01-11",{"$f":"MAX(L$12:L83)+MAX(M$12:M83)+MAX(N$12:N83)","v":33.134506883809607},"2011-01-11",0.40198524088766874,null,null,null,null,null,null,null,null,null,null,null,null,null,null,null,null,null,0,null,{"$f":"IF(OR(AJ83<=AM7,AJ83>AM9),0,AM8+(AM10-AM8)*(1-((AM5+EXP(AM6*(AM4-AM7)))/(AM5+EXP(AM6*(AM4-AJ83))))^AM5)/(1-((AM5+EXP(AM6*(AM4-AM7)))/(AM5+EXP(AM6*(AM4-AM9))))^AM5))","v":0},{"$f":"IF(OR(AJ83<=AN7,AJ83>AN9),0,AN8+(AN10-AN8)*(1-((AN5+EXP(AN6*(AN4-AN7)))/(AN5+EXP(AN6*(AN4-AJ83))))^AN5)/(1-((AN5+EXP(AN6*(AN4-AN7)))/(AN5+EXP(AN6*(AN4-AN9))))^AN5))","v":0},{"$f":"IF(OR(AJ83<=AN9,AJ83>100000),0,IF(AJ83<=AO7,AO8,AO8+(AO10-AO8)*(1-((AO5+EXP(AO6*(AO4-AO7)))/(AO5+EXP(AO6*(AO4-AJ83))))^AO5)/(1-((AO5+EXP(AO6*(AO4-AO7)))/(AO5+EXP(AO6*(AO4-AO9))))^AO5)))","v":0},0,0]
[73,{"$f":"'daily uptake'!F167","v":"2011-01-12"},{"$f":"5/9*'daily uptake'!Q167","v":8.6111111111111107},{"$f":"5/9*'daily uptake'!N167","v":1.9444444444444446},{"$f":"IF(AND($A84>='daily uptake'!$C$9,$A84<='daily uptake'!$C$10),$C84+E83,0)","v":685.27777777777771},{"$f":"IF(AND($A84>='daily uptake'!$C$18,$A84<='daily uptake'!$C$20),$D84+F83,0)","v":0},{"$f":"IF(AND($A84>='daily uptake'!$C$24,$A84<='daily uptake'!$C$25),$C84+G83,0)","v":0},{"$f":"IF(OR(F84<=I7,F84>I9),0,I8+(I10-I8)*(1-((I5+EXP(I6*(I4-I7)))/(I5+EXP(I6*(I4-F84))))^I5)/(1-((I5+EXP(I6*(I4-I7)))/(I5+EXP(I6*(I4-I9))))^I5))","v":0},{"$f":"IF(OR(F84<=J7,F84>J9),0,J8+(J10-J8)*(1-((J5+EXP(J6*(J4-J7)))/(J5+EXP(J6*(J4-F84))))^J5)/(1-((J5+EXP(J6*(J4-J7)))/(J5+EXP(J6*(J4-J9))))^J5))","v":0},{"$f":"IF(OR(F84<=J9,F84>100000),0,IF(F84<=K7,K8,K8+(K10-K8)*(1-((K5+EXP(K6*(K4-K7)))/(K5+EXP(K6*(K4-F84))))^K5)/(1-((K5+EXP(K6*(K4-K7)))/(K5+EXP(K6*(K4-K9))))^K5)))","v":0},0,0,33.795896955792735,0,"2011-01-12",{"$f":"MAX(L$12:L84)+MAX(M$12:M84)+MAX(N$12:N84)","v":33.795896955792735},"2011-01-12",0.66139007198312783,null,null,null,null,null,null,null,null,null,null,null,null,null,null,null,null,null,0,null,{"$f":"IF(OR(AJ84<=AM7,AJ84>AM9),0,AM8+(AM10-AM8)*(1-((AM5+EXP(AM6*(AM4-AM7)))/(AM5+EXP(AM6*(AM4-AJ84))))^AM5)/(1-((AM5+EXP(AM6*(AM4-AM7)))/(AM5+EXP(AM6*(AM4-AM9))))^AM5))","v":0},{"$f":"IF(OR(AJ84<=AN7,AJ84>AN9),0,AN8+(AN10-AN8)*(1-((AN5+EXP(AN6*(AN4-AN7)))/(AN5+EXP(AN6*(AN4-AJ84))))^AN5)/(1-((AN5+EXP(AN6*(AN4-AN7)))/(AN5+EXP(AN6*(AN4-AN9))))^AN5))","v":0},{"$f":"IF(OR(AJ84<=AN9,AJ84>100000),0,IF(AJ84<=AO7,AO8,AO8+(AO10-AO8)*(1-((AO5+EXP(AO6*(AO4-AO7)))/(AO5+EXP(AO6*(AO4-AJ84))))^AO5)/(1-((AO5+EXP(AO6*(AO4-AO7)))/(AO5+EXP(AO6*(AO4-AO9))))^AO5)))","v":0},0,0]
[74,{"$f":"'daily uptake'!F168","v":"2011-01-13"},{"$f":"5/9*'daily uptake'!Q168","v":6.9444444444444446},{"$f":"5/9*'daily uptake'!N168","v":1.3888888888888888},{"$f":"IF(AND($A85>='daily uptake'!$C$9,$A85<='daily uptake'!$C$10),$C85+E84,0)","v":692.22222222222217},{"$f":"IF(AND($A85>='daily uptake'!$C$18,$A85<='daily uptake'!$C$20),$D85+F84,0)","v":0},{"$f":"IF(AND($A85>='daily uptake'!$C$24,$A85<='daily uptake'!$C$25),$C85+G84,0)","v":0},{"$f":"IF(OR(F85<=I7,F85>I9),0,I8+(I10-I8)*(1-((I5+EXP(I6*(I4-I7)))/(I5+EXP(I6*(I4-F85))))^I5)/(1-((I5+EXP(I6*(I4-I7)))/(I5+EXP(I6*(I4-I9))))^I5))","v":0},{"$f":"IF(OR(F85<=J7,F85>J9),0,J8+(J10-J8)*(1-((J5+EXP(J6*(J4-J7)))/(J5+EXP(J6*(J4-F85))))^J5)/(1-((J5+EXP(J6*(J4-J7)))/(J5+EXP(J6*(J4-J9))))^J5))","v":0},{"$f":"IF(OR(F85<=J9,F85>100000),0,IF(F85<=K7,K8,K8+(K10-K8)*(1-((K5+EXP(K6*(K4-K7)))/(K5+EXP(K6*(K4-F85))))^K5)/(1-((K5+EXP(K6*(K4-K7)))/(K5+EXP(K6*(K4-K9))))^K5)))","v":0},0,0,34.334265189617511,0,"2011-01-13",{"$f":"MAX(L$12:L85)+MAX(M$12:M85)+MAX(N$12:N85)","v":34.334265189617511},"2011-01-13",0.53836823382477661,null,null,null,null,null,null,null,null,null,null,null,null,null,null,null,null,null,0,null,{"$f":"IF(OR(AJ85<=AM7,AJ85>AM9),0,AM8+(AM10-AM8)*(1-((AM5+EXP(AM6*(AM4-AM7)))/(AM5+EXP(AM6*(AM4-AJ85))))^AM5)/(1-((AM5+EXP(AM6*(AM4-AM7)))/(AM5+EXP(AM6*(AM4-AM9))))^AM5))","v":0},{"$f":"IF(OR(AJ85<=AN7,AJ85>AN9),0,AN8+(AN10-AN8)*(1-((AN5+EXP(AN6*(AN4-AN7)))/(AN5+EXP(AN6*(AN4-AJ85))))^AN5)/(1-((AN5+EXP(AN6*(AN4-AN7)))/(AN5+EXP(AN6*(AN4-AN9))))^AN5))","v":0},{"$f":"IF(OR(AJ85<=AN9,AJ85>100000),0,IF(AJ85<=AO7,AO8,AO8+(AO10-AO8)*(1-((AO5+EXP(AO6*(AO4-AO7)))/(AO5+EXP(AO6*(AO4-AJ85))))^AO5)/(1-((AO5+EXP(AO6*(AO4-AO7)))/(AO5+EXP(AO6*(AO4-AO9))))^AO5)))","v":0},0,0]
[75,{"$f":"'daily uptake'!F169","v":"2011-01-14"},{"$f":"5/9*'daily uptake'!Q169","v":8.0555555555555554},{"$f":"5/9*'daily uptake'!N169","v":0.55555555555555558},{"$f":"IF(AND($A86>='daily uptake'!$C$9,$A86<='daily uptake'!$C$10),$C86+E85,0)","v":700.27777777777771},{"$f":"IF(AND($A86>='daily uptake'!$C$18,$A86<='daily uptake'!$C$20),$D86+F85,0)","v":0},{"$f":"IF(AND($A86>='daily uptake'!$C$24,$A86<='daily uptake'!$C$25),$C86+G85,0)","v":0},{"$f":"IF(OR(F86<=I7,F86>I9),0,I8+(I10-I8)*(1-((I5+EXP(I6*(I4-I7)))/(I5+EXP(I6*(I4-F86))))^I5)/(1-((I5+EXP(I6*(I4-I7)))/(I5+EXP(I6*(I4-I9))))^I5))","v":0},{"$f":"IF(OR(F86<=J7,F86>J9),0,J8+(J10-J8)*(1-((J5+EXP(J6*(J4-J7)))/(J5+EXP(J6*(J4-F86))))^J5)/(1-((J5+EXP(J6*(J4-J7)))/(J5+EXP(J6*(J4-J9))))^J5))","v":0},{"$f":"IF(OR(F86<=J9,F86>100000),0,IF(F86<=K7,K8,K8+(K10-K8)*(1-((K5+EXP(K6*(K4-K7)))/(K5+EXP(K6*(K4-F86))))^K5)/(1-((K5+EXP(K6*(K4-K7)))/(K5+EXP(K6*(K4-K9))))^K5)))","v":0},0,0,34.964356780160443,0,"2011-01-14",{"$f":"MAX(L$12:L86)+MAX(M$12:M86)+MAX(N$12:N86)","v":34.964356780160443},"2011-01-14",0.63009159054293207,null,null,null,null,null,null,null,null,null,null,null,null,null,null,null,null,null,0,null,{"$f":"IF(OR(AJ86<=AM7,AJ86>AM9),0,AM8+(AM10-AM8)*(1-((AM5+EXP(AM6*(AM4-AM7)))/(AM5+EXP(AM6*(AM4-AJ86))))^AM5)/(1-((AM5+EXP(AM6*(AM4-AM7)))/(AM5+EXP(AM6*(AM4-AM9))))^AM5))","v":0},{"$f":"IF(OR(AJ86<=AN7,AJ86>AN9),0,AN8+(AN10-AN8)*(1-((AN5+EXP(AN6*(AN4-AN7)))/(AN5+EXP(AN6*(AN4-AJ86))))^AN5)/(1-((AN5+EXP(AN6*(AN4-AN7)))/(AN5+EXP(AN6*(AN4-AN9))))^AN5))","v":0},{"$f":"IF(OR(AJ86<=AN9,AJ86>100000),0,IF(AJ86<=AO7,AO8,AO8+(AO10-AO8)*(1-((AO5+EXP(AO6*(AO4-AO7)))/(AO5+EXP(AO6*(AO4-AJ86))))^AO5)/(1-((AO5+EXP(AO6*(AO4-AO7)))/(AO5+EXP(AO6*(AO4-AO9))))^AO5)))","v":0},0,0]
[76,{"$f":"'daily uptake'!F170","v":"2011-01-15"},{"$f":"5/9*'daily uptake'!Q170","v":7.2222222222222223},{"$f":"5/9*'daily uptake'!N170","v":0.83333333333333337},{"$f":"IF(AND($A87>='daily uptake'!$C$9,$A87<='daily uptake'!$C$10),$C87+E86,0)","v":707.49999999999989},{"$f":"IF(AND($A87>='daily uptake'!$C$18,$A87<='daily uptake'!$C$20),$D87+F86,0)","v":0},{"$f":"IF(AND($A87>='daily uptake'!$C$24,$A87<='daily uptake'!$C$25),$C87+G86,0)","v":0},{"$f":"IF(OR(F87<=I7,F87>I9),0,I8+(I10-I8)*(1-((I5+EXP(I6*(I4-I7)))/(I5+EXP(I6*(I4-F87))))^I5)/(1-((I5+EXP(I6*(I4-I7)))/(I5+EXP(I6*(I4-I9))))^I5))","v":0},{"$f":"IF(OR(F87<=J7,F87>J9),0,J8+(J10-J8)*(1-((J5+EXP(J6*(J4-J7)))/(J5+EXP(J6*(J4-F87))))^J5)/(1-((J5+EXP(J6*(J4-J7)))/(J5+EXP(J6*(J4-J9))))^J5))","v":0},{"$f":"IF(OR(F87<=J9,F87>100000),0,IF(F87<=K7,K8,K8+(K10-K8)*(1-((K5+EXP(K6*(K4-K7)))/(K5+EXP(K6*(K4-F87))))^K5)/(1-((K5+EXP(K6*(K4-K7)))/(K5+EXP(K6*(K4-K9))))^K5)))","v":0},0,0,35.534368045743697,0,"2011-01-15",{"$f":"MAX(L$12:L87)+MAX(M$12:M87)+MAX(N$12:N87)","v":35.534368045743697},"2011-01-15",0.5700112655832541,null,null,null,null,null,null,null,null,null,null,null,null,null,null,null,null,null,0,null,{"$f":"IF(OR(AJ87<=AM7,AJ87>AM9),0,AM8+(AM10-AM8)*(1-((AM5+EXP(AM6*(AM4-AM7)))/(AM5+EXP(AM6*(AM4-AJ87))))^AM5)/(1-((AM5+EXP(AM6*(AM4-AM7)))/(AM5+EXP(AM6*(AM4-AM9))))^AM5))","v":0},{"$f":"IF(OR(AJ87<=AN7,AJ87>AN9),0,AN8+(AN10-AN8)*(1-((AN5+EXP(AN6*(AN4-AN7)))/(AN5+EXP(AN6*(AN4-AJ87))))^AN5)/(1-((AN5+EXP(AN6*(AN4-AN7)))/(AN5+EXP(AN6*(AN4-AN9))))^AN5))","v":0},{"$f":"IF(OR(AJ87<=AN9,AJ87>100000),0,IF(AJ87<=AO7,AO8,AO8+(AO10-AO8)*(1-((AO5+EXP(AO6*(AO4-AO7)))/(AO5+EXP(AO6*(AO4-AJ87))))^AO5)/(1-((AO5+EXP(AO6*(AO4-AO7)))/(AO5+EXP(AO6*(AO4-AO9))))^AO5)))","v":0},0,0]
[77,{"$f":"'daily uptake'!F171","v":"2011-01-16"},{"$f":"5/9*'daily uptake'!Q171","v":9.7222222222222232},{"$f":"5/9*'daily uptake'!N171","v":0.55555555555555558},{"$f":"IF(AND($A88>='daily uptake'!$C$9,$A88<='daily uptake'!$C$10),$C88+E87,0)","v":717.22222222222206},{"$f":"IF(AND($A88>='daily uptake'!$C$18,$A88<='daily uptake'!$C$20),$D88+F87,0)","v":0},{"$f":"IF(AND($A88>='daily uptake'!$C$24,$A88<='daily uptake'!$C$25),$C88+G87,0)","v":0},{"$f":"IF(OR(F88<=I7,F88>I9),0,I8+(I10-I8)*(1-((I5+EXP(I6*(I4-I7)))/(I5+EXP(I6*(I4-F88))))^I5)/(1-((I5+EXP(I6*(I4-I7)))/(I5+EXP(I6*(I4-I9))))^I5))","v":0},{"$f":"IF(OR(F88<=J7,F88>J9),0,J8+(J10-J8)*(1-((J5+EXP(J6*(J4-J7)))/(J5+EXP(J6*(J4-F88))))^J5)/(1-((J5+EXP(J6*(J4-J7)))/(J5+EXP(J6*(J4-J9))))^J5))","v":0},{"$f":"IF(OR(F88<=J9,F88>100000),0,IF(F88<=K7,K8,K8+(K10-K8)*(1-((K5+EXP(K6*(K4-K7)))/(K5+EXP(K6*(K4-F88))))^K5)/(1-((K5+EXP(K6*(K4-K7)))/(K5+EXP(K6*(K4-K9))))^K5)))","v":0},0,0,36.309309173985881,0,"2011-01-16",{"$f":"MAX(L$12:L88)+MAX(M$12:M88)+MAX(N$12:N88)","v":36.309309173985881},"2011-01-16",0.7749411282421832,null,null,null,null,null,null,null,null,null,null,null,null,null,null,null,null,null,0,null,{"$f":"IF(OR(AJ88<=AM7,AJ88>AM9),0,AM8+(AM10-AM8)*(1-((AM5+EXP(AM6*(AM4-AM7)))/(AM5+EXP(AM6*(AM4-AJ88))))^AM5)/(1-((AM5+EXP(AM6*(AM4-AM7)))/(AM5+EXP(AM6*(AM4-AM9))))^AM5))","v":0},{"$f":"IF(OR(AJ88<=AN7,AJ88>AN9),0,AN8+(AN10-AN8)*(1-((AN5+EXP(AN6*(AN4-AN7)))/(AN5+EXP(AN6*(AN4-AJ88))))^AN5)/(1-((AN5+EXP(AN6*(AN4-AN7)))/(AN5+EXP(AN6*(AN4-AN9))))^AN5))","v":0},{"$f":"IF(OR(AJ88<=AN9,AJ88>100000),0,IF(AJ88<=AO7,AO8,AO8+(AO10-AO8)*(1-((AO5+EXP(AO6*(AO4-AO7)))/(AO5+EXP(AO6*(AO4-AJ88))))^AO5)/(1-((AO5+EXP(AO6*(AO4-AO7)))/(AO5+EXP(AO6*(AO4-AO9))))^AO5)))","v":0},0,0]
[78,{"$f":"'daily uptake'!F172","v":"2011-01-17"},{"$f":"5/9*'daily uptake'!Q172","v":9.4444444444444446},{"$f":"5/9*'daily uptake'!N172","v":0},{"$f":"IF(AND($A89>='daily uptake'!$C$9,$A89<='daily uptake'!$C$10),$C89+E88,0)","v":726.66666666666652},{"$f":"IF(AND($A89>='daily uptake'!$C$18,$A89<='daily uptake'!$C$20),$D89+F88,0)","v":0},{"$f":"IF(AND($A89>='daily uptake'!$C$24,$A89<='daily uptake'!$C$25),$C89+G88,0)","v":0},{"$f":"IF(OR(F89<=I7,F89>I9),0,I8+(I10-I8)*(1-((I5+EXP(I6*(I4-I7)))/(I5+EXP(I6*(I4-F89))))^I5)/(1-((I5+EXP(I6*(I4-I7)))/(I5+EXP(I6*(I4-I9))))^I5))","v":0},{"$f":"IF(OR(F89<=J7,F89>J9),0,J8+(J10-J8)*(1-((J5+EXP(J6*(J4-J7)))/(J5+EXP(J6*(J4-F89))))^J5)/(1-((J5+EXP(J6*(J4-J7)))/(J5+EXP(J6*(J4-J9))))^J5))","v":0},{"$f":"IF(OR(F89<=J9,F89>100000),0,IF(F89<=K7,K8,K8+(K10-K8)*(1-((K5+EXP(K6*(K4-K7)))/(K5+EXP(K6*(K4-F89))))^K5)/(1-((K5+EXP(K6*(K4-K7)))/(K5+EXP(K6*(K4-K9))))^K5)))","v":0},0,0,37.070479690909174,0,"2011-01-17",{"$f":"MAX(L$12:L89)+MAX(M$12:M89)+MAX(N$12:N89)","v":37.070479690909174},"2011-01-17",0.76117051692329341,null,null,null,null,null,null,null,null,null,null,null,null,null,null,null,null,null,0,null,{"$f":"IF(OR(AJ89<=AM7,AJ89>AM9),0,AM8+(AM10-AM8)*(1-((AM5+EXP(AM6*(AM4-AM7)))/(AM5+EXP(AM6*(AM4-AJ89))))^AM5)/(1-((AM5+EXP(AM6*(AM4-AM7)))/(AM5+EXP(AM6*(AM4-AM9))))^AM5))","v":0},{"$f":"IF(OR(AJ89<=AN7,AJ89>AN9),0,AN8+(AN10-AN8)*(1-((AN5+EXP(AN6*(AN4-AN7)))/(AN5+EXP(AN6*(AN4-AJ89))))^AN5)/(1-((AN5+EXP(AN6*(AN4-AN7)))/(AN5+EXP(AN6*(AN4-AN9))))^AN5))","v":0},{"$f":"IF(OR(AJ89<=AN9,AJ89>100000),0,IF(AJ89<=AO7,AO8,AO8+(AO10-AO8)*(1-((AO5+EXP(AO6*(AO4-AO7)))/(AO5+EXP(AO6*(AO4-AJ89))))^AO5)/(1-((AO5+EXP(AO6*(AO4-AO7)))/(AO5+EXP(AO6*(AO4-AO9))))^AO5)))","v":0},0,0]
[79,{"$f":"'daily uptake'!F173","v":"2011-01-18"},{"$f":"5/9*'daily uptake'!Q173","v":10},{"$f":"5/9*'daily uptake'!N173","v":2.2222222222222223},{"$f":"IF(AND($A90>='daily uptake'!$C$9,$A90<='daily uptake'!$C$10),$C90+E89,0)","v":736.66666666666652},{"$f":"IF(AND($A90>='daily uptake'!$C$18,$A90<='daily uptake'!$C$20),$D90+F89,0)","v":0},{"$f":"IF(AND($A90>='daily uptake'!$C$24,$A90<='daily uptake'!$C$25),$C90+G89,0)","v":0},{"$f":"IF(OR(F90<=I7,F90>I9),0,I8+(I10-I8)*(1-((I5+EXP(I6*(I4-I7)))/(I5+EXP(I6*(I4-F90))))^I5)/(1-((I5+EXP(I6*(I4-I7)))/(I5+EXP(I6*(I4-I9))))^I5))","v":0},{"$f":"IF(OR(F90<=J7,F90>J9),0,J8+(J10-J8)*(1-((J5+EXP(J6*(J4-J7)))/(J5+EXP(J6*(J4-F90))))^J5)/(1-((J5+EXP(J6*(J4-J7)))/(J5+EXP(J6*(J4-J9))))^J5))","v":0},{"$f":"IF(OR(F90<=J9,F90>100000),0,IF(F90<=K7,K8,K8+(K10-K8)*(1-((K5+EXP(K6*(K4-K7)))/(K5+EXP(K6*(K4-F90))))^K5)/(1-((K5+EXP(K6*(K4-K7)))/(K5+EXP(K6*(K4-K9))))^K5)))","v":0},0,0,37.885412459037347,0,"2011-01-18",{"$f":"MAX(L$12:L90)+MAX(M$12:M90)+MAX(N$12:N90)","v":37.885412459037347},"2011-01-18",0.81493276812817328,null,null,null,null,null,null,null,null,null,null,null,null,null,null,null,null,null,0,null,{"$f":"IF(OR(AJ90<=AM7,AJ90>AM9),0,AM8+(AM10-AM8)*(1-((AM5+EXP(AM6*(AM4-AM7)))/(AM5+EXP(AM6*(AM4-AJ90))))^AM5)/(1-((AM5+EXP(AM6*(AM4-AM7)))/(AM5+EXP(AM6*(AM4-AM9))))^AM5))","v":0},{"$f":"IF(OR(AJ90<=AN7,AJ90>AN9),0,AN8+(AN10-AN8)*(1-((AN5+EXP(AN6*(AN4-AN7)))/(AN5+EXP(AN6*(AN4-AJ90))))^AN5)/(1-((AN5+EXP(AN6*(AN4-AN7)))/(AN5+EXP(AN6*(AN4-AN9))))^AN5))","v":0},{"$f":"IF(OR(AJ90<=AN9,AJ90>100000),0,IF(AJ90<=AO7,AO8,AO8+(AO10-AO8)*(1-((AO5+EXP(AO6*(AO4-AO7)))/(AO5+EXP(AO6*(AO4-AJ90))))^AO5)/(1-((AO5+EXP(AO6*(AO4-AO7)))/(AO5+EXP(AO6*(AO4-AO9))))^AO5)))","v":0},0,0]
[80,{"$f":"'daily uptake'!F174","v":"2011-01-19"},{"$f":"5/9*'daily uptake'!Q174","v":6.666666666666667},{"$f":"5/9*'daily uptake'!N174","v":0.55555555555555558},{"$f":"IF(AND($A91>='daily uptake'!$C$9,$A91<='daily uptake'!$C$10),$C91+E90,0)","v":743.33333333333314},{"$f":"IF(AND($A91>='daily uptake'!$C$18,$A91<='daily uptake'!$C$20),$D91+F90,0)","v":0},{"$f":"IF(AND($A91>='daily uptake'!$C$24,$A91<='daily uptake'!$C$25),$C91+G90,0)","v":0},{"$f":"IF(OR(F91<=I7,F91>I9),0,I8+(I10-I8)*(1-((I5+EXP(I6*(I4-I7)))/(I5+EXP(I6*(I4-F91))))^I5)/(1-((I5+EXP(I6*(I4-I7)))/(I5+EXP(I6*(I4-I9))))^I5))","v":0},{"$f":"IF(OR(F91<=J7,F91>J9),0,J8+(J10-J8)*(1-((J5+EXP(J6*(J4-J7)))/(J5+EXP(J6*(J4-F91))))^J5)/(1-((J5+EXP(J6*(J4-J7)))/(J5+EXP(J6*(J4-J9))))^J5))","v":0},{"$f":"IF(OR(F91<=J9,F91>100000),0,IF(F91<=K7,K8,K8+(K10-K8)*(1-((K5+EXP(K6*(K4-K7)))/(K5+EXP(K6*(K4-F91))))^K5)/(1-((K5+EXP(K6*(K4-K7)))/(K5+EXP(K6*(K4-K9))))^K5)))","v":0},0,0,38.433833090176911,0,"2011-01-19",{"$f":"MAX(L$12:L91)+MAX(M$12:M91)+MAX(N$12:N91)","v":38.433833090176911},"2011-01-19",0.54842063113956385,null,null,null,null,null,null,null,null,null,null,null,null,null,null,null,null,null,0,null,{"$f":"IF(OR(AJ91<=AM7,AJ91>AM9),0,AM8+(AM10-AM8)*(1-((AM5+EXP(AM6*(AM4-AM7)))/(AM5+EXP(AM6*(AM4-AJ91))))^AM5)/(1-((AM5+EXP(AM6*(AM4-AM7)))/(AM5+EXP(AM6*(AM4-AM9))))^AM5))","v":0},{"$f":"IF(OR(AJ91<=AN7,AJ91>AN9),0,AN8+(AN10-AN8)*(1-((AN5+EXP(AN6*(AN4-AN7)))/(AN5+EXP(AN6*(AN4-AJ91))))^AN5)/(1-((AN5+EXP(AN6*(AN4-AN7)))/(AN5+EXP(AN6*(AN4-AN9))))^AN5))","v":0},{"$f":"IF(OR(AJ91<=AN9,AJ91>100000),0,IF(AJ91<=AO7,AO8,AO8+(AO10-AO8)*(1-((AO5+EXP(AO6*(AO4-AO7)))/(AO5+EXP(AO6*(AO4-AJ91))))^AO5)/(1-((AO5+EXP(AO6*(AO4-AO7)))/(AO5+EXP(AO6*(AO4-AO9))))^AO5)))","v":0},0,0]
[81,{"$f":"'daily uptake'!F175","v":"2011-01-20"},{"$f":"5/9*'daily uptake'!Q175","v":7.7777777777777786},{"$f":"5/9*'daily uptake'!N175","v":2.7777777777777777},{"$f":"IF(AND($A92>='daily uptake'!$C$9,$A92<='daily uptake'!$C$10),$C92+E91,0)","v":751.11111111111097},{"$f":"IF(AND($A92>='daily uptake'!$C$18,$A92<='daily uptake'!$C$20),$D92+F91,0)","v":0},{"$f":"IF(AND($A92>='daily uptake'!$C$24,$A92<='daily uptake'!$C$25),$C92+G91,0)","v":0},{"$f":"IF(OR(F92<=I7,F92>I9),0,I8+(I10-I8)*(1-((I5+EXP(I6*(I4-I7)))/(I5+EXP(I6*(I4-F92))))^I5)/(1-((I5+EXP(I6*(I4-I7)))/(I5+EXP(I6*(I4-I9))))^I5))","v":0},{"$f":"IF(OR(F92<=J7,F92>J9),0,J8+(J10-J8)*(1-((J5+EXP(J6*(J4-J7)))/(J5+EXP(J6*(J4-F92))))^J5)/(1-((J5+EXP(J6*(J4-J7)))/(J5+EXP(J6*(J4-J9))))^J5))","v":0},{"$f":"IF(OR(F92<=J9,F92>100000),0,IF(F92<=K7,K8,K8+(K10-K8)*(1-((K5+EXP(K6*(K4-K7)))/(K5+EXP(K6*(K4-F92))))^K5)/(1-((K5+EXP(K6*(K4-K7)))/(K5+EXP(K6*(K4-K9))))^K5)))","v":0},0,0,39.078841419203641,0,"2011-01-20",{"$f":"MAX(L$12:L92)+MAX(M$12:M92)+MAX(N$12:N92)","v":39.078841419203641},"2011-01-20",0.64500832902673011,null,null,null,null,null,null,null,null,null,null,null,null,null,null,null,null,null,0,null,{"$f":"IF(OR(AJ92<=AM7,AJ92>AM9),0,AM8+(AM10-AM8)*(1-((AM5+EXP(AM6*(AM4-AM7)))/(AM5+EXP(AM6*(AM4-AJ92))))^AM5)/(1-((AM5+EXP(AM6*(AM4-AM7)))/(AM5+EXP(AM6*(AM4-AM9))))^AM5))","v":0},{"$f":"IF(OR(AJ92<=AN7,AJ92>AN9),0,AN8+(AN10-AN8)*(1-((AN5+EXP(AN6*(AN4-AN7)))/(AN5+EXP(AN6*(AN4-AJ92))))^AN5)/(1-((AN5+EXP(AN6*(AN4-AN7)))/(AN5+EXP(AN6*(AN4-AN9))))^AN5))","v":0},{"$f":"IF(OR(AJ92<=AN9,AJ92>100000),0,IF(AJ92<=AO7,AO8,AO8+(AO10-AO8)*(1-((AO5+EXP(AO6*(AO4-AO7)))/(AO5+EXP(AO6*(AO4-AJ92))))^AO5)/(1-((AO5+EXP(AO6*(AO4-AO7)))/(AO5+EXP(AO6*(AO4-AO9))))^AO5)))","v":0},0,0]
[82,{"$f":"'daily uptake'!F176","v":"2011-01-21"},{"$f":"5/9*'daily uptake'!Q176","v":8.3333333333333339},{"$f":"5/9*'daily uptake'!N176","v":3.0555555555555558},{"$f":"IF(AND($A93>='daily uptake'!$C$9,$A93<='daily uptake'!$C$10),$C93+E92,0)","v":759.44444444444434},{"$f":"IF(AND($A93>='daily uptake'!$C$18,$A93<='daily uptake'!$C$20),$D93+F92,0)","v":0},{"$f":"IF(AND($A93>='daily uptake'!$C$24,$A93<='daily uptake'!$C$25),$C93+G92,0)","v":0},{"$f":"IF(OR(F93<=I7,F93>I9),0,I8+(I10-I8)*(1-((I5+EXP(I6*(I4-I7)))/(I5+EXP(I6*(I4-F93))))^I5)/(1-((I5+EXP(I6*(I4-I7)))/(I5+EXP(I6*(I4-I9))))^I5))","v":0},{"$f":"IF(OR(F93<=J7,F93>J9),0,J8+(J10-J8)*(1-((J5+EXP(J6*(J4-J7)))/(J5+EXP(J6*(J4-F93))))^J5)/(1-((J5+EXP(J6*(J4-J7)))/(J5+EXP(J6*(J4-J9))))^J5))","v":0},{"$f":"IF(OR(F93<=J9,F93>100000),0,IF(F93<=K7,K8,K8+(K10-K8)*(1-((K5+EXP(K6*(K4-K7)))/(K5+EXP(K6*(K4-F93))))^K5)/(1-((K5+EXP(K6*(K4-K7)))/(K5+EXP(K6*(K4-K9))))^K5)))","v":0},0,0,39.776110198473688,0,"2011-01-21",{"$f":"MAX(L$12:L93)+MAX(M$12:M93)+MAX(N$12:N93)","v":39.776110198473688},"2011-01-21",0.69726877927004693,null,null,null,null,null,null,null,null,null,null,null,null,null,null,null,null,null,0,null,{"$f":"IF(OR(AJ93<=AM7,AJ93>AM9),0,AM8+(AM10-AM8)*(1-((AM5+EXP(AM6*(AM4-AM7)))/(AM5+EXP(AM6*(AM4-AJ93))))^AM5)/(1-((AM5+EXP(AM6*(AM4-AM7)))/(AM5+EXP(AM6*(AM4-AM9))))^AM5))","v":0},{"$f":"IF(OR(AJ93<=AN7,AJ93>AN9),0,AN8+(AN10-AN8)*(1-((AN5+EXP(AN6*(AN4-AN7)))/(AN5+EXP(AN6*(AN4-AJ93))))^AN5)/(1-((AN5+EXP(AN6*(AN4-AN7)))/(AN5+EXP(AN6*(AN4-AN9))))^AN5))","v":0},{"$f":"IF(OR(AJ93<=AN9,AJ93>100000),0,IF(AJ93<=AO7,AO8,AO8+(AO10-AO8)*(1-((AO5+EXP(AO6*(AO4-AO7)))/(AO5+EXP(AO6*(AO4-AJ93))))^AO5)/(1-((AO5+EXP(AO6*(AO4-AO7)))/(AO5+EXP(AO6*(AO4-AO9))))^AO5)))","v":0},0,0]
[83,{"$f":"'daily uptake'!F177","v":"2011-01-22"},{"$f":"5/9*'daily uptake'!Q177","v":7.2222222222222223},{"$f":"5/9*'daily uptake'!N177","v":1.3888888888888888},{"$f":"IF(AND($A94>='daily uptake'!$C$9,$A94<='daily uptake'!$C$10),$C94+E93,0)","v":766.66666666666652},{"$f":"IF(AND($A94>='daily uptake'!$C$18,$A94<='daily uptake'!$C$20),$D94+F93,0)","v":0},{"$f":"IF(AND($A94>='daily uptake'!$C$24,$A94<='daily uptake'!$C$25),$C94+G93,0)","v":0},{"$f":"IF(OR(F94<=I7,F94>I9),0,I8+(I10-I8)*(1-((I5+EXP(I6*(I4-I7)))/(I5+EXP(I6*(I4-F94))))^I5)/(1-((I5+EXP(I6*(I4-I7)))/(I5+EXP(I6*(I4-I9))))^I5))","v":0},{"$f":"IF(OR(F94<=J7,F94>J9),0,J8+(J10-J8)*(1-((J5+EXP(J6*(J4-J7)))/(J5+EXP(J6*(J4-F94))))^J5)/(1-((J5+EXP(J6*(J4-J7)))/(J5+EXP(J6*(J4-J9))))^J5))","v":0},{"$f":"IF(OR(F94<=J9,F94>100000),0,IF(F94<=K7,K8,K8+(K10-K8)*(1-((K5+EXP(K6*(K4-K7)))/(K5+EXP(K6*(K4-F94))))^K5)/(1-((K5+EXP(K6*(K4-K7)))/(K5+EXP(K6*(K4-K9))))^K5)))","v":0},0,0,40.385580846185242,0,"2011-01-22",{"$f":"MAX(L$12:L94)+MAX(M$12:M94)+MAX(N$12:N94)","v":40.385580846185242},"2011-01-22",0.60947064771155368,null,null,null,null,null,null,null,null,null,null,null,null,null,null,null,null,null,0,null,{"$f":"IF(OR(AJ94<=AM7,AJ94>AM9),0,AM8+(AM10-AM8)*(1-((AM5+EXP(AM6*(AM4-AM7)))/(AM5+EXP(AM6*(AM4-AJ94))))^AM5)/(1-((AM5+EXP(AM6*(AM4-AM7)))/(AM5+EXP(AM6*(AM4-AM9))))^AM5))","v":0},{"$f":"IF(OR(AJ94<=AN7,AJ94>AN9),0,AN8+(AN10-AN8)*(1-((AN5+EXP(AN6*(AN4-AN7)))/(AN5+EXP(AN6*(AN4-AJ94))))^AN5)/(1-((AN5+EXP(AN6*(AN4-AN7)))/(AN5+EXP(AN6*(AN4-AN9))))^AN5))","v":0},{"$f":"IF(OR(AJ94<=AN9,AJ94>100000),0,IF(AJ94<=AO7,AO8,AO8+(AO10-AO8)*(1-((AO5+EXP(AO6*(AO4-AO7)))/(AO5+EXP(AO6*(AO4-AJ94))))^AO5)/(1-((AO5+EXP(AO6*(AO4-AO7)))/(AO5+EXP(AO6*(AO4-AO9))))^AO5)))","v":0},0,0]
[84,{"$f":"'daily uptake'!F178","v":"2011-01-23"},{"$f":"5/9*'daily uptake'!Q178","v":7.7777777777777786},{"$f":"5/9*'daily uptake'!N178","v":1.3888888888888888},{"$f":"IF(AND($A95>='daily uptake'!$C$9,$A95<='daily uptake'!$C$10),$C95+E94,0)","v":774.44444444444434},{"$f":"IF(AND($A95>='daily uptake'!$C$18,$A95<='daily uptake'!$C$20),$D95+F94,0)","v":0},{"$f":"IF(AND($A95>='daily uptake'!$C$24,$A95<='daily uptake'!$C$25),$C95+G94,0)","v":0},{"$f":"IF(OR(F95<=I7,F95>I9),0,I8+(I10-I8)*(1-((I5+EXP(I6*(I4-I7)))/(I5+EXP(I6*(I4-F95))))^I5)/(1-((I5+EXP(I6*(I4-I7)))/(I5+EXP(I6*(I4-I9))))^I5))","v":0},{"$f":"IF(OR(F95<=J7,F95>J9),0,J8+(J10-J8)*(1-((J5+EXP(J6*(J4-J7)))/(J5+EXP(J6*(J4-F95))))^J5)/(1-((J5+EXP(J6*(J4-J7)))/(J5+EXP(J6*(J4-J9))))^J5))","v":0},{"$f":"IF(OR(F95<=J9,F95>100000),0,IF(F95<=K7,K8,K8+(K10-K8)*(1-((K5+EXP(K6*(K4-K7)))/(K5+EXP(K6*(K4-F95))))^K5)/(1-((K5+EXP(K6*(K4-K7)))/(K5+EXP(K6*(K4-K9))))^K5)))","v":0},0,0,41.047294774882097,0,"2011-01-23",{"$f":"MAX(L$12:L95)+MAX(M$12:M95)+MAX(N$12:N95)","v":41.047294774882097},"2011-01-23",0.66171392869685519,null,null,null,null,null,null,null,null,null,null,null,null,null,null,null,null,null,0,null,{"$f":"IF(OR(AJ95<=AM7,AJ95>AM9),0,AM8+(AM10-AM8)*(1-((AM5+EXP(AM6*(AM4-AM7)))/(AM5+EXP(AM6*(AM4-AJ95))))^AM5)/(1-((AM5+EXP(AM6*(AM4-AM7)))/(AM5+EXP(AM6*(AM4-AM9))))^AM5))","v":0},{"$f":"IF(OR(AJ95<=AN7,AJ95>AN9),0,AN8+(AN10-AN8)*(1-((AN5+EXP(AN6*(AN4-AN7)))/(AN5+EXP(AN6*(AN4-AJ95))))^AN5)/(1-((AN5+EXP(AN6*(AN4-AN7)))/(AN5+EXP(AN6*(AN4-AN9))))^AN5))","v":0},{"$f":"IF(OR(AJ95<=AN9,AJ95>100000),0,IF(AJ95<=AO7,AO8,AO8+(AO10-AO8)*(1-((AO5+EXP(AO6*(AO4-AO7)))/(AO5+EXP(AO6*(AO4-AJ95))))^AO5)/(1-((AO5+EXP(AO6*(AO4-AO7)))/(AO5+EXP(AO6*(AO4-AO9))))^AO5)))","v":0},0,0]
[85,{"$f":"'daily uptake'!F179","v":"2011-01-24"},{"$f":"5/9*'daily uptake'!Q179","v":9.7222222222222232},{"$f":"5/9*'daily uptake'!N179","v":3.3333333333333335},{"$f":"IF(AND($A96>='daily uptake'!$C$9,$A96<='daily uptake'!$C$10),$C96+E95,0)","v":784.16666666666652},{"$f":"IF(AND($A96>='daily uptake'!$C$18,$A96<='daily uptake'!$C$20),$D96+F95,0)","v":0},{"$f":"IF(AND($A96>='daily uptake'!$C$24,$A96<='daily uptake'!$C$25),$C96+G95,0)","v":0},{"$f":"IF(OR(F96<=I7,F96>I9),0,I8+(I10-I8)*(1-((I5+EXP(I6*(I4-I7)))/(I5+EXP(I6*(I4-F96))))^I5)/(1-((I5+EXP(I6*(I4-I7)))/(I5+EXP(I6*(I4-I9))))^I5))","v":0},{"$f":"IF(OR(F96<=J7,F96>J9),0,J8+(J10-J8)*(1-((J5+EXP(J6*(J4-J7)))/(J5+EXP(J6*(J4-F96))))^J5)/(1-((J5+EXP(J6*(J4-J7)))/(J5+EXP(J6*(J4-J9))))^J5))","v":0},{"$f":"IF(OR(F96<=J9,F96>100000),0,IF(F96<=K7,K8,K8+(K10-K8)*(1-((K5+EXP(K6*(K4-K7)))/(K5+EXP(K6*(K4-F96))))^K5)/(1-((K5+EXP(K6*(K4-K7)))/(K5+EXP(K6*(K4-K9))))^K5)))","v":0},0,0,41.88223896601599,0,"2011-01-24",{"$f":"MAX(L$12:L96)+MAX(M$12:M96)+MAX(N$12:N96)","v":41.88223896601599},"2011-01-24",0.83494419113389284,null,null,null,null,null,null,null,null,null,null,null,null,null,null,null,null,null,0,null,{"$f":"IF(OR(AJ96<=AM7,AJ96>AM9),0,AM8+(AM10-AM8)*(1-((AM5+EXP(AM6*(AM4-AM7)))/(AM5+EXP(AM6*(AM4-AJ96))))^AM5)/(1-((AM5+EXP(AM6*(AM4-AM7)))/(AM5+EXP(AM6*(AM4-AM9))))^AM5))","v":0},{"$f":"IF(OR(AJ96<=AN7,AJ96>AN9),0,AN8+(AN10-AN8)*(1-((AN5+EXP(AN6*(AN4-AN7)))/(AN5+EXP(AN6*(AN4-AJ96))))^AN5)/(1-((AN5+EXP(AN6*(AN4-AN7)))/(AN5+EXP(AN6*(AN4-AN9))))^AN5))","v":0},{"$f":"IF(OR(AJ96<=AN9,AJ96>100000),0,IF(AJ96<=AO7,AO8,AO8+(AO10-AO8)*(1-((AO5+EXP(AO6*(AO4-AO7)))/(AO5+EXP(AO6*(AO4-AJ96))))^AO5)/(1-((AO5+EXP(AO6*(AO4-AO7)))/(AO5+EXP(AO6*(AO4-AO9))))^AO5)))","v":0},0,0]
[86,{"$f":"'daily uptake'!F180","v":"2011-01-25"},{"$f":"5/9*'daily uptake'!Q180","v":7.2222222222222223},{"$f":"5/9*'daily uptake'!N180","v":0},{"$f":"IF(AND($A97>='daily uptake'!$C$9,$A97<='daily uptake'!$C$10),$C97+E96,0)","v":791.38888888888869},{"$f":"IF(AND($A97>='daily uptake'!$C$18,$A97<='daily uptake'!$C$20),$D97+F96,0)","v":0},{"$f":"IF(AND($A97>='daily uptake'!$C$24,$A97<='daily uptake'!$C$25),$C97+G96,0)","v":0},{"$f":"IF(OR(F97<=I7,F97>I9),0,I8+(I10-I8)*(1-((I5+EXP(I6*(I4-I7)))/(I5+EXP(I6*(I4-F97))))^I5)/(1-((I5+EXP(I6*(I4-I7)))/(I5+EXP(I6*(I4-I9))))^I5))","v":0},{"$f":"IF(OR(F97<=J7,F97>J9),0,J8+(J10-J8)*(1-((J5+EXP(J6*(J4-J7)))/(J5+EXP(J6*(J4-F97))))^J5)/(1-((J5+EXP(J6*(J4-J7)))/(J5+EXP(J6*(J4-J9))))^J5))","v":0},{"$f":"IF(OR(F97<=J9,F97>100000),0,IF(F97<=K7,K8,K8+(K10-K8)*(1-((K5+EXP(K6*(K4-K7)))/(K5+EXP(K6*(K4-F97))))^K5)/(1-((K5+EXP(K6*(K4-K7)))/(K5+EXP(K6*(K4-K9))))^K5)))","v":0},0,0,42.508081531182661,0,"2011-01-25",{"$f":"MAX(L$12:L97)+MAX(M$12:M97)+MAX(N$12:N97)","v":42.508081531182661},"2011-01-25",0.62584256516667125,null,null,null,null,null,null,null,null,null,null,null,null,null,null,null,null,null,0,null,{"$f":"IF(OR(AJ97<=AM7,AJ97>AM9),0,AM8+(AM10-AM8)*(1-((AM5+EXP(AM6*(AM4-AM7)))/(AM5+EXP(AM6*(AM4-AJ97))))^AM5)/(1-((AM5+EXP(AM6*(AM4-AM7)))/(AM5+EXP(AM6*(AM4-AM9))))^AM5))","v":0},{"$f":"IF(OR(AJ97<=AN7,AJ97>AN9),0,AN8+(AN10-AN8)*(1-((AN5+EXP(AN6*(AN4-AN7)))/(AN5+EXP(AN6*(AN4-AJ97))))^AN5)/(1-((AN5+EXP(AN6*(AN4-AN7)))/(AN5+EXP(AN6*(AN4-AN9))))^AN5))","v":0},{"$f":"IF(OR(AJ97<=AN9,AJ97>100000),0,IF(AJ97<=AO7,AO8,AO8+(AO10-AO8)*(1-((AO5+EXP(AO6*(AO4-AO7)))/(AO5+EXP(AO6*(AO4-AJ97))))^AO5)/(1-((AO5+EXP(AO6*(AO4-AO7)))/(AO5+EXP(AO6*(AO4-AO9))))^AO5)))","v":0},0,0]
[87,{"$f":"'daily uptake'!F181","v":"2011-01-26"},{"$f":"5/9*'daily uptake'!Q181","v":6.9444444444444446},{"$f":"5/9*'daily uptake'!N181","v":0},{"$f":"IF(AND($A98>='daily uptake'!$C$9,$A98<='daily uptake'!$C$10),$C98+E97,0)","v":798.33333333333314},{"$f":"IF(AND($A98>='daily uptake'!$C$18,$A98<='daily uptake'!$C$20),$D98+F97,0)","v":0},{"$f":"IF(AND($A98>='daily uptake'!$C$24,$A98<='daily uptake'!$C$25),$C98+G97,0)","v":0},{"$f":"IF(OR(F98<=I7,F98>I9),0,I8+(I10-I8)*(1-((I5+EXP(I6*(I4-I7)))/(I5+EXP(I6*(I4-F98))))^I5)/(1-((I5+EXP(I6*(I4-I7)))/(I5+EXP(I6*(I4-I9))))^I5))","v":0},{"$f":"IF(OR(F98<=J7,F98>J9),0,J8+(J10-J8)*(1-((J5+EXP(J6*(J4-J7)))/(J5+EXP(J6*(J4-F98))))^J5)/(1-((J5+EXP(J6*(J4-J7)))/(J5+EXP(J6*(J4-J9))))^J5))","v":0},{"$f":"IF(OR(F98<=J9,F98>100000),0,IF(F98<=K7,K8,K8+(K10-K8)*(1-((K5+EXP(K6*(K4-K7)))/(K5+EXP(K6*(K4-F98))))^K5)/(1-((K5+EXP(K6*(K4-K7)))/(K5+EXP(K6*(K4-K9))))^K5)))","v":0},0,0,43.114342145917767,0,"2011-01-26",{"$f":"MAX(L$12:L98)+MAX(M$12:M98)+MAX(N$12:N98)","v":43.114342145917767},"2011-01-26",0.60626061473510617,null,null,null,null,null,null,null,null,null,null,null,null,null,null,null,null,null,0,null,{"$f":"IF(OR(AJ98<=AM7,AJ98>AM9),0,AM8+(AM10-AM8)*(1-((AM5+EXP(AM6*(AM4-AM7)))/(AM5+EXP(AM6*(AM4-AJ98))))^AM5)/(1-((AM5+EXP(AM6*(AM4-AM7)))/(AM5+EXP(AM6*(AM4-AM9))))^AM5))","v":0},{"$f":"IF(OR(AJ98<=AN7,AJ98>AN9),0,AN8+(AN10-AN8)*(1-((AN5+EXP(AN6*(AN4-AN7)))/(AN5+EXP(AN6*(AN4-AJ98))))^AN5)/(1-((AN5+EXP(AN6*(AN4-AN7)))/(AN5+EXP(AN6*(AN4-AN9))))^AN5))","v":0},{"$f":"IF(OR(AJ98<=AN9,AJ98>100000),0,IF(AJ98<=AO7,AO8,AO8+(AO10-AO8)*(1-((AO5+EXP(AO6*(AO4-AO7)))/(AO5+EXP(AO6*(AO4-AJ98))))^AO5)/(1-((AO5+EXP(AO6*(AO4-AO7)))/(AO5+EXP(AO6*(AO4-AO9))))^AO5)))","v":0},0,0]
[88,{"$f":"'daily uptake'!F182","v":"2011-01-27"},{"$f":"5/9*'daily uptake'!Q182","v":6.1111111111111116},{"$f":"5/9*'daily uptake'!N182","v":0},{"$f":"IF(AND($A99>='daily uptake'!$C$9,$A99<='daily uptake'!$C$10),$C99+E98,0)","v":804.44444444444423},{"$f":"IF(AND($A99>='daily uptake'!$C$18,$A99<='daily uptake'!$C$20),$D99+F98,0)","v":0},{"$f":"IF(AND($A99>='daily uptake'!$C$24,$A99<='daily uptake'!$C$25),$C99+G98,0)","v":0},{"$f":"IF(OR(F99<=I7,F99>I9),0,I8+(I10-I8)*(1-((I5+EXP(I6*(I4-I7)))/(I5+EXP(I6*(I4-F99))))^I5)/(1-((I5+EXP(I6*(I4-I7)))/(I5+EXP(I6*(I4-I9))))^I5))","v":0},{"$f":"IF(OR(F99<=J7,F99>J9),0,J8+(J10-J8)*(1-((J5+EXP(J6*(J4-J7)))/(J5+EXP(J6*(J4-F99))))^J5)/(1-((J5+EXP(J6*(J4-J7)))/(J5+EXP(J6*(J4-J9))))^J5))","v":0},{"$f":"IF(OR(F99<=J9,F99>100000),0,IF(F99<=K7,K8,K8+(K10-K8)*(1-((K5+EXP(K6*(K4-K7)))/(K5+EXP(K6*(K4-F99))))^K5)/(1-((K5+EXP(K6*(K4-K7)))/(K5+EXP(K6*(K4-K9))))^K5)))","v":0},0,0,43.651483076038893,0,"2011-01-27",{"$f":"MAX(L$12:L99)+MAX(M$12:M99)+MAX(N$12:N99)","v":43.651483076038893},"2011-01-27",0.53714093012112585,null,null,null,null,null,null,null,null,null,null,null,null,null,null,null,null,null,0,null,{"$f":"IF(OR(AJ99<=AM7,AJ99>AM9),0,AM8+(AM10-AM8)*(1-((AM5+EXP(AM6*(AM4-AM7)))/(AM5+EXP(AM6*(AM4-AJ99))))^AM5)/(1-((AM5+EXP(AM6*(AM4-AM7)))/(AM5+EXP(AM6*(AM4-AM9))))^AM5))","v":0},{"$f":"IF(OR(AJ99<=AN7,AJ99>AN9),0,AN8+(AN10-AN8)*(1-((AN5+EXP(AN6*(AN4-AN7)))/(AN5+EXP(AN6*(AN4-AJ99))))^AN5)/(1-((AN5+EXP(AN6*(AN4-AN7)))/(AN5+EXP(AN6*(AN4-AN9))))^AN5))","v":0},{"$f":"IF(OR(AJ99<=AN9,AJ99>100000),0,IF(AJ99<=AO7,AO8,AO8+(AO10-AO8)*(1-((AO5+EXP(AO6*(AO4-AO7)))/(AO5+EXP(AO6*(AO4-AJ99))))^AO5)/(1-((AO5+EXP(AO6*(AO4-AO7)))/(AO5+EXP(AO6*(AO4-AO9))))^AO5)))","v":0},0,0]
[89,{"$f":"'daily uptake'!F183","v":"2011-01-28"},{"$f":"5/9*'daily uptake'!Q183","v":5.5555555555555554},{"$f":"5/9*'daily uptake'!N183","v":0},{"$f":"IF(AND($A100>='daily uptake'!$C$9,$A100<='daily uptake'!$C$10),$C100+E99,0)","v":809.99999999999977},{"$f":"IF(AND($A100>='daily uptake'!$C$18,$A100<='daily uptake'!$C$20),$D100+F99,0)","v":0},{"$f":"IF(AND($A100>='daily uptake'!$C$24,$A100<='daily uptake'!$C$25),$C100+G99,0)","v":0},{"$f":"IF(OR(F100<=I7,F100>I9),0,I8+(I10-I8)*(1-((I5+EXP(I6*(I4-I7)))/(I5+EXP(I6*(I4-F100))))^I5)/(1-((I5+EXP(I6*(I4-I7)))/(I5+EXP(I6*(I4-I9))))^I5))","v":0},{"$f":"IF(OR(F100<=J7,F100>J9),0,J8+(J10-J8)*(1-((J5+EXP(J6*(J4-J7)))/(J5+EXP(J6*(J4-F100))))^J5)/(1-((J5+EXP(J6*(J4-J7)))/(J5+EXP(J6*(J4-J9))))^J5))","v":0},{"$f":"IF(OR(F100<=J9,F100>100000),0,IF(F100<=K7,K8,K8+(K10-K8)*(1-((K5+EXP(K6*(K4-K7)))/(K5+EXP(K6*(K4-F100))))^K5)/(1-((K5+EXP(K6*(K4-K7)))/(K5+EXP(K6*(K4-K9))))^K5)))","v":0},0,0,44.1427361082415,0,"2011-01-28",{"$f":"MAX(L$12:L100)+MAX(M$12:M100)+MAX(N$12:N100)","v":44.1427361082415},"2011-01-28",0.49125303220260719,null,null,null,null,null,null,null,null,null,null,null,null,null,null,null,null,null,0,null,{"$f":"IF(OR(AJ100<=AM7,AJ100>AM9),0,AM8+(AM10-AM8)*(1-((AM5+EXP(AM6*(AM4-AM7)))/(AM5+EXP(AM6*(AM4-AJ100))))^AM5)/(1-((AM5+EXP(AM6*(AM4-AM7)))/(AM5+EXP(AM6*(AM4-AM9))))^AM5))","v":0},{"$f":"IF(OR(AJ100<=AN7,AJ100>AN9),0,AN8+(AN10-AN8)*(1-((AN5+EXP(AN6*(AN4-AN7)))/(AN5+EXP(AN6*(AN4-AJ100))))^AN5)/(1-((AN5+EXP(AN6*(AN4-AN7)))/(AN5+EXP(AN6*(AN4-AN9))))^AN5))","v":0},{"$f":"IF(OR(AJ100<=AN9,AJ100>100000),0,IF(AJ100<=AO7,AO8,AO8+(AO10-AO8)*(1-((AO5+EXP(AO6*(AO4-AO7)))/(AO5+EXP(AO6*(AO4-AJ100))))^AO5)/(1-((AO5+EXP(AO6*(AO4-AO7)))/(AO5+EXP(AO6*(AO4-AO9))))^AO5)))","v":0},0,0]
[90,{"$f":"'daily uptake'!F184","v":"2011-01-29"},{"$f":"5/9*'daily uptake'!Q184","v":6.1111111111111116},{"$f":"5/9*'daily uptake'!N184","v":0},{"$f":"IF(AND($A101>='daily uptake'!$C$9,$A101<='daily uptake'!$C$10),$C101+E100,0)","v":816.11111111111086},{"$f":"IF(AND($A101>='daily uptake'!$C$18,$A101<='daily uptake'!$C$20),$D101+F100,0)","v":0},{"$f":"IF(AND($A101>='daily uptake'!$C$24,$A101<='daily uptake'!$C$25),$C101+G100,0)","v":0},{"$f":"IF(OR(F101<=I7,F101>I9),0,I8+(I10-I8)*(1-((I5+EXP(I6*(I4-I7)))/(I5+EXP(I6*(I4-F101))))^I5)/(1-((I5+EXP(I6*(I4-I7)))/(I5+EXP(I6*(I4-I9))))^I5))","v":0},{"$f":"IF(OR(F101<=J7,F101>J9),0,J8+(J10-J8)*(1-((J5+EXP(J6*(J4-J7)))/(J5+EXP(J6*(J4-F101))))^J5)/(1-((J5+EXP(J6*(J4-J7)))/(J5+EXP(J6*(J4-J9))))^J5))","v":0},{"$f":"IF(OR(F101<=J9,F101>100000),0,IF(F101<=K7,K8,K8+(K10-K8)*(1-((K5+EXP(K6*(K4-K7)))/(K5+EXP(K6*(K4-F101))))^K5)/(1-((K5+EXP(K6*(K4-K7)))/(K5+EXP(K6*(K4-K9))))^K5)))","v":0},0,0,44.686343804159741,0,"2011-01-29",{"$f":"MAX(L$12:L101)+MAX(M$12:M101)+MAX(N$12:N101)","v":44.686343804159741},"2011-01-29",0.5436076959182401,null,null,null,null,null,null,null,null,null,null,null,null,null,null,null,null,null,0,null,{"$f":"IF(OR(AJ101<=AM7,AJ101>AM9),0,AM8+(AM10-AM8)*(1-((AM5+EXP(AM6*(AM4-AM7)))/(AM5+EXP(AM6*(AM4-AJ101))))^AM5)/(1-((AM5+EXP(AM6*(AM4-AM7)))/(AM5+EXP(AM6*(AM4-AM9))))^AM5))","v":0},{"$f":"IF(OR(AJ101<=AN7,AJ101>AN9),0,AN8+(AN10-AN8)*(1-((AN5+EXP(AN6*(AN4-AN7)))/(AN5+EXP(AN6*(AN4-AJ101))))^AN5)/(1-((AN5+EXP(AN6*(AN4-AN7)))/(AN5+EXP(AN6*(AN4-AN9))))^AN5))","v":0},{"$f":"IF(OR(AJ101<=AN9,AJ101>100000),0,IF(AJ101<=AO7,AO8,AO8+(AO10-AO8)*(1-((AO5+EXP(AO6*(AO4-AO7)))/(AO5+EXP(AO6*(AO4-AJ101))))^AO5)/(1-((AO5+EXP(AO6*(AO4-AO7)))/(AO5+EXP(AO6*(AO4-AO9))))^AO5)))","v":0},0,0]
[91,{"$f":"'daily uptake'!F185","v":"2011-01-30"},{"$f":"5/9*'daily uptake'!Q185","v":9.4444444444444446},{"$f":"5/9*'daily uptake'!N185","v":1.3888888888888888},{"$f":"IF(AND($A102>='daily uptake'!$C$9,$A102<='daily uptake'!$C$10),$C102+E101,0)","v":825.55555555555532},{"$f":"IF(AND($A102>='daily uptake'!$C$18,$A102<='daily uptake'!$C$20),$D102+F101,0)","v":0},{"$f":"IF(AND($A102>='daily uptake'!$C$24,$A102<='daily uptake'!$C$25),$C102+G101,0)","v":0},{"$f":"IF(OR(F102<=I7,F102>I9),0,I8+(I10-I8)*(1-((I5+EXP(I6*(I4-I7)))/(I5+EXP(I6*(I4-F102))))^I5)/(1-((I5+EXP(I6*(I4-I7)))/(I5+EXP(I6*(I4-I9))))^I5))","v":0},{"$f":"IF(OR(F102<=J7,F102>J9),0,J8+(J10-J8)*(1-((J5+EXP(J6*(J4-J7)))/(J5+EXP(J6*(J4-F102))))^J5)/(1-((J5+EXP(J6*(J4-J7)))/(J5+EXP(J6*(J4-J9))))^J5))","v":0},{"$f":"IF(OR(F102<=J9,F102>100000),0,IF(F102<=K7,K8,K8+(K10-K8)*(1-((K5+EXP(K6*(K4-K7)))/(K5+EXP(K6*(K4-F102))))^K5)/(1-((K5+EXP(K6*(K4-K7)))/(K5+EXP(K6*(K4-K9))))^K5)))","v":0},0,0,45.533098045207751,0,"2011-01-30",{"$f":"MAX(L$12:L102)+MAX(M$12:M102)+MAX(N$12:N102)","v":45.533098045207751},"2011-01-30",0.84675424104801067,null,null,null,null,null,null,null,null,null,null,null,null,null,null,null,null,null,0,null,{"$f":"IF(OR(AJ102<=AM7,AJ102>AM9),0,AM8+(AM10-AM8)*(1-((AM5+EXP(AM6*(AM4-AM7)))/(AM5+EXP(AM6*(AM4-AJ102))))^AM5)/(1-((AM5+EXP(AM6*(AM4-AM7)))/(AM5+EXP(AM6*(AM4-AM9))))^AM5))","v":0},{"$f":"IF(OR(AJ102<=AN7,AJ102>AN9),0,AN8+(AN10-AN8)*(1-((AN5+EXP(AN6*(AN4-AN7)))/(AN5+EXP(AN6*(AN4-AJ102))))^AN5)/(1-((AN5+EXP(AN6*(AN4-AN7)))/(AN5+EXP(AN6*(AN4-AN9))))^AN5))","v":0},{"$f":"IF(OR(AJ102<=AN9,AJ102>100000),0,IF(AJ102<=AO7,AO8,AO8+(AO10-AO8)*(1-((AO5+EXP(AO6*(AO4-AO7)))/(AO5+EXP(AO6*(AO4-AJ102))))^AO5)/(1-((AO5+EXP(AO6*(AO4-AO7)))/(AO5+EXP(AO6*(AO4-AO9))))^AO5)))","v":0},0,0]
[92,{"$f":"'daily uptake'!F186","v":"2011-01-31"},{"$f":"5/9*'daily uptake'!Q186","v":7.5},{"$f":"5/9*'daily uptake'!N186","v":1.1111111111111112},{"$f":"IF(AND($A103>='daily uptake'!$C$9,$A103<='daily uptake'!$C$10),$C103+E102,0)","v":833.05555555555532},{"$f":"IF(AND($A103>='daily uptake'!$C$18,$A103<='daily uptake'!$C$20),$D103+F102,0)","v":0},{"$f":"IF(AND($A103>='daily uptake'!$C$24,$A103<='daily uptake'!$C$25),$C103+G102,0)","v":0},{"$f":"IF(OR(F103<=I7,F103>I9),0,I8+(I10-I8)*(1-((I5+EXP(I6*(I4-I7)))/(I5+EXP(I6*(I4-F103))))^I5)/(1-((I5+EXP(I6*(I4-I7)))/(I5+EXP(I6*(I4-I9))))^I5))","v":0},{"$f":"IF(OR(F103<=J7,F103>J9),0,J8+(J10-J8)*(1-((J5+EXP(J6*(J4-J7)))/(J5+EXP(J6*(J4-F103))))^J5)/(1-((J5+EXP(J6*(J4-J7)))/(J5+EXP(J6*(J4-J9))))^J5))","v":0},{"$f":"IF(OR(F103<=J9,F103>100000),0,IF(F103<=K7,K8,K8+(K10-K8)*(1-((K5+EXP(K6*(K4-K7)))/(K5+EXP(K6*(K4-F103))))^K5)/(1-((K5+EXP(K6*(K4-K7)))/(K5+EXP(K6*(K4-K9))))^K5)))","v":0},0,0,46.211236926243352,0,"2011-01-31",{"$f":"MAX(L$12:L103)+MAX(M$12:M103)+MAX(N$12:N103)","v":46.211236926243352},"2011-01-31",0.6781388810356006,null,null,null,null,null,null,null,null,null,null,null,null,null,null,null,null,null,0,null,{"$f":"IF(OR(AJ103<=AM7,AJ103>AM9),0,AM8+(AM10-AM8)*(1-((AM5+EXP(AM6*(AM4-AM7)))/(AM5+EXP(AM6*(AM4-AJ103))))^AM5)/(1-((AM5+EXP(AM6*(AM4-AM7)))/(AM5+EXP(AM6*(AM4-AM9))))^AM5))","v":0},{"$f":"IF(OR(AJ103<=AN7,AJ103>AN9),0,AN8+(AN10-AN8)*(1-((AN5+EXP(AN6*(AN4-AN7)))/(AN5+EXP(AN6*(AN4-AJ103))))^AN5)/(1-((AN5+EXP(AN6*(AN4-AN7)))/(AN5+EXP(AN6*(AN4-AN9))))^AN5))","v":0},{"$f":"IF(OR(AJ103<=AN9,AJ103>100000),0,IF(AJ103<=AO7,AO8,AO8+(AO10-AO8)*(1-((AO5+EXP(AO6*(AO4-AO7)))/(AO5+EXP(AO6*(AO4-AJ103))))^AO5)/(1-((AO5+EXP(AO6*(AO4-AO7)))/(AO5+EXP(AO6*(AO4-AO9))))^AO5)))","v":0},0,0]
[93,{"$f":"'daily uptake'!F187","v":"2011-02-01"},{"$f":"5/9*'daily uptake'!Q187","v":6.3888888888888893},{"$f":"5/9*'daily uptake'!N187","v":1.3888888888888888},{"$f":"IF(AND($A104>='daily uptake'!$C$9,$A104<='daily uptake'!$C$10),$C104+E103,0)","v":839.44444444444423},{"$f":"IF(AND($A104>='daily uptake'!$C$18,$A104<='daily uptake'!$C$20),$D104+F103,0)","v":0},{"$f":"IF(AND($A104>='daily uptake'!$C$24,$A104<='daily uptake'!$C$25),$C104+G103,0)","v":0},{"$f":"IF(OR(F104<=I7,F104>I9),0,I8+(I10-I8)*(1-((I5+EXP(I6*(I4-I7)))/(I5+EXP(I6*(I4-F104))))^I5)/(1-((I5+EXP(I6*(I4-I7)))/(I5+EXP(I6*(I4-I9))))^I5))","v":0},{"$f":"IF(OR(F104<=J7,F104>J9),0,J8+(J10-J8)*(1-((J5+EXP(J6*(J4-J7)))/(J5+EXP(J6*(J4-F104))))^J5)/(1-((J5+EXP(J6*(J4-J7)))/(J5+EXP(J6*(J4-J9))))^J5))","v":0},{"$f":"IF(OR(F104<=J9,F104>100000),0,IF(F104<=K7,K8,K8+(K10-K8)*(1-((K5+EXP(K6*(K4-K7)))/(K5+EXP(K6*(K4-F104))))^K5)/(1-((K5+EXP(K6*(K4-K7)))/(K5+EXP(K6*(K4-K9))))^K5)))","v":0},0,0,46.792885900773982,0,"2011-02-01",{"$f":"MAX(L$12:L104)+MAX(M$12:M104)+MAX(N$12:N104)","v":46.792885900773982},"2011-02-01",0.58164897453062991,null,null,null,null,null,null,null,null,null,null,null,null,null,null,null,null,null,0,null,{"$f":"IF(OR(AJ104<=AM7,AJ104>AM9),0,AM8+(AM10-AM8)*(1-((AM5+EXP(AM6*(AM4-AM7)))/(AM5+EXP(AM6*(AM4-AJ104))))^AM5)/(1-((AM5+EXP(AM6*(AM4-AM7)))/(AM5+EXP(AM6*(AM4-AM9))))^AM5))","v":0},{"$f":"IF(OR(AJ104<=AN7,AJ104>AN9),0,AN8+(AN10-AN8)*(1-((AN5+EXP(AN6*(AN4-AN7)))/(AN5+EXP(AN6*(AN4-AJ104))))^AN5)/(1-((AN5+EXP(AN6*(AN4-AN7)))/(AN5+EXP(AN6*(AN4-AN9))))^AN5))","v":0},{"$f":"IF(OR(AJ104<=AN9,AJ104>100000),0,IF(AJ104<=AO7,AO8,AO8+(AO10-AO8)*(1-((AO5+EXP(AO6*(AO4-AO7)))/(AO5+EXP(AO6*(AO4-AJ104))))^AO5)/(1-((AO5+EXP(AO6*(AO4-AO7)))/(AO5+EXP(AO6*(AO4-AO9))))^AO5)))","v":0},0,0]
[94,{"$f":"'daily uptake'!F188","v":"2011-02-02"},{"$f":"5/9*'daily uptake'!Q188","v":7.2222222222222223},{"$f":"5/9*'daily uptake'!N188","v":2.5},{"$f":"IF(AND($A105>='daily uptake'!$C$9,$A105<='daily uptake'!$C$10),$C105+E104,0)","v":846.6666666666664},{"$f":"IF(AND($A105>='daily uptake'!$C$18,$A105<='daily uptake'!$C$20),$D105+F104,0)","v":0},{"$f":"IF(AND($A105>='daily uptake'!$C$24,$A105<='daily uptake'!$C$25),$C105+G104,0)","v":0},{"$f":"IF(OR(F105<=I7,F105>I9),0,I8+(I10-I8)*(1-((I5+EXP(I6*(I4-I7)))/(I5+EXP(I6*(I4-F105))))^I5)/(1-((I5+EXP(I6*(I4-I7)))/(I5+EXP(I6*(I4-I9))))^I5))","v":0},{"$f":"IF(OR(F105<=J7,F105>J9),0,J8+(J10-J8)*(1-((J5+EXP(J6*(J4-J7)))/(J5+EXP(J6*(J4-F105))))^J5)/(1-((J5+EXP(J6*(J4-J7)))/(J5+EXP(J6*(J4-J9))))^J5))","v":0},{"$f":"IF(OR(F105<=J9,F105>100000),0,IF(F105<=K7,K8,K8+(K10-K8)*(1-((K5+EXP(K6*(K4-K7)))/(K5+EXP(K6*(K4-F105))))^K5)/(1-((K5+EXP(K6*(K4-K7)))/(K5+EXP(K6*(K4-K9))))^K5)))","v":0},0,0,47.454788379790379,0,"2011-02-02",{"$f":"MAX(L$12:L105)+MAX(M$12:M105)+MAX(N$12:N105)","v":47.454788379790379},"2011-02-02",0.66190247901639765,null,null,null,null,null,null,null,null,null,null,null,null,null,null,null,null,null,0,null,{"$f":"IF(OR(AJ105<=AM7,AJ105>AM9),0,AM8+(AM10-AM8)*(1-((AM5+EXP(AM6*(AM4-AM7)))/(AM5+EXP(AM6*(AM4-AJ105))))^AM5)/(1-((AM5+EXP(AM6*(AM4-AM7)))/(AM5+EXP(AM6*(AM4-AM9))))^AM5))","v":0},{"$f":"IF(OR(AJ105<=AN7,AJ105>AN9),0,AN8+(AN10-AN8)*(1-((AN5+EXP(AN6*(AN4-AN7)))/(AN5+EXP(AN6*(AN4-AJ105))))^AN5)/(1-((AN5+EXP(AN6*(AN4-AN7)))/(AN5+EXP(AN6*(AN4-AN9))))^AN5))","v":0},{"$f":"IF(OR(AJ105<=AN9,AJ105>100000),0,IF(AJ105<=AO7,AO8,AO8+(AO10-AO8)*(1-((AO5+EXP(AO6*(AO4-AO7)))/(AO5+EXP(AO6*(AO4-AJ105))))^AO5)/(1-((AO5+EXP(AO6*(AO4-AO7)))/(AO5+EXP(AO6*(AO4-AO9))))^AO5)))","v":0},0,0]
[95,{"$f":"'daily uptake'!F189","v":"2011-02-03"},{"$f":"5/9*'daily uptake'!Q189","v":7.5},{"$f":"5/9*'daily uptake'!N189","v":2.7777777777777777},{"$f":"IF(AND($A106>='daily uptake'!$C$9,$A106<='daily uptake'!$C$10),$C106+E105,0)","v":854.1666666666664},{"$f":"IF(AND($A106>='daily uptake'!$C$18,$A106<='daily uptake'!$C$20),$D106+F105,0)","v":0},{"$f":"IF(AND($A106>='daily uptake'!$C$24,$A106<='daily uptake'!$C$25),$C106+G105,0)","v":0},{"$f":"IF(OR(F106<=I7,F106>I9),0,I8+(I10-I8)*(1-((I5+EXP(I6*(I4-I7)))/(I5+EXP(I6*(I4-F106))))^I5)/(1-((I5+EXP(I6*(I4-I7)))/(I5+EXP(I6*(I4-I9))))^I5))","v":0},{"$f":"IF(OR(F106<=J7,F106>J9),0,J8+(J10-J8)*(1-((J5+EXP(J6*(J4-J7)))/(J5+EXP(J6*(J4-F106))))^J5)/(1-((J5+EXP(J6*(J4-J7)))/(J5+EXP(J6*(J4-J9))))^J5))","v":0},{"$f":"IF(OR(F106<=J9,F106>100000),0,IF(F106<=K7,K8,K8+(K10-K8)*(1-((K5+EXP(K6*(K4-K7)))/(K5+EXP(K6*(K4-F106))))^K5)/(1-((K5+EXP(K6*(K4-K7)))/(K5+EXP(K6*(K4-K9))))^K5)))","v":0},0,0,48.1470545676044,0,"2011-02-03",{"$f":"MAX(L$12:L106)+MAX(M$12:M106)+MAX(N$12:N106)","v":48.1470545676044},"2011-02-03",0.69226618781402038,null,null,null,null,null,null,null,null,null,null,null,null,null,null,null,null,null,0,null,{"$f":"IF(OR(AJ106<=AM7,AJ106>AM9),0,AM8+(AM10-AM8)*(1-((AM5+EXP(AM6*(AM4-AM7)))/(AM5+EXP(AM6*(AM4-AJ106))))^AM5)/(1-((AM5+EXP(AM6*(AM4-AM7)))/(AM5+EXP(AM6*(AM4-AM9))))^AM5))","v":0},{"$f":"IF(OR(AJ106<=AN7,AJ106>AN9),0,AN8+(AN10-AN8)*(1-((AN5+EXP(AN6*(AN4-AN7)))/(AN5+EXP(AN6*(AN4-AJ106))))^AN5)/(1-((AN5+EXP(AN6*(AN4-AN7)))/(AN5+EXP(AN6*(AN4-AN9))))^AN5))","v":0},{"$f":"IF(OR(AJ106<=AN9,AJ106>100000),0,IF(AJ106<=AO7,AO8,AO8+(AO10-AO8)*(1-((AO5+EXP(AO6*(AO4-AO7)))/(AO5+EXP(AO6*(AO4-AJ106))))^AO5)/(1-((AO5+EXP(AO6*(AO4-AO7)))/(AO5+EXP(AO6*(AO4-AO9))))^AO5)))","v":0},0,0]
[96,{"$f":"'daily uptake'!F190","v":"2011-02-04"},{"$f":"5/9*'daily uptake'!Q190","v":8.3333333333333339},{"$f":"5/9*'daily uptake'!N190","v":3.3333333333333335},{"$f":"IF(AND($A107>='daily uptake'!$C$9,$A107<='daily uptake'!$C$10),$C107+E106,0)","v":862.49999999999977},{"$f":"IF(AND($A107>='daily uptake'!$C$18,$A107<='daily uptake'!$C$20),$D107+F106,0)","v":0},{"$f":"IF(AND($A107>='daily uptake'!$C$24,$A107<='daily uptake'!$C$25),$C107+G106,0)","v":0},{"$f":"IF(OR(F107<=I7,F107>I9),0,I8+(I10-I8)*(1-((I5+EXP(I6*(I4-I7)))/(I5+EXP(I6*(I4-F107))))^I5)/(1-((I5+EXP(I6*(I4-I7)))/(I5+EXP(I6*(I4-I9))))^I5))","v":0},{"$f":"IF(OR(F107<=J7,F107>J9),0,J8+(J10-J8)*(1-((J5+EXP(J6*(J4-J7)))/(J5+EXP(J6*(J4-F107))))^J5)/(1-((J5+EXP(J6*(J4-J7)))/(J5+EXP(J6*(J4-J9))))^J5))","v":0},{"$f":"IF(OR(F107<=J9,F107>100000),0,IF(F107<=K7,K8,K8+(K10-K8)*(1-((K5+EXP(K6*(K4-K7)))/(K5+EXP(K6*(K4-F107))))^K5)/(1-((K5+EXP(K6*(K4-K7)))/(K5+EXP(K6*(K4-K9))))^K5)))","v":0},0,0,48.922072772691372,0,"2011-02-04",{"$f":"MAX(L$12:L107)+MAX(M$12:M107)+MAX(N$12:N107)","v":48.922072772691372},"2011-02-04",0.7750182050869725,null,null,null,null,null,null,null,null,null,null,null,null,null,null,null,null,null,0,null,{"$f":"IF(OR(AJ107<=AM7,AJ107>AM9),0,AM8+(AM10-AM8)*(1-((AM5+EXP(AM6*(AM4-AM7)))/(AM5+EXP(AM6*(AM4-AJ107))))^AM5)/(1-((AM5+EXP(AM6*(AM4-AM7)))/(AM5+EXP(AM6*(AM4-AM9))))^AM5))","v":0},{"$f":"IF(OR(AJ107<=AN7,AJ107>AN9),0,AN8+(AN10-AN8)*(1-((AN5+EXP(AN6*(AN4-AN7)))/(AN5+EXP(AN6*(AN4-AJ107))))^AN5)/(1-((AN5+EXP(AN6*(AN4-AN7)))/(AN5+EXP(AN6*(AN4-AN9))))^AN5))","v":0},{"$f":"IF(OR(AJ107<=AN9,AJ107>100000),0,IF(AJ107<=AO7,AO8,AO8+(AO10-AO8)*(1-((AO5+EXP(AO6*(AO4-AO7)))/(AO5+EXP(AO6*(AO4-AJ107))))^AO5)/(1-((AO5+EXP(AO6*(AO4-AO7)))/(AO5+EXP(AO6*(AO4-AO9))))^AO5)))","v":0},0,0]
[97,{"$f":"'daily uptake'!F191","v":"2011-02-05"},{"$f":"5/9*'daily uptake'!Q191","v":9.7222222222222232},{"$f":"5/9*'daily uptake'!N191","v":4.166666666666667},{"$f":"IF(AND($A108>='daily uptake'!$C$9,$A108<='daily uptake'!$C$10),$C108+E107,0)","v":872.22222222222194},{"$f":"IF(AND($A108>='daily uptake'!$C$18,$A108<='daily uptake'!$C$20),$D108+F107,0)","v":0},{"$f":"IF(AND($A108>='daily uptake'!$C$24,$A108<='daily uptake'!$C$25),$C108+G107,0)","v":0},{"$f":"IF(OR(F108<=I7,F108>I9),0,I8+(I10-I8)*(1-((I5+EXP(I6*(I4-I7)))/(I5+EXP(I6*(I4-F108))))^I5)/(1-((I5+EXP(I6*(I4-I7)))/(I5+EXP(I6*(I4-I9))))^I5))","v":0},{"$f":"IF(OR(F108<=J7,F108>J9),0,J8+(J10-J8)*(1-((J5+EXP(J6*(J4-J7)))/(J5+EXP(J6*(J4-F108))))^J5)/(1-((J5+EXP(J6*(J4-J7)))/(J5+EXP(J6*(J4-J9))))^J5))","v":0},{"$f":"IF(OR(F108<=J9,F108>100000),0,IF(F108<=K7,K8,K8+(K10-K8)*(1-((K5+EXP(K6*(K4-K7)))/(K5+EXP(K6*(K4-F108))))^K5)/(1-((K5+EXP(K6*(K4-K7)))/(K5+EXP(K6*(K4-K9))))^K5)))","v":0},0,0,49.833976398929629,0,"2011-02-05",{"$f":"MAX(L$12:L108)+MAX(M$12:M108)+MAX(N$12:N108)","v":49.833976398929629},"2011-02-05",0.91190362623825649,null,null,null,null,null,null,null,null,null,null,null,null,null,null,null,null,null,0,null,{"$f":"IF(OR(AJ108<=AM7,AJ108>AM9),0,AM8+(AM10-AM8)*(1-((AM5+EXP(AM6*(AM4-AM7)))/(AM5+EXP(AM6*(AM4-AJ108))))^AM5)/(1-((AM5+EXP(AM6*(AM4-AM7)))/(AM5+EXP(AM6*(AM4-AM9))))^AM5))","v":0},{"$f":"IF(OR(AJ108<=AN7,AJ108>AN9),0,AN8+(AN10-AN8)*(1-((AN5+EXP(AN6*(AN4-AN7)))/(AN5+EXP(AN6*(AN4-AJ108))))^AN5)/(1-((AN5+EXP(AN6*(AN4-AN7)))/(AN5+EXP(AN6*(AN4-AN9))))^AN5))","v":0},{"$f":"IF(OR(AJ108<=AN9,AJ108>100000),0,IF(AJ108<=AO7,AO8,AO8+(AO10-AO8)*(1-((AO5+EXP(AO6*(AO4-AO7)))/(AO5+EXP(AO6*(AO4-AJ108))))^AO5)/(1-((AO5+EXP(AO6*(AO4-AO7)))/(AO5+EXP(AO6*(AO4-AO9))))^AO5)))","v":0},0,0]
[98,{"$f":"'daily uptake'!F192","v":"2011-02-06"},{"$f":"5/9*'daily uptake'!Q192","v":12.222222222222223},{"$f":"5/9*'daily uptake'!N192","v":6.1111111111111116},{"$f":"IF(AND($A109>='daily uptake'!$C$9,$A109<='daily uptake'!$C$10),$C109+E108,0)","v":884.44444444444412},{"$f":"IF(AND($A109>='daily uptake'!$C$18,$A109<='daily uptake'!$C$20),$D109+F108,0)","v":0},{"$f":"IF(AND($A109>='daily uptake'!$C$24,$A109<='daily uptake'!$C$25),$C109+G108,0)","v":0},{"$f":"IF(OR(F109<=I7,F109>I9),0,I8+(I10-I8)*(1-((I5+EXP(I6*(I4-I7)))/(I5+EXP(I6*(I4-F109))))^I5)/(1-((I5+EXP(I6*(I4-I7)))/(I5+EXP(I6*(I4-I9))))^I5))","v":0},{"$f":"IF(OR(F109<=J7,F109>J9),0,J8+(J10-J8)*(1-((J5+EXP(J6*(J4-J7)))/(J5+EXP(J6*(J4-F109))))^J5)/(1-((J5+EXP(J6*(J4-J7)))/(J5+EXP(J6*(J4-J9))))^J5))","v":0},{"$f":"IF(OR(F109<=J9,F109>100000),0,IF(F109<=K7,K8,K8+(K10-K8)*(1-((K5+EXP(K6*(K4-K7)))/(K5+EXP(K6*(K4-F109))))^K5)/(1-((K5+EXP(K6*(K4-K7)))/(K5+EXP(K6*(K4-K9))))^K5)))","v":0},0,0,50.992070775522642,0,"2011-02-06",{"$f":"MAX(L$12:L109)+MAX(M$12:M109)+MAX(N$12:N109)","v":50.992070775522642},"2011-02-06",1.158094376593013,null,null,null,null,null,null,null,null,null,null,null,null,null,null,null,null,null,0,null,{"$f":"IF(OR(AJ109<=AM7,AJ109>AM9),0,AM8+(AM10-AM8)*(1-((AM5+EXP(AM6*(AM4-AM7)))/(AM5+EXP(AM6*(AM4-AJ109))))^AM5)/(1-((AM5+EXP(AM6*(AM4-AM7)))/(AM5+EXP(AM6*(AM4-AM9))))^AM5))","v":0},{"$f":"IF(OR(AJ109<=AN7,AJ109>AN9),0,AN8+(AN10-AN8)*(1-((AN5+EXP(AN6*(AN4-AN7)))/(AN5+EXP(AN6*(AN4-AJ109))))^AN5)/(1-((AN5+EXP(AN6*(AN4-AN7)))/(AN5+EXP(AN6*(AN4-AN9))))^AN5))","v":0},{"$f":"IF(OR(AJ109<=AN9,AJ109>100000),0,IF(AJ109<=AO7,AO8,AO8+(AO10-AO8)*(1-((AO5+EXP(AO6*(AO4-AO7)))/(AO5+EXP(AO6*(AO4-AJ109))))^AO5)/(1-((AO5+EXP(AO6*(AO4-AO7)))/(AO5+EXP(AO6*(AO4-AO9))))^AO5)))","v":0},0,0]
[99,{"$f":"'daily uptake'!F193","v":"2011-02-07"},{"$f":"5/9*'daily uptake'!Q193","v":11.666666666666668},{"$f":"5/9*'daily uptake'!N193","v":5.2777777777777777},{"$f":"IF(AND($A110>='daily uptake'!$C$9,$A110<='daily uptake'!$C$10),$C110+E109,0)","v":896.11111111111074},{"$f":"IF(AND($A110>='daily uptake'!$C$18,$A110<='daily uptake'!$C$20),$D110+F109,0)","v":0},{"$f":"IF(AND($A110>='daily uptake'!$C$24,$A110<='daily uptake'!$C$25),$C110+G109,0)","v":0},{"$f":"IF(OR(F110<=I7,F110>I9),0,I8+(I10-I8)*(1-((I5+EXP(I6*(I4-I7)))/(I5+EXP(I6*(I4-F110))))^I5)/(1-((I5+EXP(I6*(I4-I7)))/(I5+EXP(I6*(I4-I9))))^I5))","v":0},{"$f":"IF(OR(F110<=J7,F110>J9),0,J8+(J10-J8)*(1-((J5+EXP(J6*(J4-J7)))/(J5+EXP(J6*(J4-F110))))^J5)/(1-((J5+EXP(J6*(J4-J7)))/(J5+EXP(J6*(J4-J9))))^J5))","v":0},{"$f":"IF(OR(F110<=J9,F110>100000),0,IF(F110<=K7,K8,K8+(K10-K8)*(1-((K5+EXP(K6*(K4-K7)))/(K5+EXP(K6*(K4-F110))))^K5)/(1-((K5+EXP(K6*(K4-K7)))/(K5+EXP(K6*(K4-K9))))^K5)))","v":0},0,0,52.109575051726821,0,"2011-02-07",{"$f":"MAX(L$12:L110)+MAX(M$12:M110)+MAX(N$12:N110)","v":52.109575051726821},"2011-02-07",1.1175042762041798,null,null,null,null,null,null,null,null,null,null,null,null,null,null,null,null,null,0,null,{"$f":"IF(OR(AJ110<=AM7,AJ110>AM9),0,AM8+(AM10-AM8)*(1-((AM5+EXP(AM6*(AM4-AM7)))/(AM5+EXP(AM6*(AM4-AJ110))))^AM5)/(1-((AM5+EXP(AM6*(AM4-AM7)))/(AM5+EXP(AM6*(AM4-AM9))))^AM5))","v":0},{"$f":"IF(OR(AJ110<=AN7,AJ110>AN9),0,AN8+(AN10-AN8)*(1-((AN5+EXP(AN6*(AN4-AN7)))/(AN5+EXP(AN6*(AN4-AJ110))))^AN5)/(1-((AN5+EXP(AN6*(AN4-AN7)))/(AN5+EXP(AN6*(AN4-AN9))))^AN5))","v":0},{"$f":"IF(OR(AJ110<=AN9,AJ110>100000),0,IF(AJ110<=AO7,AO8,AO8+(AO10-AO8)*(1-((AO5+EXP(AO6*(AO4-AO7)))/(AO5+EXP(AO6*(AO4-AJ110))))^AO5)/(1-((AO5+EXP(AO6*(AO4-AO7)))/(AO5+EXP(AO6*(AO4-AO9))))^AO5)))","v":0},0,0]
[100,{"$f":"'daily uptake'!F194","v":"2011-02-08"},{"$f":"5/9*'daily uptake'!Q194","v":8.3333333333333339},{"$f":"5/9*'daily uptake'!N194","v":2.7777777777777777},{"$f":"IF(AND($A111>='daily uptake'!$C$9,$A111<='daily uptake'!$C$10),$C111+E110,0)","v":904.44444444444412},{"$f":"IF(AND($A111>='daily uptake'!$C$18,$A111<='daily uptake'!$C$20),$D111+F110,0)","v":0},{"$f":"IF(AND($A111>='daily uptake'!$C$24,$A111<='daily uptake'!$C$25),$C111+G110,0)","v":0},{"$f":"IF(OR(F111<=I7,F111>I9),0,I8+(I10-I8)*(1-((I5+EXP(I6*(I4-I7)))/(I5+EXP(I6*(I4-F111))))^I5)/(1-((I5+EXP(I6*(I4-I7)))/(I5+EXP(I6*(I4-I9))))^I5))","v":0},{"$f":"IF(OR(F111<=J7,F111>J9),0,J8+(J10-J8)*(1-((J5+EXP(J6*(J4-J7)))/(J5+EXP(J6*(J4-F111))))^J5)/(1-((J5+EXP(J6*(J4-J7)))/(J5+EXP(J6*(J4-J9))))^J5))","v":0},{"$f":"IF(OR(F111<=J9,F111>100000),0,IF(F111<=K7,K8,K8+(K10-K8)*(1-((K5+EXP(K6*(K4-K7)))/(K5+EXP(K6*(K4-F111))))^K5)/(1-((K5+EXP(K6*(K4-K7)))/(K5+EXP(K6*(K4-K9))))^K5)))","v":0},0,0,52.914932260467445,0,"2011-02-08",{"$f":"MAX(L$12:L111)+MAX(M$12:M111)+MAX(N$12:N111)","v":52.914932260467445},"2011-02-08",0.80535720874062378,null,null,null,null,null,null,null,null,null,null,null,null,null,null,null,null,null,0,null,{"$f":"IF(OR(AJ111<=AM7,AJ111>AM9),0,AM8+(AM10-AM8)*(1-((AM5+EXP(AM6*(AM4-AM7)))/(AM5+EXP(AM6*(AM4-AJ111))))^AM5)/(1-((AM5+EXP(AM6*(AM4-AM7)))/(AM5+EXP(AM6*(AM4-AM9))))^AM5))","v":0},{"$f":"IF(OR(AJ111<=AN7,AJ111>AN9),0,AN8+(AN10-AN8)*(1-((AN5+EXP(AN6*(AN4-AN7)))/(AN5+EXP(AN6*(AN4-AJ111))))^AN5)/(1-((AN5+EXP(AN6*(AN4-AN7)))/(AN5+EXP(AN6*(AN4-AN9))))^AN5))","v":0},{"$f":"IF(OR(AJ111<=AN9,AJ111>100000),0,IF(AJ111<=AO7,AO8,AO8+(AO10-AO8)*(1-((AO5+EXP(AO6*(AO4-AO7)))/(AO5+EXP(AO6*(AO4-AJ111))))^AO5)/(1-((AO5+EXP(AO6*(AO4-AO7)))/(AO5+EXP(AO6*(AO4-AO9))))^AO5)))","v":0},0,0]
[101,{"$f":"'daily uptake'!F195","v":"2011-02-09"},{"$f":"5/9*'daily uptake'!Q195","v":7.2222222222222223},{"$f":"5/9*'daily uptake'!N195","v":3.0555555555555558},{"$f":"IF(AND($A112>='daily uptake'!$C$9,$A112<='daily uptake'!$C$10),$C112+E111,0)","v":911.66666666666629},{"$f":"IF(AND($A112>='daily uptake'!$C$18,$A112<='daily uptake'!$C$20),$D112+F111,0)","v":0},{"$f":"IF(AND($A112>='daily uptake'!$C$24,$A112<='daily uptake'!$C$25),$C112+G111,0)","v":0},{"$f":"IF(OR(F112<=I7,F112>I9),0,I8+(I10-I8)*(1-((I5+EXP(I6*(I4-I7)))/(I5+EXP(I6*(I4-F112))))^I5)/(1-((I5+EXP(I6*(I4-I7)))/(I5+EXP(I6*(I4-I9))))^I5))","v":0},{"$f":"IF(OR(F112<=J7,F112>J9),0,J8+(J10-J8)*(1-((J5+EXP(J6*(J4-J7)))/(J5+EXP(J6*(J4-F112))))^J5)/(1-((J5+EXP(J6*(J4-J7)))/(J5+EXP(J6*(J4-J9))))^J5))","v":0},{"$f":"IF(OR(F112<=J9,F112>100000),0,IF(F112<=K7,K8,K8+(K10-K8)*(1-((K5+EXP(K6*(K4-K7)))/(K5+EXP(K6*(K4-F112))))^K5)/(1-((K5+EXP(K6*(K4-K7)))/(K5+EXP(K6*(K4-K9))))^K5)))","v":0},0,0,53.617681195199211,0,"2011-02-09",{"$f":"MAX(L$12:L112)+MAX(M$12:M112)+MAX(N$12:N112)","v":53.617681195199211},"2011-02-09",0.70274893473176547,null,null,null,null,null,null,null,null,null,null,null,null,null,null,null,null,null,0,null,{"$f":"IF(OR(AJ112<=AM7,AJ112>AM9),0,AM8+(AM10-AM8)*(1-((AM5+EXP(AM6*(AM4-AM7)))/(AM5+EXP(AM6*(AM4-AJ112))))^AM5)/(1-((AM5+EXP(AM6*(AM4-AM7)))/(AM5+EXP(AM6*(AM4-AM9))))^AM5))","v":0},{"$f":"IF(OR(AJ112<=AN7,AJ112>AN9),0,AN8+(AN10-AN8)*(1-((AN5+EXP(AN6*(AN4-AN7)))/(AN5+EXP(AN6*(AN4-AJ112))))^AN5)/(1-((AN5+EXP(AN6*(AN4-AN7)))/(AN5+EXP(AN6*(AN4-AN9))))^AN5))","v":0},{"$f":"IF(OR(AJ112<=AN9,AJ112>100000),0,IF(AJ112<=AO7,AO8,AO8+(AO10-AO8)*(1-((AO5+EXP(AO6*(AO4-AO7)))/(AO5+EXP(AO6*(AO4-AJ112))))^AO5)/(1-((AO5+EXP(AO6*(AO4-AO7)))/(AO5+EXP(AO6*(AO4-AO9))))^AO5)))","v":0},0,0]
[102,{"$f":"'daily uptake'!F196","v":"2011-02-10"},{"$f":"5/9*'daily uptake'!Q196","v":8.0555555555555554},{"$f":"5/9*'daily uptake'!N196","v":3.3333333333333335},{"$f":"IF(AND($A113>='daily uptake'!$C$9,$A113<='daily uptake'!$C$10),$C113+E112,0)","v":919.72222222222183},{"$f":"IF(AND($A113>='daily uptake'!$C$18,$A113<='daily uptake'!$C$20),$D113+F112,0)","v":0},{"$f":"IF(AND($A113>='daily uptake'!$C$24,$A113<='daily uptake'!$C$25),$C113+G112,0)","v":0},{"$f":"IF(OR(F113<=I7,F113>I9),0,I8+(I10-I8)*(1-((I5+EXP(I6*(I4-I7)))/(I5+EXP(I6*(I4-F113))))^I5)/(1-((I5+EXP(I6*(I4-I7)))/(I5+EXP(I6*(I4-I9))))^I5))","v":0},{"$f":"IF(OR(F113<=J7,F113>J9),0,J8+(J10-J8)*(1-((J5+EXP(J6*(J4-J7)))/(J5+EXP(J6*(J4-F113))))^J5)/(1-((J5+EXP(J6*(J4-J7)))/(J5+EXP(J6*(J4-J9))))^J5))","v":0},{"$f":"IF(OR(F113<=J9,F113>100000),0,IF(F113<=K7,K8,K8+(K10-K8)*(1-((K5+EXP(K6*(K4-K7)))/(K5+EXP(K6*(K4-F113))))^K5)/(1-((K5+EXP(K6*(K4-K7)))/(K5+EXP(K6*(K4-K9))))^K5)))","v":0},0,0,54.406704814351805,0,"2011-02-10",{"$f":"MAX(L$12:L113)+MAX(M$12:M113)+MAX(N$12:N113)","v":54.406704814351805},"2011-02-10",0.78902361915259434,null,null,null,null,null,null,null,null,null,null,null,null,null,null,null,null,null,0,null,{"$f":"IF(OR(AJ113<=AM7,AJ113>AM9),0,AM8+(AM10-AM8)*(1-((AM5+EXP(AM6*(AM4-AM7)))/(AM5+EXP(AM6*(AM4-AJ113))))^AM5)/(1-((AM5+EXP(AM6*(AM4-AM7)))/(AM5+EXP(AM6*(AM4-AM9))))^AM5))","v":0},{"$f":"IF(OR(AJ113<=AN7,AJ113>AN9),0,AN8+(AN10-AN8)*(1-((AN5+EXP(AN6*(AN4-AN7)))/(AN5+EXP(AN6*(AN4-AJ113))))^AN5)/(1-((AN5+EXP(AN6*(AN4-AN7)))/(AN5+EXP(AN6*(AN4-AN9))))^AN5))","v":0},{"$f":"IF(OR(AJ113<=AN9,AJ113>100000),0,IF(AJ113<=AO7,AO8,AO8+(AO10-AO8)*(1-((AO5+EXP(AO6*(AO4-AO7)))/(AO5+EXP(AO6*(AO4-AJ113))))^AO5)/(1-((AO5+EXP(AO6*(AO4-AO7)))/(AO5+EXP(AO6*(AO4-AO9))))^AO5)))","v":0},0,0]
[103,{"$f":"'daily uptake'!F197","v":"2011-02-11"},{"$f":"5/9*'daily uptake'!Q197","v":8.6111111111111107},{"$f":"5/9*'daily uptake'!N197","v":4.166666666666667},{"$f":"IF(AND($A114>='daily uptake'!$C$9,$A114<='daily uptake'!$C$10),$C114+E113,0)","v":928.33333333333292},{"$f":"IF(AND($A114>='daily uptake'!$C$18,$A114<='daily uptake'!$C$20),$D114+F113,0)","v":0},{"$f":"IF(AND($A114>='daily uptake'!$C$24,$A114<='daily uptake'!$C$25),$C114+G113,0)","v":0},{"$f":"IF(OR(F114<=I7,F114>I9),0,I8+(I10-I8)*(1-((I5+EXP(I6*(I4-I7)))/(I5+EXP(I6*(I4-F114))))^I5)/(1-((I5+EXP(I6*(I4-I7)))/(I5+EXP(I6*(I4-I9))))^I5))","v":0},{"$f":"IF(OR(F114<=J7,F114>J9),0,J8+(J10-J8)*(1-((J5+EXP(J6*(J4-J7)))/(J5+EXP(J6*(J4-F114))))^J5)/(1-((J5+EXP(J6*(J4-J7)))/(J5+EXP(J6*(J4-J9))))^J5))","v":0},{"$f":"IF(OR(F114<=J9,F114>100000),0,IF(F114<=K7,K8,K8+(K10-K8)*(1-((K5+EXP(K6*(K4-K7)))/(K5+EXP(K6*(K4-F114))))^K5)/(1-((K5+EXP(K6*(K4-K7)))/(K5+EXP(K6*(K4-K9))))^K5)))","v":0},0,0,55.256144775754564,0,"2011-02-11",{"$f":"MAX(L$12:L114)+MAX(M$12:M114)+MAX(N$12:N114)","v":55.256144775754564},"2011-02-11",0.84943996140275857,null,null,null,null,null,null,null,null,null,null,null,null,null,null,null,null,null,0,null,{"$f":"IF(OR(AJ114<=AM7,AJ114>AM9),0,AM8+(AM10-AM8)*(1-((AM5+EXP(AM6*(AM4-AM7)))/(AM5+EXP(AM6*(AM4-AJ114))))^AM5)/(1-((AM5+EXP(AM6*(AM4-AM7)))/(AM5+EXP(AM6*(AM4-AM9))))^AM5))","v":0},{"$f":"IF(OR(AJ114<=AN7,AJ114>AN9),0,AN8+(AN10-AN8)*(1-((AN5+EXP(AN6*(AN4-AN7)))/(AN5+EXP(AN6*(AN4-AJ114))))^AN5)/(1-((AN5+EXP(AN6*(AN4-AN7)))/(AN5+EXP(AN6*(AN4-AN9))))^AN5))","v":0},{"$f":"IF(OR(AJ114<=AN9,AJ114>100000),0,IF(AJ114<=AO7,AO8,AO8+(AO10-AO8)*(1-((AO5+EXP(AO6*(AO4-AO7)))/(AO5+EXP(AO6*(AO4-AJ114))))^AO5)/(1-((AO5+EXP(AO6*(AO4-AO7)))/(AO5+EXP(AO6*(AO4-AO9))))^AO5)))","v":0},0,0]
[104,{"$f":"'daily uptake'!F198","v":"2011-02-12"},{"$f":"5/9*'daily uptake'!Q198","v":12.5},{"$f":"5/9*'daily uptake'!N198","v":6.3888888888888893},{"$f":"IF(AND($A115>='daily uptake'!$C$9,$A115<='daily uptake'!$C$10),$C115+E114,0)","v":940.83333333333292},{"$f":"IF(AND($A115>='daily uptake'!$C$18,$A115<='daily uptake'!$C$20),$D115+F114,0)","v":0},{"$f":"IF(AND($A115>='daily uptake'!$C$24,$A115<='daily uptake'!$C$25),$C115+G114,0)","v":0},{"$f":"IF(OR(F115<=I7,F115>I9),0,I8+(I10-I8)*(1-((I5+EXP(I6*(I4-I7)))/(I5+EXP(I6*(I4-F115))))^I5)/(1-((I5+EXP(I6*(I4-I7)))/(I5+EXP(I6*(I4-I9))))^I5))","v":0},{"$f":"IF(OR(F115<=J7,F115>J9),0,J8+(J10-J8)*(1-((J5+EXP(J6*(J4-J7)))/(J5+EXP(J6*(J4-F115))))^J5)/(1-((J5+EXP(J6*(J4-J7)))/(J5+EXP(J6*(J4-J9))))^J5))","v":0},{"$f":"IF(OR(F115<=J9,F115>100000),0,IF(F115<=K7,K8,K8+(K10-K8)*(1-((K5+EXP(K6*(K4-K7)))/(K5+EXP(K6*(K4-F115))))^K5)/(1-((K5+EXP(K6*(K4-K7)))/(K5+EXP(K6*(K4-K9))))^K5)))","v":0},0,0,56.500120638752314,0,"2011-02-12",{"$f":"MAX(L$12:L115)+MAX(M$12:M115)+MAX(N$12:N115)","v":56.500120638752314},"2011-02-12",1.2439758629977504,null,null,null,null,null,null,null,null,null,null,null,null,null,null,null,null,null,0,null,{"$f":"IF(OR(AJ115<=AM7,AJ115>AM9),0,AM8+(AM10-AM8)*(1-((AM5+EXP(AM6*(AM4-AM7)))/(AM5+EXP(AM6*(AM4-AJ115))))^AM5)/(1-((AM5+EXP(AM6*(AM4-AM7)))/(AM5+EXP(AM6*(AM4-AM9))))^AM5))","v":0},{"$f":"IF(OR(AJ115<=AN7,AJ115>AN9),0,AN8+(AN10-AN8)*(1-((AN5+EXP(AN6*(AN4-AN7)))/(AN5+EXP(AN6*(AN4-AJ115))))^AN5)/(1-((AN5+EXP(AN6*(AN4-AN7)))/(AN5+EXP(AN6*(AN4-AN9))))^AN5))","v":0},{"$f":"IF(OR(AJ115<=AN9,AJ115>100000),0,IF(AJ115<=AO7,AO8,AO8+(AO10-AO8)*(1-((AO5+EXP(AO6*(AO4-AO7)))/(AO5+EXP(AO6*(AO4-AJ115))))^AO5)/(1-((AO5+EXP(AO6*(AO4-AO7)))/(AO5+EXP(AO6*(AO4-AO9))))^AO5)))","v":0},0,0]
[105,{"$f":"'daily uptake'!F199","v":"2011-02-13"},{"$f":"5/9*'daily uptake'!Q199","v":10.555555555555555},{"$f":"5/9*'daily uptake'!N199","v":5.2777777777777777},{"$f":"IF(AND($A116>='daily uptake'!$C$9,$A116<='daily uptake'!$C$10),$C116+E115,0)","v":951.38888888888846},{"$f":"IF(AND($A116>='daily uptake'!$C$18,$A116<='daily uptake'!$C$20),$D116+F115,0)","v":0},{"$f":"IF(AND($A116>='daily uptake'!$C$24,$A116<='daily uptake'!$C$25),$C116+G115,0)","v":0},{"$f":"IF(OR(F116<=I7,F116>I9),0,I8+(I10-I8)*(1-((I5+EXP(I6*(I4-I7)))/(I5+EXP(I6*(I4-F116))))^I5)/(1-((I5+EXP(I6*(I4-I7)))/(I5+EXP(I6*(I4-I9))))^I5))","v":0},{"$f":"IF(OR(F116<=J7,F116>J9),0,J8+(J10-J8)*(1-((J5+EXP(J6*(J4-J7)))/(J5+EXP(J6*(J4-F116))))^J5)/(1-((J5+EXP(J6*(J4-J7)))/(J5+EXP(J6*(J4-J9))))^J5))","v":0},{"$f":"IF(OR(F116<=J9,F116>100000),0,IF(F116<=K7,K8,K8+(K10-K8)*(1-((K5+EXP(K6*(K4-K7)))/(K5+EXP(K6*(K4-F116))))^K5)/(1-((K5+EXP(K6*(K4-K7)))/(K5+EXP(K6*(K4-K9))))^K5)))","v":0},0,0,57.560535788911622,0,"2011-02-13",{"$f":"MAX(L$12:L116)+MAX(M$12:M116)+MAX(N$12:N116)","v":57.560535788911622},"2011-02-13",1.060415150159308,null,null,null,null,null,null,null,null,null,null,null,null,null,null,null,null,null,0,null,{"$f":"IF(OR(AJ116<=AM7,AJ116>AM9),0,AM8+(AM10-AM8)*(1-((AM5+EXP(AM6*(AM4-AM7)))/(AM5+EXP(AM6*(AM4-AJ116))))^AM5)/(1-((AM5+EXP(AM6*(AM4-AM7)))/(AM5+EXP(AM6*(AM4-AM9))))^AM5))","v":0},{"$f":"IF(OR(AJ116<=AN7,AJ116>AN9),0,AN8+(AN10-AN8)*(1-((AN5+EXP(AN6*(AN4-AN7)))/(AN5+EXP(AN6*(AN4-AJ116))))^AN5)/(1-((AN5+EXP(AN6*(AN4-AN7)))/(AN5+EXP(AN6*(AN4-AN9))))^AN5))","v":0},{"$f":"IF(OR(AJ116<=AN9,AJ116>100000),0,IF(AJ116<=AO7,AO8,AO8+(AO10-AO8)*(1-((AO5+EXP(AO6*(AO4-AO7)))/(AO5+EXP(AO6*(AO4-AJ116))))^AO5)/(1-((AO5+EXP(AO6*(AO4-AO7)))/(AO5+EXP(AO6*(AO4-AO9))))^AO5)))","v":0},0,0]
[106,{"$f":"'daily uptake'!F200","v":"2011-02-14"},{"$f":"5/9*'daily uptake'!Q200","v":13.055555555555555},{"$f":"5/9*'daily uptake'!N200","v":3.6111111111111112},{"$f":"IF(AND($A117>='daily uptake'!$C$9,$A117<='daily uptake'!$C$10),$C117+E116,0)","v":964.444444444444},{"$f":"IF(AND($A117>='daily uptake'!$C$18,$A117<='daily uptake'!$C$20),$D117+F116,0)","v":0},{"$f":"IF(AND($A117>='daily uptake'!$C$24,$A117<='daily uptake'!$C$25),$C117+G116,0)","v":0},{"$f":"IF(OR(F117<=I7,F117>I9),0,I8+(I10-I8)*(1-((I5+EXP(I6*(I4-I7)))/(I5+EXP(I6*(I4-F117))))^I5)/(1-((I5+EXP(I6*(I4-I7)))/(I5+EXP(I6*(I4-I9))))^I5))","v":0},{"$f":"IF(OR(F117<=J7,F117>J9),0,J8+(J10-J8)*(1-((J5+EXP(J6*(J4-J7)))/(J5+EXP(J6*(J4-F117))))^J5)/(1-((J5+EXP(J6*(J4-J7)))/(J5+EXP(J6*(J4-J9))))^J5))","v":0},{"$f":"IF(OR(F117<=J9,F117>100000),0,IF(F117<=K7,K8,K8+(K10-K8)*(1-((K5+EXP(K6*(K4-K7)))/(K5+EXP(K6*(K4-F117))))^K5)/(1-((K5+EXP(K6*(K4-K7)))/(K5+EXP(K6*(K4-K9))))^K5)))","v":0},0,0,58.884515063711461,0,"2011-02-14",{"$f":"MAX(L$12:L117)+MAX(M$12:M117)+MAX(N$12:N117)","v":58.884515063711461},"2011-02-14",1.3239792747998393,null,null,null,null,null,null,null,null,null,null,null,null,null,null,null,null,null,0,null,{"$f":"IF(OR(AJ117<=AM7,AJ117>AM9),0,AM8+(AM10-AM8)*(1-((AM5+EXP(AM6*(AM4-AM7)))/(AM5+EXP(AM6*(AM4-AJ117))))^AM5)/(1-((AM5+EXP(AM6*(AM4-AM7)))/(AM5+EXP(AM6*(AM4-AM9))))^AM5))","v":0},{"$f":"IF(OR(AJ117<=AN7,AJ117>AN9),0,AN8+(AN10-AN8)*(1-((AN5+EXP(AN6*(AN4-AN7)))/(AN5+EXP(AN6*(AN4-AJ117))))^AN5)/(1-((AN5+EXP(AN6*(AN4-AN7)))/(AN5+EXP(AN6*(AN4-AN9))))^AN5))","v":0},{"$f":"IF(OR(AJ117<=AN9,AJ117>100000),0,IF(AJ117<=AO7,AO8,AO8+(AO10-AO8)*(1-((AO5+EXP(AO6*(AO4-AO7)))/(AO5+EXP(AO6*(AO4-AJ117))))^AO5)/(1-((AO5+EXP(AO6*(AO4-AO7)))/(AO5+EXP(AO6*(AO4-AO9))))^AO5)))","v":0},0,0]
[107,{"$f":"'daily uptake'!F201","v":"2011-02-15"},{"$f":"5/9*'daily uptake'!Q201","v":13.055555555555555},{"$f":"5/9*'daily uptake'!N201","v":3.6111111111111112},{"$f":"IF(AND($A118>='daily uptake'!$C$9,$A118<='daily uptake'!$C$10),$C118+E117,0)","v":977.49999999999955},{"$f":"IF(AND($A118>='daily uptake'!$C$18,$A118<='daily uptake'!$C$20),$D118+F117,0)","v":0},{"$f":"IF(AND($A118>='daily uptake'!$C$24,$A118<='daily uptake'!$C$25),$C118+G117,0)","v":0},{"$f":"IF(OR(F118<=I7,F118>I9),0,I8+(I10-I8)*(1-((I5+EXP(I6*(I4-I7)))/(I5+EXP(I6*(I4-F118))))^I5)/(1-((I5+EXP(I6*(I4-I7)))/(I5+EXP(I6*(I4-I9))))^I5))","v":0},{"$f":"IF(OR(F118<=J7,F118>J9),0,J8+(J10-J8)*(1-((J5+EXP(J6*(J4-J7)))/(J5+EXP(J6*(J4-F118))))^J5)/(1-((J5+EXP(J6*(J4-J7)))/(J5+EXP(J6*(J4-J9))))^J5))","v":0},{"$f":"IF(OR(F118<=J9,F118>100000),0,IF(F118<=K7,K8,K8+(K10-K8)*(1-((K5+EXP(K6*(K4-K7)))/(K5+EXP(K6*(K4-F118))))^K5)/(1-((K5+EXP(K6*(K4-K7)))/(K5+EXP(K6*(K4-K9))))^K5)))","v":0},0,0,60.222001723081576,0,"2011-02-15",{"$f":"MAX(L$12:L118)+MAX(M$12:M118)+MAX(N$12:N118)","v":60.222001723081576},"2011-02-15",1.3374866593701142,null,null,null,null,null,null,null,null,null,null,null,null,null,null,null,null,null,0,null,{"$f":"IF(OR(AJ118<=AM7,AJ118>AM9),0,AM8+(AM10-AM8)*(1-((AM5+EXP(AM6*(AM4-AM7)))/(AM5+EXP(AM6*(AM4-AJ118))))^AM5)/(1-((AM5+EXP(AM6*(AM4-AM7)))/(AM5+EXP(AM6*(AM4-AM9))))^AM5))","v":0},{"$f":"IF(OR(AJ118<=AN7,AJ118>AN9),0,AN8+(AN10-AN8)*(1-((AN5+EXP(AN6*(AN4-AN7)))/(AN5+EXP(AN6*(AN4-AJ118))))^AN5)/(1-((AN5+EXP(AN6*(AN4-AN7)))/(AN5+EXP(AN6*(AN4-AN9))))^AN5))","v":0},{"$f":"IF(OR(AJ118<=AN9,AJ118>100000),0,IF(AJ118<=AO7,AO8,AO8+(AO10-AO8)*(1-((AO5+EXP(AO6*(AO4-AO7)))/(AO5+EXP(AO6*(AO4-AJ118))))^AO5)/(1-((AO5+EXP(AO6*(AO4-AO7)))/(AO5+EXP(AO6*(AO4-AO9))))^AO5)))","v":0},0,0]
[108,{"$f":"'daily uptake'!F202","v":"2011-02-16"},{"$f":"5/9*'daily uptake'!Q202","v":9.1666666666666679},{"$f":"5/9*'daily uptake'!N202","v":1.9444444444444446},{"$f":"IF(AND($A119>='daily uptake'!$C$9,$A119<='daily uptake'!$C$10),$C119+E118,0)","v":986.66666666666617},{"$f":"IF(AND($A119>='daily uptake'!$C$18,$A119<='daily uptake'!$C$20),$D119+F118,0)","v":0},{"$f":"IF(AND($A119>='daily uptake'!$C$24,$A119<='daily uptake'!$C$25),$C119+G118,0)","v":0},{"$f":"IF(OR(F119<=I7,F119>I9),0,I8+(I10-I8)*(1-((I5+EXP(I6*(I4-I7)))/(I5+EXP(I6*(I4-F119))))^I5)/(1-((I5+EXP(I6*(I4-I7)))/(I5+EXP(I6*(I4-I9))))^I5))","v":0},{"$f":"IF(OR(F119<=J7,F119>J9),0,J8+(J10-J8)*(1-((J5+EXP(J6*(J4-J7)))/(J5+EXP(J6*(J4-F119))))^J5)/(1-((J5+EXP(J6*(J4-J7)))/(J5+EXP(J6*(J4-J9))))^J5))","v":0},{"$f":"IF(OR(F119<=J9,F119>100000),0,IF(F119<=K7,K8,K8+(K10-K8)*(1-((K5+EXP(K6*(K4-K7)))/(K5+EXP(K6*(K4-F119))))^K5)/(1-((K5+EXP(K6*(K4-K7)))/(K5+EXP(K6*(K4-K9))))^K5)))","v":0},0,0,61.169026777173151,0,"2011-02-16",{"$f":"MAX(L$12:L119)+MAX(M$12:M119)+MAX(N$12:N119)","v":61.169026777173151},"2011-02-16",0.94702505409157567,null,null,null,null,null,null,null,null,null,null,null,null,null,null,null,null,null,0,null,{"$f":"IF(OR(AJ119<=AM7,AJ119>AM9),0,AM8+(AM10-AM8)*(1-((AM5+EXP(AM6*(AM4-AM7)))/(AM5+EXP(AM6*(AM4-AJ119))))^AM5)/(1-((AM5+EXP(AM6*(AM4-AM7)))/(AM5+EXP(AM6*(AM4-AM9))))^AM5))","v":0},{"$f":"IF(OR(AJ119<=AN7,AJ119>AN9),0,AN8+(AN10-AN8)*(1-((AN5+EXP(AN6*(AN4-AN7)))/(AN5+EXP(AN6*(AN4-AJ119))))^AN5)/(1-((AN5+EXP(AN6*(AN4-AN7)))/(AN5+EXP(AN6*(AN4-AN9))))^AN5))","v":0},{"$f":"IF(OR(AJ119<=AN9,AJ119>100000),0,IF(AJ119<=AO7,AO8,AO8+(AO10-AO8)*(1-((AO5+EXP(AO6*(AO4-AO7)))/(AO5+EXP(AO6*(AO4-AJ119))))^AO5)/(1-((AO5+EXP(AO6*(AO4-AO7)))/(AO5+EXP(AO6*(AO4-AO9))))^AO5)))","v":0},0,0]
[109,{"$f":"'daily uptake'!F203","v":"2011-02-17"},{"$f":"5/9*'daily uptake'!Q203","v":7.7777777777777786},{"$f":"5/9*'daily uptake'!N203","v":0.27777777777777779},{"$f":"IF(AND($A120>='daily uptake'!$C$9,$A120<='daily uptake'!$C$10),$C120+E119,0)","v":994.444444444444},{"$f":"IF(AND($A120>='daily uptake'!$C$18,$A120<='daily uptake'!$C$20),$D120+F119,0)","v":0},{"$f":"IF(AND($A120>='daily uptake'!$C$24,$A120<='daily uptake'!$C$25),$C120+G119,0)","v":0},{"$f":"IF(OR(F120<=I7,F120>I9),0,I8+(I10-I8)*(1-((I5+EXP(I6*(I4-I7)))/(I5+EXP(I6*(I4-F120))))^I5)/(1-((I5+EXP(I6*(I4-I7)))/(I5+EXP(I6*(I4-I9))))^I5))","v":0},{"$f":"IF(OR(F120<=J7,F120>J9),0,J8+(J10-J8)*(1-((J5+EXP(J6*(J4-J7)))/(J5+EXP(J6*(J4-F120))))^J5)/(1-((J5+EXP(J6*(J4-J7)))/(J5+EXP(J6*(J4-J9))))^J5))","v":0},{"$f":"IF(OR(F120<=J9,F120>100000),0,IF(F120<=K7,K8,K8+(K10-K8)*(1-((K5+EXP(K6*(K4-K7)))/(K5+EXP(K6*(K4-F120))))^K5)/(1-((K5+EXP(K6*(K4-K7)))/(K5+EXP(K6*(K4-K9))))^K5)))","v":0},0,0,61.977623063694615,0,"2011-02-17",{"$f":"MAX(L$12:L120)+MAX(M$12:M120)+MAX(N$12:N120)","v":61.977623063694615},"2011-02-17",0.80859628652146398,null,null,null,null,null,null,null,null,null,null,null,null,null,null,null,null,null,0,null,{"$f":"IF(OR(AJ120<=AM7,AJ120>AM9),0,AM8+(AM10-AM8)*(1-((AM5+EXP(AM6*(AM4-AM7)))/(AM5+EXP(AM6*(AM4-AJ120))))^AM5)/(1-((AM5+EXP(AM6*(AM4-AM7)))/(AM5+EXP(AM6*(AM4-AM9))))^AM5))","v":0},{"$f":"IF(OR(AJ120<=AN7,AJ120>AN9),0,AN8+(AN10-AN8)*(1-((AN5+EXP(AN6*(AN4-AN7)))/(AN5+EXP(AN6*(AN4-AJ120))))^AN5)/(1-((AN5+EXP(AN6*(AN4-AN7)))/(AN5+EXP(AN6*(AN4-AN9))))^AN5))","v":0},{"$f":"IF(OR(AJ120<=AN9,AJ120>100000),0,IF(AJ120<=AO7,AO8,AO8+(AO10-AO8)*(1-((AO5+EXP(AO6*(AO4-AO7)))/(AO5+EXP(AO6*(AO4-AJ120))))^AO5)/(1-((AO5+EXP(AO6*(AO4-AO7)))/(AO5+EXP(AO6*(AO4-AO9))))^AO5)))","v":0},0,0]
[110,{"$f":"'daily uptake'!F204","v":"2011-02-18"},{"$f":"5/9*'daily uptake'!Q204","v":6.9444444444444446},{"$f":"5/9*'daily uptake'!N204","v":0},{"$f":"IF(AND($A121>='daily uptake'!$C$9,$A121<='daily uptake'!$C$10),$C121+E120,0)","v":1001.3888888888885},{"$f":"IF(AND($A121>='daily uptake'!$C$18,$A121<='daily uptake'!$C$20),$D121+F120,0)","v":0},{"$f":"IF(AND($A121>='daily uptake'!$C$24,$A121<='daily uptake'!$C$25),$C121+G120,0)","v":0},{"$f":"IF(OR(F121<=I7,F121>I9),0,I8+(I10-I8)*(1-((I5+EXP(I6*(I4-I7)))/(I5+EXP(I6*(I4-F121))))^I5)/(1-((I5+EXP(I6*(I4-I7)))/(I5+EXP(I6*(I4-I9))))^I5))","v":0},{"$f":"IF(OR(F121<=J7,F121>J9),0,J8+(J10-J8)*(1-((J5+EXP(J6*(J4-J7)))/(J5+EXP(J6*(J4-F121))))^J5)/(1-((J5+EXP(J6*(J4-J7)))/(J5+EXP(J6*(J4-J9))))^J5))","v":0},{"$f":"IF(OR(F121<=J9,F121>100000),0,IF(F121<=K7,K8,K8+(K10-K8)*(1-((K5+EXP(K6*(K4-K7)))/(K5+EXP(K6*(K4-F121))))^K5)/(1-((K5+EXP(K6*(K4-K7)))/(K5+EXP(K6*(K4-K9))))^K5)))","v":0},0,0,62.703460541136074,0,"2011-02-18",{"$f":"MAX(L$12:L121)+MAX(M$12:M121)+MAX(N$12:N121)","v":62.703460541136074},"2011-02-18",0.7258374774414591,null,null,null,null,null,null,null,null,null,null,null,null,null,null,null,null,null,0,null,{"$f":"IF(OR(AJ121<=AM7,AJ121>AM9),0,AM8+(AM10-AM8)*(1-((AM5+EXP(AM6*(AM4-AM7)))/(AM5+EXP(AM6*(AM4-AJ121))))^AM5)/(1-((AM5+EXP(AM6*(AM4-AM7)))/(AM5+EXP(AM6*(AM4-AM9))))^AM5))","v":0},{"$f":"IF(OR(AJ121<=AN7,AJ121>AN9),0,AN8+(AN10-AN8)*(1-((AN5+EXP(AN6*(AN4-AN7)))/(AN5+EXP(AN6*(AN4-AJ121))))^AN5)/(1-((AN5+EXP(AN6*(AN4-AN7)))/(AN5+EXP(AN6*(AN4-AN9))))^AN5))","v":0},{"$f":"IF(OR(AJ121<=AN9,AJ121>100000),0,IF(AJ121<=AO7,AO8,AO8+(AO10-AO8)*(1-((AO5+EXP(AO6*(AO4-AO7)))/(AO5+EXP(AO6*(AO4-AJ121))))^AO5)/(1-((AO5+EXP(AO6*(AO4-AO7)))/(AO5+EXP(AO6*(AO4-AO9))))^AO5)))","v":0},0,0]
[111,{"$f":"'daily uptake'!F205","v":"2011-02-19"},{"$f":"5/9*'daily uptake'!Q205","v":7.5},{"$f":"5/9*'daily uptake'!N205","v":1.1111111111111112},{"$f":"IF(AND($A122>='daily uptake'!$C$9,$A122<='daily uptake'!$C$10),$C122+E121,0)","v":1008.8888888888885},{"$f":"IF(AND($A122>='daily uptake'!$C$18,$A122<='daily uptake'!$C$20),$D122+F121,0)","v":0},{"$f":"IF(AND($A122>='daily uptake'!$C$24,$A122<='daily uptake'!$C$25),$C122+G121,0)","v":0},{"$f":"IF(OR(F122<=I7,F122>I9),0,I8+(I10-I8)*(1-((I5+EXP(I6*(I4-I7)))/(I5+EXP(I6*(I4-F122))))^I5)/(1-((I5+EXP(I6*(I4-I7)))/(I5+EXP(I6*(I4-I9))))^I5))","v":0},{"$f":"IF(OR(F122<=J7,F122>J9),0,J8+(J10-J8)*(1-((J5+EXP(J6*(J4-J7)))/(J5+EXP(J6*(J4-F122))))^J5)/(1-((J5+EXP(J6*(J4-J7)))/(J5+EXP(J6*(J4-J9))))^J5))","v":0},{"$f":"IF(OR(F122<=J9,F122>100000),0,IF(F122<=K7,K8,K8+(K10-K8)*(1-((K5+EXP(K6*(K4-K7)))/(K5+EXP(K6*(K4-F122))))^K5)/(1-((K5+EXP(K6*(K4-K7)))/(K5+EXP(K6*(K4-K9))))^K5)))","v":0},0,0,63.491423208829254,0,"2011-02-19",{"$f":"MAX(L$12:L122)+MAX(M$12:M122)+MAX(N$12:N122)","v":63.491423208829254},"2011-02-19",0.78796266769317924,null,null,null,null,null,null,null,null,null,null,null,null,null,null,null,null,null,0,null,{"$f":"IF(OR(AJ122<=AM7,AJ122>AM9),0,AM8+(AM10-AM8)*(1-((AM5+EXP(AM6*(AM4-AM7)))/(AM5+EXP(AM6*(AM4-AJ122))))^AM5)/(1-((AM5+EXP(AM6*(AM4-AM7)))/(AM5+EXP(AM6*(AM4-AM9))))^AM5))","v":0},{"$f":"IF(OR(AJ122<=AN7,AJ122>AN9),0,AN8+(AN10-AN8)*(1-((AN5+EXP(AN6*(AN4-AN7)))/(AN5+EXP(AN6*(AN4-AJ122))))^AN5)/(1-((AN5+EXP(AN6*(AN4-AN7)))/(AN5+EXP(AN6*(AN4-AN9))))^AN5))","v":0},{"$f":"IF(OR(AJ122<=AN9,AJ122>100000),0,IF(AJ122<=AO7,AO8,AO8+(AO10-AO8)*(1-((AO5+EXP(AO6*(AO4-AO7)))/(AO5+EXP(AO6*(AO4-AJ122))))^AO5)/(1-((AO5+EXP(AO6*(AO4-AO7)))/(AO5+EXP(AO6*(AO4-AO9))))^AO5)))","v":0},0,0]
[112,{"$f":"'daily uptake'!F206","v":"2011-02-20"},{"$f":"5/9*'daily uptake'!Q206","v":6.666666666666667},{"$f":"5/9*'daily uptake'!N206","v":1.3888888888888888},{"$f":"IF(AND($A123>='daily uptake'!$C$9,$A123<='daily uptake'!$C$10),$C123+E122,0)","v":1015.5555555555551},{"$f":"IF(AND($A123>='daily uptake'!$C$18,$A123<='daily uptake'!$C$20),$D123+F122,0)","v":0},{"$f":"IF(AND($A123>='daily uptake'!$C$24,$A123<='daily uptake'!$C$25),$C123+G122,0)","v":0},{"$f":"IF(OR(F123<=I7,F123>I9),0,I8+(I10-I8)*(1-((I5+EXP(I6*(I4-I7)))/(I5+EXP(I6*(I4-F123))))^I5)/(1-((I5+EXP(I6*(I4-I7)))/(I5+EXP(I6*(I4-I9))))^I5))","v":0},{"$f":"IF(OR(F123<=J7,F123>J9),0,J8+(J10-J8)*(1-((J5+EXP(J6*(J4-J7)))/(J5+EXP(J6*(J4-F123))))^J5)/(1-((J5+EXP(J6*(J4-J7)))/(J5+EXP(J6*(J4-J9))))^J5))","v":0},{"$f":"IF(OR(F123<=J9,F123>100000),0,IF(F123<=K7,K8,K8+(K10-K8)*(1-((K5+EXP(K6*(K4-K7)))/(K5+EXP(K6*(K4-F123))))^K5)/(1-((K5+EXP(K6*(K4-K7)))/(K5+EXP(K6*(K4-K9))))^K5)))","v":0},0,0,64.195330377581001,0,"2011-02-20",{"$f":"MAX(L$12:L123)+MAX(M$12:M123)+MAX(N$12:N123)","v":64.195330377581001},"2011-02-20",0.70390716875174775,null,null,null,null,null,null,null,null,null,null,null,null,null,null,null,null,null,0,null,{"$f":"IF(OR(AJ123<=AM7,AJ123>AM9),0,AM8+(AM10-AM8)*(1-((AM5+EXP(AM6*(AM4-AM7)))/(AM5+EXP(AM6*(AM4-AJ123))))^AM5)/(1-((AM5+EXP(AM6*(AM4-AM7)))/(AM5+EXP(AM6*(AM4-AM9))))^AM5))","v":0},{"$f":"IF(OR(AJ123<=AN7,AJ123>AN9),0,AN8+(AN10-AN8)*(1-((AN5+EXP(AN6*(AN4-AN7)))/(AN5+EXP(AN6*(AN4-AJ123))))^AN5)/(1-((AN5+EXP(AN6*(AN4-AN7)))/(AN5+EXP(AN6*(AN4-AN9))))^AN5))","v":0},{"$f":"IF(OR(AJ123<=AN9,AJ123>100000),0,IF(AJ123<=AO7,AO8,AO8+(AO10-AO8)*(1-((AO5+EXP(AO6*(AO4-AO7)))/(AO5+EXP(AO6*(AO4-AJ123))))^AO5)/(1-((AO5+EXP(AO6*(AO4-AO7)))/(AO5+EXP(AO6*(AO4-AO9))))^AO5)))","v":0},0,0]
[113,{"$f":"'daily uptake'!F207","v":"2011-02-21"},{"$f":"5/9*'daily uptake'!Q207","v":7.2222222222222223},{"$f":"5/9*'daily uptake'!N207","v":1.1111111111111112},{"$f":"IF(AND($A124>='daily uptake'!$C$9,$A124<='daily uptake'!$C$10),$C124+E123,0)","v":1022.7777777777773},{"$f":"IF(AND($A124>='daily uptake'!$C$18,$A124<='daily uptake'!$C$20),$D124+F123,0)","v":0},{"$f":"IF(AND($A124>='daily uptake'!$C$24,$A124<='daily uptake'!$C$25),$C124+G123,0)","v":0},{"$f":"IF(OR(F124<=I7,F124>I9),0,I8+(I10-I8)*(1-((I5+EXP(I6*(I4-I7)))/(I5+EXP(I6*(I4-F124))))^I5)/(1-((I5+EXP(I6*(I4-I7)))/(I5+EXP(I6*(I4-I9))))^I5))","v":0},{"$f":"IF(OR(F124<=J7,F124>J9),0,J8+(J10-J8)*(1-((J5+EXP(J6*(J4-J7)))/(J5+EXP(J6*(J4-F124))))^J5)/(1-((J5+EXP(J6*(J4-J7)))/(J5+EXP(J6*(J4-J9))))^J5))","v":0},{"$f":"IF(OR(F124<=J9,F124>100000),0,IF(F124<=K7,K8,K8+(K10-K8)*(1-((K5+EXP(K6*(K4-K7)))/(K5+EXP(K6*(K4-F124))))^K5)/(1-((K5+EXP(K6*(K4-K7)))/(K5+EXP(K6*(K4-K9))))^K5)))","v":0},0,0,64.961563150484494,0,"2011-02-21",{"$f":"MAX(L$12:L124)+MAX(M$12:M124)+MAX(N$12:N124)","v":64.961563150484494},"2011-02-21",0.76623277290349279,null,null,null,null,null,null,null,null,null,null,null,null,null,null,null,null,null,0,null,{"$f":"IF(OR(AJ124<=AM7,AJ124>AM9),0,AM8+(AM10-AM8)*(1-((AM5+EXP(AM6*(AM4-AM7)))/(AM5+EXP(AM6*(AM4-AJ124))))^AM5)/(1-((AM5+EXP(AM6*(AM4-AM7)))/(AM5+EXP(AM6*(AM4-AM9))))^AM5))","v":0},{"$f":"IF(OR(AJ124<=AN7,AJ124>AN9),0,AN8+(AN10-AN8)*(1-((AN5+EXP(AN6*(AN4-AN7)))/(AN5+EXP(AN6*(AN4-AJ124))))^AN5)/(1-((AN5+EXP(AN6*(AN4-AN7)))/(AN5+EXP(AN6*(AN4-AN9))))^AN5))","v":0},{"$f":"IF(OR(AJ124<=AN9,AJ124>100000),0,IF(AJ124<=AO7,AO8,AO8+(AO10-AO8)*(1-((AO5+EXP(AO6*(AO4-AO7)))/(AO5+EXP(AO6*(AO4-AJ124))))^AO5)/(1-((AO5+EXP(AO6*(AO4-AO7)))/(AO5+EXP(AO6*(AO4-AO9))))^AO5)))","v":0},0,0]
[114,{"$f":"'daily uptake'!F208","v":"2011-02-22"},{"$f":"5/9*'daily uptake'!Q208","v":8.0555555555555554},{"$f":"5/9*'daily uptake'!N208","v":2.2222222222222223},{"$f":"IF(AND($A125>='daily uptake'!$C$9,$A125<='daily uptake'!$C$10),$C125+E124,0)","v":1030.8333333333328},{"$f":"IF(AND($A125>='daily uptake'!$C$18,$A125<='daily uptake'!$C$20),$D125+F124,0)","v":0},{"$f":"IF(AND($A125>='daily uptake'!$C$24,$A125<='daily uptake'!$C$25),$C125+G124,0)","v":0},{"$f":"IF(OR(F125<=I7,F125>I9),0,I8+(I10-I8)*(1-((I5+EXP(I6*(I4-I7)))/(I5+EXP(I6*(I4-F125))))^I5)/(1-((I5+EXP(I6*(I4-I7)))/(I5+EXP(I6*(I4-I9))))^I5))","v":0},{"$f":"IF(OR(F125<=J7,F125>J9),0,J8+(J10-J8)*(1-((J5+EXP(J6*(J4-J7)))/(J5+EXP(J6*(J4-F125))))^J5)/(1-((J5+EXP(J6*(J4-J7)))/(J5+EXP(J6*(J4-J9))))^J5))","v":0},{"$f":"IF(OR(F125<=J9,F125>100000),0,IF(F125<=K7,K8,K8+(K10-K8)*(1-((K5+EXP(K6*(K4-K7)))/(K5+EXP(K6*(K4-F125))))^K5)/(1-((K5+EXP(K6*(K4-K7)))/(K5+EXP(K6*(K4-K9))))^K5)))","v":0},0,0,65.820646406999828,0,"2011-02-22",{"$f":"MAX(L$12:L125)+MAX(M$12:M125)+MAX(N$12:N125)","v":65.820646406999828},"2011-02-22",0.85908325651533346,null,null,null,null,null,null,null,null,null,null,null,null,null,null,null,null,null,0,null,{"$f":"IF(OR(AJ125<=AM7,AJ125>AM9),0,AM8+(AM10-AM8)*(1-((AM5+EXP(AM6*(AM4-AM7)))/(AM5+EXP(AM6*(AM4-AJ125))))^AM5)/(1-((AM5+EXP(AM6*(AM4-AM7)))/(AM5+EXP(AM6*(AM4-AM9))))^AM5))","v":0},{"$f":"IF(OR(AJ125<=AN7,AJ125>AN9),0,AN8+(AN10-AN8)*(1-((AN5+EXP(AN6*(AN4-AN7)))/(AN5+EXP(AN6*(AN4-AJ125))))^AN5)/(1-((AN5+EXP(AN6*(AN4-AN7)))/(AN5+EXP(AN6*(AN4-AN9))))^AN5))","v":0},{"$f":"IF(OR(AJ125<=AN9,AJ125>100000),0,IF(AJ125<=AO7,AO8,AO8+(AO10-AO8)*(1-((AO5+EXP(AO6*(AO4-AO7)))/(AO5+EXP(AO6*(AO4-AJ125))))^AO5)/(1-((AO5+EXP(AO6*(AO4-AO7)))/(AO5+EXP(AO6*(AO4-AO9))))^AO5)))","v":0},0,0]
[115,{"$f":"'daily uptake'!F209","v":"2011-02-23"},{"$f":"5/9*'daily uptake'!Q209","v":6.9444444444444446},{"$f":"5/9*'daily uptake'!N209","v":2.2222222222222223},{"$f":"IF(AND($A126>='daily uptake'!$C$9,$A126<='daily uptake'!$C$10),$C126+E125,0)","v":1037.7777777777771},{"$f":"IF(AND($A126>='daily uptake'!$C$18,$A126<='daily uptake'!$C$20),$D126+F125,0)","v":0},{"$f":"IF(AND($A126>='daily uptake'!$C$24,$A126<='daily uptake'!$C$25),$C126+G125,0)","v":0},{"$f":"IF(OR(F126<=I7,F126>I9),0,I8+(I10-I8)*(1-((I5+EXP(I6*(I4-I7)))/(I5+EXP(I6*(I4-F126))))^I5)/(1-((I5+EXP(I6*(I4-I7)))/(I5+EXP(I6*(I4-I9))))^I5))","v":0},{"$f":"IF(OR(F126<=J7,F126>J9),0,J8+(J10-J8)*(1-((J5+EXP(J6*(J4-J7)))/(J5+EXP(J6*(J4-F126))))^J5)/(1-((J5+EXP(J6*(J4-J7)))/(J5+EXP(J6*(J4-J9))))^J5))","v":0},{"$f":"IF(OR(F126<=J9,F126>100000),0,IF(F126<=K7,K8,K8+(K10-K8)*(1-((K5+EXP(K6*(K4-K7)))/(K5+EXP(K6*(K4-F126))))^K5)/(1-((K5+EXP(K6*(K4-K7)))/(K5+EXP(K6*(K4-K9))))^K5)))","v":0},0,0,66.564940199108207,0,"2011-02-23",{"$f":"MAX(L$12:L126)+MAX(M$12:M126)+MAX(N$12:N126)","v":66.564940199108207},"2011-02-23",0.74429379210837965,null,null,null,null,null,null,null,null,null,null,null,null,null,null,null,null,null,0,null,{"$f":"IF(OR(AJ126<=AM7,AJ126>AM9),0,AM8+(AM10-AM8)*(1-((AM5+EXP(AM6*(AM4-AM7)))/(AM5+EXP(AM6*(AM4-AJ126))))^AM5)/(1-((AM5+EXP(AM6*(AM4-AM7)))/(AM5+EXP(AM6*(AM4-AM9))))^AM5))","v":0},{"$f":"IF(OR(AJ126<=AN7,AJ126>AN9),0,AN8+(AN10-AN8)*(1-((AN5+EXP(AN6*(AN4-AN7)))/(AN5+EXP(AN6*(AN4-AJ126))))^AN5)/(1-((AN5+EXP(AN6*(AN4-AN7)))/(AN5+EXP(AN6*(AN4-AN9))))^AN5))","v":0},{"$f":"IF(OR(AJ126<=AN9,AJ126>100000),0,IF(AJ126<=AO7,AO8,AO8+(AO10-AO8)*(1-((AO5+EXP(AO6*(AO4-AO7)))/(AO5+EXP(AO6*(AO4-AJ126))))^AO5)/(1-((AO5+EXP(AO6*(AO4-AO7)))/(AO5+EXP(AO6*(AO4-AO9))))^AO5)))","v":0},0,0]
[116,{"$f":"'daily uptake'!F210","v":"2011-02-24"},{"$f":"5/9*'daily uptake'!Q210","v":6.9444444444444446},{"$f":"5/9*'daily uptake'!N210","v":0.83333333333333337},{"$f":"IF(AND($A127>='daily uptake'!$C$9,$A127<='daily uptake'!$C$10),$C127+E126,0)","v":1044.7222222222215},{"$f":"IF(AND($A127>='daily uptake'!$C$18,$A127<='daily uptake'!$C$20),$D127+F126,0)","v":0},{"$f":"IF(AND($A127>='daily uptake'!$C$24,$A127<='daily uptake'!$C$25),$C127+G126,0)","v":0},{"$f":"IF(OR(F127<=I7,F127>I9),0,I8+(I10-I8)*(1-((I5+EXP(I6*(I4-I7)))/(I5+EXP(I6*(I4-F127))))^I5)/(1-((I5+EXP(I6*(I4-I7)))/(I5+EXP(I6*(I4-I9))))^I5))","v":0},{"$f":"IF(OR(F127<=J7,F127>J9),0,J8+(J10-J8)*(1-((J5+EXP(J6*(J4-J7)))/(J5+EXP(J6*(J4-F127))))^J5)/(1-((J5+EXP(J6*(J4-J7)))/(J5+EXP(J6*(J4-J9))))^J5))","v":0},{"$f":"IF(OR(F127<=J9,F127>100000),0,IF(F127<=K7,K8,K8+(K10-K8)*(1-((K5+EXP(K6*(K4-K7)))/(K5+EXP(K6*(K4-F127))))^K5)/(1-((K5+EXP(K6*(K4-K7)))/(K5+EXP(K6*(K4-K9))))^K5)))","v":0},0,0,67.312615357133609,0,"2011-02-24",{"$f":"MAX(L$12:L127)+MAX(M$12:M127)+MAX(N$12:N127)","v":67.312615357133609},"2011-02-24",0.74767515802540174,null,null,null,null,null,null,null,null,null,null,null,null,null,null,null,null,null,0,null,{"$f":"IF(OR(AJ127<=AM7,AJ127>AM9),0,AM8+(AM10-AM8)*(1-((AM5+EXP(AM6*(AM4-AM7)))/(AM5+EXP(AM6*(AM4-AJ127))))^AM5)/(1-((AM5+EXP(AM6*(AM4-AM7)))/(AM5+EXP(AM6*(AM4-AM9))))^AM5))","v":0},{"$f":"IF(OR(AJ127<=AN7,AJ127>AN9),0,AN8+(AN10-AN8)*(1-((AN5+EXP(AN6*(AN4-AN7)))/(AN5+EXP(AN6*(AN4-AJ127))))^AN5)/(1-((AN5+EXP(AN6*(AN4-AN7)))/(AN5+EXP(AN6*(AN4-AN9))))^AN5))","v":0},{"$f":"IF(OR(AJ127<=AN9,AJ127>100000),0,IF(AJ127<=AO7,AO8,AO8+(AO10-AO8)*(1-((AO5+EXP(AO6*(AO4-AO7)))/(AO5+EXP(AO6*(AO4-AJ127))))^AO5)/(1-((AO5+EXP(AO6*(AO4-AO7)))/(AO5+EXP(AO6*(AO4-AO9))))^AO5)))","v":0},0,0]
[117,{"$f":"'daily uptake'!F211","v":"2011-02-25"},{"$f":"5/9*'daily uptake'!Q211","v":7.7777777777777786},{"$f":"5/9*'daily uptake'!N211","v":0.83333333333333337},{"$f":"IF(AND($A128>='daily uptake'!$C$9,$A128<='daily uptake'!$C$10),$C128+E127,0)","v":1052.4999999999993},{"$f":"IF(AND($A128>='daily uptake'!$C$18,$A128<='daily uptake'!$C$20),$D128+F127,0)","v":0},{"$f":"IF(AND($A128>='daily uptake'!$C$24,$A128<='daily uptake'!$C$25),$C128+G127,0)","v":0},{"$f":"IF(OR(F128<=I7,F128>I9),0,I8+(I10-I8)*(1-((I5+EXP(I6*(I4-I7)))/(I5+EXP(I6*(I4-F128))))^I5)/(1-((I5+EXP(I6*(I4-I7)))/(I5+EXP(I6*(I4-I9))))^I5))","v":0},{"$f":"IF(OR(F128<=J7,F128>J9),0,J8+(J10-J8)*(1-((J5+EXP(J6*(J4-J7)))/(J5+EXP(J6*(J4-F128))))^J5)/(1-((J5+EXP(J6*(J4-J7)))/(J5+EXP(J6*(J4-J9))))^J5))","v":0},{"$f":"IF(OR(F128<=J9,F128>100000),0,IF(F128<=K7,K8,K8+(K10-K8)*(1-((K5+EXP(K6*(K4-K7)))/(K5+EXP(K6*(K4-F128))))^K5)/(1-((K5+EXP(K6*(K4-K7)))/(K5+EXP(K6*(K4-K9))))^K5)))","v":0},0,0,68.153967182952414,0,"2011-02-25",{"$f":"MAX(L$12:L128)+MAX(M$12:M128)+MAX(N$12:N128)","v":68.153967182952414},"2011-02-25",0.84135182581880485,null,null,null,null,null,null,null,null,null,null,null,null,null,null,null,null,null,0,null,{"$f":"IF(OR(AJ128<=AM7,AJ128>AM9),0,AM8+(AM10-AM8)*(1-((AM5+EXP(AM6*(AM4-AM7)))/(AM5+EXP(AM6*(AM4-AJ128))))^AM5)/(1-((AM5+EXP(AM6*(AM4-AM7)))/(AM5+EXP(AM6*(AM4-AM9))))^AM5))","v":0},{"$f":"IF(OR(AJ128<=AN7,AJ128>AN9),0,AN8+(AN10-AN8)*(1-((AN5+EXP(AN6*(AN4-AN7)))/(AN5+EXP(AN6*(AN4-AJ128))))^AN5)/(1-((AN5+EXP(AN6*(AN4-AN7)))/(AN5+EXP(AN6*(AN4-AN9))))^AN5))","v":0},{"$f":"IF(OR(AJ128<=AN9,AJ128>100000),0,IF(AJ128<=AO7,AO8,AO8+(AO10-AO8)*(1-((AO5+EXP(AO6*(AO4-AO7)))/(AO5+EXP(AO6*(AO4-AJ128))))^AO5)/(1-((AO5+EXP(AO6*(AO4-AO7)))/(AO5+EXP(AO6*(AO4-AO9))))^AO5)))","v":0},0,0]
[118,{"$f":"'daily uptake'!F212","v":"2011-02-26"},{"$f":"5/9*'daily uptake'!Q212","v":3.8888888888888893},{"$f":"5/9*'daily uptake'!N212","v":0},{"$f":"IF(AND($A129>='daily uptake'!$C$9,$A129<='daily uptake'!$C$10),$C129+E128,0)","v":1056.3888888888882},{"$f":"IF(AND($A129>='daily uptake'!$C$18,$A129<='daily uptake'!$C$20),$D129+F128,0)","v":0},{"$f":"IF(AND($A129>='daily uptake'!$C$24,$A129<='daily uptake'!$C$25),$C129+G128,0)","v":0},{"$f":"IF(OR(F129<=I7,F129>I9),0,I8+(I10-I8)*(1-((I5+EXP(I6*(I4-I7)))/(I5+EXP(I6*(I4-F129))))^I5)/(1-((I5+EXP(I6*(I4-I7)))/(I5+EXP(I6*(I4-I9))))^I5))","v":0},{"$f":"IF(OR(F129<=J7,F129>J9),0,J8+(J10-J8)*(1-((J5+EXP(J6*(J4-J7)))/(J5+EXP(J6*(J4-F129))))^J5)/(1-((J5+EXP(J6*(J4-J7)))/(J5+EXP(J6*(J4-J9))))^J5))","v":0},{"$f":"IF(OR(F129<=J9,F129>100000),0,IF(F129<=K7,K8,K8+(K10-K8)*(1-((K5+EXP(K6*(K4-K7)))/(K5+EXP(K6*(K4-F129))))^K5)/(1-((K5+EXP(K6*(K4-K7)))/(K5+EXP(K6*(K4-K9))))^K5)))","v":0},0,0,68.576190072975436,0,"2011-02-26",{"$f":"MAX(L$12:L129)+MAX(M$12:M129)+MAX(N$12:N129)","v":68.576190072975436},"2011-02-26",0.42222289002302205,null,null,null,null,null,null,null,null,null,null,null,null,null,null,null,null,null,0,null,{"$f":"IF(OR(AJ129<=AM7,AJ129>AM9),0,AM8+(AM10-AM8)*(1-((AM5+EXP(AM6*(AM4-AM7)))/(AM5+EXP(AM6*(AM4-AJ129))))^AM5)/(1-((AM5+EXP(AM6*(AM4-AM7)))/(AM5+EXP(AM6*(AM4-AM9))))^AM5))","v":0},{"$f":"IF(OR(AJ129<=AN7,AJ129>AN9),0,AN8+(AN10-AN8)*(1-((AN5+EXP(AN6*(AN4-AN7)))/(AN5+EXP(AN6*(AN4-AJ129))))^AN5)/(1-((AN5+EXP(AN6*(AN4-AN7)))/(AN5+EXP(AN6*(AN4-AN9))))^AN5))","v":0},{"$f":"IF(OR(AJ129<=AN9,AJ129>100000),0,IF(AJ129<=AO7,AO8,AO8+(AO10-AO8)*(1-((AO5+EXP(AO6*(AO4-AO7)))/(AO5+EXP(AO6*(AO4-AJ129))))^AO5)/(1-((AO5+EXP(AO6*(AO4-AO7)))/(AO5+EXP(AO6*(AO4-AO9))))^AO5)))","v":0},0,0]
[119,{"$f":"'daily uptake'!F213","v":"2011-02-27"},{"$f":"5/9*'daily uptake'!Q213","v":6.1111111111111116},{"$f":"5/9*'daily uptake'!N213","v":1.9444444444444446},{"$f":"IF(AND($A130>='daily uptake'!$C$9,$A130<='daily uptake'!$C$10),$C130+E129,0)","v":1062.4999999999993},{"$f":"IF(AND($A130>='daily uptake'!$C$18,$A130<='daily uptake'!$C$20),$D130+F129,0)","v":0},{"$f":"IF(AND($A130>='daily uptake'!$C$24,$A130<='daily uptake'!$C$25),$C130+G129,0)","v":0},{"$f":"IF(OR(F130<=I7,F130>I9),0,I8+(I10-I8)*(1-((I5+EXP(I6*(I4-I7)))/(I5+EXP(I6*(I4-F130))))^I5)/(1-((I5+EXP(I6*(I4-I7)))/(I5+EXP(I6*(I4-I9))))^I5))","v":0},{"$f":"IF(OR(F130<=J7,F130>J9),0,J8+(J10-J8)*(1-((J5+EXP(J6*(J4-J7)))/(J5+EXP(J6*(J4-F130))))^J5)/(1-((J5+EXP(J6*(J4-J7)))/(J5+EXP(J6*(J4-J9))))^J5))","v":0},{"$f":"IF(OR(F130<=J9,F130>100000),0,IF(F130<=K7,K8,K8+(K10-K8)*(1-((K5+EXP(K6*(K4-K7)))/(K5+EXP(K6*(K4-F130))))^K5)/(1-((K5+EXP(K6*(K4-K7)))/(K5+EXP(K6*(K4-K9))))^K5)))","v":0},0,0,69.241740218682864,0,"2011-02-27",{"$f":"MAX(L$12:L130)+MAX(M$12:M130)+MAX(N$12:N130)","v":69.241740218682864},"2011-02-27",0.66555014570742799,null,null,null,null,null,null,null,null,null,null,null,null,null,null,null,null,null,0,null,{"$f":"IF(OR(AJ130<=AM7,AJ130>AM9),0,AM8+(AM10-AM8)*(1-((AM5+EXP(AM6*(AM4-AM7)))/(AM5+EXP(AM6*(AM4-AJ130))))^AM5)/(1-((AM5+EXP(AM6*(AM4-AM7)))/(AM5+EXP(AM6*(AM4-AM9))))^AM5))","v":0},{"$f":"IF(OR(AJ130<=AN7,AJ130>AN9),0,AN8+(AN10-AN8)*(1-((AN5+EXP(AN6*(AN4-AN7)))/(AN5+EXP(AN6*(AN4-AJ130))))^AN5)/(1-((AN5+EXP(AN6*(AN4-AN7)))/(AN5+EXP(AN6*(AN4-AN9))))^AN5))","v":0},{"$f":"IF(OR(AJ130<=AN9,AJ130>100000),0,IF(AJ130<=AO7,AO8,AO8+(AO10-AO8)*(1-((AO5+EXP(AO6*(AO4-AO7)))/(AO5+EXP(AO6*(AO4-AJ130))))^AO5)/(1-((AO5+EXP(AO6*(AO4-AO7)))/(AO5+EXP(AO6*(AO4-AO9))))^AO5)))","v":0},0,0]
[120,{"$f":"'daily uptake'!F214","v":"2011-02-28"},{"$f":"5/9*'daily uptake'!Q214","v":7.7777777777777786},{"$f":"5/9*'daily uptake'!N214","v":3.0555555555555558},{"$f":"IF(AND($A131>='daily uptake'!$C$9,$A131<='daily uptake'!$C$10),$C131+E130,0)","v":1070.2777777777771},{"$f":"IF(AND($A131>='daily uptake'!$C$18,$A131<='daily uptake'!$C$20),$D131+F130,0)","v":0},{"$f":"IF(AND($A131>='daily uptake'!$C$24,$A131<='daily uptake'!$C$25),$C131+G130,0)","v":0},{"$f":"IF(OR(F131<=I7,F131>I9),0,I8+(I10-I8)*(1-((I5+EXP(I6*(I4-I7)))/(I5+EXP(I6*(I4-F131))))^I5)/(1-((I5+EXP(I6*(I4-I7)))/(I5+EXP(I6*(I4-I9))))^I5))","v":0},{"$f":"IF(OR(F131<=J7,F131>J9),0,J8+(J10-J8)*(1-((J5+EXP(J6*(J4-J7)))/(J5+EXP(J6*(J4-F131))))^J5)/(1-((J5+EXP(J6*(J4-J7)))/(J5+EXP(J6*(J4-J9))))^J5))","v":0},{"$f":"IF(OR(F131<=J9,F131>100000),0,IF(F131<=K7,K8,K8+(K10-K8)*(1-((K5+EXP(K6*(K4-K7)))/(K5+EXP(K6*(K4-F131))))^K5)/(1-((K5+EXP(K6*(K4-K7)))/(K5+EXP(K6*(K4-K9))))^K5)))","v":0},0,0,70.092392267336891,0,"2011-02-28",{"$f":"MAX(L$12:L131)+MAX(M$12:M131)+MAX(N$12:N131)","v":70.092392267336891},"2011-02-28",0.85065204865402677,null,null,null,null,null,null,null,null,null,null,null,null,null,null,null,null,null,6.3888888888888857,null,{"$f":"IF(OR(AJ131<=AM7,AJ131>AM9),0,AM8+(AM10-AM8)*(1-((AM5+EXP(AM6*(AM4-AM7)))/(AM5+EXP(AM6*(AM4-AJ131))))^AM5)/(1-((AM5+EXP(AM6*(AM4-AM7)))/(AM5+EXP(AM6*(AM4-AM9))))^AM5))","v":0},{"$f":"IF(OR(AJ131<=AN7,AJ131>AN9),0,AN8+(AN10-AN8)*(1-((AN5+EXP(AN6*(AN4-AN7)))/(AN5+EXP(AN6*(AN4-AJ131))))^AN5)/(1-((AN5+EXP(AN6*(AN4-AN7)))/(AN5+EXP(AN6*(AN4-AN9))))^AN5))","v":0},{"$f":"IF(OR(AJ131<=AN9,AJ131>100000),0,IF(AJ131<=AO7,AO8,AO8+(AO10-AO8)*(1-((AO5+EXP(AO6*(AO4-AO7)))/(AO5+EXP(AO6*(AO4-AJ131))))^AO5)/(1-((AO5+EXP(AO6*(AO4-AO7)))/(AO5+EXP(AO6*(AO4-AO9))))^AO5)))","v":0},0,0]
[121,{"$f":"'daily uptake'!F215","v":"2011-03-01"},{"$f":"5/9*'daily uptake'!Q215","v":7.5},{"$f":"5/9*'daily uptake'!N215","v":2.5},{"$f":"IF(AND($A132>='daily uptake'!$C$9,$A132<='daily uptake'!$C$10),$C132+E131,0)","v":1077.7777777777771},{"$f":"IF(AND($A132>='daily uptake'!$C$18,$A132<='daily uptake'!$C$20),$D132+F131,0)","v":0},{"$f":"IF(AND($A132>='daily uptake'!$C$24,$A132<='daily uptake'!$C$25),$C132+G131,0)","v":0},{"$f":"IF(OR(F132<=I7,F132>I9),0,I8+(I10-I8)*(1-((I5+EXP(I6*(I4-I7)))/(I5+EXP(I6*(I4-F132))))^I5)/(1-((I5+EXP(I6*(I4-I7)))/(I5+EXP(I6*(I4-I9))))^I5))","v":0},{"$f":"IF(OR(F132<=J7,F132>J9),0,J8+(J10-J8)*(1-((J5+EXP(J6*(J4-J7)))/(J5+EXP(J6*(J4-F132))))^J5)/(1-((J5+EXP(J6*(J4-J7)))/(J5+EXP(J6*(J4-J9))))^J5))","v":0},{"$f":"IF(OR(F132<=J9,F132>100000),0,IF(F132<=K7,K8,K8+(K10-K8)*(1-((K5+EXP(K6*(K4-K7)))/(K5+EXP(K6*(K4-F132))))^K5)/(1-((K5+EXP(K6*(K4-K7)))/(K5+EXP(K6*(K4-K9))))^K5)))","v":0},0,0,70.916407748324332,0,"2011-03-01",{"$f":"MAX(L$12:L132)+MAX(M$12:M132)+MAX(N$12:N132)","v":70.916407748324332},"2011-03-01",0.82401548098744115,null,null,null,null,null,null,null,null,null,null,null,null,null,null,null,null,null,12.489898989898979,null,{"$f":"IF(OR(AJ132<=AM7,AJ132>AM9),0,AM8+(AM10-AM8)*(1-((AM5+EXP(AM6*(AM4-AM7)))/(AM5+EXP(AM6*(AM4-AJ132))))^AM5)/(1-((AM5+EXP(AM6*(AM4-AM7)))/(AM5+EXP(AM6*(AM4-AM9))))^AM5))","v":0},{"$f":"IF(OR(AJ132<=AN7,AJ132>AN9),0,AN8+(AN10-AN8)*(1-((AN5+EXP(AN6*(AN4-AN7)))/(AN5+EXP(AN6*(AN4-AJ132))))^AN5)/(1-((AN5+EXP(AN6*(AN4-AN7)))/(AN5+EXP(AN6*(AN4-AN9))))^AN5))","v":0},{"$f":"IF(OR(AJ132<=AN9,AJ132>100000),0,IF(AJ132<=AO7,AO8,AO8+(AO10-AO8)*(1-((AO5+EXP(AO6*(AO4-AO7)))/(AO5+EXP(AO6*(AO4-AJ132))))^AO5)/(1-((AO5+EXP(AO6*(AO4-AO7)))/(AO5+EXP(AO6*(AO4-AO9))))^AO5)))","v":0},0,0]
[122,{"$f":"'daily uptake'!F216","v":"2011-03-02"},{"$f":"5/9*'daily uptake'!Q216","v":13.888888888888889},{"$f":"5/9*'daily uptake'!N216","v":4.166666666666667},{"$f":"IF(AND($A133>='daily uptake'!$C$9,$A133<='daily uptake'!$C$10),$C133+E132,0)","v":1091.6666666666661},{"$f":"IF(AND($A133>='daily uptake'!$C$18,$A133<='daily uptake'!$C$20),$D133+F132,0)","v":0},{"$f":"IF(AND($A133>='daily uptake'!$C$24,$A133<='daily uptake'!$C$25),$C133+G132,0)","v":0},{"$f":"IF(OR(F133<=I7,F133>I9),0,I8+(I10-I8)*(1-((I5+EXP(I6*(I4-I7)))/(I5+EXP(I6*(I4-F133))))^I5)/(1-((I5+EXP(I6*(I4-I7)))/(I5+EXP(I6*(I4-I9))))^I5))","v":0},{"$f":"IF(OR(F133<=J7,F133>J9),0,J8+(J10-J8)*(1-((J5+EXP(J6*(J4-J7)))/(J5+EXP(J6*(J4-F133))))^J5)/(1-((J5+EXP(J6*(J4-J7)))/(J5+EXP(J6*(J4-J9))))^J5))","v":0},{"$f":"IF(OR(F133<=J9,F133>100000),0,IF(F133<=K7,K8,K8+(K10-K8)*(1-((K5+EXP(K6*(K4-K7)))/(K5+EXP(K6*(K4-F133))))^K5)/(1-((K5+EXP(K6*(K4-K7)))/(K5+EXP(K6*(K4-K9))))^K5)))","v":0},0,0,72.451843636231544,0,"2011-03-02",{"$f":"MAX(L$12:L133)+MAX(M$12:M133)+MAX(N$12:N133)","v":72.451843636231544},"2011-03-02",1.5354358879072123,null,null,null,null,null,null,null,null,null,null,null,null,null,null,null,null,null,18.686868686868674,null,{"$f":"IF(OR(AJ133<=AM7,AJ133>AM9),0,AM8+(AM10-AM8)*(1-((AM5+EXP(AM6*(AM4-AM7)))/(AM5+EXP(AM6*(AM4-AJ133))))^AM5)/(1-((AM5+EXP(AM6*(AM4-AM7)))/(AM5+EXP(AM6*(AM4-AM9))))^AM5))","v":0},{"$f":"IF(OR(AJ133<=AN7,AJ133>AN9),0,AN8+(AN10-AN8)*(1-((AN5+EXP(AN6*(AN4-AN7)))/(AN5+EXP(AN6*(AN4-AJ133))))^AN5)/(1-((AN5+EXP(AN6*(AN4-AN7)))/(AN5+EXP(AN6*(AN4-AN9))))^AN5))","v":0},{"$f":"IF(OR(AJ133<=AN9,AJ133>100000),0,IF(AJ133<=AO7,AO8,AO8+(AO10-AO8)*(1-((AO5+EXP(AO6*(AO4-AO7)))/(AO5+EXP(AO6*(AO4-AJ133))))^AO5)/(1-((AO5+EXP(AO6*(AO4-AO7)))/(AO5+EXP(AO6*(AO4-AO9))))^AO5)))","v":0},0,0]
[123,{"$f":"'daily uptake'!F217","v":"2011-03-03"},{"$f":"5/9*'daily uptake'!Q217","v":12.222222222222223},{"$f":"5/9*'daily uptake'!N217","v":4.4444444444444446},{"$f":"IF(AND($A134>='daily uptake'!$C$9,$A134<='daily uptake'!$C$10),$C134+E133,0)","v":1103.8888888888882},{"$f":"IF(AND($A134>='daily uptake'!$C$18,$A134<='daily uptake'!$C$20),$D134+F133,0)","v":0},{"$f":"IF(AND($A134>='daily uptake'!$C$24,$A134<='daily uptake'!$C$25),$C134+G133,0)","v":0},{"$f":"IF(OR(F134<=I7,F134>I9),0,I8+(I10-I8)*(1-((I5+EXP(I6*(I4-I7)))/(I5+EXP(I6*(I4-F134))))^I5)/(1-((I5+EXP(I6*(I4-I7)))/(I5+EXP(I6*(I4-I9))))^I5))","v":0},{"$f":"IF(OR(F134<=J7,F134>J9),0,J8+(J10-J8)*(1-((J5+EXP(J6*(J4-J7)))/(J5+EXP(J6*(J4-F134))))^J5)/(1-((J5+EXP(J6*(J4-J7)))/(J5+EXP(J6*(J4-J9))))^J5))","v":0},{"$f":"IF(OR(F134<=J9,F134>100000),0,IF(F134<=K7,K8,K8+(K10-K8)*(1-((K5+EXP(K6*(K4-K7)))/(K5+EXP(K6*(K4-F134))))^K5)/(1-((K5+EXP(K6*(K4-K7)))/(K5+EXP(K6*(K4-K9))))^K5)))","v":0},0,0,73.812927086808273,0,"2011-03-03",{"$f":"MAX(L$12:L134)+MAX(M$12:M134)+MAX(N$12:N134)","v":73.812927086808273},"2011-03-03",1.3610834505767286,null,null,null,null,null,null,null,null,null,null,null,null,null,null,null,null,null,25.363636363636349,null,{"$f":"IF(OR(AJ134<=AM7,AJ134>AM9),0,AM8+(AM10-AM8)*(1-((AM5+EXP(AM6*(AM4-AM7)))/(AM5+EXP(AM6*(AM4-AJ134))))^AM5)/(1-((AM5+EXP(AM6*(AM4-AM7)))/(AM5+EXP(AM6*(AM4-AM9))))^AM5))","v":0},{"$f":"IF(OR(AJ134<=AN7,AJ134>AN9),0,AN8+(AN10-AN8)*(1-((AN5+EXP(AN6*(AN4-AN7)))/(AN5+EXP(AN6*(AN4-AJ134))))^AN5)/(1-((AN5+EXP(AN6*(AN4-AN7)))/(AN5+EXP(AN6*(AN4-AN9))))^AN5))","v":0},{"$f":"IF(OR(AJ134<=AN9,AJ134>100000),0,IF(AJ134<=AO7,AO8,AO8+(AO10-AO8)*(1-((AO5+EXP(AO6*(AO4-AO7)))/(AO5+EXP(AO6*(AO4-AJ134))))^AO5)/(1-((AO5+EXP(AO6*(AO4-AO7)))/(AO5+EXP(AO6*(AO4-AO9))))^AO5)))","v":0},0,0]
[124,{"$f":"'daily uptake'!F218","v":"2011-03-04"},{"$f":"5/9*'daily uptake'!Q218","v":11.388888888888889},{"$f":"5/9*'daily uptake'!N218","v":4.166666666666667},{"$f":"IF(AND($A135>='daily uptake'!$C$9,$A135<='daily uptake'!$C$10),$C135+E134,0)","v":1115.2777777777771},{"$f":"IF(AND($A135>='daily uptake'!$C$18,$A135<='daily uptake'!$C$20),$D135+F134,0)","v":0},{"$f":"IF(AND($A135>='daily uptake'!$C$24,$A135<='daily uptake'!$C$25),$C135+G134,0)","v":0},{"$f":"IF(OR(F135<=I7,F135>I9),0,I8+(I10-I8)*(1-((I5+EXP(I6*(I4-I7)))/(I5+EXP(I6*(I4-F135))))^I5)/(1-((I5+EXP(I6*(I4-I7)))/(I5+EXP(I6*(I4-I9))))^I5))","v":0},{"$f":"IF(OR(F135<=J7,F135>J9),0,J8+(J10-J8)*(1-((J5+EXP(J6*(J4-J7)))/(J5+EXP(J6*(J4-F135))))^J5)/(1-((J5+EXP(J6*(J4-J7)))/(J5+EXP(J6*(J4-J9))))^J5))","v":0},{"$f":"IF(OR(F135<=J9,F135>100000),0,IF(F135<=K7,K8,K8+(K10-K8)*(1-((K5+EXP(K6*(K4-K7)))/(K5+EXP(K6*(K4-F135))))^K5)/(1-((K5+EXP(K6*(K4-K7)))/(K5+EXP(K6*(K4-K9))))^K5)))","v":0},0,0,75.089275244003616,0,"2011-03-04",{"$f":"MAX(L$12:L135)+MAX(M$12:M135)+MAX(N$12:N135)","v":75.089275244003616},"2011-03-04",1.2763481571953434,null,null,null,null,null,null,null,null,null,null,null,null,null,null,null,null,null,31.813131313131301,null,{"$f":"IF(OR(AJ135<=AM7,AJ135>AM9),0,AM8+(AM10-AM8)*(1-((AM5+EXP(AM6*(AM4-AM7)))/(AM5+EXP(AM6*(AM4-AJ135))))^AM5)/(1-((AM5+EXP(AM6*(AM4-AM7)))/(AM5+EXP(AM6*(AM4-AM9))))^AM5))","v":0},{"$f":"IF(OR(AJ135<=AN7,AJ135>AN9),0,AN8+(AN10-AN8)*(1-((AN5+EXP(AN6*(AN4-AN7)))/(AN5+EXP(AN6*(AN4-AJ135))))^AN5)/(1-((AN5+EXP(AN6*(AN4-AN7)))/(AN5+EXP(AN6*(AN4-AN9))))^AN5))","v":0},{"$f":"IF(OR(AJ135<=AN9,AJ135>100000),0,IF(AJ135<=AO7,AO8,AO8+(AO10-AO8)*(1-((AO5+EXP(AO6*(AO4-AO7)))/(AO5+EXP(AO6*(AO4-AJ135))))^AO5)/(1-((AO5+EXP(AO6*(AO4-AO7)))/(AO5+EXP(AO6*(AO4-AO9))))^AO5)))","v":0},0,0]
[125,{"$f":"'daily uptake'!F219","v":"2011-03-05"},{"$f":"5/9*'daily uptake'!Q219","v":13.333333333333334},{"$f":"5/9*'daily uptake'!N219","v":5.2777777777777777},{"$f":"IF(AND($A136>='daily uptake'!$C$9,$A136<='daily uptake'!$C$10),$C136+E135,0)","v":1128.6111111111104},{"$f":"IF(AND($A136>='daily uptake'!$C$18,$A136<='daily uptake'!$C$20),$D136+F135,0)","v":0},{"$f":"IF(AND($A136>='daily uptake'!$C$24,$A136<='daily uptake'!$C$25),$C136+G135,0)","v":0},{"$f":"IF(OR(F136<=I7,F136>I9),0,I8+(I10-I8)*(1-((I5+EXP(I6*(I4-I7)))/(I5+EXP(I6*(I4-F136))))^I5)/(1-((I5+EXP(I6*(I4-I7)))/(I5+EXP(I6*(I4-I9))))^I5))","v":0},{"$f":"IF(OR(F136<=J7,F136>J9),0,J8+(J10-J8)*(1-((J5+EXP(J6*(J4-J7)))/(J5+EXP(J6*(J4-F136))))^J5)/(1-((J5+EXP(J6*(J4-J7)))/(J5+EXP(J6*(J4-J9))))^J5))","v":0},{"$f":"IF(OR(F136<=J9,F136>100000),0,IF(F136<=K7,K8,K8+(K10-K8)*(1-((K5+EXP(K6*(K4-K7)))/(K5+EXP(K6*(K4-F136))))^K5)/(1-((K5+EXP(K6*(K4-K7)))/(K5+EXP(K6*(K4-K9))))^K5)))","v":0},0,0,76.593081265524461,0,"2011-03-05",{"$f":"MAX(L$12:L136)+MAX(M$12:M136)+MAX(N$12:N136)","v":76.593081265524461},"2011-03-05",1.5038060215208446,null,null,null,null,null,null,null,null,null,null,null,null,null,null,null,null,null,38.338383838383834,null,{"$f":"IF(OR(AJ136<=AM7,AJ136>AM9),0,AM8+(AM10-AM8)*(1-((AM5+EXP(AM6*(AM4-AM7)))/(AM5+EXP(AM6*(AM4-AJ136))))^AM5)/(1-((AM5+EXP(AM6*(AM4-AM7)))/(AM5+EXP(AM6*(AM4-AM9))))^AM5))","v":0},{"$f":"IF(OR(AJ136<=AN7,AJ136>AN9),0,AN8+(AN10-AN8)*(1-((AN5+EXP(AN6*(AN4-AN7)))/(AN5+EXP(AN6*(AN4-AJ136))))^AN5)/(1-((AN5+EXP(AN6*(AN4-AN7)))/(AN5+EXP(AN6*(AN4-AN9))))^AN5))","v":0},{"$f":"IF(OR(AJ136<=AN9,AJ136>100000),0,IF(AJ136<=AO7,AO8,AO8+(AO10-AO8)*(1-((AO5+EXP(AO6*(AO4-AO7)))/(AO5+EXP(AO6*(AO4-AJ136))))^AO5)/(1-((AO5+EXP(AO6*(AO4-AO7)))/(AO5+EXP(AO6*(AO4-AO9))))^AO5)))","v":0},0,0]
[126,{"$f":"'daily uptake'!F220","v":"2011-03-06"},{"$f":"5/9*'daily uptake'!Q220","v":13.611111111111112},{"$f":"5/9*'daily uptake'!N220","v":3.6111111111111112},{"$f":"IF(AND($A137>='daily uptake'!$C$9,$A137<='daily uptake'!$C$10),$C137+E136,0)","v":1142.2222222222215},{"$f":"IF(AND($A137>='daily uptake'!$C$18,$A137<='daily uptake'!$C$20),$D137+F136,0)","v":0},{"$f":"IF(AND($A137>='daily uptake'!$C$24,$A137<='daily uptake'!$C$25),$C137+G136,0)","v":0},{"$f":"IF(OR(F137<=I7,F137>I9),0,I8+(I10-I8)*(1-((I5+EXP(I6*(I4-I7)))/(I5+EXP(I6*(I4-F137))))^I5)/(1-((I5+EXP(I6*(I4-I7)))/(I5+EXP(I6*(I4-I9))))^I5))","v":0},{"$f":"IF(OR(F137<=J7,F137>J9),0,J8+(J10-J8)*(1-((J5+EXP(J6*(J4-J7)))/(J5+EXP(J6*(J4-F137))))^J5)/(1-((J5+EXP(J6*(J4-J7)))/(J5+EXP(J6*(J4-J9))))^J5))","v":0},{"$f":"IF(OR(F137<=J9,F137>100000),0,IF(F137<=K7,K8,K8+(K10-K8)*(1-((K5+EXP(K6*(K4-K7)))/(K5+EXP(K6*(K4-F137))))^K5)/(1-((K5+EXP(K6*(K4-K7)))/(K5+EXP(K6*(K4-K9))))^K5)))","v":0},0,0,78.138430053556263,0,"2011-03-06",{"$f":"MAX(L$12:L137)+MAX(M$12:M137)+MAX(N$12:N137)","v":78.138430053556263},"2011-03-06",1.5453487880318022,null,null,null,null,null,null,null,null,null,null,null,null,null,null,null,null,null,44.585858585858581,null,{"$f":"IF(OR(AJ137<=AM7,AJ137>AM9),0,AM8+(AM10-AM8)*(1-((AM5+EXP(AM6*(AM4-AM7)))/(AM5+EXP(AM6*(AM4-AJ137))))^AM5)/(1-((AM5+EXP(AM6*(AM4-AM7)))/(AM5+EXP(AM6*(AM4-AM9))))^AM5))","v":0},{"$f":"IF(OR(AJ137<=AN7,AJ137>AN9),0,AN8+(AN10-AN8)*(1-((AN5+EXP(AN6*(AN4-AN7)))/(AN5+EXP(AN6*(AN4-AJ137))))^AN5)/(1-((AN5+EXP(AN6*(AN4-AN7)))/(AN5+EXP(AN6*(AN4-AN9))))^AN5))","v":0},{"$f":"IF(OR(AJ137<=AN9,AJ137>100000),0,IF(AJ137<=AO7,AO8,AO8+(AO10-AO8)*(1-((AO5+EXP(AO6*(AO4-AO7)))/(AO5+EXP(AO6*(AO4-AJ137))))^AO5)/(1-((AO5+EXP(AO6*(AO4-AO7)))/(AO5+EXP(AO6*(AO4-AO9))))^AO5)))","v":0},0,0]
[127,{"$f":"'daily uptake'!F221","v":"2011-03-07"},{"$f":"5/9*'daily uptake'!Q221","v":11.944444444444445},{"$f":"5/9*'daily uptake'!N221","v":2.5},{"$f":"IF(AND($A138>='daily uptake'!$C$9,$A138<='daily uptake'!$C$10),$C138+E137,0)","v":1154.1666666666658},{"$f":"IF(AND($A138>='daily uptake'!$C$18,$A138<='daily uptake'!$C$20),$D138+F137,0)","v":0},{"$f":"IF(AND($A138>='daily uptake'!$C$24,$A138<='daily uptake'!$C$25),$C138+G137,0)","v":0},{"$f":"IF(OR(F138<=I7,F138>I9),0,I8+(I10-I8)*(1-((I5+EXP(I6*(I4-I7)))/(I5+EXP(I6*(I4-F138))))^I5)/(1-((I5+EXP(I6*(I4-I7)))/(I5+EXP(I6*(I4-I9))))^I5))","v":0},{"$f":"IF(OR(F138<=J7,F138>J9),0,J8+(J10-J8)*(1-((J5+EXP(J6*(J4-J7)))/(J5+EXP(J6*(J4-F138))))^J5)/(1-((J5+EXP(J6*(J4-J7)))/(J5+EXP(J6*(J4-J9))))^J5))","v":0},{"$f":"IF(OR(F138<=J9,F138>100000),0,IF(F138<=K7,K8,K8+(K10-K8)*(1-((K5+EXP(K6*(K4-K7)))/(K5+EXP(K6*(K4-F138))))^K5)/(1-((K5+EXP(K6*(K4-K7)))/(K5+EXP(K6*(K4-K9))))^K5)))","v":0},0,0,79.502702010214321,0,"2011-03-07",{"$f":"MAX(L$12:L138)+MAX(M$12:M138)+MAX(N$12:N138)","v":79.502702010214321},"2011-03-07",1.3642719566580581,null,null,null,null,null,null,null,null,null,null,null,null,null,null,null,null,null,51.303030303030297,null,{"$f":"IF(OR(AJ138<=AM7,AJ138>AM9),0,AM8+(AM10-AM8)*(1-((AM5+EXP(AM6*(AM4-AM7)))/(AM5+EXP(AM6*(AM4-AJ138))))^AM5)/(1-((AM5+EXP(AM6*(AM4-AM7)))/(AM5+EXP(AM6*(AM4-AM9))))^AM5))","v":0},{"$f":"IF(OR(AJ138<=AN7,AJ138>AN9),0,AN8+(AN10-AN8)*(1-((AN5+EXP(AN6*(AN4-AN7)))/(AN5+EXP(AN6*(AN4-AJ138))))^AN5)/(1-((AN5+EXP(AN6*(AN4-AN7)))/(AN5+EXP(AN6*(AN4-AN9))))^AN5))","v":0},{"$f":"IF(OR(AJ138<=AN9,AJ138>100000),0,IF(AJ138<=AO7,AO8,AO8+(AO10-AO8)*(1-((AO5+EXP(AO6*(AO4-AO7)))/(AO5+EXP(AO6*(AO4-AJ138))))^AO5)/(1-((AO5+EXP(AO6*(AO4-AO7)))/(AO5+EXP(AO6*(AO4-AO9))))^AO5)))","v":0},0,0]
[128,{"$f":"'daily uptake'!F222","v":"2011-03-08"},{"$f":"5/9*'daily uptake'!Q222","v":11.388888888888889},{"$f":"5/9*'daily uptake'!N222","v":4.166666666666667},{"$f":"IF(AND($A139>='daily uptake'!$C$9,$A139<='daily uptake'!$C$10),$C139+E138,0)","v":1165.5555555555547},{"$f":"IF(AND($A139>='daily uptake'!$C$18,$A139<='daily uptake'!$C$20),$D139+F138,0)","v":0},{"$f":"IF(AND($A139>='daily uptake'!$C$24,$A139<='daily uptake'!$C$25),$C139+G138,0)","v":0},{"$f":"IF(OR(F139<=I7,F139>I9),0,I8+(I10-I8)*(1-((I5+EXP(I6*(I4-I7)))/(I5+EXP(I6*(I4-F139))))^I5)/(1-((I5+EXP(I6*(I4-I7)))/(I5+EXP(I6*(I4-I9))))^I5))","v":0},{"$f":"IF(OR(F139<=J7,F139>J9),0,J8+(J10-J8)*(1-((J5+EXP(J6*(J4-J7)))/(J5+EXP(J6*(J4-F139))))^J5)/(1-((J5+EXP(J6*(J4-J7)))/(J5+EXP(J6*(J4-J9))))^J5))","v":0},{"$f":"IF(OR(F139<=J9,F139>100000),0,IF(F139<=K7,K8,K8+(K10-K8)*(1-((K5+EXP(K6*(K4-K7)))/(K5+EXP(K6*(K4-F139))))^K5)/(1-((K5+EXP(K6*(K4-K7)))/(K5+EXP(K6*(K4-K9))))^K5)))","v":0},0,0,80.810316983046675,0,{"$f":"B139","v":"2011-03-08"},{"$f":"MAX(L$12:L139)+MAX(M$12:M139)+MAX(N$12:N139)","v":80.810316983046675},{"$f":"B139","v":"2011-03-08"},1.3076149728323543,null,null,null,null,null,null,null,null,null,null,null,null,null,null,null,null,null,58.252525252525245,null,{"$f":"IF(OR(AJ139<=AM7,AJ139>AM9),0,AM8+(AM10-AM8)*(1-((AM5+EXP(AM6*(AM4-AM7)))/(AM5+EXP(AM6*(AM4-AJ139))))^AM5)/(1-((AM5+EXP(AM6*(AM4-AM7)))/(AM5+EXP(AM6*(AM4-AM9))))^AM5))","v":0},{"$f":"IF(OR(AJ139<=AN7,AJ139>AN9),0,AN8+(AN10-AN8)*(1-((AN5+EXP(AN6*(AN4-AN7)))/(AN5+EXP(AN6*(AN4-AJ139))))^AN5)/(1-((AN5+EXP(AN6*(AN4-AN7)))/(AN5+EXP(AN6*(AN4-AN9))))^AN5))","v":0},{"$f":"IF(OR(AJ139<=AN9,AJ139>100000),0,IF(AJ139<=AO7,AO8,AO8+(AO10-AO8)*(1-((AO5+EXP(AO6*(AO4-AO7)))/(AO5+EXP(AO6*(AO4-AJ139))))^AO5)/(1-((AO5+EXP(AO6*(AO4-AO7)))/(AO5+EXP(AO6*(AO4-AO9))))^AO5)))","v":0},0,0]
[129,{"$f":"'daily uptake'!F223","v":"2011-03-09"},{"$f":"5/9*'daily uptake'!Q223","v":11.944444444444445},{"$f":"5/9*'daily uptake'!N223","v":4.7222222222222223},{"$f":"IF(AND($A140>='daily uptake'!$C$9,$A140<='daily uptake'!$C$10),$C140+E139,0)","v":1177.4999999999991},{"$f":"IF(AND($A140>='daily uptake'!$C$18,$A140<='daily uptake'!$C$20),$D140+F139,0)","v":0},{"$f":"IF(AND($A140>='daily uptake'!$C$24,$A140<='daily uptake'!$C$25),$C140+G139,0)","v":0},{"$f":"IF(OR(F140<=I7,F140>I9),0,I8+(I10-I8)*(1-((I5+EXP(I6*(I4-I7)))/(I5+EXP(I6*(I4-F140))))^I5)/(1-((I5+EXP(I6*(I4-I7)))/(I5+EXP(I6*(I4-I9))))^I5))","v":0},{"$f":"IF(OR(F140<=J7,F140>J9),0,J8+(J10-J8)*(1-((J5+EXP(J6*(J4-J7)))/(J5+EXP(J6*(J4-F140))))^J5)/(1-((J5+EXP(J6*(J4-J7)))/(J5+EXP(J6*(J4-J9))))^J5))","v":0},{"$f":"IF(OR(F140<=J9,F140>100000),0,IF(F140<=K7,K8,K8+(K10-K8)*(1-((K5+EXP(K6*(K4-K7)))/(K5+EXP(K6*(K4-F140))))^K5)/(1-((K5+EXP(K6*(K4-K7)))/(K5+EXP(K6*(K4-K9))))^K5)))","v":0},{"$f":"H140+I140+J140","v":0},0,{"$f":"M$10*(1-(($M$5+EXP($M$6*$M$4))/($M$5+EXP($M$6*($M$4-$E140))))^$M$5)/(1-(($M$5+EXP($M$6*$M$4))/($M$5+EXP($M$6*($M$4-M$9))))^$M$5)","v":82.188543172484586},0,"2011-03-09",{"$f":"MAX(L$12:L140)+MAX(M$12:M140)+MAX(N$12:N140)","v":82.188543172484586},"2011-03-09",1.3782261894379104,null,null,null,null,null,null,null,null,null,null,null,null,null,null,null,null,null,65.005050505050491,null,{"$f":"IF(OR(AJ140<=AM7,AJ140>AM9),0,AM8+(AM10-AM8)*(1-((AM5+EXP(AM6*(AM4-AM7)))/(AM5+EXP(AM6*(AM4-AJ140))))^AM5)/(1-((AM5+EXP(AM6*(AM4-AM7)))/(AM5+EXP(AM6*(AM4-AM9))))^AM5))","v":0},{"$f":"IF(OR(AJ140<=AN7,AJ140>AN9),0,AN8+(AN10-AN8)*(1-((AN5+EXP(AN6*(AN4-AN7)))/(AN5+EXP(AN6*(AN4-AJ140))))^AN5)/(1-((AN5+EXP(AN6*(AN4-AN7)))/(AN5+EXP(AN6*(AN4-AN9))))^AN5))","v":0},{"$f":"IF(OR(AJ140<=AN9,AJ140>100000),0,IF(AJ140<=AO7,AO8,AO8+(AO10-AO8)*(1-((AO5+EXP(AO6*(AO4-AO7)))/(AO5+EXP(AO6*(AO4-AJ140))))^AO5)/(1-((AO5+EXP(AO6*(AO4-AO7)))/(AO5+EXP(AO6*(AO4-AO9))))^AO5)))","v":0},{"$f":"AL140+AM140+AN140","v":0},0]
[130,{"$f":"'daily uptake'!F224","v":"2011-03-10"},{"$f":"5/9*'daily uptake'!Q224","v":12.5},{"$f":"5/9*'daily uptake'!N224","v":4.7222222222222223},{"$f":"IF(AND($A141>='daily uptake'!$C$9,$A141<='daily uptake'!$C$10),$C141+E140,0)","v":1189.9999999999991},{"$f":"IF(AND($A141>='daily uptake'!$C$18,$A141<='daily uptake'!$C$20),$D141+F140,0)","v":0},{"$f":"IF(AND($A141>='daily uptake'!$C$24,$A141<='daily uptake'!$C$25),$C141+G140,0)","v":0},{"$f":"IF(OR(F141<=I7,F141>I9),0,I8+(I10-I8)*(1-((I5+EXP(I6*(I4-I7)))/(I5+EXP(I6*(I4-F141))))^I5)/(1-((I5+EXP(I6*(I4-I7)))/(I5+EXP(I6*(I4-I9))))^I5))","v":0},{"$f":"IF(OR(F141<=J7,F141>J9),0,J8+(J10-J8)*(1-((J5+EXP(J6*(J4-J7)))/(J5+EXP(J6*(J4-F141))))^J5)/(1-((J5+EXP(J6*(J4-J7)))/(J5+EXP(J6*(J4-J9))))^J5))","v":0},{"$f":"IF(OR(F141<=J9,F141>100000),0,IF(F141<=K7,K8,K8+(K10-K8)*(1-((K5+EXP(K6*(K4-K7)))/(K5+EXP(K6*(K4-F141))))^K5)/(1-((K5+EXP(K6*(K4-K7)))/(K5+EXP(K6*(K4-K9))))^K5)))","v":0},0,{"$f":"IF(L$8=0,0,K141*L$7/L$8)","v":0},83.638010566503553,{"$f":"N$10*(1-(($N$5+EXP($N$6*$N$4))/($N$5+EXP($N$6*($N$4-$G141))))^$N$5)/(1-(($N$5+EXP($N$6*$N$4))/($N$5+EXP($N$6*($N$4-N$9))))^$N$5)","v":0},"2011-03-10",{"$f":"MAX(L$12:L141)+MAX(M$12:M141)+MAX(N$12:N141)","v":83.638010566503553},"2011-03-10",{"$f":"P141-P140","v":1.4494673940189671},null,null,null,null,null,null,null,null,null,null,null,null,null,null,null,null,null,72.313131313131294,null,{"$f":"IF(OR(AJ141<=AM7,AJ141>AM9),0,AM8+(AM10-AM8)*(1-((AM5+EXP(AM6*(AM4-AM7)))/(AM5+EXP(AM6*(AM4-AJ141))))^AM5)/(1-((AM5+EXP(AM6*(AM4-AM7)))/(AM5+EXP(AM6*(AM4-AM9))))^AM5))","v":0},{"$f":"IF(OR(AJ141<=AN7,AJ141>AN9),0,AN8+(AN10-AN8)*(1-((AN5+EXP(AN6*(AN4-AN7)))/(AN5+EXP(AN6*(AN4-AJ141))))^AN5)/(1-((AN5+EXP(AN6*(AN4-AN7)))/(AN5+EXP(AN6*(AN4-AN9))))^AN5))","v":0},{"$f":"IF(OR(AJ141<=AN9,AJ141>100000),0,IF(AJ141<=AO7,AO8,AO8+(AO10-AO8)*(1-((AO5+EXP(AO6*(AO4-AO7)))/(AO5+EXP(AO6*(AO4-AJ141))))^AO5)/(1-((AO5+EXP(AO6*(AO4-AO7)))/(AO5+EXP(AO6*(AO4-AO9))))^AO5)))","v":0},0,{"$f":"IF(AP$8=0,0,AO141*AP$7/AP$8)","v":0}]
[131,{"$f":"'daily uptake'!F225","v":"2011-03-11"},{"$f":"5/9*'daily uptake'!Q225","v":10.277777777777779},{"$f":"5/9*'daily uptake'!N225","v":3.3333333333333335},{"$f":"IF(AND($A142>='daily uptake'!$C$9,$A142<='daily uptake'!$C$10),$C142+E141,0)","v":1200.2777777777769},{"$f":"IF(AND($A142>='daily uptake'!$C$18,$A142<='daily uptake'!$C$20),$D142+F141,0)","v":0},{"$f":"IF(AND($A142>='daily uptake'!$C$24,$A142<='daily uptake'!$C$25),$C142+G141,0)","v":0},{"$f":"IF(OR(F142<=I7,F142>I9),0,I8+(I10-I8)*(1-((I5+EXP(I6*(I4-I7)))/(I5+EXP(I6*(I4-F142))))^I5)/(1-((I5+EXP(I6*(I4-I7)))/(I5+EXP(I6*(I4-I9))))^I5))","v":0},{"$f":"IF(OR(F142<=J7,F142>J9),0,J8+(J10-J8)*(1-((J5+EXP(J6*(J4-J7)))/(J5+EXP(J6*(J4-F142))))^J5)/(1-((J5+EXP(J6*(J4-J7)))/(J5+EXP(J6*(J4-J9))))^J5))","v":0},{"$f":"IF(OR(F142<=J9,F142>100000),0,IF(F142<=K7,K8,K8+(K10-K8)*(1-((K5+EXP(K6*(K4-K7)))/(K5+EXP(K6*(K4-F142))))^K5)/(1-((K5+EXP(K6*(K4-K7)))/(K5+EXP(K6*(K4-K9))))^K5)))","v":0},0,0,84.835002893307802,0,"2011-03-11",{"$f":"MAX(L$12:L142)+MAX(M$12:M142)+MAX(N$12:N142)","v":84.835002893307802},"2011-03-11",1.1969923268042493,null,null,null,null,null,null,null,null,null,null,null,null,null,null,null,null,null,79.828282828282795,null,{"$f":"IF(OR(AJ142<=AM7,AJ142>AM9),0,AM8+(AM10-AM8)*(1-((AM5+EXP(AM6*(AM4-AM7)))/(AM5+EXP(AM6*(AM4-AJ142))))^AM5)/(1-((AM5+EXP(AM6*(AM4-AM7)))/(AM5+EXP(AM6*(AM4-AM9))))^AM5))","v":0},{"$f":"IF(OR(AJ142<=AN7,AJ142>AN9),0,AN8+(AN10-AN8)*(1-((AN5+EXP(AN6*(AN4-AN7)))/(AN5+EXP(AN6*(AN4-AJ142))))^AN5)/(1-((AN5+EXP(AN6*(AN4-AN7)))/(AN5+EXP(AN6*(AN4-AN9))))^AN5))","v":0},{"$f":"IF(OR(AJ142<=AN9,AJ142>100000),0,IF(AJ142<=AO7,AO8,AO8+(AO10-AO8)*(1-((AO5+EXP(AO6*(AO4-AO7)))/(AO5+EXP(AO6*(AO4-AJ142))))^AO5)/(1-((AO5+EXP(AO6*(AO4-AO7)))/(AO5+EXP(AO6*(AO4-AO9))))^AO5)))","v":0},0,0]
[132,{"$f":"'daily uptake'!F226","v":"2011-03-12"},{"$f":"5/9*'daily uptake'!Q226","v":11.111111111111111},{"$f":"5/9*'daily uptake'!N226","v":3.8888888888888893},{"$f":"IF(AND($A143>='daily uptake'!$C$9,$A143<='daily uptake'!$C$10),$C143+E142,0)","v":1211.388888888888},{"$f":"IF(AND($A143>='daily uptake'!$C$18,$A143<='daily uptake'!$C$20),$D143+F142,0)","v":0},{"$f":"IF(AND($A143>='daily uptake'!$C$24,$A143<='daily uptake'!$C$25),$C143+G142,0)","v":0},{"$f":"IF(OR(F143<=I7,F143>I9),0,I8+(I10-I8)*(1-((I5+EXP(I6*(I4-I7)))/(I5+EXP(I6*(I4-F143))))^I5)/(1-((I5+EXP(I6*(I4-I7)))/(I5+EXP(I6*(I4-I9))))^I5))","v":0},{"$f":"IF(OR(F143<=J7,F143>J9),0,J8+(J10-J8)*(1-((J5+EXP(J6*(J4-J7)))/(J5+EXP(J6*(J4-F143))))^J5)/(1-((J5+EXP(J6*(J4-J7)))/(J5+EXP(J6*(J4-J9))))^J5))","v":0},{"$f":"IF(OR(F143<=J9,F143>100000),0,IF(F143<=K7,K8,K8+(K10-K8)*(1-((K5+EXP(K6*(K4-K7)))/(K5+EXP(K6*(K4-F143))))^K5)/(1-((K5+EXP(K6*(K4-K7)))/(K5+EXP(K6*(K4-K9))))^K5)))","v":0},0,0,86.134073334766256,0,"2011-03-12",{"$f":"MAX(L$12:L143)+MAX(M$12:M143)+MAX(N$12:N143)","v":86.134073334766256},"2011-03-12",1.2990704414584542,null,null,null,null,null,null,null,null,null,null,null,null,null,null,null,null,null,87.09595959595957,null,{"$f":"IF(OR(AJ143<=AM7,AJ143>AM9),0,AM8+(AM10-AM8)*(1-((AM5+EXP(AM6*(AM4-AM7)))/(AM5+EXP(AM6*(AM4-AJ143))))^AM5)/(1-((AM5+EXP(AM6*(AM4-AM7)))/(AM5+EXP(AM6*(AM4-AM9))))^AM5))","v":0},{"$f":"IF(OR(AJ143<=AN7,AJ143>AN9),0,AN8+(AN10-AN8)*(1-((AN5+EXP(AN6*(AN4-AN7)))/(AN5+EXP(AN6*(AN4-AJ143))))^AN5)/(1-((AN5+EXP(AN6*(AN4-AN7)))/(AN5+EXP(AN6*(AN4-AN9))))^AN5))","v":0},{"$f":"IF(OR(AJ143<=AN9,AJ143>100000),0,IF(AJ143<=AO7,AO8,AO8+(AO10-AO8)*(1-((AO5+EXP(AO6*(AO4-AO7)))/(AO5+EXP(AO6*(AO4-AJ143))))^AO5)/(1-((AO5+EXP(AO6*(AO4-AO7)))/(AO5+EXP(AO6*(AO4-AO9))))^AO5)))","v":0},0,0]
[133,{"$f":"'daily uptake'!F227","v":"2011-03-13"},{"$f":"5/9*'daily uptake'!Q227","v":12.222222222222223},{"$f":"5/9*'daily uptake'!N227","v":4.4444444444444446},{"$f":"IF(AND($A144>='daily uptake'!$C$9,$A144<='daily uptake'!$C$10),$C144+E143,0)","v":1223.6111111111102},{"$f":"IF(AND($A144>='daily uptake'!$C$18,$A144<='daily uptake'!$C$20),$D144+F143,0)","v":0},{"$f":"IF(AND($A144>='daily uptake'!$C$24,$A144<='daily uptake'!$C$25),$C144+G143,0)","v":0},{"$f":"IF(OR(F144<=I7,F144>I9),0,I8+(I10-I8)*(1-((I5+EXP(I6*(I4-I7)))/(I5+EXP(I6*(I4-F144))))^I5)/(1-((I5+EXP(I6*(I4-I7)))/(I5+EXP(I6*(I4-I9))))^I5))","v":0},{"$f":"IF(OR(F144<=J7,F144>J9),0,J8+(J10-J8)*(1-((J5+EXP(J6*(J4-J7)))/(J5+EXP(J6*(J4-F144))))^J5)/(1-((J5+EXP(J6*(J4-J7)))/(J5+EXP(J6*(J4-J9))))^J5))","v":0},{"$f":"IF(OR(F144<=J9,F144>100000),0,IF(F144<=K7,K8,K8+(K10-K8)*(1-((K5+EXP(K6*(K4-K7)))/(K5+EXP(K6*(K4-F144))))^K5)/(1-((K5+EXP(K6*(K4-K7)))/(K5+EXP(K6*(K4-K9))))^K5)))","v":0},0,0,87.56876360865499,0,"2011-03-13",{"$f":"MAX(L$12:L144)+MAX(M$12:M144)+MAX(N$12:N144)","v":87.56876360865499},"2011-03-13",1.4346902738887337,null,null,null,null,null,null,null,null,null,null,null,null,null,null,null,null,null,94.96969696969694,null,{"$f":"IF(OR(AJ144<=AM7,AJ144>AM9),0,AM8+(AM10-AM8)*(1-((AM5+EXP(AM6*(AM4-AM7)))/(AM5+EXP(AM6*(AM4-AJ144))))^AM5)/(1-((AM5+EXP(AM6*(AM4-AM7)))/(AM5+EXP(AM6*(AM4-AM9))))^AM5))","v":0},{"$f":"IF(OR(AJ144<=AN7,AJ144>AN9),0,AN8+(AN10-AN8)*(1-((AN5+EXP(AN6*(AN4-AN7)))/(AN5+EXP(AN6*(AN4-AJ144))))^AN5)/(1-((AN5+EXP(AN6*(AN4-AN7)))/(AN5+EXP(AN6*(AN4-AN9))))^AN5))","v":0},{"$f":"IF(OR(AJ144<=AN9,AJ144>100000),0,IF(AJ144<=AO7,AO8,AO8+(AO10-AO8)*(1-((AO5+EXP(AO6*(AO4-AO7)))/(AO5+EXP(AO6*(AO4-AJ144))))^AO5)/(1-((AO5+EXP(AO6*(AO4-AO7)))/(AO5+EXP(AO6*(AO4-AO9))))^AO5)))","v":0},0,0]
[134,{"$f":"'daily uptake'!F228","v":"2011-03-14"},{"$f":"5/9*'daily uptake'!Q228","v":16.388888888888889},{"$f":"5/9*'daily uptake'!N228","v":6.3888888888888893},{"$f":"IF(AND($A145>='daily uptake'!$C$9,$A145<='daily uptake'!$C$10),$C145+E144,0)","v":1239.9999999999991},{"$f":"IF(AND($A145>='daily uptake'!$C$18,$A145<='daily uptake'!$C$20),$D145+F144,0)","v":0},{"$f":"IF(AND($A145>='daily uptake'!$C$24,$A145<='daily uptake'!$C$25),$C145+G144,0)","v":0},{"$f":"IF(OR(F145<=I7,F145>I9),0,I8+(I10-I8)*(1-((I5+EXP(I6*(I4-I7)))/(I5+EXP(I6*(I4-F145))))^I5)/(1-((I5+EXP(I6*(I4-I7)))/(I5+EXP(I6*(I4-I9))))^I5))","v":0},{"$f":"IF(OR(F145<=J7,F145>J9),0,J8+(J10-J8)*(1-((J5+EXP(J6*(J4-J7)))/(J5+EXP(J6*(J4-F145))))^J5)/(1-((J5+EXP(J6*(J4-J7)))/(J5+EXP(J6*(J4-J9))))^J5))","v":0},{"$f":"IF(OR(F145<=J9,F145>100000),0,IF(F145<=K7,K8,K8+(K10-K8)*(1-((K5+EXP(K6*(K4-K7)))/(K5+EXP(K6*(K4-F145))))^K5)/(1-((K5+EXP(K6*(K4-K7)))/(K5+EXP(K6*(K4-K9))))^K5)))","v":0},0,0,89.501321104697624,0,"2011-03-14",{"$f":"MAX(L$12:L145)+MAX(M$12:M145)+MAX(N$12:N145)","v":89.501321104697624},"2011-03-14",1.9325574960426337,null,null,null,null,null,null,null,null,null,null,null,null,null,null,null,null,null,102.74747474747471,null,{"$f":"IF(OR(AJ145<=AM7,AJ145>AM9),0,AM8+(AM10-AM8)*(1-((AM5+EXP(AM6*(AM4-AM7)))/(AM5+EXP(AM6*(AM4-AJ145))))^AM5)/(1-((AM5+EXP(AM6*(AM4-AM7)))/(AM5+EXP(AM6*(AM4-AM9))))^AM5))","v":0},{"$f":"IF(OR(AJ145<=AN7,AJ145>AN9),0,AN8+(AN10-AN8)*(1-((AN5+EXP(AN6*(AN4-AN7)))/(AN5+EXP(AN6*(AN4-AJ145))))^AN5)/(1-((AN5+EXP(AN6*(AN4-AN7)))/(AN5+EXP(AN6*(AN4-AN9))))^AN5))","v":0},{"$f":"IF(OR(AJ145<=AN9,AJ145>100000),0,IF(AJ145<=AO7,AO8,AO8+(AO10-AO8)*(1-((AO5+EXP(AO6*(AO4-AO7)))/(AO5+EXP(AO6*(AO4-AJ145))))^AO5)/(1-((AO5+EXP(AO6*(AO4-AO7)))/(AO5+EXP(AO6*(AO4-AO9))))^AO5)))","v":0},0,0]
[135,{"$f":"'daily uptake'!F229","v":"2011-03-15"},{"$f":"5/9*'daily uptake'!Q229","v":15.555555555555557},{"$f":"5/9*'daily uptake'!N229","v":6.1111111111111116},{"$f":"IF(AND($A146>='daily uptake'!$C$9,$A146<='daily uptake'!$C$10),$C146+E145,0)","v":1255.5555555555547},{"$f":"IF(AND($A146>='daily uptake'!$C$18,$A146<='daily uptake'!$C$20),$D146+F145,0)","v":0},{"$f":"IF(AND($A146>='daily uptake'!$C$24,$A146<='daily uptake'!$C$25),$C146+G145,0)","v":0},{"$f":"IF(OR(F146<=I7,F146>I9),0,I8+(I10-I8)*(1-((I5+EXP(I6*(I4-I7)))/(I5+EXP(I6*(I4-F146))))^I5)/(1-((I5+EXP(I6*(I4-I7)))/(I5+EXP(I6*(I4-I9))))^I5))","v":0},{"$f":"IF(OR(F146<=J7,F146>J9),0,J8+(J10-J8)*(1-((J5+EXP(J6*(J4-J7)))/(J5+EXP(J6*(J4-F146))))^J5)/(1-((J5+EXP(J6*(J4-J7)))/(J5+EXP(J6*(J4-J9))))^J5))","v":0},{"$f":"IF(OR(F146<=J9,F146>100000),0,IF(F146<=K7,K8,K8+(K10-K8)*(1-((K5+EXP(K6*(K4-K7)))/(K5+EXP(K6*(K4-F146))))^K5)/(1-((K5+EXP(K6*(K4-K7)))/(K5+EXP(K6*(K4-K9))))^K5)))","v":0},0,0,91.344157934123587,0,"2011-03-15",{"$f":"MAX(L$12:L146)+MAX(M$12:M146)+MAX(N$12:N146)","v":91.344157934123587},"2011-03-15",1.8428368294259627,null,null,null,null,null,null,null,null,null,null,null,null,null,null,null,null,null,110.68181818181814,null,{"$f":"IF(OR(AJ146<=AM7,AJ146>AM9),0,AM8+(AM10-AM8)*(1-((AM5+EXP(AM6*(AM4-AM7)))/(AM5+EXP(AM6*(AM4-AJ146))))^AM5)/(1-((AM5+EXP(AM6*(AM4-AM7)))/(AM5+EXP(AM6*(AM4-AM9))))^AM5))","v":0},{"$f":"IF(OR(AJ146<=AN7,AJ146>AN9),0,AN8+(AN10-AN8)*(1-((AN5+EXP(AN6*(AN4-AN7)))/(AN5+EXP(AN6*(AN4-AJ146))))^AN5)/(1-((AN5+EXP(AN6*(AN4-AN7)))/(AN5+EXP(AN6*(AN4-AN9))))^AN5))","v":0},{"$f":"IF(OR(AJ146<=AN9,AJ146>100000),0,IF(AJ146<=AO7,AO8,AO8+(AO10-AO8)*(1-((AO5+EXP(AO6*(AO4-AO7)))/(AO5+EXP(AO6*(AO4-AJ146))))^AO5)/(1-((AO5+EXP(AO6*(AO4-AO7)))/(AO5+EXP(AO6*(AO4-AO9))))^AO5)))","v":0},0,0]
[136,{"$f":"'daily uptake'!F230","v":"2011-03-16"},{"$f":"5/9*'daily uptake'!Q230","v":11.111111111111111},{"$f":"5/9*'daily uptake'!N230","v":2.5},{"$f":"IF(AND($A147>='daily uptake'!$C$9,$A147<='daily uptake'!$C$10),$C147+E146,0)","v":1266.6666666666658},{"$f":"IF(AND($A147>='daily uptake'!$C$18,$A147<='daily uptake'!$C$20),$D147+F146,0)","v":0},{"$f":"IF(AND($A147>='daily uptake'!$C$24,$A147<='daily uptake'!$C$25),$C147+G146,0)","v":0},{"$f":"IF(OR(F147<=I7,F147>I9),0,I8+(I10-I8)*(1-((I5+EXP(I6*(I4-I7)))/(I5+EXP(I6*(I4-F147))))^I5)/(1-((I5+EXP(I6*(I4-I7)))/(I5+EXP(I6*(I4-I9))))^I5))","v":0},{"$f":"IF(OR(F147<=J7,F147>J9),0,J8+(J10-J8)*(1-((J5+EXP(J6*(J4-J7)))/(J5+EXP(J6*(J4-F147))))^J5)/(1-((J5+EXP(J6*(J4-J7)))/(J5+EXP(J6*(J4-J9))))^J5))","v":0},{"$f":"IF(OR(F147<=J9,F147>100000),0,IF(F147<=K7,K8,K8+(K10-K8)*(1-((K5+EXP(K6*(K4-K7)))/(K5+EXP(K6*(K4-F147))))^K5)/(1-((K5+EXP(K6*(K4-K7)))/(K5+EXP(K6*(K4-K9))))^K5)))","v":0},0,0,92.665125094991083,0,"2011-03-16",{"$f":"MAX(L$12:L147)+MAX(M$12:M147)+MAX(N$12:N147)","v":92.665125094991083},"2011-03-16",1.3209671608674967,null,null,null,null,null,null,null,null,null,null,null,null,null,null,null,null,null,119.02020202020198,null,{"$f":"IF(OR(AJ147<=AM7,AJ147>AM9),0,AM8+(AM10-AM8)*(1-((AM5+EXP(AM6*(AM4-AM7)))/(AM5+EXP(AM6*(AM4-AJ147))))^AM5)/(1-((AM5+EXP(AM6*(AM4-AM7)))/(AM5+EXP(AM6*(AM4-AM9))))^AM5))","v":0},{"$f":"IF(OR(AJ147<=AN7,AJ147>AN9),0,AN8+(AN10-AN8)*(1-((AN5+EXP(AN6*(AN4-AN7)))/(AN5+EXP(AN6*(AN4-AJ147))))^AN5)/(1-((AN5+EXP(AN6*(AN4-AN7)))/(AN5+EXP(AN6*(AN4-AN9))))^AN5))","v":0},{"$f":"IF(OR(AJ147<=AN9,AJ147>100000),0,IF(AJ147<=AO7,AO8,AO8+(AO10-AO8)*(1-((AO5+EXP(AO6*(AO4-AO7)))/(AO5+EXP(AO6*(AO4-AJ147))))^AO5)/(1-((AO5+EXP(AO6*(AO4-AO7)))/(AO5+EXP(AO6*(AO4-AO9))))^AO5)))","v":0},0,0]
[137,{"$f":"'daily uptake'!F231","v":"2011-03-17"},{"$f":"5/9*'daily uptake'!Q231","v":10},{"$f":"5/9*'daily uptake'!N231","v":3.6111111111111112},{"$f":"IF(AND($A148>='daily uptake'!$C$9,$A148<='daily uptake'!$C$10),$C148+E147,0)","v":1276.6666666666658},{"$f":"IF(AND($A148>='daily uptake'!$C$18,$A148<='daily uptake'!$C$20),$D148+F147,0)","v":0},{"$f":"IF(AND($A148>='daily uptake'!$C$24,$A148<='daily uptake'!$C$25),$C148+G147,0)","v":0},{"$f":"IF(OR(F148<=I7,F148>I9),0,I8+(I10-I8)*(1-((I5+EXP(I6*(I4-I7)))/(I5+EXP(I6*(I4-F148))))^I5)/(1-((I5+EXP(I6*(I4-I7)))/(I5+EXP(I6*(I4-I9))))^I5))","v":0},{"$f":"IF(OR(F148<=J7,F148>J9),0,J8+(J10-J8)*(1-((J5+EXP(J6*(J4-J7)))/(J5+EXP(J6*(J4-F148))))^J5)/(1-((J5+EXP(J6*(J4-J7)))/(J5+EXP(J6*(J4-J9))))^J5))","v":0},{"$f":"IF(OR(F148<=J9,F148>100000),0,IF(F148<=K7,K8,K8+(K10-K8)*(1-((K5+EXP(K6*(K4-K7)))/(K5+EXP(K6*(K4-F148))))^K5)/(1-((K5+EXP(K6*(K4-K7)))/(K5+EXP(K6*(K4-K9))))^K5)))","v":0},0,0,93.857042337188943,0,"2011-03-17",{"$f":"MAX(L$12:L148)+MAX(M$12:M148)+MAX(N$12:N148)","v":93.857042337188943},"2011-03-17",1.1919172421978601,null,null,null,null,null,null,null,null,null,null,null,null,null,null,null,null,null,127.49494949494945,null,{"$f":"IF(OR(AJ148<=AM7,AJ148>AM9),0,AM8+(AM10-AM8)*(1-((AM5+EXP(AM6*(AM4-AM7)))/(AM5+EXP(AM6*(AM4-AJ148))))^AM5)/(1-((AM5+EXP(AM6*(AM4-AM7)))/(AM5+EXP(AM6*(AM4-AM9))))^AM5))","v":0},{"$f":"IF(OR(AJ148<=AN7,AJ148>AN9),0,AN8+(AN10-AN8)*(1-((AN5+EXP(AN6*(AN4-AN7)))/(AN5+EXP(AN6*(AN4-AJ148))))^AN5)/(1-((AN5+EXP(AN6*(AN4-AN7)))/(AN5+EXP(AN6*(AN4-AN9))))^AN5))","v":0},{"$f":"IF(OR(AJ148<=AN9,AJ148>100000),0,IF(AJ148<=AO7,AO8,AO8+(AO10-AO8)*(1-((AO5+EXP(AO6*(AO4-AO7)))/(AO5+EXP(AO6*(AO4-AJ148))))^AO5)/(1-((AO5+EXP(AO6*(AO4-AO7)))/(AO5+EXP(AO6*(AO4-AO9))))^AO5)))","v":0},0,0]
[138,{"$f":"'daily uptake'!F232","v":"2011-03-18"},{"$f":"5/9*'daily uptake'!Q232","v":10},{"$f":"5/9*'daily uptake'!N232","v":2.5},{"$f":"IF(AND($A149>='daily uptake'!$C$9,$A149<='daily uptake'!$C$10),$C149+E148,0)","v":1286.6666666666658},{"$f":"IF(AND($A149>='daily uptake'!$C$18,$A149<='daily uptake'!$C$20),$D149+F148,0)","v":0},{"$f":"IF(AND($A149>='daily uptake'!$C$24,$A149<='daily uptake'!$C$25),$C149+G148,0)","v":0},{"$f":"IF(OR(F149<=I7,F149>I9),0,I8+(I10-I8)*(1-((I5+EXP(I6*(I4-I7)))/(I5+EXP(I6*(I4-F149))))^I5)/(1-((I5+EXP(I6*(I4-I7)))/(I5+EXP(I6*(I4-I9))))^I5))","v":0},{"$f":"IF(OR(F149<=J7,F149>J9),0,J8+(J10-J8)*(1-((J5+EXP(J6*(J4-J7)))/(J5+EXP(J6*(J4-F149))))^J5)/(1-((J5+EXP(J6*(J4-J7)))/(J5+EXP(J6*(J4-J9))))^J5))","v":0},{"$f":"IF(OR(F149<=J9,F149>100000),0,IF(F149<=K7,K8,K8+(K10-K8)*(1-((K5+EXP(K6*(K4-K7)))/(K5+EXP(K6*(K4-F149))))^K5)/(1-((K5+EXP(K6*(K4-K7)))/(K5+EXP(K6*(K4-K9))))^K5)))","v":0},0,0,95.051627101603287,0,"2011-03-18",{"$f":"MAX(L$12:L149)+MAX(M$12:M149)+MAX(N$12:N149)","v":95.051627101603287},"2011-03-18",1.1945847644143441,null,null,null,null,null,null,null,null,null,null,null,null,null,null,null,null,null,136.05050505050502,null,{"$f":"IF(OR(AJ149<=AM7,AJ149>AM9),0,AM8+(AM10-AM8)*(1-((AM5+EXP(AM6*(AM4-AM7)))/(AM5+EXP(AM6*(AM4-AJ149))))^AM5)/(1-((AM5+EXP(AM6*(AM4-AM7)))/(AM5+EXP(AM6*(AM4-AM9))))^AM5))","v":0},{"$f":"IF(OR(AJ149<=AN7,AJ149>AN9),0,AN8+(AN10-AN8)*(1-((AN5+EXP(AN6*(AN4-AN7)))/(AN5+EXP(AN6*(AN4-AJ149))))^AN5)/(1-((AN5+EXP(AN6*(AN4-AN7)))/(AN5+EXP(AN6*(AN4-AN9))))^AN5))","v":0},{"$f":"IF(OR(AJ149<=AN9,AJ149>100000),0,IF(AJ149<=AO7,AO8,AO8+(AO10-AO8)*(1-((AO5+EXP(AO6*(AO4-AO7)))/(AO5+EXP(AO6*(AO4-AJ149))))^AO5)/(1-((AO5+EXP(AO6*(AO4-AO7)))/(AO5+EXP(AO6*(AO4-AO9))))^AO5)))","v":0},0,0]
[139,{"$f":"'daily uptake'!F233","v":"2011-03-19"},{"$f":"5/9*'daily uptake'!Q233","v":8.6111111111111107},{"$f":"5/9*'daily uptake'!N233","v":0.83333333333333337},{"$f":"IF(AND($A150>='daily uptake'!$C$9,$A150<='daily uptake'!$C$10),$C150+E149,0)","v":1295.2777777777769},{"$f":"IF(AND($A150>='daily uptake'!$C$18,$A150<='daily uptake'!$C$20),$D150+F149,0)","v":0},{"$f":"IF(AND($A150>='daily uptake'!$C$24,$A150<='daily uptake'!$C$25),$C150+G149,0)","v":0},{"$f":"IF(OR(F150<=I7,F150>I9),0,I8+(I10-I8)*(1-((I5+EXP(I6*(I4-I7)))/(I5+EXP(I6*(I4-F150))))^I5)/(1-((I5+EXP(I6*(I4-I7)))/(I5+EXP(I6*(I4-I9))))^I5))","v":0},{"$f":"IF(OR(F150<=J7,F150>J9),0,J8+(J10-J8)*(1-((J5+EXP(J6*(J4-J7)))/(J5+EXP(J6*(J4-F150))))^J5)/(1-((J5+EXP(J6*(J4-J7)))/(J5+EXP(J6*(J4-J9))))^J5))","v":0},{"$f":"IF(OR(F150<=J9,F150>100000),0,IF(F150<=K7,K8,K8+(K10-K8)*(1-((K5+EXP(K6*(K4-K7)))/(K5+EXP(K6*(K4-F150))))^K5)/(1-((K5+EXP(K6*(K4-K7)))/(K5+EXP(K6*(K4-K9))))^K5)))","v":0},0,0,96.082272452694298,0,"2011-03-19",{"$f":"MAX(L$12:L150)+MAX(M$12:M150)+MAX(N$12:N150)","v":96.082272452694298},"2011-03-19",1.0306453510910103,null,null,null,null,null,null,null,null,null,null,null,null,null,null,null,null,null,144.76262626262624,null,{"$f":"IF(OR(AJ150<=AM7,AJ150>AM9),0,AM8+(AM10-AM8)*(1-((AM5+EXP(AM6*(AM4-AM7)))/(AM5+EXP(AM6*(AM4-AJ150))))^AM5)/(1-((AM5+EXP(AM6*(AM4-AM7)))/(AM5+EXP(AM6*(AM4-AM9))))^AM5))","v":0},{"$f":"IF(OR(AJ150<=AN7,AJ150>AN9),0,AN8+(AN10-AN8)*(1-((AN5+EXP(AN6*(AN4-AN7)))/(AN5+EXP(AN6*(AN4-AJ150))))^AN5)/(1-((AN5+EXP(AN6*(AN4-AN7)))/(AN5+EXP(AN6*(AN4-AN9))))^AN5))","v":0},{"$f":"IF(OR(AJ150<=AN9,AJ150>100000),0,IF(AJ150<=AO7,AO8,AO8+(AO10-AO8)*(1-((AO5+EXP(AO6*(AO4-AO7)))/(AO5+EXP(AO6*(AO4-AJ150))))^AO5)/(1-((AO5+EXP(AO6*(AO4-AO7)))/(AO5+EXP(AO6*(AO4-AO9))))^AO5)))","v":0},0,0]
[140,{"$f":"'daily uptake'!F234","v":"2011-03-20"},{"$f":"5/9*'daily uptake'!Q234","v":8.6111111111111107},{"$f":"5/9*'daily uptake'!N234","v":0.55555555555555558},{"$f":"IF(AND($A151>='daily uptake'!$C$9,$A151<='daily uptake'!$C$10),$C151+E150,0)","v":1303.888888888888},{"$f":"IF(AND($A151>='daily uptake'!$C$18,$A151<='daily uptake'!$C$20),$D151+F150,0)","v":0},{"$f":"IF(AND($A151>='daily uptake'!$C$24,$A151<='daily uptake'!$C$25),$C151+G150,0)","v":0},{"$f":"IF(OR(F151<=I7,F151>I9),0,I8+(I10-I8)*(1-((I5+EXP(I6*(I4-I7)))/(I5+EXP(I6*(I4-F151))))^I5)/(1-((I5+EXP(I6*(I4-I7)))/(I5+EXP(I6*(I4-I9))))^I5))","v":0},{"$f":"IF(OR(F151<=J7,F151>J9),0,J8+(J10-J8)*(1-((J5+EXP(J6*(J4-J7)))/(J5+EXP(J6*(J4-F151))))^J5)/(1-((J5+EXP(J6*(J4-J7)))/(J5+EXP(J6*(J4-J9))))^J5))","v":0},{"$f":"IF(OR(F151<=J9,F151>100000),0,IF(F151<=K7,K8,K8+(K10-K8)*(1-((K5+EXP(K6*(K4-K7)))/(K5+EXP(K6*(K4-F151))))^K5)/(1-((K5+EXP(K6*(K4-K7)))/(K5+EXP(K6*(K4-K9))))^K5)))","v":0},0,0,97.114601801531833,0,"2011-03-20",{"$f":"MAX(L$12:L151)+MAX(M$12:M151)+MAX(N$12:N151)","v":97.114601801531833},"2011-03-20",1.0323293488375356,null,null,null,null,null,null,null,null,null,null,null,null,null,null,null,null,null,153.33838383838383,null,{"$f":"IF(OR(AJ151<=AM7,AJ151>AM9),0,AM8+(AM10-AM8)*(1-((AM5+EXP(AM6*(AM4-AM7)))/(AM5+EXP(AM6*(AM4-AJ151))))^AM5)/(1-((AM5+EXP(AM6*(AM4-AM7)))/(AM5+EXP(AM6*(AM4-AM9))))^AM5))","v":0},{"$f":"IF(OR(AJ151<=AN7,AJ151>AN9),0,AN8+(AN10-AN8)*(1-((AN5+EXP(AN6*(AN4-AN7)))/(AN5+EXP(AN6*(AN4-AJ151))))^AN5)/(1-((AN5+EXP(AN6*(AN4-AN7)))/(AN5+EXP(AN6*(AN4-AN9))))^AN5))","v":0},{"$f":"IF(OR(AJ151<=AN9,AJ151>100000),0,IF(AJ151<=AO7,AO8,AO8+(AO10-AO8)*(1-((AO5+EXP(AO6*(AO4-AO7)))/(AO5+EXP(AO6*(AO4-AJ151))))^AO5)/(1-((AO5+EXP(AO6*(AO4-AO7)))/(AO5+EXP(AO6*(AO4-AO9))))^AO5)))","v":0},0,0]
[141,{"$f":"'daily uptake'!F235","v":"2011-03-21"},{"$f":"5/9*'daily uptake'!Q235","v":8.6111111111111107},{"$f":"5/9*'daily uptake'!N235","v":1.3888888888888888},{"$f":"IF(AND($A152>='daily uptake'!$C$9,$A152<='daily uptake'!$C$10),$C152+E151,0)","v":1312.4999999999991},{"$f":"IF(AND($A152>='daily uptake'!$C$18,$A152<='daily uptake'!$C$20),$D152+F151,0)","v":0},{"$f":"IF(AND($A152>='daily uptake'!$C$24,$A152<='daily uptake'!$C$25),$C152+G151,0)","v":0},{"$f":"IF(OR(F152<=I7,F152>I9),0,I8+(I10-I8)*(1-((I5+EXP(I6*(I4-I7)))/(I5+EXP(I6*(I4-F152))))^I5)/(1-((I5+EXP(I6*(I4-I7)))/(I5+EXP(I6*(I4-I9))))^I5))","v":0},{"$f":"IF(OR(F152<=J7,F152>J9),0,J8+(J10-J8)*(1-((J5+EXP(J6*(J4-J7)))/(J5+EXP(J6*(J4-F152))))^J5)/(1-((J5+EXP(J6*(J4-J7)))/(J5+EXP(J6*(J4-J9))))^J5))","v":0},{"$f":"IF(OR(F152<=J9,F152>100000),0,IF(F152<=K7,K8,K8+(K10-K8)*(1-((K5+EXP(K6*(K4-K7)))/(K5+EXP(K6*(K4-F152))))^K5)/(1-((K5+EXP(K6*(K4-K7)))/(K5+EXP(K6*(K4-K9))))^K5)))","v":0},0,0,98.148478117898193,0,"2011-03-21",{"$f":"MAX(L$12:L152)+MAX(M$12:M152)+MAX(N$12:N152)","v":98.148478117898193},"2011-03-21",1.03387631636636,null,null,null,null,null,null,null,null,null,null,null,null,null,null,null,null,null,161.94949494949495,null,{"$f":"IF(OR(AJ152<=AM7,AJ152>AM9),0,AM8+(AM10-AM8)*(1-((AM5+EXP(AM6*(AM4-AM7)))/(AM5+EXP(AM6*(AM4-AJ152))))^AM5)/(1-((AM5+EXP(AM6*(AM4-AM7)))/(AM5+EXP(AM6*(AM4-AM9))))^AM5))","v":0},{"$f":"IF(OR(AJ152<=AN7,AJ152>AN9),0,AN8+(AN10-AN8)*(1-((AN5+EXP(AN6*(AN4-AN7)))/(AN5+EXP(AN6*(AN4-AJ152))))^AN5)/(1-((AN5+EXP(AN6*(AN4-AN7)))/(AN5+EXP(AN6*(AN4-AN9))))^AN5))","v":0},{"$f":"IF(OR(AJ152<=AN9,AJ152>100000),0,IF(AJ152<=AO7,AO8,AO8+(AO10-AO8)*(1-((AO5+EXP(AO6*(AO4-AO7)))/(AO5+EXP(AO6*(AO4-AJ152))))^AO5)/(1-((AO5+EXP(AO6*(AO4-AO7)))/(AO5+EXP(AO6*(AO4-AO9))))^AO5)))","v":0},0,0]
[142,{"$f":"'daily uptake'!F236","v":"2011-03-22"},{"$f":"5/9*'daily uptake'!Q236","v":8.0555555555555554},{"$f":"5/9*'daily uptake'!N236","v":2.5},{"$f":"IF(AND($A153>='daily uptake'!$C$9,$A153<='daily uptake'!$C$10),$C153+E152,0)","v":1320.5555555555547},{"$f":"IF(AND($A153>='daily uptake'!$C$18,$A153<='daily uptake'!$C$20),$D153+F152,0)","v":0},{"$f":"IF(AND($A153>='daily uptake'!$C$24,$A153<='daily uptake'!$C$25),$C153+G152,0)","v":0},{"$f":"IF(OR(F153<=I7,F153>I9),0,I8+(I10-I8)*(1-((I5+EXP(I6*(I4-I7)))/(I5+EXP(I6*(I4-F153))))^I5)/(1-((I5+EXP(I6*(I4-I7)))/(I5+EXP(I6*(I4-I9))))^I5))","v":0},{"$f":"IF(OR(F153<=J7,F153>J9),0,J8+(J10-J8)*(1-((J5+EXP(J6*(J4-J7)))/(J5+EXP(J6*(J4-F153))))^J5)/(1-((J5+EXP(J6*(J4-J7)))/(J5+EXP(J6*(J4-J9))))^J5))","v":0},{"$f":"IF(OR(F153<=J9,F153>100000),0,IF(F153<=K7,K8,K8+(K10-K8)*(1-((K5+EXP(K6*(K4-K7)))/(K5+EXP(K6*(K4-F153))))^K5)/(1-((K5+EXP(K6*(K4-K7)))/(K5+EXP(K6*(K4-K9))))^K5)))","v":0},0,0,99.116931376666372,0,"2011-03-22",{"$f":"MAX(L$12:L153)+MAX(M$12:M153)+MAX(N$12:N153)","v":99.116931376666372},"2011-03-22",0.96845325876817867,null,null,null,null,null,null,null,null,null,null,null,null,null,null,null,null,null,170.76767676767676,null,{"$f":"IF(OR(AJ153<=AM7,AJ153>AM9),0,AM8+(AM10-AM8)*(1-((AM5+EXP(AM6*(AM4-AM7)))/(AM5+EXP(AM6*(AM4-AJ153))))^AM5)/(1-((AM5+EXP(AM6*(AM4-AM7)))/(AM5+EXP(AM6*(AM4-AM9))))^AM5))","v":0},{"$f":"IF(OR(AJ153<=AN7,AJ153>AN9),0,AN8+(AN10-AN8)*(1-((AN5+EXP(AN6*(AN4-AN7)))/(AN5+EXP(AN6*(AN4-AJ153))))^AN5)/(1-((AN5+EXP(AN6*(AN4-AN7)))/(AN5+EXP(AN6*(AN4-AN9))))^AN5))","v":0},{"$f":"IF(OR(AJ153<=AN9,AJ153>100000),0,IF(AJ153<=AO7,AO8,AO8+(AO10-AO8)*(1-((AO5+EXP(AO6*(AO4-AO7)))/(AO5+EXP(AO6*(AO4-AJ153))))^AO5)/(1-((AO5+EXP(AO6*(AO4-AO7)))/(AO5+EXP(AO6*(AO4-AO9))))^AO5)))","v":0},0,0]
[143,{"$f":"'daily uptake'!F237","v":"2011-03-23"},{"$f":"5/9*'daily uptake'!Q237","v":9.7222222222222232},{"$f":"5/9*'daily uptake'!N237","v":1.1111111111111112},{"$f":"IF(AND($A154>='daily uptake'!$C$9,$A154<='daily uptake'!$C$10),$C154+E153,0)","v":1330.2777777777769},{"$f":"IF(AND($A154>='daily uptake'!$C$18,$A154<='daily uptake'!$C$20),$D154+F153,0)","v":0},{"$f":"IF(AND($A154>='daily uptake'!$C$24,$A154<='daily uptake'!$C$25),$C154+G153,0)","v":0},{"$f":"IF(OR(F154<=I7,F154>I9),0,I8+(I10-I8)*(1-((I5+EXP(I6*(I4-I7)))/(I5+EXP(I6*(I4-F154))))^I5)/(1-((I5+EXP(I6*(I4-I7)))/(I5+EXP(I6*(I4-I9))))^I5))","v":0},{"$f":"IF(OR(F154<=J7,F154>J9),0,J8+(J10-J8)*(1-((J5+EXP(J6*(J4-J7)))/(J5+EXP(J6*(J4-F154))))^J5)/(1-((J5+EXP(J6*(J4-J7)))/(J5+EXP(J6*(J4-J9))))^J5))","v":0},{"$f":"IF(OR(F154<=J9,F154>100000),0,IF(F154<=K7,K8,K8+(K10-K8)*(1-((K5+EXP(K6*(K4-K7)))/(K5+EXP(K6*(K4-F154))))^K5)/(1-((K5+EXP(K6*(K4-K7)))/(K5+EXP(K6*(K4-K9))))^K5)))","v":0},0,0,100.28723605892282,0,"2011-03-23",{"$f":"MAX(L$12:L154)+MAX(M$12:M154)+MAX(N$12:N154)","v":100.28723605892282},"2011-03-23",1.1703046822564431,null,null,null,null,null,null,null,null,null,null,null,null,null,null,null,null,null,179.75757575757575,null,{"$f":"IF(OR(AJ154<=AM7,AJ154>AM9),0,AM8+(AM10-AM8)*(1-((AM5+EXP(AM6*(AM4-AM7)))/(AM5+EXP(AM6*(AM4-AJ154))))^AM5)/(1-((AM5+EXP(AM6*(AM4-AM7)))/(AM5+EXP(AM6*(AM4-AM9))))^AM5))","v":0},{"$f":"IF(OR(AJ154<=AN7,AJ154>AN9),0,AN8+(AN10-AN8)*(1-((AN5+EXP(AN6*(AN4-AN7)))/(AN5+EXP(AN6*(AN4-AJ154))))^AN5)/(1-((AN5+EXP(AN6*(AN4-AN7)))/(AN5+EXP(AN6*(AN4-AN9))))^AN5))","v":0},{"$f":"IF(OR(AJ154<=AN9,AJ154>100000),0,IF(AJ154<=AO7,AO8,AO8+(AO10-AO8)*(1-((AO5+EXP(AO6*(AO4-AO7)))/(AO5+EXP(AO6*(AO4-AJ154))))^AO5)/(1-((AO5+EXP(AO6*(AO4-AO7)))/(AO5+EXP(AO6*(AO4-AO9))))^AO5)))","v":0},0,0]
[144,{"$f":"'daily uptake'!F238","v":"2011-03-24"},{"$f":"5/9*'daily uptake'!Q238","v":8.0555555555555554},{"$f":"5/9*'daily uptake'!N238","v":0.55555555555555558},{"$f":"IF(AND($A155>='daily uptake'!$C$9,$A155<='daily uptake'!$C$10),$C155+E154,0)","v":1338.3333333333326},{"$f":"IF(AND($A155>='daily uptake'!$C$18,$A155<='daily uptake'!$C$20),$D155+F154,0)","v":0},{"$f":"IF(AND($A155>='daily uptake'!$C$24,$A155<='daily uptake'!$C$25),$C155+G154,0)","v":0},{"$f":"IF(OR(F155<=I7,F155>I9),0,I8+(I10-I8)*(1-((I5+EXP(I6*(I4-I7)))/(I5+EXP(I6*(I4-F155))))^I5)/(1-((I5+EXP(I6*(I4-I7)))/(I5+EXP(I6*(I4-I9))))^I5))","v":0},{"$f":"IF(OR(F155<=J7,F155>J9),0,J8+(J10-J8)*(1-((J5+EXP(J6*(J4-J7)))/(J5+EXP(J6*(J4-F155))))^J5)/(1-((J5+EXP(J6*(J4-J7)))/(J5+EXP(J6*(J4-J9))))^J5))","v":0},{"$f":"IF(OR(F155<=J9,F155>100000),0,IF(F155<=K7,K8,K8+(K10-K8)*(1-((K5+EXP(K6*(K4-K7)))/(K5+EXP(K6*(K4-F155))))^K5)/(1-((K5+EXP(K6*(K4-K7)))/(K5+EXP(K6*(K4-K9))))^K5)))","v":0},0,0,101.25801123863015,0,"2011-03-24",{"$f":"MAX(L$12:L155)+MAX(M$12:M155)+MAX(N$12:N155)","v":101.25801123863015},"2011-03-24",0.9707751797073314,null,null,null,null,null,null,null,null,null,null,null,null,null,null,null,null,null,188.83838383838383,null,{"$f":"IF(OR(AJ155<=AM7,AJ155>AM9),0,AM8+(AM10-AM8)*(1-((AM5+EXP(AM6*(AM4-AM7)))/(AM5+EXP(AM6*(AM4-AJ155))))^AM5)/(1-((AM5+EXP(AM6*(AM4-AM7)))/(AM5+EXP(AM6*(AM4-AM9))))^AM5))","v":0.34206038472691119},{"$f":"IF(OR(AJ155<=AN7,AJ155>AN9),0,AN8+(AN10-AN8)*(1-((AN5+EXP(AN6*(AN4-AN7)))/(AN5+EXP(AN6*(AN4-AJ155))))^AN5)/(1-((AN5+EXP(AN6*(AN4-AN7)))/(AN5+EXP(AN6*(AN4-AN9))))^AN5))","v":0},{"$f":"IF(OR(AJ155<=AN9,AJ155>100000),0,IF(AJ155<=AO7,AO8,AO8+(AO10-AO8)*(1-((AO5+EXP(AO6*(AO4-AO7)))/(AO5+EXP(AO6*(AO4-AJ155))))^AO5)/(1-((AO5+EXP(AO6*(AO4-AO7)))/(AO5+EXP(AO6*(AO4-AO9))))^AO5)))","v":0},0.34206038472691119,0.26152654795380653]
[145,{"$f":"'daily uptake'!F239","v":"2011-03-25"},{"$f":"5/9*'daily uptake'!Q239","v":9.7222222222222232},{"$f":"5/9*'daily uptake'!N239","v":2.7777777777777777},{"$f":"IF(AND($A156>='daily uptake'!$C$9,$A156<='daily uptake'!$C$10),$C156+E155,0)","v":1348.0555555555547},{"$f":"IF(AND($A156>='daily uptake'!$C$18,$A156<='daily uptake'!$C$20),$D156+F155,0)","v":0},{"$f":"IF(AND($A156>='daily uptake'!$C$24,$A156<='daily uptake'!$C$25),$C156+G155,0)","v":0},{"$f":"IF(OR(F156<=I7,F156>I9),0,I8+(I10-I8)*(1-((I5+EXP(I6*(I4-I7)))/(I5+EXP(I6*(I4-F156))))^I5)/(1-((I5+EXP(I6*(I4-I7)))/(I5+EXP(I6*(I4-I9))))^I5))","v":0},{"$f":"IF(OR(F156<=J7,F156>J9),0,J8+(J10-J8)*(1-((J5+EXP(J6*(J4-J7)))/(J5+EXP(J6*(J4-F156))))^J5)/(1-((J5+EXP(J6*(J4-J7)))/(J5+EXP(J6*(J4-J9))))^J5))","v":0},{"$f":"IF(OR(F156<=J9,F156>100000),0,IF(F156<=K7,K8,K8+(K10-K8)*(1-((K5+EXP(K6*(K4-K7)))/(K5+EXP(K6*(K4-F156))))^K5)/(1-((K5+EXP(K6*(K4-K7)))/(K5+EXP(K6*(K4-K9))))^K5)))","v":0},0,0,102.43078497164659,0,"2011-03-25",{"$f":"MAX(L$12:L156)+MAX(M$12:M156)+MAX(N$12:N156)","v":102.43078497164659},"2011-03-25",1.1727737330164416,null,null,null,null,null,null,null,null,null,null,null,null,null,null,null,null,null,198.02525252525251,null,{"$f":"IF(OR(AJ156<=AM7,AJ156>AM9),0,AM8+(AM10-AM8)*(1-((AM5+EXP(AM6*(AM4-AM7)))/(AM5+EXP(AM6*(AM4-AJ156))))^AM5)/(1-((AM5+EXP(AM6*(AM4-AM7)))/(AM5+EXP(AM6*(AM4-AM9))))^AM5))","v":0.88509508040462914},{"$f":"IF(OR(AJ156<=AN7,AJ156>AN9),0,AN8+(AN10-AN8)*(1-((AN5+EXP(AN6*(AN4-AN7)))/(AN5+EXP(AN6*(AN4-AJ156))))^AN5)/(1-((AN5+EXP(AN6*(AN4-AN7)))/(AN5+EXP(AN6*(AN4-AN9))))^AN5))","v":0},{"$f":"IF(OR(AJ156<=AN9,AJ156>100000),0,IF(AJ156<=AO7,AO8,AO8+(AO10-AO8)*(1-((AO5+EXP(AO6*(AO4-AO7)))/(AO5+EXP(AO6*(AO4-AJ156))))^AO5)/(1-((AO5+EXP(AO6*(AO4-AO7)))/(AO5+EXP(AO6*(AO4-AO9))))^AO5)))","v":0},0.88509508040462914,0.6767105204945657]
[146,{"$f":"'daily uptake'!F240","v":"2011-03-26"},{"$f":"5/9*'daily uptake'!Q240","v":9.7222222222222232},{"$f":"5/9*'daily uptake'!N240","v":0.83333333333333337},{"$f":"IF(AND($A157>='daily uptake'!$C$9,$A157<='daily uptake'!$C$10),$C157+E156,0)","v":1357.7777777777769},{"$f":"IF(AND($A157>='daily uptake'!$C$18,$A157<='daily uptake'!$C$20),$D157+F156,0)","v":0},{"$f":"IF(AND($A157>='daily uptake'!$C$24,$A157<='daily uptake'!$C$25),$C157+G156,0)","v":0},{"$f":"IF(OR(F157<=I7,F157>I9),0,I8+(I10-I8)*(1-((I5+EXP(I6*(I4-I7)))/(I5+EXP(I6*(I4-F157))))^I5)/(1-((I5+EXP(I6*(I4-I7)))/(I5+EXP(I6*(I4-I9))))^I5))","v":0},{"$f":"IF(OR(F157<=J7,F157>J9),0,J8+(J10-J8)*(1-((J5+EXP(J6*(J4-J7)))/(J5+EXP(J6*(J4-F157))))^J5)/(1-((J5+EXP(J6*(J4-J7)))/(J5+EXP(J6*(J4-J9))))^J5))","v":0},{"$f":"IF(OR(F157<=J9,F157>100000),0,IF(F157<=K7,K8,K8+(K10-K8)*(1-((K5+EXP(K6*(K4-K7)))/(K5+EXP(K6*(K4-F157))))^K5)/(1-((K5+EXP(K6*(K4-K7)))/(K5+EXP(K6*(K4-K9))))^K5)))","v":0},0,0,103.60462644913591,0,"2011-03-26",{"$f":"MAX(L$12:L157)+MAX(M$12:M157)+MAX(N$12:N157)","v":103.60462644913591},"2011-03-26",1.1738414774893187,null,null,null,null,null,null,null,null,null,null,null,null,null,null,null,null,null,207.37373737373736,null,{"$f":"IF(OR(AJ157<=AM7,AJ157>AM9),0,AM8+(AM10-AM8)*(1-((AM5+EXP(AM6*(AM4-AM7)))/(AM5+EXP(AM6*(AM4-AJ157))))^AM5)/(1-((AM5+EXP(AM6*(AM4-AM7)))/(AM5+EXP(AM6*(AM4-AM9))))^AM5))","v":1.5347078314521543},{"$f":"IF(OR(AJ157<=AN7,AJ157>AN9),0,AN8+(AN10-AN8)*(1-((AN5+EXP(AN6*(AN4-AN7)))/(AN5+EXP(AN6*(AN4-AJ157))))^AN5)/(1-((AN5+EXP(AN6*(AN4-AN7)))/(AN5+EXP(AN6*(AN4-AN9))))^AN5))","v":0},{"$f":"IF(OR(AJ157<=AN9,AJ157>100000),0,IF(AJ157<=AO7,AO8,AO8+(AO10-AO8)*(1-((AO5+EXP(AO6*(AO4-AO7)))/(AO5+EXP(AO6*(AO4-AJ157))))^AO5)/(1-((AO5+EXP(AO6*(AO4-AO7)))/(AO5+EXP(AO6*(AO4-AO9))))^AO5)))","v":0},1.5347078314521543,1.1733800790693467]
[147,{"$f":"'daily uptake'!F241","v":"2011-03-27"},{"$f":"5/9*'daily uptake'!Q241","v":11.388888888888889},{"$f":"5/9*'daily uptake'!N241","v":4.166666666666667},{"$f":"IF(AND($A158>='daily uptake'!$C$9,$A158<='daily uptake'!$C$10),$C158+E157,0)","v":1369.1666666666658},{"$f":"IF(AND($A158>='daily uptake'!$C$18,$A158<='daily uptake'!$C$20),$D158+F157,0)","v":0},{"$f":"IF(AND($A158>='daily uptake'!$C$24,$A158<='daily uptake'!$C$25),$C158+G157,0)","v":0},{"$f":"IF(OR(F158<=I7,F158>I9),0,I8+(I10-I8)*(1-((I5+EXP(I6*(I4-I7)))/(I5+EXP(I6*(I4-F158))))^I5)/(1-((I5+EXP(I6*(I4-I7)))/(I5+EXP(I6*(I4-I9))))^I5))","v":0},{"$f":"IF(OR(F158<=J7,F158>J9),0,J8+(J10-J8)*(1-((J5+EXP(J6*(J4-J7)))/(J5+EXP(J6*(J4-F158))))^J5)/(1-((J5+EXP(J6*(J4-J7)))/(J5+EXP(J6*(J4-J9))))^J5))","v":0},{"$f":"IF(OR(F158<=J9,F158>100000),0,IF(F158<=K7,K8,K8+(K10-K8)*(1-((K5+EXP(K6*(K4-K7)))/(K5+EXP(K6*(K4-F158))))^K5)/(1-((K5+EXP(K6*(K4-K7)))/(K5+EXP(K6*(K4-K9))))^K5)))","v":0},0,0,104.98078691293233,0,"2011-03-27",{"$f":"MAX(L$12:L158)+MAX(M$12:M158)+MAX(N$12:N158)","v":104.98078691293233},"2011-03-27",1.376160463796424,null,null,null,null,null,null,null,null,null,null,null,null,null,null,null,null,null,217.08585858585857,null,{"$f":"IF(OR(AJ158<=AM7,AJ158>AM9),0,AM8+(AM10-AM8)*(1-((AM5+EXP(AM6*(AM4-AM7)))/(AM5+EXP(AM6*(AM4-AJ158))))^AM5)/(1-((AM5+EXP(AM6*(AM4-AM7)))/(AM5+EXP(AM6*(AM4-AM9))))^AM5))","v":2.3195432953486943},{"$f":"IF(OR(AJ158<=AN7,AJ158>AN9),0,AN8+(AN10-AN8)*(1-((AN5+EXP(AN6*(AN4-AN7)))/(AN5+EXP(AN6*(AN4-AJ158))))^AN5)/(1-((AN5+EXP(AN6*(AN4-AN7)))/(AN5+EXP(AN6*(AN4-AN9))))^AN5))","v":0},{"$f":"IF(OR(AJ158<=AN9,AJ158>100000),0,IF(AJ158<=AO7,AO8,AO8+(AO10-AO8)*(1-((AO5+EXP(AO6*(AO4-AO7)))/(AO5+EXP(AO6*(AO4-AJ158))))^AO5)/(1-((AO5+EXP(AO6*(AO4-AO7)))/(AO5+EXP(AO6*(AO4-AO9))))^AO5)))","v":0},2.3195432953486943,1.7734358550354967]
[148,{"$f":"'daily uptake'!F242","v":"2011-03-28"},{"$f":"5/9*'daily uptake'!Q242","v":11.111111111111111},{"$f":"5/9*'daily uptake'!N242","v":3.3333333333333335},{"$f":"IF(AND($A159>='daily uptake'!$C$9,$A159<='daily uptake'!$C$10),$C159+E158,0)","v":1380.2777777777769},{"$f":"IF(AND($A159>='daily uptake'!$C$18,$A159<='daily uptake'!$C$20),$D159+F158,0)","v":0},{"$f":"IF(AND($A159>='daily uptake'!$C$24,$A159<='daily uptake'!$C$25),$C159+G158,0)","v":0},{"$f":"IF(OR(F159<=I7,F159>I9),0,I8+(I10-I8)*(1-((I5+EXP(I6*(I4-I7)))/(I5+EXP(I6*(I4-F159))))^I5)/(1-((I5+EXP(I6*(I4-I7)))/(I5+EXP(I6*(I4-I9))))^I5))","v":0},{"$f":"IF(OR(F159<=J7,F159>J9),0,J8+(J10-J8)*(1-((J5+EXP(J6*(J4-J7)))/(J5+EXP(J6*(J4-F159))))^J5)/(1-((J5+EXP(J6*(J4-J7)))/(J5+EXP(J6*(J4-J9))))^J5))","v":0},{"$f":"IF(OR(F159<=J9,F159>100000),0,IF(F159<=K7,K8,K8+(K10-K8)*(1-((K5+EXP(K6*(K4-K7)))/(K5+EXP(K6*(K4-F159))))^K5)/(1-((K5+EXP(K6*(K4-K7)))/(K5+EXP(K6*(K4-K9))))^K5)))","v":0},0,0,106.32422249369442,0,"2011-03-28",{"$f":"MAX(L$12:L159)+MAX(M$12:M159)+MAX(N$12:N159)","v":106.32422249369442},"2011-03-28",1.3434355807620904,null,null,null,null,null,null,null,null,null,null,null,null,null,null,null,null,null,226.76262626262624,null,{"$f":"IF(OR(AJ159<=AM7,AJ159>AM9),0,AM8+(AM10-AM8)*(1-((AM5+EXP(AM6*(AM4-AM7)))/(AM5+EXP(AM6*(AM4-AJ159))))^AM5)/(1-((AM5+EXP(AM6*(AM4-AM7)))/(AM5+EXP(AM6*(AM4-AM9))))^AM5))","v":3.2160543684094725},{"$f":"IF(OR(AJ159<=AN7,AJ159>AN9),0,AN8+(AN10-AN8)*(1-((AN5+EXP(AN6*(AN4-AN7)))/(AN5+EXP(AN6*(AN4-AJ159))))^AN5)/(1-((AN5+EXP(AN6*(AN4-AN7)))/(AN5+EXP(AN6*(AN4-AN9))))^AN5))","v":0},{"$f":"IF(OR(AJ159<=AN9,AJ159>100000),0,IF(AJ159<=AO7,AO8,AO8+(AO10-AO8)*(1-((AO5+EXP(AO6*(AO4-AO7)))/(AO5+EXP(AO6*(AO4-AJ159))))^AO5)/(1-((AO5+EXP(AO6*(AO4-AO7)))/(AO5+EXP(AO6*(AO4-AO9))))^AO5)))","v":0},3.2160543684094725,2.4588746155839702]
[149,{"$f":"'daily uptake'!F243","v":"2011-03-29"},{"$f":"5/9*'daily uptake'!Q243","v":11.944444444444445},{"$f":"5/9*'daily uptake'!N243","v":4.7222222222222223},{"$f":"IF(AND($A160>='daily uptake'!$C$9,$A160<='daily uptake'!$C$10),$C160+E159,0)","v":1392.2222222222213},{"$f":"IF(AND($A160>='daily uptake'!$C$18,$A160<='daily uptake'!$C$20),$D160+F159,0)","v":0},{"$f":"IF(AND($A160>='daily uptake'!$C$24,$A160<='daily uptake'!$C$25),$C160+G159,0)","v":0},{"$f":"IF(OR(F160<=I7,F160>I9),0,I8+(I10-I8)*(1-((I5+EXP(I6*(I4-I7)))/(I5+EXP(I6*(I4-F160))))^I5)/(1-((I5+EXP(I6*(I4-I7)))/(I5+EXP(I6*(I4-I9))))^I5))","v":0},{"$f":"IF(OR(F160<=J7,F160>J9),0,J8+(J10-J8)*(1-((J5+EXP(J6*(J4-J7)))/(J5+EXP(J6*(J4-F160))))^J5)/(1-((J5+EXP(J6*(J4-J7)))/(J5+EXP(J6*(J4-J9))))^J5))","v":0},{"$f":"IF(OR(F160<=J9,F160>100000),0,IF(F160<=K7,K8,K8+(K10-K8)*(1-((K5+EXP(K6*(K4-K7)))/(K5+EXP(K6*(K4-F160))))^K5)/(1-((K5+EXP(K6*(K4-K7)))/(K5+EXP(K6*(K4-K9))))^K5)))","v":0},0,0,107.76899702155583,0,"2011-03-29",{"$f":"MAX(L$12:L160)+MAX(M$12:M160)+MAX(N$12:N160)","v":107.76899702155583},"2011-03-29",1.4447745278614121,null,null,null,null,null,null,null,null,null,null,null,null,null,null,null,null,null,236.38383838383837,null,{"$f":"IF(OR(AJ160<=AM7,AJ160>AM9),0,AM8+(AM10-AM8)*(1-((AM5+EXP(AM6*(AM4-AM7)))/(AM5+EXP(AM6*(AM4-AJ160))))^AM5)/(1-((AM5+EXP(AM6*(AM4-AM7)))/(AM5+EXP(AM6*(AM4-AM9))))^AM5))","v":4.2199609337895323},{"$f":"IF(OR(AJ160<=AN7,AJ160>AN9),0,AN8+(AN10-AN8)*(1-((AN5+EXP(AN6*(AN4-AN7)))/(AN5+EXP(AN6*(AN4-AJ160))))^AN5)/(1-((AN5+EXP(AN6*(AN4-AN7)))/(AN5+EXP(AN6*(AN4-AN9))))^AN5))","v":0},{"$f":"IF(OR(AJ160<=AN9,AJ160>100000),0,IF(AJ160<=AO7,AO8,AO8+(AO10-AO8)*(1-((AO5+EXP(AO6*(AO4-AO7)))/(AO5+EXP(AO6*(AO4-AJ160))))^AO5)/(1-((AO5+EXP(AO6*(AO4-AO7)))/(AO5+EXP(AO6*(AO4-AO9))))^AO5)))","v":0},4.2199609337895323,3.2264239438162319]
[150,{"$f":"'daily uptake'!F244","v":"2011-03-30"},{"$f":"5/9*'daily uptake'!Q244","v":15},{"$f":"5/9*'daily uptake'!N244","v":6.3888888888888893},{"$f":"IF(AND($A161>='daily uptake'!$C$9,$A161<='daily uptake'!$C$10),$C161+E160,0)","v":1407.2222222222213},{"$f":"IF(AND($A161>='daily uptake'!$C$18,$A161<='daily uptake'!$C$20),$D161+F160,0)","v":0},{"$f":"IF(AND($A161>='daily uptake'!$C$24,$A161<='daily uptake'!$C$25),$C161+G160,0)","v":0},{"$f":"IF(OR(F161<=I7,F161>I9),0,I8+(I10-I8)*(1-((I5+EXP(I6*(I4-I7)))/(I5+EXP(I6*(I4-F161))))^I5)/(1-((I5+EXP(I6*(I4-I7)))/(I5+EXP(I6*(I4-I9))))^I5))","v":0},{"$f":"IF(OR(F161<=J7,F161>J9),0,J8+(J10-J8)*(1-((J5+EXP(J6*(J4-J7)))/(J5+EXP(J6*(J4-F161))))^J5)/(1-((J5+EXP(J6*(J4-J7)))/(J5+EXP(J6*(J4-J9))))^J5))","v":0},{"$f":"IF(OR(F161<=J9,F161>100000),0,IF(F161<=K7,K8,K8+(K10-K8)*(1-((K5+EXP(K6*(K4-K7)))/(K5+EXP(K6*(K4-F161))))^K5)/(1-((K5+EXP(K6*(K4-K7)))/(K5+EXP(K6*(K4-K9))))^K5)))","v":0},0,0,109.58366130912756,0,"2011-03-30",{"$f":"MAX(L$12:L161)+MAX(M$12:M161)+MAX(N$12:N161)","v":109.58366130912756},"2011-03-30",1.8146642875717305,null,null,null,null,null,null,null,null,null,null,null,null,null,null,null,null,null,246.3232323232323,null,{"$f":"IF(OR(AJ161<=AM7,AJ161>AM9),0,AM8+(AM10-AM8)*(1-((AM5+EXP(AM6*(AM4-AM7)))/(AM5+EXP(AM6*(AM4-AJ161))))^AM5)/(1-((AM5+EXP(AM6*(AM4-AM7)))/(AM5+EXP(AM6*(AM4-AM9))))^AM5))","v":5.3699450789388354},{"$f":"IF(OR(AJ161<=AN7,AJ161>AN9),0,AN8+(AN10-AN8)*(1-((AN5+EXP(AN6*(AN4-AN7)))/(AN5+EXP(AN6*(AN4-AJ161))))^AN5)/(1-((AN5+EXP(AN6*(AN4-AN7)))/(AN5+EXP(AN6*(AN4-AN9))))^AN5))","v":0},{"$f":"IF(OR(AJ161<=AN9,AJ161>100000),0,IF(AJ161<=AO7,AO8,AO8+(AO10-AO8)*(1-((AO5+EXP(AO6*(AO4-AO7)))/(AO5+EXP(AO6*(AO4-AJ161))))^AO5)/(1-((AO5+EXP(AO6*(AO4-AO7)))/(AO5+EXP(AO6*(AO4-AO9))))^AO5)))","v":0},5.3699450789388354,4.1056587137900058]
[151,{"$f":"'daily uptake'!F245","v":"2011-03-31"},{"$f":"5/9*'daily uptake'!Q245","v":17.5},{"$f":"5/9*'daily uptake'!N245","v":8.3333333333333339},{"$f":"IF(AND($A162>='daily uptake'!$C$9,$A162<='daily uptake'!$C$10),$C162+E161,0)","v":1424.7222222222213},{"$f":"IF(AND($A162>='daily uptake'!$C$18,$A162<='daily uptake'!$C$20),$D162+F161,0)","v":0},{"$f":"IF(AND($A162>='daily uptake'!$C$24,$A162<='daily uptake'!$C$25),$C162+G161,0)","v":0},{"$f":"IF(OR(F162<=I7,F162>I9),0,I8+(I10-I8)*(1-((I5+EXP(I6*(I4-I7)))/(I5+EXP(I6*(I4-F162))))^I5)/(1-((I5+EXP(I6*(I4-I7)))/(I5+EXP(I6*(I4-I9))))^I5))","v":0},{"$f":"IF(OR(F162<=J7,F162>J9),0,J8+(J10-J8)*(1-((J5+EXP(J6*(J4-J7)))/(J5+EXP(J6*(J4-F162))))^J5)/(1-((J5+EXP(J6*(J4-J7)))/(J5+EXP(J6*(J4-J9))))^J5))","v":0},{"$f":"IF(OR(F162<=J9,F162>100000),0,IF(F162<=K7,K8,K8+(K10-K8)*(1-((K5+EXP(K6*(K4-K7)))/(K5+EXP(K6*(K4-F162))))^K5)/(1-((K5+EXP(K6*(K4-K7)))/(K5+EXP(K6*(K4-K9))))^K5)))","v":0},0,0,111.70027455238373,0,"2011-03-31",{"$f":"MAX(L$12:L162)+MAX(M$12:M162)+MAX(N$12:N162)","v":111.70027455238373},"2011-03-31",2.1166132432561682,null,null,null,null,null,null,null,null,null,null,null,null,null,null,null,null,null,256.43434343434342,null,{"$f":"IF(OR(AJ162<=AM7,AJ162>AM9),0,AM8+(AM10-AM8)*(1-((AM5+EXP(AM6*(AM4-AM7)))/(AM5+EXP(AM6*(AM4-AJ162))))^AM5)/(1-((AM5+EXP(AM6*(AM4-AM7)))/(AM5+EXP(AM6*(AM4-AM9))))^AM5))","v":6.6484471381517274},{"$f":"IF(OR(AJ162<=AN7,AJ162>AN9),0,AN8+(AN10-AN8)*(1-((AN5+EXP(AN6*(AN4-AN7)))/(AN5+EXP(AN6*(AN4-AJ162))))^AN5)/(1-((AN5+EXP(AN6*(AN4-AN7)))/(AN5+EXP(AN6*(AN4-AN9))))^AN5))","v":0},{"$f":"IF(OR(AJ162<=AN9,AJ162>100000),0,IF(AJ162<=AO7,AO8,AO8+(AO10-AO8)*(1-((AO5+EXP(AO6*(AO4-AO7)))/(AO5+EXP(AO6*(AO4-AJ162))))^AO5)/(1-((AO5+EXP(AO6*(AO4-AO7)))/(AO5+EXP(AO6*(AO4-AO9))))^AO5)))","v":0},6.6484471381517274,5.0831534633346616]
[152,{"$f":"'daily uptake'!F246","v":"2011-04-01"},{"$f":"5/9*'daily uptake'!Q246","v":19.444444444444446},{"$f":"5/9*'daily uptake'!N246","v":10},{"$f":"IF(AND($A163>='daily uptake'!$C$9,$A163<='daily uptake'!$C$10),$C163+E162,0)","v":1444.1666666666656},{"$f":"IF(AND($A163>='daily uptake'!$C$18,$A163<='daily uptake'!$C$20),$D163+F162,0)","v":0},{"$f":"IF(AND($A163>='daily uptake'!$C$24,$A163<='daily uptake'!$C$25),$C163+G162,0)","v":0},{"$f":"IF(OR(F163<=I7,F163>I9),0,I8+(I10-I8)*(1-((I5+EXP(I6*(I4-I7)))/(I5+EXP(I6*(I4-F163))))^I5)/(1-((I5+EXP(I6*(I4-I7)))/(I5+EXP(I6*(I4-I9))))^I5))","v":0},{"$f":"IF(OR(F163<=J7,F163>J9),0,J8+(J10-J8)*(1-((J5+EXP(J6*(J4-J7)))/(J5+EXP(J6*(J4-F163))))^J5)/(1-((J5+EXP(J6*(J4-J7)))/(J5+EXP(J6*(J4-J9))))^J5))","v":0},{"$f":"IF(OR(F163<=J9,F163>100000),0,IF(F163<=K7,K8,K8+(K10-K8)*(1-((K5+EXP(K6*(K4-K7)))/(K5+EXP(K6*(K4-F163))))^K5)/(1-((K5+EXP(K6*(K4-K7)))/(K5+EXP(K6*(K4-K9))))^K5)))","v":0},0,0,114.0501030415012,0,"2011-04-01",{"$f":"MAX(L$12:L163)+MAX(M$12:M163)+MAX(N$12:N163)","v":114.0501030415012},"2011-04-01",2.3498284891174706,null,null,null,null,null,null,null,null,null,null,null,null,null,null,null,null,null,266.56565656565652,null,{"$f":"IF(OR(AJ163<=AM7,AJ163>AM9),0,AM8+(AM10-AM8)*(1-((AM5+EXP(AM6*(AM4-AM7)))/(AM5+EXP(AM6*(AM4-AJ163))))^AM5)/(1-((AM5+EXP(AM6*(AM4-AM7)))/(AM5+EXP(AM6*(AM4-AM9))))^AM5))","v":8.0272369651278535},{"$f":"IF(OR(AJ163<=AN7,AJ163>AN9),0,AN8+(AN10-AN8)*(1-((AN5+EXP(AN6*(AN4-AN7)))/(AN5+EXP(AN6*(AN4-AJ163))))^AN5)/(1-((AN5+EXP(AN6*(AN4-AN7)))/(AN5+EXP(AN6*(AN4-AN9))))^AN5))","v":0},{"$f":"IF(OR(AJ163<=AN9,AJ163>100000),0,IF(AJ163<=AO7,AO8,AO8+(AO10-AO8)*(1-((AO5+EXP(AO6*(AO4-AO7)))/(AO5+EXP(AO6*(AO4-AJ163))))^AO5)/(1-((AO5+EXP(AO6*(AO4-AO7)))/(AO5+EXP(AO6*(AO4-AO9))))^AO5)))","v":0},8.0272369651278535,6.1373244808021612]
[153,{"$f":"'daily uptake'!F247","v":"2011-04-02"},{"$f":"5/9*'daily uptake'!Q247","v":14.444444444444445},{"$f":"5/9*'daily uptake'!N247","v":5.2777777777777777},{"$f":"IF(AND($A164>='daily uptake'!$C$9,$A164<='daily uptake'!$C$10),$C164+E163,0)","v":1458.6111111111099},{"$f":"IF(AND($A164>='daily uptake'!$C$18,$A164<='daily uptake'!$C$20),$D164+F163,0)","v":0},{"$f":"IF(AND($A164>='daily uptake'!$C$24,$A164<='daily uptake'!$C$25),$C164+G163,0)","v":0},{"$f":"IF(OR(F164<=I7,F164>I9),0,I8+(I10-I8)*(1-((I5+EXP(I6*(I4-I7)))/(I5+EXP(I6*(I4-F164))))^I5)/(1-((I5+EXP(I6*(I4-I7)))/(I5+EXP(I6*(I4-I9))))^I5))","v":0},{"$f":"IF(OR(F164<=J7,F164>J9),0,J8+(J10-J8)*(1-((J5+EXP(J6*(J4-J7)))/(J5+EXP(J6*(J4-F164))))^J5)/(1-((J5+EXP(J6*(J4-J7)))/(J5+EXP(J6*(J4-J9))))^J5))","v":0},{"$f":"IF(OR(F164<=J9,F164>100000),0,IF(F164<=K7,K8,K8+(K10-K8)*(1-((K5+EXP(K6*(K4-K7)))/(K5+EXP(K6*(K4-F164))))^K5)/(1-((K5+EXP(K6*(K4-K7)))/(K5+EXP(K6*(K4-K9))))^K5)))","v":0},0,0,115.79345622152803,0,"2011-04-02",{"$f":"MAX(L$12:L164)+MAX(M$12:M164)+MAX(N$12:N164)","v":115.79345622152803},"2011-04-02",1.7433531800268298,null,null,null,null,null,null,null,null,null,null,null,null,null,null,null,null,null,276.69191919191917,null,{"$f":"IF(OR(AJ164<=AM7,AJ164>AM9),0,AM8+(AM10-AM8)*(1-((AM5+EXP(AM6*(AM4-AM7)))/(AM5+EXP(AM6*(AM4-AJ164))))^AM5)/(1-((AM5+EXP(AM6*(AM4-AM7)))/(AM5+EXP(AM6*(AM4-AM9))))^AM5))","v":9.4892343547300939},{"$f":"IF(OR(AJ164<=AN7,AJ164>AN9),0,AN8+(AN10-AN8)*(1-((AN5+EXP(AN6*(AN4-AN7)))/(AN5+EXP(AN6*(AN4-AJ164))))^AN5)/(1-((AN5+EXP(AN6*(AN4-AN7)))/(AN5+EXP(AN6*(AN4-AN9))))^AN5))","v":0},{"$f":"IF(OR(AJ164<=AN9,AJ164>100000),0,IF(AJ164<=AO7,AO8,AO8+(AO10-AO8)*(1-((AO5+EXP(AO6*(AO4-AO7)))/(AO5+EXP(AO6*(AO4-AJ164))))^AO5)/(1-((AO5+EXP(AO6*(AO4-AO7)))/(AO5+EXP(AO6*(AO4-AO9))))^AO5)))","v":0},9.4892343547300939,7.2551128815998913]
[154,{"$f":"'daily uptake'!F248","v":"2011-04-03"},{"$f":"5/9*'daily uptake'!Q248","v":12.777777777777779},{"$f":"5/9*'daily uptake'!N248","v":4.4444444444444446},{"$f":"IF(AND($A165>='daily uptake'!$C$9,$A165<='daily uptake'!$C$10),$C165+E164,0)","v":1471.3888888888878},{"$f":"IF(AND($A165>='daily uptake'!$C$18,$A165<='daily uptake'!$C$20),$D165+F164,0)","v":0},{"$f":"IF(AND($A165>='daily uptake'!$C$24,$A165<='daily uptake'!$C$25),$C165+G164,0)","v":0},{"$f":"IF(OR(F165<=I7,F165>I9),0,I8+(I10-I8)*(1-((I5+EXP(I6*(I4-I7)))/(I5+EXP(I6*(I4-F165))))^I5)/(1-((I5+EXP(I6*(I4-I7)))/(I5+EXP(I6*(I4-I9))))^I5))","v":0},{"$f":"IF(OR(F165<=J7,F165>J9),0,J8+(J10-J8)*(1-((J5+EXP(J6*(J4-J7)))/(J5+EXP(J6*(J4-F165))))^J5)/(1-((J5+EXP(J6*(J4-J7)))/(J5+EXP(J6*(J4-J9))))^J5))","v":0},{"$f":"IF(OR(F165<=J9,F165>100000),0,IF(F165<=K7,K8,K8+(K10-K8)*(1-((K5+EXP(K6*(K4-K7)))/(K5+EXP(K6*(K4-F165))))^K5)/(1-((K5+EXP(K6*(K4-K7)))/(K5+EXP(K6*(K4-K9))))^K5)))","v":0},0,0,117.33349366621789,0,"2011-04-03",{"$f":"MAX(L$12:L165)+MAX(M$12:M165)+MAX(N$12:N165)","v":117.33349366621789},"2011-04-03",1.5400374446898581,null,null,null,null,null,null,null,null,null,null,null,null,null,null,null,null,null,286.96464646464642,null,{"$f":"IF(OR(AJ165<=AM7,AJ165>AM9),0,AM8+(AM10-AM8)*(1-((AM5+EXP(AM6*(AM4-AM7)))/(AM5+EXP(AM6*(AM4-AJ165))))^AM5)/(1-((AM5+EXP(AM6*(AM4-AM7)))/(AM5+EXP(AM6*(AM4-AM9))))^AM5))","v":11.043467911401887},{"$f":"IF(OR(AJ165<=AN7,AJ165>AN9),0,AN8+(AN10-AN8)*(1-((AN5+EXP(AN6*(AN4-AN7)))/(AN5+EXP(AN6*(AN4-AJ165))))^AN5)/(1-((AN5+EXP(AN6*(AN4-AN7)))/(AN5+EXP(AN6*(AN4-AN9))))^AN5))","v":0},{"$f":"IF(OR(AJ165<=AN9,AJ165>100000),0,IF(AJ165<=AO7,AO8,AO8+(AO10-AO8)*(1-((AO5+EXP(AO6*(AO4-AO7)))/(AO5+EXP(AO6*(AO4-AJ165))))^AO5)/(1-((AO5+EXP(AO6*(AO4-AO7)))/(AO5+EXP(AO6*(AO4-AO9))))^AO5)))","v":0},11.043467911401887,8.4434215982460898]
[155,{"$f":"'daily uptake'!F249","v":"2011-04-04"},{"$f":"5/9*'daily uptake'!Q249","v":15.555555555555557},{"$f":"5/9*'daily uptake'!N249","v":8.0555555555555554},{"$f":"IF(AND($A166>='daily uptake'!$C$9,$A166<='daily uptake'!$C$10),$C166+E165,0)","v":1486.9444444444434},{"$f":"IF(AND($A166>='daily uptake'!$C$18,$A166<='daily uptake'!$C$20),$D166+F165,0)","v":0},{"$f":"IF(AND($A166>='daily uptake'!$C$24,$A166<='daily uptake'!$C$25),$C166+G165,0)","v":0},{"$f":"IF(OR(F166<=I7,F166>I9),0,I8+(I10-I8)*(1-((I5+EXP(I6*(I4-I7)))/(I5+EXP(I6*(I4-F166))))^I5)/(1-((I5+EXP(I6*(I4-I7)))/(I5+EXP(I6*(I4-I9))))^I5))","v":0},{"$f":"IF(OR(F166<=J7,F166>J9),0,J8+(J10-J8)*(1-((J5+EXP(J6*(J4-J7)))/(J5+EXP(J6*(J4-F166))))^J5)/(1-((J5+EXP(J6*(J4-J7)))/(J5+EXP(J6*(J4-J9))))^J5))","v":0},{"$f":"IF(OR(F166<=J9,F166>100000),0,IF(F166<=K7,K8,K8+(K10-K8)*(1-((K5+EXP(K6*(K4-K7)))/(K5+EXP(K6*(K4-F166))))^K5)/(1-((K5+EXP(K6*(K4-K7)))/(K5+EXP(K6*(K4-K9))))^K5)))","v":0},0,0,119.20492797578082,0,"2011-04-04",{"$f":"MAX(L$12:L166)+MAX(M$12:M166)+MAX(N$12:N166)","v":119.20492797578082},"2011-04-04",1.8714343095629289,null,null,null,null,null,null,null,null,null,null,null,null,null,null,null,null,null,297.37878787878782,null,{"$f":"IF(OR(AJ166<=AM7,AJ166>AM9),0,AM8+(AM10-AM8)*(1-((AM5+EXP(AM6*(AM4-AM7)))/(AM5+EXP(AM6*(AM4-AJ166))))^AM5)/(1-((AM5+EXP(AM6*(AM4-AM7)))/(AM5+EXP(AM6*(AM4-AM9))))^AM5))","v":12.677699222918204},{"$f":"IF(OR(AJ166<=AN7,AJ166>AN9),0,AN8+(AN10-AN8)*(1-((AN5+EXP(AN6*(AN4-AN7)))/(AN5+EXP(AN6*(AN4-AJ166))))^AN5)/(1-((AN5+EXP(AN6*(AN4-AN7)))/(AN5+EXP(AN6*(AN4-AN9))))^AN5))","v":0},{"$f":"IF(OR(AJ166<=AN9,AJ166>100000),0,IF(AJ166<=AO7,AO8,AO8+(AO10-AO8)*(1-((AO5+EXP(AO6*(AO4-AO7)))/(AO5+EXP(AO6*(AO4-AJ166))))^AO5)/(1-((AO5+EXP(AO6*(AO4-AO7)))/(AO5+EXP(AO6*(AO4-AO9))))^AO5)))","v":0},12.677699222918204,9.6928935995130612]
[156,{"$f":"'daily uptake'!F250","v":"2011-04-05"},{"$f":"5/9*'daily uptake'!Q250","v":15.555555555555557},{"$f":"5/9*'daily uptake'!N250","v":7.2222222222222223},{"$f":"IF(AND($A167>='daily uptake'!$C$9,$A167<='daily uptake'!$C$10),$C167+E166,0)","v":1502.4999999999991},{"$f":"IF(AND($A167>='daily uptake'!$C$18,$A167<='daily uptake'!$C$20),$D167+F166,0)","v":0},{"$f":"IF(AND($A167>='daily uptake'!$C$24,$A167<='daily uptake'!$C$25),$C167+G166,0)","v":0},{"$f":"IF(OR(F167<=I7,F167>I9),0,I8+(I10-I8)*(1-((I5+EXP(I6*(I4-I7)))/(I5+EXP(I6*(I4-F167))))^I5)/(1-((I5+EXP(I6*(I4-I7)))/(I5+EXP(I6*(I4-I9))))^I5))","v":0},{"$f":"IF(OR(F167<=J7,F167>J9),0,J8+(J10-J8)*(1-((J5+EXP(J6*(J4-J7)))/(J5+EXP(J6*(J4-F167))))^J5)/(1-((J5+EXP(J6*(J4-J7)))/(J5+EXP(J6*(J4-J9))))^J5))","v":0},{"$f":"IF(OR(F167<=J9,F167>100000),0,IF(F167<=K7,K8,K8+(K10-K8)*(1-((K5+EXP(K6*(K4-K7)))/(K5+EXP(K6*(K4-F167))))^K5)/(1-((K5+EXP(K6*(K4-K7)))/(K5+EXP(K6*(K4-K9))))^K5)))","v":0},0,0,121.0719037998703,0,"2011-04-05",{"$f":"MAX(L$12:L167)+MAX(M$12:M167)+MAX(N$12:N167)","v":121.0719037998703},"2011-04-05",1.8669758240894794,null,null,null,null,null,null,null,null,null,null,null,null,null,null,null,null,null,307.73737373737367,null,{"$f":"IF(OR(AJ167<=AM7,AJ167>AM9),0,AM8+(AM10-AM8)*(1-((AM5+EXP(AM6*(AM4-AM7)))/(AM5+EXP(AM6*(AM4-AJ167))))^AM5)/(1-((AM5+EXP(AM6*(AM4-AM7)))/(AM5+EXP(AM6*(AM4-AM9))))^AM5))","v":14.348567072459122},{"$f":"IF(OR(AJ167<=AN7,AJ167>AN9),0,AN8+(AN10-AN8)*(1-((AN5+EXP(AN6*(AN4-AN7)))/(AN5+EXP(AN6*(AN4-AJ167))))^AN5)/(1-((AN5+EXP(AN6*(AN4-AN7)))/(AN5+EXP(AN6*(AN4-AN9))))^AN5))","v":0},{"$f":"IF(OR(AJ167<=AN9,AJ167>100000),0,IF(AJ167<=AO7,AO8,AO8+(AO10-AO8)*(1-((AO5+EXP(AO6*(AO4-AO7)))/(AO5+EXP(AO6*(AO4-AJ167))))^AO5)/(1-((AO5+EXP(AO6*(AO4-AO7)))/(AO5+EXP(AO6*(AO4-AO9))))^AO5)))","v":0},14.348567072459122,10.970376524424998]
[157,{"$f":"'daily uptake'!F251","v":"2011-04-06"},{"$f":"5/9*'daily uptake'!Q251","v":15.277777777777779},{"$f":"5/9*'daily uptake'!N251","v":6.1111111111111116},{"$f":"IF(AND($A168>='daily uptake'!$C$9,$A168<='daily uptake'!$C$10),$C168+E167,0)","v":1517.7777777777769},{"$f":"IF(AND($A168>='daily uptake'!$C$18,$A168<='daily uptake'!$C$20),$D168+F167,0)","v":0},{"$f":"IF(AND($A168>='daily uptake'!$C$24,$A168<='daily uptake'!$C$25),$C168+G167,0)","v":0},{"$f":"IF(OR(F168<=I7,F168>I9),0,I8+(I10-I8)*(1-((I5+EXP(I6*(I4-I7)))/(I5+EXP(I6*(I4-F168))))^I5)/(1-((I5+EXP(I6*(I4-I7)))/(I5+EXP(I6*(I4-I9))))^I5))","v":0},{"$f":"IF(OR(F168<=J7,F168>J9),0,J8+(J10-J8)*(1-((J5+EXP(J6*(J4-J7)))/(J5+EXP(J6*(J4-F168))))^J5)/(1-((J5+EXP(J6*(J4-J7)))/(J5+EXP(J6*(J4-J9))))^J5))","v":0},{"$f":"IF(OR(F168<=J9,F168>100000),0,IF(F168<=K7,K8,K8+(K10-K8)*(1-((K5+EXP(K6*(K4-K7)))/(K5+EXP(K6*(K4-F168))))^K5)/(1-((K5+EXP(K6*(K4-K7)))/(K5+EXP(K6*(K4-K9))))^K5)))","v":0},0,0,122.90045836303129,0,"2011-04-06",{"$f":"MAX(L$12:L168)+MAX(M$12:M168)+MAX(N$12:N168)","v":122.90045836303129},"2011-04-06",1.8285545631609921,null,null,null,null,null,null,null,null,null,null,null,null,null,null,null,null,null,318.15151515151507,null,{"$f":"IF(OR(AJ168<=AM7,AJ168>AM9),0,AM8+(AM10-AM8)*(1-((AM5+EXP(AM6*(AM4-AM7)))/(AM5+EXP(AM6*(AM4-AJ168))))^AM5)/(1-((AM5+EXP(AM6*(AM4-AM7)))/(AM5+EXP(AM6*(AM4-AM9))))^AM5))","v":16.062473734503804},{"$f":"IF(OR(AJ168<=AN7,AJ168>AN9),0,AN8+(AN10-AN8)*(1-((AN5+EXP(AN6*(AN4-AN7)))/(AN5+EXP(AN6*(AN4-AJ168))))^AN5)/(1-((AN5+EXP(AN6*(AN4-AN7)))/(AN5+EXP(AN6*(AN4-AN9))))^AN5))","v":0},{"$f":"IF(OR(AJ168<=AN9,AJ168>100000),0,IF(AJ168<=AO7,AO8,AO8+(AO10-AO8)*(1-((AO5+EXP(AO6*(AO4-AO7)))/(AO5+EXP(AO6*(AO4-AJ168))))^AO5)/(1-((AO5+EXP(AO6*(AO4-AO7)))/(AO5+EXP(AO6*(AO4-AO9))))^AO5)))","v":0},16.062473734503804,12.280765312058005]
[158,{"$f":"'daily uptake'!F252","v":"2011-04-07"},{"$f":"5/9*'daily uptake'!Q252","v":9.1666666666666679},{"$f":"5/9*'daily uptake'!N252","v":2.2222222222222223},{"$f":"IF(AND($A169>='daily uptake'!$C$9,$A169<='daily uptake'!$C$10),$C169+E168,0)","v":1526.9444444444437},{"$f":"IF(AND($A169>='daily uptake'!$C$18,$A169<='daily uptake'!$C$20),$D169+F168,0)","v":0},{"$f":"IF(AND($A169>='daily uptake'!$C$24,$A169<='daily uptake'!$C$25),$C169+G168,0)","v":0},{"$f":"IF(OR(F169<=I7,F169>I9),0,I8+(I10-I8)*(1-((I5+EXP(I6*(I4-I7)))/(I5+EXP(I6*(I4-F169))))^I5)/(1-((I5+EXP(I6*(I4-I7)))/(I5+EXP(I6*(I4-I9))))^I5))","v":0},{"$f":"IF(OR(F169<=J7,F169>J9),0,J8+(J10-J8)*(1-((J5+EXP(J6*(J4-J7)))/(J5+EXP(J6*(J4-F169))))^J5)/(1-((J5+EXP(J6*(J4-J7)))/(J5+EXP(J6*(J4-J9))))^J5))","v":0},{"$f":"IF(OR(F169<=J9,F169>100000),0,IF(F169<=K7,K8,K8+(K10-K8)*(1-((K5+EXP(K6*(K4-K7)))/(K5+EXP(K6*(K4-F169))))^K5)/(1-((K5+EXP(K6*(K4-K7)))/(K5+EXP(K6*(K4-K9))))^K5)))","v":0},0,0,123.99487327766711,0,"2011-04-07",{"$f":"MAX(L$12:L169)+MAX(M$12:M169)+MAX(N$12:N169)","v":123.99487327766711},"2011-04-07",1.09441491463582,null,null,null,null,null,null,null,null,null,null,null,null,null,null,null,null,null,328.50505050505041,null,{"$f":"IF(OR(AJ169<=AM7,AJ169>AM9),0,AM8+(AM10-AM8)*(1-((AM5+EXP(AM6*(AM4-AM7)))/(AM5+EXP(AM6*(AM4-AJ169))))^AM5)/(1-((AM5+EXP(AM6*(AM4-AM7)))/(AM5+EXP(AM6*(AM4-AM9))))^AM5))","v":17.790711293895651},{"$f":"IF(OR(AJ169<=AN7,AJ169>AN9),0,AN8+(AN10-AN8)*(1-((AN5+EXP(AN6*(AN4-AN7)))/(AN5+EXP(AN6*(AN4-AJ169))))^AN5)/(1-((AN5+EXP(AN6*(AN4-AN7)))/(AN5+EXP(AN6*(AN4-AN9))))^AN5))","v":0},{"$f":"IF(OR(AJ169<=AN9,AJ169>100000),0,IF(AJ169<=AO7,AO8,AO8+(AO10-AO8)*(1-((AO5+EXP(AO6*(AO4-AO7)))/(AO5+EXP(AO6*(AO4-AJ169))))^AO5)/(1-((AO5+EXP(AO6*(AO4-AO7)))/(AO5+EXP(AO6*(AO4-AO9))))^AO5)))","v":0},17.790711293895651,13.602110966605832]
[159,{"$f":"'daily uptake'!F253","v":"2011-04-08"},{"$f":"5/9*'daily uptake'!Q253","v":7.7777777777777786},{"$f":"5/9*'daily uptake'!N253","v":1.9444444444444446},{"$f":"IF(AND($A170>='daily uptake'!$C$9,$A170<='daily uptake'!$C$10),$C170+E169,0)","v":1534.7222222222215},{"$f":"IF(AND($A170>='daily uptake'!$C$18,$A170<='daily uptake'!$C$20),$D170+F169,0)","v":0},{"$f":"IF(AND($A170>='daily uptake'!$C$24,$A170<='daily uptake'!$C$25),$C170+G169,0)","v":0},{"$f":"IF(OR(F170<=I7,F170>I9),0,I8+(I10-I8)*(1-((I5+EXP(I6*(I4-I7)))/(I5+EXP(I6*(I4-F170))))^I5)/(1-((I5+EXP(I6*(I4-I7)))/(I5+EXP(I6*(I4-I9))))^I5))","v":0},{"$f":"IF(OR(F170<=J7,F170>J9),0,J8+(J10-J8)*(1-((J5+EXP(J6*(J4-J7)))/(J5+EXP(J6*(J4-F170))))^J5)/(1-((J5+EXP(J6*(J4-J7)))/(J5+EXP(J6*(J4-J9))))^J5))","v":0},{"$f":"IF(OR(F170<=J9,F170>100000),0,IF(F170<=K7,K8,K8+(K10-K8)*(1-((K5+EXP(K6*(K4-K7)))/(K5+EXP(K6*(K4-F170))))^K5)/(1-((K5+EXP(K6*(K4-K7)))/(K5+EXP(K6*(K4-K9))))^K5)))","v":0},0,0,124.92172891036549,0,"2011-04-08",{"$f":"MAX(L$12:L170)+MAX(M$12:M170)+MAX(N$12:N170)","v":124.92172891036549},"2011-04-08",0.92685563269837701,null,null,null,null,null,null,null,null,null,null,null,null,null,null,null,null,null,338.8181818181817,null,{"$f":"IF(OR(AJ170<=AM7,AJ170>AM9),0,AM8+(AM10-AM8)*(1-((AM5+EXP(AM6*(AM4-AM7)))/(AM5+EXP(AM6*(AM4-AJ170))))^AM5)/(1-((AM5+EXP(AM6*(AM4-AM7)))/(AM5+EXP(AM6*(AM4-AM9))))^AM5))","v":19.528570670949463},{"$f":"IF(OR(AJ170<=AN7,AJ170>AN9),0,AN8+(AN10-AN8)*(1-((AN5+EXP(AN6*(AN4-AN7)))/(AN5+EXP(AN6*(AN4-AJ170))))^AN5)/(1-((AN5+EXP(AN6*(AN4-AN7)))/(AN5+EXP(AN6*(AN4-AN9))))^AN5))","v":0},{"$f":"IF(OR(AJ170<=AN9,AJ170>100000),0,IF(AJ170<=AO7,AO8,AO8+(AO10-AO8)*(1-((AO5+EXP(AO6*(AO4-AO7)))/(AO5+EXP(AO6*(AO4-AJ170))))^AO5)/(1-((AO5+EXP(AO6*(AO4-AO7)))/(AO5+EXP(AO6*(AO4-AO9))))^AO5)))","v":0},19.528570670949463,14.930813102262052]
[160,{"$f":"'daily uptake'!F254","v":"2011-04-09"},{"$f":"5/9*'daily uptake'!Q254","v":9.1666666666666679},{"$f":"5/9*'daily uptake'!N254","v":3.8888888888888893},{"$f":"IF(AND($A171>='daily uptake'!$C$9,$A171<='daily uptake'!$C$10),$C171+E170,0)","v":1543.8888888888882},{"$f":"IF(AND($A171>='daily uptake'!$C$18,$A171<='daily uptake'!$C$20),$D171+F170,0)","v":0},{"$f":"IF(AND($A171>='daily uptake'!$C$24,$A171<='daily uptake'!$C$25),$C171+G170,0)","v":0},{"$f":"IF(OR(F171<=I7,F171>I9),0,I8+(I10-I8)*(1-((I5+EXP(I6*(I4-I7)))/(I5+EXP(I6*(I4-F171))))^I5)/(1-((I5+EXP(I6*(I4-I7)))/(I5+EXP(I6*(I4-I9))))^I5))","v":0},{"$f":"IF(OR(F171<=J7,F171>J9),0,J8+(J10-J8)*(1-((J5+EXP(J6*(J4-J7)))/(J5+EXP(J6*(J4-F171))))^J5)/(1-((J5+EXP(J6*(J4-J7)))/(J5+EXP(J6*(J4-J9))))^J5))","v":0},{"$f":"IF(OR(F171<=J9,F171>100000),0,IF(F171<=K7,K8,K8+(K10-K8)*(1-((K5+EXP(K6*(K4-K7)))/(K5+EXP(K6*(K4-F171))))^K5)/(1-((K5+EXP(K6*(K4-K7)))/(K5+EXP(K6*(K4-K9))))^K5)))","v":0},0,0,126.01191277895704,0,"2011-04-09",{"$f":"MAX(L$12:L171)+MAX(M$12:M171)+MAX(N$12:N171)","v":126.01191277895704},"2011-04-09",1.0901838685915521,null,null,null,null,null,null,null,null,null,null,null,null,null,null,null,null,null,349.18686868686859,null,{"$f":"IF(OR(AJ171<=AM7,AJ171>AM9),0,AM8+(AM10-AM8)*(1-((AM5+EXP(AM6*(AM4-AM7)))/(AM5+EXP(AM6*(AM4-AJ171))))^AM5)/(1-((AM5+EXP(AM6*(AM4-AM7)))/(AM5+EXP(AM6*(AM4-AM9))))^AM5))","v":21.286050409117671},{"$f":"IF(OR(AJ171<=AN7,AJ171>AN9),0,AN8+(AN10-AN8)*(1-((AN5+EXP(AN6*(AN4-AN7)))/(AN5+EXP(AN6*(AN4-AJ171))))^AN5)/(1-((AN5+EXP(AN6*(AN4-AN7)))/(AN5+EXP(AN6*(AN4-AN9))))^AN5))","v":0},{"$f":"IF(OR(AJ171<=AN9,AJ171>100000),0,IF(AJ171<=AO7,AO8,AO8+(AO10-AO8)*(1-((AO5+EXP(AO6*(AO4-AO7)))/(AO5+EXP(AO6*(AO4-AJ171))))^AO5)/(1-((AO5+EXP(AO6*(AO4-AO7)))/(AO5+EXP(AO6*(AO4-AO9))))^AO5)))","v":0},21.286050409117671,16.274516230552813]
[161,{"$f":"'daily uptake'!F255","v":"2011-04-10"},{"$f":"5/9*'daily uptake'!Q255","v":10.555555555555555},{"$f":"5/9*'daily uptake'!N255","v":5},{"$f":"IF(AND($A172>='daily uptake'!$C$9,$A172<='daily uptake'!$C$10),$C172+E171,0)","v":1554.4444444444439},{"$f":"IF(AND($A172>='daily uptake'!$C$18,$A172<='daily uptake'!$C$20),$D172+F171,0)","v":0},{"$f":"IF(AND($A172>='daily uptake'!$C$24,$A172<='daily uptake'!$C$25),$C172+G171,0)","v":0},{"$f":"IF(OR(F172<=I7,F172>I9),0,I8+(I10-I8)*(1-((I5+EXP(I6*(I4-I7)))/(I5+EXP(I6*(I4-F172))))^I5)/(1-((I5+EXP(I6*(I4-I7)))/(I5+EXP(I6*(I4-I9))))^I5))","v":0},{"$f":"IF(OR(F172<=J7,F172>J9),0,J8+(J10-J8)*(1-((J5+EXP(J6*(J4-J7)))/(J5+EXP(J6*(J4-F172))))^J5)/(1-((J5+EXP(J6*(J4-J7)))/(J5+EXP(J6*(J4-J9))))^J5))","v":0},{"$f":"IF(OR(F172<=J9,F172>100000),0,IF(F172<=K7,K8,K8+(K10-K8)*(1-((K5+EXP(K6*(K4-K7)))/(K5+EXP(K6*(K4-F172))))^K5)/(1-((K5+EXP(K6*(K4-K7)))/(K5+EXP(K6*(K4-K9))))^K5)))","v":0},0,0,127.26416730454184,0,"2011-04-10",{"$f":"MAX(L$12:L172)+MAX(M$12:M172)+MAX(N$12:N172)","v":127.26416730454184},"2011-04-10",1.252254525584803,null,null,null,null,null,null,null,null,null,null,null,null,null,null,null,null,null,359.24242424242414,null,{"$f":"IF(OR(AJ172<=AM7,AJ172>AM9),0,AM8+(AM10-AM8)*(1-((AM5+EXP(AM6*(AM4-AM7)))/(AM5+EXP(AM6*(AM4-AJ172))))^AM5)/(1-((AM5+EXP(AM6*(AM4-AM7)))/(AM5+EXP(AM6*(AM4-AM9))))^AM5))","v":22.995635141414176},{"$f":"IF(OR(AJ172<=AN7,AJ172>AN9),0,AN8+(AN10-AN8)*(1-((AN5+EXP(AN6*(AN4-AN7)))/(AN5+EXP(AN6*(AN4-AJ172))))^AN5)/(1-((AN5+EXP(AN6*(AN4-AN7)))/(AN5+EXP(AN6*(AN4-AN9))))^AN5))","v":0},{"$f":"IF(OR(AJ172<=AN9,AJ172>100000),0,IF(AJ172<=AO7,AO8,AO8+(AO10-AO8)*(1-((AO5+EXP(AO6*(AO4-AO7)))/(AO5+EXP(AO6*(AO4-AJ172))))^AO5)/(1-((AO5+EXP(AO6*(AO4-AO7)))/(AO5+EXP(AO6*(AO4-AO9))))^AO5)))","v":0},22.995635141414176,17.581600632708845]
[162,{"$f":"'daily uptake'!F256","v":"2011-04-11"},{"$f":"5/9*'daily uptake'!Q256","v":11.666666666666668},{"$f":"5/9*'daily uptake'!N256","v":4.4444444444444446},{"$f":"IF(AND($A173>='daily uptake'!$C$9,$A173<='daily uptake'!$C$10),$C173+E172,0)","v":1566.1111111111106},{"$f":"IF(AND($A173>='daily uptake'!$C$18,$A173<='daily uptake'!$C$20),$D173+F172,0)","v":0},{"$f":"IF(AND($A173>='daily uptake'!$C$24,$A173<='daily uptake'!$C$25),$C173+G172,0)","v":0},{"$f":"IF(OR(F173<=I7,F173>I9),0,I8+(I10-I8)*(1-((I5+EXP(I6*(I4-I7)))/(I5+EXP(I6*(I4-F173))))^I5)/(1-((I5+EXP(I6*(I4-I7)))/(I5+EXP(I6*(I4-I9))))^I5))","v":0},{"$f":"IF(OR(F173<=J7,F173>J9),0,J8+(J10-J8)*(1-((J5+EXP(J6*(J4-J7)))/(J5+EXP(J6*(J4-F173))))^J5)/(1-((J5+EXP(J6*(J4-J7)))/(J5+EXP(J6*(J4-J9))))^J5))","v":0},{"$f":"IF(OR(F173<=J9,F173>100000),0,IF(F173<=K7,K8,K8+(K10-K8)*(1-((K5+EXP(K6*(K4-K7)))/(K5+EXP(K6*(K4-F173))))^K5)/(1-((K5+EXP(K6*(K4-K7)))/(K5+EXP(K6*(K4-K9))))^K5)))","v":0},0,0,128.6441076858533,0,"2011-04-11",{"$f":"MAX(L$12:L173)+MAX(M$12:M173)+MAX(N$12:N173)","v":128.6441076858533},"2011-04-11",1.3799403813114566,null,null,null,null,null,null,null,null,null,null,null,null,null,null,null,null,null,369.4191919191918,null,{"$f":"IF(OR(AJ173<=AM7,AJ173>AM9),0,AM8+(AM10-AM8)*(1-((AM5+EXP(AM6*(AM4-AM7)))/(AM5+EXP(AM6*(AM4-AJ173))))^AM5)/(1-((AM5+EXP(AM6*(AM4-AM7)))/(AM5+EXP(AM6*(AM4-AM9))))^AM5))","v":24.727405154622961},{"$f":"IF(OR(AJ173<=AN7,AJ173>AN9),0,AN8+(AN10-AN8)*(1-((AN5+EXP(AN6*(AN4-AN7)))/(AN5+EXP(AN6*(AN4-AJ173))))^AN5)/(1-((AN5+EXP(AN6*(AN4-AN7)))/(AN5+EXP(AN6*(AN4-AN9))))^AN5))","v":0},{"$f":"IF(OR(AJ173<=AN9,AJ173>100000),0,IF(AJ173<=AO7,AO8,AO8+(AO10-AO8)*(1-((AO5+EXP(AO6*(AO4-AO7)))/(AO5+EXP(AO6*(AO4-AJ173))))^AO5)/(1-((AO5+EXP(AO6*(AO4-AO7)))/(AO5+EXP(AO6*(AO4-AO9))))^AO5)))","v":0},24.727405154622961,18.905647069030294]
[163,{"$f":"'daily uptake'!F257","v":"2011-04-12"},{"$f":"5/9*'daily uptake'!Q257","v":12.5},{"$f":"5/9*'daily uptake'!N257","v":5.5555555555555554},{"$f":"IF(AND($A174>='daily uptake'!$C$9,$A174<='daily uptake'!$C$10),$C174+E173,0)","v":1578.6111111111106},{"$f":"IF(AND($A174>='daily uptake'!$C$18,$A174<='daily uptake'!$C$20),$D174+F173,0)","v":0},{"$f":"IF(AND($A174>='daily uptake'!$C$24,$A174<='daily uptake'!$C$25),$C174+G173,0)","v":0},{"$f":"IF(OR(F174<=I7,F174>I9),0,I8+(I10-I8)*(1-((I5+EXP(I6*(I4-I7)))/(I5+EXP(I6*(I4-F174))))^I5)/(1-((I5+EXP(I6*(I4-I7)))/(I5+EXP(I6*(I4-I9))))^I5))","v":0},{"$f":"IF(OR(F174<=J7,F174>J9),0,J8+(J10-J8)*(1-((J5+EXP(J6*(J4-J7)))/(J5+EXP(J6*(J4-F174))))^J5)/(1-((J5+EXP(J6*(J4-J7)))/(J5+EXP(J6*(J4-J9))))^J5))","v":0},{"$f":"IF(OR(F174<=J9,F174>100000),0,IF(F174<=K7,K8,K8+(K10-K8)*(1-((K5+EXP(K6*(K4-K7)))/(K5+EXP(K6*(K4-F174))))^K5)/(1-((K5+EXP(K6*(K4-K7)))/(K5+EXP(K6*(K4-K9))))^K5)))","v":0},0,0,130.11747413397237,0,"2011-04-12",{"$f":"MAX(L$12:L174)+MAX(M$12:M174)+MAX(N$12:N174)","v":130.11747413397237},"2011-04-12",1.4733664481190658,null,null,null,null,null,null,null,null,null,null,null,null,null,null,null,null,null,379.72727272727263,null,{"$f":"IF(OR(AJ174<=AM7,AJ174>AM9),0,AM8+(AM10-AM8)*(1-((AM5+EXP(AM6*(AM4-AM7)))/(AM5+EXP(AM6*(AM4-AJ174))))^AM5)/(1-((AM5+EXP(AM6*(AM4-AM7)))/(AM5+EXP(AM6*(AM4-AM9))))^AM5))","v":26.480279538782625},{"$f":"IF(OR(AJ174<=AN7,AJ174>AN9),0,AN8+(AN10-AN8)*(1-((AN5+EXP(AN6*(AN4-AN7)))/(AN5+EXP(AN6*(AN4-AJ174))))^AN5)/(1-((AN5+EXP(AN6*(AN4-AN7)))/(AN5+EXP(AN6*(AN4-AN9))))^AN5))","v":0},{"$f":"IF(OR(AJ174<=AN9,AJ174>100000),0,IF(AJ174<=AO7,AO8,AO8+(AO10-AO8)*(1-((AO5+EXP(AO6*(AO4-AO7)))/(AO5+EXP(AO6*(AO4-AJ174))))^AO5)/(1-((AO5+EXP(AO6*(AO4-AO7)))/(AO5+EXP(AO6*(AO4-AO9))))^AO5)))","v":0},26.480279538782625,20.245829116278827]
[164,{"$f":"'daily uptake'!F258","v":"2011-04-13"},{"$f":"5/9*'daily uptake'!Q258","v":9.4444444444444446},{"$f":"5/9*'daily uptake'!N258","v":3.0555555555555558},{"$f":"IF(AND($A175>='daily uptake'!$C$9,$A175<='daily uptake'!$C$10),$C175+E174,0)","v":1588.055555555555},{"$f":"IF(AND($A175>='daily uptake'!$C$18,$A175<='daily uptake'!$C$20),$D175+F174,0)","v":0},{"$f":"IF(AND($A175>='daily uptake'!$C$24,$A175<='daily uptake'!$C$25),$C175+G174,0)","v":0},{"$f":"IF(OR(F175<=I7,F175>I9),0,I8+(I10-I8)*(1-((I5+EXP(I6*(I4-I7)))/(I5+EXP(I6*(I4-F175))))^I5)/(1-((I5+EXP(I6*(I4-I7)))/(I5+EXP(I6*(I4-I9))))^I5))","v":0},{"$f":"IF(OR(F175<=J7,F175>J9),0,J8+(J10-J8)*(1-((J5+EXP(J6*(J4-J7)))/(J5+EXP(J6*(J4-F175))))^J5)/(1-((J5+EXP(J6*(J4-J7)))/(J5+EXP(J6*(J4-J9))))^J5))","v":0},{"$f":"IF(OR(F175<=J9,F175>100000),0,IF(F175<=K7,K8,K8+(K10-K8)*(1-((K5+EXP(K6*(K4-K7)))/(K5+EXP(K6*(K4-F175))))^K5)/(1-((K5+EXP(K6*(K4-K7)))/(K5+EXP(K6*(K4-K9))))^K5)))","v":0},0,0,131.22694268807203,0,"2011-04-13",{"$f":"MAX(L$12:L175)+MAX(M$12:M175)+MAX(N$12:N175)","v":131.22694268807203},"2011-04-13",1.1094685540996636,null,null,null,null,null,null,null,null,null,null,null,null,null,null,null,null,null,390.68686868686859,null,{"$f":"IF(OR(AJ175<=AM7,AJ175>AM9),0,AM8+(AM10-AM8)*(1-((AM5+EXP(AM6*(AM4-AM7)))/(AM5+EXP(AM6*(AM4-AJ175))))^AM5)/(1-((AM5+EXP(AM6*(AM4-AM7)))/(AM5+EXP(AM6*(AM4-AM9))))^AM5))","v":28.340092522322212},{"$f":"IF(OR(AJ175<=AN7,AJ175>AN9),0,AN8+(AN10-AN8)*(1-((AN5+EXP(AN6*(AN4-AN7)))/(AN5+EXP(AN6*(AN4-AJ175))))^AN5)/(1-((AN5+EXP(AN6*(AN4-AN7)))/(AN5+EXP(AN6*(AN4-AN9))))^AN5))","v":0},{"$f":"IF(OR(AJ175<=AN9,AJ175>100000),0,IF(AJ175<=AO7,AO8,AO8+(AO10-AO8)*(1-((AO5+EXP(AO6*(AO4-AO7)))/(AO5+EXP(AO6*(AO4-AJ175))))^AO5)/(1-((AO5+EXP(AO6*(AO4-AO7)))/(AO5+EXP(AO6*(AO4-AO9))))^AO5)))","v":0},28.340092522322212,21.667772407996441]
[165,{"$f":"'daily uptake'!F259","v":"2011-04-14"},{"$f":"5/9*'daily uptake'!Q259","v":10.277777777777779},{"$f":"5/9*'daily uptake'!N259","v":4.166666666666667},{"$f":"IF(AND($A176>='daily uptake'!$C$9,$A176<='daily uptake'!$C$10),$C176+E175,0)","v":1598.3333333333328},{"$f":"IF(AND($A176>='daily uptake'!$C$18,$A176<='daily uptake'!$C$20),$D176+F175,0)","v":0},{"$f":"IF(AND($A176>='daily uptake'!$C$24,$A176<='daily uptake'!$C$25),$C176+G175,0)","v":0},{"$f":"IF(OR(F176<=I7,F176>I9),0,I8+(I10-I8)*(1-((I5+EXP(I6*(I4-I7)))/(I5+EXP(I6*(I4-F176))))^I5)/(1-((I5+EXP(I6*(I4-I7)))/(I5+EXP(I6*(I4-I9))))^I5))","v":0},{"$f":"IF(OR(F176<=J7,F176>J9),0,J8+(J10-J8)*(1-((J5+EXP(J6*(J4-J7)))/(J5+EXP(J6*(J4-F176))))^J5)/(1-((J5+EXP(J6*(J4-J7)))/(J5+EXP(J6*(J4-J9))))^J5))","v":0},{"$f":"IF(OR(F176<=J9,F176>100000),0,IF(F176<=K7,K8,K8+(K10-K8)*(1-((K5+EXP(K6*(K4-K7)))/(K5+EXP(K6*(K4-F176))))^K5)/(1-((K5+EXP(K6*(K4-K7)))/(K5+EXP(K6*(K4-K9))))^K5)))","v":0},0,0,132.43044855095781,0,"2011-04-14",{"$f":"MAX(L$12:L176)+MAX(M$12:M176)+MAX(N$12:N176)","v":132.43044855095781},"2011-04-14",1.2035058628857769,null,null,null,null,null,null,null,null,null,null,null,null,null,null,null,null,null,402.06060606060595,null,{"$f":"IF(OR(AJ176<=AM7,AJ176>AM9),0,AM8+(AM10-AM8)*(1-((AM5+EXP(AM6*(AM4-AM7)))/(AM5+EXP(AM6*(AM4-AJ176))))^AM5)/(1-((AM5+EXP(AM6*(AM4-AM7)))/(AM5+EXP(AM6*(AM4-AM9))))^AM5))","v":30.263879184711058},{"$f":"IF(OR(AJ176<=AN7,AJ176>AN9),0,AN8+(AN10-AN8)*(1-((AN5+EXP(AN6*(AN4-AN7)))/(AN5+EXP(AN6*(AN4-AJ176))))^AN5)/(1-((AN5+EXP(AN6*(AN4-AN7)))/(AN5+EXP(AN6*(AN4-AN9))))^AN5))","v":0},{"$f":"IF(OR(AJ176<=AN9,AJ176>100000),0,IF(AJ176<=AO7,AO8,AO8+(AO10-AO8)*(1-((AO5+EXP(AO6*(AO4-AO7)))/(AO5+EXP(AO6*(AO4-AJ176))))^AO5)/(1-((AO5+EXP(AO6*(AO4-AO7)))/(AO5+EXP(AO6*(AO4-AO9))))^AO5)))","v":0},30.263879184711058,23.138627576494844]
[166,{"$f":"'daily uptake'!F260","v":"2011-04-15"},{"$f":"5/9*'daily uptake'!Q260","v":13.888888888888889},{"$f":"5/9*'daily uptake'!N260","v":6.3888888888888893},{"$f":"IF(AND($A177>='daily uptake'!$C$9,$A177<='daily uptake'!$C$10),$C177+E176,0)","v":1612.2222222222217},{"$f":"IF(AND($A177>='daily uptake'!$C$18,$A177<='daily uptake'!$C$20),$D177+F176,0)","v":0},{"$f":"IF(AND($A177>='daily uptake'!$C$24,$A177<='daily uptake'!$C$25),$C177+G176,0)","v":0},{"$f":"IF(OR(F177<=I7,F177>I9),0,I8+(I10-I8)*(1-((I5+EXP(I6*(I4-I7)))/(I5+EXP(I6*(I4-F177))))^I5)/(1-((I5+EXP(I6*(I4-I7)))/(I5+EXP(I6*(I4-I9))))^I5))","v":0},{"$f":"IF(OR(F177<=J7,F177>J9),0,J8+(J10-J8)*(1-((J5+EXP(J6*(J4-J7)))/(J5+EXP(J6*(J4-F177))))^J5)/(1-((J5+EXP(J6*(J4-J7)))/(J5+EXP(J6*(J4-J9))))^J5))","v":0},{"$f":"IF(OR(F177<=J9,F177>100000),0,IF(F177<=K7,K8,K8+(K10-K8)*(1-((K5+EXP(K6*(K4-K7)))/(K5+EXP(K6*(K4-F177))))^K5)/(1-((K5+EXP(K6*(K4-K7)))/(K5+EXP(K6*(K4-K9))))^K5)))","v":0},0,0,134.05008667430999,0,"2011-04-15",{"$f":"MAX(L$12:L177)+MAX(M$12:M177)+MAX(N$12:N177)","v":134.05008667430999},"2011-04-15",1.619638123352189,null,null,null,null,null,null,null,null,null,null,null,null,null,null,null,null,null,414.07070707070699,null,{"$f":"IF(OR(AJ177<=AM7,AJ177>AM9),0,AM8+(AM10-AM8)*(1-((AM5+EXP(AM6*(AM4-AM7)))/(AM5+EXP(AM6*(AM4-AJ177))))^AM5)/(1-((AM5+EXP(AM6*(AM4-AM7)))/(AM5+EXP(AM6*(AM4-AM9))))^AM5))","v":32.286524360917049},{"$f":"IF(OR(AJ177<=AN7,AJ177>AN9),0,AN8+(AN10-AN8)*(1-((AN5+EXP(AN6*(AN4-AN7)))/(AN5+EXP(AN6*(AN4-AJ177))))^AN5)/(1-((AN5+EXP(AN6*(AN4-AN7)))/(AN5+EXP(AN6*(AN4-AN9))))^AN5))","v":0},{"$f":"IF(OR(AJ177<=AN9,AJ177>100000),0,IF(AJ177<=AO7,AO8,AO8+(AO10-AO8)*(1-((AO5+EXP(AO6*(AO4-AO7)))/(AO5+EXP(AO6*(AO4-AJ177))))^AO5)/(1-((AO5+EXP(AO6*(AO4-AO7)))/(AO5+EXP(AO6*(AO4-AO9))))^AO5)))","v":0},32.286524360917049,24.68506625892481]
[167,{"$f":"'daily uptake'!F261","v":"2011-04-16"},{"$f":"5/9*'daily uptake'!Q261","v":17.222222222222221},{"$f":"5/9*'daily uptake'!N261","v":7.2222222222222223},{"$f":"IF(AND($A178>='daily uptake'!$C$9,$A178<='daily uptake'!$C$10),$C178+E177,0)","v":1629.4444444444439},{"$f":"IF(AND($A178>='daily uptake'!$C$18,$A178<='daily uptake'!$C$20),$D178+F177,0)","v":0},{"$f":"IF(AND($A178>='daily uptake'!$C$24,$A178<='daily uptake'!$C$25),$C178+G177,0)","v":0},{"$f":"IF(OR(F178<=I7,F178>I9),0,I8+(I10-I8)*(1-((I5+EXP(I6*(I4-I7)))/(I5+EXP(I6*(I4-F178))))^I5)/(1-((I5+EXP(I6*(I4-I7)))/(I5+EXP(I6*(I4-I9))))^I5))","v":0},{"$f":"IF(OR(F178<=J7,F178>J9),0,J8+(J10-J8)*(1-((J5+EXP(J6*(J4-J7)))/(J5+EXP(J6*(J4-F178))))^J5)/(1-((J5+EXP(J6*(J4-J7)))/(J5+EXP(J6*(J4-J9))))^J5))","v":0},{"$f":"IF(OR(F178<=J9,F178>100000),0,IF(F178<=K7,K8,K8+(K10-K8)*(1-((K5+EXP(K6*(K4-K7)))/(K5+EXP(K6*(K4-F178))))^K5)/(1-((K5+EXP(K6*(K4-K7)))/(K5+EXP(K6*(K4-K9))))^K5)))","v":0},0,0,136.04706642707225,0,"2011-04-16",{"$f":"MAX(L$12:L178)+MAX(M$12:M178)+MAX(N$12:N178)","v":136.04706642707225},"2011-04-16",1.9969797527622575,null,null,null,null,null,null,null,null,null,null,null,null,null,null,null,null,null,425.71717171717165,null,{"$f":"IF(OR(AJ178<=AM7,AJ178>AM9),0,AM8+(AM10-AM8)*(1-((AM5+EXP(AM6*(AM4-AM7)))/(AM5+EXP(AM6*(AM4-AJ178))))^AM5)/(1-((AM5+EXP(AM6*(AM4-AM7)))/(AM5+EXP(AM6*(AM4-AM9))))^AM5))","v":34.238009506482811},{"$f":"IF(OR(AJ178<=AN7,AJ178>AN9),0,AN8+(AN10-AN8)*(1-((AN5+EXP(AN6*(AN4-AN7)))/(AN5+EXP(AN6*(AN4-AJ178))))^AN5)/(1-((AN5+EXP(AN6*(AN4-AN7)))/(AN5+EXP(AN6*(AN4-AN9))))^AN5))","v":0},{"$f":"IF(OR(AJ178<=AN9,AJ178>100000),0,IF(AJ178<=AO7,AO8,AO8+(AO10-AO8)*(1-((AO5+EXP(AO6*(AO4-AO7)))/(AO5+EXP(AO6*(AO4-AJ178))))^AO5)/(1-((AO5+EXP(AO6*(AO4-AO7)))/(AO5+EXP(AO6*(AO4-AO9))))^AO5)))","v":0},34.238009506482811,26.177098649376582]
[168,{"$f":"'daily uptake'!F262","v":"2011-04-17"},{"$f":"5/9*'daily uptake'!Q262","v":17.5},{"$f":"5/9*'daily uptake'!N262","v":7.7777777777777786},{"$f":"IF(AND($A179>='daily uptake'!$C$9,$A179<='daily uptake'!$C$10),$C179+E178,0)","v":1646.9444444444439},{"$f":"IF(AND($A179>='daily uptake'!$C$18,$A179<='daily uptake'!$C$20),$D179+F178,0)","v":0},{"$f":"IF(AND($A179>='daily uptake'!$C$24,$A179<='daily uptake'!$C$25),$C179+G178,0)","v":0},{"$f":"IF(OR(F179<=I7,F179>I9),0,I8+(I10-I8)*(1-((I5+EXP(I6*(I4-I7)))/(I5+EXP(I6*(I4-F179))))^I5)/(1-((I5+EXP(I6*(I4-I7)))/(I5+EXP(I6*(I4-I9))))^I5))","v":0},{"$f":"IF(OR(F179<=J7,F179>J9),0,J8+(J10-J8)*(1-((J5+EXP(J6*(J4-J7)))/(J5+EXP(J6*(J4-F179))))^J5)/(1-((J5+EXP(J6*(J4-J7)))/(J5+EXP(J6*(J4-J9))))^J5))","v":0},{"$f":"IF(OR(F179<=J9,F179>100000),0,IF(F179<=K7,K8,K8+(K10-K8)*(1-((K5+EXP(K6*(K4-K7)))/(K5+EXP(K6*(K4-F179))))^K5)/(1-((K5+EXP(K6*(K4-K7)))/(K5+EXP(K6*(K4-K9))))^K5)))","v":0},0,0,138.06252779878517,0,"2011-04-17",{"$f":"MAX(L$12:L179)+MAX(M$12:M179)+MAX(N$12:N179)","v":138.06252779878517},"2011-04-17",2.0154613717129166,null,null,null,null,null,null,null,null,null,null,null,null,null,null,null,null,null,437.64646464646461,null,{"$f":"IF(OR(AJ179<=AM7,AJ179>AM9),0,AM8+(AM10-AM8)*(1-((AM5+EXP(AM6*(AM4-AM7)))/(AM5+EXP(AM6*(AM4-AJ179))))^AM5)/(1-((AM5+EXP(AM6*(AM4-AM7)))/(AM5+EXP(AM6*(AM4-AM9))))^AM5))","v":36.225795742827302},{"$f":"IF(OR(AJ179<=AN7,AJ179>AN9),0,AN8+(AN10-AN8)*(1-((AN5+EXP(AN6*(AN4-AN7)))/(AN5+EXP(AN6*(AN4-AJ179))))^AN5)/(1-((AN5+EXP(AN6*(AN4-AN7)))/(AN5+EXP(AN6*(AN4-AN9))))^AN5))","v":0},{"$f":"IF(OR(AJ179<=AN9,AJ179>100000),0,IF(AJ179<=AO7,AO8,AO8+(AO10-AO8)*(1-((AO5+EXP(AO6*(AO4-AO7)))/(AO5+EXP(AO6*(AO4-AJ179))))^AO5)/(1-((AO5+EXP(AO6*(AO4-AO7)))/(AO5+EXP(AO6*(AO4-AO9))))^AO5)))","v":0},36.225795742827302,27.696885493083432]
[169,{"$f":"'daily uptake'!F263","v":"2011-04-18"},{"$f":"5/9*'daily uptake'!Q263","v":16.944444444444446},{"$f":"5/9*'daily uptake'!N263","v":6.9444444444444446},{"$f":"IF(AND($A180>='daily uptake'!$C$9,$A180<='daily uptake'!$C$10),$C180+E179,0)","v":1663.8888888888882},{"$f":"IF(AND($A180>='daily uptake'!$C$18,$A180<='daily uptake'!$C$20),$D180+F179,0)","v":0},{"$f":"IF(AND($A180>='daily uptake'!$C$24,$A180<='daily uptake'!$C$25),$C180+G179,0)","v":0},{"$f":"IF(OR(F180<=I7,F180>I9),0,I8+(I10-I8)*(1-((I5+EXP(I6*(I4-I7)))/(I5+EXP(I6*(I4-F180))))^I5)/(1-((I5+EXP(I6*(I4-I7)))/(I5+EXP(I6*(I4-I9))))^I5))","v":0},{"$f":"IF(OR(F180<=J7,F180>J9),0,J8+(J10-J8)*(1-((J5+EXP(J6*(J4-J7)))/(J5+EXP(J6*(J4-F180))))^J5)/(1-((J5+EXP(J6*(J4-J7)))/(J5+EXP(J6*(J4-J9))))^J5))","v":0},{"$f":"IF(OR(F180<=J9,F180>100000),0,IF(F180<=K7,K8,K8+(K10-K8)*(1-((K5+EXP(K6*(K4-K7)))/(K5+EXP(K6*(K4-F180))))^K5)/(1-((K5+EXP(K6*(K4-K7)))/(K5+EXP(K6*(K4-K9))))^K5)))","v":0},0,0,140,0,"2011-04-18",{"$f":"MAX(L$12:L180)+MAX(M$12:M180)+MAX(N$12:N180)","v":140},"2011-04-18",1.9374722012148311,null,null,null,null,null,null,null,null,null,null,null,null,null,null,null,null,null,449.43939393939388,null,{"$f":"IF(OR(AJ180<=AM7,AJ180>AM9),0,AM8+(AM10-AM8)*(1-((AM5+EXP(AM6*(AM4-AM7)))/(AM5+EXP(AM6*(AM4-AJ180))))^AM5)/(1-((AM5+EXP(AM6*(AM4-AM7)))/(AM5+EXP(AM6*(AM4-AM9))))^AM5))","v":38.179162032148369},{"$f":"IF(OR(AJ180<=AN7,AJ180>AN9),0,AN8+(AN10-AN8)*(1-((AN5+EXP(AN6*(AN4-AN7)))/(AN5+EXP(AN6*(AN4-AJ180))))^AN5)/(1-((AN5+EXP(AN6*(AN4-AN7)))/(AN5+EXP(AN6*(AN4-AN9))))^AN5))","v":0},{"$f":"IF(OR(AJ180<=AN9,AJ180>100000),0,IF(AJ180<=AO7,AO8,AO8+(AO10-AO8)*(1-((AO5+EXP(AO6*(AO4-AO7)))/(AO5+EXP(AO6*(AO4-AJ180))))^AO5)/(1-((AO5+EXP(AO6*(AO4-AO7)))/(AO5+EXP(AO6*(AO4-AO9))))^AO5)))","v":0},38.179162032148369,29.190356135535424]
[170,{"$f":"'daily uptake'!F264","v":"2011-04-19"},{"$f":"5/9*'daily uptake'!Q264","v":16.944444444444446},{"$f":"5/9*'daily uptake'!N264","v":6.9444444444444446},{"$f":"IF(AND($A181>='daily uptake'!$C$9,$A181<='daily uptake'!$C$10),$C181+E180,0)","v":0},{"$f":"IF(AND($A181>='daily uptake'!$C$18,$A181<='daily uptake'!$C$20),$D181+F180,0)","v":0},{"$f":"IF(AND($A181>='daily uptake'!$C$24,$A181<='daily uptake'!$C$25),$C181+G180,0)","v":0},{"$f":"IF(OR(F181<=I7,F181>I9),0,I8+(I10-I8)*(1-((I5+EXP(I6*(I4-I7)))/(I5+EXP(I6*(I4-F181))))^I5)/(1-((I5+EXP(I6*(I4-I7)))/(I5+EXP(I6*(I4-I9))))^I5))","v":0},{"$f":"IF(OR(F181<=J7,F181>J9),0,J8+(J10-J8)*(1-((J5+EXP(J6*(J4-J7)))/(J5+EXP(J6*(J4-F181))))^J5)/(1-((J5+EXP(J6*(J4-J7)))/(J5+EXP(J6*(J4-J9))))^J5))","v":0},{"$f":"IF(OR(F181<=J9,F181>100000),0,IF(F181<=K7,K8,K8+(K10-K8)*(1-((K5+EXP(K6*(K4-K7)))/(K5+EXP(K6*(K4-F181))))^K5)/(1-((K5+EXP(K6*(K4-K7)))/(K5+EXP(K6*(K4-K9))))^K5)))","v":0},0,0,0,0,"2011-04-19",{"$f":"MAX(L$12:L181)+MAX(M$12:M181)+MAX(N$12:N181)","v":140},"2011-04-19",0,null,null,null,null,null,null,null,null,null,null,null,null,null,null,null,null,null,461.60101010101005,null,{"$f":"IF(OR(AJ181<=AM7,AJ181>AM9),0,AM8+(AM10-AM8)*(1-((AM5+EXP(AM6*(AM4-AM7)))/(AM5+EXP(AM6*(AM4-AJ181))))^AM5)/(1-((AM5+EXP(AM6*(AM4-AM7)))/(AM5+EXP(AM6*(AM4-AM9))))^AM5))","v":40.180932539473169},{"$f":"IF(OR(AJ181<=AN7,AJ181>AN9),0,AN8+(AN10-AN8)*(1-((AN5+EXP(AN6*(AN4-AN7)))/(AN5+EXP(AN6*(AN4-AJ181))))^AN5)/(1-((AN5+EXP(AN6*(AN4-AN7)))/(AN5+EXP(AN6*(AN4-AN9))))^AN5))","v":0},{"$f":"IF(OR(AJ181<=AN9,AJ181>100000),0,IF(AJ181<=AO7,AO8,AO8+(AO10-AO8)*(1-((AO5+EXP(AO6*(AO4-AO7)))/(AO5+EXP(AO6*(AO4-AJ181))))^AO5)/(1-((AO5+EXP(AO6*(AO4-AO7)))/(AO5+EXP(AO6*(AO4-AO9))))^AO5)))","v":0},40.180932539473169,30.720834828630363]
[171,{"$f":"'daily uptake'!F265","v":"2011-04-20"},{"$f":"5/9*'daily uptake'!Q265","v":17.777777777777779},{"$f":"5/9*'daily uptake'!N265","v":7.7777777777777786},{"$f":"IF(AND($A182>='daily uptake'!$C$9,$A182<='daily uptake'!$C$10),$C182+E181,0)","v":0},{"$f":"IF(AND($A182>='daily uptake'!$C$18,$A182<='daily uptake'!$C$20),$D182+F181,0)","v":0},{"$f":"IF(AND($A182>='daily uptake'!$C$24,$A182<='daily uptake'!$C$25),$C182+G181,0)","v":0},{"$f":"IF(OR(F182<=I7,F182>I9),0,I8+(I10-I8)*(1-((I5+EXP(I6*(I4-I7)))/(I5+EXP(I6*(I4-F182))))^I5)/(1-((I5+EXP(I6*(I4-I7)))/(I5+EXP(I6*(I4-I9))))^I5))","v":0},{"$f":"IF(OR(F182<=J7,F182>J9),0,J8+(J10-J8)*(1-((J5+EXP(J6*(J4-J7)))/(J5+EXP(J6*(J4-F182))))^J5)/(1-((J5+EXP(J6*(J4-J7)))/(J5+EXP(J6*(J4-J9))))^J5))","v":0},{"$f":"IF(OR(F182<=J9,F182>100000),0,IF(F182<=K7,K8,K8+(K10-K8)*(1-((K5+EXP(K6*(K4-K7)))/(K5+EXP(K6*(K4-F182))))^K5)/(1-((K5+EXP(K6*(K4-K7)))/(K5+EXP(K6*(K4-K9))))^K5)))","v":0},0,0,0,0,"2011-04-20",{"$f":"MAX(L$12:L182)+MAX(M$12:M182)+MAX(N$12:N182)","v":140},"2011-04-20",0,null,null,null,null,null,null,null,null,null,null,null,null,null,null,null,null,null,473.96464646464642,null,{"$f":"IF(OR(AJ182<=AM7,AJ182>AM9),0,AM8+(AM10-AM8)*(1-((AM5+EXP(AM6*(AM4-AM7)))/(AM5+EXP(AM6*(AM4-AJ182))))^AM5)/(1-((AM5+EXP(AM6*(AM4-AM7)))/(AM5+EXP(AM6*(AM4-AM9))))^AM5))","v":42.202435421365522},{"$f":"IF(OR(AJ182<=AN7,AJ182>AN9),0,AN8+(AN10-AN8)*(1-((AN5+EXP(AN6*(AN4-AN7)))/(AN5+EXP(AN6*(AN4-AJ182))))^AN5)/(1-((AN5+EXP(AN6*(AN4-AN7)))/(AN5+EXP(AN6*(AN4-AN9))))^AN5))","v":0},{"$f":"IF(OR(AJ182<=AN9,AJ182>100000),0,IF(AJ182<=AO7,AO8,AO8+(AO10-AO8)*(1-((AO5+EXP(AO6*(AO4-AO7)))/(AO5+EXP(AO6*(AO4-AJ182))))^AO5)/(1-((AO5+EXP(AO6*(AO4-AO7)))/(AO5+EXP(AO6*(AO4-AO9))))^AO5)))","v":0},42.202435421365522,32.266400155647275]
[172,{"$f":"'daily uptake'!F266","v":"2011-04-21"},{"$f":"5/9*'daily uptake'!Q266","v":13.888888888888889},{"$f":"5/9*'daily uptake'!N266","v":5},{"$f":"IF(AND($A183>='daily uptake'!$C$9,$A183<='daily uptake'!$C$10),$C183+E182,0)","v":0},{"$f":"IF(AND($A183>='daily uptake'!$C$18,$A183<='daily uptake'!$C$20),$D183+F182,0)","v":0},{"$f":"IF(AND($A183>='daily uptake'!$C$24,$A183<='daily uptake'!$C$25),$C183+G182,0)","v":0},{"$f":"IF(OR(F183<=I7,F183>I9),0,I8+(I10-I8)*(1-((I5+EXP(I6*(I4-I7)))/(I5+EXP(I6*(I4-F183))))^I5)/(1-((I5+EXP(I6*(I4-I7)))/(I5+EXP(I6*(I4-I9))))^I5))","v":0},{"$f":"IF(OR(F183<=J7,F183>J9),0,J8+(J10-J8)*(1-((J5+EXP(J6*(J4-J7)))/(J5+EXP(J6*(J4-F183))))^J5)/(1-((J5+EXP(J6*(J4-J7)))/(J5+EXP(J6*(J4-J9))))^J5))","v":0},{"$f":"IF(OR(F183<=J9,F183>100000),0,IF(F183<=K7,K8,K8+(K10-K8)*(1-((K5+EXP(K6*(K4-K7)))/(K5+EXP(K6*(K4-F183))))^K5)/(1-((K5+EXP(K6*(K4-K7)))/(K5+EXP(K6*(K4-K9))))^K5)))","v":0},0,0,0,0,"2011-04-21",{"$f":"MAX(L$12:L183)+MAX(M$12:M183)+MAX(N$12:N183)","v":140},"2011-04-21",0,null,null,null,null,null,null,null,null,null,null,null,null,null,null,null,null,null,486.49494949494942,null,{"$f":"IF(OR(AJ183<=AM7,AJ183>AM9),0,AM8+(AM10-AM8)*(1-((AM5+EXP(AM6*(AM4-AM7)))/(AM5+EXP(AM6*(AM4-AJ183))))^AM5)/(1-((AM5+EXP(AM6*(AM4-AM7)))/(AM5+EXP(AM6*(AM4-AM9))))^AM5))","v":44.237057172362128},{"$f":"IF(OR(AJ183<=AN7,AJ183>AN9),0,AN8+(AN10-AN8)*(1-((AN5+EXP(AN6*(AN4-AN7)))/(AN5+EXP(AN6*(AN4-AJ183))))^AN5)/(1-((AN5+EXP(AN6*(AN4-AN7)))/(AN5+EXP(AN6*(AN4-AN9))))^AN5))","v":0},{"$f":"IF(OR(AJ183<=AN9,AJ183>100000),0,IF(AJ183<=AO7,AO8,AO8+(AO10-AO8)*(1-((AO5+EXP(AO6*(AO4-AO7)))/(AO5+EXP(AO6*(AO4-AJ183))))^AO5)/(1-((AO5+EXP(AO6*(AO4-AO7)))/(AO5+EXP(AO6*(AO4-AO9))))^AO5)))","v":0},44.237057172362128,33.821995678217611]
[173,{"$f":"'daily uptake'!F267","v":"2011-04-22"},{"$f":"5/9*'daily uptake'!Q267","v":11.944444444444445},{"$f":"5/9*'daily uptake'!N267","v":4.4444444444444446},{"$f":"IF(AND($A184>='daily uptake'!$C$9,$A184<='daily uptake'!$C$10),$C184+E183,0)","v":0},{"$f":"IF(AND($A184>='daily uptake'!$C$18,$A184<='daily uptake'!$C$20),$D184+F183,0)","v":0},{"$f":"IF(AND($A184>='daily uptake'!$C$24,$A184<='daily uptake'!$C$25),$C184+G183,0)","v":0},{"$f":"IF(OR(F184<=I7,F184>I9),0,I8+(I10-I8)*(1-((I5+EXP(I6*(I4-I7)))/(I5+EXP(I6*(I4-F184))))^I5)/(1-((I5+EXP(I6*(I4-I7)))/(I5+EXP(I6*(I4-I9))))^I5))","v":0},{"$f":"IF(OR(F184<=J7,F184>J9),0,J8+(J10-J8)*(1-((J5+EXP(J6*(J4-J7)))/(J5+EXP(J6*(J4-F184))))^J5)/(1-((J5+EXP(J6*(J4-J7)))/(J5+EXP(J6*(J4-J9))))^J5))","v":0},{"$f":"IF(OR(F184<=J9,F184>100000),0,IF(F184<=K7,K8,K8+(K10-K8)*(1-((K5+EXP(K6*(K4-K7)))/(K5+EXP(K6*(K4-F184))))^K5)/(1-((K5+EXP(K6*(K4-K7)))/(K5+EXP(K6*(K4-K9))))^K5)))","v":0},0,0,0,0,"2011-04-22",{"$f":"MAX(L$12:L184)+MAX(M$12:M184)+MAX(N$12:N184)","v":140},"2011-04-22",0,null,null,null,null,null,null,null,null,null,null,null,null,null,null,null,null,null,499.23232323232315,null,{"$f":"IF(OR(AJ184<=AM7,AJ184>AM9),0,AM8+(AM10-AM8)*(1-((AM5+EXP(AM6*(AM4-AM7)))/(AM5+EXP(AM6*(AM4-AJ184))))^AM5)/(1-((AM5+EXP(AM6*(AM4-AM7)))/(AM5+EXP(AM6*(AM4-AM9))))^AM5))","v":0},{"$f":"IF(OR(AJ184<=AN7,AJ184>AN9),0,AN8+(AN10-AN8)*(1-((AN5+EXP(AN6*(AN4-AN7)))/(AN5+EXP(AN6*(AN4-AJ184))))^AN5)/(1-((AN5+EXP(AN6*(AN4-AN7)))/(AN5+EXP(AN6*(AN4-AN9))))^AN5))","v":48.624973503073946},{"$f":"IF(OR(AJ184<=AN9,AJ184>100000),0,IF(AJ184<=AO7,AO8,AO8+(AO10-AO8)*(1-((AO5+EXP(AO6*(AO4-AO7)))/(AO5+EXP(AO6*(AO4-AJ184))))^AO5)/(1-((AO5+EXP(AO6*(AO4-AO7)))/(AO5+EXP(AO6*(AO4-AO9))))^AO5)))","v":0},48.624973503073946,37.176832022675811]
[174,{"$f":"'daily uptake'!F268","v":"2011-04-23"},{"$f":"5/9*'daily uptake'!Q268","v":15.555555555555557},{"$f":"5/9*'daily uptake'!N268","v":6.1111111111111116},{"$f":"IF(AND($A185>='daily uptake'!$C$9,$A185<='daily uptake'!$C$10),$C185+E184,0)","v":0},{"$f":"IF(AND($A185>='daily uptake'!$C$18,$A185<='daily uptake'!$C$20),$D185+F184,0)","v":0},{"$f":"IF(AND($A185>='daily uptake'!$C$24,$A185<='daily uptake'!$C$25),$C185+G184,0)","v":0},{"$f":"IF(OR(F185<=I7,F185>I9),0,I8+(I10-I8)*(1-((I5+EXP(I6*(I4-I7)))/(I5+EXP(I6*(I4-F185))))^I5)/(1-((I5+EXP(I6*(I4-I7)))/(I5+EXP(I6*(I4-I9))))^I5))","v":0},{"$f":"IF(OR(F185<=J7,F185>J9),0,J8+(J10-J8)*(1-((J5+EXP(J6*(J4-J7)))/(J5+EXP(J6*(J4-F185))))^J5)/(1-((J5+EXP(J6*(J4-J7)))/(J5+EXP(J6*(J4-J9))))^J5))","v":0},{"$f":"IF(OR(F185<=J9,F185>100000),0,IF(F185<=K7,K8,K8+(K10-K8)*(1-((K5+EXP(K6*(K4-K7)))/(K5+EXP(K6*(K4-F185))))^K5)/(1-((K5+EXP(K6*(K4-K7)))/(K5+EXP(K6*(K4-K9))))^K5)))","v":0},0,0,0,0,"2011-04-23",{"$f":"MAX(L$12:L185)+MAX(M$12:M185)+MAX(N$12:N185)","v":140},"2011-04-23",0,null,null,null,null,null,null,null,null,null,null,null,null,null,null,null,null,null,511.69191919191911,null,{"$f":"IF(OR(AJ185<=AM7,AJ185>AM9),0,AM8+(AM10-AM8)*(1-((AM5+EXP(AM6*(AM4-AM7)))/(AM5+EXP(AM6*(AM4-AJ185))))^AM5)/(1-((AM5+EXP(AM6*(AM4-AM7)))/(AM5+EXP(AM6*(AM4-AM9))))^AM5))","v":0},{"$f":"IF(OR(AJ185<=AN7,AJ185>AN9),0,AN8+(AN10-AN8)*(1-((AN5+EXP(AN6*(AN4-AN7)))/(AN5+EXP(AN6*(AN4-AJ185))))^AN5)/(1-((AN5+EXP(AN6*(AN4-AN7)))/(AN5+EXP(AN6*(AN4-AN9))))^AN5))","v":54.934323236101896},{"$f":"IF(OR(AJ185<=AN9,AJ185>100000),0,IF(AJ185<=AO7,AO8,AO8+(AO10-AO8)*(1-((AO5+EXP(AO6*(AO4-AO7)))/(AO5+EXP(AO6*(AO4-AJ185))))^AO5)/(1-((AO5+EXP(AO6*(AO4-AO7)))/(AO5+EXP(AO6*(AO4-AO9))))^AO5)))","v":0},54.934323236101896,42.000724321193282]
[175,{"$f":"'daily uptake'!F269","v":"2011-04-24"},{"$f":"5/9*'daily uptake'!Q269","v":14.444444444444445},{"$f":"5/9*'daily uptake'!N269","v":5.5555555555555554},{"$f":"IF(AND($A186>='daily uptake'!$C$9,$A186<='daily uptake'!$C$10),$C186+E185,0)","v":0},{"$f":"IF(AND($A186>='daily uptake'!$C$18,$A186<='daily uptake'!$C$20),$D186+F185,0)","v":0},{"$f":"IF(AND($A186>='daily uptake'!$C$24,$A186<='daily uptake'!$C$25),$C186+G185,0)","v":0},{"$f":"IF(OR(F186<=I7,F186>I9),0,I8+(I10-I8)*(1-((I5+EXP(I6*(I4-I7)))/(I5+EXP(I6*(I4-F186))))^I5)/(1-((I5+EXP(I6*(I4-I7)))/(I5+EXP(I6*(I4-I9))))^I5))","v":0},{"$f":"IF(OR(F186<=J7,F186>J9),0,J8+(J10-J8)*(1-((J5+EXP(J6*(J4-J7)))/(J5+EXP(J6*(J4-F186))))^J5)/(1-((J5+EXP(J6*(J4-J7)))/(J5+EXP(J6*(J4-J9))))^J5))","v":0},{"$f":"IF(OR(F186<=J9,F186>100000),0,IF(F186<=K7,K8,K8+(K10-K8)*(1-((K5+EXP(K6*(K4-K7)))/(K5+EXP(K6*(K4-F186))))^K5)/(1-((K5+EXP(K6*(K4-K7)))/(K5+EXP(K6*(K4-K9))))^K5)))","v":0},0,0,0,0,"2011-04-24",{"$f":"MAX(L$12:L186)+MAX(M$12:M186)+MAX(N$12:N186)","v":140},"2011-04-24",0,null,null,null,null,null,null,null,null,null,null,null,null,null,null,null,null,null,524.17676767676755,null,{"$f":"IF(OR(AJ186<=AM7,AJ186>AM9),0,AM8+(AM10-AM8)*(1-((AM5+EXP(AM6*(AM4-AM7)))/(AM5+EXP(AM6*(AM4-AJ186))))^AM5)/(1-((AM5+EXP(AM6*(AM4-AM7)))/(AM5+EXP(AM6*(AM4-AM9))))^AM5))","v":0},{"$f":"IF(OR(AJ186<=AN7,AJ186>AN9),0,AN8+(AN10-AN8)*(1-((AN5+EXP(AN6*(AN4-AN7)))/(AN5+EXP(AN6*(AN4-AJ186))))^AN5)/(1-((AN5+EXP(AN6*(AN4-AN7)))/(AN5+EXP(AN6*(AN4-AN9))))^AN5))","v":62.22918236625307},{"$f":"IF(OR(AJ186<=AN9,AJ186>100000),0,IF(AJ186<=AO7,AO8,AO8+(AO10-AO8)*(1-((AO5+EXP(AO6*(AO4-AO7)))/(AO5+EXP(AO6*(AO4-AJ186))))^AO5)/(1-((AO5+EXP(AO6*(AO4-AO7)))/(AO5+EXP(AO6*(AO4-AO9))))^AO5)))","v":0},62.22918236625307,47.578100162715721]
[176,{"$f":"'daily uptake'!F270","v":"2011-04-25"},{"$f":"5/9*'daily uptake'!Q270","v":15},{"$f":"5/9*'daily uptake'!N270","v":6.3888888888888893},{"$f":"IF(AND($A187>='daily uptake'!$C$9,$A187<='daily uptake'!$C$10),$C187+E186,0)","v":0},{"$f":"IF(AND($A187>='daily uptake'!$C$18,$A187<='daily uptake'!$C$20),$D187+F186,0)","v":0},{"$f":"IF(AND($A187>='daily uptake'!$C$24,$A187<='daily uptake'!$C$25),$C187+G186,0)","v":0},{"$f":"IF(OR(F187<=I7,F187>I9),0,I8+(I10-I8)*(1-((I5+EXP(I6*(I4-I7)))/(I5+EXP(I6*(I4-F187))))^I5)/(1-((I5+EXP(I6*(I4-I7)))/(I5+EXP(I6*(I4-I9))))^I5))","v":0},{"$f":"IF(OR(F187<=J7,F187>J9),0,J8+(J10-J8)*(1-((J5+EXP(J6*(J4-J7)))/(J5+EXP(J6*(J4-F187))))^J5)/(1-((J5+EXP(J6*(J4-J7)))/(J5+EXP(J6*(J4-J9))))^J5))","v":0},{"$f":"IF(OR(F187<=J9,F187>100000),0,IF(F187<=K7,K8,K8+(K10-K8)*(1-((K5+EXP(K6*(K4-K7)))/(K5+EXP(K6*(K4-F187))))^K5)/(1-((K5+EXP(K6*(K4-K7)))/(K5+EXP(K6*(K4-K9))))^K5)))","v":0},0,0,0,0,"2011-04-25",{"$f":"MAX(L$12:L187)+MAX(M$12:M187)+MAX(N$12:N187)","v":140},"2011-04-25",0,null,null,null,null,null,null,null,null,null,null,null,null,null,null,null,null,null,536.63131313131305,null,{"$f":"IF(OR(AJ187<=AM7,AJ187>AM9),0,AM8+(AM10-AM8)*(1-((AM5+EXP(AM6*(AM4-AM7)))/(AM5+EXP(AM6*(AM4-AJ187))))^AM5)/(1-((AM5+EXP(AM6*(AM4-AM7)))/(AM5+EXP(AM6*(AM4-AM9))))^AM5))","v":0},{"$f":"IF(OR(AJ187<=AN7,AJ187>AN9),0,AN8+(AN10-AN8)*(1-((AN5+EXP(AN6*(AN4-AN7)))/(AN5+EXP(AN6*(AN4-AJ187))))^AN5)/(1-((AN5+EXP(AN6*(AN4-AN7)))/(AN5+EXP(AN6*(AN4-AN9))))^AN5))","v":70.535951284879602},{"$f":"IF(OR(AJ187<=AN9,AJ187>100000),0,IF(AJ187<=AO7,AO8,AO8+(AO10-AO8)*(1-((AO5+EXP(AO6*(AO4-AO7)))/(AO5+EXP(AO6*(AO4-AJ187))))^AO5)/(1-((AO5+EXP(AO6*(AO4-AO7)))/(AO5+EXP(AO6*(AO4-AO9))))^AO5)))","v":0},70.535951284879602,53.929144296846509]
[177,{"$f":"'daily uptake'!F271","v":"2011-04-26"},{"$f":"5/9*'daily uptake'!Q271","v":12.777777777777779},{"$f":"5/9*'daily uptake'!N271","v":5.2777777777777777},{"$f":"IF(AND($A188>='daily uptake'!$C$9,$A188<='daily uptake'!$C$10),$C188+E187,0)","v":0},{"$f":"IF(AND($A188>='daily uptake'!$C$18,$A188<='daily uptake'!$C$20),$D188+F187,0)","v":0},{"$f":"IF(AND($A188>='daily uptake'!$C$24,$A188<='daily uptake'!$C$25),$C188+G187,0)","v":0},{"$f":"IF(OR(F188<=I7,F188>I9),0,I8+(I10-I8)*(1-((I5+EXP(I6*(I4-I7)))/(I5+EXP(I6*(I4-F188))))^I5)/(1-((I5+EXP(I6*(I4-I7)))/(I5+EXP(I6*(I4-I9))))^I5))","v":0},{"$f":"IF(OR(F188<=J7,F188>J9),0,J8+(J10-J8)*(1-((J5+EXP(J6*(J4-J7)))/(J5+EXP(J6*(J4-F188))))^J5)/(1-((J5+EXP(J6*(J4-J7)))/(J5+EXP(J6*(J4-J9))))^J5))","v":0},{"$f":"IF(OR(F188<=J9,F188>100000),0,IF(F188<=K7,K8,K8+(K10-K8)*(1-((K5+EXP(K6*(K4-K7)))/(K5+EXP(K6*(K4-F188))))^K5)/(1-((K5+EXP(K6*(K4-K7)))/(K5+EXP(K6*(K4-K9))))^K5)))","v":0},0,0,0,0,"2011-04-26",{"$f":"MAX(L$12:L188)+MAX(M$12:M188)+MAX(N$12:N188)","v":140},"2011-04-26",0,null,null,null,null,null,null,null,null,null,null,null,null,null,null,null,null,null,549.01515151515139,null,{"$f":"IF(OR(AJ188<=AM7,AJ188>AM9),0,AM8+(AM10-AM8)*(1-((AM5+EXP(AM6*(AM4-AM7)))/(AM5+EXP(AM6*(AM4-AJ188))))^AM5)/(1-((AM5+EXP(AM6*(AM4-AM7)))/(AM5+EXP(AM6*(AM4-AM9))))^AM5))","v":0},{"$f":"IF(OR(AJ188<=AN7,AJ188>AN9),0,AN8+(AN10-AN8)*(1-((AN5+EXP(AN6*(AN4-AN7)))/(AN5+EXP(AN6*(AN4-AJ188))))^AN5)/(1-((AN5+EXP(AN6*(AN4-AN7)))/(AN5+EXP(AN6*(AN4-AN9))))^AN5))","v":79.84244902042235},{"$f":"IF(OR(AJ188<=AN9,AJ188>100000),0,IF(AJ188<=AO7,AO8,AO8+(AO10-AO8)*(1-((AO5+EXP(AO6*(AO4-AO7)))/(AO5+EXP(AO6*(AO4-AJ188))))^AO5)/(1-((AO5+EXP(AO6*(AO4-AO7)))/(AO5+EXP(AO6*(AO4-AO9))))^AO5)))","v":0},79.84244902042235,61.044543609337929]
[178,{"$f":"'daily uptake'!F272","v":"2011-04-27"},{"$f":"5/9*'daily uptake'!Q272","v":14.444444444444445},{"$f":"5/9*'daily uptake'!N272","v":6.9444444444444446},{"$f":"IF(AND($A189>='daily uptake'!$C$9,$A189<='daily uptake'!$C$10),$C189+E188,0)","v":0},{"$f":"IF(AND($A189>='daily uptake'!$C$18,$A189<='daily uptake'!$C$20),$D189+F188,0)","v":0},{"$f":"IF(AND($A189>='daily uptake'!$C$24,$A189<='daily uptake'!$C$25),$C189+G188,0)","v":0},{"$f":"IF(OR(F189<=I7,F189>I9),0,I8+(I10-I8)*(1-((I5+EXP(I6*(I4-I7)))/(I5+EXP(I6*(I4-F189))))^I5)/(1-((I5+EXP(I6*(I4-I7)))/(I5+EXP(I6*(I4-I9))))^I5))","v":0},{"$f":"IF(OR(F189<=J7,F189>J9),0,J8+(J10-J8)*(1-((J5+EXP(J6*(J4-J7)))/(J5+EXP(J6*(J4-F189))))^J5)/(1-((J5+EXP(J6*(J4-J7)))/(J5+EXP(J6*(J4-J9))))^J5))","v":0},{"$f":"IF(OR(F189<=J9,F189>100000),0,IF(F189<=K7,K8,K8+(K10-K8)*(1-((K5+EXP(K6*(K4-K7)))/(K5+EXP(K6*(K4-F189))))^K5)/(1-((K5+EXP(K6*(K4-K7)))/(K5+EXP(K6*(K4-K9))))^K5)))","v":0},0,0,0,0,"2011-04-27",{"$f":"MAX(L$12:L189)+MAX(M$12:M189)+MAX(N$12:N189)","v":140},"2011-04-27",0,null,null,null,null,null,null,null,null,null,null,null,null,null,null,null,null,null,561.46969696969688,null,{"$f":"IF(OR(AJ189<=AM7,AJ189>AM9),0,AM8+(AM10-AM8)*(1-((AM5+EXP(AM6*(AM4-AM7)))/(AM5+EXP(AM6*(AM4-AJ189))))^AM5)/(1-((AM5+EXP(AM6*(AM4-AM7)))/(AM5+EXP(AM6*(AM4-AM9))))^AM5))","v":0},{"$f":"IF(OR(AJ189<=AN7,AJ189>AN9),0,AN8+(AN10-AN8)*(1-((AN5+EXP(AN6*(AN4-AN7)))/(AN5+EXP(AN6*(AN4-AJ189))))^AN5)/(1-((AN5+EXP(AN6*(AN4-AN7)))/(AN5+EXP(AN6*(AN4-AN9))))^AN5))","v":90.237767350258181},{"$f":"IF(OR(AJ189<=AN9,AJ189>100000),0,IF(AJ189<=AO7,AO8,AO8+(AO10-AO8)*(1-((AO5+EXP(AO6*(AO4-AO7)))/(AO5+EXP(AO6*(AO4-AJ189))))^AO5)/(1-((AO5+EXP(AO6*(AO4-AO7)))/(AO5+EXP(AO6*(AO4-AO9))))^AO5)))","v":0},90.237767350258181,68.992414333547529]
[179,{"$f":"'daily uptake'!F273","v":"2011-04-28"},{"$f":"5/9*'daily uptake'!Q273","v":14.444444444444445},{"$f":"5/9*'daily uptake'!N273","v":6.3888888888888893},{"$f":"IF(AND($A190>='daily uptake'!$C$9,$A190<='daily uptake'!$C$10),$C190+E189,0)","v":0},{"$f":"IF(AND($A190>='daily uptake'!$C$18,$A190<='daily uptake'!$C$20),$D190+F189,0)","v":0},{"$f":"IF(AND($A190>='daily uptake'!$C$24,$A190<='daily uptake'!$C$25),$C190+G189,0)","v":0},{"$f":"IF(OR(F190<=I7,F190>I9),0,I8+(I10-I8)*(1-((I5+EXP(I6*(I4-I7)))/(I5+EXP(I6*(I4-F190))))^I5)/(1-((I5+EXP(I6*(I4-I7)))/(I5+EXP(I6*(I4-I9))))^I5))","v":0},{"$f":"IF(OR(F190<=J7,F190>J9),0,J8+(J10-J8)*(1-((J5+EXP(J6*(J4-J7)))/(J5+EXP(J6*(J4-F190))))^J5)/(1-((J5+EXP(J6*(J4-J7)))/(J5+EXP(J6*(J4-J9))))^J5))","v":0},{"$f":"IF(OR(F190<=J9,F190>100000),0,IF(F190<=K7,K8,K8+(K10-K8)*(1-((K5+EXP(K6*(K4-K7)))/(K5+EXP(K6*(K4-F190))))^K5)/(1-((K5+EXP(K6*(K4-K7)))/(K5+EXP(K6*(K4-K9))))^K5)))","v":0},0,0,0,0,"2011-04-28",{"$f":"MAX(L$12:L190)+MAX(M$12:M190)+MAX(N$12:N190)","v":140},"2011-04-28",0,null,null,null,null,null,null,null,null,null,null,null,null,null,null,null,null,null,573.63131313131305,null,{"$f":"IF(OR(AJ190<=AM7,AJ190>AM9),0,AM8+(AM10-AM8)*(1-((AM5+EXP(AM6*(AM4-AM7)))/(AM5+EXP(AM6*(AM4-AJ190))))^AM5)/(1-((AM5+EXP(AM6*(AM4-AM7)))/(AM5+EXP(AM6*(AM4-AM9))))^AM5))","v":0},{"$f":"IF(OR(AJ190<=AN7,AJ190>AN9),0,AN8+(AN10-AN8)*(1-((AN5+EXP(AN6*(AN4-AN7)))/(AN5+EXP(AN6*(AN4-AJ190))))^AN5)/(1-((AN5+EXP(AN6*(AN4-AN7)))/(AN5+EXP(AN6*(AN4-AN9))))^AN5))","v":101.31996445181881},{"$f":"IF(OR(AJ190<=AN9,AJ190>100000),0,IF(AJ190<=AO7,AO8,AO8+(AO10-AO8)*(1-((AO5+EXP(AO6*(AO4-AO7)))/(AO5+EXP(AO6*(AO4-AJ190))))^AO5)/(1-((AO5+EXP(AO6*(AO4-AO7)))/(AO5+EXP(AO6*(AO4-AO9))))^AO5)))","v":0},101.31996445181881,77.465446818816815]
[180,{"$f":"'daily uptake'!F274","v":"2011-04-29"},{"$f":"5/9*'daily uptake'!Q274","v":13.055555555555555},{"$f":"5/9*'daily uptake'!N274","v":5.2777777777777777},{"$f":"IF(AND($A191>='daily uptake'!$C$9,$A191<='daily uptake'!$C$10),$C191+E190,0)","v":0},{"$f":"IF(AND($A191>='daily uptake'!$C$18,$A191<='daily uptake'!$C$20),$D191+F190,0)","v":0},{"$f":"IF(AND($A191>='daily uptake'!$C$24,$A191<='daily uptake'!$C$25),$C191+G190,0)","v":0},{"$f":"IF(OR(F191<=I7,F191>I9),0,I8+(I10-I8)*(1-((I5+EXP(I6*(I4-I7)))/(I5+EXP(I6*(I4-F191))))^I5)/(1-((I5+EXP(I6*(I4-I7)))/(I5+EXP(I6*(I4-I9))))^I5))","v":0},{"$f":"IF(OR(F191<=J7,F191>J9),0,J8+(J10-J8)*(1-((J5+EXP(J6*(J4-J7)))/(J5+EXP(J6*(J4-F191))))^J5)/(1-((J5+EXP(J6*(J4-J7)))/(J5+EXP(J6*(J4-J9))))^J5))","v":0},{"$f":"IF(OR(F191<=J9,F191>100000),0,IF(F191<=K7,K8,K8+(K10-K8)*(1-((K5+EXP(K6*(K4-K7)))/(K5+EXP(K6*(K4-F191))))^K5)/(1-((K5+EXP(K6*(K4-K7)))/(K5+EXP(K6*(K4-K9))))^K5)))","v":0},0,0,0,0,"2011-04-29",{"$f":"MAX(L$12:L191)+MAX(M$12:M191)+MAX(N$12:N191)","v":140},"2011-04-29",0,null,null,null,null,null,null,null,null,null,null,null,null,null,null,null,null,null,585.65656565656559,null,{"$f":"IF(OR(AJ191<=AM7,AJ191>AM9),0,AM8+(AM10-AM8)*(1-((AM5+EXP(AM6*(AM4-AM7)))/(AM5+EXP(AM6*(AM4-AJ191))))^AM5)/(1-((AM5+EXP(AM6*(AM4-AM7)))/(AM5+EXP(AM6*(AM4-AM9))))^AM5))","v":0},{"$f":"IF(OR(AJ191<=AN7,AJ191>AN9),0,AN8+(AN10-AN8)*(1-((AN5+EXP(AN6*(AN4-AN7)))/(AN5+EXP(AN6*(AN4-AJ191))))^AN5)/(1-((AN5+EXP(AN6*(AN4-AN7)))/(AN5+EXP(AN6*(AN4-AN9))))^AN5))","v":113.05397499112914},{"$f":"IF(OR(AJ191<=AN9,AJ191>100000),0,IF(AJ191<=AO7,AO8,AO8+(AO10-AO8)*(1-((AO5+EXP(AO6*(AO4-AO7)))/(AO5+EXP(AO6*(AO4-AJ191))))^AO5)/(1-((AO5+EXP(AO6*(AO4-AO7)))/(AO5+EXP(AO6*(AO4-AO9))))^AO5)))","v":0},113.05397499112914,86.436831425220163]
[181,{"$f":"'daily uptake'!F275","v":"2011-04-30"},{"$f":"5/9*'daily uptake'!Q275","v":14.166666666666668},{"$f":"5/9*'daily uptake'!N275","v":6.666666666666667},{"$f":"IF(AND($A192>='daily uptake'!$C$9,$A192<='daily uptake'!$C$10),$C192+E191,0)","v":0},{"$f":"IF(AND($A192>='daily uptake'!$C$18,$A192<='daily uptake'!$C$20),$D192+F191,0)","v":0},{"$f":"IF(AND($A192>='daily uptake'!$C$24,$A192<='daily uptake'!$C$25),$C192+G191,0)","v":0},{"$f":"IF(OR(F192<=I7,F192>I9),0,I8+(I10-I8)*(1-((I5+EXP(I6*(I4-I7)))/(I5+EXP(I6*(I4-F192))))^I5)/(1-((I5+EXP(I6*(I4-I7)))/(I5+EXP(I6*(I4-I9))))^I5))","v":0},{"$f":"IF(OR(F192<=J7,F192>J9),0,J8+(J10-J8)*(1-((J5+EXP(J6*(J4-J7)))/(J5+EXP(J6*(J4-F192))))^J5)/(1-((J5+EXP(J6*(J4-J7)))/(J5+EXP(J6*(J4-J9))))^J5))","v":0},{"$f":"IF(OR(F192<=J9,F192>100000),0,IF(F192<=K7,K8,K8+(K10-K8)*(1-((K5+EXP(K6*(K4-K7)))/(K5+EXP(K6*(K4-F192))))^K5)/(1-((K5+EXP(K6*(K4-K7)))/(K5+EXP(K6*(K4-K9))))^K5)))","v":0},0,0,0,0,"2011-04-30",{"$f":"MAX(L$12:L192)+MAX(M$12:M192)+MAX(N$12:N192)","v":140},"2011-04-30",0,null,null,null,null,null,null,null,null,null,null,null,null,null,null,null,null,null,597.82323232323222,null,{"$f":"IF(OR(AJ192<=AM7,AJ192>AM9),0,AM8+(AM10-AM8)*(1-((AM5+EXP(AM6*(AM4-AM7)))/(AM5+EXP(AM6*(AM4-AJ192))))^AM5)/(1-((AM5+EXP(AM6*(AM4-AM7)))/(AM5+EXP(AM6*(AM4-AM9))))^AM5))","v":0},{"$f":"IF(OR(AJ192<=AN7,AJ192>AN9),0,AN8+(AN10-AN8)*(1-((AN5+EXP(AN6*(AN4-AN7)))/(AN5+EXP(AN6*(AN4-AJ192))))^AN5)/(1-((AN5+EXP(AN6*(AN4-AN7)))/(AN5+EXP(AN6*(AN4-AN9))))^AN5))","v":125.51800227749652},{"$f":"IF(OR(AJ192<=AN9,AJ192>100000),0,IF(AJ192<=AO7,AO8,AO8+(AO10-AO8)*(1-((AO5+EXP(AO6*(AO4-AO7)))/(AO5+EXP(AO6*(AO4-AJ192))))^AO5)/(1-((AO5+EXP(AO6*(AO4-AO7)))/(AO5+EXP(AO6*(AO4-AO9))))^AO5)))","v":0},125.51800227749652,95.966359471585776]
[182,{"$f":"'daily uptake'!F276","v":"2011-05-01"},{"$f":"5/9*'daily uptake'!Q276","v":15},{"$f":"5/9*'daily uptake'!N276","v":7.7777777777777786},{"$f":"IF(AND($A193>='daily uptake'!$C$9,$A193<='daily uptake'!$C$10),$C193+E192,0)","v":0},{"$f":"IF(AND($A193>='daily uptake'!$C$18,$A193<='daily uptake'!$C$20),$D193+F192,0)","v":0},{"$f":"IF(AND($A193>='daily uptake'!$C$24,$A193<='daily uptake'!$C$25),$C193+G192,0)","v":0},{"$f":"IF(OR(F193<=I7,F193>I9),0,I8+(I10-I8)*(1-((I5+EXP(I6*(I4-I7)))/(I5+EXP(I6*(I4-F193))))^I5)/(1-((I5+EXP(I6*(I4-I7)))/(I5+EXP(I6*(I4-I9))))^I5))","v":0},{"$f":"IF(OR(F193<=J7,F193>J9),0,J8+(J10-J8)*(1-((J5+EXP(J6*(J4-J7)))/(J5+EXP(J6*(J4-F193))))^J5)/(1-((J5+EXP(J6*(J4-J7)))/(J5+EXP(J6*(J4-J9))))^J5))","v":0},{"$f":"IF(OR(F193<=J9,F193>100000),0,IF(F193<=K7,K8,K8+(K10-K8)*(1-((K5+EXP(K6*(K4-K7)))/(K5+EXP(K6*(K4-F193))))^K5)/(1-((K5+EXP(K6*(K4-K7)))/(K5+EXP(K6*(K4-K9))))^K5)))","v":0},0,0,0,0,"2011-05-01",{"$f":"MAX(L$12:L193)+MAX(M$12:M193)+MAX(N$12:N193)","v":140},"2011-05-01",0,null,null,null,null,null,null,null,null,null,null,null,null,null,null,null,null,null,610.45454545454538,null,{"$f":"IF(OR(AJ193<=AM7,AJ193>AM9),0,AM8+(AM10-AM8)*(1-((AM5+EXP(AM6*(AM4-AM7)))/(AM5+EXP(AM6*(AM4-AJ193))))^AM5)/(1-((AM5+EXP(AM6*(AM4-AM7)))/(AM5+EXP(AM6*(AM4-AM9))))^AM5))","v":0},{"$f":"IF(OR(AJ193<=AN7,AJ193>AN9),0,AN8+(AN10-AN8)*(1-((AN5+EXP(AN6*(AN4-AN7)))/(AN5+EXP(AN6*(AN4-AJ193))))^AN5)/(1-((AN5+EXP(AN6*(AN4-AN7)))/(AN5+EXP(AN6*(AN4-AN9))))^AN5))","v":138.81509717671895},{"$f":"IF(OR(AJ193<=AN9,AJ193>100000),0,IF(AJ193<=AO7,AO8,AO8+(AO10-AO8)*(1-((AO5+EXP(AO6*(AO4-AO7)))/(AO5+EXP(AO6*(AO4-AJ193))))^AO5)/(1-((AO5+EXP(AO6*(AO4-AO7)))/(AO5+EXP(AO6*(AO4-AO9))))^AO5)))","v":0},138.81509717671895,106.13281978701856]
[183,{"$f":"'daily uptake'!F277","v":"2011-05-02"},{"$f":"5/9*'daily uptake'!Q277","v":17.777777777777779},{"$f":"5/9*'daily uptake'!N277","v":9.4444444444444446},{"$f":"IF(AND($A194>='daily uptake'!$C$9,$A194<='daily uptake'!$C$10),$C194+E193,0)","v":0},{"$f":"IF(AND($A194>='daily uptake'!$C$18,$A194<='daily uptake'!$C$20),$D194+F193,0)","v":0},{"$f":"IF(AND($A194>='daily uptake'!$C$24,$A194<='daily uptake'!$C$25),$C194+G193,0)","v":0},{"$f":"IF(OR(F194<=I7,F194>I9),0,I8+(I10-I8)*(1-((I5+EXP(I6*(I4-I7)))/(I5+EXP(I6*(I4-F194))))^I5)/(1-((I5+EXP(I6*(I4-I7)))/(I5+EXP(I6*(I4-I9))))^I5))","v":0},{"$f":"IF(OR(F194<=J7,F194>J9),0,J8+(J10-J8)*(1-((J5+EXP(J6*(J4-J7)))/(J5+EXP(J6*(J4-F194))))^J5)/(1-((J5+EXP(J6*(J4-J7)))/(J5+EXP(J6*(J4-J9))))^J5))","v":0},{"$f":"IF(OR(F194<=J9,F194>100000),0,IF(F194<=K7,K8,K8+(K10-K8)*(1-((K5+EXP(K6*(K4-K7)))/(K5+EXP(K6*(K4-F194))))^K5)/(1-((K5+EXP(K6*(K4-K7)))/(K5+EXP(K6*(K4-K9))))^K5)))","v":0},0,0,0,0,"2011-05-02",{"$f":"MAX(L$12:L194)+MAX(M$12:M194)+MAX(N$12:N194)","v":140},"2011-05-02",0,null,null,null,null,null,null,null,null,null,null,null,null,null,null,null,null,null,622.83333333333326,null,{"$f":"IF(OR(AJ194<=AM7,AJ194>AM9),0,AM8+(AM10-AM8)*(1-((AM5+EXP(AM6*(AM4-AM7)))/(AM5+EXP(AM6*(AM4-AJ194))))^AM5)/(1-((AM5+EXP(AM6*(AM4-AM7)))/(AM5+EXP(AM6*(AM4-AM9))))^AM5))","v":0},{"$f":"IF(OR(AJ194<=AN7,AJ194>AN9),0,AN8+(AN10-AN8)*(1-((AN5+EXP(AN6*(AN4-AN7)))/(AN5+EXP(AN6*(AN4-AJ194))))^AN5)/(1-((AN5+EXP(AN6*(AN4-AN7)))/(AN5+EXP(AN6*(AN4-AN9))))^AN5))","v":151.87715215766909},{"$f":"IF(OR(AJ194<=AN9,AJ194>100000),0,IF(AJ194<=AO7,AO8,AO8+(AO10-AO8)*(1-((AO5+EXP(AO6*(AO4-AO7)))/(AO5+EXP(AO6*(AO4-AJ194))))^AO5)/(1-((AO5+EXP(AO6*(AO4-AO7)))/(AO5+EXP(AO6*(AO4-AO9))))^AO5)))","v":0},151.87715215766909,116.11957739146312]
[184,{"$f":"'daily uptake'!F278","v":"2011-05-03"},{"$f":"5/9*'daily uptake'!Q278","v":17.5},{"$f":"5/9*'daily uptake'!N278","v":8.0555555555555554},{"$f":"IF(AND($A195>='daily uptake'!$C$9,$A195<='daily uptake'!$C$10),$C195+E194,0)","v":0},{"$f":"IF(AND($A195>='daily uptake'!$C$18,$A195<='daily uptake'!$C$20),$D195+F194,0)","v":0},{"$f":"IF(AND($A195>='daily uptake'!$C$24,$A195<='daily uptake'!$C$25),$C195+G194,0)","v":0},{"$f":"IF(OR(F195<=I7,F195>I9),0,I8+(I10-I8)*(1-((I5+EXP(I6*(I4-I7)))/(I5+EXP(I6*(I4-F195))))^I5)/(1-((I5+EXP(I6*(I4-I7)))/(I5+EXP(I6*(I4-I9))))^I5))","v":0},{"$f":"IF(OR(F195<=J7,F195>J9),0,J8+(J10-J8)*(1-((J5+EXP(J6*(J4-J7)))/(J5+EXP(J6*(J4-F195))))^J5)/(1-((J5+EXP(J6*(J4-J7)))/(J5+EXP(J6*(J4-J9))))^J5))","v":0},{"$f":"IF(OR(F195<=J9,F195>100000),0,IF(F195<=K7,K8,K8+(K10-K8)*(1-((K5+EXP(K6*(K4-K7)))/(K5+EXP(K6*(K4-F195))))^K5)/(1-((K5+EXP(K6*(K4-K7)))/(K5+EXP(K6*(K4-K9))))^K5)))","v":0},0,0,0,0,"2011-05-03",{"$f":"MAX(L$12:L195)+MAX(M$12:M195)+MAX(N$12:N195)","v":140},"2011-05-03",0,null,null,null,null,null,null,null,null,null,null,null,null,null,null,null,null,null,635.44444444444434,null,{"$f":"IF(OR(AJ195<=AM7,AJ195>AM9),0,AM8+(AM10-AM8)*(1-((AM5+EXP(AM6*(AM4-AM7)))/(AM5+EXP(AM6*(AM4-AJ195))))^AM5)/(1-((AM5+EXP(AM6*(AM4-AM7)))/(AM5+EXP(AM6*(AM4-AM9))))^AM5))","v":0},{"$f":"IF(OR(AJ195<=AN7,AJ195>AN9),0,AN8+(AN10-AN8)*(1-((AN5+EXP(AN6*(AN4-AN7)))/(AN5+EXP(AN6*(AN4-AJ195))))^AN5)/(1-((AN5+EXP(AN6*(AN4-AN7)))/(AN5+EXP(AN6*(AN4-AN9))))^AN5))","v":164.85830940449401},{"$f":"IF(OR(AJ195<=AN9,AJ195>100000),0,IF(AJ195<=AO7,AO8,AO8+(AO10-AO8)*(1-((AO5+EXP(AO6*(AO4-AO7)))/(AO5+EXP(AO6*(AO4-AJ195))))^AO5)/(1-((AO5+EXP(AO6*(AO4-AO7)))/(AO5+EXP(AO6*(AO4-AO9))))^AO5)))","v":0},164.85830940449401,126.04448362086481]
[185,{"$f":"'daily uptake'!F279","v":"2011-05-04"},{"$f":"5/9*'daily uptake'!Q279","v":19.444444444444446},{"$f":"5/9*'daily uptake'!N279","v":10.277777777777779},{"$f":"IF(AND($A196>='daily uptake'!$C$9,$A196<='daily uptake'!$C$10),$C196+E195,0)","v":0},{"$f":"IF(AND($A196>='daily uptake'!$C$18,$A196<='daily uptake'!$C$20),$D196+F195,0)","v":0},{"$f":"IF(AND($A196>='daily uptake'!$C$24,$A196<='daily uptake'!$C$25),$C196+G195,0)","v":0},{"$f":"IF(OR(F196<=I7,F196>I9),0,I8+(I10-I8)*(1-((I5+EXP(I6*(I4-I7)))/(I5+EXP(I6*(I4-F196))))^I5)/(1-((I5+EXP(I6*(I4-I7)))/(I5+EXP(I6*(I4-I9))))^I5))","v":0},{"$f":"IF(OR(F196<=J7,F196>J9),0,J8+(J10-J8)*(1-((J5+EXP(J6*(J4-J7)))/(J5+EXP(J6*(J4-F196))))^J5)/(1-((J5+EXP(J6*(J4-J7)))/(J5+EXP(J6*(J4-J9))))^J5))","v":0},{"$f":"IF(OR(F196<=J9,F196>100000),0,IF(F196<=K7,K8,K8+(K10-K8)*(1-((K5+EXP(K6*(K4-K7)))/(K5+EXP(K6*(K4-F196))))^K5)/(1-((K5+EXP(K6*(K4-K7)))/(K5+EXP(K6*(K4-K9))))^K5)))","v":0},0,0,0,0,"2011-05-04",{"$f":"MAX(L$12:L196)+MAX(M$12:M196)+MAX(N$12:N196)","v":140},"2011-05-04",0,null,null,null,null,null,null,null,null,null,null,null,null,null,null,null,null,null,648.40909090909076,null,{"$f":"IF(OR(AJ196<=AM7,AJ196>AM9),0,AM8+(AM10-AM8)*(1-((AM5+EXP(AM6*(AM4-AM7)))/(AM5+EXP(AM6*(AM4-AJ196))))^AM5)/(1-((AM5+EXP(AM6*(AM4-AM7)))/(AM5+EXP(AM6*(AM4-AM9))))^AM5))","v":0},{"$f":"IF(OR(AJ196<=AN7,AJ196>AN9),0,AN8+(AN10-AN8)*(1-((AN5+EXP(AN6*(AN4-AN7)))/(AN5+EXP(AN6*(AN4-AJ196))))^AN5)/(1-((AN5+EXP(AN6*(AN4-AN7)))/(AN5+EXP(AN6*(AN4-AN9))))^AN5))","v":177.49033727219353},{"$f":"IF(OR(AJ196<=AN9,AJ196>100000),0,IF(AJ196<=AO7,AO8,AO8+(AO10-AO8)*(1-((AO5+EXP(AO6*(AO4-AO7)))/(AO5+EXP(AO6*(AO4-AJ196))))^AO5)/(1-((AO5+EXP(AO6*(AO4-AO7)))/(AO5+EXP(AO6*(AO4-AO9))))^AO5)))","v":0},177.49033727219353,135.7024586141784]
[186,{"$f":"'daily uptake'!F280","v":"2011-05-05"},{"$f":"5/9*'daily uptake'!Q280","v":22.222222222222221},{"$f":"5/9*'daily uptake'!N280","v":12.222222222222223},{"$f":"IF(AND($A197>='daily uptake'!$C$9,$A197<='daily uptake'!$C$10),$C197+E196,0)","v":0},{"$f":"IF(AND($A197>='daily uptake'!$C$18,$A197<='daily uptake'!$C$20),$D197+F196,0)","v":0},{"$f":"IF(AND($A197>='daily uptake'!$C$24,$A197<='daily uptake'!$C$25),$C197+G196,0)","v":0},{"$f":"IF(OR(F197<=I7,F197>I9),0,I8+(I10-I8)*(1-((I5+EXP(I6*(I4-I7)))/(I5+EXP(I6*(I4-F197))))^I5)/(1-((I5+EXP(I6*(I4-I7)))/(I5+EXP(I6*(I4-I9))))^I5))","v":0},{"$f":"IF(OR(F197<=J7,F197>J9),0,J8+(J10-J8)*(1-((J5+EXP(J6*(J4-J7)))/(J5+EXP(J6*(J4-F197))))^J5)/(1-((J5+EXP(J6*(J4-J7)))/(J5+EXP(J6*(J4-J9))))^J5))","v":0},{"$f":"IF(OR(F197<=J9,F197>100000),0,IF(F197<=K7,K8,K8+(K10-K8)*(1-((K5+EXP(K6*(K4-K7)))/(K5+EXP(K6*(K4-F197))))^K5)/(1-((K5+EXP(K6*(K4-K7)))/(K5+EXP(K6*(K4-K9))))^K5)))","v":0},0,0,0,0,"2011-05-05",{"$f":"MAX(L$12:L197)+MAX(M$12:M197)+MAX(N$12:N197)","v":140},"2011-05-05",0,null,null,null,null,null,null,null,null,null,null,null,null,null,null,null,null,null,661.44949494949481,null,{"$f":"IF(OR(AJ197<=AM7,AJ197>AM9),0,AM8+(AM10-AM8)*(1-((AM5+EXP(AM6*(AM4-AM7)))/(AM5+EXP(AM6*(AM4-AJ197))))^AM5)/(1-((AM5+EXP(AM6*(AM4-AM7)))/(AM5+EXP(AM6*(AM4-AM9))))^AM5))","v":0},{"$f":"IF(OR(AJ197<=AN7,AJ197>AN9),0,AN8+(AN10-AN8)*(1-((AN5+EXP(AN6*(AN4-AN7)))/(AN5+EXP(AN6*(AN4-AJ197))))^AN5)/(1-((AN5+EXP(AN6*(AN4-AN7)))/(AN5+EXP(AN6*(AN4-AN9))))^AN5))","v":189.13286656612061},{"$f":"IF(OR(AJ197<=AN9,AJ197>100000),0,IF(AJ197<=AO7,AO8,AO8+(AO10-AO8)*(1-((AO5+EXP(AO6*(AO4-AO7)))/(AO5+EXP(AO6*(AO4-AJ197))))^AO5)/(1-((AO5+EXP(AO6*(AO4-AO7)))/(AO5+EXP(AO6*(AO4-AO9))))^AO5)))","v":0},189.13286656612061,144.60390008955622]
[187,{"$f":"'daily uptake'!F281","v":"2011-05-06"},{"$f":"5/9*'daily uptake'!Q281","v":20.277777777777779},{"$f":"5/9*'daily uptake'!N281","v":10.277777777777779},{"$f":"IF(AND($A198>='daily uptake'!$C$9,$A198<='daily uptake'!$C$10),$C198+E197,0)","v":0},{"$f":"IF(AND($A198>='daily uptake'!$C$18,$A198<='daily uptake'!$C$20),$D198+F197,0)","v":0},{"$f":"IF(AND($A198>='daily uptake'!$C$24,$A198<='daily uptake'!$C$25),$C198+G197,0)","v":0},{"$f":"IF(OR(F198<=I7,F198>I9),0,I8+(I10-I8)*(1-((I5+EXP(I6*(I4-I7)))/(I5+EXP(I6*(I4-F198))))^I5)/(1-((I5+EXP(I6*(I4-I7)))/(I5+EXP(I6*(I4-I9))))^I5))","v":0},{"$f":"IF(OR(F198<=J7,F198>J9),0,J8+(J10-J8)*(1-((J5+EXP(J6*(J4-J7)))/(J5+EXP(J6*(J4-F198))))^J5)/(1-((J5+EXP(J6*(J4-J7)))/(J5+EXP(J6*(J4-J9))))^J5))","v":0},{"$f":"IF(OR(F198<=J9,F198>100000),0,IF(F198<=K7,K8,K8+(K10-K8)*(1-((K5+EXP(K6*(K4-K7)))/(K5+EXP(K6*(K4-F198))))^K5)/(1-((K5+EXP(K6*(K4-K7)))/(K5+EXP(K6*(K4-K9))))^K5)))","v":0},0,0,0,0,"2011-05-06",{"$f":"MAX(L$12:L198)+MAX(M$12:M198)+MAX(N$12:N198)","v":140},"2011-05-06",0,null,null,null,null,null,null,null,null,null,null,null,null,null,null,null,null,null,674.37373737373719,null,{"$f":"IF(OR(AJ198<=AM7,AJ198>AM9),0,AM8+(AM10-AM8)*(1-((AM5+EXP(AM6*(AM4-AM7)))/(AM5+EXP(AM6*(AM4-AJ198))))^AM5)/(1-((AM5+EXP(AM6*(AM4-AM7)))/(AM5+EXP(AM6*(AM4-AM9))))^AM5))","v":0},{"$f":"IF(OR(AJ198<=AN7,AJ198>AN9),0,AN8+(AN10-AN8)*(1-((AN5+EXP(AN6*(AN4-AN7)))/(AN5+EXP(AN6*(AN4-AJ198))))^AN5)/(1-((AN5+EXP(AN6*(AN4-AN7)))/(AN5+EXP(AN6*(AN4-AN9))))^AN5))","v":199.372401322759},{"$f":"IF(OR(AJ198<=AN9,AJ198>100000),0,IF(AJ198<=AO7,AO8,AO8+(AO10-AO8)*(1-((AO5+EXP(AO6*(AO4-AO7)))/(AO5+EXP(AO6*(AO4-AJ198))))^AO5)/(1-((AO5+EXP(AO6*(AO4-AO7)))/(AO5+EXP(AO6*(AO4-AO9))))^AO5)))","v":0},199.372401322759,152.43266453328042]
[188,{"$f":"'daily uptake'!F282","v":"2011-05-07"},{"$f":"5/9*'daily uptake'!Q282","v":16.666666666666668},{"$f":"5/9*'daily uptake'!N282","v":7.5},{"$f":"IF(AND($A199>='daily uptake'!$C$9,$A199<='daily uptake'!$C$10),$C199+E198,0)","v":0},{"$f":"IF(AND($A199>='daily uptake'!$C$18,$A199<='daily uptake'!$C$20),$D199+F198,0)","v":0},{"$f":"IF(AND($A199>='daily uptake'!$C$24,$A199<='daily uptake'!$C$25),$C199+G198,0)","v":0},{"$f":"IF(OR(F199<=I7,F199>I9),0,I8+(I10-I8)*(1-((I5+EXP(I6*(I4-I7)))/(I5+EXP(I6*(I4-F199))))^I5)/(1-((I5+EXP(I6*(I4-I7)))/(I5+EXP(I6*(I4-I9))))^I5))","v":0},{"$f":"IF(OR(F199<=J7,F199>J9),0,J8+(J10-J8)*(1-((J5+EXP(J6*(J4-J7)))/(J5+EXP(J6*(J4-F199))))^J5)/(1-((J5+EXP(J6*(J4-J7)))/(J5+EXP(J6*(J4-J9))))^J5))","v":0},{"$f":"IF(OR(F199<=J9,F199>100000),0,IF(F199<=K7,K8,K8+(K10-K8)*(1-((K5+EXP(K6*(K4-K7)))/(K5+EXP(K6*(K4-F199))))^K5)/(1-((K5+EXP(K6*(K4-K7)))/(K5+EXP(K6*(K4-K9))))^K5)))","v":0},0,0,0,0,"2011-05-07",{"$f":"MAX(L$12:L199)+MAX(M$12:M199)+MAX(N$12:N199)","v":140},"2011-05-07",0,null,null,null,null,null,null,null,null,null,null,null,null,null,null,null,null,null,687.09090909090889,null,{"$f":"IF(OR(AJ199<=AM7,AJ199>AM9),0,AM8+(AM10-AM8)*(1-((AM5+EXP(AM6*(AM4-AM7)))/(AM5+EXP(AM6*(AM4-AJ199))))^AM5)/(1-((AM5+EXP(AM6*(AM4-AM7)))/(AM5+EXP(AM6*(AM4-AM9))))^AM5))","v":0},{"$f":"IF(OR(AJ199<=AN7,AJ199>AN9),0,AN8+(AN10-AN8)*(1-((AN5+EXP(AN6*(AN4-AN7)))/(AN5+EXP(AN6*(AN4-AJ199))))^AN5)/(1-((AN5+EXP(AN6*(AN4-AN7)))/(AN5+EXP(AN6*(AN4-AN9))))^AN5))","v":208.05014917993253},{"$f":"IF(OR(AJ199<=AN9,AJ199>100000),0,IF(AJ199<=AO7,AO8,AO8+(AO10-AO8)*(1-((AO5+EXP(AO6*(AO4-AO7)))/(AO5+EXP(AO6*(AO4-AJ199))))^AO5)/(1-((AO5+EXP(AO6*(AO4-AO7)))/(AO5+EXP(AO6*(AO4-AO9))))^AO5)))","v":0},208.05014917993253,159.06734525759754]
[189,{"$f":"'daily uptake'!F283","v":"2011-05-08"},{"$f":"5/9*'daily uptake'!Q283","v":12.777777777777779},{"$f":"5/9*'daily uptake'!N283","v":4.7222222222222223},{"$f":"IF(AND($A200>='daily uptake'!$C$9,$A200<='daily uptake'!$C$10),$C200+E199,0)","v":0},{"$f":"IF(AND($A200>='daily uptake'!$C$18,$A200<='daily uptake'!$C$20),$D200+F199,0)","v":0},{"$f":"IF(AND($A200>='daily uptake'!$C$24,$A200<='daily uptake'!$C$25),$C200+G199,0)","v":0},{"$f":"IF(OR(F200<=I7,F200>I9),0,I8+(I10-I8)*(1-((I5+EXP(I6*(I4-I7)))/(I5+EXP(I6*(I4-F200))))^I5)/(1-((I5+EXP(I6*(I4-I7)))/(I5+EXP(I6*(I4-I9))))^I5))","v":0},{"$f":"IF(OR(F200<=J7,F200>J9),0,J8+(J10-J8)*(1-((J5+EXP(J6*(J4-J7)))/(J5+EXP(J6*(J4-F200))))^J5)/(1-((J5+EXP(J6*(J4-J7)))/(J5+EXP(J6*(J4-J9))))^J5))","v":0},{"$f":"IF(OR(F200<=J9,F200>100000),0,IF(F200<=K7,K8,K8+(K10-K8)*(1-((K5+EXP(K6*(K4-K7)))/(K5+EXP(K6*(K4-F200))))^K5)/(1-((K5+EXP(K6*(K4-K7)))/(K5+EXP(K6*(K4-K9))))^K5)))","v":0},0,0,0,0,"2011-05-08",{"$f":"MAX(L$12:L200)+MAX(M$12:M200)+MAX(N$12:N200)","v":140},"2011-05-08",0,null,null,null,null,null,null,null,null,null,null,null,null,null,null,null,null,null,700.45454545454527,null,{"$f":"IF(OR(AJ200<=AM7,AJ200>AM9),0,AM8+(AM10-AM8)*(1-((AM5+EXP(AM6*(AM4-AM7)))/(AM5+EXP(AM6*(AM4-AJ200))))^AM5)/(1-((AM5+EXP(AM6*(AM4-AM7)))/(AM5+EXP(AM6*(AM4-AM9))))^AM5))","v":0},{"$f":"IF(OR(AJ200<=AN7,AJ200>AN9),0,AN8+(AN10-AN8)*(1-((AN5+EXP(AN6*(AN4-AN7)))/(AN5+EXP(AN6*(AN4-AJ200))))^AN5)/(1-((AN5+EXP(AN6*(AN4-AN7)))/(AN5+EXP(AN6*(AN4-AN9))))^AN5))","v":215.64440270717114},{"$f":"IF(OR(AJ200<=AN9,AJ200>100000),0,IF(AJ200<=AO7,AO8,AO8+(AO10-AO8)*(1-((AO5+EXP(AO6*(AO4-AO7)))/(AO5+EXP(AO6*(AO4-AJ200))))^AO5)/(1-((AO5+EXP(AO6*(AO4-AO7)))/(AO5+EXP(AO6*(AO4-AO9))))^AO5)))","v":0},215.64440270717114,164.87362683226851]
[190,{"$f":"'daily uptake'!F284","v":"2011-05-09"},{"$f":"5/9*'daily uptake'!Q284","v":12.777777777777779},{"$f":"5/9*'daily uptake'!N284","v":5.5555555555555554},{"$f":"IF(AND($A201>='daily uptake'!$C$9,$A201<='daily uptake'!$C$10),$C201+E200,0)","v":0},{"$f":"IF(AND($A201>='daily uptake'!$C$18,$A201<='daily uptake'!$C$20),$D201+F200,0)","v":0},{"$f":"IF(AND($A201>='daily uptake'!$C$24,$A201<='daily uptake'!$C$25),$C201+G200,0)","v":0},{"$f":"IF(OR(F201<=I7,F201>I9),0,I8+(I10-I8)*(1-((I5+EXP(I6*(I4-I7)))/(I5+EXP(I6*(I4-F201))))^I5)/(1-((I5+EXP(I6*(I4-I7)))/(I5+EXP(I6*(I4-I9))))^I5))","v":0},{"$f":"IF(OR(F201<=J7,F201>J9),0,J8+(J10-J8)*(1-((J5+EXP(J6*(J4-J7)))/(J5+EXP(J6*(J4-F201))))^J5)/(1-((J5+EXP(J6*(J4-J7)))/(J5+EXP(J6*(J4-J9))))^J5))","v":0},{"$f":"IF(OR(F201<=J9,F201>100000),0,IF(F201<=K7,K8,K8+(K10-K8)*(1-((K5+EXP(K6*(K4-K7)))/(K5+EXP(K6*(K4-F201))))^K5)/(1-((K5+EXP(K6*(K4-K7)))/(K5+EXP(K6*(K4-K9))))^K5)))","v":0},0,0,0,0,"2011-05-09",{"$f":"MAX(L$12:L201)+MAX(M$12:M201)+MAX(N$12:N201)","v":140},"2011-05-09",0,null,null,null,null,null,null,null,null,null,null,null,null,null,null,null,null,null,713.91919191919169,null,{"$f":"IF(OR(AJ201<=AM7,AJ201>AM9),0,AM8+(AM10-AM8)*(1-((AM5+EXP(AM6*(AM4-AM7)))/(AM5+EXP(AM6*(AM4-AJ201))))^AM5)/(1-((AM5+EXP(AM6*(AM4-AM7)))/(AM5+EXP(AM6*(AM4-AM9))))^AM5))","v":0},{"$f":"IF(OR(AJ201<=AN7,AJ201>AN9),0,AN8+(AN10-AN8)*(1-((AN5+EXP(AN6*(AN4-AN7)))/(AN5+EXP(AN6*(AN4-AJ201))))^AN5)/(1-((AN5+EXP(AN6*(AN4-AN7)))/(AN5+EXP(AN6*(AN4-AN9))))^AN5))","v":221.78937653278257},{"$f":"IF(OR(AJ201<=AN9,AJ201>100000),0,IF(AJ201<=AO7,AO8,AO8+(AO10-AO8)*(1-((AO5+EXP(AO6*(AO4-AO7)))/(AO5+EXP(AO6*(AO4-AJ201))))^AO5)/(1-((AO5+EXP(AO6*(AO4-AO7)))/(AO5+EXP(AO6*(AO4-AO9))))^AO5)))","v":0},221.78937653278257,169.57184347364219]
[191,{"$f":"'daily uptake'!F285","v":"2011-05-10"},{"$f":"5/9*'daily uptake'!Q285","v":15.833333333333334},{"$f":"5/9*'daily uptake'!N285","v":8.0555555555555554},{"$f":"IF(AND($A202>='daily uptake'!$C$9,$A202<='daily uptake'!$C$10),$C202+E201,0)","v":0},{"$f":"IF(AND($A202>='daily uptake'!$C$18,$A202<='daily uptake'!$C$20),$D202+F201,0)","v":0},{"$f":"IF(AND($A202>='daily uptake'!$C$24,$A202<='daily uptake'!$C$25),$C202+G201,0)","v":0},{"$f":"IF(OR(F202<=I7,F202>I9),0,I8+(I10-I8)*(1-((I5+EXP(I6*(I4-I7)))/(I5+EXP(I6*(I4-F202))))^I5)/(1-((I5+EXP(I6*(I4-I7)))/(I5+EXP(I6*(I4-I9))))^I5))","v":0},{"$f":"IF(OR(F202<=J7,F202>J9),0,J8+(J10-J8)*(1-((J5+EXP(J6*(J4-J7)))/(J5+EXP(J6*(J4-F202))))^J5)/(1-((J5+EXP(J6*(J4-J7)))/(J5+EXP(J6*(J4-J9))))^J5))","v":0},{"$f":"IF(OR(F202<=J9,F202>100000),0,IF(F202<=K7,K8,K8+(K10-K8)*(1-((K5+EXP(K6*(K4-K7)))/(K5+EXP(K6*(K4-F202))))^K5)/(1-((K5+EXP(K6*(K4-K7)))/(K5+EXP(K6*(K4-K9))))^K5)))","v":0},0,0,0,0,"2011-05-10",{"$f":"MAX(L$12:L202)+MAX(M$12:M202)+MAX(N$12:N202)","v":140},"2011-05-10",0,null,null,null,null,null,null,null,null,null,null,null,null,null,null,null,null,null,727.28787878787853,null,{"$f":"IF(OR(AJ202<=AM7,AJ202>AM9),0,AM8+(AM10-AM8)*(1-((AM5+EXP(AM6*(AM4-AM7)))/(AM5+EXP(AM6*(AM4-AJ202))))^AM5)/(1-((AM5+EXP(AM6*(AM4-AM7)))/(AM5+EXP(AM6*(AM4-AM9))))^AM5))","v":0},{"$f":"IF(OR(AJ202<=AN7,AJ202>AN9),0,AN8+(AN10-AN8)*(1-((AN5+EXP(AN6*(AN4-AN7)))/(AN5+EXP(AN6*(AN4-AJ202))))^AN5)/(1-((AN5+EXP(AN6*(AN4-AN7)))/(AN5+EXP(AN6*(AN4-AN9))))^AN5))","v":226.54670069253413},{"$f":"IF(OR(AJ202<=AN9,AJ202>100000),0,IF(AJ202<=AO7,AO8,AO8+(AO10-AO8)*(1-((AO5+EXP(AO6*(AO4-AO7)))/(AO5+EXP(AO6*(AO4-AJ202))))^AO5)/(1-((AO5+EXP(AO6*(AO4-AO7)))/(AO5+EXP(AO6*(AO4-AO9))))^AO5)))","v":0},226.54670069253413,173.20911519685083]
[192,{"$f":"'daily uptake'!F286","v":"2011-05-11"},{"$f":"5/9*'daily uptake'!Q286","v":16.944444444444446},{"$f":"5/9*'daily uptake'!N286","v":8.3333333333333339},{"$f":"IF(AND($A203>='daily uptake'!$C$9,$A203<='daily uptake'!$C$10),$C203+E202,0)","v":0},{"$f":"IF(AND($A203>='daily uptake'!$C$18,$A203<='daily uptake'!$C$20),$D203+F202,0)","v":0},{"$f":"IF(AND($A203>='daily uptake'!$C$24,$A203<='daily uptake'!$C$25),$C203+G202,0)","v":0},{"$f":"IF(OR(F203<=I7,F203>I9),0,I8+(I10-I8)*(1-((I5+EXP(I6*(I4-I7)))/(I5+EXP(I6*(I4-F203))))^I5)/(1-((I5+EXP(I6*(I4-I7)))/(I5+EXP(I6*(I4-I9))))^I5))","v":0},{"$f":"IF(OR(F203<=J7,F203>J9),0,J8+(J10-J8)*(1-((J5+EXP(J6*(J4-J7)))/(J5+EXP(J6*(J4-F203))))^J5)/(1-((J5+EXP(J6*(J4-J7)))/(J5+EXP(J6*(J4-J9))))^J5))","v":0},{"$f":"IF(OR(F203<=J9,F203>100000),0,IF(F203<=K7,K8,K8+(K10-K8)*(1-((K5+EXP(K6*(K4-K7)))/(K5+EXP(K6*(K4-F203))))^K5)/(1-((K5+EXP(K6*(K4-K7)))/(K5+EXP(K6*(K4-K9))))^K5)))","v":0},0,0,0,0,{"$f":"B203","v":"2011-05-11"},{"$f":"MAX(L$12:L203)+MAX(M$12:M203)+MAX(N$12:N203)","v":140},{"$f":"B203","v":"2011-05-11"},0,null,null,null,null,null,null,null,null,null,null,null,null,null,null,null,null,null,740.96969696969666,null,{"$f":"IF(OR(AJ203<=AM7,AJ203>AM9),0,AM8+(AM10-AM8)*(1-((AM5+EXP(AM6*(AM4-AM7)))/(AM5+EXP(AM6*(AM4-AJ203))))^AM5)/(1-((AM5+EXP(AM6*(AM4-AM7)))/(AM5+EXP(AM6*(AM4-AM9))))^AM5))","v":0},{"$f":"IF(OR(AJ203<=AN7,AJ203>AN9),0,AN8+(AN10-AN8)*(1-((AN5+EXP(AN6*(AN4-AN7)))/(AN5+EXP(AN6*(AN4-AJ203))))^AN5)/(1-((AN5+EXP(AN6*(AN4-AN7)))/(AN5+EXP(AN6*(AN4-AN9))))^AN5))","v":230.23410503176308},{"$f":"IF(OR(AJ203<=AN9,AJ203>100000),0,IF(AJ203<=AO7,AO8,AO8+(AO10-AO8)*(1-((AO5+EXP(AO6*(AO4-AO7)))/(AO5+EXP(AO6*(AO4-AJ203))))^AO5)/(1-((AO5+EXP(AO6*(AO4-AO7)))/(AO5+EXP(AO6*(AO4-AO9))))^AO5)))","v":0},230.23410503176308,176.02836633146657]
[193,{"$f":"'daily uptake'!F287","v":"2011-05-12"},{"$f":"5/9*'daily uptake'!Q287","v":18.055555555555557},{"$f":"5/9*'daily uptake'!N287","v":8.3333333333333339},{"$f":"IF(AND($A204>='daily uptake'!$C$9,$A204<='daily uptake'!$C$10),$C204+E203,0)","v":0},{"$f":"IF(AND($A204>='daily uptake'!$C$18,$A204<='daily uptake'!$C$20),$D204+F203,0)","v":0},{"$f":"IF(AND($A204>='daily uptake'!$C$24,$A204<='daily uptake'!$C$25),$C204+G203,0)","v":0},{"$f":"IF(OR(F204<=I7,F204>I9),0,I8+(I10-I8)*(1-((I5+EXP(I6*(I4-I7)))/(I5+EXP(I6*(I4-F204))))^I5)/(1-((I5+EXP(I6*(I4-I7)))/(I5+EXP(I6*(I4-I9))))^I5))","v":0},{"$f":"IF(OR(F204<=J7,F204>J9),0,J8+(J10-J8)*(1-((J5+EXP(J6*(J4-J7)))/(J5+EXP(J6*(J4-F204))))^J5)/(1-((J5+EXP(J6*(J4-J7)))/(J5+EXP(J6*(J4-J9))))^J5))","v":0},{"$f":"IF(OR(F204<=J9,F204>100000),0,IF(F204<=K7,K8,K8+(K10-K8)*(1-((K5+EXP(K6*(K4-K7)))/(K5+EXP(K6*(K4-F204))))^K5)/(1-((K5+EXP(K6*(K4-K7)))/(K5+EXP(K6*(K4-K9))))^K5)))","v":0},{"$f":"H204+I204+J204","v":0},0,{"$f":"M$10*(1-(($M$5+EXP($M$6*$M$4))/($M$5+EXP($M$6*($M$4-$E204))))^$M$5)/(1-(($M$5+EXP($M$6*$M$4))/($M$5+EXP($M$6*($M$4-M$9))))^$M$5)","v":0},0,"2011-05-12",{"$f":"MAX(L$12:L204)+MAX(M$12:M204)+MAX(N$12:N204)","v":140},"2011-05-12",0,null,null,null,null,null,null,null,null,null,null,null,null,null,null,null,null,null,755.03535353535324,null,{"$f":"IF(OR(AJ204<=AM7,AJ204>AM9),0,AM8+(AM10-AM8)*(1-((AM5+EXP(AM6*(AM4-AM7)))/(AM5+EXP(AM6*(AM4-AJ204))))^AM5)/(1-((AM5+EXP(AM6*(AM4-AM7)))/(AM5+EXP(AM6*(AM4-AM9))))^AM5))","v":0},{"$f":"IF(OR(AJ204<=AN7,AJ204>AN9),0,AN8+(AN10-AN8)*(1-((AN5+EXP(AN6*(AN4-AN7)))/(AN5+EXP(AN6*(AN4-AJ204))))^AN5)/(1-((AN5+EXP(AN6*(AN4-AN7)))/(AN5+EXP(AN6*(AN4-AN9))))^AN5))","v":233.01323469181909},{"$f":"IF(OR(AJ204<=AN9,AJ204>100000),0,IF(AJ204<=AO7,AO8,AO8+(AO10-AO8)*(1-((AO5+EXP(AO6*(AO4-AO7)))/(AO5+EXP(AO6*(AO4-AJ204))))^AO5)/(1-((AO5+EXP(AO6*(AO4-AO7)))/(AO5+EXP(AO6*(AO4-AO9))))^AO5)))","v":0},{"$f":"AL204+AM204+AN204","v":233.01323469181909},178.15318469326181]
[194,{"$f":"'daily uptake'!F288","v":"2011-05-13"},{"$f":"5/9*'daily uptake'!Q288","v":18.333333333333336},{"$f":"5/9*'daily uptake'!N288","v":8.8888888888888893},{"$f":"IF(AND($A205>='daily uptake'!$C$9,$A205<='daily uptake'!$C$10),$C205+E204,0)","v":0},{"$f":"IF(AND($A205>='daily uptake'!$C$18,$A205<='daily uptake'!$C$20),$D205+F204,0)","v":0},{"$f":"IF(AND($A205>='daily uptake'!$C$24,$A205<='daily uptake'!$C$25),$C205+G204,0)","v":0},{"$f":"IF(OR(F205<=I7,F205>I9),0,I8+(I10-I8)*(1-((I5+EXP(I6*(I4-I7)))/(I5+EXP(I6*(I4-F205))))^I5)/(1-((I5+EXP(I6*(I4-I7)))/(I5+EXP(I6*(I4-I9))))^I5))","v":0},{"$f":"IF(OR(F205<=J7,F205>J9),0,J8+(J10-J8)*(1-((J5+EXP(J6*(J4-J7)))/(J5+EXP(J6*(J4-F205))))^J5)/(1-((J5+EXP(J6*(J4-J7)))/(J5+EXP(J6*(J4-J9))))^J5))","v":0},{"$f":"IF(OR(F205<=J9,F205>100000),0,IF(F205<=K7,K8,K8+(K10-K8)*(1-((K5+EXP(K6*(K4-K7)))/(K5+EXP(K6*(K4-F205))))^K5)/(1-((K5+EXP(K6*(K4-K7)))/(K5+EXP(K6*(K4-K9))))^K5)))","v":0},0,{"$f":"IF(L$8=0,0,K205*L$7/L$8)","v":0},0,{"$f":"N$10*(1-(($N$5+EXP($N$6*$N$4))/($N$5+EXP($N$6*($N$4-$G205))))^$N$5)/(1-(($N$5+EXP($N$6*$N$4))/($N$5+EXP($N$6*($N$4-N$9))))^$N$5)","v":0},"2011-05-13",{"$f":"MAX(L$12:L205)+MAX(M$12:M205)+MAX(N$12:N205)","v":140},"2011-05-13",{"$f":"P205-P204","v":0},null,null,null,null,null,null,null,null,null,null,null,null,null,null,null,null,null,769.25757575757541,null,{"$f":"IF(OR(AJ205<=AM7,AJ205>AM9),0,AM8+(AM10-AM8)*(1-((AM5+EXP(AM6*(AM4-AM7)))/(AM5+EXP(AM6*(AM4-AJ205))))^AM5)/(1-((AM5+EXP(AM6*(AM4-AM7)))/(AM5+EXP(AM6*(AM4-AM9))))^AM5))","v":0},{"$f":"IF(OR(AJ205<=AN7,AJ205>AN9),0,AN8+(AN10-AN8)*(1-((AN5+EXP(AN6*(AN4-AN7)))/(AN5+EXP(AN6*(AN4-AJ205))))^AN5)/(1-((AN5+EXP(AN6*(AN4-AN7)))/(AN5+EXP(AN6*(AN4-AN9))))^AN5))","v":0},{"$f":"IF(OR(AJ205<=AN9,AJ205>100000),0,IF(AJ205<=AO7,AO8,AO8+(AO10-AO8)*(1-((AO5+EXP(AO6*(AO4-AO7)))/(AO5+EXP(AO6*(AO4-AJ205))))^AO5)/(1-((AO5+EXP(AO6*(AO4-AO7)))/(AO5+EXP(AO6*(AO4-AO9))))^AO5)))","v":234.38544210000001},234.38544210000001,{"$f":"IF(AP$8=0,0,AO205*AP$7/AP$8)","v":179.20232304006188}]
[195,{"$f":"'daily uptake'!F289","v":"2011-05-14"},{"$f":"5/9*'daily uptake'!Q289","v":13.611111111111112},{"$f":"5/9*'daily uptake'!N289","v":4.166666666666667},{"$f":"IF(AND($A206>='daily uptake'!$C$9,$A206<='daily uptake'!$C$10),$C206+E205,0)","v":0},{"$f":"IF(AND($A206>='daily uptake'!$C$18,$A206<='daily uptake'!$C$20),$D206+F205,0)","v":0},{"$f":"IF(AND($A206>='daily uptake'!$C$24,$A206<='daily uptake'!$C$25),$C206+G205,0)","v":0},{"$f":"IF(OR(F206<=I7,F206>I9),0,I8+(I10-I8)*(1-((I5+EXP(I6*(I4-I7)))/(I5+EXP(I6*(I4-F206))))^I5)/(1-((I5+EXP(I6*(I4-I7)))/(I5+EXP(I6*(I4-I9))))^I5))","v":0},{"$f":"IF(OR(F206<=J7,F206>J9),0,J8+(J10-J8)*(1-((J5+EXP(J6*(J4-J7)))/(J5+EXP(J6*(J4-F206))))^J5)/(1-((J5+EXP(J6*(J4-J7)))/(J5+EXP(J6*(J4-J9))))^J5))","v":0},{"$f":"IF(OR(F206<=J9,F206>100000),0,IF(F206<=K7,K8,K8+(K10-K8)*(1-((K5+EXP(K6*(K4-K7)))/(K5+EXP(K6*(K4-F206))))^K5)/(1-((K5+EXP(K6*(K4-K7)))/(K5+EXP(K6*(K4-K9))))^K5)))","v":0},0,0,0,0,"2011-05-14",{"$f":"MAX(L$12:L206)+MAX(M$12:M206)+MAX(N$12:N206)","v":140},"2011-05-14",0,null,null,null,null,null,null,null,null,null,null,null,null,null,null,null,null,null,783.5252525252522,null,{"$f":"IF(OR(AJ206<=AM7,AJ206>AM9),0,AM8+(AM10-AM8)*(1-((AM5+EXP(AM6*(AM4-AM7)))/(AM5+EXP(AM6*(AM4-AJ206))))^AM5)/(1-((AM5+EXP(AM6*(AM4-AM7)))/(AM5+EXP(AM6*(AM4-AM9))))^AM5))","v":0},{"$f":"IF(OR(AJ206<=AN7,AJ206>AN9),0,AN8+(AN10-AN8)*(1-((AN5+EXP(AN6*(AN4-AN7)))/(AN5+EXP(AN6*(AN4-AJ206))))^AN5)/(1-((AN5+EXP(AN6*(AN4-AN7)))/(AN5+EXP(AN6*(AN4-AN9))))^AN5))","v":0},{"$f":"IF(OR(AJ206<=AN9,AJ206>100000),0,IF(AJ206<=AO7,AO8,AO8+(AO10-AO8)*(1-((AO5+EXP(AO6*(AO4-AO7)))/(AO5+EXP(AO6*(AO4-AJ206))))^AO5)/(1-((AO5+EXP(AO6*(AO4-AO7)))/(AO5+EXP(AO6*(AO4-AO9))))^AO5)))","v":234.38544210000001},234.38544210000001,179.20232304006188]
[196,{"$f":"'daily uptake'!F290","v":"2011-05-15"},{"$f":"5/9*'daily uptake'!Q290","v":10.833333333333334},{"$f":"5/9*'daily uptake'!N290","v":2.5},{"$f":"IF(AND($A207>='daily uptake'!$C$9,$A207<='daily uptake'!$C$10),$C207+E206,0)","v":0},{"$f":"IF(AND($A207>='daily uptake'!$C$18,$A207<='daily uptake'!$C$20),$D207+F206,0)","v":2.5},{"$f":"IF(AND($A207>='daily uptake'!$C$24,$A207<='daily uptake'!$C$25),$C207+G206,0)","v":0},{"$f":"IF(OR(F207<=I7,F207>I9),0,I8+(I10-I8)*(1-((I5+EXP(I6*(I4-I7)))/(I5+EXP(I6*(I4-F207))))^I5)/(1-((I5+EXP(I6*(I4-I7)))/(I5+EXP(I6*(I4-I9))))^I5))","v":1.1813500255743435E-3},{"$f":"IF(OR(F207<=J7,F207>J9),0,J8+(J10-J8)*(1-((J5+EXP(J6*(J4-J7)))/(J5+EXP(J6*(J4-F207))))^J5)/(1-((J5+EXP(J6*(J4-J7)))/(J5+EXP(J6*(J4-J9))))^J5))","v":0},{"$f":"IF(OR(F207<=J9,F207>100000),0,IF(F207<=K7,K8,K8+(K10-K8)*(1-((K5+EXP(K6*(K4-K7)))/(K5+EXP(K6*(K4-F207))))^K5)/(1-((K5+EXP(K6*(K4-K7)))/(K5+EXP(K6*(K4-K9))))^K5)))","v":0},1.1813500255743435E-3,1.0092814247473539E-3,0,0,"2011-05-15",{"$f":"MAX(L$12:L207)+MAX(M$12:M207)+MAX(N$12:N207)","v":140.00100928142476},"2011-05-15",1.0092814247570914E-3,null,null,null,null,null,null,null,null,null,null,null,null,null,null,null,null,null,797.48484848484816,null,{"$f":"IF(OR(AJ207<=AM7,AJ207>AM9),0,AM8+(AM10-AM8)*(1-((AM5+EXP(AM6*(AM4-AM7)))/(AM5+EXP(AM6*(AM4-AJ207))))^AM5)/(1-((AM5+EXP(AM6*(AM4-AM7)))/(AM5+EXP(AM6*(AM4-AM9))))^AM5))","v":0},{"$f":"IF(OR(AJ207<=AN7,AJ207>AN9),0,AN8+(AN10-AN8)*(1-((AN5+EXP(AN6*(AN4-AN7)))/(AN5+EXP(AN6*(AN4-AJ207))))^AN5)/(1-((AN5+EXP(AN6*(AN4-AN7)))/(AN5+EXP(AN6*(AN4-AN9))))^AN5))","v":0},{"$f":"IF(OR(AJ207<=AN9,AJ207>100000),0,IF(AJ207<=AO7,AO8,AO8+(AO10-AO8)*(1-((AO5+EXP(AO6*(AO4-AO7)))/(AO5+EXP(AO6*(AO4-AJ207))))^AO5)/(1-((AO5+EXP(AO6*(AO4-AO7)))/(AO5+EXP(AO6*(AO4-AO9))))^AO5)))","v":234.38544210000001},234.38544210000001,179.20232304006188]
[197,{"$f":"'daily uptake'!F291","v":"2011-05-16"},{"$f":"5/9*'daily uptake'!Q291","v":11.666666666666668},{"$f":"5/9*'daily uptake'!N291","v":3.8888888888888893},{"$f":"IF(AND($A208>='daily uptake'!$C$9,$A208<='daily uptake'!$C$10),$C208+E207,0)","v":0},{"$f":"IF(AND($A208>='daily uptake'!$C$18,$A208<='daily uptake'!$C$20),$D208+F207,0)","v":6.3888888888888893},{"$f":"IF(AND($A208>='daily uptake'!$C$24,$A208<='daily uptake'!$C$25),$C208+G207,0)","v":0},{"$f":"IF(OR(F208<=I7,F208>I9),0,I8+(I10-I8)*(1-((I5+EXP(I6*(I4-I7)))/(I5+EXP(I6*(I4-F208))))^I5)/(1-((I5+EXP(I6*(I4-I7)))/(I5+EXP(I6*(I4-I9))))^I5))","v":3.1839038918031024E-3},{"$f":"IF(OR(F208<=J7,F208>J9),0,J8+(J10-J8)*(1-((J5+EXP(J6*(J4-J7)))/(J5+EXP(J6*(J4-F208))))^J5)/(1-((J5+EXP(J6*(J4-J7)))/(J5+EXP(J6*(J4-J9))))^J5))","v":0},{"$f":"IF(OR(F208<=J9,F208>100000),0,IF(F208<=K7,K8,K8+(K10-K8)*(1-((K5+EXP(K6*(K4-K7)))/(K5+EXP(K6*(K4-F208))))^K5)/(1-((K5+EXP(K6*(K4-K7)))/(K5+EXP(K6*(K4-K9))))^K5)))","v":0},3.1839038918031024E-3,2.7201548961878399E-3,0,0,"2011-05-16",{"$f":"MAX(L$12:L208)+MAX(M$12:M208)+MAX(N$12:N208)","v":140.0027201548962},"2011-05-16",1.71087347143839E-3,null,null,null,null,null,null,null,null,null,null,null,null,null,null,null,null,null,811.42929292929261,null,{"$f":"IF(OR(AJ208<=AM7,AJ208>AM9),0,AM8+(AM10-AM8)*(1-((AM5+EXP(AM6*(AM4-AM7)))/(AM5+EXP(AM6*(AM4-AJ208))))^AM5)/(1-((AM5+EXP(AM6*(AM4-AM7)))/(AM5+EXP(AM6*(AM4-AM9))))^AM5))","v":0},{"$f":"IF(OR(AJ208<=AN7,AJ208>AN9),0,AN8+(AN10-AN8)*(1-((AN5+EXP(AN6*(AN4-AN7)))/(AN5+EXP(AN6*(AN4-AJ208))))^AN5)/(1-((AN5+EXP(AN6*(AN4-AN7)))/(AN5+EXP(AN6*(AN4-AN9))))^AN5))","v":0},{"$f":"IF(OR(AJ208<=AN9,AJ208>100000),0,IF(AJ208<=AO7,AO8,AO8+(AO10-AO8)*(1-((AO5+EXP(AO6*(AO4-AO7)))/(AO5+EXP(AO6*(AO4-AJ208))))^AO5)/(1-((AO5+EXP(AO6*(AO4-AO7)))/(AO5+EXP(AO6*(AO4-AO9))))^AO5)))","v":234.38544210000001},234.38544210000001,179.20232304006188]
[198,{"$f":"'daily uptake'!F292","v":"2011-05-17"},{"$f":"5/9*'daily uptake'!Q292","v":12.777777777777779},{"$f":"5/9*'daily uptake'!N292","v":3.0555555555555558},{"$f":"IF(AND($A209>='daily uptake'!$C$9,$A209<='daily uptake'!$C$10),$C209+E208,0)","v":0},{"$f":"IF(AND($A209>='daily uptake'!$C$18,$A209<='daily uptake'!$C$20),$D209+F208,0)","v":9.4444444444444446},{"$f":"IF(AND($A209>='daily uptake'!$C$24,$A209<='daily uptake'!$C$25),$C209+G208,0)","v":0},{"$f":"IF(OR(F209<=I7,F209>I9),0,I8+(I10-I8)*(1-((I5+EXP(I6*(I4-I7)))/(I5+EXP(I6*(I4-F209))))^I5)/(1-((I5+EXP(I6*(I4-I7)))/(I5+EXP(I6*(I4-I9))))^I5))","v":4.9105501988890698E-3},{"$f":"IF(OR(F209<=J7,F209>J9),0,J8+(J10-J8)*(1-((J5+EXP(J6*(J4-J7)))/(J5+EXP(J6*(J4-F209))))^J5)/(1-((J5+EXP(J6*(J4-J7)))/(J5+EXP(J6*(J4-J9))))^J5))","v":0},{"$f":"IF(OR(F209<=J9,F209>100000),0,IF(F209<=K7,K8,K8+(K10-K8)*(1-((K5+EXP(K6*(K4-K7)))/(K5+EXP(K6*(K4-F209))))^K5)/(1-((K5+EXP(K6*(K4-K7)))/(K5+EXP(K6*(K4-K9))))^K5)))","v":0},4.9105501988890698E-3,4.1953079051389661E-3,0,0,"2011-05-17",{"$f":"MAX(L$12:L209)+MAX(M$12:M209)+MAX(N$12:N209)","v":140.00419530790515},"2011-05-17",1.4751530089540665E-3,null,null,null,null,null,null,null,null,null,null,null,null,null,null,null,null,null,825.14646464646432,null,{"$f":"IF(OR(AJ209<=AM7,AJ209>AM9),0,AM8+(AM10-AM8)*(1-((AM5+EXP(AM6*(AM4-AM7)))/(AM5+EXP(AM6*(AM4-AJ209))))^AM5)/(1-((AM5+EXP(AM6*(AM4-AM7)))/(AM5+EXP(AM6*(AM4-AM9))))^AM5))","v":0},{"$f":"IF(OR(AJ209<=AN7,AJ209>AN9),0,AN8+(AN10-AN8)*(1-((AN5+EXP(AN6*(AN4-AN7)))/(AN5+EXP(AN6*(AN4-AJ209))))^AN5)/(1-((AN5+EXP(AN6*(AN4-AN7)))/(AN5+EXP(AN6*(AN4-AN9))))^AN5))","v":0},{"$f":"IF(OR(AJ209<=AN9,AJ209>100000),0,IF(AJ209<=AO7,AO8,AO8+(AO10-AO8)*(1-((AO5+EXP(AO6*(AO4-AO7)))/(AO5+EXP(AO6*(AO4-AJ209))))^AO5)/(1-((AO5+EXP(AO6*(AO4-AO7)))/(AO5+EXP(AO6*(AO4-AO9))))^AO5)))","v":234.38544210000001},234.38544210000001,179.20232304006188]
[199,{"$f":"'daily uptake'!F293","v":"2011-05-18"},{"$f":"5/9*'daily uptake'!Q293","v":14.166666666666668},{"$f":"5/9*'daily uptake'!N293","v":4.7222222222222223},{"$f":"IF(AND($A210>='daily uptake'!$C$9,$A210<='daily uptake'!$C$10),$C210+E209,0)","v":0},{"$f":"IF(AND($A210>='daily uptake'!$C$18,$A210<='daily uptake'!$C$20),$D210+F209,0)","v":14.166666666666668},{"$f":"IF(AND($A210>='daily uptake'!$C$24,$A210<='daily uptake'!$C$25),$C210+G209,0)","v":0},{"$f":"IF(OR(F210<=I7,F210>I9),0,I8+(I10-I8)*(1-((I5+EXP(I6*(I4-I7)))/(I5+EXP(I6*(I4-F210))))^I5)/(1-((I5+EXP(I6*(I4-I7)))/(I5+EXP(I6*(I4-I9))))^I5))","v":7.8732947412833015E-3},{"$f":"IF(OR(F210<=J7,F210>J9),0,J8+(J10-J8)*(1-((J5+EXP(J6*(J4-J7)))/(J5+EXP(J6*(J4-F210))))^J5)/(1-((J5+EXP(J6*(J4-J7)))/(J5+EXP(J6*(J4-J9))))^J5))","v":0},{"$f":"IF(OR(F210<=J9,F210>100000),0,IF(F210<=K7,K8,K8+(K10-K8)*(1-((K5+EXP(K6*(K4-K7)))/(K5+EXP(K6*(K4-F210))))^K5)/(1-((K5+EXP(K6*(K4-K7)))/(K5+EXP(K6*(K4-K9))))^K5)))","v":0},7.8732947412833015E-3,6.7265162415135428E-3,0,0,"2011-05-18",{"$f":"MAX(L$12:L210)+MAX(M$12:M210)+MAX(N$12:N210)","v":140.00672651624151},"2011-05-18",2.5312083363644433E-3,null,null,null,null,null,null,null,null,null,null,null,null,null,null,null,null,null,839.21717171717137,null,{"$f":"IF(OR(AJ210<=AM7,AJ210>AM9),0,AM8+(AM10-AM8)*(1-((AM5+EXP(AM6*(AM4-AM7)))/(AM5+EXP(AM6*(AM4-AJ210))))^AM5)/(1-((AM5+EXP(AM6*(AM4-AM7)))/(AM5+EXP(AM6*(AM4-AM9))))^AM5))","v":0},{"$f":"IF(OR(AJ210<=AN7,AJ210>AN9),0,AN8+(AN10-AN8)*(1-((AN5+EXP(AN6*(AN4-AN7)))/(AN5+EXP(AN6*(AN4-AJ210))))^AN5)/(1-((AN5+EXP(AN6*(AN4-AN7)))/(AN5+EXP(AN6*(AN4-AN9))))^AN5))","v":0},{"$f":"IF(OR(AJ210<=AN9,AJ210>100000),0,IF(AJ210<=AO7,AO8,AO8+(AO10-AO8)*(1-((AO5+EXP(AO6*(AO4-AO7)))/(AO5+EXP(AO6*(AO4-AJ210))))^AO5)/(1-((AO5+EXP(AO6*(AO4-AO7)))/(AO5+EXP(AO6*(AO4-AO9))))^AO5)))","v":234.38544210000001},234.38544210000001,179.20232304006188]
[200,{"$f":"'daily uptake'!F294","v":"2011-05-19"},{"$f":"5/9*'daily uptake'!Q294","v":16.111111111111111},{"$f":"5/9*'daily uptake'!N294","v":7.2222222222222223},{"$f":"IF(AND($A211>='daily uptake'!$C$9,$A211<='daily uptake'!$C$10),$C211+E210,0)","v":0},{"$f":"IF(AND($A211>='daily uptake'!$C$18,$A211<='daily uptake'!$C$20),$D211+F210,0)","v":21.388888888888889},{"$f":"IF(AND($A211>='daily uptake'!$C$24,$A211<='daily uptake'!$C$25),$C211+G210,0)","v":0},{"$f":"IF(OR(F211<=I7,F211>I9),0,I8+(I10-I8)*(1-((I5+EXP(I6*(I4-I7)))/(I5+EXP(I6*(I4-F211))))^I5)/(1-((I5+EXP(I6*(I4-I7)))/(I5+EXP(I6*(I4-I9))))^I5))","v":1.3195450568761546E-2},{"$f":"IF(OR(F211<=J7,F211>J9),0,J8+(J10-J8)*(1-((J5+EXP(J6*(J4-J7)))/(J5+EXP(J6*(J4-F211))))^J5)/(1-((J5+EXP(J6*(J4-J7)))/(J5+EXP(J6*(J4-J9))))^J5))","v":0},{"$f":"IF(OR(F211<=J9,F211>100000),0,IF(F211<=K7,K8,K8+(K10-K8)*(1-((K5+EXP(K6*(K4-K7)))/(K5+EXP(K6*(K4-F211))))^K5)/(1-((K5+EXP(K6*(K4-K7)))/(K5+EXP(K6*(K4-K9))))^K5)))","v":0},1.3195450568761546E-2,1.1273477683930371E-2,0,0,"2011-05-19",{"$f":"MAX(L$12:L211)+MAX(M$12:M211)+MAX(N$12:N211)","v":140.01127347768394},"2011-05-19",4.5469614424291649E-3,null,null,null,null,null,null,null,null,null,null,null,null,null,null,null,null,null,853.33333333333303,null,{"$f":"IF(OR(AJ211<=AM7,AJ211>AM9),0,AM8+(AM10-AM8)*(1-((AM5+EXP(AM6*(AM4-AM7)))/(AM5+EXP(AM6*(AM4-AJ211))))^AM5)/(1-((AM5+EXP(AM6*(AM4-AM7)))/(AM5+EXP(AM6*(AM4-AM9))))^AM5))","v":0},{"$f":"IF(OR(AJ211<=AN7,AJ211>AN9),0,AN8+(AN10-AN8)*(1-((AN5+EXP(AN6*(AN4-AN7)))/(AN5+EXP(AN6*(AN4-AJ211))))^AN5)/(1-((AN5+EXP(AN6*(AN4-AN7)))/(AN5+EXP(AN6*(AN4-AN9))))^AN5))","v":0},{"$f":"IF(OR(AJ211<=AN9,AJ211>100000),0,IF(AJ211<=AO7,AO8,AO8+(AO10-AO8)*(1-((AO5+EXP(AO6*(AO4-AO7)))/(AO5+EXP(AO6*(AO4-AJ211))))^AO5)/(1-((AO5+EXP(AO6*(AO4-AO7)))/(AO5+EXP(AO6*(AO4-AO9))))^AO5)))","v":234.38544210000001},234.38544210000001,179.20232304006188]
[201,{"$f":"'daily uptake'!F295","v":"2011-05-20"},{"$f":"5/9*'daily uptake'!Q295","v":18.055555555555557},{"$f":"5/9*'daily uptake'!N295","v":8.6111111111111107},{"$f":"IF(AND($A212>='daily uptake'!$C$9,$A212<='daily uptake'!$C$10),$C212+E211,0)","v":0},{"$f":"IF(AND($A212>='daily uptake'!$C$18,$A212<='daily uptake'!$C$20),$D212+F211,0)","v":30},{"$f":"IF(AND($A212>='daily uptake'!$C$24,$A212<='daily uptake'!$C$25),$C212+G211,0)","v":0},{"$f":"IF(OR(F212<=I7,F212>I9),0,I8+(I10-I8)*(1-((I5+EXP(I6*(I4-I7)))/(I5+EXP(I6*(I4-F212))))^I5)/(1-((I5+EXP(I6*(I4-I7)))/(I5+EXP(I6*(I4-I9))))^I5))","v":2.1044020332783173E-2},{"$f":"IF(OR(F212<=J7,F212>J9),0,J8+(J10-J8)*(1-((J5+EXP(J6*(J4-J7)))/(J5+EXP(J6*(J4-F212))))^J5)/(1-((J5+EXP(J6*(J4-J7)))/(J5+EXP(J6*(J4-J9))))^J5))","v":0},{"$f":"IF(OR(F212<=J9,F212>100000),0,IF(F212<=K7,K8,K8+(K10-K8)*(1-((K5+EXP(K6*(K4-K7)))/(K5+EXP(K6*(K4-F212))))^K5)/(1-((K5+EXP(K6*(K4-K7)))/(K5+EXP(K6*(K4-K9))))^K5)))","v":0},2.1044020332783173E-2,1.7978870245131319E-2,0,0,"2011-05-20",{"$f":"MAX(L$12:L212)+MAX(M$12:M212)+MAX(N$12:N212)","v":140.01797887024514},"2011-05-20",6.7053925612015064E-3,null,null,null,null,null,null,null,null,null,null,null,null,null,null,null,null,null,867.5101010101007,null,{"$f":"IF(OR(AJ212<=AM7,AJ212>AM9),0,AM8+(AM10-AM8)*(1-((AM5+EXP(AM6*(AM4-AM7)))/(AM5+EXP(AM6*(AM4-AJ212))))^AM5)/(1-((AM5+EXP(AM6*(AM4-AM7)))/(AM5+EXP(AM6*(AM4-AM9))))^AM5))","v":0},{"$f":"IF(OR(AJ212<=AN7,AJ212>AN9),0,AN8+(AN10-AN8)*(1-((AN5+EXP(AN6*(AN4-AN7)))/(AN5+EXP(AN6*(AN4-AJ212))))^AN5)/(1-((AN5+EXP(AN6*(AN4-AN7)))/(AN5+EXP(AN6*(AN4-AN9))))^AN5))","v":0},{"$f":"IF(OR(AJ212<=AN9,AJ212>100000),0,IF(AJ212<=AO7,AO8,AO8+(AO10-AO8)*(1-((AO5+EXP(AO6*(AO4-AO7)))/(AO5+EXP(AO6*(AO4-AJ212))))^AO5)/(1-((AO5+EXP(AO6*(AO4-AO7)))/(AO5+EXP(AO6*(AO4-AO9))))^AO5)))","v":234.38544210000001},234.38544210000001,179.20232304006188]
[202,{"$f":"'daily uptake'!F296","v":"2011-05-21"},{"$f":"5/9*'daily uptake'!Q296","v":18.333333333333336},{"$f":"5/9*'daily uptake'!N296","v":8.3333333333333339},{"$f":"IF(AND($A213>='daily uptake'!$C$9,$A213<='daily uptake'!$C$10),$C213+E212,0)","v":0},{"$f":"IF(AND($A213>='daily uptake'!$C$18,$A213<='daily uptake'!$C$20),$D213+F212,0)","v":38.333333333333336},{"$f":"IF(AND($A213>='daily uptake'!$C$24,$A213<='daily uptake'!$C$25),$C213+G212,0)","v":0},{"$f":"IF(OR(F213<=I7,F213>I9),0,I8+(I10-I8)*(1-((I5+EXP(I6*(I4-I7)))/(I5+EXP(I6*(I4-F213))))^I5)/(1-((I5+EXP(I6*(I4-I7)))/(I5+EXP(I6*(I4-I9))))^I5))","v":3.0569030986658606E-2},{"$f":"IF(OR(F213<=J7,F213>J9),0,J8+(J10-J8)*(1-((J5+EXP(J6*(J4-J7)))/(J5+EXP(J6*(J4-F213))))^J5)/(1-((J5+EXP(J6*(J4-J7)))/(J5+EXP(J6*(J4-J9))))^J5))","v":0},{"$f":"IF(OR(F213<=J9,F213>100000),0,IF(F213<=K7,K8,K8+(K10-K8)*(1-((K5+EXP(K6*(K4-K7)))/(K5+EXP(K6*(K4-F213))))^K5)/(1-((K5+EXP(K6*(K4-K7)))/(K5+EXP(K6*(K4-K9))))^K5)))","v":0},3.0569030986658606E-2,2.6116523028270944E-2,0,0,"2011-05-21",{"$f":"MAX(L$12:L213)+MAX(M$12:M213)+MAX(N$12:N213)","v":140.02611652302826},"2011-05-21",8.1376527831196199E-3,null,null,null,null,null,null,null,null,null,null,null,null,null,null,null,null,null,881.31313131313095,null,{"$f":"IF(OR(AJ213<=AM7,AJ213>AM9),0,AM8+(AM10-AM8)*(1-((AM5+EXP(AM6*(AM4-AM7)))/(AM5+EXP(AM6*(AM4-AJ213))))^AM5)/(1-((AM5+EXP(AM6*(AM4-AM7)))/(AM5+EXP(AM6*(AM4-AM9))))^AM5))","v":0},{"$f":"IF(OR(AJ213<=AN7,AJ213>AN9),0,AN8+(AN10-AN8)*(1-((AN5+EXP(AN6*(AN4-AN7)))/(AN5+EXP(AN6*(AN4-AJ213))))^AN5)/(1-((AN5+EXP(AN6*(AN4-AN7)))/(AN5+EXP(AN6*(AN4-AN9))))^AN5))","v":0},{"$f":"IF(OR(AJ213<=AN9,AJ213>100000),0,IF(AJ213<=AO7,AO8,AO8+(AO10-AO8)*(1-((AO5+EXP(AO6*(AO4-AO7)))/(AO5+EXP(AO6*(AO4-AJ213))))^AO5)/(1-((AO5+EXP(AO6*(AO4-AO7)))/(AO5+EXP(AO6*(AO4-AO9))))^AO5)))","v":234.38544210000001},234.38544210000001,179.20232304006188]
[203,{"$f":"'daily uptake'!F297","v":"2011-05-22"},{"$f":"5/9*'daily uptake'!Q297","v":15.833333333333334},{"$f":"5/9*'daily uptake'!N297","v":6.9444444444444446},{"$f":"IF(AND($A214>='daily uptake'!$C$9,$A214<='daily uptake'!$C$10),$C214+E213,0)","v":0},{"$f":"IF(AND($A214>='daily uptake'!$C$18,$A214<='daily uptake'!$C$20),$D214+F213,0)","v":45.277777777777779},{"$f":"IF(AND($A214>='daily uptake'!$C$24,$A214<='daily uptake'!$C$25),$C214+G213,0)","v":0},{"$f":"IF(OR(F214<=I7,F214>I9),0,I8+(I10-I8)*(1-((I5+EXP(I6*(I4-I7)))/(I5+EXP(I6*(I4-F214))))^I5)/(1-((I5+EXP(I6*(I4-I7)))/(I5+EXP(I6*(I4-I9))))^I5))","v":4.029625520623429E-2},{"$f":"IF(OR(F214<=J7,F214>J9),0,J8+(J10-J8)*(1-((J5+EXP(J6*(J4-J7)))/(J5+EXP(J6*(J4-F214))))^J5)/(1-((J5+EXP(J6*(J4-J7)))/(J5+EXP(J6*(J4-J9))))^J5))","v":0},{"$f":"IF(OR(F214<=J9,F214>100000),0,IF(F214<=K7,K8,K8+(K10-K8)*(1-((K5+EXP(K6*(K4-K7)))/(K5+EXP(K6*(K4-F214))))^K5)/(1-((K5+EXP(K6*(K4-K7)))/(K5+EXP(K6*(K4-K9))))^K5)))","v":0},4.029625520623429E-2,3.4426936120611873E-2,0,0,"2011-05-22",{"$f":"MAX(L$12:L214)+MAX(M$12:M214)+MAX(N$12:N214)","v":140.03442693612061},"2011-05-22",8.3104130923459252E-3,null,null,null,null,null,null,null,null,null,null,null,null,null,null,null,null,null,895.3989898989895,null,{"$f":"IF(OR(AJ214<=AM7,AJ214>AM9),0,AM8+(AM10-AM8)*(1-((AM5+EXP(AM6*(AM4-AM7)))/(AM5+EXP(AM6*(AM4-AJ214))))^AM5)/(1-((AM5+EXP(AM6*(AM4-AM7)))/(AM5+EXP(AM6*(AM4-AM9))))^AM5))","v":0},{"$f":"IF(OR(AJ214<=AN7,AJ214>AN9),0,AN8+(AN10-AN8)*(1-((AN5+EXP(AN6*(AN4-AN7)))/(AN5+EXP(AN6*(AN4-AJ214))))^AN5)/(1-((AN5+EXP(AN6*(AN4-AN7)))/(AN5+EXP(AN6*(AN4-AN9))))^AN5))","v":0},{"$f":"IF(OR(AJ214<=AN9,AJ214>100000),0,IF(AJ214<=AO7,AO8,AO8+(AO10-AO8)*(1-((AO5+EXP(AO6*(AO4-AO7)))/(AO5+EXP(AO6*(AO4-AJ214))))^AO5)/(1-((AO5+EXP(AO6*(AO4-AO7)))/(AO5+EXP(AO6*(AO4-AO9))))^AO5)))","v":234.38544210000001},234.38544210000001,179.20232304006188]
[204,{"$f":"'daily uptake'!F298","v":"2011-05-23"},{"$f":"5/9*'daily uptake'!Q298","v":15.277777777777779},{"$f":"5/9*'daily uptake'!N298","v":6.1111111111111116},{"$f":"IF(AND($A215>='daily uptake'!$C$9,$A215<='daily uptake'!$C$10),$C215+E214,0)","v":0},{"$f":"IF(AND($A215>='daily uptake'!$C$18,$A215<='daily uptake'!$C$20),$D215+F214,0)","v":51.388888888888893},{"$f":"IF(AND($A215>='daily uptake'!$C$24,$A215<='daily uptake'!$C$25),$C215+G214,0)","v":0},{"$f":"IF(OR(F215<=I7,F215>I9),0,I8+(I10-I8)*(1-((I5+EXP(I6*(I4-I7)))/(I5+EXP(I6*(I4-F215))))^I5)/(1-((I5+EXP(I6*(I4-I7)))/(I5+EXP(I6*(I4-I9))))^I5))","v":5.0480122048706957E-2},{"$f":"IF(OR(F215<=J7,F215>J9),0,J8+(J10-J8)*(1-((J5+EXP(J6*(J4-J7)))/(J5+EXP(J6*(J4-F215))))^J5)/(1-((J5+EXP(J6*(J4-J7)))/(J5+EXP(J6*(J4-J9))))^J5))","v":0},{"$f":"IF(OR(F215<=J9,F215>100000),0,IF(F215<=K7,K8,K8+(K10-K8)*(1-((K5+EXP(K6*(K4-K7)))/(K5+EXP(K6*(K4-F215))))^K5)/(1-((K5+EXP(K6*(K4-K7)))/(K5+EXP(K6*(K4-K9))))^K5)))","v":0},5.0480122048706957E-2,4.3127479916859772E-2,0,0,"2011-05-23",{"$f":"MAX(L$12:L215)+MAX(M$12:M215)+MAX(N$12:N215)","v":140.04312747991685},"2011-05-23",8.7005437962375254E-3,null,null,null,null,null,null,null,null,null,null,null,null,null,null,null,null,null,909.53535353535312,null,{"$f":"IF(OR(AJ215<=AM7,AJ215>AM9),0,AM8+(AM10-AM8)*(1-((AM5+EXP(AM6*(AM4-AM7)))/(AM5+EXP(AM6*(AM4-AJ215))))^AM5)/(1-((AM5+EXP(AM6*(AM4-AM7)))/(AM5+EXP(AM6*(AM4-AM9))))^AM5))","v":0},{"$f":"IF(OR(AJ215<=AN7,AJ215>AN9),0,AN8+(AN10-AN8)*(1-((AN5+EXP(AN6*(AN4-AN7)))/(AN5+EXP(AN6*(AN4-AJ215))))^AN5)/(1-((AN5+EXP(AN6*(AN4-AN7)))/(AN5+EXP(AN6*(AN4-AN9))))^AN5))","v":0},{"$f":"IF(OR(AJ215<=AN9,AJ215>100000),0,IF(AJ215<=AO7,AO8,AO8+(AO10-AO8)*(1-((AO5+EXP(AO6*(AO4-AO7)))/(AO5+EXP(AO6*(AO4-AJ215))))^AO5)/(1-((AO5+EXP(AO6*(AO4-AO7)))/(AO5+EXP(AO6*(AO4-AO9))))^AO5)))","v":234.38544210000001},234.38544210000001,179.20232304006188]
[205,{"$f":"'daily uptake'!F299","v":"2011-05-24"},{"$f":"5/9*'daily uptake'!Q299","v":14.722222222222223},{"$f":"5/9*'daily uptake'!N299","v":6.9444444444444446},{"$f":"IF(AND($A216>='daily uptake'!$C$9,$A216<='daily uptake'!$C$10),$C216+E215,0)","v":0},{"$f":"IF(AND($A216>='daily uptake'!$C$18,$A216<='daily uptake'!$C$20),$D216+F215,0)","v":58.333333333333336},{"$f":"IF(AND($A216>='daily uptake'!$C$24,$A216<='daily uptake'!$C$25),$C216+G215,0)","v":0},{"$f":"IF(OR(F216<=I7,F216>I9),0,I8+(I10-I8)*(1-((I5+EXP(I6*(I4-I7)))/(I5+EXP(I6*(I4-F216))))^I5)/(1-((I5+EXP(I6*(I4-I7)))/(I5+EXP(I6*(I4-I9))))^I5))","v":6.4252923764026554E-2},{"$f":"IF(OR(F216<=J7,F216>J9),0,J8+(J10-J8)*(1-((J5+EXP(J6*(J4-J7)))/(J5+EXP(J6*(J4-F216))))^J5)/(1-((J5+EXP(J6*(J4-J7)))/(J5+EXP(J6*(J4-J9))))^J5))","v":0},{"$f":"IF(OR(F216<=J9,F216>100000),0,IF(F216<=K7,K8,K8+(K10-K8)*(1-((K5+EXP(K6*(K4-K7)))/(K5+EXP(K6*(K4-F216))))^K5)/(1-((K5+EXP(K6*(K4-K7)))/(K5+EXP(K6*(K4-K9))))^K5)))","v":0},6.4252923764026554E-2,5.4894215124100663E-2,0,0,"2011-05-24",{"$f":"MAX(L$12:L216)+MAX(M$12:M216)+MAX(N$12:N216)","v":140.05489421512411},"2011-05-24",1.1766735207260126E-2,null,null,null,null,null,null,null,null,null,null,null,null,null,null,null,null,null,923.49999999999955,null,{"$f":"IF(OR(AJ216<=AM7,AJ216>AM9),0,AM8+(AM10-AM8)*(1-((AM5+EXP(AM6*(AM4-AM7)))/(AM5+EXP(AM6*(AM4-AJ216))))^AM5)/(1-((AM5+EXP(AM6*(AM4-AM7)))/(AM5+EXP(AM6*(AM4-AM9))))^AM5))","v":0},{"$f":"IF(OR(AJ216<=AN7,AJ216>AN9),0,AN8+(AN10-AN8)*(1-((AN5+EXP(AN6*(AN4-AN7)))/(AN5+EXP(AN6*(AN4-AJ216))))^AN5)/(1-((AN5+EXP(AN6*(AN4-AN7)))/(AN5+EXP(AN6*(AN4-AN9))))^AN5))","v":0},{"$f":"IF(OR(AJ216<=AN9,AJ216>100000),0,IF(AJ216<=AO7,AO8,AO8+(AO10-AO8)*(1-((AO5+EXP(AO6*(AO4-AO7)))/(AO5+EXP(AO6*(AO4-AJ216))))^AO5)/(1-((AO5+EXP(AO6*(AO4-AO7)))/(AO5+EXP(AO6*(AO4-AO9))))^AO5)))","v":234.38544210000001},234.38544210000001,179.20232304006188]
[206,{"$f":"'daily uptake'!F300","v":"2011-05-25"},{"$f":"5/9*'daily uptake'!Q300","v":15.833333333333334},{"$f":"5/9*'daily uptake'!N300","v":6.3888888888888893},{"$f":"IF(AND($A217>='daily uptake'!$C$9,$A217<='daily uptake'!$C$10),$C217+E216,0)","v":0},{"$f":"IF(AND($A217>='daily uptake'!$C$18,$A217<='daily uptake'!$C$20),$D217+F216,0)","v":64.722222222222229},{"$f":"IF(AND($A217>='daily uptake'!$C$24,$A217<='daily uptake'!$C$25),$C217+G216,0)","v":0},{"$f":"IF(OR(F217<=I7,F217>I9),0,I8+(I10-I8)*(1-((I5+EXP(I6*(I4-I7)))/(I5+EXP(I6*(I4-F217))))^I5)/(1-((I5+EXP(I6*(I4-I7)))/(I5+EXP(I6*(I4-I9))))^I5))","v":7.9375382879355208E-2},{"$f":"IF(OR(F217<=J7,F217>J9),0,J8+(J10-J8)*(1-((J5+EXP(J6*(J4-J7)))/(J5+EXP(J6*(J4-F217))))^J5)/(1-((J5+EXP(J6*(J4-J7)))/(J5+EXP(J6*(J4-J9))))^J5))","v":0},{"$f":"IF(OR(F217<=J9,F217>100000),0,IF(F217<=K7,K8,K8+(K10-K8)*(1-((K5+EXP(K6*(K4-K7)))/(K5+EXP(K6*(K4-F217))))^K5)/(1-((K5+EXP(K6*(K4-K7)))/(K5+EXP(K6*(K4-K9))))^K5)))","v":0},7.9375382879355208E-2,6.781402445341618E-2,0,0,"2011-05-25",{"$f":"MAX(L$12:L217)+MAX(M$12:M217)+MAX(N$12:N217)","v":140.06781402445341},"2011-05-25",1.2919809329304144E-2,null,null,null,null,null,null,null,null,null,null,null,null,null,null,null,null,null,937.48989898989851,null,{"$f":"IF(OR(AJ217<=AM7,AJ217>AM9),0,AM8+(AM10-AM8)*(1-((AM5+EXP(AM6*(AM4-AM7)))/(AM5+EXP(AM6*(AM4-AJ217))))^AM5)/(1-((AM5+EXP(AM6*(AM4-AM7)))/(AM5+EXP(AM6*(AM4-AM9))))^AM5))","v":0},{"$f":"IF(OR(AJ217<=AN7,AJ217>AN9),0,AN8+(AN10-AN8)*(1-((AN5+EXP(AN6*(AN4-AN7)))/(AN5+EXP(AN6*(AN4-AJ217))))^AN5)/(1-((AN5+EXP(AN6*(AN4-AN7)))/(AN5+EXP(AN6*(AN4-AN9))))^AN5))","v":0},{"$f":"IF(OR(AJ217<=AN9,AJ217>100000),0,IF(AJ217<=AO7,AO8,AO8+(AO10-AO8)*(1-((AO5+EXP(AO6*(AO4-AO7)))/(AO5+EXP(AO6*(AO4-AJ217))))^AO5)/(1-((AO5+EXP(AO6*(AO4-AO7)))/(AO5+EXP(AO6*(AO4-AO9))))^AO5)))","v":234.38544210000001},234.38544210000001,179.20232304006188]
[207,{"$f":"'daily uptake'!F301","v":"2011-05-26"},{"$f":"5/9*'daily uptake'!Q301","v":14.722222222222223},{"$f":"5/9*'daily uptake'!N301","v":5.5555555555555554},{"$f":"IF(AND($A218>='daily uptake'!$C$9,$A218<='daily uptake'!$C$10),$C218+E217,0)","v":0},{"$f":"IF(AND($A218>='daily uptake'!$C$18,$A218<='daily uptake'!$C$20),$D218+F217,0)","v":70.277777777777786},{"$f":"IF(AND($A218>='daily uptake'!$C$24,$A218<='daily uptake'!$C$25),$C218+G217,0)","v":0},{"$f":"IF(OR(F218<=I7,F218>I9),0,I8+(I10-I8)*(1-((I5+EXP(I6*(I4-I7)))/(I5+EXP(I6*(I4-F218))))^I5)/(1-((I5+EXP(I6*(I4-I7)))/(I5+EXP(I6*(I4-I9))))^I5))","v":9.47760378140097E-2},{"$f":"IF(OR(F218<=J7,F218>J9),0,J8+(J10-J8)*(1-((J5+EXP(J6*(J4-J7)))/(J5+EXP(J6*(J4-F218))))^J5)/(1-((J5+EXP(J6*(J4-J7)))/(J5+EXP(J6*(J4-J9))))^J5))","v":0},{"$f":"IF(OR(F218<=J9,F218>100000),0,IF(F218<=K7,K8,K8+(K10-K8)*(1-((K5+EXP(K6*(K4-K7)))/(K5+EXP(K6*(K4-F218))))^K5)/(1-((K5+EXP(K6*(K4-K7)))/(K5+EXP(K6*(K4-K9))))^K5)))","v":0},9.47760378140097E-2,8.0971509210682371E-2,0,0,"2011-05-26",{"$f":"MAX(L$12:L218)+MAX(M$12:M218)+MAX(N$12:N218)","v":140.08097150921068},"2011-05-26",1.3157484757272186E-2,null,null,null,null,null,null,null,null,null,null,null,null,null,null,null,null,null,951.93434343434296,null,{"$f":"IF(OR(AJ218<=AM7,AJ218>AM9),0,AM8+(AM10-AM8)*(1-((AM5+EXP(AM6*(AM4-AM7)))/(AM5+EXP(AM6*(AM4-AJ218))))^AM5)/(1-((AM5+EXP(AM6*(AM4-AM7)))/(AM5+EXP(AM6*(AM4-AM9))))^AM5))","v":0},{"$f":"IF(OR(AJ218<=AN7,AJ218>AN9),0,AN8+(AN10-AN8)*(1-((AN5+EXP(AN6*(AN4-AN7)))/(AN5+EXP(AN6*(AN4-AJ218))))^AN5)/(1-((AN5+EXP(AN6*(AN4-AN7)))/(AN5+EXP(AN6*(AN4-AN9))))^AN5))","v":0},{"$f":"IF(OR(AJ218<=AN9,AJ218>100000),0,IF(AJ218<=AO7,AO8,AO8+(AO10-AO8)*(1-((AO5+EXP(AO6*(AO4-AO7)))/(AO5+EXP(AO6*(AO4-AJ218))))^AO5)/(1-((AO5+EXP(AO6*(AO4-AO7)))/(AO5+EXP(AO6*(AO4-AO9))))^AO5)))","v":234.38544210000001},234.38544210000001,179.20232304006188]
[208,{"$f":"'daily uptake'!F302","v":"2011-05-27"},{"$f":"5/9*'daily uptake'!Q302","v":15.555555555555557},{"$f":"5/9*'daily uptake'!N302","v":6.3888888888888893},{"$f":"IF(AND($A219>='daily uptake'!$C$9,$A219<='daily uptake'!$C$10),$C219+E218,0)","v":0},{"$f":"IF(AND($A219>='daily uptake'!$C$18,$A219<='daily uptake'!$C$20),$D219+F218,0)","v":76.666666666666671},{"$f":"IF(AND($A219>='daily uptake'!$C$24,$A219<='daily uptake'!$C$25),$C219+G218,0)","v":0},{"$f":"IF(OR(F219<=I7,F219>I9),0,I8+(I10-I8)*(1-((I5+EXP(I6*(I4-I7)))/(I5+EXP(I6*(I4-F219))))^I5)/(1-((I5+EXP(I6*(I4-I7)))/(I5+EXP(I6*(I4-I9))))^I5))","v":0.11552165941095138},{"$f":"IF(OR(F219<=J7,F219>J9),0,J8+(J10-J8)*(1-((J5+EXP(J6*(J4-J7)))/(J5+EXP(J6*(J4-F219))))^J5)/(1-((J5+EXP(J6*(J4-J7)))/(J5+EXP(J6*(J4-J9))))^J5))","v":0},{"$f":"IF(OR(F219<=J9,F219>100000),0,IF(F219<=K7,K8,K8+(K10-K8)*(1-((K5+EXP(K6*(K4-K7)))/(K5+EXP(K6*(K4-F219))))^K5)/(1-((K5+EXP(K6*(K4-K7)))/(K5+EXP(K6*(K4-K9))))^K5)))","v":0},0.11552165941095138,9.8695443751125753E-2,0,0,"2011-05-27",{"$f":"MAX(L$12:L219)+MAX(M$12:M219)+MAX(N$12:N219)","v":140.09869544375113},"2011-05-27",1.7723934540441633E-2,null,null,null,null,null,null,null,null,null,null,null,null,null,null,null,null,null,966.34848484848442,null,{"$f":"IF(OR(AJ219<=AM7,AJ219>AM9),0,AM8+(AM10-AM8)*(1-((AM5+EXP(AM6*(AM4-AM7)))/(AM5+EXP(AM6*(AM4-AJ219))))^AM5)/(1-((AM5+EXP(AM6*(AM4-AM7)))/(AM5+EXP(AM6*(AM4-AM9))))^AM5))","v":0},{"$f":"IF(OR(AJ219<=AN7,AJ219>AN9),0,AN8+(AN10-AN8)*(1-((AN5+EXP(AN6*(AN4-AN7)))/(AN5+EXP(AN6*(AN4-AJ219))))^AN5)/(1-((AN5+EXP(AN6*(AN4-AN7)))/(AN5+EXP(AN6*(AN4-AN9))))^AN5))","v":0},{"$f":"IF(OR(AJ219<=AN9,AJ219>100000),0,IF(AJ219<=AO7,AO8,AO8+(AO10-AO8)*(1-((AO5+EXP(AO6*(AO4-AO7)))/(AO5+EXP(AO6*(AO4-AJ219))))^AO5)/(1-((AO5+EXP(AO6*(AO4-AO7)))/(AO5+EXP(AO6*(AO4-AO9))))^AO5)))","v":234.38544210000001},234.38544210000001,179.20232304006188]
[209,{"$f":"'daily uptake'!F303","v":"2011-05-28"},{"$f":"5/9*'daily uptake'!Q303","v":14.444444444444445},{"$f":"5/9*'daily uptake'!N303","v":5.8333333333333339},{"$f":"IF(AND($A220>='daily uptake'!$C$9,$A220<='daily uptake'!$C$10),$C220+E219,0)","v":0},{"$f":"IF(AND($A220>='daily uptake'!$C$18,$A220<='daily uptake'!$C$20),$D220+F219,0)","v":82.5},{"$f":"IF(AND($A220>='daily uptake'!$C$24,$A220<='daily uptake'!$C$25),$C220+G219,0)","v":0},{"$f":"IF(OR(F220<=I7,F220>I9),0,I8+(I10-I8)*(1-((I5+EXP(I6*(I4-I7)))/(I5+EXP(I6*(I4-F220))))^I5)/(1-((I5+EXP(I6*(I4-I7)))/(I5+EXP(I6*(I4-I9))))^I5))","v":0.13776933047331366},{"$f":"IF(OR(F220<=J7,F220>J9),0,J8+(J10-J8)*(1-((J5+EXP(J6*(J4-J7)))/(J5+EXP(J6*(J4-F220))))^J5)/(1-((J5+EXP(J6*(J4-J7)))/(J5+EXP(J6*(J4-J9))))^J5))","v":0},{"$f":"IF(OR(F220<=J9,F220>100000),0,IF(F220<=K7,K8,K8+(K10-K8)*(1-((K5+EXP(K6*(K4-K7)))/(K5+EXP(K6*(K4-F220))))^K5)/(1-((K5+EXP(K6*(K4-K7)))/(K5+EXP(K6*(K4-K9))))^K5)))","v":0},0.13776933047331366,0.1177026479336582,0,0,"2011-05-28",{"$f":"MAX(L$12:L220)+MAX(M$12:M220)+MAX(N$12:N220)","v":140.11770264793367},"2011-05-28",1.9007204182543092E-2,null,null,null,null,null,null,null,null,null,null,null,null,null,null,null,null,null,980.80808080808038,null,{"$f":"IF(OR(AJ220<=AM7,AJ220>AM9),0,AM8+(AM10-AM8)*(1-((AM5+EXP(AM6*(AM4-AM7)))/(AM5+EXP(AM6*(AM4-AJ220))))^AM5)/(1-((AM5+EXP(AM6*(AM4-AM7)))/(AM5+EXP(AM6*(AM4-AM9))))^AM5))","v":0},{"$f":"IF(OR(AJ220<=AN7,AJ220>AN9),0,AN8+(AN10-AN8)*(1-((AN5+EXP(AN6*(AN4-AN7)))/(AN5+EXP(AN6*(AN4-AJ220))))^AN5)/(1-((AN5+EXP(AN6*(AN4-AN7)))/(AN5+EXP(AN6*(AN4-AN9))))^AN5))","v":0},{"$f":"IF(OR(AJ220<=AN9,AJ220>100000),0,IF(AJ220<=AO7,AO8,AO8+(AO10-AO8)*(1-((AO5+EXP(AO6*(AO4-AO7)))/(AO5+EXP(AO6*(AO4-AJ220))))^AO5)/(1-((AO5+EXP(AO6*(AO4-AO7)))/(AO5+EXP(AO6*(AO4-AO9))))^AO5)))","v":234.38544210000001},234.38544210000001,179.20232304006188]
[210,{"$f":"'daily uptake'!F304","v":"2011-05-29"},{"$f":"5/9*'daily uptake'!Q304","v":14.166666666666668},{"$f":"5/9*'daily uptake'!N304","v":5.5555555555555554},{"$f":"IF(AND($A221>='daily uptake'!$C$9,$A221<='daily uptake'!$C$10),$C221+E220,0)","v":0},{"$f":"IF(AND($A221>='daily uptake'!$C$18,$A221<='daily uptake'!$C$20),$D221+F220,0)","v":88.055555555555557},{"$f":"IF(AND($A221>='daily uptake'!$C$24,$A221<='daily uptake'!$C$25),$C221+G220,0)","v":0},{"$f":"IF(OR(F221<=I7,F221>I9),0,I8+(I10-I8)*(1-((I5+EXP(I6*(I4-I7)))/(I5+EXP(I6*(I4-F221))))^I5)/(1-((I5+EXP(I6*(I4-I7)))/(I5+EXP(I6*(I4-I9))))^I5))","v":0.16237388622419002},{"$f":"IF(OR(F221<=J7,F221>J9),0,J8+(J10-J8)*(1-((J5+EXP(J6*(J4-J7)))/(J5+EXP(J6*(J4-F221))))^J5)/(1-((J5+EXP(J6*(J4-J7)))/(J5+EXP(J6*(J4-J9))))^J5))","v":0},{"$f":"IF(OR(F221<=J9,F221>100000),0,IF(F221<=K7,K8,K8+(K10-K8)*(1-((K5+EXP(K6*(K4-K7)))/(K5+EXP(K6*(K4-F221))))^K5)/(1-((K5+EXP(K6*(K4-K7)))/(K5+EXP(K6*(K4-K9))))^K5)))","v":0},0.16237388622419002,0.13872344663508204,0,0,"2011-05-29",{"$f":"MAX(L$12:L221)+MAX(M$12:M221)+MAX(N$12:N221)","v":140.13872344663508},"2011-05-29",2.1020798701414378E-2,null,null,null,null,null,null,null,null,null,null,null,null,null,null,null,null,null,995.00505050505012,null,{"$f":"IF(OR(AJ221<=AM7,AJ221>AM9),0,AM8+(AM10-AM8)*(1-((AM5+EXP(AM6*(AM4-AM7)))/(AM5+EXP(AM6*(AM4-AJ221))))^AM5)/(1-((AM5+EXP(AM6*(AM4-AM7)))/(AM5+EXP(AM6*(AM4-AM9))))^AM5))","v":0},{"$f":"IF(OR(AJ221<=AN7,AJ221>AN9),0,AN8+(AN10-AN8)*(1-((AN5+EXP(AN6*(AN4-AN7)))/(AN5+EXP(AN6*(AN4-AJ221))))^AN5)/(1-((AN5+EXP(AN6*(AN4-AN7)))/(AN5+EXP(AN6*(AN4-AN9))))^AN5))","v":0},{"$f":"IF(OR(AJ221<=AN9,AJ221>100000),0,IF(AJ221<=AO7,AO8,AO8+(AO10-AO8)*(1-((AO5+EXP(AO6*(AO4-AO7)))/(AO5+EXP(AO6*(AO4-AJ221))))^AO5)/(1-((AO5+EXP(AO6*(AO4-AO7)))/(AO5+EXP(AO6*(AO4-AO9))))^AO5)))","v":234.91049894648728},234.91049894648728,179.60376182301525]
[211,{"$f":"'daily uptake'!F305","v":"2011-05-30"},{"$f":"5/9*'daily uptake'!Q305","v":15.277777777777779},{"$f":"5/9*'daily uptake'!N305","v":6.9444444444444446},{"$f":"IF(AND($A222>='daily uptake'!$C$9,$A222<='daily uptake'!$C$10),$C222+E221,0)","v":0},{"$f":"IF(AND($A222>='daily uptake'!$C$18,$A222<='daily uptake'!$C$20),$D222+F221,0)","v":95},{"$f":"IF(AND($A222>='daily uptake'!$C$24,$A222<='daily uptake'!$C$25),$C222+G221,0)","v":0},{"$f":"IF(OR(F222<=I7,F222>I9),0,I8+(I10-I8)*(1-((I5+EXP(I6*(I4-I7)))/(I5+EXP(I6*(I4-F222))))^I5)/(1-((I5+EXP(I6*(I4-I7)))/(I5+EXP(I6*(I4-I9))))^I5))","v":0.19860994272669272},{"$f":"IF(OR(F222<=J7,F222>J9),0,J8+(J10-J8)*(1-((J5+EXP(J6*(J4-J7)))/(J5+EXP(J6*(J4-F222))))^J5)/(1-((J5+EXP(J6*(J4-J7)))/(J5+EXP(J6*(J4-J9))))^J5))","v":0},{"$f":"IF(OR(F222<=J9,F222>100000),0,IF(F222<=K7,K8,K8+(K10-K8)*(1-((K5+EXP(K6*(K4-K7)))/(K5+EXP(K6*(K4-F222))))^K5)/(1-((K5+EXP(K6*(K4-K7)))/(K5+EXP(K6*(K4-K9))))^K5)))","v":0},0.19860994272669272,0.16968156907325693,0,0,"2011-05-30",{"$f":"MAX(L$12:L222)+MAX(M$12:M222)+MAX(N$12:N222)","v":140.16968156907325},"2011-05-30",3.0958122438164537E-2,null,null,null,null,null,null,null,null,null,null,null,null,null,null,null,null,null,1008.954545454545,null,{"$f":"IF(OR(AJ222<=AM7,AJ222>AM9),0,AM8+(AM10-AM8)*(1-((AM5+EXP(AM6*(AM4-AM7)))/(AM5+EXP(AM6*(AM4-AJ222))))^AM5)/(1-((AM5+EXP(AM6*(AM4-AM7)))/(AM5+EXP(AM6*(AM4-AM9))))^AM5))","v":0},{"$f":"IF(OR(AJ222<=AN7,AJ222>AN9),0,AN8+(AN10-AN8)*(1-((AN5+EXP(AN6*(AN4-AN7)))/(AN5+EXP(AN6*(AN4-AJ222))))^AN5)/(1-((AN5+EXP(AN6*(AN4-AN7)))/(AN5+EXP(AN6*(AN4-AN9))))^AN5))","v":0},{"$f":"IF(OR(AJ222<=AN9,AJ222>100000),0,IF(AJ222<=AO7,AO8,AO8+(AO10-AO8)*(1-((AO5+EXP(AO6*(AO4-AO7)))/(AO5+EXP(AO6*(AO4-AJ222))))^AO5)/(1-((AO5+EXP(AO6*(AO4-AO7)))/(AO5+EXP(AO6*(AO4-AO9))))^AO5)))","v":237.35091455080115},237.35091455080115,181.46961211456056]
[212,{"$f":"'daily uptake'!F306","v":"2011-05-31"},{"$f":"5/9*'daily uptake'!Q306","v":15.833333333333334},{"$f":"5/9*'daily uptake'!N306","v":6.666666666666667},{"$f":"IF(AND($A223>='daily uptake'!$C$9,$A223<='daily uptake'!$C$10),$C223+E222,0)","v":0},{"$f":"IF(AND($A223>='daily uptake'!$C$18,$A223<='daily uptake'!$C$20),$D223+F222,0)","v":101.66666666666667},{"$f":"IF(AND($A223>='daily uptake'!$C$24,$A223<='daily uptake'!$C$25),$C223+G222,0)","v":0},{"$f":"IF(OR(F223<=I7,F223>I9),0,I8+(I10-I8)*(1-((I5+EXP(I6*(I4-I7)))/(I5+EXP(I6*(I4-F223))))^I5)/(1-((I5+EXP(I6*(I4-I7)))/(I5+EXP(I6*(I4-I9))))^I5))","v":0.24013222507769957},{"$f":"IF(OR(F223<=J7,F223>J9),0,J8+(J10-J8)*(1-((J5+EXP(J6*(J4-J7)))/(J5+EXP(J6*(J4-F223))))^J5)/(1-((J5+EXP(J6*(J4-J7)))/(J5+EXP(J6*(J4-J9))))^J5))","v":0},{"$f":"IF(OR(F223<=J9,F223>100000),0,IF(F223<=K7,K8,K8+(K10-K8)*(1-((K5+EXP(K6*(K4-K7)))/(K5+EXP(K6*(K4-F223))))^K5)/(1-((K5+EXP(K6*(K4-K7)))/(K5+EXP(K6*(K4-K9))))^K5)))","v":0},0.24013222507769957,0.20515595632745928,0,0,"2011-05-31",{"$f":"MAX(L$12:L223)+MAX(M$12:M223)+MAX(N$12:N223)","v":140.20515595632745},"2011-05-31",3.5474387254197381E-2,null,null,null,null,null,null,null,null,null,null,null,null,null,null,null,null,null,1022.9646464646461,null,{"$f":"IF(OR(AJ223<=AM7,AJ223>AM9),0,AM8+(AM10-AM8)*(1-((AM5+EXP(AM6*(AM4-AM7)))/(AM5+EXP(AM6*(AM4-AJ223))))^AM5)/(1-((AM5+EXP(AM6*(AM4-AM7)))/(AM5+EXP(AM6*(AM4-AM9))))^AM5))","v":0},{"$f":"IF(OR(AJ223<=AN7,AJ223>AN9),0,AN8+(AN10-AN8)*(1-((AN5+EXP(AN6*(AN4-AN7)))/(AN5+EXP(AN6*(AN4-AJ223))))^AN5)/(1-((AN5+EXP(AN6*(AN4-AN7)))/(AN5+EXP(AN6*(AN4-AN9))))^AN5))","v":0},{"$f":"IF(OR(AJ223<=AN9,AJ223>100000),0,IF(AJ223<=AO7,AO8,AO8+(AO10-AO8)*(1-((AO5+EXP(AO6*(AO4-AO7)))/(AO5+EXP(AO6*(AO4-AJ223))))^AO5)/(1-((AO5+EXP(AO6*(AO4-AO7)))/(AO5+EXP(AO6*(AO4-AO9))))^AO5)))","v":239.97965057898085},239.97965057898085,183.4794451429614]
[213,{"$f":"'daily uptake'!F307","v":"2011-06-01"},{"$f":"5/9*'daily uptake'!Q307","v":13.611111111111112},{"$f":"5/9*'daily uptake'!N307","v":4.4444444444444446},{"$f":"IF(AND($A224>='daily uptake'!$C$9,$A224<='daily uptake'!$C$10),$C224+E223,0)","v":0},{"$f":"IF(AND($A224>='daily uptake'!$C$18,$A224<='daily uptake'!$C$20),$D224+F223,0)","v":106.11111111111111},{"$f":"IF(AND($A224>='daily uptake'!$C$24,$A224<='daily uptake'!$C$25),$C224+G223,0)","v":0},{"$f":"IF(OR(F224<=I7,F224>I9),0,I8+(I10-I8)*(1-((I5+EXP(I6*(I4-I7)))/(I5+EXP(I6*(I4-F224))))^I5)/(1-((I5+EXP(I6*(I4-I7)))/(I5+EXP(I6*(I4-I9))))^I5))","v":0.27207173439133553},{"$f":"IF(OR(F224<=J7,F224>J9),0,J8+(J10-J8)*(1-((J5+EXP(J6*(J4-J7)))/(J5+EXP(J6*(J4-F224))))^J5)/(1-((J5+EXP(J6*(J4-J7)))/(J5+EXP(J6*(J4-J9))))^J5))","v":0},{"$f":"IF(OR(F224<=J9,F224>100000),0,IF(F224<=K7,K8,K8+(K10-K8)*(1-((K5+EXP(K6*(K4-K7)))/(K5+EXP(K6*(K4-F224))))^K5)/(1-((K5+EXP(K6*(K4-K7)))/(K5+EXP(K6*(K4-K9))))^K5)))","v":0},0.27207173439133553,0.23244334174917253,0,0,"2011-06-01",{"$f":"MAX(L$12:L224)+MAX(M$12:M224)+MAX(N$12:N224)","v":140.23244334174916},"2011-06-01",2.7287385421715271E-2,null,null,null,null,null,null,null,null,null,null,null,null,null,null,null,null,null,1037.30303030303,null,{"$f":"IF(OR(AJ224<=AM7,AJ224>AM9),0,AM8+(AM10-AM8)*(1-((AM5+EXP(AM6*(AM4-AM7)))/(AM5+EXP(AM6*(AM4-AJ224))))^AM5)/(1-((AM5+EXP(AM6*(AM4-AM7)))/(AM5+EXP(AM6*(AM4-AM9))))^AM5))","v":0},{"$f":"IF(OR(AJ224<=AN7,AJ224>AN9),0,AN8+(AN10-AN8)*(1-((AN5+EXP(AN6*(AN4-AN7)))/(AN5+EXP(AN6*(AN4-AJ224))))^AN5)/(1-((AN5+EXP(AN6*(AN4-AN7)))/(AN5+EXP(AN6*(AN4-AN9))))^AN5))","v":0},{"$f":"IF(OR(AJ224<=AN9,AJ224>100000),0,IF(AJ224<=AO7,AO8,AO8+(AO10-AO8)*(1-((AO5+EXP(AO6*(AO4-AO7)))/(AO5+EXP(AO6*(AO4-AJ224))))^AO5)/(1-((AO5+EXP(AO6*(AO4-AO7)))/(AO5+EXP(AO6*(AO4-AO9))))^AO5)))","v":242.86314861525838},242.86314861525838,185.68405965294414]
[214,{"$f":"'daily uptake'!F308","v":"2011-06-02"},{"$f":"5/9*'daily uptake'!Q308","v":13.055555555555555},{"$f":"5/9*'daily uptake'!N308","v":5.2777777777777777},{"$f":"IF(AND($A225>='daily uptake'!$C$9,$A225<='daily uptake'!$C$10),$C225+E224,0)","v":0},{"$f":"IF(AND($A225>='daily uptake'!$C$18,$A225<='daily uptake'!$C$20),$D225+F224,0)","v":111.38888888888889},{"$f":"IF(AND($A225>='daily uptake'!$C$24,$A225<='daily uptake'!$C$25),$C225+G224,0)","v":0},{"$f":"IF(OR(F225<=I7,F225>I9),0,I8+(I10-I8)*(1-((I5+EXP(I6*(I4-I7)))/(I5+EXP(I6*(I4-F225))))^I5)/(1-((I5+EXP(I6*(I4-I7)))/(I5+EXP(I6*(I4-I9))))^I5))","v":0.31506189968058684},{"$f":"IF(OR(F225<=J7,F225>J9),0,J8+(J10-J8)*(1-((J5+EXP(J6*(J4-J7)))/(J5+EXP(J6*(J4-F225))))^J5)/(1-((J5+EXP(J6*(J4-J7)))/(J5+EXP(J6*(J4-J9))))^J5))","v":0},{"$f":"IF(OR(F225<=J9,F225>100000),0,IF(F225<=K7,K8,K8+(K10-K8)*(1-((K5+EXP(K6*(K4-K7)))/(K5+EXP(K6*(K4-F225))))^K5)/(1-((K5+EXP(K6*(K4-K7)))/(K5+EXP(K6*(K4-K9))))^K5)))","v":0},0.31506189968058684,0.26917180861669981,0,0,"2011-06-02",{"$f":"MAX(L$12:L225)+MAX(M$12:M225)+MAX(N$12:N225)","v":140.2691718086167},"2011-06-02",3.672846686754383E-2,null,null,null,null,null,null,null,null,null,null,null,null,null,null,null,null,null,1051.4747474747471,null,{"$f":"IF(OR(AJ225<=AM7,AJ225>AM9),0,AM8+(AM10-AM8)*(1-((AM5+EXP(AM6*(AM4-AM7)))/(AM5+EXP(AM6*(AM4-AJ225))))^AM5)/(1-((AM5+EXP(AM6*(AM4-AM7)))/(AM5+EXP(AM6*(AM4-AM9))))^AM5))","v":0},{"$f":"IF(OR(AJ225<=AN7,AJ225>AN9),0,AN8+(AN10-AN8)*(1-((AN5+EXP(AN6*(AN4-AN7)))/(AN5+EXP(AN6*(AN4-AJ225))))^AN5)/(1-((AN5+EXP(AN6*(AN4-AN7)))/(AN5+EXP(AN6*(AN4-AN9))))^AN5))","v":0},{"$f":"IF(OR(AJ225<=AN9,AJ225>100000),0,IF(AJ225<=AO7,AO8,AO8+(AO10-AO8)*(1-((AO5+EXP(AO6*(AO4-AO7)))/(AO5+EXP(AO6*(AO4-AJ225))))^AO5)/(1-((AO5+EXP(AO6*(AO4-AO7)))/(AO5+EXP(AO6*(AO4-AO9))))^AO5)))","v":245.91339041938434},245.91339041938434,188.01616019739723]
[215,{"$f":"'daily uptake'!F309","v":"2011-06-03"},{"$f":"5/9*'daily uptake'!Q309","v":14.166666666666668},{"$f":"5/9*'daily uptake'!N309","v":5.5555555555555554},{"$f":"IF(AND($A226>='daily uptake'!$C$9,$A226<='daily uptake'!$C$10),$C226+E225,0)","v":0},{"$f":"IF(AND($A226>='daily uptake'!$C$18,$A226<='daily uptake'!$C$20),$D226+F225,0)","v":116.94444444444444},{"$f":"IF(AND($A226>='daily uptake'!$C$24,$A226<='daily uptake'!$C$25),$C226+G225,0)","v":0},{"$f":"IF(OR(F226<=I7,F226>I9),0,I8+(I10-I8)*(1-((I5+EXP(I6*(I4-I7)))/(I5+EXP(I6*(I4-F226))))^I5)/(1-((I5+EXP(I6*(I4-I7)))/(I5+EXP(I6*(I4-I9))))^I5))","v":0.36703910275875856},{"$f":"IF(OR(F226<=J7,F226>J9),0,J8+(J10-J8)*(1-((J5+EXP(J6*(J4-J7)))/(J5+EXP(J6*(J4-F226))))^J5)/(1-((J5+EXP(J6*(J4-J7)))/(J5+EXP(J6*(J4-J9))))^J5))","v":0},{"$f":"IF(OR(F226<=J9,F226>100000),0,IF(F226<=K7,K8,K8+(K10-K8)*(1-((K5+EXP(K6*(K4-K7)))/(K5+EXP(K6*(K4-F226))))^K5)/(1-((K5+EXP(K6*(K4-K7)))/(K5+EXP(K6*(K4-K9))))^K5)))","v":0},0.36703910275875856,0.31357831341329062,0,0,"2011-06-03",{"$f":"MAX(L$12:L226)+MAX(M$12:M226)+MAX(N$12:N226)","v":140.3135783134133},"2011-06-03",4.4406504796597801E-2,null,null,null,null,null,null,null,null,null,null,null,null,null,null,null,null,null,1065.1515151515148,null,{"$f":"IF(OR(AJ226<=AM7,AJ226>AM9),0,AM8+(AM10-AM8)*(1-((AM5+EXP(AM6*(AM4-AM7)))/(AM5+EXP(AM6*(AM4-AJ226))))^AM5)/(1-((AM5+EXP(AM6*(AM4-AM7)))/(AM5+EXP(AM6*(AM4-AM9))))^AM5))","v":0},{"$f":"IF(OR(AJ226<=AN7,AJ226>AN9),0,AN8+(AN10-AN8)*(1-((AN5+EXP(AN6*(AN4-AN7)))/(AN5+EXP(AN6*(AN4-AJ226))))^AN5)/(1-((AN5+EXP(AN6*(AN4-AN7)))/(AN5+EXP(AN6*(AN4-AN9))))^AN5))","v":0},{"$f":"IF(OR(AJ226<=AN9,AJ226>100000),0,IF(AJ226<=AO7,AO8,AO8+(AO10-AO8)*(1-((AO5+EXP(AO6*(AO4-AO7)))/(AO5+EXP(AO6*(AO4-AJ226))))^AO5)/(1-((AO5+EXP(AO6*(AO4-AO7)))/(AO5+EXP(AO6*(AO4-AO9))))^AO5)))","v":249.05293843632194},249.05293843632194,190.41654092450312]
[216,{"$f":"'daily uptake'!F310","v":"2011-06-04"},{"$f":"5/9*'daily uptake'!Q310","v":15},{"$f":"5/9*'daily uptake'!N310","v":5},{"$f":"IF(AND($A227>='daily uptake'!$C$9,$A227<='daily uptake'!$C$10),$C227+E226,0)","v":0},{"$f":"IF(AND($A227>='daily uptake'!$C$18,$A227<='daily uptake'!$C$20),$D227+F226,0)","v":121.94444444444444},{"$f":"IF(AND($A227>='daily uptake'!$C$24,$A227<='daily uptake'!$C$25),$C227+G226,0)","v":0},{"$f":"IF(OR(F227<=I7,F227>I9),0,I8+(I10-I8)*(1-((I5+EXP(I6*(I4-I7)))/(I5+EXP(I6*(I4-F227))))^I5)/(1-((I5+EXP(I6*(I4-I7)))/(I5+EXP(I6*(I4-I9))))^I5))","v":0.42051256445686913},{"$f":"IF(OR(F227<=J7,F227>J9),0,J8+(J10-J8)*(1-((J5+EXP(J6*(J4-J7)))/(J5+EXP(J6*(J4-F227))))^J5)/(1-((J5+EXP(J6*(J4-J7)))/(J5+EXP(J6*(J4-J9))))^J5))","v":0},{"$f":"IF(OR(F227<=J9,F227>100000),0,IF(F227<=K7,K8,K8+(K10-K8)*(1-((K5+EXP(K6*(K4-K7)))/(K5+EXP(K6*(K4-F227))))^K5)/(1-((K5+EXP(K6*(K4-K7)))/(K5+EXP(K6*(K4-K9))))^K5)))","v":0},0.42051256445686913,0.35926314046749352,0,0,"2011-06-04",{"$f":"MAX(L$12:L227)+MAX(M$12:M227)+MAX(N$12:N227)","v":140.3592631404675},"2011-06-04",4.5684827054202515E-2,null,null,null,null,null,null,null,null,null,null,null,null,null,null,null,null,null,1078.6414141414139,null,{"$f":"IF(OR(AJ227<=AM7,AJ227>AM9),0,AM8+(AM10-AM8)*(1-((AM5+EXP(AM6*(AM4-AM7)))/(AM5+EXP(AM6*(AM4-AJ227))))^AM5)/(1-((AM5+EXP(AM6*(AM4-AM7)))/(AM5+EXP(AM6*(AM4-AM9))))^AM5))","v":0},{"$f":"IF(OR(AJ227<=AN7,AJ227>AN9),0,AN8+(AN10-AN8)*(1-((AN5+EXP(AN6*(AN4-AN7)))/(AN5+EXP(AN6*(AN4-AJ227))))^AN5)/(1-((AN5+EXP(AN6*(AN4-AN7)))/(AN5+EXP(AN6*(AN4-AN9))))^AN5))","v":0},{"$f":"IF(OR(AJ227<=AN9,AJ227>100000),0,IF(AJ227<=AO7,AO8,AO8+(AO10-AO8)*(1-((AO5+EXP(AO6*(AO4-AO7)))/(AO5+EXP(AO6*(AO4-AJ227))))^AO5)/(1-((AO5+EXP(AO6*(AO4-AO7)))/(AO5+EXP(AO6*(AO4-AO9))))^AO5)))","v":252.3438366219562},252.3438366219562,192.93263831720031]
[217,{"$f":"'daily uptake'!F311","v":"2011-06-05"},{"$f":"5/9*'daily uptake'!Q311","v":18.333333333333336},{"$f":"5/9*'daily uptake'!N311","v":8.3333333333333339},{"$f":"IF(AND($A228>='daily uptake'!$C$9,$A228<='daily uptake'!$C$10),$C228+E227,0)","v":0},{"$f":"IF(AND($A228>='daily uptake'!$C$18,$A228<='daily uptake'!$C$20),$D228+F227,0)","v":130.27777777777777},{"$f":"IF(AND($A228>='daily uptake'!$C$24,$A228<='daily uptake'!$C$25),$C228+G227,0)","v":0},{"$f":"IF(OR(F228<=I7,F228>I9),0,I8+(I10-I8)*(1-((I5+EXP(I6*(I4-I7)))/(I5+EXP(I6*(I4-F228))))^I5)/(1-((I5+EXP(I6*(I4-I7)))/(I5+EXP(I6*(I4-I9))))^I5))","v":0.52599455489538716},{"$f":"IF(OR(F228<=J7,F228>J9),0,J8+(J10-J8)*(1-((J5+EXP(J6*(J4-J7)))/(J5+EXP(J6*(J4-F228))))^J5)/(1-((J5+EXP(J6*(J4-J7)))/(J5+EXP(J6*(J4-J9))))^J5))","v":0},{"$f":"IF(OR(F228<=J9,F228>100000),0,IF(F228<=K7,K8,K8+(K10-K8)*(1-((K5+EXP(K6*(K4-K7)))/(K5+EXP(K6*(K4-F228))))^K5)/(1-((K5+EXP(K6*(K4-K7)))/(K5+EXP(K6*(K4-K9))))^K5)))","v":0},0.52599455489538716,0.44938123526604024,0,0,"2011-06-05",{"$f":"MAX(L$12:L228)+MAX(M$12:M228)+MAX(N$12:N228)","v":140.44938123526603},"2011-06-05",9.0118094798526727E-2,null,null,null,null,null,null,null,null,null,null,null,null,null,null,null,null,null,1091.9595959595956,null,{"$f":"IF(OR(AJ228<=AM7,AJ228>AM9),0,AM8+(AM10-AM8)*(1-((AM5+EXP(AM6*(AM4-AM7)))/(AM5+EXP(AM6*(AM4-AJ228))))^AM5)/(1-((AM5+EXP(AM6*(AM4-AM7)))/(AM5+EXP(AM6*(AM4-AM9))))^AM5))","v":0},{"$f":"IF(OR(AJ228<=AN7,AJ228>AN9),0,AN8+(AN10-AN8)*(1-((AN5+EXP(AN6*(AN4-AN7)))/(AN5+EXP(AN6*(AN4-AJ228))))^AN5)/(1-((AN5+EXP(AN6*(AN4-AN7)))/(AN5+EXP(AN6*(AN4-AN9))))^AN5))","v":0},{"$f":"IF(OR(AJ228<=AN9,AJ228>100000),0,IF(AJ228<=AO7,AO8,AO8+(AO10-AO8)*(1-((AO5+EXP(AO6*(AO4-AO7)))/(AO5+EXP(AO6*(AO4-AJ228))))^AO5)/(1-((AO5+EXP(AO6*(AO4-AO7)))/(AO5+EXP(AO6*(AO4-AO9))))^AO5)))","v":255.78662340234601},255.78662340234601,195.56486403587036]
[218,{"$f":"'daily uptake'!F312","v":"2011-06-06"},{"$f":"5/9*'daily uptake'!Q312","v":17.222222222222221},{"$f":"5/9*'daily uptake'!N312","v":7.2222222222222223},{"$f":"IF(AND($A229>='daily uptake'!$C$9,$A229<='daily uptake'!$C$10),$C229+E228,0)","v":0},{"$f":"IF(AND($A229>='daily uptake'!$C$18,$A229<='daily uptake'!$C$20),$D229+F228,0)","v":137.5},{"$f":"IF(AND($A229>='daily uptake'!$C$24,$A229<='daily uptake'!$C$25),$C229+G228,0)","v":0},{"$f":"IF(OR(F229<=I7,F229>I9),0,I8+(I10-I8)*(1-((I5+EXP(I6*(I4-I7)))/(I5+EXP(I6*(I4-F229))))^I5)/(1-((I5+EXP(I6*(I4-I7)))/(I5+EXP(I6*(I4-I9))))^I5))","v":0.63678432115078698},{"$f":"IF(OR(F229<=J7,F229>J9),0,J8+(J10-J8)*(1-((J5+EXP(J6*(J4-J7)))/(J5+EXP(J6*(J4-F229))))^J5)/(1-((J5+EXP(J6*(J4-J7)))/(J5+EXP(J6*(J4-J9))))^J5))","v":0},{"$f":"IF(OR(F229<=J9,F229>100000),0,IF(F229<=K7,K8,K8+(K10-K8)*(1-((K5+EXP(K6*(K4-K7)))/(K5+EXP(K6*(K4-F229))))^K5)/(1-((K5+EXP(K6*(K4-K7)))/(K5+EXP(K6*(K4-K9))))^K5)))","v":0},0.63678432115078698,0.54403400600544327,0,0,"2011-06-06",{"$f":"MAX(L$12:L229)+MAX(M$12:M229)+MAX(N$12:N229)","v":140.54403400600543},"2011-06-06",9.4652770739401149E-2,null,null,null,null,null,null,null,null,null,null,null,null,null,null,null,null,null,1105.8838383838381,null,{"$f":"IF(OR(AJ229<=AM7,AJ229>AM9),0,AM8+(AM10-AM8)*(1-((AM5+EXP(AM6*(AM4-AM7)))/(AM5+EXP(AM6*(AM4-AJ229))))^AM5)/(1-((AM5+EXP(AM6*(AM4-AM7)))/(AM5+EXP(AM6*(AM4-AM9))))^AM5))","v":0},{"$f":"IF(OR(AJ229<=AN7,AJ229>AN9),0,AN8+(AN10-AN8)*(1-((AN5+EXP(AN6*(AN4-AN7)))/(AN5+EXP(AN6*(AN4-AJ229))))^AN5)/(1-((AN5+EXP(AN6*(AN4-AN7)))/(AN5+EXP(AN6*(AN4-AN9))))^AN5))","v":0},{"$f":"IF(OR(AJ229<=AN9,AJ229>100000),0,IF(AJ229<=AO7,AO8,AO8+(AO10-AO8)*(1-((AO5+EXP(AO6*(AO4-AO7)))/(AO5+EXP(AO6*(AO4-AJ229))))^AO5)/(1-((AO5+EXP(AO6*(AO4-AO7)))/(AO5+EXP(AO6*(AO4-AO9))))^AO5)))","v":259.59546195271128},259.59546195271128,198.47695921633292]
[219,{"$f":"'daily uptake'!F313","v":"2011-06-07"},{"$f":"5/9*'daily uptake'!Q313","v":16.388888888888889},{"$f":"5/9*'daily uptake'!N313","v":6.666666666666667},{"$f":"IF(AND($A230>='daily uptake'!$C$9,$A230<='daily uptake'!$C$10),$C230+E229,0)","v":0},{"$f":"IF(AND($A230>='daily uptake'!$C$18,$A230<='daily uptake'!$C$20),$D230+F229,0)","v":144.16666666666666},{"$f":"IF(AND($A230>='daily uptake'!$C$24,$A230<='daily uptake'!$C$25),$C230+G229,0)","v":0},{"$f":"IF(OR(F230<=I7,F230>I9),0,I8+(I10-I8)*(1-((I5+EXP(I6*(I4-I7)))/(I5+EXP(I6*(I4-F230))))^I5)/(1-((I5+EXP(I6*(I4-I7)))/(I5+EXP(I6*(I4-I9))))^I5))","v":0.75786657932616674},{"$f":"IF(OR(F230<=J7,F230>J9),0,J8+(J10-J8)*(1-((J5+EXP(J6*(J4-J7)))/(J5+EXP(J6*(J4-F230))))^J5)/(1-((J5+EXP(J6*(J4-J7)))/(J5+EXP(J6*(J4-J9))))^J5))","v":0},{"$f":"IF(OR(F230<=J9,F230>100000),0,IF(F230<=K7,K8,K8+(K10-K8)*(1-((K5+EXP(K6*(K4-K7)))/(K5+EXP(K6*(K4-F230))))^K5)/(1-((K5+EXP(K6*(K4-K7)))/(K5+EXP(K6*(K4-K9))))^K5)))","v":0},0.75786657932616674,0.64748012391910781,0,0,"2011-06-07",{"$f":"MAX(L$12:L230)+MAX(M$12:M230)+MAX(N$12:N230)","v":140.64748012391911},"2011-06-07",0.10344611791367697,null,null,null,null,null,null,null,null,null,null,null,null,null,null,null,null,null,1119.8737373737372,null,{"$f":"IF(OR(AJ230<=AM7,AJ230>AM9),0,AM8+(AM10-AM8)*(1-((AM5+EXP(AM6*(AM4-AM7)))/(AM5+EXP(AM6*(AM4-AJ230))))^AM5)/(1-((AM5+EXP(AM6*(AM4-AM7)))/(AM5+EXP(AM6*(AM4-AM9))))^AM5))","v":0},{"$f":"IF(OR(AJ230<=AN7,AJ230>AN9),0,AN8+(AN10-AN8)*(1-((AN5+EXP(AN6*(AN4-AN7)))/(AN5+EXP(AN6*(AN4-AJ230))))^AN5)/(1-((AN5+EXP(AN6*(AN4-AN7)))/(AN5+EXP(AN6*(AN4-AN9))))^AN5))","v":0},{"$f":"IF(OR(AJ230<=AN9,AJ230>100000),0,IF(AJ230<=AO7,AO8,AO8+(AO10-AO8)*(1-((AO5+EXP(AO6*(AO4-AO7)))/(AO5+EXP(AO6*(AO4-AJ230))))^AO5)/(1-((AO5+EXP(AO6*(AO4-AO7)))/(AO5+EXP(AO6*(AO4-AO9))))^AO5)))","v":263.63974613092392},263.63974613092392,201.56906729811669]
[220,{"$f":"'daily uptake'!F314","v":"2011-06-08"},{"$f":"5/9*'daily uptake'!Q314","v":19.166666666666668},{"$f":"5/9*'daily uptake'!N314","v":9.1666666666666679},{"$f":"IF(AND($A231>='daily uptake'!$C$9,$A231<='daily uptake'!$C$10),$C231+E230,0)","v":0},{"$f":"IF(AND($A231>='daily uptake'!$C$18,$A231<='daily uptake'!$C$20),$D231+F230,0)","v":153.33333333333331},{"$f":"IF(AND($A231>='daily uptake'!$C$24,$A231<='daily uptake'!$C$25),$C231+G230,0)","v":0},{"$f":"IF(OR(F231<=I7,F231>I9),0,I8+(I10-I8)*(1-((I5+EXP(I6*(I4-I7)))/(I5+EXP(I6*(I4-F231))))^I5)/(1-((I5+EXP(I6*(I4-I7)))/(I5+EXP(I6*(I4-I9))))^I5))","v":0.95909827683982396},{"$f":"IF(OR(F231<=J7,F231>J9),0,J8+(J10-J8)*(1-((J5+EXP(J6*(J4-J7)))/(J5+EXP(J6*(J4-F231))))^J5)/(1-((J5+EXP(J6*(J4-J7)))/(J5+EXP(J6*(J4-J9))))^J5))","v":0},{"$f":"IF(OR(F231<=J9,F231>100000),0,IF(F231<=K7,K8,K8+(K10-K8)*(1-((K5+EXP(K6*(K4-K7)))/(K5+EXP(K6*(K4-F231))))^K5)/(1-((K5+EXP(K6*(K4-K7)))/(K5+EXP(K6*(K4-K9))))^K5)))","v":0},0.95909827683982396,0.81940157816563441,0,0,"2011-06-08",{"$f":"MAX(L$12:L231)+MAX(M$12:M231)+MAX(N$12:N231)","v":140.81940157816564},"2011-06-08",0.17192145424652949,null,null,null,null,null,null,null,null,null,null,null,null,null,null,null,null,null,1134.0202020202019,null,{"$f":"IF(OR(AJ231<=AM7,AJ231>AM9),0,AM8+(AM10-AM8)*(1-((AM5+EXP(AM6*(AM4-AM7)))/(AM5+EXP(AM6*(AM4-AJ231))))^AM5)/(1-((AM5+EXP(AM6*(AM4-AM7)))/(AM5+EXP(AM6*(AM4-AM9))))^AM5))","v":0},{"$f":"IF(OR(AJ231<=AN7,AJ231>AN9),0,AN8+(AN10-AN8)*(1-((AN5+EXP(AN6*(AN4-AN7)))/(AN5+EXP(AN6*(AN4-AJ231))))^AN5)/(1-((AN5+EXP(AN6*(AN4-AN7)))/(AN5+EXP(AN6*(AN4-AN9))))^AN5))","v":0},{"$f":"IF(OR(AJ231<=AN9,AJ231>100000),0,IF(AJ231<=AO7,AO8,AO8+(AO10-AO8)*(1-((AO5+EXP(AO6*(AO4-AO7)))/(AO5+EXP(AO6*(AO4-AJ231))))^AO5)/(1-((AO5+EXP(AO6*(AO4-AO7)))/(AO5+EXP(AO6*(AO4-AO9))))^AO5)))","v":267.95079575718222},267.95079575718222,204.86513424171497]
[221,{"$f":"'daily uptake'!F315","v":"2011-06-09"},{"$f":"5/9*'daily uptake'!Q315","v":20},{"$f":"5/9*'daily uptake'!N315","v":10},{"$f":"IF(AND($A232>='daily uptake'!$C$9,$A232<='daily uptake'!$C$10),$C232+E231,0)","v":0},{"$f":"IF(AND($A232>='daily uptake'!$C$18,$A232<='daily uptake'!$C$20),$D232+F231,0)","v":163.33333333333331},{"$f":"IF(AND($A232>='daily uptake'!$C$24,$A232<='daily uptake'!$C$25),$C232+G231,0)","v":0},{"$f":"IF(OR(F232<=I7,F232>I9),0,I8+(I10-I8)*(1-((I5+EXP(I6*(I4-I7)))/(I5+EXP(I6*(I4-F232))))^I5)/(1-((I5+EXP(I6*(I4-I7)))/(I5+EXP(I6*(I4-I9))))^I5))","v":1.2331818905122967},{"$f":"IF(OR(F232<=J7,F232>J9),0,J8+(J10-J8)*(1-((J5+EXP(J6*(J4-J7)))/(J5+EXP(J6*(J4-F232))))^J5)/(1-((J5+EXP(J6*(J4-J7)))/(J5+EXP(J6*(J4-J9))))^J5))","v":0},{"$f":"IF(OR(F232<=J9,F232>100000),0,IF(F232<=K7,K8,K8+(K10-K8)*(1-((K5+EXP(K6*(K4-K7)))/(K5+EXP(K6*(K4-F232))))^K5)/(1-((K5+EXP(K6*(K4-K7)))/(K5+EXP(K6*(K4-K9))))^K5)))","v":0},1.2331818905122967,1.053563760515245,0,0,"2011-06-09",{"$f":"MAX(L$12:L232)+MAX(M$12:M232)+MAX(N$12:N232)","v":141.05356376051523},"2011-06-09",0.23416218234959274,null,null,null,null,null,null,null,null,null,null,null,null,null,null,null,null,null,1148.1565656565656,null,{"$f":"IF(OR(AJ232<=AM7,AJ232>AM9),0,AM8+(AM10-AM8)*(1-((AM5+EXP(AM6*(AM4-AM7)))/(AM5+EXP(AM6*(AM4-AJ232))))^AM5)/(1-((AM5+EXP(AM6*(AM4-AM7)))/(AM5+EXP(AM6*(AM4-AM9))))^AM5))","v":0},{"$f":"IF(OR(AJ232<=AN7,AJ232>AN9),0,AN8+(AN10-AN8)*(1-((AN5+EXP(AN6*(AN4-AN7)))/(AN5+EXP(AN6*(AN4-AJ232))))^AN5)/(1-((AN5+EXP(AN6*(AN4-AN7)))/(AN5+EXP(AN6*(AN4-AN9))))^AN5))","v":0},{"$f":"IF(OR(AJ232<=AN9,AJ232>100000),0,IF(AJ232<=AO7,AO8,AO8+(AO10-AO8)*(1-((AO5+EXP(AO6*(AO4-AO7)))/(AO5+EXP(AO6*(AO4-AJ232))))^AO5)/(1-((AO5+EXP(AO6*(AO4-AO7)))/(AO5+EXP(AO6*(AO4-AO9))))^AO5)))","v":272.47847984906213},272.47847984906213,208.32683177713716]
[222,{"$f":"'daily uptake'!F316","v":"2011-06-10"},{"$f":"5/9*'daily uptake'!Q316","v":19.722222222222221},{"$f":"5/9*'daily uptake'!N316","v":9.7222222222222232},{"$f":"IF(AND($A233>='daily uptake'!$C$9,$A233<='daily uptake'!$C$10),$C233+E232,0)","v":0},{"$f":"IF(AND($A233>='daily uptake'!$C$18,$A233<='daily uptake'!$C$20),$D233+F232,0)","v":173.05555555555554},{"$f":"IF(AND($A233>='daily uptake'!$C$24,$A233<='daily uptake'!$C$25),$C233+G232,0)","v":0},{"$f":"IF(OR(F233<=I7,F233>I9),0,I8+(I10-I8)*(1-((I5+EXP(I6*(I4-I7)))/(I5+EXP(I6*(I4-F233))))^I5)/(1-((I5+EXP(I6*(I4-I7)))/(I5+EXP(I6*(I4-I9))))^I5))","v":1.5648309369531479},{"$f":"IF(OR(F233<=J7,F233>J9),0,J8+(J10-J8)*(1-((J5+EXP(J6*(J4-J7)))/(J5+EXP(J6*(J4-F233))))^J5)/(1-((J5+EXP(J6*(J4-J7)))/(J5+EXP(J6*(J4-J9))))^J5))","v":0},{"$f":"IF(OR(F233<=J9,F233>100000),0,IF(F233<=K7,K8,K8+(K10-K8)*(1-((K5+EXP(K6*(K4-K7)))/(K5+EXP(K6*(K4-F233))))^K5)/(1-((K5+EXP(K6*(K4-K7)))/(K5+EXP(K6*(K4-K9))))^K5)))","v":0},1.5648309369531479,1.3369067281891889,0,0,"2011-06-10",{"$f":"MAX(L$12:L233)+MAX(M$12:M233)+MAX(N$12:N233)","v":141.33690672818918},"2011-06-10",0.28334296767394562,null,null,null,null,null,null,null,null,null,null,null,null,null,null,null,null,null,1162.1111111111111,null,{"$f":"IF(OR(AJ233<=AM7,AJ233>AM9),0,AM8+(AM10-AM8)*(1-((AM5+EXP(AM6*(AM4-AM7)))/(AM5+EXP(AM6*(AM4-AJ233))))^AM5)/(1-((AM5+EXP(AM6*(AM4-AM7)))/(AM5+EXP(AM6*(AM4-AM9))))^AM5))","v":0},{"$f":"IF(OR(AJ233<=AN7,AJ233>AN9),0,AN8+(AN10-AN8)*(1-((AN5+EXP(AN6*(AN4-AN7)))/(AN5+EXP(AN6*(AN4-AJ233))))^AN5)/(1-((AN5+EXP(AN6*(AN4-AN7)))/(AN5+EXP(AN6*(AN4-AN9))))^AN5))","v":0},{"$f":"IF(OR(AJ233<=AN9,AJ233>100000),0,IF(AJ233<=AO7,AO8,AO8+(AO10-AO8)*(1-((AO5+EXP(AO6*(AO4-AO7)))/(AO5+EXP(AO6*(AO4-AJ233))))^AO5)/(1-((AO5+EXP(AO6*(AO4-AO7)))/(AO5+EXP(AO6*(AO4-AO9))))^AO5)))","v":277.15764410066788},277.15764410066788,211.90434536441882]
[223,{"$f":"'daily uptake'!F317","v":"2011-06-11"},{"$f":"5/9*'daily uptake'!Q317","v":17.222222222222221},{"$f":"5/9*'daily uptake'!N317","v":7.2222222222222223},{"$f":"IF(AND($A234>='daily uptake'!$C$9,$A234<='daily uptake'!$C$10),$C234+E233,0)","v":0},{"$f":"IF(AND($A234>='daily uptake'!$C$18,$A234<='daily uptake'!$C$20),$D234+F233,0)","v":180.27777777777777},{"$f":"IF(AND($A234>='daily uptake'!$C$24,$A234<='daily uptake'!$C$25),$C234+G233,0)","v":0},{"$f":"IF(OR(F234<=I7,F234>I9),0,I8+(I10-I8)*(1-((I5+EXP(I6*(I4-I7)))/(I5+EXP(I6*(I4-F234))))^I5)/(1-((I5+EXP(I6*(I4-I7)))/(I5+EXP(I6*(I4-I9))))^I5))","v":1.8594327603520007},{"$f":"IF(OR(F234<=J7,F234>J9),0,J8+(J10-J8)*(1-((J5+EXP(J6*(J4-J7)))/(J5+EXP(J6*(J4-F234))))^J5)/(1-((J5+EXP(J6*(J4-J7)))/(J5+EXP(J6*(J4-J9))))^J5))","v":0},{"$f":"IF(OR(F234<=J9,F234>100000),0,IF(F234<=K7,K8,K8+(K10-K8)*(1-((K5+EXP(K6*(K4-K7)))/(K5+EXP(K6*(K4-F234))))^K5)/(1-((K5+EXP(K6*(K4-K7)))/(K5+EXP(K6*(K4-K9))))^K5)))","v":0},1.8594327603520007,1.5885985567042853,0,0,"2011-06-11",{"$f":"MAX(L$12:L234)+MAX(M$12:M234)+MAX(N$12:N234)","v":141.58859855670428},"2011-06-11",0.25169182851510641,null,null,null,null,null,null,null,null,null,null,null,null,null,null,null,null,null,1175.9191919191919,null,{"$f":"IF(OR(AJ234<=AM7,AJ234>AM9),0,AM8+(AM10-AM8)*(1-((AM5+EXP(AM6*(AM4-AM7)))/(AM5+EXP(AM6*(AM4-AJ234))))^AM5)/(1-((AM5+EXP(AM6*(AM4-AM7)))/(AM5+EXP(AM6*(AM4-AM9))))^AM5))","v":0},{"$f":"IF(OR(AJ234<=AN7,AJ234>AN9),0,AN8+(AN10-AN8)*(1-((AN5+EXP(AN6*(AN4-AN7)))/(AN5+EXP(AN6*(AN4-AJ234))))^AN5)/(1-((AN5+EXP(AN6*(AN4-AN7)))/(AN5+EXP(AN6*(AN4-AN9))))^AN5))","v":0},{"$f":"IF(OR(AJ234<=AN9,AJ234>100000),0,IF(AJ234<=AO7,AO8,AO8+(AO10-AO8)*(1-((AO5+EXP(AO6*(AO4-AO7)))/(AO5+EXP(AO6*(AO4-AJ234))))^AO5)/(1-((AO5+EXP(AO6*(AO4-AO7)))/(AO5+EXP(AO6*(AO4-AO9))))^AO5)))","v":281.98398392920365},281.98398392920365,215.59438388091243]
[224,{"$f":"'daily uptake'!F318","v":"2011-06-12"},{"$f":"5/9*'daily uptake'!Q318","v":19.166666666666668},{"$f":"5/9*'daily uptake'!N318","v":9.1666666666666679},{"$f":"IF(AND($A235>='daily uptake'!$C$9,$A235<='daily uptake'!$C$10),$C235+E234,0)","v":0},{"$f":"IF(AND($A235>='daily uptake'!$C$18,$A235<='daily uptake'!$C$20),$D235+F234,0)","v":189.44444444444443},{"$f":"IF(AND($A235>='daily uptake'!$C$24,$A235<='daily uptake'!$C$25),$C235+G234,0)","v":0},{"$f":"IF(OR(F235<=I7,F235>I9),0,I8+(I10-I8)*(1-((I5+EXP(I6*(I4-I7)))/(I5+EXP(I6*(I4-F235))))^I5)/(1-((I5+EXP(I6*(I4-I7)))/(I5+EXP(I6*(I4-I9))))^I5))","v":2.3004401432367061},{"$f":"IF(OR(F235<=J7,F235>J9),0,J8+(J10-J8)*(1-((J5+EXP(J6*(J4-J7)))/(J5+EXP(J6*(J4-F235))))^J5)/(1-((J5+EXP(J6*(J4-J7)))/(J5+EXP(J6*(J4-J9))))^J5))","v":0},{"$f":"IF(OR(F235<=J9,F235>100000),0,IF(F235<=K7,K8,K8+(K10-K8)*(1-((K5+EXP(K6*(K4-K7)))/(K5+EXP(K6*(K4-F235))))^K5)/(1-((K5+EXP(K6*(K4-K7)))/(K5+EXP(K6*(K4-K9))))^K5)))","v":0},2.3004401432367061,1.9653713590797544,0,0,"2011-06-12",{"$f":"MAX(L$12:L235)+MAX(M$12:M235)+MAX(N$12:N235)","v":141.96537135907977},"2011-06-12",0.37677280237548416,null,null,null,null,null,null,null,null,null,null,null,null,null,null,null,null,null,1189.4494949494949,null,{"$f":"IF(OR(AJ235<=AM7,AJ235>AM9),0,AM8+(AM10-AM8)*(1-((AM5+EXP(AM6*(AM4-AM7)))/(AM5+EXP(AM6*(AM4-AJ235))))^AM5)/(1-((AM5+EXP(AM6*(AM4-AM7)))/(AM5+EXP(AM6*(AM4-AM9))))^AM5))","v":0},{"$f":"IF(OR(AJ235<=AN7,AJ235>AN9),0,AN8+(AN10-AN8)*(1-((AN5+EXP(AN6*(AN4-AN7)))/(AN5+EXP(AN6*(AN4-AJ235))))^AN5)/(1-((AN5+EXP(AN6*(AN4-AN7)))/(AN5+EXP(AN6*(AN4-AN9))))^AN5))","v":0},{"$f":"IF(OR(AJ235<=AN9,AJ235>100000),0,IF(AJ235<=AO7,AO8,AO8+(AO10-AO8)*(1-((AO5+EXP(AO6*(AO4-AO7)))/(AO5+EXP(AO6*(AO4-AJ235))))^AO5)/(1-((AO5+EXP(AO6*(AO4-AO7)))/(AO5+EXP(AO6*(AO4-AO9))))^AO5)))","v":286.89082678329521},286.89082678329521,219.34597199307245]
[225,{"$f":"'daily uptake'!F319","v":"2011-06-13"},{"$f":"5/9*'daily uptake'!Q319","v":21.388888888888889},{"$f":"5/9*'daily uptake'!N319","v":11.388888888888889},{"$f":"IF(AND($A236>='daily uptake'!$C$9,$A236<='daily uptake'!$C$10),$C236+E235,0)","v":0},{"$f":"IF(AND($A236>='daily uptake'!$C$18,$A236<='daily uptake'!$C$20),$D236+F235,0)","v":200.83333333333331},{"$f":"IF(AND($A236>='daily uptake'!$C$24,$A236<='daily uptake'!$C$25),$C236+G235,0)","v":0},{"$f":"IF(OR(F236<=I7,F236>I9),0,I8+(I10-I8)*(1-((I5+EXP(I6*(I4-I7)))/(I5+EXP(I6*(I4-F236))))^I5)/(1-((I5+EXP(I6*(I4-I7)))/(I5+EXP(I6*(I4-I9))))^I5))","v":2.9649611311032698},{"$f":"IF(OR(F236<=J7,F236>J9),0,J8+(J10-J8)*(1-((J5+EXP(J6*(J4-J7)))/(J5+EXP(J6*(J4-F236))))^J5)/(1-((J5+EXP(J6*(J4-J7)))/(J5+EXP(J6*(J4-J9))))^J5))","v":0},{"$f":"IF(OR(F236<=J9,F236>100000),0,IF(F236<=K7,K8,K8+(K10-K8)*(1-((K5+EXP(K6*(K4-K7)))/(K5+EXP(K6*(K4-F236))))^K5)/(1-((K5+EXP(K6*(K4-K7)))/(K5+EXP(K6*(K4-K9))))^K5)))","v":0},2.9649611311032698,2.5331020696135882,0,0,"2011-06-13",{"$f":"MAX(L$12:L236)+MAX(M$12:M236)+MAX(N$12:N236)","v":142.53310206961359},"2011-06-13",0.56773071053382296,null,null,null,null,null,null,null,null,null,null,null,null,null,null,null,null,null,1202.5101010101009,null,{"$f":"IF(OR(AJ236<=AM7,AJ236>AM9),0,AM8+(AM10-AM8)*(1-((AM5+EXP(AM6*(AM4-AM7)))/(AM5+EXP(AM6*(AM4-AJ236))))^AM5)/(1-((AM5+EXP(AM6*(AM4-AM7)))/(AM5+EXP(AM6*(AM4-AM9))))^AM5))","v":0},{"$f":"IF(OR(AJ236<=AN7,AJ236>AN9),0,AN8+(AN10-AN8)*(1-((AN5+EXP(AN6*(AN4-AN7)))/(AN5+EXP(AN6*(AN4-AJ236))))^AN5)/(1-((AN5+EXP(AN6*(AN4-AN7)))/(AN5+EXP(AN6*(AN4-AN9))))^AN5))","v":0},{"$f":"IF(OR(AJ236<=AN9,AJ236>100000),0,IF(AJ236<=AO7,AO8,AO8+(AO10-AO8)*(1-((AO5+EXP(AO6*(AO4-AO7)))/(AO5+EXP(AO6*(AO4-AJ236))))^AO5)/(1-((AO5+EXP(AO6*(AO4-AO7)))/(AO5+EXP(AO6*(AO4-AO9))))^AO5)))","v":291.77983927154759},291.77983927154759,223.083927675887]
[226,{"$f":"'daily uptake'!F320","v":"2011-06-14"},{"$f":"5/9*'daily uptake'!Q320","v":23.611111111111111},{"$f":"5/9*'daily uptake'!N320","v":13.611111111111112},{"$f":"IF(AND($A237>='daily uptake'!$C$9,$A237<='daily uptake'!$C$10),$C237+E236,0)","v":0},{"$f":"IF(AND($A237>='daily uptake'!$C$18,$A237<='daily uptake'!$C$20),$D237+F236,0)","v":214.44444444444443},{"$f":"IF(AND($A237>='daily uptake'!$C$24,$A237<='daily uptake'!$C$25),$C237+G236,0)","v":0},{"$f":"IF(OR(F237<=I7,F237>I9),0,I8+(I10-I8)*(1-((I5+EXP(I6*(I4-I7)))/(I5+EXP(I6*(I4-F237))))^I5)/(1-((I5+EXP(I6*(I4-I7)))/(I5+EXP(I6*(I4-I9))))^I5))","v":3.9458371018110237},{"$f":"IF(OR(F237<=J7,F237>J9),0,J8+(J10-J8)*(1-((J5+EXP(J6*(J4-J7)))/(J5+EXP(J6*(J4-F237))))^J5)/(1-((J5+EXP(J6*(J4-J7)))/(J5+EXP(J6*(J4-J9))))^J5))","v":0},{"$f":"IF(OR(F237<=J9,F237>100000),0,IF(F237<=K7,K8,K8+(K10-K8)*(1-((K5+EXP(K6*(K4-K7)))/(K5+EXP(K6*(K4-F237))))^K5)/(1-((K5+EXP(K6*(K4-K7)))/(K5+EXP(K6*(K4-K9))))^K5)))","v":0},3.9458371018110237,3.3711093289227514,0,0,"2011-06-14",{"$f":"MAX(L$12:L237)+MAX(M$12:M237)+MAX(N$12:N237)","v":143.37110932892276},"2011-06-14",0.83800725930916542,null,null,null,null,null,null,null,null,null,null,null,null,null,null,null,null,null,1215.2929292929293,null,{"$f":"IF(OR(AJ237<=AM7,AJ237>AM9),0,AM8+(AM10-AM8)*(1-((AM5+EXP(AM6*(AM4-AM7)))/(AM5+EXP(AM6*(AM4-AJ237))))^AM5)/(1-((AM5+EXP(AM6*(AM4-AM7)))/(AM5+EXP(AM6*(AM4-AM9))))^AM5))","v":0},{"$f":"IF(OR(AJ237<=AN7,AJ237>AN9),0,AN8+(AN10-AN8)*(1-((AN5+EXP(AN6*(AN4-AN7)))/(AN5+EXP(AN6*(AN4-AJ237))))^AN5)/(1-((AN5+EXP(AN6*(AN4-AN7)))/(AN5+EXP(AN6*(AN4-AN9))))^AN5))","v":0},{"$f":"IF(OR(AJ237<=AN9,AJ237>100000),0,IF(AJ237<=AO7,AO8,AO8+(AO10-AO8)*(1-((AO5+EXP(AO6*(AO4-AO7)))/(AO5+EXP(AO6*(AO4-AJ237))))^AO5)/(1-((AO5+EXP(AO6*(AO4-AO7)))/(AO5+EXP(AO6*(AO4-AO9))))^AO5)))","v":296.69343978285468},296.69343978285468,226.84068243944182]
[227,{"$f":"'daily uptake'!F321","v":"2011-06-15"},{"$f":"5/9*'daily uptake'!Q321","v":23.888888888888889},{"$f":"5/9*'daily uptake'!N321","v":13.888888888888889},{"$f":"IF(AND($A238>='daily uptake'!$C$9,$A238<='daily uptake'!$C$10),$C238+E237,0)","v":0},{"$f":"IF(AND($A238>='daily uptake'!$C$18,$A238<='daily uptake'!$C$20),$D238+F237,0)","v":228.33333333333331},{"$f":"IF(AND($A238>='daily uptake'!$C$24,$A238<='daily uptake'!$C$25),$C238+G237,0)","v":0},{"$f":"IF(OR(F238<=I7,F238>I9),0,I8+(I10-I8)*(1-((I5+EXP(I6*(I4-I7)))/(I5+EXP(I6*(I4-F238))))^I5)/(1-((I5+EXP(I6*(I4-I7)))/(I5+EXP(I6*(I4-I9))))^I5))","v":5.1682910608507511},{"$f":"IF(OR(F238<=J7,F238>J9),0,J8+(J10-J8)*(1-((J5+EXP(J6*(J4-J7)))/(J5+EXP(J6*(J4-F238))))^J5)/(1-((J5+EXP(J6*(J4-J7)))/(J5+EXP(J6*(J4-J9))))^J5))","v":0},{"$f":"IF(OR(F238<=J9,F238>100000),0,IF(F238<=K7,K8,K8+(K10-K8)*(1-((K5+EXP(K6*(K4-K7)))/(K5+EXP(K6*(K4-F238))))^K5)/(1-((K5+EXP(K6*(K4-K7)))/(K5+EXP(K6*(K4-K9))))^K5)))","v":0},5.1682910608507511,4.4155077263137494,0,0,"2011-06-15",{"$f":"MAX(L$12:L238)+MAX(M$12:M238)+MAX(N$12:N238)","v":144.41550772631376},"2011-06-15",1.0443983973910065,null,null,null,null,null,null,null,null,null,null,null,null,null,null,null,null,null,1228.2222222222222,null,{"$f":"IF(OR(AJ238<=AM7,AJ238>AM9),0,AM8+(AM10-AM8)*(1-((AM5+EXP(AM6*(AM4-AM7)))/(AM5+EXP(AM6*(AM4-AJ238))))^AM5)/(1-((AM5+EXP(AM6*(AM4-AM7)))/(AM5+EXP(AM6*(AM4-AM9))))^AM5))","v":0},{"$f":"IF(OR(AJ238<=AN7,AJ238>AN9),0,AN8+(AN10-AN8)*(1-((AN5+EXP(AN6*(AN4-AN7)))/(AN5+EXP(AN6*(AN4-AJ238))))^AN5)/(1-((AN5+EXP(AN6*(AN4-AN7)))/(AN5+EXP(AN6*(AN4-AN9))))^AN5))","v":0},{"$f":"IF(OR(AJ238<=AN9,AJ238>100000),0,IF(AJ238<=AO7,AO8,AO8+(AO10-AO8)*(1-((AO5+EXP(AO6*(AO4-AO7)))/(AO5+EXP(AO6*(AO4-AJ238))))^AO5)/(1-((AO5+EXP(AO6*(AO4-AO7)))/(AO5+EXP(AO6*(AO4-AO9))))^AO5)))","v":301.77298782827251},301.77298782827251,230.72431446699801]
[228,{"$f":"'daily uptake'!F322","v":"2011-06-16"},{"$f":"5/9*'daily uptake'!Q322","v":21.944444444444446},{"$f":"5/9*'daily uptake'!N322","v":11.944444444444445},{"$f":"IF(AND($A239>='daily uptake'!$C$9,$A239<='daily uptake'!$C$10),$C239+E238,0)","v":0},{"$f":"IF(AND($A239>='daily uptake'!$C$18,$A239<='daily uptake'!$C$20),$D239+F238,0)","v":240.27777777777777},{"$f":"IF(AND($A239>='daily uptake'!$C$24,$A239<='daily uptake'!$C$25),$C239+G238,0)","v":0},{"$f":"IF(OR(F239<=I7,F239>I9),0,I8+(I10-I8)*(1-((I5+EXP(I6*(I4-I7)))/(I5+EXP(I6*(I4-F239))))^I5)/(1-((I5+EXP(I6*(I4-I7)))/(I5+EXP(I6*(I4-I9))))^I5))","v":6.3976903048744695},{"$f":"IF(OR(F239<=J7,F239>J9),0,J8+(J10-J8)*(1-((J5+EXP(J6*(J4-J7)))/(J5+EXP(J6*(J4-F239))))^J5)/(1-((J5+EXP(J6*(J4-J7)))/(J5+EXP(J6*(J4-J9))))^J5))","v":0},{"$f":"IF(OR(F239<=J9,F239>100000),0,IF(F239<=K7,K8,K8+(K10-K8)*(1-((K5+EXP(K6*(K4-K7)))/(K5+EXP(K6*(K4-F239))))^K5)/(1-((K5+EXP(K6*(K4-K7)))/(K5+EXP(K6*(K4-K9))))^K5)))","v":0},6.3976903048744695,5.4658397987139917,0,0,"2011-06-16",{"$f":"MAX(L$12:L239)+MAX(M$12:M239)+MAX(N$12:N239)","v":145.465839798714},"2011-06-16",1.0503320724002378,null,null,null,null,null,null,null,null,null,null,null,null,null,null,null,null,null,1241.181818181818,null,{"$f":"IF(OR(AJ239<=AM7,AJ239>AM9),0,AM8+(AM10-AM8)*(1-((AM5+EXP(AM6*(AM4-AM7)))/(AM5+EXP(AM6*(AM4-AJ239))))^AM5)/(1-((AM5+EXP(AM6*(AM4-AM7)))/(AM5+EXP(AM6*(AM4-AM9))))^AM5))","v":0},{"$f":"IF(OR(AJ239<=AN7,AJ239>AN9),0,AN8+(AN10-AN8)*(1-((AN5+EXP(AN6*(AN4-AN7)))/(AN5+EXP(AN6*(AN4-AJ239))))^AN5)/(1-((AN5+EXP(AN6*(AN4-AN7)))/(AN5+EXP(AN6*(AN4-AN9))))^AN5))","v":0},{"$f":"IF(OR(AJ239<=AN9,AJ239>100000),0,IF(AJ239<=AO7,AO8,AO8+(AO10-AO8)*(1-((AO5+EXP(AO6*(AO4-AO7)))/(AO5+EXP(AO6*(AO4-AJ239))))^AO5)/(1-((AO5+EXP(AO6*(AO4-AO7)))/(AO5+EXP(AO6*(AO4-AO9))))^AO5)))","v":306.95177632578543},306.95177632578543,234.68382202417607]
[229,{"$f":"'daily uptake'!F323","v":"2011-06-17"},{"$f":"5/9*'daily uptake'!Q323","v":21.944444444444446},{"$f":"5/9*'daily uptake'!N323","v":11.944444444444445},{"$f":"IF(AND($A240>='daily uptake'!$C$9,$A240<='daily uptake'!$C$10),$C240+E239,0)","v":0},{"$f":"IF(AND($A240>='daily uptake'!$C$18,$A240<='daily uptake'!$C$20),$D240+F239,0)","v":252.22222222222223},{"$f":"IF(AND($A240>='daily uptake'!$C$24,$A240<='daily uptake'!$C$25),$C240+G239,0)","v":0},{"$f":"IF(OR(F240<=I7,F240>I9),0,I8+(I10-I8)*(1-((I5+EXP(I6*(I4-I7)))/(I5+EXP(I6*(I4-F240))))^I5)/(1-((I5+EXP(I6*(I4-I7)))/(I5+EXP(I6*(I4-I9))))^I5))","v":7.7812910525412695},{"$f":"IF(OR(F240<=J7,F240>J9),0,J8+(J10-J8)*(1-((J5+EXP(J6*(J4-J7)))/(J5+EXP(J6*(J4-F240))))^J5)/(1-((J5+EXP(J6*(J4-J7)))/(J5+EXP(J6*(J4-J9))))^J5))","v":0},{"$f":"IF(OR(F240<=J9,F240>100000),0,IF(F240<=K7,K8,K8+(K10-K8)*(1-((K5+EXP(K6*(K4-K7)))/(K5+EXP(K6*(K4-F240))))^K5)/(1-((K5+EXP(K6*(K4-K7)))/(K5+EXP(K6*(K4-K9))))^K5)))","v":0},7.7812910525412695,6.6479132770700247,0,0,"2011-06-17",{"$f":"MAX(L$12:L240)+MAX(M$12:M240)+MAX(N$12:N240)","v":146.64791327707002},"2011-06-17",1.1820734783560169,null,null,null,null,null,null,null,null,null,null,null,null,null,null,null,null,null,1254.1060606060605,null,{"$f":"IF(OR(AJ240<=AM7,AJ240>AM9),0,AM8+(AM10-AM8)*(1-((AM5+EXP(AM6*(AM4-AM7)))/(AM5+EXP(AM6*(AM4-AJ240))))^AM5)/(1-((AM5+EXP(AM6*(AM4-AM7)))/(AM5+EXP(AM6*(AM4-AM9))))^AM5))","v":0},{"$f":"IF(OR(AJ240<=AN7,AJ240>AN9),0,AN8+(AN10-AN8)*(1-((AN5+EXP(AN6*(AN4-AN7)))/(AN5+EXP(AN6*(AN4-AJ240))))^AN5)/(1-((AN5+EXP(AN6*(AN4-AN7)))/(AN5+EXP(AN6*(AN4-AN9))))^AN5))","v":0},{"$f":"IF(OR(AJ240<=AN9,AJ240>100000),0,IF(AJ240<=AO7,AO8,AO8+(AO10-AO8)*(1-((AO5+EXP(AO6*(AO4-AO7)))/(AO5+EXP(AO6*(AO4-AJ240))))^AO5)/(1-((AO5+EXP(AO6*(AO4-AO7)))/(AO5+EXP(AO6*(AO4-AO9))))^AO5)))","v":312.17671913116976},312.17671913116976,238.67861743504827]
[230,{"$f":"'daily uptake'!F324","v":"2011-06-18"},{"$f":"5/9*'daily uptake'!Q324","v":21.666666666666668},{"$f":"5/9*'daily uptake'!N324","v":11.666666666666668},{"$f":"IF(AND($A241>='daily uptake'!$C$9,$A241<='daily uptake'!$C$10),$C241+E240,0)","v":0},{"$f":"IF(AND($A241>='daily uptake'!$C$18,$A241<='daily uptake'!$C$20),$D241+F240,0)","v":263.88888888888891},{"$f":"IF(AND($A241>='daily uptake'!$C$24,$A241<='daily uptake'!$C$25),$C241+G240,0)","v":0},{"$f":"IF(OR(F241<=I7,F241>I9),0,I8+(I10-I8)*(1-((I5+EXP(I6*(I4-I7)))/(I5+EXP(I6*(I4-F241))))^I5)/(1-((I5+EXP(I6*(I4-I7)))/(I5+EXP(I6*(I4-I9))))^I5))","v":9.2652911545339514},{"$f":"IF(OR(F241<=J7,F241>J9),0,J8+(J10-J8)*(1-((J5+EXP(J6*(J4-J7)))/(J5+EXP(J6*(J4-F241))))^J5)/(1-((J5+EXP(J6*(J4-J7)))/(J5+EXP(J6*(J4-J9))))^J5))","v":0},{"$f":"IF(OR(F241<=J9,F241>100000),0,IF(F241<=K7,K8,K8+(K10-K8)*(1-((K5+EXP(K6*(K4-K7)))/(K5+EXP(K6*(K4-F241))))^K5)/(1-((K5+EXP(K6*(K4-K7)))/(K5+EXP(K6*(K4-K9))))^K5)))","v":0},9.2652911545339514,7.9157625214429714,0,0,"2011-06-18",{"$f":"MAX(L$12:L241)+MAX(M$12:M241)+MAX(N$12:N241)","v":147.91576252144296},"2011-06-18",1.2678492443729397,null,null,null,null,null,null,null,null,null,null,null,null,null,null,null,null,null,1266.5151515151515,null,{"$f":"IF(OR(AJ241<=AM7,AJ241>AM9),0,AM8+(AM10-AM8)*(1-((AM5+EXP(AM6*(AM4-AM7)))/(AM5+EXP(AM6*(AM4-AJ241))))^AM5)/(1-((AM5+EXP(AM6*(AM4-AM7)))/(AM5+EXP(AM6*(AM4-AM9))))^AM5))","v":0},{"$f":"IF(OR(AJ241<=AN7,AJ241>AN9),0,AN8+(AN10-AN8)*(1-((AN5+EXP(AN6*(AN4-AN7)))/(AN5+EXP(AN6*(AN4-AJ241))))^AN5)/(1-((AN5+EXP(AN6*(AN4-AN7)))/(AN5+EXP(AN6*(AN4-AN9))))^AN5))","v":0},{"$f":"IF(OR(AJ241<=AN9,AJ241>100000),0,IF(AJ241<=AO7,AO8,AO8+(AO10-AO8)*(1-((AO5+EXP(AO6*(AO4-AO7)))/(AO5+EXP(AO6*(AO4-AJ241))))^AO5)/(1-((AO5+EXP(AO6*(AO4-AO7)))/(AO5+EXP(AO6*(AO4-AO9))))^AO5)))","v":317.222118989367},317.222118989367,242.53614103870785]
[231,{"$f":"'daily uptake'!F325","v":"2011-06-19"},{"$f":"5/9*'daily uptake'!Q325","v":22.777777777777779},{"$f":"5/9*'daily uptake'!N325","v":12.777777777777779},{"$f":"IF(AND($A242>='daily uptake'!$C$9,$A242<='daily uptake'!$C$10),$C242+E241,0)","v":0},{"$f":"IF(AND($A242>='daily uptake'!$C$18,$A242<='daily uptake'!$C$20),$D242+F241,0)","v":276.66666666666669},{"$f":"IF(AND($A242>='daily uptake'!$C$24,$A242<='daily uptake'!$C$25),$C242+G241,0)","v":0},{"$f":"IF(OR(F242<=I7,F242>I9),0,I8+(I10-I8)*(1-((I5+EXP(I6*(I4-I7)))/(I5+EXP(I6*(I4-F242))))^I5)/(1-((I5+EXP(I6*(I4-I7)))/(I5+EXP(I6*(I4-I9))))^I5))","v":11.017525982953247},{"$f":"IF(OR(F242<=J7,F242>J9),0,J8+(J10-J8)*(1-((J5+EXP(J6*(J4-J7)))/(J5+EXP(J6*(J4-F242))))^J5)/(1-((J5+EXP(J6*(J4-J7)))/(J5+EXP(J6*(J4-J9))))^J5))","v":0},{"$f":"IF(OR(F242<=J9,F242>100000),0,IF(F242<=K7,K8,K8+(K10-K8)*(1-((K5+EXP(K6*(K4-K7)))/(K5+EXP(K6*(K4-F242))))^K5)/(1-((K5+EXP(K6*(K4-K7)))/(K5+EXP(K6*(K4-K9))))^K5)))","v":0},11.017525982953247,9.4127769759516244,0,0,"2011-06-19",{"$f":"MAX(L$12:L242)+MAX(M$12:M242)+MAX(N$12:N242)","v":149.41277697595163},"2011-06-19",1.4970144545086725,null,null,null,null,null,null,null,null,null,null,null,null,null,null,null,null,null,1278.6010101010102,null,{"$f":"IF(OR(AJ242<=AM7,AJ242>AM9),0,AM8+(AM10-AM8)*(1-((AM5+EXP(AM6*(AM4-AM7)))/(AM5+EXP(AM6*(AM4-AJ242))))^AM5)/(1-((AM5+EXP(AM6*(AM4-AM7)))/(AM5+EXP(AM6*(AM4-AM9))))^AM5))","v":0},{"$f":"IF(OR(AJ242<=AN7,AJ242>AN9),0,AN8+(AN10-AN8)*(1-((AN5+EXP(AN6*(AN4-AN7)))/(AN5+EXP(AN6*(AN4-AJ242))))^AN5)/(1-((AN5+EXP(AN6*(AN4-AN7)))/(AN5+EXP(AN6*(AN4-AN9))))^AN5))","v":0},{"$f":"IF(OR(AJ242<=AN9,AJ242>100000),0,IF(AJ242<=AO7,AO8,AO8+(AO10-AO8)*(1-((AO5+EXP(AO6*(AO4-AO7)))/(AO5+EXP(AO6*(AO4-AJ242))))^AO5)/(1-((AO5+EXP(AO6*(AO4-AO7)))/(AO5+EXP(AO6*(AO4-AO9))))^AO5)))","v":322.13484225048239},322.13484225048239,246.29222508965]
[232,{"$f":"'daily uptake'!F326","v":"2011-06-20"},{"$f":"5/9*'daily uptake'!Q326","v":23.888888888888889},{"$f":"5/9*'daily uptake'!N326","v":13.888888888888889},{"$f":"IF(AND($A243>='daily uptake'!$C$9,$A243<='daily uptake'!$C$10),$C243+E242,0)","v":0},{"$f":"IF(AND($A243>='daily uptake'!$C$18,$A243<='daily uptake'!$C$20),$D243+F242,0)","v":290.5555555555556},{"$f":"IF(AND($A243>='daily uptake'!$C$24,$A243<='daily uptake'!$C$25),$C243+G242,0)","v":0},{"$f":"IF(OR(F243<=I7,F243>I9),0,I8+(I10-I8)*(1-((I5+EXP(I6*(I4-I7)))/(I5+EXP(I6*(I4-F243))))^I5)/(1-((I5+EXP(I6*(I4-I7)))/(I5+EXP(I6*(I4-I9))))^I5))","v":13.041712919467104},{"$f":"IF(OR(F243<=J7,F243>J9),0,J8+(J10-J8)*(1-((J5+EXP(J6*(J4-J7)))/(J5+EXP(J6*(J4-F243))))^J5)/(1-((J5+EXP(J6*(J4-J7)))/(J5+EXP(J6*(J4-J9))))^J5))","v":0},{"$f":"IF(OR(F243<=J9,F243>100000),0,IF(F243<=K7,K8,K8+(K10-K8)*(1-((K5+EXP(K6*(K4-K7)))/(K5+EXP(K6*(K4-F243))))^K5)/(1-((K5+EXP(K6*(K4-K7)))/(K5+EXP(K6*(K4-K9))))^K5)))","v":0},13.041712919467104,11.142132569986039,0,0,"2011-06-20",{"$f":"MAX(L$12:L243)+MAX(M$12:M243)+MAX(N$12:N243)","v":151.14213256998605},"2011-06-20",1.7293555940344163,null,null,null,null,null,null,null,null,null,null,null,null,null,null,null,null,null,1290.6060606060607,null,{"$f":"IF(OR(AJ243<=AM7,AJ243>AM9),0,AM8+(AM10-AM8)*(1-((AM5+EXP(AM6*(AM4-AM7)))/(AM5+EXP(AM6*(AM4-AJ243))))^AM5)/(1-((AM5+EXP(AM6*(AM4-AM7)))/(AM5+EXP(AM6*(AM4-AM9))))^AM5))","v":0},{"$f":"IF(OR(AJ243<=AN7,AJ243>AN9),0,AN8+(AN10-AN8)*(1-((AN5+EXP(AN6*(AN4-AN7)))/(AN5+EXP(AN6*(AN4-AJ243))))^AN5)/(1-((AN5+EXP(AN6*(AN4-AN7)))/(AN5+EXP(AN6*(AN4-AN9))))^AN5))","v":0},{"$f":"IF(OR(AJ243<=AN9,AJ243>100000),0,IF(AJ243<=AO7,AO8,AO8+(AO10-AO8)*(1-((AO5+EXP(AO6*(AO4-AO7)))/(AO5+EXP(AO6*(AO4-AJ243))))^AO5)/(1-((AO5+EXP(AO6*(AO4-AO7)))/(AO5+EXP(AO6*(AO4-AO9))))^AO5)))","v":326.98438017402481},326.98438017402481,249.99999999999997]
[233,{"$f":"'daily uptake'!F327","v":"2011-06-21"},{"$f":"5/9*'daily uptake'!Q327","v":27.222222222222225},{"$f":"5/9*'daily uptake'!N327","v":16.388888888888889},{"$f":"IF(AND($A244>='daily uptake'!$C$9,$A244<='daily uptake'!$C$10),$C244+E243,0)","v":0},{"$f":"IF(AND($A244>='daily uptake'!$C$18,$A244<='daily uptake'!$C$20),$D244+F243,0)","v":306.94444444444451},{"$f":"IF(AND($A244>='daily uptake'!$C$24,$A244<='daily uptake'!$C$25),$C244+G243,0)","v":0},{"$f":"IF(OR(F244<=I7,F244>I9),0,I8+(I10-I8)*(1-((I5+EXP(I6*(I4-I7)))/(I5+EXP(I6*(I4-F244))))^I5)/(1-((I5+EXP(I6*(I4-I7)))/(I5+EXP(I6*(I4-I9))))^I5))","v":15.547009573710811},{"$f":"IF(OR(F244<=J7,F244>J9),0,J8+(J10-J8)*(1-((J5+EXP(J6*(J4-J7)))/(J5+EXP(J6*(J4-F244))))^J5)/(1-((J5+EXP(J6*(J4-J7)))/(J5+EXP(J6*(J4-J9))))^J5))","v":0},{"$f":"IF(OR(F244<=J9,F244>100000),0,IF(F244<=K7,K8,K8+(K10-K8)*(1-((K5+EXP(K6*(K4-K7)))/(K5+EXP(K6*(K4-F244))))^K5)/(1-((K5+EXP(K6*(K4-K7)))/(K5+EXP(K6*(K4-K9))))^K5)))","v":0},15.547009573710811,13.282522227471803,0,0,"2011-06-21",{"$f":"MAX(L$12:L244)+MAX(M$12:M244)+MAX(N$12:N244)","v":153.28252222747182},"2011-06-21",2.1403896574857697,null,null,null,null,null,null,null,null,null,null,null,null,null,null,null,null,null,0,null,{"$f":"IF(OR(AJ244<=AM7,AJ244>AM9),0,AM8+(AM10-AM8)*(1-((AM5+EXP(AM6*(AM4-AM7)))/(AM5+EXP(AM6*(AM4-AJ244))))^AM5)/(1-((AM5+EXP(AM6*(AM4-AM7)))/(AM5+EXP(AM6*(AM4-AM9))))^AM5))","v":0},{"$f":"IF(OR(AJ244<=AN7,AJ244>AN9),0,AN8+(AN10-AN8)*(1-((AN5+EXP(AN6*(AN4-AN7)))/(AN5+EXP(AN6*(AN4-AJ244))))^AN5)/(1-((AN5+EXP(AN6*(AN4-AN7)))/(AN5+EXP(AN6*(AN4-AN9))))^AN5))","v":0},{"$f":"IF(OR(AJ244<=AN9,AJ244>100000),0,IF(AJ244<=AO7,AO8,AO8+(AO10-AO8)*(1-((AO5+EXP(AO6*(AO4-AO7)))/(AO5+EXP(AO6*(AO4-AJ244))))^AO5)/(1-((AO5+EXP(AO6*(AO4-AO7)))/(AO5+EXP(AO6*(AO4-AO9))))^AO5)))","v":0},0,0]
[234,{"$f":"'daily uptake'!F328","v":"2011-06-22"},{"$f":"5/9*'daily uptake'!Q328","v":27.5},{"$f":"5/9*'daily uptake'!N328","v":16.944444444444446},{"$f":"IF(AND($A245>='daily uptake'!$C$9,$A245<='daily uptake'!$C$10),$C245+E244,0)","v":0},{"$f":"IF(AND($A245>='daily uptake'!$C$18,$A245<='daily uptake'!$C$20),$D245+F244,0)","v":323.88888888888897},{"$f":"IF(AND($A245>='daily uptake'!$C$24,$A245<='daily uptake'!$C$25),$C245+G244,0)","v":0},{"$f":"IF(OR(F245<=I7,F245>I9),0,I8+(I10-I8)*(1-((I5+EXP(I6*(I4-I7)))/(I5+EXP(I6*(I4-F245))))^I5)/(1-((I5+EXP(I6*(I4-I7)))/(I5+EXP(I6*(I4-I9))))^I5))","v":18.224582188722234},{"$f":"IF(OR(F245<=J7,F245>J9),0,J8+(J10-J8)*(1-((J5+EXP(J6*(J4-J7)))/(J5+EXP(J6*(J4-F245))))^J5)/(1-((J5+EXP(J6*(J4-J7)))/(J5+EXP(J6*(J4-J9))))^J5))","v":0},{"$f":"IF(OR(F245<=J9,F245>100000),0,IF(F245<=K7,K8,K8+(K10-K8)*(1-((K5+EXP(K6*(K4-K7)))/(K5+EXP(K6*(K4-F245))))^K5)/(1-((K5+EXP(K6*(K4-K7)))/(K5+EXP(K6*(K4-K9))))^K5)))","v":0},18.224582188722234,15.570095127323711,0,0,"2011-06-22",{"$f":"MAX(L$12:L245)+MAX(M$12:M245)+MAX(N$12:N245)","v":155.57009512732373},"2011-06-22",2.2875728998519094,null,null,null,null,null,null,null,null,null,null,null,null,null,null,null,null,null,0,null,{"$f":"IF(OR(AJ245<=AM7,AJ245>AM9),0,AM8+(AM10-AM8)*(1-((AM5+EXP(AM6*(AM4-AM7)))/(AM5+EXP(AM6*(AM4-AJ245))))^AM5)/(1-((AM5+EXP(AM6*(AM4-AM7)))/(AM5+EXP(AM6*(AM4-AM9))))^AM5))","v":0},{"$f":"IF(OR(AJ245<=AN7,AJ245>AN9),0,AN8+(AN10-AN8)*(1-((AN5+EXP(AN6*(AN4-AN7)))/(AN5+EXP(AN6*(AN4-AJ245))))^AN5)/(1-((AN5+EXP(AN6*(AN4-AN7)))/(AN5+EXP(AN6*(AN4-AN9))))^AN5))","v":0},{"$f":"IF(OR(AJ245<=AN9,AJ245>100000),0,IF(AJ245<=AO7,AO8,AO8+(AO10-AO8)*(1-((AO5+EXP(AO6*(AO4-AO7)))/(AO5+EXP(AO6*(AO4-AJ245))))^AO5)/(1-((AO5+EXP(AO6*(AO4-AO7)))/(AO5+EXP(AO6*(AO4-AO9))))^AO5)))","v":0},0,0]
[235,{"$f":"'daily uptake'!F329","v":"2011-06-23"},{"$f":"5/9*'daily uptake'!Q329","v":23.611111111111111},{"$f":"5/9*'daily uptake'!N329","v":13.611111111111112},{"$f":"IF(AND($A246>='daily uptake'!$C$9,$A246<='daily uptake'!$C$10),$C246+E245,0)","v":0},{"$f":"IF(AND($A246>='daily uptake'!$C$18,$A246<='daily uptake'!$C$20),$D246+F245,0)","v":337.50000000000006},{"$f":"IF(AND($A246>='daily uptake'!$C$24,$A246<='daily uptake'!$C$25),$C246+G245,0)","v":0},{"$f":"IF(OR(F246<=I7,F246>I9),0,I8+(I10-I8)*(1-((I5+EXP(I6*(I4-I7)))/(I5+EXP(I6*(I4-F246))))^I5)/(1-((I5+EXP(I6*(I4-I7)))/(I5+EXP(I6*(I4-I9))))^I5))","v":20.413856502125117},{"$f":"IF(OR(F246<=J7,F246>J9),0,J8+(J10-J8)*(1-((J5+EXP(J6*(J4-J7)))/(J5+EXP(J6*(J4-F246))))^J5)/(1-((J5+EXP(J6*(J4-J7)))/(J5+EXP(J6*(J4-J9))))^J5))","v":0},{"$f":"IF(OR(F246<=J9,F246>100000),0,IF(F246<=K7,K8,K8+(K10-K8)*(1-((K5+EXP(K6*(K4-K7)))/(K5+EXP(K6*(K4-F246))))^K5)/(1-((K5+EXP(K6*(K4-K7)))/(K5+EXP(K6*(K4-K9))))^K5)))","v":0},20.413856502125117,17.440492427327829,0,0,"2011-06-23",{"$f":"MAX(L$12:L246)+MAX(M$12:M246)+MAX(N$12:N246)","v":157.44049242732783},"2011-06-23",1.8703973000041003,null,null,null,null,null,null,null,null,null,null,null,null,null,null,null,null,null,0,null,{"$f":"IF(OR(AJ246<=AM7,AJ246>AM9),0,AM8+(AM10-AM8)*(1-((AM5+EXP(AM6*(AM4-AM7)))/(AM5+EXP(AM6*(AM4-AJ246))))^AM5)/(1-((AM5+EXP(AM6*(AM4-AM7)))/(AM5+EXP(AM6*(AM4-AM9))))^AM5))","v":0},{"$f":"IF(OR(AJ246<=AN7,AJ246>AN9),0,AN8+(AN10-AN8)*(1-((AN5+EXP(AN6*(AN4-AN7)))/(AN5+EXP(AN6*(AN4-AJ246))))^AN5)/(1-((AN5+EXP(AN6*(AN4-AN7)))/(AN5+EXP(AN6*(AN4-AN9))))^AN5))","v":0},{"$f":"IF(OR(AJ246<=AN9,AJ246>100000),0,IF(AJ246<=AO7,AO8,AO8+(AO10-AO8)*(1-((AO5+EXP(AO6*(AO4-AO7)))/(AO5+EXP(AO6*(AO4-AJ246))))^AO5)/(1-((AO5+EXP(AO6*(AO4-AO7)))/(AO5+EXP(AO6*(AO4-AO9))))^AO5)))","v":0},0,0]
[236,{"$f":"'daily uptake'!F330","v":"2011-06-24"},{"$f":"5/9*'daily uptake'!Q330","v":20.833333333333336},{"$f":"5/9*'daily uptake'!N330","v":10.833333333333334},{"$f":"IF(AND($A247>='daily uptake'!$C$9,$A247<='daily uptake'!$C$10),$C247+E246,0)","v":0},{"$f":"IF(AND($A247>='daily uptake'!$C$18,$A247<='daily uptake'!$C$20),$D247+F246,0)","v":348.33333333333337},{"$f":"IF(AND($A247>='daily uptake'!$C$24,$A247<='daily uptake'!$C$25),$C247+G246,0)","v":0},{"$f":"IF(OR(F247<=I7,F247>I9),0,I8+(I10-I8)*(1-((I5+EXP(I6*(I4-I7)))/(I5+EXP(I6*(I4-F247))))^I5)/(1-((I5+EXP(I6*(I4-I7)))/(I5+EXP(I6*(I4-I9))))^I5))","v":22.169978015473994},{"$f":"IF(OR(F247<=J7,F247>J9),0,J8+(J10-J8)*(1-((J5+EXP(J6*(J4-J7)))/(J5+EXP(J6*(J4-F247))))^J5)/(1-((J5+EXP(J6*(J4-J7)))/(J5+EXP(J6*(J4-J9))))^J5))","v":0},{"$f":"IF(OR(F247<=J9,F247>100000),0,IF(F247<=K7,K8,K8+(K10-K8)*(1-((K5+EXP(K6*(K4-K7)))/(K5+EXP(K6*(K4-F247))))^K5)/(1-((K5+EXP(K6*(K4-K7)))/(K5+EXP(K6*(K4-K9))))^K5)))","v":0},22.169978015473994,18.940827454755897,0,0,"2011-06-24",{"$f":"MAX(L$12:L247)+MAX(M$12:M247)+MAX(N$12:N247)","v":158.94082745475589},"2011-06-24",1.5003350274280649,null,null,null,null,null,null,null,null,null,null,null,null,null,null,null,null,null,0,null,{"$f":"IF(OR(AJ247<=AM7,AJ247>AM9),0,AM8+(AM10-AM8)*(1-((AM5+EXP(AM6*(AM4-AM7)))/(AM5+EXP(AM6*(AM4-AJ247))))^AM5)/(1-((AM5+EXP(AM6*(AM4-AM7)))/(AM5+EXP(AM6*(AM4-AM9))))^AM5))","v":0},{"$f":"IF(OR(AJ247<=AN7,AJ247>AN9),0,AN8+(AN10-AN8)*(1-((AN5+EXP(AN6*(AN4-AN7)))/(AN5+EXP(AN6*(AN4-AJ247))))^AN5)/(1-((AN5+EXP(AN6*(AN4-AN7)))/(AN5+EXP(AN6*(AN4-AN9))))^AN5))","v":0},{"$f":"IF(OR(AJ247<=AN9,AJ247>100000),0,IF(AJ247<=AO7,AO8,AO8+(AO10-AO8)*(1-((AO5+EXP(AO6*(AO4-AO7)))/(AO5+EXP(AO6*(AO4-AJ247))))^AO5)/(1-((AO5+EXP(AO6*(AO4-AO7)))/(AO5+EXP(AO6*(AO4-AO9))))^AO5)))","v":0},0,0]
[237,{"$f":"'daily uptake'!F331","v":"2011-06-25"},{"$f":"5/9*'daily uptake'!Q331","v":21.388888888888889},{"$f":"5/9*'daily uptake'!N331","v":11.388888888888889},{"$f":"IF(AND($A248>='daily uptake'!$C$9,$A248<='daily uptake'!$C$10),$C248+E247,0)","v":0},{"$f":"IF(AND($A248>='daily uptake'!$C$18,$A248<='daily uptake'!$C$20),$D248+F247,0)","v":359.72222222222229},{"$f":"IF(AND($A248>='daily uptake'!$C$24,$A248<='daily uptake'!$C$25),$C248+G247,0)","v":0},{"$f":"IF(OR(F248<=I7,F248>I9),0,I8+(I10-I8)*(1-((I5+EXP(I6*(I4-I7)))/(I5+EXP(I6*(I4-F248))))^I5)/(1-((I5+EXP(I6*(I4-I7)))/(I5+EXP(I6*(I4-I9))))^I5))","v":24.022551307277102},{"$f":"IF(OR(F248<=J7,F248>J9),0,J8+(J10-J8)*(1-((J5+EXP(J6*(J4-J7)))/(J5+EXP(J6*(J4-F248))))^J5)/(1-((J5+EXP(J6*(J4-J7)))/(J5+EXP(J6*(J4-J9))))^J5))","v":0},{"$f":"IF(OR(F248<=J9,F248>100000),0,IF(F248<=K7,K8,K8+(K10-K8)*(1-((K5+EXP(K6*(K4-K7)))/(K5+EXP(K6*(K4-F248))))^K5)/(1-((K5+EXP(K6*(K4-K7)))/(K5+EXP(K6*(K4-K9))))^K5)))","v":0},24.022551307277102,20.523565653361263,0,0,"2011-06-25",{"$f":"MAX(L$12:L248)+MAX(M$12:M248)+MAX(N$12:N248)","v":160.52356565336126},"2011-06-25",1.5827381986053695,null,null,null,null,null,null,null,null,null,null,null,null,null,null,null,null,null,0,null,{"$f":"IF(OR(AJ248<=AM7,AJ248>AM9),0,AM8+(AM10-AM8)*(1-((AM5+EXP(AM6*(AM4-AM7)))/(AM5+EXP(AM6*(AM4-AJ248))))^AM5)/(1-((AM5+EXP(AM6*(AM4-AM7)))/(AM5+EXP(AM6*(AM4-AM9))))^AM5))","v":0},{"$f":"IF(OR(AJ248<=AN7,AJ248>AN9),0,AN8+(AN10-AN8)*(1-((AN5+EXP(AN6*(AN4-AN7)))/(AN5+EXP(AN6*(AN4-AJ248))))^AN5)/(1-((AN5+EXP(AN6*(AN4-AN7)))/(AN5+EXP(AN6*(AN4-AN9))))^AN5))","v":0},{"$f":"IF(OR(AJ248<=AN9,AJ248>100000),0,IF(AJ248<=AO7,AO8,AO8+(AO10-AO8)*(1-((AO5+EXP(AO6*(AO4-AO7)))/(AO5+EXP(AO6*(AO4-AJ248))))^AO5)/(1-((AO5+EXP(AO6*(AO4-AO7)))/(AO5+EXP(AO6*(AO4-AO9))))^AO5)))","v":0},0,0]
[238,{"$f":"'daily uptake'!F332","v":"2011-06-26"},{"$f":"5/9*'daily uptake'!Q332","v":21.666666666666668},{"$f":"5/9*'daily uptake'!N332","v":11.666666666666668},{"$f":"IF(AND($A249>='daily uptake'!$C$9,$A249<='daily uptake'!$C$10),$C249+E248,0)","v":0},{"$f":"IF(AND($A249>='daily uptake'!$C$18,$A249<='daily uptake'!$C$20),$D249+F248,0)","v":371.38888888888897},{"$f":"IF(AND($A249>='daily uptake'!$C$24,$A249<='daily uptake'!$C$25),$C249+G248,0)","v":0},{"$f":"IF(OR(F249<=I7,F249>I9),0,I8+(I10-I8)*(1-((I5+EXP(I6*(I4-I7)))/(I5+EXP(I6*(I4-F249))))^I5)/(1-((I5+EXP(I6*(I4-I7)))/(I5+EXP(I6*(I4-I9))))^I5))","v":25.922100387550916},{"$f":"IF(OR(F249<=J7,F249>J9),0,J8+(J10-J8)*(1-((J5+EXP(J6*(J4-J7)))/(J5+EXP(J6*(J4-F249))))^J5)/(1-((J5+EXP(J6*(J4-J7)))/(J5+EXP(J6*(J4-J9))))^J5))","v":0},{"$f":"IF(OR(F249<=J9,F249>100000),0,IF(F249<=K7,K8,K8+(K10-K8)*(1-((K5+EXP(K6*(K4-K7)))/(K5+EXP(K6*(K4-F249))))^K5)/(1-((K5+EXP(K6*(K4-K7)))/(K5+EXP(K6*(K4-K9))))^K5)))","v":0},25.922100387550916,22.14643741923285,0,0,"2011-06-26",{"$f":"MAX(L$12:L249)+MAX(M$12:M249)+MAX(N$12:N249)","v":162.14643741923285},"2011-06-26",1.6228717658715937,null,null,null,null,null,null,null,null,null,null,null,null,null,null,null,null,null,0,null,{"$f":"IF(OR(AJ249<=AM7,AJ249>AM9),0,AM8+(AM10-AM8)*(1-((AM5+EXP(AM6*(AM4-AM7)))/(AM5+EXP(AM6*(AM4-AJ249))))^AM5)/(1-((AM5+EXP(AM6*(AM4-AM7)))/(AM5+EXP(AM6*(AM4-AM9))))^AM5))","v":0},{"$f":"IF(OR(AJ249<=AN7,AJ249>AN9),0,AN8+(AN10-AN8)*(1-((AN5+EXP(AN6*(AN4-AN7)))/(AN5+EXP(AN6*(AN4-AJ249))))^AN5)/(1-((AN5+EXP(AN6*(AN4-AN7)))/(AN5+EXP(AN6*(AN4-AN9))))^AN5))","v":0},{"$f":"IF(OR(AJ249<=AN9,AJ249>100000),0,IF(AJ249<=AO7,AO8,AO8+(AO10-AO8)*(1-((AO5+EXP(AO6*(AO4-AO7)))/(AO5+EXP(AO6*(AO4-AJ249))))^AO5)/(1-((AO5+EXP(AO6*(AO4-AO7)))/(AO5+EXP(AO6*(AO4-AO9))))^AO5)))","v":0},0,0]
[239,{"$f":"'daily uptake'!F333","v":"2011-06-27"},{"$f":"5/9*'daily uptake'!Q333","v":23.055555555555557},{"$f":"5/9*'daily uptake'!N333","v":13.055555555555555},{"$f":"IF(AND($A250>='daily uptake'!$C$9,$A250<='daily uptake'!$C$10),$C250+E249,0)","v":0},{"$f":"IF(AND($A250>='daily uptake'!$C$18,$A250<='daily uptake'!$C$20),$D250+F249,0)","v":384.44444444444451},{"$f":"IF(AND($A250>='daily uptake'!$C$24,$A250<='daily uptake'!$C$25),$C250+G249,0)","v":0},{"$f":"IF(OR(F250<=I7,F250>I9),0,I8+(I10-I8)*(1-((I5+EXP(I6*(I4-I7)))/(I5+EXP(I6*(I4-F250))))^I5)/(1-((I5+EXP(I6*(I4-I7)))/(I5+EXP(I6*(I4-I9))))^I5))","v":28.045174224647027},{"$f":"IF(OR(F250<=J7,F250>J9),0,J8+(J10-J8)*(1-((J5+EXP(J6*(J4-J7)))/(J5+EXP(J6*(J4-F250))))^J5)/(1-((J5+EXP(J6*(J4-J7)))/(J5+EXP(J6*(J4-J9))))^J5))","v":0},{"$f":"IF(OR(F250<=J9,F250>100000),0,IF(F250<=K7,K8,K8+(K10-K8)*(1-((K5+EXP(K6*(K4-K7)))/(K5+EXP(K6*(K4-F250))))^K5)/(1-((K5+EXP(K6*(K4-K7)))/(K5+EXP(K6*(K4-K9))))^K5)))","v":0},28.045174224647027,23.960276620790772,0,0,"2011-06-27",{"$f":"MAX(L$12:L250)+MAX(M$12:M250)+MAX(N$12:N250)","v":163.96027662079078},"2011-06-27",1.8138392015579257,null,null,null,null,null,null,null,null,null,null,null,null,null,null,null,null,null,0,null,{"$f":"IF(OR(AJ250<=AM7,AJ250>AM9),0,AM8+(AM10-AM8)*(1-((AM5+EXP(AM6*(AM4-AM7)))/(AM5+EXP(AM6*(AM4-AJ250))))^AM5)/(1-((AM5+EXP(AM6*(AM4-AM7)))/(AM5+EXP(AM6*(AM4-AM9))))^AM5))","v":0},{"$f":"IF(OR(AJ250<=AN7,AJ250>AN9),0,AN8+(AN10-AN8)*(1-((AN5+EXP(AN6*(AN4-AN7)))/(AN5+EXP(AN6*(AN4-AJ250))))^AN5)/(1-((AN5+EXP(AN6*(AN4-AN7)))/(AN5+EXP(AN6*(AN4-AN9))))^AN5))","v":0},{"$f":"IF(OR(AJ250<=AN9,AJ250>100000),0,IF(AJ250<=AO7,AO8,AO8+(AO10-AO8)*(1-((AO5+EXP(AO6*(AO4-AO7)))/(AO5+EXP(AO6*(AO4-AJ250))))^AO5)/(1-((AO5+EXP(AO6*(AO4-AO7)))/(AO5+EXP(AO6*(AO4-AO9))))^AO5)))","v":0},0,0]
[240,{"$f":"'daily uptake'!F334","v":"2011-06-28"},{"$f":"5/9*'daily uptake'!Q334","v":20.277777777777779},{"$f":"5/9*'daily uptake'!N334","v":10.277777777777779},{"$f":"IF(AND($A251>='daily uptake'!$C$9,$A251<='daily uptake'!$C$10),$C251+E250,0)","v":0},{"$f":"IF(AND($A251>='daily uptake'!$C$18,$A251<='daily uptake'!$C$20),$D251+F250,0)","v":394.72222222222229},{"$f":"IF(AND($A251>='daily uptake'!$C$24,$A251<='daily uptake'!$C$25),$C251+G250,0)","v":0},{"$f":"IF(OR(F251<=I7,F251>I9),0,I8+(I10-I8)*(1-((I5+EXP(I6*(I4-I7)))/(I5+EXP(I6*(I4-F251))))^I5)/(1-((I5+EXP(I6*(I4-I7)))/(I5+EXP(I6*(I4-I9))))^I5))","v":29.712059536443309},{"$f":"IF(OR(F251<=J7,F251>J9),0,J8+(J10-J8)*(1-((J5+EXP(J6*(J4-J7)))/(J5+EXP(J6*(J4-F251))))^J5)/(1-((J5+EXP(J6*(J4-J7)))/(J5+EXP(J6*(J4-J9))))^J5))","v":0},{"$f":"IF(OR(F251<=J9,F251>100000),0,IF(F251<=K7,K8,K8+(K10-K8)*(1-((K5+EXP(K6*(K4-K7)))/(K5+EXP(K6*(K4-F251))))^K5)/(1-((K5+EXP(K6*(K4-K7)))/(K5+EXP(K6*(K4-K9))))^K5)))","v":0},29.712059536443309,25.384373074813588,0,0,"2011-06-28",{"$f":"MAX(L$12:L251)+MAX(M$12:M251)+MAX(N$12:N251)","v":165.3843730748136},"2011-06-28",1.4240964540228163,null,null,null,null,null,null,null,null,null,null,null,null,null,null,null,null,null,0,null,{"$f":"IF(OR(AJ251<=AM7,AJ251>AM9),0,AM8+(AM10-AM8)*(1-((AM5+EXP(AM6*(AM4-AM7)))/(AM5+EXP(AM6*(AM4-AJ251))))^AM5)/(1-((AM5+EXP(AM6*(AM4-AM7)))/(AM5+EXP(AM6*(AM4-AM9))))^AM5))","v":0},{"$f":"IF(OR(AJ251<=AN7,AJ251>AN9),0,AN8+(AN10-AN8)*(1-((AN5+EXP(AN6*(AN4-AN7)))/(AN5+EXP(AN6*(AN4-AJ251))))^AN5)/(1-((AN5+EXP(AN6*(AN4-AN7)))/(AN5+EXP(AN6*(AN4-AN9))))^AN5))","v":0},{"$f":"IF(OR(AJ251<=AN9,AJ251>100000),0,IF(AJ251<=AO7,AO8,AO8+(AO10-AO8)*(1-((AO5+EXP(AO6*(AO4-AO7)))/(AO5+EXP(AO6*(AO4-AJ251))))^AO5)/(1-((AO5+EXP(AO6*(AO4-AO7)))/(AO5+EXP(AO6*(AO4-AO9))))^AO5)))","v":0},0,0]
[241,{"$f":"'daily uptake'!F335","v":"2011-06-29"},{"$f":"5/9*'daily uptake'!Q335","v":17.777777777777779},{"$f":"5/9*'daily uptake'!N335","v":7.7777777777777786},{"$f":"IF(AND($A252>='daily uptake'!$C$9,$A252<='daily uptake'!$C$10),$C252+E251,0)","v":0},{"$f":"IF(AND($A252>='daily uptake'!$C$18,$A252<='daily uptake'!$C$20),$D252+F251,0)","v":402.50000000000006},{"$f":"IF(AND($A252>='daily uptake'!$C$24,$A252<='daily uptake'!$C$25),$C252+G251,0)","v":0},{"$f":"IF(OR(F252<=I7,F252>I9),0,I8+(I10-I8)*(1-((I5+EXP(I6*(I4-I7)))/(I5+EXP(I6*(I4-F252))))^I5)/(1-((I5+EXP(I6*(I4-I7)))/(I5+EXP(I6*(I4-I9))))^I5))","v":30.969883623574944},{"$f":"IF(OR(F252<=J7,F252>J9),0,J8+(J10-J8)*(1-((J5+EXP(J6*(J4-J7)))/(J5+EXP(J6*(J4-F252))))^J5)/(1-((J5+EXP(J6*(J4-J7)))/(J5+EXP(J6*(J4-J9))))^J5))","v":0},{"$f":"IF(OR(F252<=J9,F252>100000),0,IF(F252<=K7,K8,K8+(K10-K8)*(1-((K5+EXP(K6*(K4-K7)))/(K5+EXP(K6*(K4-F252))))^K5)/(1-((K5+EXP(K6*(K4-K7)))/(K5+EXP(K6*(K4-K9))))^K5)))","v":0},{"$f":"H252+I252+J252","v":30.969883623574944},26.458989792347886,0,0,"2011-06-29",{"$f":"MAX(L$12:L252)+MAX(M$12:M252)+MAX(N$12:N252)","v":166.45898979234789},"2011-06-29",1.0746167175342975,null,null,null,null,null,null,null,null,null,null,null,null,null,null,null,null,null,0,null,{"$f":"IF(OR(AJ252<=AM7,AJ252>AM9),0,AM8+(AM10-AM8)*(1-((AM5+EXP(AM6*(AM4-AM7)))/(AM5+EXP(AM6*(AM4-AJ252))))^AM5)/(1-((AM5+EXP(AM6*(AM4-AM7)))/(AM5+EXP(AM6*(AM4-AM9))))^AM5))","v":0},{"$f":"IF(OR(AJ252<=AN7,AJ252>AN9),0,AN8+(AN10-AN8)*(1-((AN5+EXP(AN6*(AN4-AN7)))/(AN5+EXP(AN6*(AN4-AJ252))))^AN5)/(1-((AN5+EXP(AN6*(AN4-AN7)))/(AN5+EXP(AN6*(AN4-AN9))))^AN5))","v":0},{"$f":"IF(OR(AJ252<=AN9,AJ252>100000),0,IF(AJ252<=AO7,AO8,AO8+(AO10-AO8)*(1-((AO5+EXP(AO6*(AO4-AO7)))/(AO5+EXP(AO6*(AO4-AJ252))))^AO5)/(1-((AO5+EXP(AO6*(AO4-AO7)))/(AO5+EXP(AO6*(AO4-AO9))))^AO5)))","v":0},{"$f":"AL252+AM252+AN252","v":0},0]
[242,{"$f":"'daily uptake'!F336","v":"2011-06-30"},{"$f":"5/9*'daily uptake'!Q336","v":20.277777777777779},{"$f":"5/9*'daily uptake'!N336","v":10.277777777777779},{"$f":"IF(AND($A253>='daily uptake'!$C$9,$A253<='daily uptake'!$C$10),$C253+E252,0)","v":0},{"$f":"IF(AND($A253>='daily uptake'!$C$18,$A253<='daily uptake'!$C$20),$D253+F252,0)","v":412.77777777777783},{"$f":"IF(AND($A253>='daily uptake'!$C$24,$A253<='daily uptake'!$C$25),$C253+G252,0)","v":0},{"$f":"IF(OR(F253<=I7,F253>I9),0,I8+(I10-I8)*(1-((I5+EXP(I6*(I4-I7)))/(I5+EXP(I6*(I4-F253))))^I5)/(1-((I5+EXP(I6*(I4-I7)))/(I5+EXP(I6*(I4-I9))))^I5))","v":32.626359221260074},{"$f":"IF(OR(F253<=J7,F253>J9),0,J8+(J10-J8)*(1-((J5+EXP(J6*(J4-J7)))/(J5+EXP(J6*(J4-F253))))^J5)/(1-((J5+EXP(J6*(J4-J7)))/(J5+EXP(J6*(J4-J9))))^J5))","v":0},{"$f":"IF(OR(F253<=J9,FALSE),0,IF(F253<=K7,K8,K8+(K10-K8)*(1-((K5+EXP(K6*(K4-K7)))/(K5+EXP(K6*(K4-F253))))^K5)/(1-((K5+EXP(K6*(K4-K7)))/(K5+EXP(K6*(K4-K9))))^K5)))","v":0},{"$f":"H253+I253+J253","v":32.626359221260074},27.874192750910534,0,0,"2011-06-30",{"$f":"MAX(L$12:L253)+MAX(M$12:M253)+MAX(N$12:N253)","v":167.87419275091054},"2011-06-30",1.4152029585626451,null,null,null,null,null,null,null,null,null,null,null,null,null,null,null,null,null,0,null,{"$f":"IF(OR(AJ253<=AM7,AJ253>AM9),0,AM8+(AM10-AM8)*(1-((AM5+EXP(AM6*(AM4-AM7)))/(AM5+EXP(AM6*(AM4-AJ253))))^AM5)/(1-((AM5+EXP(AM6*(AM4-AM7)))/(AM5+EXP(AM6*(AM4-AM9))))^AM5))","v":0},{"$f":"IF(OR(AJ253<=AN7,AJ253>AN9),0,AN8+(AN10-AN8)*(1-((AN5+EXP(AN6*(AN4-AN7)))/(AN5+EXP(AN6*(AN4-AJ253))))^AN5)/(1-((AN5+EXP(AN6*(AN4-AN7)))/(AN5+EXP(AN6*(AN4-AN9))))^AN5))","v":0},{"$f":"IF(OR(AJ253<=AN9,FALSE),0,IF(AJ253<=AO7,AO8,AO8+(AO10-AO8)*(1-((AO5+EXP(AO6*(AO4-AO7)))/(AO5+EXP(AO6*(AO4-AJ253))))^AO5)/(1-((AO5+EXP(AO6*(AO4-AO7)))/(AO5+EXP(AO6*(AO4-AO9))))^AO5)))","v":0},{"$f":"AL253+AM253+AN253","v":0},0]
[243,{"$f":"'daily uptake'!F337","v":"2011-07-01"},{"$f":"5/9*'daily uptake'!Q337","v":23.333333333333336},{"$f":"5/9*'daily uptake'!N337","v":13.333333333333334},{"$f":"IF(AND($A254>='daily uptake'!$C$9,$A254<='daily uptake'!$C$10),$C254+E253,0)","v":0},{"$f":"IF(AND($A254>='daily uptake'!$C$18,$A254<='daily uptake'!$C$20),$D254+F253,0)","v":426.11111111111114},{"$f":"IF(AND($A254>='daily uptake'!$C$24,$A254<='daily uptake'!$C$25),$C254+G253,0)","v":0},{"$f":"IF(OR(F254<=I7,F254>I9),0,I8+(I10-I8)*(1-((I5+EXP(I6*(I4-I7)))/(I5+EXP(I6*(I4-F254))))^I5)/(1-((I5+EXP(I6*(I4-I7)))/(I5+EXP(I6*(I4-I9))))^I5))","v":34.764471320593167},{"$f":"IF(OR(F254<=J7,F254>J9),0,J8+(J10-J8)*(1-((J5+EXP(J6*(J4-J7)))/(J5+EXP(J6*(J4-F254))))^J5)/(1-((J5+EXP(J6*(J4-J7)))/(J5+EXP(J6*(J4-J9))))^J5))","v":0},{"$f":"IF(OR(F254<=J9,F254>100000),0,IF(F254<=K7,K8,K8+(K10-K8)*(1-((K5+EXP(K6*(K4-K7)))/(K5+EXP(K6*(K4-F254))))^K5)/(1-((K5+EXP(K6*(K4-K7)))/(K5+EXP(K6*(K4-K9))))^K5)))","v":0},34.764471320593167,29.700879828548945,0,0,"2011-07-01",{"$f":"MAX(L$12:L254)+MAX(M$12:M254)+MAX(N$12:N254)","v":169.70087982854895},"2011-07-01",1.826687077638411,null,null,null,null,null,null,null,null,null,null,null,null,null,null,null,null,null,0,null,{"$f":"IF(OR(AJ254<=AM7,AJ254>AM9),0,AM8+(AM10-AM8)*(1-((AM5+EXP(AM6*(AM4-AM7)))/(AM5+EXP(AM6*(AM4-AJ254))))^AM5)/(1-((AM5+EXP(AM6*(AM4-AM7)))/(AM5+EXP(AM6*(AM4-AM9))))^AM5))","v":0},{"$f":"IF(OR(AJ254<=AN7,AJ254>AN9),0,AN8+(AN10-AN8)*(1-((AN5+EXP(AN6*(AN4-AN7)))/(AN5+EXP(AN6*(AN4-AJ254))))^AN5)/(1-((AN5+EXP(AN6*(AN4-AN7)))/(AN5+EXP(AN6*(AN4-AN9))))^AN5))","v":0},{"$f":"IF(OR(AJ254<=AN9,AJ254>100000),0,IF(AJ254<=AO7,AO8,AO8+(AO10-AO8)*(1-((AO5+EXP(AO6*(AO4-AO7)))/(AO5+EXP(AO6*(AO4-AJ254))))^AO5)/(1-((AO5+EXP(AO6*(AO4-AO7)))/(AO5+EXP(AO6*(AO4-AO9))))^AO5)))","v":0},0,0]
[244,{"$f":"'daily uptake'!F338","v":"2011-07-02"},{"$f":"5/9*'daily uptake'!Q338","v":25.555555555555557},{"$f":"5/9*'daily uptake'!N338","v":15.555555555555557},{"$f":"IF(AND($A255>='daily uptake'!$C$9,$A255<='daily uptake'!$C$10),$C255+E254,0)","v":0},{"$f":"IF(AND($A255>='daily uptake'!$C$18,$A255<='daily uptake'!$C$20),$D255+F254,0)","v":441.66666666666669},{"$f":"IF(AND($A255>='daily uptake'!$C$24,$A255<='daily uptake'!$C$25),$C255+G254,0)","v":0},{"$f":"IF(OR(F255<=I7,F255>I9),0,I8+(I10-I8)*(1-((I5+EXP(I6*(I4-I7)))/(I5+EXP(I6*(I4-F255))))^I5)/(1-((I5+EXP(I6*(I4-I7)))/(I5+EXP(I6*(I4-I9))))^I5))","v":37.241892205817983},{"$f":"IF(OR(F255<=J7,F255>J9),0,J8+(J10-J8)*(1-((J5+EXP(J6*(J4-J7)))/(J5+EXP(J6*(J4-F255))))^J5)/(1-((J5+EXP(J6*(J4-J7)))/(J5+EXP(J6*(J4-J9))))^J5))","v":0},{"$f":"IF(OR(F255<=J9,F255>100000),0,IF(F255<=K7,K8,K8+(K10-K8)*(1-((K5+EXP(K6*(K4-K7)))/(K5+EXP(K6*(K4-F255))))^K5)/(1-((K5+EXP(K6*(K4-K7)))/(K5+EXP(K6*(K4-K9))))^K5)))","v":0},37.241892205817983,31.817453940038817,0,0,"2011-07-02",{"$f":"MAX(L$12:L255)+MAX(M$12:M255)+MAX(N$12:N255)","v":171.81745394003883},"2011-07-02",2.1165741114898822,null,null,null,null,null,null,null,null,null,null,null,null,null,null,null,null,null,0,null,{"$f":"IF(OR(AJ255<=AM7,AJ255>AM9),0,AM8+(AM10-AM8)*(1-((AM5+EXP(AM6*(AM4-AM7)))/(AM5+EXP(AM6*(AM4-AJ255))))^AM5)/(1-((AM5+EXP(AM6*(AM4-AM7)))/(AM5+EXP(AM6*(AM4-AM9))))^AM5))","v":0},{"$f":"IF(OR(AJ255<=AN7,AJ255>AN9),0,AN8+(AN10-AN8)*(1-((AN5+EXP(AN6*(AN4-AN7)))/(AN5+EXP(AN6*(AN4-AJ255))))^AN5)/(1-((AN5+EXP(AN6*(AN4-AN7)))/(AN5+EXP(AN6*(AN4-AN9))))^AN5))","v":0},{"$f":"IF(OR(AJ255<=AN9,AJ255>100000),0,IF(AJ255<=AO7,AO8,AO8+(AO10-AO8)*(1-((AO5+EXP(AO6*(AO4-AO7)))/(AO5+EXP(AO6*(AO4-AJ255))))^AO5)/(1-((AO5+EXP(AO6*(AO4-AO7)))/(AO5+EXP(AO6*(AO4-AO9))))^AO5)))","v":0},0,0]
[245,{"$f":"'daily uptake'!F339","v":"2011-07-03"},{"$f":"5/9*'daily uptake'!Q339","v":26.388888888888889},{"$f":"5/9*'daily uptake'!N339","v":16.111111111111111},{"$f":"IF(AND($A256>='daily uptake'!$C$9,$A256<='daily uptake'!$C$10),$C256+E255,0)","v":0},{"$f":"IF(AND($A256>='daily uptake'!$C$18,$A256<='daily uptake'!$C$20),$D256+F255,0)","v":457.77777777777777},{"$f":"IF(AND($A256>='daily uptake'!$C$24,$A256<='daily uptake'!$C$25),$C256+G255,0)","v":0},{"$f":"IF(OR(F256<=I7,F256>I9),0,I8+(I10-I8)*(1-((I5+EXP(I6*(I4-I7)))/(I5+EXP(I6*(I4-F256))))^I5)/(1-((I5+EXP(I6*(I4-I7)))/(I5+EXP(I6*(I4-I9))))^I5))","v":39.787077061718918},{"$f":"IF(OR(F256<=J7,F256>J9),0,J8+(J10-J8)*(1-((J5+EXP(J6*(J4-J7)))/(J5+EXP(J6*(J4-F256))))^J5)/(1-((J5+EXP(J6*(J4-J7)))/(J5+EXP(J6*(J4-J9))))^J5))","v":0},{"$f":"IF(OR(F256<=J9,F256>100000),0,IF(F256<=K7,K8,K8+(K10-K8)*(1-((K5+EXP(K6*(K4-K7)))/(K5+EXP(K6*(K4-F256))))^K5)/(1-((K5+EXP(K6*(K4-K7)))/(K5+EXP(K6*(K4-K9))))^K5)))","v":0},39.787077061718918,33.991921914812167,0,0,"2011-07-03",{"$f":"MAX(L$12:L256)+MAX(M$12:M256)+MAX(N$12:N256)","v":173.99192191481217},"2011-07-03",2.1744679747733358,null,null,null,null,null,null,null,null,null,null,null,null,null,null,null,null,null,0,null,{"$f":"IF(OR(AJ256<=AM7,AJ256>AM9),0,AM8+(AM10-AM8)*(1-((AM5+EXP(AM6*(AM4-AM7)))/(AM5+EXP(AM6*(AM4-AJ256))))^AM5)/(1-((AM5+EXP(AM6*(AM4-AM7)))/(AM5+EXP(AM6*(AM4-AM9))))^AM5))","v":0},{"$f":"IF(OR(AJ256<=AN7,AJ256>AN9),0,AN8+(AN10-AN8)*(1-((AN5+EXP(AN6*(AN4-AN7)))/(AN5+EXP(AN6*(AN4-AJ256))))^AN5)/(1-((AN5+EXP(AN6*(AN4-AN7)))/(AN5+EXP(AN6*(AN4-AN9))))^AN5))","v":0},{"$f":"IF(OR(AJ256<=AN9,AJ256>100000),0,IF(AJ256<=AO7,AO8,AO8+(AO10-AO8)*(1-((AO5+EXP(AO6*(AO4-AO7)))/(AO5+EXP(AO6*(AO4-AJ256))))^AO5)/(1-((AO5+EXP(AO6*(AO4-AO7)))/(AO5+EXP(AO6*(AO4-AO9))))^AO5)))","v":0},0,0]
[246,{"$f":"'daily uptake'!F340","v":"2011-07-04"},{"$f":"5/9*'daily uptake'!Q340","v":27.222222222222225},{"$f":"5/9*'daily uptake'!N340","v":16.388888888888889},{"$f":"IF(AND($A257>='daily uptake'!$C$9,$A257<='daily uptake'!$C$10),$C257+E256,0)","v":0},{"$f":"IF(AND($A257>='daily uptake'!$C$18,$A257<='daily uptake'!$C$20),$D257+F256,0)","v":474.16666666666669},{"$f":"IF(AND($A257>='daily uptake'!$C$24,$A257<='daily uptake'!$C$25),$C257+G256,0)","v":0},{"$f":"IF(OR(F257<=I7,F257>I9),0,I8+(I10-I8)*(1-((I5+EXP(I6*(I4-I7)))/(I5+EXP(I6*(I4-F257))))^I5)/(1-((I5+EXP(I6*(I4-I7)))/(I5+EXP(I6*(I4-I9))))^I5))","v":42.353588621555325},{"$f":"IF(OR(F257<=J7,F257>J9),0,J8+(J10-J8)*(1-((J5+EXP(J6*(J4-J7)))/(J5+EXP(J6*(J4-F257))))^J5)/(1-((J5+EXP(J6*(J4-J7)))/(J5+EXP(J6*(J4-J9))))^J5))","v":0},{"$f":"IF(OR(F257<=J9,F257>100000),0,IF(F257<=K7,K8,K8+(K10-K8)*(1-((K5+EXP(K6*(K4-K7)))/(K5+EXP(K6*(K4-F257))))^K5)/(1-((K5+EXP(K6*(K4-K7)))/(K5+EXP(K6*(K4-K9))))^K5)))","v":0},42.353588621555325,36.18461026937743,0,0,"2011-07-04",{"$f":"MAX(L$12:L257)+MAX(M$12:M257)+MAX(N$12:N257)","v":176.18461026937743},"2011-07-04",2.1926883545652629,null,null,null,null,null,null,null,null,null,null,null,null,null,null,null,null,null,0,null,{"$f":"IF(OR(AJ257<=AM7,AJ257>AM9),0,AM8+(AM10-AM8)*(1-((AM5+EXP(AM6*(AM4-AM7)))/(AM5+EXP(AM6*(AM4-AJ257))))^AM5)/(1-((AM5+EXP(AM6*(AM4-AM7)))/(AM5+EXP(AM6*(AM4-AM9))))^AM5))","v":0},{"$f":"IF(OR(AJ257<=AN7,AJ257>AN9),0,AN8+(AN10-AN8)*(1-((AN5+EXP(AN6*(AN4-AN7)))/(AN5+EXP(AN6*(AN4-AJ257))))^AN5)/(1-((AN5+EXP(AN6*(AN4-AN7)))/(AN5+EXP(AN6*(AN4-AN9))))^AN5))","v":0},{"$f":"IF(OR(AJ257<=AN9,AJ257>100000),0,IF(AJ257<=AO7,AO8,AO8+(AO10-AO8)*(1-((AO5+EXP(AO6*(AO4-AO7)))/(AO5+EXP(AO6*(AO4-AJ257))))^AO5)/(1-((AO5+EXP(AO6*(AO4-AO7)))/(AO5+EXP(AO6*(AO4-AO9))))^AO5)))","v":0},0,0]
[247,{"$f":"'daily uptake'!F341","v":"2011-07-05"},{"$f":"5/9*'daily uptake'!Q341","v":28.055555555555557},{"$f":"5/9*'daily uptake'!N341","v":16.666666666666668},{"$f":"IF(AND($A258>='daily uptake'!$C$9,$A258<='daily uptake'!$C$10),$C258+E257,0)","v":0},{"$f":"IF(AND($A258>='daily uptake'!$C$18,$A258<='daily uptake'!$C$20),$D258+F257,0)","v":490.83333333333337},{"$f":"IF(AND($A258>='daily uptake'!$C$24,$A258<='daily uptake'!$C$25),$C258+G257,0)","v":0},{"$f":"IF(OR(F258<=I7,F258>I9),0,I8+(I10-I8)*(1-((I5+EXP(I6*(I4-I7)))/(I5+EXP(I6*(I4-F258))))^I5)/(1-((I5+EXP(I6*(I4-I7)))/(I5+EXP(I6*(I4-I9))))^I5))","v":44.939723017109188},{"$f":"IF(OR(F258<=J7,F258>J9),0,J8+(J10-J8)*(1-((J5+EXP(J6*(J4-J7)))/(J5+EXP(J6*(J4-F258))))^J5)/(1-((J5+EXP(J6*(J4-J7)))/(J5+EXP(J6*(J4-J9))))^J5))","v":0},{"$f":"IF(OR(F258<=J9,F258>100000),0,IF(F258<=K7,K8,K8+(K10-K8)*(1-((K5+EXP(K6*(K4-K7)))/(K5+EXP(K6*(K4-F258))))^K5)/(1-((K5+EXP(K6*(K4-K7)))/(K5+EXP(K6*(K4-K9))))^K5)))","v":0},44.939723017109188,38.394063311090243,0,0,"2011-07-05",{"$f":"MAX(L$12:L258)+MAX(M$12:M258)+MAX(N$12:N258)","v":178.39406331109024},"2011-07-05",2.2094530417128055,null,null,null,null,null,null,null,null,null,null,null,null,null,null,null,null,null,0,null,{"$f":"IF(OR(AJ258<=AM7,AJ258>AM9),0,AM8+(AM10-AM8)*(1-((AM5+EXP(AM6*(AM4-AM7)))/(AM5+EXP(AM6*(AM4-AJ258))))^AM5)/(1-((AM5+EXP(AM6*(AM4-AM7)))/(AM5+EXP(AM6*(AM4-AM9))))^AM5))","v":0},{"$f":"IF(OR(AJ258<=AN7,AJ258>AN9),0,AN8+(AN10-AN8)*(1-((AN5+EXP(AN6*(AN4-AN7)))/(AN5+EXP(AN6*(AN4-AJ258))))^AN5)/(1-((AN5+EXP(AN6*(AN4-AN7)))/(AN5+EXP(AN6*(AN4-AN9))))^AN5))","v":0},{"$f":"IF(OR(AJ258<=AN9,AJ258>100000),0,IF(AJ258<=AO7,AO8,AO8+(AO10-AO8)*(1-((AO5+EXP(AO6*(AO4-AO7)))/(AO5+EXP(AO6*(AO4-AJ258))))^AO5)/(1-((AO5+EXP(AO6*(AO4-AO7)))/(AO5+EXP(AO6*(AO4-AO9))))^AO5)))","v":0},0,0]
[248,{"$f":"'daily uptake'!F342","v":"2011-07-06"},{"$f":"5/9*'daily uptake'!Q342","v":28.055555555555557},{"$f":"5/9*'daily uptake'!N342","v":17.777777777777779},{"$f":"IF(AND($A259>='daily uptake'!$C$9,$A259<='daily uptake'!$C$10),$C259+E258,0)","v":0},{"$f":"IF(AND($A259>='daily uptake'!$C$18,$A259<='daily uptake'!$C$20),$D259+F258,0)","v":508.61111111111114},{"$f":"IF(AND($A259>='daily uptake'!$C$24,$A259<='daily uptake'!$C$25),$C259+G258,0)","v":0},{"$f":"IF(OR(F259<=I7,F259>I9),0,I8+(I10-I8)*(1-((I5+EXP(I6*(I4-I7)))/(I5+EXP(I6*(I4-F259))))^I5)/(1-((I5+EXP(I6*(I4-I7)))/(I5+EXP(I6*(I4-I9))))^I5))","v":0},{"$f":"IF(OR(F259<=J7,F259>J9),0,J8+(J10-J8)*(1-((J5+EXP(J6*(J4-J7)))/(J5+EXP(J6*(J4-F259))))^J5)/(1-((J5+EXP(J6*(J4-J7)))/(J5+EXP(J6*(J4-J9))))^J5))","v":53.286821151036335},{"$f":"IF(OR(F259<=J9,F259>100000),0,IF(F259<=K7,K8,K8+(K10-K8)*(1-((K5+EXP(K6*(K4-K7)))/(K5+EXP(K6*(K4-F259))))^K5)/(1-((K5+EXP(K6*(K4-K7)))/(K5+EXP(K6*(K4-K9))))^K5)))","v":0},53.286821151036335,45.525371487953528,0,0,"2011-07-06",{"$f":"MAX(L$12:L259)+MAX(M$12:M259)+MAX(N$12:N259)","v":185.52537148795352},"2011-07-06",7.1313081768632856,null,null,null,null,null,null,null,null,null,null,null,null,null,null,null,null,null,0,null,{"$f":"IF(OR(AJ259<=AM7,AJ259>AM9),0,AM8+(AM10-AM8)*(1-((AM5+EXP(AM6*(AM4-AM7)))/(AM5+EXP(AM6*(AM4-AJ259))))^AM5)/(1-((AM5+EXP(AM6*(AM4-AM7)))/(AM5+EXP(AM6*(AM4-AM9))))^AM5))","v":0},{"$f":"IF(OR(AJ259<=AN7,AJ259>AN9),0,AN8+(AN10-AN8)*(1-((AN5+EXP(AN6*(AN4-AN7)))/(AN5+EXP(AN6*(AN4-AJ259))))^AN5)/(1-((AN5+EXP(AN6*(AN4-AN7)))/(AN5+EXP(AN6*(AN4-AN9))))^AN5))","v":0},{"$f":"IF(OR(AJ259<=AN9,AJ259>100000),0,IF(AJ259<=AO7,AO8,AO8+(AO10-AO8)*(1-((AO5+EXP(AO6*(AO4-AO7)))/(AO5+EXP(AO6*(AO4-AJ259))))^AO5)/(1-((AO5+EXP(AO6*(AO4-AO7)))/(AO5+EXP(AO6*(AO4-AO9))))^AO5)))","v":0},0,0]
[249,{"$f":"'daily uptake'!F343","v":"2011-07-07"},{"$f":"5/9*'daily uptake'!Q343","v":26.388888888888889},{"$f":"5/9*'daily uptake'!N343","v":16.388888888888889},{"$f":"IF(AND($A260>='daily uptake'!$C$9,$A260<='daily uptake'!$C$10),$C260+E259,0)","v":0},{"$f":"IF(AND($A260>='daily uptake'!$C$18,$A260<='daily uptake'!$C$20),$D260+F259,0)","v":525},{"$f":"IF(AND($A260>='daily uptake'!$C$24,$A260<='daily uptake'!$C$25),$C260+G259,0)","v":0},{"$f":"IF(OR(F260<=I7,F260>I9),0,I8+(I10-I8)*(1-((I5+EXP(I6*(I4-I7)))/(I5+EXP(I6*(I4-F260))))^I5)/(1-((I5+EXP(I6*(I4-I7)))/(I5+EXP(I6*(I4-I9))))^I5))","v":0},{"$f":"IF(OR(F260<=J7,F260>J9),0,J8+(J10-J8)*(1-((J5+EXP(J6*(J4-J7)))/(J5+EXP(J6*(J4-F260))))^J5)/(1-((J5+EXP(J6*(J4-J7)))/(J5+EXP(J6*(J4-J9))))^J5))","v":62.746011568209028},{"$f":"IF(OR(F260<=J9,F260>100000),0,IF(F260<=K7,K8,K8+(K10-K8)*(1-((K5+EXP(K6*(K4-K7)))/(K5+EXP(K6*(K4-F260))))^K5)/(1-((K5+EXP(K6*(K4-K7)))/(K5+EXP(K6*(K4-K9))))^K5)))","v":0},62.746011568209028,53.606791028753101,0,0,"2011-07-07",{"$f":"MAX(L$12:L260)+MAX(M$12:M260)+MAX(N$12:N260)","v":193.60679102875309},"2011-07-07",8.0814195407995726,null,null,null,null,null,null,null,null,null,null,null,null,null,null,null,null,null,0,null,{"$f":"IF(OR(AJ260<=AM7,AJ260>AM9),0,AM8+(AM10-AM8)*(1-((AM5+EXP(AM6*(AM4-AM7)))/(AM5+EXP(AM6*(AM4-AJ260))))^AM5)/(1-((AM5+EXP(AM6*(AM4-AM7)))/(AM5+EXP(AM6*(AM4-AM9))))^AM5))","v":0},{"$f":"IF(OR(AJ260<=AN7,AJ260>AN9),0,AN8+(AN10-AN8)*(1-((AN5+EXP(AN6*(AN4-AN7)))/(AN5+EXP(AN6*(AN4-AJ260))))^AN5)/(1-((AN5+EXP(AN6*(AN4-AN7)))/(AN5+EXP(AN6*(AN4-AN9))))^AN5))","v":0},{"$f":"IF(OR(AJ260<=AN9,AJ260>100000),0,IF(AJ260<=AO7,AO8,AO8+(AO10-AO8)*(1-((AO5+EXP(AO6*(AO4-AO7)))/(AO5+EXP(AO6*(AO4-AJ260))))^AO5)/(1-((AO5+EXP(AO6*(AO4-AO7)))/(AO5+EXP(AO6*(AO4-AO9))))^AO5)))","v":0},0,0]
[250,{"$f":"'daily uptake'!F344","v":"2011-07-08"},{"$f":"5/9*'daily uptake'!Q344","v":25.833333333333336},{"$f":"5/9*'daily uptake'!N344","v":15.833333333333334},{"$f":"IF(AND($A261>='daily uptake'!$C$9,$A261<='daily uptake'!$C$10),$C261+E260,0)","v":0},{"$f":"IF(AND($A261>='daily uptake'!$C$18,$A261<='daily uptake'!$C$20),$D261+F260,0)","v":540.83333333333337},{"$f":"IF(AND($A261>='daily uptake'!$C$24,$A261<='daily uptake'!$C$25),$C261+G260,0)","v":0},{"$f":"IF(OR(F261<=I7,F261>I9),0,I8+(I10-I8)*(1-((I5+EXP(I6*(I4-I7)))/(I5+EXP(I6*(I4-F261))))^I5)/(1-((I5+EXP(I6*(I4-I7)))/(I5+EXP(I6*(I4-I9))))^I5))","v":0},{"$f":"IF(OR(F261<=J7,F261>J9),0,J8+(J10-J8)*(1-((J5+EXP(J6*(J4-J7)))/(J5+EXP(J6*(J4-F261))))^J5)/(1-((J5+EXP(J6*(J4-J7)))/(J5+EXP(J6*(J4-J9))))^J5))","v":73.576581174211228},{"$f":"IF(OR(F261<=J9,F261>100000),0,IF(F261<=K7,K8,K8+(K10-K8)*(1-((K5+EXP(K6*(K4-K7)))/(K5+EXP(K6*(K4-F261))))^K5)/(1-((K5+EXP(K6*(K4-K7)))/(K5+EXP(K6*(K4-K9))))^K5)))","v":0},73.576581174211228,62.859842610528673,0,0,"2011-07-08",{"$f":"MAX(L$12:L261)+MAX(M$12:M261)+MAX(N$12:N261)","v":202.85984261052869},"2011-07-08",9.2530515817755941,null,null,null,null,null,null,null,null,null,null,null,null,null,null,null,null,null,0,null,{"$f":"IF(OR(AJ261<=AM7,AJ261>AM9),0,AM8+(AM10-AM8)*(1-((AM5+EXP(AM6*(AM4-AM7)))/(AM5+EXP(AM6*(AM4-AJ261))))^AM5)/(1-((AM5+EXP(AM6*(AM4-AM7)))/(AM5+EXP(AM6*(AM4-AM9))))^AM5))","v":0},{"$f":"IF(OR(AJ261<=AN7,AJ261>AN9),0,AN8+(AN10-AN8)*(1-((AN5+EXP(AN6*(AN4-AN7)))/(AN5+EXP(AN6*(AN4-AJ261))))^AN5)/(1-((AN5+EXP(AN6*(AN4-AN7)))/(AN5+EXP(AN6*(AN4-AN9))))^AN5))","v":0},{"$f":"IF(OR(AJ261<=AN9,AJ261>100000),0,IF(AJ261<=AO7,AO8,AO8+(AO10-AO8)*(1-((AO5+EXP(AO6*(AO4-AO7)))/(AO5+EXP(AO6*(AO4-AJ261))))^AO5)/(1-((AO5+EXP(AO6*(AO4-AO7)))/(AO5+EXP(AO6*(AO4-AO9))))^AO5)))","v":0},0,0]
[251,{"$f":"'daily uptake'!F345","v":"2011-07-09"},{"$f":"5/9*'daily uptake'!Q345","v":23.888888888888889},{"$f":"5/9*'daily uptake'!N345","v":13.888888888888889},{"$f":"IF(AND($A262>='daily uptake'!$C$9,$A262<='daily uptake'!$C$10),$C262+E261,0)","v":0},{"$f":"IF(AND($A262>='daily uptake'!$C$18,$A262<='daily uptake'!$C$20),$D262+F261,0)","v":554.72222222222229},{"$f":"IF(AND($A262>='daily uptake'!$C$24,$A262<='daily uptake'!$C$25),$C262+G261,0)","v":0},{"$f":"IF(OR(F262<=I7,F262>I9),0,I8+(I10-I8)*(1-((I5+EXP(I6*(I4-I7)))/(I5+EXP(I6*(I4-F262))))^I5)/(1-((I5+EXP(I6*(I4-I7)))/(I5+EXP(I6*(I4-I9))))^I5))","v":0},{"$f":"IF(OR(F262<=J7,F262>J9),0,J8+(J10-J8)*(1-((J5+EXP(J6*(J4-J7)))/(J5+EXP(J6*(J4-F262))))^J5)/(1-((J5+EXP(J6*(J4-J7)))/(J5+EXP(J6*(J4-J9))))^J5))","v":84.480015004833689},{"$f":"IF(OR(F262<=J9,F262>100000),0,IF(F262<=K7,K8,K8+(K10-K8)*(1-((K5+EXP(K6*(K4-K7)))/(K5+EXP(K6*(K4-F262))))^K5)/(1-((K5+EXP(K6*(K4-K7)))/(K5+EXP(K6*(K4-K9))))^K5)))","v":0},84.480015004833689,72.175145436089593,0,0,"2011-07-09",{"$f":"MAX(L$12:L262)+MAX(M$12:M262)+MAX(N$12:N262)","v":212.17514543608959},"2011-07-09",9.3153028255609058,null,null,null,null,null,null,null,null,null,null,null,null,null,null,null,null,null,0,null,{"$f":"IF(OR(AJ262<=AM7,AJ262>AM9),0,AM8+(AM10-AM8)*(1-((AM5+EXP(AM6*(AM4-AM7)))/(AM5+EXP(AM6*(AM4-AJ262))))^AM5)/(1-((AM5+EXP(AM6*(AM4-AM7)))/(AM5+EXP(AM6*(AM4-AM9))))^AM5))","v":0},{"$f":"IF(OR(AJ262<=AN7,AJ262>AN9),0,AN8+(AN10-AN8)*(1-((AN5+EXP(AN6*(AN4-AN7)))/(AN5+EXP(AN6*(AN4-AJ262))))^AN5)/(1-((AN5+EXP(AN6*(AN4-AN7)))/(AN5+EXP(AN6*(AN4-AN9))))^AN5))","v":0},{"$f":"IF(OR(AJ262<=AN9,AJ262>100000),0,IF(AJ262<=AO7,AO8,AO8+(AO10-AO8)*(1-((AO5+EXP(AO6*(AO4-AO7)))/(AO5+EXP(AO6*(AO4-AJ262))))^AO5)/(1-((AO5+EXP(AO6*(AO4-AO7)))/(AO5+EXP(AO6*(AO4-AO9))))^AO5)))","v":0},0,0]
[252,{"$f":"'daily uptake'!F346","v":"2011-07-10"},{"$f":"5/9*'daily uptake'!Q346","v":21.111111111111111},{"$f":"5/9*'daily uptake'!N346","v":11.111111111111111},{"$f":"IF(AND($A263>='daily uptake'!$C$9,$A263<='daily uptake'!$C$10),$C263+E262,0)","v":0},{"$f":"IF(AND($A263>='daily uptake'!$C$18,$A263<='daily uptake'!$C$20),$D263+F262,0)","v":565.83333333333337},{"$f":"IF(AND($A263>='daily uptake'!$C$24,$A263<='daily uptake'!$C$25),$C263+G262,0)","v":0},{"$f":"IF(OR(F263<=I7,F263>I9),0,I8+(I10-I8)*(1-((I5+EXP(I6*(I4-I7)))/(I5+EXP(I6*(I4-F263))))^I5)/(1-((I5+EXP(I6*(I4-I7)))/(I5+EXP(I6*(I4-I9))))^I5))","v":0},{"$f":"IF(OR(F263<=J7,F263>J9),0,J8+(J10-J8)*(1-((J5+EXP(J6*(J4-J7)))/(J5+EXP(J6*(J4-F263))))^J5)/(1-((J5+EXP(J6*(J4-J7)))/(J5+EXP(J6*(J4-J9))))^J5))","v":94.113776508529526},{"$f":"IF(OR(F263<=J9,F263>100000),0,IF(F263<=K7,K8,K8+(K10-K8)*(1-((K5+EXP(K6*(K4-K7)))/(K5+EXP(K6*(K4-F263))))^K5)/(1-((K5+EXP(K6*(K4-K7)))/(K5+EXP(K6*(K4-K9))))^K5)))","v":0},94.113776508529526,80.405709050289516,0,0,"2011-07-10",{"$f":"MAX(L$12:L263)+MAX(M$12:M263)+MAX(N$12:N263)","v":220.40570905028952},"2011-07-10",8.230563614199923,null,null,null,null,null,null,null,null,null,null,null,null,null,null,null,null,null,0,null,{"$f":"IF(OR(AJ263<=AM7,AJ263>AM9),0,AM8+(AM10-AM8)*(1-((AM5+EXP(AM6*(AM4-AM7)))/(AM5+EXP(AM6*(AM4-AJ263))))^AM5)/(1-((AM5+EXP(AM6*(AM4-AM7)))/(AM5+EXP(AM6*(AM4-AM9))))^AM5))","v":0},{"$f":"IF(OR(AJ263<=AN7,AJ263>AN9),0,AN8+(AN10-AN8)*(1-((AN5+EXP(AN6*(AN4-AN7)))/(AN5+EXP(AN6*(AN4-AJ263))))^AN5)/(1-((AN5+EXP(AN6*(AN4-AN7)))/(AN5+EXP(AN6*(AN4-AN9))))^AN5))","v":0},{"$f":"IF(OR(AJ263<=AN9,AJ263>100000),0,IF(AJ263<=AO7,AO8,AO8+(AO10-AO8)*(1-((AO5+EXP(AO6*(AO4-AO7)))/(AO5+EXP(AO6*(AO4-AJ263))))^AO5)/(1-((AO5+EXP(AO6*(AO4-AO7)))/(AO5+EXP(AO6*(AO4-AO9))))^AO5)))","v":0},0,0]
[253,{"$f":"'daily uptake'!F347","v":"2011-07-11"},{"$f":"5/9*'daily uptake'!Q347","v":20.555555555555557},{"$f":"5/9*'daily uptake'!N347","v":10.555555555555555},{"$f":"IF(AND($A264>='daily uptake'!$C$9,$A264<='daily uptake'!$C$10),$C264+E263,0)","v":0},{"$f":"IF(AND($A264>='daily uptake'!$C$18,$A264<='daily uptake'!$C$20),$D264+F263,0)","v":576.38888888888891},{"$f":"IF(AND($A264>='daily uptake'!$C$24,$A264<='daily uptake'!$C$25),$C264+G263,0)","v":0},{"$f":"IF(OR(F264<=I7,F264>I9),0,I8+(I10-I8)*(1-((I5+EXP(I6*(I4-I7)))/(I5+EXP(I6*(I4-F264))))^I5)/(1-((I5+EXP(I6*(I4-I7)))/(I5+EXP(I6*(I4-I9))))^I5))","v":0},{"$f":"IF(OR(F264<=J7,F264>J9),0,J8+(J10-J8)*(1-((J5+EXP(J6*(J4-J7)))/(J5+EXP(J6*(J4-F264))))^J5)/(1-((J5+EXP(J6*(J4-J7)))/(J5+EXP(J6*(J4-J9))))^J5))","v":103.94845187718477},{"$f":"IF(OR(F264<=J9,F264>100000),0,IF(F264<=K7,K8,K8+(K10-K8)*(1-((K5+EXP(K6*(K4-K7)))/(K5+EXP(K6*(K4-F264))))^K5)/(1-((K5+EXP(K6*(K4-K7)))/(K5+EXP(K6*(K4-K9))))^K5)))","v":0},103.94845187718477,88.807922579830276,0,0,"2011-07-11",{"$f":"MAX(L$12:L264)+MAX(M$12:M264)+MAX(N$12:N264)","v":228.80792257983029},"2011-07-11",8.4022135295407736,null,null,null,null,null,null,null,null,null,null,null,null,null,null,null,null,null,0,null,{"$f":"IF(OR(AJ264<=AM7,AJ264>AM9),0,AM8+(AM10-AM8)*(1-((AM5+EXP(AM6*(AM4-AM7)))/(AM5+EXP(AM6*(AM4-AJ264))))^AM5)/(1-((AM5+EXP(AM6*(AM4-AM7)))/(AM5+EXP(AM6*(AM4-AM9))))^AM5))","v":0},{"$f":"IF(OR(AJ264<=AN7,AJ264>AN9),0,AN8+(AN10-AN8)*(1-((AN5+EXP(AN6*(AN4-AN7)))/(AN5+EXP(AN6*(AN4-AJ264))))^AN5)/(1-((AN5+EXP(AN6*(AN4-AN7)))/(AN5+EXP(AN6*(AN4-AN9))))^AN5))","v":0},{"$f":"IF(OR(AJ264<=AN9,AJ264>100000),0,IF(AJ264<=AO7,AO8,AO8+(AO10-AO8)*(1-((AO5+EXP(AO6*(AO4-AO7)))/(AO5+EXP(AO6*(AO4-AJ264))))^AO5)/(1-((AO5+EXP(AO6*(AO4-AO7)))/(AO5+EXP(AO6*(AO4-AO9))))^AO5)))","v":0},0,0]
[254,{"$f":"'daily uptake'!F348","v":"2011-07-12"},{"$f":"5/9*'daily uptake'!Q348","v":20},{"$f":"5/9*'daily uptake'!N348","v":10},{"$f":"IF(AND($A265>='daily uptake'!$C$9,$A265<='daily uptake'!$C$10),$C265+E264,0)","v":0},{"$f":"IF(AND($A265>='daily uptake'!$C$18,$A265<='daily uptake'!$C$20),$D265+F264,0)","v":586.38888888888891},{"$f":"IF(AND($A265>='daily uptake'!$C$24,$A265<='daily uptake'!$C$25),$C265+G264,0)","v":0},{"$f":"IF(OR(F265<=I7,F265>I9),0,I8+(I10-I8)*(1-((I5+EXP(I6*(I4-I7)))/(I5+EXP(I6*(I4-F265))))^I5)/(1-((I5+EXP(I6*(I4-I7)))/(I5+EXP(I6*(I4-I9))))^I5))","v":0},{"$f":"IF(OR(F265<=J7,F265>J9),0,J8+(J10-J8)*(1-((J5+EXP(J6*(J4-J7)))/(J5+EXP(J6*(J4-F265))))^J5)/(1-((J5+EXP(J6*(J4-J7)))/(J5+EXP(J6*(J4-J9))))^J5))","v":113.78960614818274},{"$f":"IF(OR(F265<=J9,F265>100000),0,IF(F265<=K7,K8,K8+(K10-K8)*(1-((K5+EXP(K6*(K4-K7)))/(K5+EXP(K6*(K4-F265))))^K5)/(1-((K5+EXP(K6*(K4-K7)))/(K5+EXP(K6*(K4-K9))))^K5)))","v":0},113.78960614818274,97.215671332332647,0,0,"2011-07-12",{"$f":"MAX(L$12:L265)+MAX(M$12:M265)+MAX(N$12:N265)","v":237.21567133233265},"2011-07-12",8.4077487525023571,null,null,null,null,null,null,null,null,null,null,null,null,null,null,null,null,null,0,null,{"$f":"IF(OR(AJ265<=AM7,AJ265>AM9),0,AM8+(AM10-AM8)*(1-((AM5+EXP(AM6*(AM4-AM7)))/(AM5+EXP(AM6*(AM4-AJ265))))^AM5)/(1-((AM5+EXP(AM6*(AM4-AM7)))/(AM5+EXP(AM6*(AM4-AM9))))^AM5))","v":0},{"$f":"IF(OR(AJ265<=AN7,AJ265>AN9),0,AN8+(AN10-AN8)*(1-((AN5+EXP(AN6*(AN4-AN7)))/(AN5+EXP(AN6*(AN4-AJ265))))^AN5)/(1-((AN5+EXP(AN6*(AN4-AN7)))/(AN5+EXP(AN6*(AN4-AN9))))^AN5))","v":0},{"$f":"IF(OR(AJ265<=AN9,AJ265>100000),0,IF(AJ265<=AO7,AO8,AO8+(AO10-AO8)*(1-((AO5+EXP(AO6*(AO4-AO7)))/(AO5+EXP(AO6*(AO4-AJ265))))^AO5)/(1-((AO5+EXP(AO6*(AO4-AO7)))/(AO5+EXP(AO6*(AO4-AO9))))^AO5)))","v":0},0,0]
[255,{"$f":"'daily uptake'!F349","v":"2011-07-13"},{"$f":"5/9*'daily uptake'!Q349","v":19.166666666666668},{"$f":"5/9*'daily uptake'!N349","v":9.1666666666666679},{"$f":"IF(AND($A266>='daily uptake'!$C$9,$A266<='daily uptake'!$C$10),$C266+E265,0)","v":0},{"$f":"IF(AND($A266>='daily uptake'!$C$18,$A266<='daily uptake'!$C$20),$D266+F265,0)","v":595.55555555555554},{"$f":"IF(AND($A266>='daily uptake'!$C$24,$A266<='daily uptake'!$C$25),$C266+G265,0)","v":0},{"$f":"IF(OR(F266<=I7,F266>I9),0,I8+(I10-I8)*(1-((I5+EXP(I6*(I4-I7)))/(I5+EXP(I6*(I4-F266))))^I5)/(1-((I5+EXP(I6*(I4-I7)))/(I5+EXP(I6*(I4-I9))))^I5))","v":0},{"$f":"IF(OR(F266<=J7,F266>J9),0,J8+(J10-J8)*(1-((J5+EXP(J6*(J4-J7)))/(J5+EXP(J6*(J4-F266))))^J5)/(1-((J5+EXP(J6*(J4-J7)))/(J5+EXP(J6*(J4-J9))))^J5))","v":123.16063936666134},{"$f":"IF(OR(F266<=J9,F266>100000),0,IF(F266<=K7,K8,K8+(K10-K8)*(1-((K5+EXP(K6*(K4-K7)))/(K5+EXP(K6*(K4-F266))))^K5)/(1-((K5+EXP(K6*(K4-K7)))/(K5+EXP(K6*(K4-K9))))^K5)))","v":0},123.16063936666134,105.22177414128008,0,0,"2011-07-13",{"$f":"MAX(L$12:L266)+MAX(M$12:M266)+MAX(N$12:N266)","v":245.22177414128009},"2011-07-13",8.0061028089474462,null,null,null,null,null,null,null,null,null,null,null,null,null,null,null,null,null,0,null,{"$f":"IF(OR(AJ266<=AM7,AJ266>AM9),0,AM8+(AM10-AM8)*(1-((AM5+EXP(AM6*(AM4-AM7)))/(AM5+EXP(AM6*(AM4-AJ266))))^AM5)/(1-((AM5+EXP(AM6*(AM4-AM7)))/(AM5+EXP(AM6*(AM4-AM9))))^AM5))","v":0},{"$f":"IF(OR(AJ266<=AN7,AJ266>AN9),0,AN8+(AN10-AN8)*(1-((AN5+EXP(AN6*(AN4-AN7)))/(AN5+EXP(AN6*(AN4-AJ266))))^AN5)/(1-((AN5+EXP(AN6*(AN4-AN7)))/(AN5+EXP(AN6*(AN4-AN9))))^AN5))","v":0},{"$f":"IF(OR(AJ266<=AN9,AJ266>100000),0,IF(AJ266<=AO7,AO8,AO8+(AO10-AO8)*(1-((AO5+EXP(AO6*(AO4-AO7)))/(AO5+EXP(AO6*(AO4-AJ266))))^AO5)/(1-((AO5+EXP(AO6*(AO4-AO7)))/(AO5+EXP(AO6*(AO4-AO9))))^AO5)))","v":0},0,0]
[256,{"$f":"'daily uptake'!F350","v":"2011-07-14"},{"$f":"5/9*'daily uptake'!Q350","v":18.333333333333336},{"$f":"5/9*'daily uptake'!N350","v":8.3333333333333339},{"$f":"IF(AND($A267>='daily uptake'!$C$9,$A267<='daily uptake'!$C$10),$C267+E266,0)","v":0},{"$f":"IF(AND($A267>='daily uptake'!$C$18,$A267<='daily uptake'!$C$20),$D267+F266,0)","v":603.88888888888891},{"$f":"IF(AND($A267>='daily uptake'!$C$24,$A267<='daily uptake'!$C$25),$C267+G266,0)","v":0},{"$f":"IF(OR(F267<=I7,F267>I9),0,I8+(I10-I8)*(1-((I5+EXP(I6*(I4-I7)))/(I5+EXP(I6*(I4-F267))))^I5)/(1-((I5+EXP(I6*(I4-I7)))/(I5+EXP(I6*(I4-I9))))^I5))","v":0},{"$f":"IF(OR(F267<=J7,F267>J9),0,J8+(J10-J8)*(1-((J5+EXP(J6*(J4-J7)))/(J5+EXP(J6*(J4-F267))))^J5)/(1-((J5+EXP(J6*(J4-J7)))/(J5+EXP(J6*(J4-J9))))^J5))","v":131.87734050901418},{"$f":"IF(OR(F267<=J9,F267>100000),0,IF(F267<=K7,K8,K8+(K10-K8)*(1-((K5+EXP(K6*(K4-K7)))/(K5+EXP(K6*(K4-F267))))^K5)/(1-((K5+EXP(K6*(K4-K7)))/(K5+EXP(K6*(K4-K9))))^K5)))","v":0},131.87734050901418,112.66885109357757,0,0,{"$f":"B267","v":"2011-07-14"},{"$f":"MAX(L$12:L267)+MAX(M$12:M267)+MAX(N$12:N267)","v":252.66885109357759},{"$f":"B267","v":"2011-07-14"},7.4470769522974933,null,null,null,null,null,null,null,null,null,null,null,null,null,null,null,null,null,0,null,{"$f":"IF(OR(AJ267<=AM7,AJ267>AM9),0,AM8+(AM10-AM8)*(1-((AM5+EXP(AM6*(AM4-AM7)))/(AM5+EXP(AM6*(AM4-AJ267))))^AM5)/(1-((AM5+EXP(AM6*(AM4-AM7)))/(AM5+EXP(AM6*(AM4-AM9))))^AM5))","v":0},{"$f":"IF(OR(AJ267<=AN7,AJ267>AN9),0,AN8+(AN10-AN8)*(1-((AN5+EXP(AN6*(AN4-AN7)))/(AN5+EXP(AN6*(AN4-AJ267))))^AN5)/(1-((AN5+EXP(AN6*(AN4-AN7)))/(AN5+EXP(AN6*(AN4-AN9))))^AN5))","v":0},{"$f":"IF(OR(AJ267<=AN9,AJ267>100000),0,IF(AJ267<=AO7,AO8,AO8+(AO10-AO8)*(1-((AO5+EXP(AO6*(AO4-AO7)))/(AO5+EXP(AO6*(AO4-AJ267))))^AO5)/(1-((AO5+EXP(AO6*(AO4-AO7)))/(AO5+EXP(AO6*(AO4-AO9))))^AO5)))","v":0},0,0]
[257,{"$f":"'daily uptake'!F351","v":"2011-07-15"},{"$f":"5/9*'daily uptake'!Q351","v":18.888888888888889},{"$f":"5/9*'daily uptake'!N351","v":8.8888888888888893},{"$f":"IF(AND($A268>='daily uptake'!$C$9,$A268<='daily uptake'!$C$10),$C268+E267,0)","v":0},{"$f":"IF(AND($A268>='daily uptake'!$C$18,$A268<='daily uptake'!$C$20),$D268+F267,0)","v":612.77777777777783},{"$f":"IF(AND($A268>='daily uptake'!$C$24,$A268<='daily uptake'!$C$25),$C268+G267,0)","v":0},{"$f":"IF(OR(F268<=I7,F268>I9),0,I8+(I10-I8)*(1-((I5+EXP(I6*(I4-I7)))/(I5+EXP(I6*(I4-F268))))^I5)/(1-((I5+EXP(I6*(I4-I7)))/(I5+EXP(I6*(I4-I9))))^I5))","v":0},{"$f":"IF(OR(F268<=J7,F268>J9),0,J8+(J10-J8)*(1-((J5+EXP(J6*(J4-J7)))/(J5+EXP(J6*(J4-F268))))^J5)/(1-((J5+EXP(J6*(J4-J7)))/(J5+EXP(J6*(J4-J9))))^J5))","v":141.27461185475377},{"$f":"IF(OR(F268<=J9,F268>100000),0,IF(F268<=K7,K8,K8+(K10-K8)*(1-((K5+EXP(K6*(K4-K7)))/(K5+EXP(K6*(K4-F268))))^K5)/(1-((K5+EXP(K6*(K4-K7)))/(K5+EXP(K6*(K4-K9))))^K5)))","v":0},141.27461185475377,120.69737033617413,{"$f":"M$10*(1-(($M$5+EXP($M$6*$M$4))/($M$5+EXP($M$6*($M$4-$E268))))^$M$5)/(1-(($M$5+EXP($M$6*$M$4))/($M$5+EXP($M$6*($M$4-M$9))))^$M$5)","v":0},0,"2011-07-15",{"$f":"MAX(L$12:L268)+MAX(M$12:M268)+MAX(N$12:N268)","v":260.69737033617412},"2011-07-15",8.0285192425965306,null,null,null,null,null,null,null,null,null,null,null,null,null,null,null,null,null,0,null,{"$f":"IF(OR(AJ268<=AM7,AJ268>AM9),0,AM8+(AM10-AM8)*(1-((AM5+EXP(AM6*(AM4-AM7)))/(AM5+EXP(AM6*(AM4-AJ268))))^AM5)/(1-((AM5+EXP(AM6*(AM4-AM7)))/(AM5+EXP(AM6*(AM4-AM9))))^AM5))","v":0},{"$f":"IF(OR(AJ268<=AN7,AJ268>AN9),0,AN8+(AN10-AN8)*(1-((AN5+EXP(AN6*(AN4-AN7)))/(AN5+EXP(AN6*(AN4-AJ268))))^AN5)/(1-((AN5+EXP(AN6*(AN4-AN7)))/(AN5+EXP(AN6*(AN4-AN9))))^AN5))","v":0},{"$f":"IF(OR(AJ268<=AN9,AJ268>100000),0,IF(AJ268<=AO7,AO8,AO8+(AO10-AO8)*(1-((AO5+EXP(AO6*(AO4-AO7)))/(AO5+EXP(AO6*(AO4-AJ268))))^AO5)/(1-((AO5+EXP(AO6*(AO4-AO7)))/(AO5+EXP(AO6*(AO4-AO9))))^AO5)))","v":0},0,0]
[258,{"$f":"'daily uptake'!F352","v":"2011-07-16"},{"$f":"5/9*'daily uptake'!Q352","v":19.444444444444446},{"$f":"5/9*'daily uptake'!N352","v":9.4444444444444446},{"$f":"IF(AND($A269>='daily uptake'!$C$9,$A269<='daily uptake'!$C$10),$C269+E268,0)","v":0},{"$f":"IF(AND($A269>='daily uptake'!$C$18,$A269<='daily uptake'!$C$20),$D269+F268,0)","v":622.22222222222229},{"$f":"IF(AND($A269>='daily uptake'!$C$24,$A269<='daily uptake'!$C$25),$C269+G268,0)","v":0},{"$f":"IF(OR(F269<=I7,F269>I9),0,I8+(I10-I8)*(1-((I5+EXP(I6*(I4-I7)))/(I5+EXP(I6*(I4-F269))))^I5)/(1-((I5+EXP(I6*(I4-I7)))/(I5+EXP(I6*(I4-I9))))^I5))","v":0},{"$f":"IF(OR(F269<=J7,F269>J9),0,J8+(J10-J8)*(1-((J5+EXP(J6*(J4-J7)))/(J5+EXP(J6*(J4-F269))))^J5)/(1-((J5+EXP(J6*(J4-J7)))/(J5+EXP(J6*(J4-J9))))^J5))","v":151.23685766118919},{"$f":"IF(OR(F269<=J9,F269>100000),0,IF(F269<=K7,K8,K8+(K10-K8)*(1-((K5+EXP(K6*(K4-K7)))/(K5+EXP(K6*(K4-F269))))^K5)/(1-((K5+EXP(K6*(K4-K7)))/(K5+EXP(K6*(K4-K9))))^K5)))","v":0},151.23685766118919,{"$f":"IF(L$8=0,0,K269*L$7/L$8)","v":129.20857313258},0,{"$f":"N$10*(1-(($N$5+EXP($N$6*$N$4))/($N$5+EXP($N$6*($N$4-$G269))))^$N$5)/(1-(($N$5+EXP($N$6*$N$4))/($N$5+EXP($N$6*($N$4-N$9))))^$N$5)","v":0},"2011-07-16",{"$f":"MAX(L$12:L269)+MAX(M$12:M269)+MAX(N$12:N269)","v":269.20857313258},"2011-07-16",{"$f":"P269-P268","v":8.5112027964058825},null,null,null,null,null,null,null,null,null,null,null,null,null,null,null,null,null,0,null,{"$f":"IF(OR(AJ269<=AM7,AJ269>AM9),0,AM8+(AM10-AM8)*(1-((AM5+EXP(AM6*(AM4-AM7)))/(AM5+EXP(AM6*(AM4-AJ269))))^AM5)/(1-((AM5+EXP(AM6*(AM4-AM7)))/(AM5+EXP(AM6*(AM4-AM9))))^AM5))","v":0},{"$f":"IF(OR(AJ269<=AN7,AJ269>AN9),0,AN8+(AN10-AN8)*(1-((AN5+EXP(AN6*(AN4-AN7)))/(AN5+EXP(AN6*(AN4-AJ269))))^AN5)/(1-((AN5+EXP(AN6*(AN4-AN7)))/(AN5+EXP(AN6*(AN4-AN9))))^AN5))","v":0},{"$f":"IF(OR(AJ269<=AN9,AJ269>100000),0,IF(AJ269<=AO7,AO8,AO8+(AO10-AO8)*(1-((AO5+EXP(AO6*(AO4-AO7)))/(AO5+EXP(AO6*(AO4-AJ269))))^AO5)/(1-((AO5+EXP(AO6*(AO4-AO7)))/(AO5+EXP(AO6*(AO4-AO9))))^AO5)))","v":0},0,{"$f":"IF(AP$8=0,0,AO269*AP$7/AP$8)","v":0}]
[259,{"$f":"'daily uptake'!F353","v":"2011-07-17"},{"$f":"5/9*'daily uptake'!Q353","v":21.111111111111111},{"$f":"5/9*'daily uptake'!N353","v":11.111111111111111},{"$f":"IF(AND($A270>='daily uptake'!$C$9,$A270<='daily uptake'!$C$10),$C270+E269,0)","v":0},{"$f":"IF(AND($A270>='daily uptake'!$C$18,$A270<='daily uptake'!$C$20),$D270+F269,0)","v":633.33333333333337},{"$f":"IF(AND($A270>='daily uptake'!$C$24,$A270<='daily uptake'!$C$25),$C270+G269,0)","v":0},{"$f":"IF(OR(F270<=I7,F270>I9),0,I8+(I10-I8)*(1-((I5+EXP(I6*(I4-I7)))/(I5+EXP(I6*(I4-F270))))^I5)/(1-((I5+EXP(I6*(I4-I7)))/(I5+EXP(I6*(I4-I9))))^I5))","v":0},{"$f":"IF(OR(F270<=J7,F270>J9),0,J8+(J10-J8)*(1-((J5+EXP(J6*(J4-J7)))/(J5+EXP(J6*(J4-F270))))^J5)/(1-((J5+EXP(J6*(J4-J7)))/(J5+EXP(J6*(J4-J9))))^J5))","v":162.72347669930087},{"$f":"IF(OR(F270<=J9,F270>100000),0,IF(F270<=K7,K8,K8+(K10-K8)*(1-((K5+EXP(K6*(K4-K7)))/(K5+EXP(K6*(K4-F270))))^K5)/(1-((K5+EXP(K6*(K4-K7)))/(K5+EXP(K6*(K4-K9))))^K5)))","v":0},162.72347669930087,139.02211778686575,0,0,"2011-07-17",{"$f":"MAX(L$12:L270)+MAX(M$12:M270)+MAX(N$12:N270)","v":279.02211778686575},"2011-07-17",9.8135446542857494,null,null,null,null,null,null,null,null,null,null,null,null,null,null,null,null,null,0,null,{"$f":"IF(OR(AJ270<=AM7,AJ270>AM9),0,AM8+(AM10-AM8)*(1-((AM5+EXP(AM6*(AM4-AM7)))/(AM5+EXP(AM6*(AM4-AJ270))))^AM5)/(1-((AM5+EXP(AM6*(AM4-AM7)))/(AM5+EXP(AM6*(AM4-AM9))))^AM5))","v":0},{"$f":"IF(OR(AJ270<=AN7,AJ270>AN9),0,AN8+(AN10-AN8)*(1-((AN5+EXP(AN6*(AN4-AN7)))/(AN5+EXP(AN6*(AN4-AJ270))))^AN5)/(1-((AN5+EXP(AN6*(AN4-AN7)))/(AN5+EXP(AN6*(AN4-AN9))))^AN5))","v":0},{"$f":"IF(OR(AJ270<=AN9,AJ270>100000),0,IF(AJ270<=AO7,AO8,AO8+(AO10-AO8)*(1-((AO5+EXP(AO6*(AO4-AO7)))/(AO5+EXP(AO6*(AO4-AJ270))))^AO5)/(1-((AO5+EXP(AO6*(AO4-AO7)))/(AO5+EXP(AO6*(AO4-AO9))))^AO5)))","v":0},0,0]
[260,{"$f":"'daily uptake'!F354","v":"2011-07-18"},{"$f":"5/9*'daily uptake'!Q354","v":21.111111111111111},{"$f":"5/9*'daily uptake'!N354","v":11.111111111111111},{"$f":"IF(AND($A271>='daily uptake'!$C$9,$A271<='daily uptake'!$C$10),$C271+E270,0)","v":0},{"$f":"IF(AND($A271>='daily uptake'!$C$18,$A271<='daily uptake'!$C$20),$D271+F270,0)","v":644.44444444444446},{"$f":"IF(AND($A271>='daily uptake'!$C$24,$A271<='daily uptake'!$C$25),$C271+G270,0)","v":0},{"$f":"IF(OR(F271<=I7,F271>I9),0,I8+(I10-I8)*(1-((I5+EXP(I6*(I4-I7)))/(I5+EXP(I6*(I4-F271))))^I5)/(1-((I5+EXP(I6*(I4-I7)))/(I5+EXP(I6*(I4-I9))))^I5))","v":0},{"$f":"IF(OR(F271<=J7,F271>J9),0,J8+(J10-J8)*(1-((J5+EXP(J6*(J4-J7)))/(J5+EXP(J6*(J4-F271))))^J5)/(1-((J5+EXP(J6*(J4-J7)))/(J5+EXP(J6*(J4-J9))))^J5))","v":173.7252163739},{"$f":"IF(OR(F271<=J9,F271>100000),0,IF(F271<=K7,K8,K8+(K10-K8)*(1-((K5+EXP(K6*(K4-K7)))/(K5+EXP(K6*(K4-F271))))^K5)/(1-((K5+EXP(K6*(K4-K7)))/(K5+EXP(K6*(K4-K9))))^K5)))","v":0},173.7252163739,148.42140779668352,0,0,"2011-07-18",{"$f":"MAX(L$12:L271)+MAX(M$12:M271)+MAX(N$12:N271)","v":288.42140779668352},"2011-07-18",9.3992900098177756,null,null,null,null,null,null,null,null,null,null,null,null,null,null,null,null,null,0,null,{"$f":"IF(OR(AJ271<=AM7,AJ271>AM9),0,AM8+(AM10-AM8)*(1-((AM5+EXP(AM6*(AM4-AM7)))/(AM5+EXP(AM6*(AM4-AJ271))))^AM5)/(1-((AM5+EXP(AM6*(AM4-AM7)))/(AM5+EXP(AM6*(AM4-AM9))))^AM5))","v":0},{"$f":"IF(OR(AJ271<=AN7,AJ271>AN9),0,AN8+(AN10-AN8)*(1-((AN5+EXP(AN6*(AN4-AN7)))/(AN5+EXP(AN6*(AN4-AJ271))))^AN5)/(1-((AN5+EXP(AN6*(AN4-AN7)))/(AN5+EXP(AN6*(AN4-AN9))))^AN5))","v":0},{"$f":"IF(OR(AJ271<=AN9,AJ271>100000),0,IF(AJ271<=AO7,AO8,AO8+(AO10-AO8)*(1-((AO5+EXP(AO6*(AO4-AO7)))/(AO5+EXP(AO6*(AO4-AJ271))))^AO5)/(1-((AO5+EXP(AO6*(AO4-AO7)))/(AO5+EXP(AO6*(AO4-AO9))))^AO5)))","v":0},0,0]
[261,{"$f":"'daily uptake'!F355","v":"2011-07-19"},{"$f":"5/9*'daily uptake'!Q355","v":22.222222222222221},{"$f":"5/9*'daily uptake'!N355","v":12.222222222222223},{"$f":"IF(AND($A272>='daily uptake'!$C$9,$A272<='daily uptake'!$C$10),$C272+E271,0)","v":0},{"$f":"IF(AND($A272>='daily uptake'!$C$18,$A272<='daily uptake'!$C$20),$D272+F271,0)","v":656.66666666666663},{"$f":"IF(AND($A272>='daily uptake'!$C$24,$A272<='daily uptake'!$C$25),$C272+G271,0)","v":0},{"$f":"IF(OR(F272<=I7,F272>I9),0,I8+(I10-I8)*(1-((I5+EXP(I6*(I4-I7)))/(I5+EXP(I6*(I4-F272))))^I5)/(1-((I5+EXP(I6*(I4-I7)))/(I5+EXP(I6*(I4-I9))))^I5))","v":0},{"$f":"IF(OR(F272<=J7,F272>J9),0,J8+(J10-J8)*(1-((J5+EXP(J6*(J4-J7)))/(J5+EXP(J6*(J4-F272))))^J5)/(1-((J5+EXP(J6*(J4-J7)))/(J5+EXP(J6*(J4-J9))))^J5))","v":185.00464530218869},{"$f":"IF(OR(F272<=J9,F272>100000),0,IF(F272<=K7,K8,K8+(K10-K8)*(1-((K5+EXP(K6*(K4-K7)))/(K5+EXP(K6*(K4-F272))))^K5)/(1-((K5+EXP(K6*(K4-K7)))/(K5+EXP(K6*(K4-K9))))^K5)))","v":0},185.00464530218869,158.05794045223161,0,0,"2011-07-19",{"$f":"MAX(L$12:L272)+MAX(M$12:M272)+MAX(N$12:N272)","v":298.05794045223161},"2011-07-19",9.6365326555480806,null,null,null,null,null,null,null,null,null,null,null,null,null,null,null,null,null,0,null,{"$f":"IF(OR(AJ272<=AM7,AJ272>AM9),0,AM8+(AM10-AM8)*(1-((AM5+EXP(AM6*(AM4-AM7)))/(AM5+EXP(AM6*(AM4-AJ272))))^AM5)/(1-((AM5+EXP(AM6*(AM4-AM7)))/(AM5+EXP(AM6*(AM4-AM9))))^AM5))","v":0},{"$f":"IF(OR(AJ272<=AN7,AJ272>AN9),0,AN8+(AN10-AN8)*(1-((AN5+EXP(AN6*(AN4-AN7)))/(AN5+EXP(AN6*(AN4-AJ272))))^AN5)/(1-((AN5+EXP(AN6*(AN4-AN7)))/(AN5+EXP(AN6*(AN4-AN9))))^AN5))","v":0},{"$f":"IF(OR(AJ272<=AN9,AJ272>100000),0,IF(AJ272<=AO7,AO8,AO8+(AO10-AO8)*(1-((AO5+EXP(AO6*(AO4-AO7)))/(AO5+EXP(AO6*(AO4-AJ272))))^AO5)/(1-((AO5+EXP(AO6*(AO4-AO7)))/(AO5+EXP(AO6*(AO4-AO9))))^AO5)))","v":0},0,0]
[262,{"$f":"'daily uptake'!F356","v":"2011-07-20"},{"$f":"5/9*'daily uptake'!Q356","v":23.611111111111111},{"$f":"5/9*'daily uptake'!N356","v":13.611111111111112},{"$f":"IF(AND($A273>='daily uptake'!$C$9,$A273<='daily uptake'!$C$10),$C273+E272,0)","v":0},{"$f":"IF(AND($A273>='daily uptake'!$C$18,$A273<='daily uptake'!$C$20),$D273+F272,0)","v":670.27777777777771},{"$f":"IF(AND($A273>='daily uptake'!$C$24,$A273<='daily uptake'!$C$25),$C273+G272,0)","v":0},{"$f":"IF(OR(F273<=I7,F273>I9),0,I8+(I10-I8)*(1-((I5+EXP(I6*(I4-I7)))/(I5+EXP(I6*(I4-F273))))^I5)/(1-((I5+EXP(I6*(I4-I7)))/(I5+EXP(I6*(I4-I9))))^I5))","v":0},{"$f":"IF(OR(F273<=J7,F273>J9),0,J8+(J10-J8)*(1-((J5+EXP(J6*(J4-J7)))/(J5+EXP(J6*(J4-F273))))^J5)/(1-((J5+EXP(J6*(J4-J7)))/(J5+EXP(J6*(J4-J9))))^J5))","v":196.27797676719038},{"$f":"IF(OR(F273<=J9,F273>100000),0,IF(F273<=K7,K8,K8+(K10-K8)*(1-((K5+EXP(K6*(K4-K7)))/(K5+EXP(K6*(K4-F273))))^K5)/(1-((K5+EXP(K6*(K4-K7)))/(K5+EXP(K6*(K4-K9))))^K5)))","v":0},196.27797676719038,167.68926376567074,0,0,"2011-07-20",{"$f":"MAX(L$12:L273)+MAX(M$12:M273)+MAX(N$12:N273)","v":307.68926376567072},"2011-07-20",9.6313233134391112,null,null,null,null,null,null,null,null,null,null,null,null,null,null,null,null,null,0,null,{"$f":"IF(OR(AJ273<=AM7,AJ273>AM9),0,AM8+(AM10-AM8)*(1-((AM5+EXP(AM6*(AM4-AM7)))/(AM5+EXP(AM6*(AM4-AJ273))))^AM5)/(1-((AM5+EXP(AM6*(AM4-AM7)))/(AM5+EXP(AM6*(AM4-AM9))))^AM5))","v":0},{"$f":"IF(OR(AJ273<=AN7,AJ273>AN9),0,AN8+(AN10-AN8)*(1-((AN5+EXP(AN6*(AN4-AN7)))/(AN5+EXP(AN6*(AN4-AJ273))))^AN5)/(1-((AN5+EXP(AN6*(AN4-AN7)))/(AN5+EXP(AN6*(AN4-AN9))))^AN5))","v":0},{"$f":"IF(OR(AJ273<=AN9,AJ273>100000),0,IF(AJ273<=AO7,AO8,AO8+(AO10-AO8)*(1-((AO5+EXP(AO6*(AO4-AO7)))/(AO5+EXP(AO6*(AO4-AJ273))))^AO5)/(1-((AO5+EXP(AO6*(AO4-AO7)))/(AO5+EXP(AO6*(AO4-AO9))))^AO5)))","v":0},0,0]
[263,{"$f":"'daily uptake'!F357","v":"2011-07-21"},{"$f":"5/9*'daily uptake'!Q357","v":24.166666666666668},{"$f":"5/9*'daily uptake'!N357","v":14.166666666666668},{"$f":"IF(AND($A274>='daily uptake'!$C$9,$A274<='daily uptake'!$C$10),$C274+E273,0)","v":0},{"$f":"IF(AND($A274>='daily uptake'!$C$18,$A274<='daily uptake'!$C$20),$D274+F273,0)","v":684.44444444444434},{"$f":"IF(AND($A274>='daily uptake'!$C$24,$A274<='daily uptake'!$C$25),$C274+G273,0)","v":0},{"$f":"IF(OR(F274<=I7,F274>I9),0,I8+(I10-I8)*(1-((I5+EXP(I6*(I4-I7)))/(I5+EXP(I6*(I4-F274))))^I5)/(1-((I5+EXP(I6*(I4-I7)))/(I5+EXP(I6*(I4-I9))))^I5))","v":0},{"$f":"IF(OR(F274<=J7,F274>J9),0,J8+(J10-J8)*(1-((J5+EXP(J6*(J4-J7)))/(J5+EXP(J6*(J4-F274))))^J5)/(1-((J5+EXP(J6*(J4-J7)))/(J5+EXP(J6*(J4-J9))))^J5))","v":206.36144061370027},{"$f":"IF(OR(F274<=J9,F274>100000),0,IF(F274<=K7,K8,K8+(K10-K8)*(1-((K5+EXP(K6*(K4-K7)))/(K5+EXP(K6*(K4-F274))))^K5)/(1-((K5+EXP(K6*(K4-K7)))/(K5+EXP(K6*(K4-K9))))^K5)))","v":0},206.36144061370027,176.30402868468457,0,0,"2011-07-21",{"$f":"MAX(L$12:L274)+MAX(M$12:M274)+MAX(N$12:N274)","v":316.30402868468457},"2011-07-21",8.6147649190138509,null,null,null,null,null,null,null,null,null,null,null,null,null,null,null,null,null,0,null,{"$f":"IF(OR(AJ274<=AM7,AJ274>AM9),0,AM8+(AM10-AM8)*(1-((AM5+EXP(AM6*(AM4-AM7)))/(AM5+EXP(AM6*(AM4-AJ274))))^AM5)/(1-((AM5+EXP(AM6*(AM4-AM7)))/(AM5+EXP(AM6*(AM4-AM9))))^AM5))","v":0},{"$f":"IF(OR(AJ274<=AN7,AJ274>AN9),0,AN8+(AN10-AN8)*(1-((AN5+EXP(AN6*(AN4-AN7)))/(AN5+EXP(AN6*(AN4-AJ274))))^AN5)/(1-((AN5+EXP(AN6*(AN4-AN7)))/(AN5+EXP(AN6*(AN4-AN9))))^AN5))","v":0},{"$f":"IF(OR(AJ274<=AN9,AJ274>100000),0,IF(AJ274<=AO7,AO8,AO8+(AO10-AO8)*(1-((AO5+EXP(AO6*(AO4-AO7)))/(AO5+EXP(AO6*(AO4-AJ274))))^AO5)/(1-((AO5+EXP(AO6*(AO4-AO7)))/(AO5+EXP(AO6*(AO4-AO9))))^AO5)))","v":0},0,0]
[264,{"$f":"'daily uptake'!F358","v":"2011-07-22"},{"$f":"5/9*'daily uptake'!Q358","v":23.888888888888889},{"$f":"5/9*'daily uptake'!N358","v":13.888888888888889},{"$f":"IF(AND($A275>='daily uptake'!$C$9,$A275<='daily uptake'!$C$10),$C275+E274,0)","v":0},{"$f":"IF(AND($A275>='daily uptake'!$C$18,$A275<='daily uptake'!$C$20),$D275+F274,0)","v":698.33333333333326},{"$f":"IF(AND($A275>='daily uptake'!$C$24,$A275<='daily uptake'!$C$25),$C275+G274,0)","v":0},{"$f":"IF(OR(F275<=I7,F275>I9),0,I8+(I10-I8)*(1-((I5+EXP(I6*(I4-I7)))/(I5+EXP(I6*(I4-F275))))^I5)/(1-((I5+EXP(I6*(I4-I7)))/(I5+EXP(I6*(I4-I9))))^I5))","v":0},{"$f":"IF(OR(F275<=J7,F275>J9),0,J8+(J10-J8)*(1-((J5+EXP(J6*(J4-J7)))/(J5+EXP(J6*(J4-F275))))^J5)/(1-((J5+EXP(J6*(J4-J7)))/(J5+EXP(J6*(J4-J9))))^J5))","v":214.54142783995991},{"$f":"IF(OR(F275<=J9,F275>100000),0,IF(F275<=K7,K8,K8+(K10-K8)*(1-((K5+EXP(K6*(K4-K7)))/(K5+EXP(K6*(K4-F275))))^K5)/(1-((K5+EXP(K6*(K4-K7)))/(K5+EXP(K6*(K4-K9))))^K5)))","v":0},214.54142783995991,183.29256636056996,0,0,"2011-07-22",{"$f":"MAX(L$12:L275)+MAX(M$12:M275)+MAX(N$12:N275)","v":323.29256636056994},"2011-07-22",6.9885376758853681,null,null,null,null,null,null,null,null,null,null,null,null,null,null,null,null,null,0,null,{"$f":"IF(OR(AJ275<=AM7,AJ275>AM9),0,AM8+(AM10-AM8)*(1-((AM5+EXP(AM6*(AM4-AM7)))/(AM5+EXP(AM6*(AM4-AJ275))))^AM5)/(1-((AM5+EXP(AM6*(AM4-AM7)))/(AM5+EXP(AM6*(AM4-AM9))))^AM5))","v":0},{"$f":"IF(OR(AJ275<=AN7,AJ275>AN9),0,AN8+(AN10-AN8)*(1-((AN5+EXP(AN6*(AN4-AN7)))/(AN5+EXP(AN6*(AN4-AJ275))))^AN5)/(1-((AN5+EXP(AN6*(AN4-AN7)))/(AN5+EXP(AN6*(AN4-AN9))))^AN5))","v":0},{"$f":"IF(OR(AJ275<=AN9,AJ275>100000),0,IF(AJ275<=AO7,AO8,AO8+(AO10-AO8)*(1-((AO5+EXP(AO6*(AO4-AO7)))/(AO5+EXP(AO6*(AO4-AJ275))))^AO5)/(1-((AO5+EXP(AO6*(AO4-AO7)))/(AO5+EXP(AO6*(AO4-AO9))))^AO5)))","v":0},0,0]
[265,{"$f":"'daily uptake'!F359","v":"2011-07-23"},{"$f":"5/9*'daily uptake'!Q359","v":24.444444444444446},{"$f":"5/9*'daily uptake'!N359","v":14.444444444444445},{"$f":"IF(AND($A276>='daily uptake'!$C$9,$A276<='daily uptake'!$C$10),$C276+E275,0)","v":0},{"$f":"IF(AND($A276>='daily uptake'!$C$18,$A276<='daily uptake'!$C$20),$D276+F275,0)","v":712.77777777777771},{"$f":"IF(AND($A276>='daily uptake'!$C$24,$A276<='daily uptake'!$C$25),$C276+G275,0)","v":0},{"$f":"IF(OR(F276<=I7,F276>I9),0,I8+(I10-I8)*(1-((I5+EXP(I6*(I4-I7)))/(I5+EXP(I6*(I4-F276))))^I5)/(1-((I5+EXP(I6*(I4-I7)))/(I5+EXP(I6*(I4-I9))))^I5))","v":0},{"$f":"IF(OR(F276<=J7,F276>J9),0,J8+(J10-J8)*(1-((J5+EXP(J6*(J4-J7)))/(J5+EXP(J6*(J4-F276))))^J5)/(1-((J5+EXP(J6*(J4-J7)))/(J5+EXP(J6*(J4-J9))))^J5))","v":221.32371142253672},{"$f":"IF(OR(F276<=J9,F276>100000),0,IF(F276<=K7,K8,K8+(K10-K8)*(1-((K5+EXP(K6*(K4-K7)))/(K5+EXP(K6*(K4-F276))))^K5)/(1-((K5+EXP(K6*(K4-K7)))/(K5+EXP(K6*(K4-K9))))^K5)))","v":0},221.32371142253672,189.08698180821489,0,0,"2011-07-23",{"$f":"MAX(L$12:L276)+MAX(M$12:M276)+MAX(N$12:N276)","v":329.08698180821489},"2011-07-23",5.7944154476449512,null,null,null,null,null,null,null,null,null,null,null,null,null,null,null,null,null,0,null,{"$f":"IF(OR(AJ276<=AM7,AJ276>AM9),0,AM8+(AM10-AM8)*(1-((AM5+EXP(AM6*(AM4-AM7)))/(AM5+EXP(AM6*(AM4-AJ276))))^AM5)/(1-((AM5+EXP(AM6*(AM4-AM7)))/(AM5+EXP(AM6*(AM4-AM9))))^AM5))","v":0},{"$f":"IF(OR(AJ276<=AN7,AJ276>AN9),0,AN8+(AN10-AN8)*(1-((AN5+EXP(AN6*(AN4-AN7)))/(AN5+EXP(AN6*(AN4-AJ276))))^AN5)/(1-((AN5+EXP(AN6*(AN4-AN7)))/(AN5+EXP(AN6*(AN4-AN9))))^AN5))","v":0},{"$f":"IF(OR(AJ276<=AN9,AJ276>100000),0,IF(AJ276<=AO7,AO8,AO8+(AO10-AO8)*(1-((AO5+EXP(AO6*(AO4-AO7)))/(AO5+EXP(AO6*(AO4-AJ276))))^AO5)/(1-((AO5+EXP(AO6*(AO4-AO7)))/(AO5+EXP(AO6*(AO4-AO9))))^AO5)))","v":0},0,0]
[266,{"$f":"'daily uptake'!F360","v":"2011-07-24"},{"$f":"5/9*'daily uptake'!Q360","v":23.055555555555557},{"$f":"5/9*'daily uptake'!N360","v":13.055555555555555},{"$f":"IF(AND($A277>='daily uptake'!$C$9,$A277<='daily uptake'!$C$10),$C277+E276,0)","v":0},{"$f":"IF(AND($A277>='daily uptake'!$C$18,$A277<='daily uptake'!$C$20),$D277+F276,0)","v":725.83333333333326},{"$f":"IF(AND($A277>='daily uptake'!$C$24,$A277<='daily uptake'!$C$25),$C277+G276,0)","v":0},{"$f":"IF(OR(F277<=I7,F277>I9),0,I8+(I10-I8)*(1-((I5+EXP(I6*(I4-I7)))/(I5+EXP(I6*(I4-F277))))^I5)/(1-((I5+EXP(I6*(I4-I7)))/(I5+EXP(I6*(I4-I9))))^I5))","v":0},{"$f":"IF(OR(F277<=J7,F277>J9),0,J8+(J10-J8)*(1-((J5+EXP(J6*(J4-J7)))/(J5+EXP(J6*(J4-F277))))^J5)/(1-((J5+EXP(J6*(J4-J7)))/(J5+EXP(J6*(J4-J9))))^J5))","v":226.08821241647476},{"$f":"IF(OR(F277<=J9,F277>100000),0,IF(F277<=K7,K8,K8+(K10-K8)*(1-((K5+EXP(K6*(K4-K7)))/(K5+EXP(K6*(K4-F277))))^K5)/(1-((K5+EXP(K6*(K4-K7)))/(K5+EXP(K6*(K4-K9))))^K5)))","v":0},226.08821241647476,193.15751318949123,0,0,"2011-07-24",{"$f":"MAX(L$12:L277)+MAX(M$12:M277)+MAX(N$12:N277)","v":333.15751318949123},"2011-07-24",4.0705313812763393,null,null,null,null,null,null,null,null,null,null,null,null,null,null,null,null,null,0,null,{"$f":"IF(OR(AJ277<=AM7,AJ277>AM9),0,AM8+(AM10-AM8)*(1-((AM5+EXP(AM6*(AM4-AM7)))/(AM5+EXP(AM6*(AM4-AJ277))))^AM5)/(1-((AM5+EXP(AM6*(AM4-AM7)))/(AM5+EXP(AM6*(AM4-AM9))))^AM5))","v":0},{"$f":"IF(OR(AJ277<=AN7,AJ277>AN9),0,AN8+(AN10-AN8)*(1-((AN5+EXP(AN6*(AN4-AN7)))/(AN5+EXP(AN6*(AN4-AJ277))))^AN5)/(1-((AN5+EXP(AN6*(AN4-AN7)))/(AN5+EXP(AN6*(AN4-AN9))))^AN5))","v":0},{"$f":"IF(OR(AJ277<=AN9,AJ277>100000),0,IF(AJ277<=AO7,AO8,AO8+(AO10-AO8)*(1-((AO5+EXP(AO6*(AO4-AO7)))/(AO5+EXP(AO6*(AO4-AJ277))))^AO5)/(1-((AO5+EXP(AO6*(AO4-AO7)))/(AO5+EXP(AO6*(AO4-AO9))))^AO5)))","v":0},0,0]
[267,{"$f":"'daily uptake'!F361","v":"2011-07-25"},{"$f":"5/9*'daily uptake'!Q361","v":22.5},{"$f":"5/9*'daily uptake'!N361","v":12.5},{"$f":"IF(AND($A278>='daily uptake'!$C$9,$A278<='daily uptake'!$C$10),$C278+E277,0)","v":0},{"$f":"IF(AND($A278>='daily uptake'!$C$18,$A278<='daily uptake'!$C$20),$D278+F277,0)","v":738.33333333333326},{"$f":"IF(AND($A278>='daily uptake'!$C$24,$A278<='daily uptake'!$C$25),$C278+G277,0)","v":0},{"$f":"IF(OR(F278<=I7,F278>I9),0,I8+(I10-I8)*(1-((I5+EXP(I6*(I4-I7)))/(I5+EXP(I6*(I4-F278))))^I5)/(1-((I5+EXP(I6*(I4-I7)))/(I5+EXP(I6*(I4-I9))))^I5))","v":0},{"$f":"IF(OR(F278<=J7,F278>J9),0,J8+(J10-J8)*(1-((J5+EXP(J6*(J4-J7)))/(J5+EXP(J6*(J4-F278))))^J5)/(1-((J5+EXP(J6*(J4-J7)))/(J5+EXP(J6*(J4-J9))))^J5))","v":229.60612040590755},{"$f":"IF(OR(F278<=J9,F278>100000),0,IF(F278<=K7,K8,K8+(K10-K8)*(1-((K5+EXP(K6*(K4-K7)))/(K5+EXP(K6*(K4-F278))))^K5)/(1-((K5+EXP(K6*(K4-K7)))/(K5+EXP(K6*(K4-K9))))^K5)))","v":0},229.60612040590755,196.16302308142917,0,0,"2011-07-25",{"$f":"MAX(L$12:L278)+MAX(M$12:M278)+MAX(N$12:N278)","v":336.16302308142917},"2011-07-25",3.0055098919379475,null,null,null,null,null,null,null,null,null,null,null,null,null,null,null,null,null,0,null,{"$f":"IF(OR(AJ278<=AM7,AJ278>AM9),0,AM8+(AM10-AM8)*(1-((AM5+EXP(AM6*(AM4-AM7)))/(AM5+EXP(AM6*(AM4-AJ278))))^AM5)/(1-((AM5+EXP(AM6*(AM4-AM7)))/(AM5+EXP(AM6*(AM4-AM9))))^AM5))","v":0},{"$f":"IF(OR(AJ278<=AN7,AJ278>AN9),0,AN8+(AN10-AN8)*(1-((AN5+EXP(AN6*(AN4-AN7)))/(AN5+EXP(AN6*(AN4-AJ278))))^AN5)/(1-((AN5+EXP(AN6*(AN4-AN7)))/(AN5+EXP(AN6*(AN4-AN9))))^AN5))","v":0},{"$f":"IF(OR(AJ278<=AN9,AJ278>100000),0,IF(AJ278<=AO7,AO8,AO8+(AO10-AO8)*(1-((AO5+EXP(AO6*(AO4-AO7)))/(AO5+EXP(AO6*(AO4-AJ278))))^AO5)/(1-((AO5+EXP(AO6*(AO4-AO7)))/(AO5+EXP(AO6*(AO4-AO9))))^AO5)))","v":0},0,0]
[268,{"$f":"'daily uptake'!F362","v":"2011-07-26"},{"$f":"5/9*'daily uptake'!Q362","v":22.5},{"$f":"5/9*'daily uptake'!N362","v":12.5},{"$f":"IF(AND($A279>='daily uptake'!$C$9,$A279<='daily uptake'!$C$10),$C279+E278,0)","v":0},{"$f":"IF(AND($A279>='daily uptake'!$C$18,$A279<='daily uptake'!$C$20),$D279+F278,0)","v":750.83333333333326},{"$f":"IF(AND($A279>='daily uptake'!$C$24,$A279<='daily uptake'!$C$25),$C279+G278,0)","v":0},{"$f":"IF(OR(F279<=I7,F279>I9),0,I8+(I10-I8)*(1-((I5+EXP(I6*(I4-I7)))/(I5+EXP(I6*(I4-F279))))^I5)/(1-((I5+EXP(I6*(I4-I7)))/(I5+EXP(I6*(I4-I9))))^I5))","v":0},{"$f":"IF(OR(F279<=J7,F279>J9),0,J8+(J10-J8)*(1-((J5+EXP(J6*(J4-J7)))/(J5+EXP(J6*(J4-F279))))^J5)/(1-((J5+EXP(J6*(J4-J7)))/(J5+EXP(J6*(J4-J9))))^J5))","v":232.27648412389593},{"$f":"IF(OR(F279<=J9,F279>100000),0,IF(F279<=K7,K8,K8+(K10-K8)*(1-((K5+EXP(K6*(K4-K7)))/(K5+EXP(K6*(K4-F279))))^K5)/(1-((K5+EXP(K6*(K4-K7)))/(K5+EXP(K6*(K4-K9))))^K5)))","v":0},232.27648412389593,198.44443709043523,0,0,"2011-07-26",{"$f":"MAX(L$12:L279)+MAX(M$12:M279)+MAX(N$12:N279)","v":338.44443709043526},"2011-07-26",2.2814140090060846,null,null,null,null,null,null,null,null,null,null,null,null,null,null,null,null,null,0,null,{"$f":"IF(OR(AJ279<=AM7,AJ279>AM9),0,AM8+(AM10-AM8)*(1-((AM5+EXP(AM6*(AM4-AM7)))/(AM5+EXP(AM6*(AM4-AJ279))))^AM5)/(1-((AM5+EXP(AM6*(AM4-AM7)))/(AM5+EXP(AM6*(AM4-AM9))))^AM5))","v":0},{"$f":"IF(OR(AJ279<=AN7,AJ279>AN9),0,AN8+(AN10-AN8)*(1-((AN5+EXP(AN6*(AN4-AN7)))/(AN5+EXP(AN6*(AN4-AJ279))))^AN5)/(1-((AN5+EXP(AN6*(AN4-AN7)))/(AN5+EXP(AN6*(AN4-AN9))))^AN5))","v":0},{"$f":"IF(OR(AJ279<=AN9,AJ279>100000),0,IF(AJ279<=AO7,AO8,AO8+(AO10-AO8)*(1-((AO5+EXP(AO6*(AO4-AO7)))/(AO5+EXP(AO6*(AO4-AJ279))))^AO5)/(1-((AO5+EXP(AO6*(AO4-AO7)))/(AO5+EXP(AO6*(AO4-AO9))))^AO5)))","v":0},0,0]
[269,{"$f":"'daily uptake'!F363","v":"2011-07-27"},{"$f":"5/9*'daily uptake'!Q363","v":24.444444444444446},{"$f":"5/9*'daily uptake'!N363","v":14.444444444444445},{"$f":"IF(AND($A280>='daily uptake'!$C$9,$A280<='daily uptake'!$C$10),$C280+E279,0)","v":0},{"$f":"IF(AND($A280>='daily uptake'!$C$18,$A280<='daily uptake'!$C$20),$D280+F279,0)","v":765.27777777777771},{"$f":"IF(AND($A280>='daily uptake'!$C$24,$A280<='daily uptake'!$C$25),$C280+G279,0)","v":0},{"$f":"IF(OR(F280<=I7,F280>I9),0,I8+(I10-I8)*(1-((I5+EXP(I6*(I4-I7)))/(I5+EXP(I6*(I4-F280))))^I5)/(1-((I5+EXP(I6*(I4-I7)))/(I5+EXP(I6*(I4-I9))))^I5))","v":0},{"$f":"IF(OR(F280<=J7,F280>J9),0,J8+(J10-J8)*(1-((J5+EXP(J6*(J4-J7)))/(J5+EXP(J6*(J4-F280))))^J5)/(1-((J5+EXP(J6*(J4-J7)))/(J5+EXP(J6*(J4-J9))))^J5))","v":0},{"$f":"IF(OR(F280<=J9,F280>100000),0,IF(F280<=K7,K8,K8+(K10-K8)*(1-((K5+EXP(K6*(K4-K7)))/(K5+EXP(K6*(K4-F280))))^K5)/(1-((K5+EXP(K6*(K4-K7)))/(K5+EXP(K6*(K4-K9))))^K5)))","v":234.38544210000001},234.38544210000001,200.24621646553598,0,0,"2011-07-27",{"$f":"MAX(L$12:L280)+MAX(M$12:M280)+MAX(N$12:N280)","v":340.24621646553601},"2011-07-27",1.8017793751007503,null,null,null,null,null,null,null,null,null,null,null,null,null,null,null,null,null,0,null,{"$f":"IF(OR(AJ280<=AM7,AJ280>AM9),0,AM8+(AM10-AM8)*(1-((AM5+EXP(AM6*(AM4-AM7)))/(AM5+EXP(AM6*(AM4-AJ280))))^AM5)/(1-((AM5+EXP(AM6*(AM4-AM7)))/(AM5+EXP(AM6*(AM4-AM9))))^AM5))","v":0},{"$f":"IF(OR(AJ280<=AN7,AJ280>AN9),0,AN8+(AN10-AN8)*(1-((AN5+EXP(AN6*(AN4-AN7)))/(AN5+EXP(AN6*(AN4-AJ280))))^AN5)/(1-((AN5+EXP(AN6*(AN4-AN7)))/(AN5+EXP(AN6*(AN4-AN9))))^AN5))","v":0},{"$f":"IF(OR(AJ280<=AN9,AJ280>100000),0,IF(AJ280<=AO7,AO8,AO8+(AO10-AO8)*(1-((AO5+EXP(AO6*(AO4-AO7)))/(AO5+EXP(AO6*(AO4-AJ280))))^AO5)/(1-((AO5+EXP(AO6*(AO4-AO7)))/(AO5+EXP(AO6*(AO4-AO9))))^AO5)))","v":0},0,0]
[270,{"$f":"'daily uptake'!F364","v":"2011-07-28"},{"$f":"5/9*'daily uptake'!Q364","v":24.444444444444446},{"$f":"5/9*'daily uptake'!N364","v":14.444444444444445},{"$f":"IF(AND($A281>='daily uptake'!$C$9,$A281<='daily uptake'!$C$10),$C281+E280,0)","v":0},{"$f":"IF(AND($A281>='daily uptake'!$C$18,$A281<='daily uptake'!$C$20),$D281+F280,0)","v":779.72222222222217},{"$f":"IF(AND($A281>='daily uptake'!$C$24,$A281<='daily uptake'!$C$25),$C281+G280,0)","v":0},{"$f":"IF(OR(F281<=I7,F281>I9),0,I8+(I10-I8)*(1-((I5+EXP(I6*(I4-I7)))/(I5+EXP(I6*(I4-F281))))^I5)/(1-((I5+EXP(I6*(I4-I7)))/(I5+EXP(I6*(I4-I9))))^I5))","v":0},{"$f":"IF(OR(F281<=J7,F281>J9),0,J8+(J10-J8)*(1-((J5+EXP(J6*(J4-J7)))/(J5+EXP(J6*(J4-F281))))^J5)/(1-((J5+EXP(J6*(J4-J7)))/(J5+EXP(J6*(J4-J9))))^J5))","v":0},{"$f":"IF(OR(F281<=J9,F281>100000),0,IF(F281<=K7,K8,K8+(K10-K8)*(1-((K5+EXP(K6*(K4-K7)))/(K5+EXP(K6*(K4-F281))))^K5)/(1-((K5+EXP(K6*(K4-K7)))/(K5+EXP(K6*(K4-K9))))^K5)))","v":234.38544210000001},234.38544210000001,200.24621646553598,0,0,"2011-07-28",{"$f":"MAX(L$12:L281)+MAX(M$12:M281)+MAX(N$12:N281)","v":340.24621646553601},"2011-07-28",0,null,null,null,null,null,null,null,null,null,null,null,null,null,null,null,null,null,0,null,{"$f":"IF(OR(AJ281<=AM7,AJ281>AM9),0,AM8+(AM10-AM8)*(1-((AM5+EXP(AM6*(AM4-AM7)))/(AM5+EXP(AM6*(AM4-AJ281))))^AM5)/(1-((AM5+EXP(AM6*(AM4-AM7)))/(AM5+EXP(AM6*(AM4-AM9))))^AM5))","v":0},{"$f":"IF(OR(AJ281<=AN7,AJ281>AN9),0,AN8+(AN10-AN8)*(1-((AN5+EXP(AN6*(AN4-AN7)))/(AN5+EXP(AN6*(AN4-AJ281))))^AN5)/(1-((AN5+EXP(AN6*(AN4-AN7)))/(AN5+EXP(AN6*(AN4-AN9))))^AN5))","v":0},{"$f":"IF(OR(AJ281<=AN9,AJ281>100000),0,IF(AJ281<=AO7,AO8,AO8+(AO10-AO8)*(1-((AO5+EXP(AO6*(AO4-AO7)))/(AO5+EXP(AO6*(AO4-AJ281))))^AO5)/(1-((AO5+EXP(AO6*(AO4-AO7)))/(AO5+EXP(AO6*(AO4-AO9))))^AO5)))","v":0},0,0]
[271,{"$f":"'daily uptake'!F365","v":"2011-07-29"},{"$f":"5/9*'daily uptake'!Q365","v":24.444444444444446},{"$f":"5/9*'daily uptake'!N365","v":14.444444444444445},{"$f":"IF(AND($A282>='daily uptake'!$C$9,$A282<='daily uptake'!$C$10),$C282+E281,0)","v":0},{"$f":"IF(AND($A282>='daily uptake'!$C$18,$A282<='daily uptake'!$C$20),$D282+F281,0)","v":794.16666666666663},{"$f":"IF(AND($A282>='daily uptake'!$C$24,$A282<='daily uptake'!$C$25),$C282+G281,0)","v":0},{"$f":"IF(OR(F282<=I7,F282>I9),0,I8+(I10-I8)*(1-((I5+EXP(I6*(I4-I7)))/(I5+EXP(I6*(I4-F282))))^I5)/(1-((I5+EXP(I6*(I4-I7)))/(I5+EXP(I6*(I4-I9))))^I5))","v":0},{"$f":"IF(OR(F282<=J7,F282>J9),0,J8+(J10-J8)*(1-((J5+EXP(J6*(J4-J7)))/(J5+EXP(J6*(J4-F282))))^J5)/(1-((J5+EXP(J6*(J4-J7)))/(J5+EXP(J6*(J4-J9))))^J5))","v":0},{"$f":"IF(OR(F282<=J9,F282>100000),0,IF(F282<=K7,K8,K8+(K10-K8)*(1-((K5+EXP(K6*(K4-K7)))/(K5+EXP(K6*(K4-F282))))^K5)/(1-((K5+EXP(K6*(K4-K7)))/(K5+EXP(K6*(K4-K9))))^K5)))","v":234.38544210000001},234.38544210000001,200.24621646553598,0,0,"2011-07-29",{"$f":"MAX(L$12:L282)+MAX(M$12:M282)+MAX(N$12:N282)","v":340.24621646553601},"2011-07-29",0,null,null,null,null,null,null,null,null,null,null,null,null,null,null,null,null,null,0,null,{"$f":"IF(OR(AJ282<=AM7,AJ282>AM9),0,AM8+(AM10-AM8)*(1-((AM5+EXP(AM6*(AM4-AM7)))/(AM5+EXP(AM6*(AM4-AJ282))))^AM5)/(1-((AM5+EXP(AM6*(AM4-AM7)))/(AM5+EXP(AM6*(AM4-AM9))))^AM5))","v":0},{"$f":"IF(OR(AJ282<=AN7,AJ282>AN9),0,AN8+(AN10-AN8)*(1-((AN5+EXP(AN6*(AN4-AN7)))/(AN5+EXP(AN6*(AN4-AJ282))))^AN5)/(1-((AN5+EXP(AN6*(AN4-AN7)))/(AN5+EXP(AN6*(AN4-AN9))))^AN5))","v":0},{"$f":"IF(OR(AJ282<=AN9,AJ282>100000),0,IF(AJ282<=AO7,AO8,AO8+(AO10-AO8)*(1-((AO5+EXP(AO6*(AO4-AO7)))/(AO5+EXP(AO6*(AO4-AJ282))))^AO5)/(1-((AO5+EXP(AO6*(AO4-AO7)))/(AO5+EXP(AO6*(AO4-AO9))))^AO5)))","v":0},0,0]
[272,{"$f":"'daily uptake'!F366","v":"2011-07-30"},{"$f":"5/9*'daily uptake'!Q366","v":22.777777777777779},{"$f":"5/9*'daily uptake'!N366","v":12.777777777777779},{"$f":"IF(AND($A283>='daily uptake'!$C$9,$A283<='daily uptake'!$C$10),$C283+E282,0)","v":0},{"$f":"IF(AND($A283>='daily uptake'!$C$18,$A283<='daily uptake'!$C$20),$D283+F282,0)","v":806.94444444444446},{"$f":"IF(AND($A283>='daily uptake'!$C$24,$A283<='daily uptake'!$C$25),$C283+G282,0)","v":0},{"$f":"IF(OR(F283<=I7,F283>I9),0,I8+(I10-I8)*(1-((I5+EXP(I6*(I4-I7)))/(I5+EXP(I6*(I4-F283))))^I5)/(1-((I5+EXP(I6*(I4-I7)))/(I5+EXP(I6*(I4-I9))))^I5))","v":0},{"$f":"IF(OR(F283<=J7,F283>J9),0,J8+(J10-J8)*(1-((J5+EXP(J6*(J4-J7)))/(J5+EXP(J6*(J4-F283))))^J5)/(1-((J5+EXP(J6*(J4-J7)))/(J5+EXP(J6*(J4-J9))))^J5))","v":0},{"$f":"IF(OR(F283<=J9,F283>100000),0,IF(F283<=K7,K8,K8+(K10-K8)*(1-((K5+EXP(K6*(K4-K7)))/(K5+EXP(K6*(K4-F283))))^K5)/(1-((K5+EXP(K6*(K4-K7)))/(K5+EXP(K6*(K4-K9))))^K5)))","v":234.38544210000001},234.38544210000001,200.24621646553598,0,0,"2011-07-30",{"$f":"MAX(L$12:L283)+MAX(M$12:M283)+MAX(N$12:N283)","v":340.24621646553601},"2011-07-30",0,null,null,null,null,null,null,null,null,null,null,null,null,null,null,null,null,null,0,null,{"$f":"IF(OR(AJ283<=AM7,AJ283>AM9),0,AM8+(AM10-AM8)*(1-((AM5+EXP(AM6*(AM4-AM7)))/(AM5+EXP(AM6*(AM4-AJ283))))^AM5)/(1-((AM5+EXP(AM6*(AM4-AM7)))/(AM5+EXP(AM6*(AM4-AM9))))^AM5))","v":0},{"$f":"IF(OR(AJ283<=AN7,AJ283>AN9),0,AN8+(AN10-AN8)*(1-((AN5+EXP(AN6*(AN4-AN7)))/(AN5+EXP(AN6*(AN4-AJ283))))^AN5)/(1-((AN5+EXP(AN6*(AN4-AN7)))/(AN5+EXP(AN6*(AN4-AN9))))^AN5))","v":0},{"$f":"IF(OR(AJ283<=AN9,AJ283>100000),0,IF(AJ283<=AO7,AO8,AO8+(AO10-AO8)*(1-((AO5+EXP(AO6*(AO4-AO7)))/(AO5+EXP(AO6*(AO4-AJ283))))^AO5)/(1-((AO5+EXP(AO6*(AO4-AO7)))/(AO5+EXP(AO6*(AO4-AO9))))^AO5)))","v":0},0,0]
[273,{"$f":"'daily uptake'!F367","v":"2011-07-31"},{"$f":"5/9*'daily uptake'!Q367","v":24.166666666666668},{"$f":"5/9*'daily uptake'!N367","v":14.166666666666668},{"$f":"IF(AND($A284>='daily uptake'!$C$9,$A284<='daily uptake'!$C$10),$C284+E283,0)","v":0},{"$f":"IF(AND($A284>='daily uptake'!$C$18,$A284<='daily uptake'!$C$20),$D284+F283,0)","v":821.11111111111109},{"$f":"IF(AND($A284>='daily uptake'!$C$24,$A284<='daily uptake'!$C$25),$C284+G283,0)","v":0},{"$f":"IF(OR(F284<=I7,F284>I9),0,I8+(I10-I8)*(1-((I5+EXP(I6*(I4-I7)))/(I5+EXP(I6*(I4-F284))))^I5)/(1-((I5+EXP(I6*(I4-I7)))/(I5+EXP(I6*(I4-I9))))^I5))","v":0},{"$f":"IF(OR(F284<=J7,F284>J9),0,J8+(J10-J8)*(1-((J5+EXP(J6*(J4-J7)))/(J5+EXP(J6*(J4-F284))))^J5)/(1-((J5+EXP(J6*(J4-J7)))/(J5+EXP(J6*(J4-J9))))^J5))","v":0},{"$f":"IF(OR(F284<=J9,F284>100000),0,IF(F284<=K7,K8,K8+(K10-K8)*(1-((K5+EXP(K6*(K4-K7)))/(K5+EXP(K6*(K4-F284))))^K5)/(1-((K5+EXP(K6*(K4-K7)))/(K5+EXP(K6*(K4-K9))))^K5)))","v":234.38544210000001},234.38544210000001,200.24621646553598,0,0,"2011-07-31",{"$f":"MAX(L$12:L284)+MAX(M$12:M284)+MAX(N$12:N284)","v":340.24621646553601},"2011-07-31",0,null,null,null,null,null,null,null,null,null,null,null,null,null,null,null,null,null,0,null,{"$f":"IF(OR(AJ284<=AM7,AJ284>AM9),0,AM8+(AM10-AM8)*(1-((AM5+EXP(AM6*(AM4-AM7)))/(AM5+EXP(AM6*(AM4-AJ284))))^AM5)/(1-((AM5+EXP(AM6*(AM4-AM7)))/(AM5+EXP(AM6*(AM4-AM9))))^AM5))","v":0},{"$f":"IF(OR(AJ284<=AN7,AJ284>AN9),0,AN8+(AN10-AN8)*(1-((AN5+EXP(AN6*(AN4-AN7)))/(AN5+EXP(AN6*(AN4-AJ284))))^AN5)/(1-((AN5+EXP(AN6*(AN4-AN7)))/(AN5+EXP(AN6*(AN4-AN9))))^AN5))","v":0},{"$f":"IF(OR(AJ284<=AN9,AJ284>100000),0,IF(AJ284<=AO7,AO8,AO8+(AO10-AO8)*(1-((AO5+EXP(AO6*(AO4-AO7)))/(AO5+EXP(AO6*(AO4-AJ284))))^AO5)/(1-((AO5+EXP(AO6*(AO4-AO7)))/(AO5+EXP(AO6*(AO4-AO9))))^AO5)))","v":0},0,0]
[274,{"$f":"'daily uptake'!F368","v":"2011-08-01"},{"$f":"5/9*'daily uptake'!Q368","v":22.777777777777779},{"$f":"5/9*'daily uptake'!N368","v":12.777777777777779},{"$f":"IF(AND($A285>='daily uptake'!$C$9,$A285<='daily uptake'!$C$10),$C285+E284,0)","v":0},{"$f":"IF(AND($A285>='daily uptake'!$C$18,$A285<='daily uptake'!$C$20),$D285+F284,0)","v":833.88888888888891},{"$f":"IF(AND($A285>='daily uptake'!$C$24,$A285<='daily uptake'!$C$25),$C285+G284,0)","v":0},{"$f":"IF(OR(F285<=I7,F285>I9),0,I8+(I10-I8)*(1-((I5+EXP(I6*(I4-I7)))/(I5+EXP(I6*(I4-F285))))^I5)/(1-((I5+EXP(I6*(I4-I7)))/(I5+EXP(I6*(I4-I9))))^I5))","v":0},{"$f":"IF(OR(F285<=J7,F285>J9),0,J8+(J10-J8)*(1-((J5+EXP(J6*(J4-J7)))/(J5+EXP(J6*(J4-F285))))^J5)/(1-((J5+EXP(J6*(J4-J7)))/(J5+EXP(J6*(J4-J9))))^J5))","v":0},{"$f":"IF(OR(F285<=J9,F285>100000),0,IF(F285<=K7,K8,K8+(K10-K8)*(1-((K5+EXP(K6*(K4-K7)))/(K5+EXP(K6*(K4-F285))))^K5)/(1-((K5+EXP(K6*(K4-K7)))/(K5+EXP(K6*(K4-K9))))^K5)))","v":234.38544210000001},234.38544210000001,200.24621646553598,0,0,"2011-08-01",{"$f":"MAX(L$12:L285)+MAX(M$12:M285)+MAX(N$12:N285)","v":340.24621646553601},"2011-08-01",0,null,null,null,null,null,null,null,null,null,null,null,null,null,null,null,null,null,0,null,{"$f":"IF(OR(AJ285<=AM7,AJ285>AM9),0,AM8+(AM10-AM8)*(1-((AM5+EXP(AM6*(AM4-AM7)))/(AM5+EXP(AM6*(AM4-AJ285))))^AM5)/(1-((AM5+EXP(AM6*(AM4-AM7)))/(AM5+EXP(AM6*(AM4-AM9))))^AM5))","v":0},{"$f":"IF(OR(AJ285<=AN7,AJ285>AN9),0,AN8+(AN10-AN8)*(1-((AN5+EXP(AN6*(AN4-AN7)))/(AN5+EXP(AN6*(AN4-AJ285))))^AN5)/(1-((AN5+EXP(AN6*(AN4-AN7)))/(AN5+EXP(AN6*(AN4-AN9))))^AN5))","v":0},{"$f":"IF(OR(AJ285<=AN9,AJ285>100000),0,IF(AJ285<=AO7,AO8,AO8+(AO10-AO8)*(1-((AO5+EXP(AO6*(AO4-AO7)))/(AO5+EXP(AO6*(AO4-AJ285))))^AO5)/(1-((AO5+EXP(AO6*(AO4-AO7)))/(AO5+EXP(AO6*(AO4-AO9))))^AO5)))","v":0},0,0]
[275,{"$f":"'daily uptake'!F369","v":"2011-08-02"},{"$f":"5/9*'daily uptake'!Q369","v":23.055555555555557},{"$f":"5/9*'daily uptake'!N369","v":13.055555555555555},{"$f":"IF(AND($A286>='daily uptake'!$C$9,$A286<='daily uptake'!$C$10),$C286+E285,0)","v":0},{"$f":"IF(AND($A286>='daily uptake'!$C$18,$A286<='daily uptake'!$C$20),$D286+F285,0)","v":846.94444444444446},{"$f":"IF(AND($A286>='daily uptake'!$C$24,$A286<='daily uptake'!$C$25),$C286+G285,0)","v":0},{"$f":"IF(OR(F286<=I7,F286>I9),0,I8+(I10-I8)*(1-((I5+EXP(I6*(I4-I7)))/(I5+EXP(I6*(I4-F286))))^I5)/(1-((I5+EXP(I6*(I4-I7)))/(I5+EXP(I6*(I4-I9))))^I5))","v":0},{"$f":"IF(OR(F286<=J7,F286>J9),0,J8+(J10-J8)*(1-((J5+EXP(J6*(J4-J7)))/(J5+EXP(J6*(J4-F286))))^J5)/(1-((J5+EXP(J6*(J4-J7)))/(J5+EXP(J6*(J4-J9))))^J5))","v":0},{"$f":"IF(OR(F286<=J9,F286>100000),0,IF(F286<=K7,K8,K8+(K10-K8)*(1-((K5+EXP(K6*(K4-K7)))/(K5+EXP(K6*(K4-F286))))^K5)/(1-((K5+EXP(K6*(K4-K7)))/(K5+EXP(K6*(K4-K9))))^K5)))","v":234.38544210000001},234.38544210000001,200.24621646553598,0,0,"2011-08-02",{"$f":"MAX(L$12:L286)+MAX(M$12:M286)+MAX(N$12:N286)","v":340.24621646553601},"2011-08-02",0,null,null,null,null,null,null,null,null,null,null,null,null,null,null,null,null,null,0,null,{"$f":"IF(OR(AJ286<=AM7,AJ286>AM9),0,AM8+(AM10-AM8)*(1-((AM5+EXP(AM6*(AM4-AM7)))/(AM5+EXP(AM6*(AM4-AJ286))))^AM5)/(1-((AM5+EXP(AM6*(AM4-AM7)))/(AM5+EXP(AM6*(AM4-AM9))))^AM5))","v":0},{"$f":"IF(OR(AJ286<=AN7,AJ286>AN9),0,AN8+(AN10-AN8)*(1-((AN5+EXP(AN6*(AN4-AN7)))/(AN5+EXP(AN6*(AN4-AJ286))))^AN5)/(1-((AN5+EXP(AN6*(AN4-AN7)))/(AN5+EXP(AN6*(AN4-AN9))))^AN5))","v":0},{"$f":"IF(OR(AJ286<=AN9,AJ286>100000),0,IF(AJ286<=AO7,AO8,AO8+(AO10-AO8)*(1-((AO5+EXP(AO6*(AO4-AO7)))/(AO5+EXP(AO6*(AO4-AJ286))))^AO5)/(1-((AO5+EXP(AO6*(AO4-AO7)))/(AO5+EXP(AO6*(AO4-AO9))))^AO5)))","v":0},0,0]
[276,{"$f":"'daily uptake'!F370","v":"2011-08-03"},{"$f":"5/9*'daily uptake'!Q370","v":23.333333333333336},{"$f":"5/9*'daily uptake'!N370","v":13.333333333333334},{"$f":"IF(AND($A287>='daily uptake'!$C$9,$A287<='daily uptake'!$C$10),$C287+E286,0)","v":0},{"$f":"IF(AND($A287>='daily uptake'!$C$18,$A287<='daily uptake'!$C$20),$D287+F286,0)","v":860.27777777777783},{"$f":"IF(AND($A287>='daily uptake'!$C$24,$A287<='daily uptake'!$C$25),$C287+G286,0)","v":0},{"$f":"IF(OR(F287<=I7,F287>I9),0,I8+(I10-I8)*(1-((I5+EXP(I6*(I4-I7)))/(I5+EXP(I6*(I4-F287))))^I5)/(1-((I5+EXP(I6*(I4-I7)))/(I5+EXP(I6*(I4-I9))))^I5))","v":0},{"$f":"IF(OR(F287<=J7,F287>J9),0,J8+(J10-J8)*(1-((J5+EXP(J6*(J4-J7)))/(J5+EXP(J6*(J4-F287))))^J5)/(1-((J5+EXP(J6*(J4-J7)))/(J5+EXP(J6*(J4-J9))))^J5))","v":0},{"$f":"IF(OR(F287<=J9,F287>100000),0,IF(F287<=K7,K8,K8+(K10-K8)*(1-((K5+EXP(K6*(K4-K7)))/(K5+EXP(K6*(K4-F287))))^K5)/(1-((K5+EXP(K6*(K4-K7)))/(K5+EXP(K6*(K4-K9))))^K5)))","v":234.38544210000001},234.38544210000001,200.24621646553598,0,0,"2011-08-03",{"$f":"MAX(L$12:L287)+MAX(M$12:M287)+MAX(N$12:N287)","v":340.24621646553601},"2011-08-03",0,null,null,null,null,null,null,null,null,null,null,null,null,null,null,null,null,null,0,null,{"$f":"IF(OR(AJ287<=AM7,AJ287>AM9),0,AM8+(AM10-AM8)*(1-((AM5+EXP(AM6*(AM4-AM7)))/(AM5+EXP(AM6*(AM4-AJ287))))^AM5)/(1-((AM5+EXP(AM6*(AM4-AM7)))/(AM5+EXP(AM6*(AM4-AM9))))^AM5))","v":0},{"$f":"IF(OR(AJ287<=AN7,AJ287>AN9),0,AN8+(AN10-AN8)*(1-((AN5+EXP(AN6*(AN4-AN7)))/(AN5+EXP(AN6*(AN4-AJ287))))^AN5)/(1-((AN5+EXP(AN6*(AN4-AN7)))/(AN5+EXP(AN6*(AN4-AN9))))^AN5))","v":0},{"$f":"IF(OR(AJ287<=AN9,AJ287>100000),0,IF(AJ287<=AO7,AO8,AO8+(AO10-AO8)*(1-((AO5+EXP(AO6*(AO4-AO7)))/(AO5+EXP(AO6*(AO4-AJ287))))^AO5)/(1-((AO5+EXP(AO6*(AO4-AO7)))/(AO5+EXP(AO6*(AO4-AO9))))^AO5)))","v":0},0,0]
[277,{"$f":"'daily uptake'!F371","v":"2011-08-04"},{"$f":"5/9*'daily uptake'!Q371","v":21.111111111111111},{"$f":"5/9*'daily uptake'!N371","v":11.111111111111111},{"$f":"IF(AND($A288>='daily uptake'!$C$9,$A288<='daily uptake'!$C$10),$C288+E287,0)","v":0},{"$f":"IF(AND($A288>='daily uptake'!$C$18,$A288<='daily uptake'!$C$20),$D288+F287,0)","v":871.38888888888891},{"$f":"IF(AND($A288>='daily uptake'!$C$24,$A288<='daily uptake'!$C$25),$C288+G287,0)","v":0},{"$f":"IF(OR(F288<=I7,F288>I9),0,I8+(I10-I8)*(1-((I5+EXP(I6*(I4-I7)))/(I5+EXP(I6*(I4-F288))))^I5)/(1-((I5+EXP(I6*(I4-I7)))/(I5+EXP(I6*(I4-I9))))^I5))","v":0},{"$f":"IF(OR(F288<=J7,F288>J9),0,J8+(J10-J8)*(1-((J5+EXP(J6*(J4-J7)))/(J5+EXP(J6*(J4-F288))))^J5)/(1-((J5+EXP(J6*(J4-J7)))/(J5+EXP(J6*(J4-J9))))^J5))","v":0},{"$f":"IF(OR(F288<=J9,F288>100000),0,IF(F288<=K7,K8,K8+(K10-K8)*(1-((K5+EXP(K6*(K4-K7)))/(K5+EXP(K6*(K4-F288))))^K5)/(1-((K5+EXP(K6*(K4-K7)))/(K5+EXP(K6*(K4-K9))))^K5)))","v":234.38544210000001},234.38544210000001,200.24621646553598,0,0,"2011-08-04",{"$f":"MAX(L$12:L288)+MAX(M$12:M288)+MAX(N$12:N288)","v":340.24621646553601},"2011-08-04",0,null,null,null,null,null,null,null,null,null,null,null,null,null,null,null,null,null,0,null,{"$f":"IF(OR(AJ288<=AM7,AJ288>AM9),0,AM8+(AM10-AM8)*(1-((AM5+EXP(AM6*(AM4-AM7)))/(AM5+EXP(AM6*(AM4-AJ288))))^AM5)/(1-((AM5+EXP(AM6*(AM4-AM7)))/(AM5+EXP(AM6*(AM4-AM9))))^AM5))","v":0},{"$f":"IF(OR(AJ288<=AN7,AJ288>AN9),0,AN8+(AN10-AN8)*(1-((AN5+EXP(AN6*(AN4-AN7)))/(AN5+EXP(AN6*(AN4-AJ288))))^AN5)/(1-((AN5+EXP(AN6*(AN4-AN7)))/(AN5+EXP(AN6*(AN4-AN9))))^AN5))","v":0},{"$f":"IF(OR(AJ288<=AN9,AJ288>100000),0,IF(AJ288<=AO7,AO8,AO8+(AO10-AO8)*(1-((AO5+EXP(AO6*(AO4-AO7)))/(AO5+EXP(AO6*(AO4-AJ288))))^AO5)/(1-((AO5+EXP(AO6*(AO4-AO7)))/(AO5+EXP(AO6*(AO4-AO9))))^AO5)))","v":0},0,0]
[278,{"$f":"'daily uptake'!F372","v":"2011-08-05"},{"$f":"5/9*'daily uptake'!Q372","v":22.222222222222221},{"$f":"5/9*'daily uptake'!N372","v":12.222222222222223},{"$f":"IF(AND($A289>='daily uptake'!$C$9,$A289<='daily uptake'!$C$10),$C289+E288,0)","v":0},{"$f":"IF(AND($A289>='daily uptake'!$C$18,$A289<='daily uptake'!$C$20),$D289+F288,0)","v":883.61111111111109},{"$f":"IF(AND($A289>='daily uptake'!$C$24,$A289<='daily uptake'!$C$25),$C289+G288,0)","v":0},{"$f":"IF(OR(F289<=I7,F289>I9),0,I8+(I10-I8)*(1-((I5+EXP(I6*(I4-I7)))/(I5+EXP(I6*(I4-F289))))^I5)/(1-((I5+EXP(I6*(I4-I7)))/(I5+EXP(I6*(I4-I9))))^I5))","v":0},{"$f":"IF(OR(F289<=J7,F289>J9),0,J8+(J10-J8)*(1-((J5+EXP(J6*(J4-J7)))/(J5+EXP(J6*(J4-F289))))^J5)/(1-((J5+EXP(J6*(J4-J7)))/(J5+EXP(J6*(J4-J9))))^J5))","v":0},{"$f":"IF(OR(F289<=J9,F289>100000),0,IF(F289<=K7,K8,K8+(K10-K8)*(1-((K5+EXP(K6*(K4-K7)))/(K5+EXP(K6*(K4-F289))))^K5)/(1-((K5+EXP(K6*(K4-K7)))/(K5+EXP(K6*(K4-K9))))^K5)))","v":234.38544210000001},234.38544210000001,200.24621646553598,0,0,"2011-08-05",{"$f":"MAX(L$12:L289)+MAX(M$12:M289)+MAX(N$12:N289)","v":340.24621646553601},"2011-08-05",0,null,null,null,null,null,null,null,null,null,null,null,null,null,null,null,null,null,0,null,{"$f":"IF(OR(AJ289<=AM7,AJ289>AM9),0,AM8+(AM10-AM8)*(1-((AM5+EXP(AM6*(AM4-AM7)))/(AM5+EXP(AM6*(AM4-AJ289))))^AM5)/(1-((AM5+EXP(AM6*(AM4-AM7)))/(AM5+EXP(AM6*(AM4-AM9))))^AM5))","v":0},{"$f":"IF(OR(AJ289<=AN7,AJ289>AN9),0,AN8+(AN10-AN8)*(1-((AN5+EXP(AN6*(AN4-AN7)))/(AN5+EXP(AN6*(AN4-AJ289))))^AN5)/(1-((AN5+EXP(AN6*(AN4-AN7)))/(AN5+EXP(AN6*(AN4-AN9))))^AN5))","v":0},{"$f":"IF(OR(AJ289<=AN9,AJ289>100000),0,IF(AJ289<=AO7,AO8,AO8+(AO10-AO8)*(1-((AO5+EXP(AO6*(AO4-AO7)))/(AO5+EXP(AO6*(AO4-AJ289))))^AO5)/(1-((AO5+EXP(AO6*(AO4-AO7)))/(AO5+EXP(AO6*(AO4-AO9))))^AO5)))","v":0},0,0]
[279,{"$f":"'daily uptake'!F373","v":"2011-08-06"},{"$f":"5/9*'daily uptake'!Q373","v":23.333333333333336},{"$f":"5/9*'daily uptake'!N373","v":13.333333333333334},{"$f":"IF(AND($A290>='daily uptake'!$C$9,$A290<='daily uptake'!$C$10),$C290+E289,0)","v":0},{"$f":"IF(AND($A290>='daily uptake'!$C$18,$A290<='daily uptake'!$C$20),$D290+F289,0)","v":896.94444444444446},{"$f":"IF(AND($A290>='daily uptake'!$C$24,$A290<='daily uptake'!$C$25),$C290+G289,0)","v":0},{"$f":"IF(OR(F290<=I7,F290>I9),0,I8+(I10-I8)*(1-((I5+EXP(I6*(I4-I7)))/(I5+EXP(I6*(I4-F290))))^I5)/(1-((I5+EXP(I6*(I4-I7)))/(I5+EXP(I6*(I4-I9))))^I5))","v":0},{"$f":"IF(OR(F290<=J7,F290>J9),0,J8+(J10-J8)*(1-((J5+EXP(J6*(J4-J7)))/(J5+EXP(J6*(J4-F290))))^J5)/(1-((J5+EXP(J6*(J4-J7)))/(J5+EXP(J6*(J4-J9))))^J5))","v":0},{"$f":"IF(OR(F290<=J9,F290>100000),0,IF(F290<=K7,K8,K8+(K10-K8)*(1-((K5+EXP(K6*(K4-K7)))/(K5+EXP(K6*(K4-F290))))^K5)/(1-((K5+EXP(K6*(K4-K7)))/(K5+EXP(K6*(K4-K9))))^K5)))","v":234.38544210000001},234.38544210000001,200.24621646553598,0,0,"2011-08-06",{"$f":"MAX(L$12:L290)+MAX(M$12:M290)+MAX(N$12:N290)","v":340.24621646553601},"2011-08-06",0,null,null,null,null,null,null,null,null,null,null,null,null,null,null,null,null,null,0,null,{"$f":"IF(OR(AJ290<=AM7,AJ290>AM9),0,AM8+(AM10-AM8)*(1-((AM5+EXP(AM6*(AM4-AM7)))/(AM5+EXP(AM6*(AM4-AJ290))))^AM5)/(1-((AM5+EXP(AM6*(AM4-AM7)))/(AM5+EXP(AM6*(AM4-AM9))))^AM5))","v":0},{"$f":"IF(OR(AJ290<=AN7,AJ290>AN9),0,AN8+(AN10-AN8)*(1-((AN5+EXP(AN6*(AN4-AN7)))/(AN5+EXP(AN6*(AN4-AJ290))))^AN5)/(1-((AN5+EXP(AN6*(AN4-AN7)))/(AN5+EXP(AN6*(AN4-AN9))))^AN5))","v":0},{"$f":"IF(OR(AJ290<=AN9,AJ290>100000),0,IF(AJ290<=AO7,AO8,AO8+(AO10-AO8)*(1-((AO5+EXP(AO6*(AO4-AO7)))/(AO5+EXP(AO6*(AO4-AJ290))))^AO5)/(1-((AO5+EXP(AO6*(AO4-AO7)))/(AO5+EXP(AO6*(AO4-AO9))))^AO5)))","v":0},0,0]
[280,{"$f":"'daily uptake'!F374","v":"2011-08-07"},{"$f":"5/9*'daily uptake'!Q374","v":22.222222222222221},{"$f":"5/9*'daily uptake'!N374","v":12.222222222222223},{"$f":"IF(AND($A291>='daily uptake'!$C$9,$A291<='daily uptake'!$C$10),$C291+E290,0)","v":0},{"$f":"IF(AND($A291>='daily uptake'!$C$18,$A291<='daily uptake'!$C$20),$D291+F290,0)","v":909.16666666666663},{"$f":"IF(AND($A291>='daily uptake'!$C$24,$A291<='daily uptake'!$C$25),$C291+G290,0)","v":0},{"$f":"IF(OR(F291<=I7,F291>I9),0,I8+(I10-I8)*(1-((I5+EXP(I6*(I4-I7)))/(I5+EXP(I6*(I4-F291))))^I5)/(1-((I5+EXP(I6*(I4-I7)))/(I5+EXP(I6*(I4-I9))))^I5))","v":0},{"$f":"IF(OR(F291<=J7,F291>J9),0,J8+(J10-J8)*(1-((J5+EXP(J6*(J4-J7)))/(J5+EXP(J6*(J4-F291))))^J5)/(1-((J5+EXP(J6*(J4-J7)))/(J5+EXP(J6*(J4-J9))))^J5))","v":0},{"$f":"IF(OR(F291<=J9,F291>100000),0,IF(F291<=K7,K8,K8+(K10-K8)*(1-((K5+EXP(K6*(K4-K7)))/(K5+EXP(K6*(K4-F291))))^K5)/(1-((K5+EXP(K6*(K4-K7)))/(K5+EXP(K6*(K4-K9))))^K5)))","v":234.38544210000001},234.38544210000001,200.24621646553598,0,0,"2011-08-07",{"$f":"MAX(L$12:L291)+MAX(M$12:M291)+MAX(N$12:N291)","v":340.24621646553601},"2011-08-07",0,null,null,null,null,null,null,null,null,null,null,null,null,null,null,null,null,null,0,null,{"$f":"IF(OR(AJ291<=AM7,AJ291>AM9),0,AM8+(AM10-AM8)*(1-((AM5+EXP(AM6*(AM4-AM7)))/(AM5+EXP(AM6*(AM4-AJ291))))^AM5)/(1-((AM5+EXP(AM6*(AM4-AM7)))/(AM5+EXP(AM6*(AM4-AM9))))^AM5))","v":0},{"$f":"IF(OR(AJ291<=AN7,AJ291>AN9),0,AN8+(AN10-AN8)*(1-((AN5+EXP(AN6*(AN4-AN7)))/(AN5+EXP(AN6*(AN4-AJ291))))^AN5)/(1-((AN5+EXP(AN6*(AN4-AN7)))/(AN5+EXP(AN6*(AN4-AN9))))^AN5))","v":0},{"$f":"IF(OR(AJ291<=AN9,AJ291>100000),0,IF(AJ291<=AO7,AO8,AO8+(AO10-AO8)*(1-((AO5+EXP(AO6*(AO4-AO7)))/(AO5+EXP(AO6*(AO4-AJ291))))^AO5)/(1-((AO5+EXP(AO6*(AO4-AO7)))/(AO5+EXP(AO6*(AO4-AO9))))^AO5)))","v":0},0,0]
[281,{"$f":"'daily uptake'!F375","v":"2011-08-08"},{"$f":"5/9*'daily uptake'!Q375","v":22.777777777777779},{"$f":"5/9*'daily uptake'!N375","v":12.777777777777779},{"$f":"IF(AND($A292>='daily uptake'!$C$9,$A292<='daily uptake'!$C$10),$C292+E291,0)","v":0},{"$f":"IF(AND($A292>='daily uptake'!$C$18,$A292<='daily uptake'!$C$20),$D292+F291,0)","v":921.94444444444446},{"$f":"IF(AND($A292>='daily uptake'!$C$24,$A292<='daily uptake'!$C$25),$C292+G291,0)","v":0},{"$f":"IF(OR(F292<=I7,F292>I9),0,I8+(I10-I8)*(1-((I5+EXP(I6*(I4-I7)))/(I5+EXP(I6*(I4-F292))))^I5)/(1-((I5+EXP(I6*(I4-I7)))/(I5+EXP(I6*(I4-I9))))^I5))","v":0},{"$f":"IF(OR(F292<=J7,F292>J9),0,J8+(J10-J8)*(1-((J5+EXP(J6*(J4-J7)))/(J5+EXP(J6*(J4-F292))))^J5)/(1-((J5+EXP(J6*(J4-J7)))/(J5+EXP(J6*(J4-J9))))^J5))","v":0},{"$f":"IF(OR(F292<=J9,F292>100000),0,IF(F292<=K7,K8,K8+(K10-K8)*(1-((K5+EXP(K6*(K4-K7)))/(K5+EXP(K6*(K4-F292))))^K5)/(1-((K5+EXP(K6*(K4-K7)))/(K5+EXP(K6*(K4-K9))))^K5)))","v":234.38544210000001},234.38544210000001,200.24621646553598,0,0,"2011-08-08",{"$f":"MAX(L$12:L292)+MAX(M$12:M292)+MAX(N$12:N292)","v":340.24621646553601},"2011-08-08",0,null,null,null,null,null,null,null,null,null,null,null,null,null,null,null,null,null,0,null,{"$f":"IF(OR(AJ292<=AM7,AJ292>AM9),0,AM8+(AM10-AM8)*(1-((AM5+EXP(AM6*(AM4-AM7)))/(AM5+EXP(AM6*(AM4-AJ292))))^AM5)/(1-((AM5+EXP(AM6*(AM4-AM7)))/(AM5+EXP(AM6*(AM4-AM9))))^AM5))","v":0},{"$f":"IF(OR(AJ292<=AN7,AJ292>AN9),0,AN8+(AN10-AN8)*(1-((AN5+EXP(AN6*(AN4-AN7)))/(AN5+EXP(AN6*(AN4-AJ292))))^AN5)/(1-((AN5+EXP(AN6*(AN4-AN7)))/(AN5+EXP(AN6*(AN4-AN9))))^AN5))","v":0},{"$f":"IF(OR(AJ292<=AN9,AJ292>100000),0,IF(AJ292<=AO7,AO8,AO8+(AO10-AO8)*(1-((AO5+EXP(AO6*(AO4-AO7)))/(AO5+EXP(AO6*(AO4-AJ292))))^AO5)/(1-((AO5+EXP(AO6*(AO4-AO7)))/(AO5+EXP(AO6*(AO4-AO9))))^AO5)))","v":0},0,0]
[282,{"$f":"'daily uptake'!F376","v":"2011-08-09"},{"$f":"5/9*'daily uptake'!Q376","v":22.5},{"$f":"5/9*'daily uptake'!N376","v":12.5},{"$f":"IF(AND($A293>='daily uptake'!$C$9,$A293<='daily uptake'!$C$10),$C293+E292,0)","v":0},{"$f":"IF(AND($A293>='daily uptake'!$C$18,$A293<='daily uptake'!$C$20),$D293+F292,0)","v":934.44444444444446},{"$f":"IF(AND($A293>='daily uptake'!$C$24,$A293<='daily uptake'!$C$25),$C293+G292,0)","v":0},{"$f":"IF(OR(F293<=I7,F293>I9),0,I8+(I10-I8)*(1-((I5+EXP(I6*(I4-I7)))/(I5+EXP(I6*(I4-F293))))^I5)/(1-((I5+EXP(I6*(I4-I7)))/(I5+EXP(I6*(I4-I9))))^I5))","v":0},{"$f":"IF(OR(F293<=J7,F293>J9),0,J8+(J10-J8)*(1-((J5+EXP(J6*(J4-J7)))/(J5+EXP(J6*(J4-F293))))^J5)/(1-((J5+EXP(J6*(J4-J7)))/(J5+EXP(J6*(J4-J9))))^J5))","v":0},{"$f":"IF(OR(F293<=J9,F293>100000),0,IF(F293<=K7,K8,K8+(K10-K8)*(1-((K5+EXP(K6*(K4-K7)))/(K5+EXP(K6*(K4-F293))))^K5)/(1-((K5+EXP(K6*(K4-K7)))/(K5+EXP(K6*(K4-K9))))^K5)))","v":234.38544210000001},234.38544210000001,200.24621646553598,0,0,"2011-08-09",{"$f":"MAX(L$12:L293)+MAX(M$12:M293)+MAX(N$12:N293)","v":340.24621646553601},"2011-08-09",0,null,null,null,null,null,null,null,null,null,null,null,null,null,null,null,null,null,0,null,{"$f":"IF(OR(AJ293<=AM7,AJ293>AM9),0,AM8+(AM10-AM8)*(1-((AM5+EXP(AM6*(AM4-AM7)))/(AM5+EXP(AM6*(AM4-AJ293))))^AM5)/(1-((AM5+EXP(AM6*(AM4-AM7)))/(AM5+EXP(AM6*(AM4-AM9))))^AM5))","v":0},{"$f":"IF(OR(AJ293<=AN7,AJ293>AN9),0,AN8+(AN10-AN8)*(1-((AN5+EXP(AN6*(AN4-AN7)))/(AN5+EXP(AN6*(AN4-AJ293))))^AN5)/(1-((AN5+EXP(AN6*(AN4-AN7)))/(AN5+EXP(AN6*(AN4-AN9))))^AN5))","v":0},{"$f":"IF(OR(AJ293<=AN9,AJ293>100000),0,IF(AJ293<=AO7,AO8,AO8+(AO10-AO8)*(1-((AO5+EXP(AO6*(AO4-AO7)))/(AO5+EXP(AO6*(AO4-AJ293))))^AO5)/(1-((AO5+EXP(AO6*(AO4-AO7)))/(AO5+EXP(AO6*(AO4-AO9))))^AO5)))","v":0},0,0]
[283,{"$f":"'daily uptake'!F377","v":"2011-08-10"},{"$f":"5/9*'daily uptake'!Q377","v":24.166666666666668},{"$f":"5/9*'daily uptake'!N377","v":14.166666666666668},{"$f":"IF(AND($A294>='daily uptake'!$C$9,$A294<='daily uptake'!$C$10),$C294+E293,0)","v":0},{"$f":"IF(AND($A294>='daily uptake'!$C$18,$A294<='daily uptake'!$C$20),$D294+F293,0)","v":948.61111111111109},{"$f":"IF(AND($A294>='daily uptake'!$C$24,$A294<='daily uptake'!$C$25),$C294+G293,0)","v":0},{"$f":"IF(OR(F294<=I7,F294>I9),0,I8+(I10-I8)*(1-((I5+EXP(I6*(I4-I7)))/(I5+EXP(I6*(I4-F294))))^I5)/(1-((I5+EXP(I6*(I4-I7)))/(I5+EXP(I6*(I4-I9))))^I5))","v":0},{"$f":"IF(OR(F294<=J7,F294>J9),0,J8+(J10-J8)*(1-((J5+EXP(J6*(J4-J7)))/(J5+EXP(J6*(J4-F294))))^J5)/(1-((J5+EXP(J6*(J4-J7)))/(J5+EXP(J6*(J4-J9))))^J5))","v":0},{"$f":"IF(OR(F294<=J9,F294>100000),0,IF(F294<=K7,K8,K8+(K10-K8)*(1-((K5+EXP(K6*(K4-K7)))/(K5+EXP(K6*(K4-F294))))^K5)/(1-((K5+EXP(K6*(K4-K7)))/(K5+EXP(K6*(K4-K9))))^K5)))","v":234.38544210000001},234.38544210000001,200.24621646553598,0,0,"2011-08-10",{"$f":"MAX(L$12:L294)+MAX(M$12:M294)+MAX(N$12:N294)","v":340.24621646553601},"2011-08-10",0,null,null,null,null,null,null,null,null,null,null,null,null,null,null,null,null,null,0,null,{"$f":"IF(OR(AJ294<=AM7,AJ294>AM9),0,AM8+(AM10-AM8)*(1-((AM5+EXP(AM6*(AM4-AM7)))/(AM5+EXP(AM6*(AM4-AJ294))))^AM5)/(1-((AM5+EXP(AM6*(AM4-AM7)))/(AM5+EXP(AM6*(AM4-AM9))))^AM5))","v":0},{"$f":"IF(OR(AJ294<=AN7,AJ294>AN9),0,AN8+(AN10-AN8)*(1-((AN5+EXP(AN6*(AN4-AN7)))/(AN5+EXP(AN6*(AN4-AJ294))))^AN5)/(1-((AN5+EXP(AN6*(AN4-AN7)))/(AN5+EXP(AN6*(AN4-AN9))))^AN5))","v":0},{"$f":"IF(OR(AJ294<=AN9,AJ294>100000),0,IF(AJ294<=AO7,AO8,AO8+(AO10-AO8)*(1-((AO5+EXP(AO6*(AO4-AO7)))/(AO5+EXP(AO6*(AO4-AJ294))))^AO5)/(1-((AO5+EXP(AO6*(AO4-AO7)))/(AO5+EXP(AO6*(AO4-AO9))))^AO5)))","v":0},0,0]
[284,{"$f":"'daily uptake'!F378","v":"2011-08-11"},{"$f":"5/9*'daily uptake'!Q378","v":23.055555555555557},{"$f":"5/9*'daily uptake'!N378","v":13.055555555555555},{"$f":"IF(AND($A295>='daily uptake'!$C$9,$A295<='daily uptake'!$C$10),$C295+E294,0)","v":0},{"$f":"IF(AND($A295>='daily uptake'!$C$18,$A295<='daily uptake'!$C$20),$D295+F294,0)","v":961.66666666666663},{"$f":"IF(AND($A295>='daily uptake'!$C$24,$A295<='daily uptake'!$C$25),$C295+G294,0)","v":0},{"$f":"IF(OR(F295<=I7,F295>I9),0,I8+(I10-I8)*(1-((I5+EXP(I6*(I4-I7)))/(I5+EXP(I6*(I4-F295))))^I5)/(1-((I5+EXP(I6*(I4-I7)))/(I5+EXP(I6*(I4-I9))))^I5))","v":0},{"$f":"IF(OR(F295<=J7,F295>J9),0,J8+(J10-J8)*(1-((J5+EXP(J6*(J4-J7)))/(J5+EXP(J6*(J4-F295))))^J5)/(1-((J5+EXP(J6*(J4-J7)))/(J5+EXP(J6*(J4-J9))))^J5))","v":0},{"$f":"IF(OR(F295<=J9,F295>100000),0,IF(F295<=K7,K8,K8+(K10-K8)*(1-((K5+EXP(K6*(K4-K7)))/(K5+EXP(K6*(K4-F295))))^K5)/(1-((K5+EXP(K6*(K4-K7)))/(K5+EXP(K6*(K4-K9))))^K5)))","v":234.38544210000001},234.38544210000001,200.24621646553598,0,0,"2011-08-11",{"$f":"MAX(L$12:L295)+MAX(M$12:M295)+MAX(N$12:N295)","v":340.24621646553601},"2011-08-11",0,null,null,null,null,null,null,null,null,null,null,null,null,null,null,null,null,null,0,null,{"$f":"IF(OR(AJ295<=AM7,AJ295>AM9),0,AM8+(AM10-AM8)*(1-((AM5+EXP(AM6*(AM4-AM7)))/(AM5+EXP(AM6*(AM4-AJ295))))^AM5)/(1-((AM5+EXP(AM6*(AM4-AM7)))/(AM5+EXP(AM6*(AM4-AM9))))^AM5))","v":0},{"$f":"IF(OR(AJ295<=AN7,AJ295>AN9),0,AN8+(AN10-AN8)*(1-((AN5+EXP(AN6*(AN4-AN7)))/(AN5+EXP(AN6*(AN4-AJ295))))^AN5)/(1-((AN5+EXP(AN6*(AN4-AN7)))/(AN5+EXP(AN6*(AN4-AN9))))^AN5))","v":0},{"$f":"IF(OR(AJ295<=AN9,AJ295>100000),0,IF(AJ295<=AO7,AO8,AO8+(AO10-AO8)*(1-((AO5+EXP(AO6*(AO4-AO7)))/(AO5+EXP(AO6*(AO4-AJ295))))^AO5)/(1-((AO5+EXP(AO6*(AO4-AO7)))/(AO5+EXP(AO6*(AO4-AO9))))^AO5)))","v":0},0,0]
[285,{"$f":"'daily uptake'!F379","v":"2011-08-12"},{"$f":"5/9*'daily uptake'!Q379","v":22.222222222222221},{"$f":"5/9*'daily uptake'!N379","v":12.222222222222223},{"$f":"IF(AND($A296>='daily uptake'!$C$9,$A296<='daily uptake'!$C$10),$C296+E295,0)","v":0},{"$f":"IF(AND($A296>='daily uptake'!$C$18,$A296<='daily uptake'!$C$20),$D296+F295,0)","v":973.8888888888888},{"$f":"IF(AND($A296>='daily uptake'!$C$24,$A296<='daily uptake'!$C$25),$C296+G295,0)","v":0},{"$f":"IF(OR(F296<=I7,F296>I9),0,I8+(I10-I8)*(1-((I5+EXP(I6*(I4-I7)))/(I5+EXP(I6*(I4-F296))))^I5)/(1-((I5+EXP(I6*(I4-I7)))/(I5+EXP(I6*(I4-I9))))^I5))","v":0},{"$f":"IF(OR(F296<=J7,F296>J9),0,J8+(J10-J8)*(1-((J5+EXP(J6*(J4-J7)))/(J5+EXP(J6*(J4-F296))))^J5)/(1-((J5+EXP(J6*(J4-J7)))/(J5+EXP(J6*(J4-J9))))^J5))","v":0},{"$f":"IF(OR(F296<=J9,F296>100000),0,IF(F296<=K7,K8,K8+(K10-K8)*(1-((K5+EXP(K6*(K4-K7)))/(K5+EXP(K6*(K4-F296))))^K5)/(1-((K5+EXP(K6*(K4-K7)))/(K5+EXP(K6*(K4-K9))))^K5)))","v":234.38544210000001},234.38544210000001,200.24621646553598,0,0,"2011-08-12",{"$f":"MAX(L$12:L296)+MAX(M$12:M296)+MAX(N$12:N296)","v":340.24621646553601},"2011-08-12",0,null,null,null,null,null,null,null,null,null,null,null,null,null,null,null,null,null,0,null,{"$f":"IF(OR(AJ296<=AM7,AJ296>AM9),0,AM8+(AM10-AM8)*(1-((AM5+EXP(AM6*(AM4-AM7)))/(AM5+EXP(AM6*(AM4-AJ296))))^AM5)/(1-((AM5+EXP(AM6*(AM4-AM7)))/(AM5+EXP(AM6*(AM4-AM9))))^AM5))","v":0},{"$f":"IF(OR(AJ296<=AN7,AJ296>AN9),0,AN8+(AN10-AN8)*(1-((AN5+EXP(AN6*(AN4-AN7)))/(AN5+EXP(AN6*(AN4-AJ296))))^AN5)/(1-((AN5+EXP(AN6*(AN4-AN7)))/(AN5+EXP(AN6*(AN4-AN9))))^AN5))","v":0},{"$f":"IF(OR(AJ296<=AN9,AJ296>100000),0,IF(AJ296<=AO7,AO8,AO8+(AO10-AO8)*(1-((AO5+EXP(AO6*(AO4-AO7)))/(AO5+EXP(AO6*(AO4-AJ296))))^AO5)/(1-((AO5+EXP(AO6*(AO4-AO7)))/(AO5+EXP(AO6*(AO4-AO9))))^AO5)))","v":0},0,0]
[286,{"$f":"'daily uptake'!F380","v":"2011-08-13"},{"$f":"5/9*'daily uptake'!Q380","v":24.722222222222225},{"$f":"5/9*'daily uptake'!N380","v":14.722222222222223},{"$f":"IF(AND($A297>='daily uptake'!$C$9,$A297<='daily uptake'!$C$10),$C297+E296,0)","v":0},{"$f":"IF(AND($A297>='daily uptake'!$C$18,$A297<='daily uptake'!$C$20),$D297+F296,0)","v":988.61111111111097},{"$f":"IF(AND($A297>='daily uptake'!$C$24,$A297<='daily uptake'!$C$25),$C297+G296,0)","v":0},{"$f":"IF(OR(F297<=I7,F297>I9),0,I8+(I10-I8)*(1-((I5+EXP(I6*(I4-I7)))/(I5+EXP(I6*(I4-F297))))^I5)/(1-((I5+EXP(I6*(I4-I7)))/(I5+EXP(I6*(I4-I9))))^I5))","v":0},{"$f":"IF(OR(F297<=J7,F297>J9),0,J8+(J10-J8)*(1-((J5+EXP(J6*(J4-J7)))/(J5+EXP(J6*(J4-F297))))^J5)/(1-((J5+EXP(J6*(J4-J7)))/(J5+EXP(J6*(J4-J9))))^J5))","v":0},{"$f":"IF(OR(F297<=J9,F297>100000),0,IF(F297<=K7,K8,K8+(K10-K8)*(1-((K5+EXP(K6*(K4-K7)))/(K5+EXP(K6*(K4-F297))))^K5)/(1-((K5+EXP(K6*(K4-K7)))/(K5+EXP(K6*(K4-K9))))^K5)))","v":234.38544210000001},234.38544210000001,200.24621646553598,0,0,"2011-08-13",{"$f":"MAX(L$12:L297)+MAX(M$12:M297)+MAX(N$12:N297)","v":340.24621646553601},"2011-08-13",0,null,null,null,null,null,null,null,null,null,null,null,null,null,null,null,null,null,0,null,{"$f":"IF(OR(AJ297<=AM7,AJ297>AM9),0,AM8+(AM10-AM8)*(1-((AM5+EXP(AM6*(AM4-AM7)))/(AM5+EXP(AM6*(AM4-AJ297))))^AM5)/(1-((AM5+EXP(AM6*(AM4-AM7)))/(AM5+EXP(AM6*(AM4-AM9))))^AM5))","v":0},{"$f":"IF(OR(AJ297<=AN7,AJ297>AN9),0,AN8+(AN10-AN8)*(1-((AN5+EXP(AN6*(AN4-AN7)))/(AN5+EXP(AN6*(AN4-AJ297))))^AN5)/(1-((AN5+EXP(AN6*(AN4-AN7)))/(AN5+EXP(AN6*(AN4-AN9))))^AN5))","v":0},{"$f":"IF(OR(AJ297<=AN9,AJ297>100000),0,IF(AJ297<=AO7,AO8,AO8+(AO10-AO8)*(1-((AO5+EXP(AO6*(AO4-AO7)))/(AO5+EXP(AO6*(AO4-AJ297))))^AO5)/(1-((AO5+EXP(AO6*(AO4-AO7)))/(AO5+EXP(AO6*(AO4-AO9))))^AO5)))","v":0},0,0]
[287,{"$f":"'daily uptake'!F381","v":"2011-08-14"},{"$f":"5/9*'daily uptake'!Q381","v":23.888888888888889},{"$f":"5/9*'daily uptake'!N381","v":13.888888888888889},{"$f":"IF(AND($A298>='daily uptake'!$C$9,$A298<='daily uptake'!$C$10),$C298+E297,0)","v":0},{"$f":"IF(AND($A298>='daily uptake'!$C$18,$A298<='daily uptake'!$C$20),$D298+F297,0)","v":1002.4999999999999},{"$f":"IF(AND($A298>='daily uptake'!$C$24,$A298<='daily uptake'!$C$25),$C298+G297,0)","v":0},{"$f":"IF(OR(F298<=I7,F298>I9),0,I8+(I10-I8)*(1-((I5+EXP(I6*(I4-I7)))/(I5+EXP(I6*(I4-F298))))^I5)/(1-((I5+EXP(I6*(I4-I7)))/(I5+EXP(I6*(I4-I9))))^I5))","v":0},{"$f":"IF(OR(F298<=J7,F298>J9),0,J8+(J10-J8)*(1-((J5+EXP(J6*(J4-J7)))/(J5+EXP(J6*(J4-F298))))^J5)/(1-((J5+EXP(J6*(J4-J7)))/(J5+EXP(J6*(J4-J9))))^J5))","v":0},{"$f":"IF(OR(F298<=J9,F298>100000),0,IF(F298<=K7,K8,K8+(K10-K8)*(1-((K5+EXP(K6*(K4-K7)))/(K5+EXP(K6*(K4-F298))))^K5)/(1-((K5+EXP(K6*(K4-K7)))/(K5+EXP(K6*(K4-K9))))^K5)))","v":236.20028327106152},236.20028327106152,201.79671838551403,0,0,"2011-08-14",{"$f":"MAX(L$12:L298)+MAX(M$12:M298)+MAX(N$12:N298)","v":341.79671838551405},"2011-08-14",1.5505019199780463,null,null,null,null,null,null,null,null,null,null,null,null,null,null,null,null,null,0,null,{"$f":"IF(OR(AJ298<=AM7,AJ298>AM9),0,AM8+(AM10-AM8)*(1-((AM5+EXP(AM6*(AM4-AM7)))/(AM5+EXP(AM6*(AM4-AJ298))))^AM5)/(1-((AM5+EXP(AM6*(AM4-AM7)))/(AM5+EXP(AM6*(AM4-AM9))))^AM5))","v":0},{"$f":"IF(OR(AJ298<=AN7,AJ298>AN9),0,AN8+(AN10-AN8)*(1-((AN5+EXP(AN6*(AN4-AN7)))/(AN5+EXP(AN6*(AN4-AJ298))))^AN5)/(1-((AN5+EXP(AN6*(AN4-AN7)))/(AN5+EXP(AN6*(AN4-AN9))))^AN5))","v":0},{"$f":"IF(OR(AJ298<=AN9,AJ298>100000),0,IF(AJ298<=AO7,AO8,AO8+(AO10-AO8)*(1-((AO5+EXP(AO6*(AO4-AO7)))/(AO5+EXP(AO6*(AO4-AJ298))))^AO5)/(1-((AO5+EXP(AO6*(AO4-AO7)))/(AO5+EXP(AO6*(AO4-AO9))))^AO5)))","v":0},0,0]
[288,{"$f":"'daily uptake'!F382","v":"2011-08-15"},{"$f":"5/9*'daily uptake'!Q382","v":23.333333333333336},{"$f":"5/9*'daily uptake'!N382","v":13.333333333333334},{"$f":"IF(AND($A299>='daily uptake'!$C$9,$A299<='daily uptake'!$C$10),$C299+E298,0)","v":0},{"$f":"IF(AND($A299>='daily uptake'!$C$18,$A299<='daily uptake'!$C$20),$D299+F298,0)","v":1015.8333333333333},{"$f":"IF(AND($A299>='daily uptake'!$C$24,$A299<='daily uptake'!$C$25),$C299+G298,0)","v":0},{"$f":"IF(OR(F299<=I7,F299>I9),0,I8+(I10-I8)*(1-((I5+EXP(I6*(I4-I7)))/(I5+EXP(I6*(I4-F299))))^I5)/(1-((I5+EXP(I6*(I4-I7)))/(I5+EXP(I6*(I4-I9))))^I5))","v":0},{"$f":"IF(OR(F299<=J7,F299>J9),0,J8+(J10-J8)*(1-((J5+EXP(J6*(J4-J7)))/(J5+EXP(J6*(J4-F299))))^J5)/(1-((J5+EXP(J6*(J4-J7)))/(J5+EXP(J6*(J4-J9))))^J5))","v":0},{"$f":"IF(OR(F299<=J9,F299>100000),0,IF(F299<=K7,K8,K8+(K10-K8)*(1-((K5+EXP(K6*(K4-K7)))/(K5+EXP(K6*(K4-F299))))^K5)/(1-((K5+EXP(K6*(K4-K7)))/(K5+EXP(K6*(K4-K9))))^K5)))","v":238.61880694434643},238.61880694434643,203.86297391174679,0,0,"2011-08-15",{"$f":"MAX(L$12:L299)+MAX(M$12:M299)+MAX(N$12:N299)","v":343.86297391174679},"2011-08-15",2.0662555262327373,null,null,null,null,null,null,null,null,null,null,null,null,null,null,null,null,null,0,null,{"$f":"IF(OR(AJ299<=AM7,AJ299>AM9),0,AM8+(AM10-AM8)*(1-((AM5+EXP(AM6*(AM4-AM7)))/(AM5+EXP(AM6*(AM4-AJ299))))^AM5)/(1-((AM5+EXP(AM6*(AM4-AM7)))/(AM5+EXP(AM6*(AM4-AM9))))^AM5))","v":0},{"$f":"IF(OR(AJ299<=AN7,AJ299>AN9),0,AN8+(AN10-AN8)*(1-((AN5+EXP(AN6*(AN4-AN7)))/(AN5+EXP(AN6*(AN4-AJ299))))^AN5)/(1-((AN5+EXP(AN6*(AN4-AN7)))/(AN5+EXP(AN6*(AN4-AN9))))^AN5))","v":0},{"$f":"IF(OR(AJ299<=AN9,AJ299>100000),0,IF(AJ299<=AO7,AO8,AO8+(AO10-AO8)*(1-((AO5+EXP(AO6*(AO4-AO7)))/(AO5+EXP(AO6*(AO4-AJ299))))^AO5)/(1-((AO5+EXP(AO6*(AO4-AO7)))/(AO5+EXP(AO6*(AO4-AO9))))^AO5)))","v":0},0,0]
[289,{"$f":"'daily uptake'!F383","v":"2011-08-16"},{"$f":"5/9*'daily uptake'!Q383","v":22.777777777777779},{"$f":"5/9*'daily uptake'!N383","v":12.777777777777779},{"$f":"IF(AND($A300>='daily uptake'!$C$9,$A300<='daily uptake'!$C$10),$C300+E299,0)","v":0},{"$f":"IF(AND($A300>='daily uptake'!$C$18,$A300<='daily uptake'!$C$20),$D300+F299,0)","v":1028.6111111111111},{"$f":"IF(AND($A300>='daily uptake'!$C$24,$A300<='daily uptake'!$C$25),$C300+G299,0)","v":0},{"$f":"IF(OR(F300<=I7,F300>I9),0,I8+(I10-I8)*(1-((I5+EXP(I6*(I4-I7)))/(I5+EXP(I6*(I4-F300))))^I5)/(1-((I5+EXP(I6*(I4-I7)))/(I5+EXP(I6*(I4-I9))))^I5))","v":0},{"$f":"IF(OR(F300<=J7,F300>J9),0,J8+(J10-J8)*(1-((J5+EXP(J6*(J4-J7)))/(J5+EXP(J6*(J4-F300))))^J5)/(1-((J5+EXP(J6*(J4-J7)))/(J5+EXP(J6*(J4-J9))))^J5))","v":0},{"$f":"IF(OR(F300<=J9,F300>100000),0,IF(F300<=K7,K8,K8+(K10-K8)*(1-((K5+EXP(K6*(K4-K7)))/(K5+EXP(K6*(K4-F300))))^K5)/(1-((K5+EXP(K6*(K4-K7)))/(K5+EXP(K6*(K4-K9))))^K5)))","v":241.09137363133902},241.09137363133902,205.97540085939718,0,0,"2011-08-16",{"$f":"MAX(L$12:L300)+MAX(M$12:M300)+MAX(N$12:N300)","v":345.97540085939715},"2011-08-16",2.1124269476503628,null,null,null,null,null,null,null,null,null,null,null,null,null,null,null,null,null,0,null,{"$f":"IF(OR(AJ300<=AM7,AJ300>AM9),0,AM8+(AM10-AM8)*(1-((AM5+EXP(AM6*(AM4-AM7)))/(AM5+EXP(AM6*(AM4-AJ300))))^AM5)/(1-((AM5+EXP(AM6*(AM4-AM7)))/(AM5+EXP(AM6*(AM4-AM9))))^AM5))","v":0},{"$f":"IF(OR(AJ300<=AN7,AJ300>AN9),0,AN8+(AN10-AN8)*(1-((AN5+EXP(AN6*(AN4-AN7)))/(AN5+EXP(AN6*(AN4-AJ300))))^AN5)/(1-((AN5+EXP(AN6*(AN4-AN7)))/(AN5+EXP(AN6*(AN4-AN9))))^AN5))","v":0},{"$f":"IF(OR(AJ300<=AN9,AJ300>100000),0,IF(AJ300<=AO7,AO8,AO8+(AO10-AO8)*(1-((AO5+EXP(AO6*(AO4-AO7)))/(AO5+EXP(AO6*(AO4-AJ300))))^AO5)/(1-((AO5+EXP(AO6*(AO4-AO7)))/(AO5+EXP(AO6*(AO4-AO9))))^AO5)))","v":0},0,0]
[290,{"$f":"'daily uptake'!F384","v":"2011-08-17"},{"$f":"5/9*'daily uptake'!Q384","v":23.333333333333336},{"$f":"5/9*'daily uptake'!N384","v":13.333333333333334},{"$f":"IF(AND($A301>='daily uptake'!$C$9,$A301<='daily uptake'!$C$10),$C301+E300,0)","v":0},{"$f":"IF(AND($A301>='daily uptake'!$C$18,$A301<='daily uptake'!$C$20),$D301+F300,0)","v":1041.9444444444443},{"$f":"IF(AND($A301>='daily uptake'!$C$24,$A301<='daily uptake'!$C$25),$C301+G300,0)","v":0},{"$f":"IF(OR(F301<=I7,F301>I9),0,I8+(I10-I8)*(1-((I5+EXP(I6*(I4-I7)))/(I5+EXP(I6*(I4-F301))))^I5)/(1-((I5+EXP(I6*(I4-I7)))/(I5+EXP(I6*(I4-I9))))^I5))","v":0},{"$f":"IF(OR(F301<=J7,F301>J9),0,J8+(J10-J8)*(1-((J5+EXP(J6*(J4-J7)))/(J5+EXP(J6*(J4-F301))))^J5)/(1-((J5+EXP(J6*(J4-J7)))/(J5+EXP(J6*(J4-J9))))^J5))","v":0},{"$f":"IF(OR(F301<=J9,F301>100000),0,IF(F301<=K7,K8,K8+(K10-K8)*(1-((K5+EXP(K6*(K4-K7)))/(K5+EXP(K6*(K4-F301))))^K5)/(1-((K5+EXP(K6*(K4-K7)))/(K5+EXP(K6*(K4-K9))))^K5)))","v":243.83983108460146},243.83983108460146,208.32353392261658,0,0,"2011-08-17",{"$f":"MAX(L$12:L301)+MAX(M$12:M301)+MAX(N$12:N301)","v":348.32353392261655},"2011-08-17",2.3481330632193931,null,null,null,null,null,null,null,null,null,null,null,null,null,null,null,null,null,0,null,{"$f":"IF(OR(AJ301<=AM7,AJ301>AM9),0,AM8+(AM10-AM8)*(1-((AM5+EXP(AM6*(AM4-AM7)))/(AM5+EXP(AM6*(AM4-AJ301))))^AM5)/(1-((AM5+EXP(AM6*(AM4-AM7)))/(AM5+EXP(AM6*(AM4-AM9))))^AM5))","v":0},{"$f":"IF(OR(AJ301<=AN7,AJ301>AN9),0,AN8+(AN10-AN8)*(1-((AN5+EXP(AN6*(AN4-AN7)))/(AN5+EXP(AN6*(AN4-AJ301))))^AN5)/(1-((AN5+EXP(AN6*(AN4-AN7)))/(AN5+EXP(AN6*(AN4-AN9))))^AN5))","v":0},{"$f":"IF(OR(AJ301<=AN9,AJ301>100000),0,IF(AJ301<=AO7,AO8,AO8+(AO10-AO8)*(1-((AO5+EXP(AO6*(AO4-AO7)))/(AO5+EXP(AO6*(AO4-AJ301))))^AO5)/(1-((AO5+EXP(AO6*(AO4-AO7)))/(AO5+EXP(AO6*(AO4-AO9))))^AO5)))","v":0},0,0]
[291,{"$f":"'daily uptake'!F385","v":"2011-08-18"},{"$f":"5/9*'daily uptake'!Q385","v":23.611111111111111},{"$f":"5/9*'daily uptake'!N385","v":13.611111111111112},{"$f":"IF(AND($A302>='daily uptake'!$C$9,$A302<='daily uptake'!$C$10),$C302+E301,0)","v":0},{"$f":"IF(AND($A302>='daily uptake'!$C$18,$A302<='daily uptake'!$C$20),$D302+F301,0)","v":1055.5555555555554},{"$f":"IF(AND($A302>='daily uptake'!$C$24,$A302<='daily uptake'!$C$25),$C302+G301,0)","v":0},{"$f":"IF(OR(F302<=I7,F302>I9),0,I8+(I10-I8)*(1-((I5+EXP(I6*(I4-I7)))/(I5+EXP(I6*(I4-F302))))^I5)/(1-((I5+EXP(I6*(I4-I7)))/(I5+EXP(I6*(I4-I9))))^I5))","v":0},{"$f":"IF(OR(F302<=J7,F302>J9),0,J8+(J10-J8)*(1-((J5+EXP(J6*(J4-J7)))/(J5+EXP(J6*(J4-F302))))^J5)/(1-((J5+EXP(J6*(J4-J7)))/(J5+EXP(J6*(J4-J9))))^J5))","v":0},{"$f":"IF(OR(F302<=J9,F302>100000),0,IF(F302<=K7,K8,K8+(K10-K8)*(1-((K5+EXP(K6*(K4-K7)))/(K5+EXP(K6*(K4-F302))))^K5)/(1-((K5+EXP(K6*(K4-K7)))/(K5+EXP(K6*(K4-K9))))^K5)))","v":246.82972619662326},246.82972619662326,210.87793823393778,0,0,"2011-08-18",{"$f":"MAX(L$12:L302)+MAX(M$12:M302)+MAX(N$12:N302)","v":350.87793823393781},"2011-08-18",2.5544043113212638,null,null,null,null,null,null,null,null,null,null,null,null,null,null,null,null,null,0,null,{"$f":"IF(OR(AJ302<=AM7,AJ302>AM9),0,AM8+(AM10-AM8)*(1-((AM5+EXP(AM6*(AM4-AM7)))/(AM5+EXP(AM6*(AM4-AJ302))))^AM5)/(1-((AM5+EXP(AM6*(AM4-AM7)))/(AM5+EXP(AM6*(AM4-AM9))))^AM5))","v":0},{"$f":"IF(OR(AJ302<=AN7,AJ302>AN9),0,AN8+(AN10-AN8)*(1-((AN5+EXP(AN6*(AN4-AN7)))/(AN5+EXP(AN6*(AN4-AJ302))))^AN5)/(1-((AN5+EXP(AN6*(AN4-AN7)))/(AN5+EXP(AN6*(AN4-AN9))))^AN5))","v":0},{"$f":"IF(OR(AJ302<=AN9,AJ302>100000),0,IF(AJ302<=AO7,AO8,AO8+(AO10-AO8)*(1-((AO5+EXP(AO6*(AO4-AO7)))/(AO5+EXP(AO6*(AO4-AJ302))))^AO5)/(1-((AO5+EXP(AO6*(AO4-AO7)))/(AO5+EXP(AO6*(AO4-AO9))))^AO5)))","v":0},0,0]
[292,{"$f":"'daily uptake'!F386","v":"2011-08-19"},{"$f":"5/9*'daily uptake'!Q386","v":22.222222222222221},{"$f":"5/9*'daily uptake'!N386","v":12.222222222222223},{"$f":"IF(AND($A303>='daily uptake'!$C$9,$A303<='daily uptake'!$C$10),$C303+E302,0)","v":0},{"$f":"IF(AND($A303>='daily uptake'!$C$18,$A303<='daily uptake'!$C$20),$D303+F302,0)","v":1067.7777777777776},{"$f":"IF(AND($A303>='daily uptake'!$C$24,$A303<='daily uptake'!$C$25),$C303+G302,0)","v":0},{"$f":"IF(OR(F303<=I7,F303>I9),0,I8+(I10-I8)*(1-((I5+EXP(I6*(I4-I7)))/(I5+EXP(I6*(I4-F303))))^I5)/(1-((I5+EXP(I6*(I4-I7)))/(I5+EXP(I6*(I4-I9))))^I5))","v":0},{"$f":"IF(OR(F303<=J7,F303>J9),0,J8+(J10-J8)*(1-((J5+EXP(J6*(J4-J7)))/(J5+EXP(J6*(J4-F303))))^J5)/(1-((J5+EXP(J6*(J4-J7)))/(J5+EXP(J6*(J4-J9))))^J5))","v":0},{"$f":"IF(OR(F303<=J9,F303>100000),0,IF(F303<=K7,K8,K8+(K10-K8)*(1-((K5+EXP(K6*(K4-K7)))/(K5+EXP(K6*(K4-F303))))^K5)/(1-((K5+EXP(K6*(K4-K7)))/(K5+EXP(K6*(K4-K9))))^K5)))","v":249.67833812431616},249.67833812431616,213.31163785106557,0,0,"2011-08-19",{"$f":"MAX(L$12:L303)+MAX(M$12:M303)+MAX(N$12:N303)","v":353.3116378510656},"2011-08-19",2.433699617127786,null,null,null,null,null,null,null,null,null,null,null,null,null,null,null,null,null,0,null,{"$f":"IF(OR(AJ303<=AM7,AJ303>AM9),0,AM8+(AM10-AM8)*(1-((AM5+EXP(AM6*(AM4-AM7)))/(AM5+EXP(AM6*(AM4-AJ303))))^AM5)/(1-((AM5+EXP(AM6*(AM4-AM7)))/(AM5+EXP(AM6*(AM4-AM9))))^AM5))","v":0},{"$f":"IF(OR(AJ303<=AN7,AJ303>AN9),0,AN8+(AN10-AN8)*(1-((AN5+EXP(AN6*(AN4-AN7)))/(AN5+EXP(AN6*(AN4-AJ303))))^AN5)/(1-((AN5+EXP(AN6*(AN4-AN7)))/(AN5+EXP(AN6*(AN4-AN9))))^AN5))","v":0},{"$f":"IF(OR(AJ303<=AN9,AJ303>100000),0,IF(AJ303<=AO7,AO8,AO8+(AO10-AO8)*(1-((AO5+EXP(AO6*(AO4-AO7)))/(AO5+EXP(AO6*(AO4-AJ303))))^AO5)/(1-((AO5+EXP(AO6*(AO4-AO7)))/(AO5+EXP(AO6*(AO4-AO9))))^AO5)))","v":0},0,0]
[293,{"$f":"'daily uptake'!F387","v":"2011-08-20"},{"$f":"5/9*'daily uptake'!Q387","v":21.388888888888889},{"$f":"5/9*'daily uptake'!N387","v":11.388888888888889},{"$f":"IF(AND($A304>='daily uptake'!$C$9,$A304<='daily uptake'!$C$10),$C304+E303,0)","v":0},{"$f":"IF(AND($A304>='daily uptake'!$C$18,$A304<='daily uptake'!$C$20),$D304+F303,0)","v":1079.1666666666665},{"$f":"IF(AND($A304>='daily uptake'!$C$24,$A304<='daily uptake'!$C$25),$C304+G303,0)","v":0},{"$f":"IF(OR(F304<=I7,F304>I9),0,I8+(I10-I8)*(1-((I5+EXP(I6*(I4-I7)))/(I5+EXP(I6*(I4-F304))))^I5)/(1-((I5+EXP(I6*(I4-I7)))/(I5+EXP(I6*(I4-I9))))^I5))","v":0},{"$f":"IF(OR(F304<=J7,F304>J9),0,J8+(J10-J8)*(1-((J5+EXP(J6*(J4-J7)))/(J5+EXP(J6*(J4-F304))))^J5)/(1-((J5+EXP(J6*(J4-J7)))/(J5+EXP(J6*(J4-J9))))^J5))","v":0},{"$f":"IF(OR(F304<=J9,F304>100000),0,IF(F304<=K7,K8,K8+(K10-K8)*(1-((K5+EXP(K6*(K4-K7)))/(K5+EXP(K6*(K4-F304))))^K5)/(1-((K5+EXP(K6*(K4-K7)))/(K5+EXP(K6*(K4-K9))))^K5)))","v":252.47594312712158},252.47594312712158,215.7017599164873,0,0,"2011-08-20",{"$f":"MAX(L$12:L304)+MAX(M$12:M304)+MAX(N$12:N304)","v":355.70175991648728},"2011-08-20",2.3901220654216786,null,null,null,null,null,null,null,null,null,null,null,null,null,null,null,null,null,0,null,{"$f":"IF(OR(AJ304<=AM7,AJ304>AM9),0,AM8+(AM10-AM8)*(1-((AM5+EXP(AM6*(AM4-AM7)))/(AM5+EXP(AM6*(AM4-AJ304))))^AM5)/(1-((AM5+EXP(AM6*(AM4-AM7)))/(AM5+EXP(AM6*(AM4-AM9))))^AM5))","v":0},{"$f":"IF(OR(AJ304<=AN7,AJ304>AN9),0,AN8+(AN10-AN8)*(1-((AN5+EXP(AN6*(AN4-AN7)))/(AN5+EXP(AN6*(AN4-AJ304))))^AN5)/(1-((AN5+EXP(AN6*(AN4-AN7)))/(AN5+EXP(AN6*(AN4-AN9))))^AN5))","v":0},{"$f":"IF(OR(AJ304<=AN9,AJ304>100000),0,IF(AJ304<=AO7,AO8,AO8+(AO10-AO8)*(1-((AO5+EXP(AO6*(AO4-AO7)))/(AO5+EXP(AO6*(AO4-AJ304))))^AO5)/(1-((AO5+EXP(AO6*(AO4-AO7)))/(AO5+EXP(AO6*(AO4-AO9))))^AO5)))","v":0},0,0]
[294,{"$f":"'daily uptake'!F388","v":"2011-08-21"},{"$f":"5/9*'daily uptake'!Q388","v":21.944444444444446},{"$f":"5/9*'daily uptake'!N388","v":11.944444444444445},{"$f":"IF(AND($A305>='daily uptake'!$C$9,$A305<='daily uptake'!$C$10),$C305+E304,0)","v":0},{"$f":"IF(AND($A305>='daily uptake'!$C$18,$A305<='daily uptake'!$C$20),$D305+F304,0)","v":1091.1111111111109},{"$f":"IF(AND($A305>='daily uptake'!$C$24,$A305<='daily uptake'!$C$25),$C305+G304,0)","v":0},{"$f":"IF(OR(F305<=I7,F305>I9),0,I8+(I10-I8)*(1-((I5+EXP(I6*(I4-I7)))/(I5+EXP(I6*(I4-F305))))^I5)/(1-((I5+EXP(I6*(I4-I7)))/(I5+EXP(I6*(I4-I9))))^I5))","v":0},{"$f":"IF(OR(F305<=J7,F305>J9),0,J8+(J10-J8)*(1-((J5+EXP(J6*(J4-J7)))/(J5+EXP(J6*(J4-F305))))^J5)/(1-((J5+EXP(J6*(J4-J7)))/(J5+EXP(J6*(J4-J9))))^J5))","v":0},{"$f":"IF(OR(F305<=J9,F305>100000),0,IF(F305<=K7,K8,K8+(K10-K8)*(1-((K5+EXP(K6*(K4-K7)))/(K5+EXP(K6*(K4-F305))))^K5)/(1-((K5+EXP(K6*(K4-K7)))/(K5+EXP(K6*(K4-K9))))^K5)))","v":255.56147569633126},255.56147569633126,218.33787168703753,0,0,"2011-08-21",{"$f":"MAX(L$12:L305)+MAX(M$12:M305)+MAX(N$12:N305)","v":358.33787168703753},"2011-08-21",2.6361117705502579,null,null,null,null,null,null,null,null,null,null,null,null,null,null,null,null,null,0,null,{"$f":"IF(OR(AJ305<=AM7,AJ305>AM9),0,AM8+(AM10-AM8)*(1-((AM5+EXP(AM6*(AM4-AM7)))/(AM5+EXP(AM6*(AM4-AJ305))))^AM5)/(1-((AM5+EXP(AM6*(AM4-AM7)))/(AM5+EXP(AM6*(AM4-AM9))))^AM5))","v":0},{"$f":"IF(OR(AJ305<=AN7,AJ305>AN9),0,AN8+(AN10-AN8)*(1-((AN5+EXP(AN6*(AN4-AN7)))/(AN5+EXP(AN6*(AN4-AJ305))))^AN5)/(1-((AN5+EXP(AN6*(AN4-AN7)))/(AN5+EXP(AN6*(AN4-AN9))))^AN5))","v":0},{"$f":"IF(OR(AJ305<=AN9,AJ305>100000),0,IF(AJ305<=AO7,AO8,AO8+(AO10-AO8)*(1-((AO5+EXP(AO6*(AO4-AO7)))/(AO5+EXP(AO6*(AO4-AJ305))))^AO5)/(1-((AO5+EXP(AO6*(AO4-AO7)))/(AO5+EXP(AO6*(AO4-AO9))))^AO5)))","v":0},0,0]
[295,{"$f":"'daily uptake'!F389","v":"2011-08-22"},{"$f":"5/9*'daily uptake'!Q389","v":21.944444444444446},{"$f":"5/9*'daily uptake'!N389","v":11.944444444444445},{"$f":"IF(AND($A306>='daily uptake'!$C$9,$A306<='daily uptake'!$C$10),$C306+E305,0)","v":0},{"$f":"IF(AND($A306>='daily uptake'!$C$18,$A306<='daily uptake'!$C$20),$D306+F305,0)","v":1103.0555555555552},{"$f":"IF(AND($A306>='daily uptake'!$C$24,$A306<='daily uptake'!$C$25),$C306+G305,0)","v":0},{"$f":"IF(OR(F306<=I7,F306>I9),0,I8+(I10-I8)*(1-((I5+EXP(I6*(I4-I7)))/(I5+EXP(I6*(I4-F306))))^I5)/(1-((I5+EXP(I6*(I4-I7)))/(I5+EXP(I6*(I4-I9))))^I5))","v":0},{"$f":"IF(OR(F306<=J7,F306>J9),0,J8+(J10-J8)*(1-((J5+EXP(J6*(J4-J7)))/(J5+EXP(J6*(J4-F306))))^J5)/(1-((J5+EXP(J6*(J4-J7)))/(J5+EXP(J6*(J4-J9))))^J5))","v":0},{"$f":"IF(OR(F306<=J9,F306>100000),0,IF(F306<=K7,K8,K8+(K10-K8)*(1-((K5+EXP(K6*(K4-K7)))/(K5+EXP(K6*(K4-F306))))^K5)/(1-((K5+EXP(K6*(K4-K7)))/(K5+EXP(K6*(K4-K9))))^K5)))","v":258.80437101989088},258.80437101989088,221.10842566478644,0,0,"2011-08-22",{"$f":"MAX(L$12:L306)+MAX(M$12:M306)+MAX(N$12:N306)","v":361.10842566478641},"2011-08-22",2.7705539777488752,null,null,null,null,null,null,null,null,null,null,null,null,null,null,null,null,null,0,null,{"$f":"IF(OR(AJ306<=AM7,AJ306>AM9),0,AM8+(AM10-AM8)*(1-((AM5+EXP(AM6*(AM4-AM7)))/(AM5+EXP(AM6*(AM4-AJ306))))^AM5)/(1-((AM5+EXP(AM6*(AM4-AM7)))/(AM5+EXP(AM6*(AM4-AM9))))^AM5))","v":0},{"$f":"IF(OR(AJ306<=AN7,AJ306>AN9),0,AN8+(AN10-AN8)*(1-((AN5+EXP(AN6*(AN4-AN7)))/(AN5+EXP(AN6*(AN4-AJ306))))^AN5)/(1-((AN5+EXP(AN6*(AN4-AN7)))/(AN5+EXP(AN6*(AN4-AN9))))^AN5))","v":0},{"$f":"IF(OR(AJ306<=AN9,AJ306>100000),0,IF(AJ306<=AO7,AO8,AO8+(AO10-AO8)*(1-((AO5+EXP(AO6*(AO4-AO7)))/(AO5+EXP(AO6*(AO4-AJ306))))^AO5)/(1-((AO5+EXP(AO6*(AO4-AO7)))/(AO5+EXP(AO6*(AO4-AO9))))^AO5)))","v":0},0,0]
[296,{"$f":"'daily uptake'!F390","v":"2011-08-23"},{"$f":"5/9*'daily uptake'!Q390","v":23.888888888888889},{"$f":"5/9*'daily uptake'!N390","v":13.888888888888889},{"$f":"IF(AND($A307>='daily uptake'!$C$9,$A307<='daily uptake'!$C$10),$C307+E306,0)","v":0},{"$f":"IF(AND($A307>='daily uptake'!$C$18,$A307<='daily uptake'!$C$20),$D307+F306,0)","v":1116.9444444444441},{"$f":"IF(AND($A307>='daily uptake'!$C$24,$A307<='daily uptake'!$C$25),$C307+G306,0)","v":0},{"$f":"IF(OR(F307<=I7,F307>I9),0,I8+(I10-I8)*(1-((I5+EXP(I6*(I4-I7)))/(I5+EXP(I6*(I4-F307))))^I5)/(1-((I5+EXP(I6*(I4-I7)))/(I5+EXP(I6*(I4-I9))))^I5))","v":0},{"$f":"IF(OR(F307<=J7,F307>J9),0,J8+(J10-J8)*(1-((J5+EXP(J6*(J4-J7)))/(J5+EXP(J6*(J4-F307))))^J5)/(1-((J5+EXP(J6*(J4-J7)))/(J5+EXP(J6*(J4-J9))))^J5))","v":0},{"$f":"IF(OR(F307<=J9,F307>100000),0,IF(F307<=K7,K8,K8+(K10-K8)*(1-((K5+EXP(K6*(K4-K7)))/(K5+EXP(K6*(K4-F307))))^K5)/(1-((K5+EXP(K6*(K4-K7)))/(K5+EXP(K6*(K4-K9))))^K5)))","v":262.77485702351697},262.77485702351697,224.50059367928398,0,0,"2011-08-23",{"$f":"MAX(L$12:L307)+MAX(M$12:M307)+MAX(N$12:N307)","v":364.50059367928395},"2011-08-23",3.3921680144975426,null,null,null,null,null,null,null,null,null,null,null,null,null,null,null,null,null,0,null,{"$f":"IF(OR(AJ307<=AM7,AJ307>AM9),0,AM8+(AM10-AM8)*(1-((AM5+EXP(AM6*(AM4-AM7)))/(AM5+EXP(AM6*(AM4-AJ307))))^AM5)/(1-((AM5+EXP(AM6*(AM4-AM7)))/(AM5+EXP(AM6*(AM4-AM9))))^AM5))","v":0},{"$f":"IF(OR(AJ307<=AN7,AJ307>AN9),0,AN8+(AN10-AN8)*(1-((AN5+EXP(AN6*(AN4-AN7)))/(AN5+EXP(AN6*(AN4-AJ307))))^AN5)/(1-((AN5+EXP(AN6*(AN4-AN7)))/(AN5+EXP(AN6*(AN4-AN9))))^AN5))","v":0},{"$f":"IF(OR(AJ307<=AN9,AJ307>100000),0,IF(AJ307<=AO7,AO8,AO8+(AO10-AO8)*(1-((AO5+EXP(AO6*(AO4-AO7)))/(AO5+EXP(AO6*(AO4-AJ307))))^AO5)/(1-((AO5+EXP(AO6*(AO4-AO7)))/(AO5+EXP(AO6*(AO4-AO9))))^AO5)))","v":0},0,0]
[297,{"$f":"'daily uptake'!F391","v":"2011-08-24"},{"$f":"5/9*'daily uptake'!Q391","v":25.555555555555557},{"$f":"5/9*'daily uptake'!N391","v":15.555555555555557},{"$f":"IF(AND($A308>='daily uptake'!$C$9,$A308<='daily uptake'!$C$10),$C308+E307,0)","v":0},{"$f":"IF(AND($A308>='daily uptake'!$C$18,$A308<='daily uptake'!$C$20),$D308+F307,0)","v":1132.4999999999998},{"$f":"IF(AND($A308>='daily uptake'!$C$24,$A308<='daily uptake'!$C$25),$C308+G307,0)","v":0},{"$f":"IF(OR(F308<=I7,F308>I9),0,I8+(I10-I8)*(1-((I5+EXP(I6*(I4-I7)))/(I5+EXP(I6*(I4-F308))))^I5)/(1-((I5+EXP(I6*(I4-I7)))/(I5+EXP(I6*(I4-I9))))^I5))","v":0},{"$f":"IF(OR(F308<=J7,F308>J9),0,J8+(J10-J8)*(1-((J5+EXP(J6*(J4-J7)))/(J5+EXP(J6*(J4-F308))))^J5)/(1-((J5+EXP(J6*(J4-J7)))/(J5+EXP(J6*(J4-J9))))^J5))","v":0},{"$f":"IF(OR(F308<=J9,F308>100000),0,IF(F308<=K7,K8,K8+(K10-K8)*(1-((K5+EXP(K6*(K4-K7)))/(K5+EXP(K6*(K4-F308))))^K5)/(1-((K5+EXP(K6*(K4-K7)))/(K5+EXP(K6*(K4-K9))))^K5)))","v":267.47690178092267},267.47690178092267,228.51776583761446,0,0,"2011-08-24",{"$f":"MAX(L$12:L308)+MAX(M$12:M308)+MAX(N$12:N308)","v":368.51776583761443},"2011-08-24",4.0171721583304816,null,null,null,null,null,null,null,null,null,null,null,null,null,null,null,null,null,0,null,{"$f":"IF(OR(AJ308<=AM7,AJ308>AM9),0,AM8+(AM10-AM8)*(1-((AM5+EXP(AM6*(AM4-AM7)))/(AM5+EXP(AM6*(AM4-AJ308))))^AM5)/(1-((AM5+EXP(AM6*(AM4-AM7)))/(AM5+EXP(AM6*(AM4-AM9))))^AM5))","v":0},{"$f":"IF(OR(AJ308<=AN7,AJ308>AN9),0,AN8+(AN10-AN8)*(1-((AN5+EXP(AN6*(AN4-AN7)))/(AN5+EXP(AN6*(AN4-AJ308))))^AN5)/(1-((AN5+EXP(AN6*(AN4-AN7)))/(AN5+EXP(AN6*(AN4-AN9))))^AN5))","v":0},{"$f":"IF(OR(AJ308<=AN9,AJ308>100000),0,IF(AJ308<=AO7,AO8,AO8+(AO10-AO8)*(1-((AO5+EXP(AO6*(AO4-AO7)))/(AO5+EXP(AO6*(AO4-AJ308))))^AO5)/(1-((AO5+EXP(AO6*(AO4-AO7)))/(AO5+EXP(AO6*(AO4-AO9))))^AO5)))","v":0},0,0]
[298,{"$f":"'daily uptake'!F392","v":"2011-08-25"},{"$f":"5/9*'daily uptake'!Q392","v":23.888888888888889},{"$f":"5/9*'daily uptake'!N392","v":13.888888888888889},{"$f":"IF(AND($A309>='daily uptake'!$C$9,$A309<='daily uptake'!$C$10),$C309+E308,0)","v":0},{"$f":"IF(AND($A309>='daily uptake'!$C$18,$A309<='daily uptake'!$C$20),$D309+F308,0)","v":1146.3888888888887},{"$f":"IF(AND($A309>='daily uptake'!$C$24,$A309<='daily uptake'!$C$25),$C309+G308,0)","v":0},{"$f":"IF(OR(F309<=I7,F309>I9),0,I8+(I10-I8)*(1-((I5+EXP(I6*(I4-I7)))/(I5+EXP(I6*(I4-F309))))^I5)/(1-((I5+EXP(I6*(I4-I7)))/(I5+EXP(I6*(I4-I9))))^I5))","v":0},{"$f":"IF(OR(F309<=J7,F309>J9),0,J8+(J10-J8)*(1-((J5+EXP(J6*(J4-J7)))/(J5+EXP(J6*(J4-F309))))^J5)/(1-((J5+EXP(J6*(J4-J7)))/(J5+EXP(J6*(J4-J9))))^J5))","v":0},{"$f":"IF(OR(F309<=J9,F309>100000),0,IF(F309<=K7,K8,K8+(K10-K8)*(1-((K5+EXP(K6*(K4-K7)))/(K5+EXP(K6*(K4-F309))))^K5)/(1-((K5+EXP(K6*(K4-K7)))/(K5+EXP(K6*(K4-K9))))^K5)))","v":271.90047040580737},271.90047040580737,232.29702308359518,0,0,"2011-08-25",{"$f":"MAX(L$12:L309)+MAX(M$12:M309)+MAX(N$12:N309)","v":372.29702308359515},"2011-08-25",3.7792572459807161,null,null,null,null,null,null,null,null,null,null,null,null,null,null,null,null,null,0,null,{"$f":"IF(OR(AJ309<=AM7,AJ309>AM9),0,AM8+(AM10-AM8)*(1-((AM5+EXP(AM6*(AM4-AM7)))/(AM5+EXP(AM6*(AM4-AJ309))))^AM5)/(1-((AM5+EXP(AM6*(AM4-AM7)))/(AM5+EXP(AM6*(AM4-AM9))))^AM5))","v":0},{"$f":"IF(OR(AJ309<=AN7,AJ309>AN9),0,AN8+(AN10-AN8)*(1-((AN5+EXP(AN6*(AN4-AN7)))/(AN5+EXP(AN6*(AN4-AJ309))))^AN5)/(1-((AN5+EXP(AN6*(AN4-AN7)))/(AN5+EXP(AN6*(AN4-AN9))))^AN5))","v":0},{"$f":"IF(OR(AJ309<=AN9,AJ309>100000),0,IF(AJ309<=AO7,AO8,AO8+(AO10-AO8)*(1-((AO5+EXP(AO6*(AO4-AO7)))/(AO5+EXP(AO6*(AO4-AJ309))))^AO5)/(1-((AO5+EXP(AO6*(AO4-AO7)))/(AO5+EXP(AO6*(AO4-AO9))))^AO5)))","v":0},0,0]
[299,{"$f":"'daily uptake'!F393","v":"2011-08-26"},{"$f":"5/9*'daily uptake'!Q393","v":25},{"$f":"5/9*'daily uptake'!N393","v":15},{"$f":"IF(AND($A310>='daily uptake'!$C$9,$A310<='daily uptake'!$C$10),$C310+E309,0)","v":0},{"$f":"IF(AND($A310>='daily uptake'!$C$18,$A310<='daily uptake'!$C$20),$D310+F309,0)","v":1161.3888888888887},{"$f":"IF(AND($A310>='daily uptake'!$C$24,$A310<='daily uptake'!$C$25),$C310+G309,0)","v":0},{"$f":"IF(OR(F310<=I7,F310>I9),0,I8+(I10-I8)*(1-((I5+EXP(I6*(I4-I7)))/(I5+EXP(I6*(I4-F310))))^I5)/(1-((I5+EXP(I6*(I4-I7)))/(I5+EXP(I6*(I4-I9))))^I5))","v":0},{"$f":"IF(OR(F310<=J7,F310>J9),0,J8+(J10-J8)*(1-((J5+EXP(J6*(J4-J7)))/(J5+EXP(J6*(J4-F310))))^J5)/(1-((J5+EXP(J6*(J4-J7)))/(J5+EXP(J6*(J4-J9))))^J5))","v":0},{"$f":"IF(OR(F310<=J9,F310>100000),0,IF(F310<=K7,K8,K8+(K10-K8)*(1-((K5+EXP(K6*(K4-K7)))/(K5+EXP(K6*(K4-F310))))^K5)/(1-((K5+EXP(K6*(K4-K7)))/(K5+EXP(K6*(K4-K9))))^K5)))","v":276.91048815952047},276.91048815952047,236.57731067576648,0,0,"2011-08-26",{"$f":"MAX(L$12:L310)+MAX(M$12:M310)+MAX(N$12:N310)","v":376.57731067576651},"2011-08-26",4.2802875921713621,null,null,null,null,null,null,null,null,null,null,null,null,null,null,null,null,null,0,null,{"$f":"IF(OR(AJ310<=AM7,AJ310>AM9),0,AM8+(AM10-AM8)*(1-((AM5+EXP(AM6*(AM4-AM7)))/(AM5+EXP(AM6*(AM4-AJ310))))^AM5)/(1-((AM5+EXP(AM6*(AM4-AM7)))/(AM5+EXP(AM6*(AM4-AM9))))^AM5))","v":0},{"$f":"IF(OR(AJ310<=AN7,AJ310>AN9),0,AN8+(AN10-AN8)*(1-((AN5+EXP(AN6*(AN4-AN7)))/(AN5+EXP(AN6*(AN4-AJ310))))^AN5)/(1-((AN5+EXP(AN6*(AN4-AN7)))/(AN5+EXP(AN6*(AN4-AN9))))^AN5))","v":0},{"$f":"IF(OR(AJ310<=AN9,AJ310>100000),0,IF(AJ310<=AO7,AO8,AO8+(AO10-AO8)*(1-((AO5+EXP(AO6*(AO4-AO7)))/(AO5+EXP(AO6*(AO4-AJ310))))^AO5)/(1-((AO5+EXP(AO6*(AO4-AO7)))/(AO5+EXP(AO6*(AO4-AO9))))^AO5)))","v":0},0,0]
[300,{"$f":"'daily uptake'!F394","v":"2011-08-27"},{"$f":"5/9*'daily uptake'!Q394","v":25.277777777777779},{"$f":"5/9*'daily uptake'!N394","v":15.277777777777779},{"$f":"IF(AND($A311>='daily uptake'!$C$9,$A311<='daily uptake'!$C$10),$C311+E310,0)","v":0},{"$f":"IF(AND($A311>='daily uptake'!$C$18,$A311<='daily uptake'!$C$20),$D311+F310,0)","v":1176.6666666666665},{"$f":"IF(AND($A311>='daily uptake'!$C$24,$A311<='daily uptake'!$C$25),$C311+G310,0)","v":0},{"$f":"IF(OR(F311<=I7,F311>I9),0,I8+(I10-I8)*(1-((I5+EXP(I6*(I4-I7)))/(I5+EXP(I6*(I4-F311))))^I5)/(1-((I5+EXP(I6*(I4-I7)))/(I5+EXP(I6*(I4-I9))))^I5))","v":0},{"$f":"IF(OR(F311<=J7,F311>J9),0,J8+(J10-J8)*(1-((J5+EXP(J6*(J4-J7)))/(J5+EXP(J6*(J4-F311))))^J5)/(1-((J5+EXP(J6*(J4-J7)))/(J5+EXP(J6*(J4-J9))))^J5))","v":0},{"$f":"IF(OR(F311<=J9,F311>100000),0,IF(F311<=K7,K8,K8+(K10-K8)*(1-((K5+EXP(K6*(K4-K7)))/(K5+EXP(K6*(K4-F311))))^K5)/(1-((K5+EXP(K6*(K4-K7)))/(K5+EXP(K6*(K4-K9))))^K5)))","v":282.25059708266241},282.25059708266241,241.13961026994002,0,0,"2011-08-27",{"$f":"MAX(L$12:L311)+MAX(M$12:M311)+MAX(N$12:N311)","v":381.13961026994002},"2011-08-27",4.5622995941735098,null,null,null,null,null,null,null,null,null,null,null,null,null,null,null,null,null,0,null,{"$f":"IF(OR(AJ311<=AM7,AJ311>AM9),0,AM8+(AM10-AM8)*(1-((AM5+EXP(AM6*(AM4-AM7)))/(AM5+EXP(AM6*(AM4-AJ311))))^AM5)/(1-((AM5+EXP(AM6*(AM4-AM7)))/(AM5+EXP(AM6*(AM4-AM9))))^AM5))","v":0},{"$f":"IF(OR(AJ311<=AN7,AJ311>AN9),0,AN8+(AN10-AN8)*(1-((AN5+EXP(AN6*(AN4-AN7)))/(AN5+EXP(AN6*(AN4-AJ311))))^AN5)/(1-((AN5+EXP(AN6*(AN4-AN7)))/(AN5+EXP(AN6*(AN4-AN9))))^AN5))","v":0},{"$f":"IF(OR(AJ311<=AN9,AJ311>100000),0,IF(AJ311<=AO7,AO8,AO8+(AO10-AO8)*(1-((AO5+EXP(AO6*(AO4-AO7)))/(AO5+EXP(AO6*(AO4-AJ311))))^AO5)/(1-((AO5+EXP(AO6*(AO4-AO7)))/(AO5+EXP(AO6*(AO4-AO9))))^AO5)))","v":0},0,0]
[301,{"$f":"'daily uptake'!F395","v":"2011-08-28"},{"$f":"5/9*'daily uptake'!Q395","v":24.444444444444446},{"$f":"5/9*'daily uptake'!N395","v":14.444444444444445},{"$f":"IF(AND($A312>='daily uptake'!$C$9,$A312<='daily uptake'!$C$10),$C312+E311,0)","v":0},{"$f":"IF(AND($A312>='daily uptake'!$C$18,$A312<='daily uptake'!$C$20),$D312+F311,0)","v":1191.1111111111109},{"$f":"IF(AND($A312>='daily uptake'!$C$24,$A312<='daily uptake'!$C$25),$C312+G311,0)","v":0},{"$f":"IF(OR(F312<=I7,F312>I9),0,I8+(I10-I8)*(1-((I5+EXP(I6*(I4-I7)))/(I5+EXP(I6*(I4-F312))))^I5)/(1-((I5+EXP(I6*(I4-I7)))/(I5+EXP(I6*(I4-I9))))^I5))","v":0},{"$f":"IF(OR(F312<=J7,F312>J9),0,J8+(J10-J8)*(1-((J5+EXP(J6*(J4-J7)))/(J5+EXP(J6*(J4-F312))))^J5)/(1-((J5+EXP(J6*(J4-J7)))/(J5+EXP(J6*(J4-J9))))^J5))","v":0},{"$f":"IF(OR(F312<=J9,F312>100000),0,IF(F312<=K7,K8,K8+(K10-K8)*(1-((K5+EXP(K6*(K4-K7)))/(K5+EXP(K6*(K4-F312))))^K5)/(1-((K5+EXP(K6*(K4-K7)))/(K5+EXP(K6*(K4-K9))))^K5)))","v":287.50483751085511},287.50483751085511,245.62854847667793,0,0,"2011-08-28",{"$f":"MAX(L$12:L312)+MAX(M$12:M312)+MAX(N$12:N312)","v":385.62854847667791},"2011-08-28",4.4889382067378847,null,null,null,null,null,null,null,null,null,null,null,null,null,null,null,null,null,0,null,{"$f":"IF(OR(AJ312<=AM7,AJ312>AM9),0,AM8+(AM10-AM8)*(1-((AM5+EXP(AM6*(AM4-AM7)))/(AM5+EXP(AM6*(AM4-AJ312))))^AM5)/(1-((AM5+EXP(AM6*(AM4-AM7)))/(AM5+EXP(AM6*(AM4-AM9))))^AM5))","v":0},{"$f":"IF(OR(AJ312<=AN7,AJ312>AN9),0,AN8+(AN10-AN8)*(1-((AN5+EXP(AN6*(AN4-AN7)))/(AN5+EXP(AN6*(AN4-AJ312))))^AN5)/(1-((AN5+EXP(AN6*(AN4-AN7)))/(AN5+EXP(AN6*(AN4-AN9))))^AN5))","v":0},{"$f":"IF(OR(AJ312<=AN9,AJ312>100000),0,IF(AJ312<=AO7,AO8,AO8+(AO10-AO8)*(1-((AO5+EXP(AO6*(AO4-AO7)))/(AO5+EXP(AO6*(AO4-AJ312))))^AO5)/(1-((AO5+EXP(AO6*(AO4-AO7)))/(AO5+EXP(AO6*(AO4-AO9))))^AO5)))","v":0},0,0]
[302,{"$f":"'daily uptake'!F396","v":"2011-08-29"},{"$f":"5/9*'daily uptake'!Q396","v":23.611111111111111},{"$f":"5/9*'daily uptake'!N396","v":13.611111111111112},{"$f":"IF(AND($A313>='daily uptake'!$C$9,$A313<='daily uptake'!$C$10),$C313+E312,0)","v":0},{"$f":"IF(AND($A313>='daily uptake'!$C$18,$A313<='daily uptake'!$C$20),$D313+F312,0)","v":1204.7222222222219},{"$f":"IF(AND($A313>='daily uptake'!$C$24,$A313<='daily uptake'!$C$25),$C313+G312,0)","v":0},{"$f":"IF(OR(F313<=I7,F313>I9),0,I8+(I10-I8)*(1-((I5+EXP(I6*(I4-I7)))/(I5+EXP(I6*(I4-F313))))^I5)/(1-((I5+EXP(I6*(I4-I7)))/(I5+EXP(I6*(I4-I9))))^I5))","v":0},{"$f":"IF(OR(F313<=J7,F313>J9),0,J8+(J10-J8)*(1-((J5+EXP(J6*(J4-J7)))/(J5+EXP(J6*(J4-F313))))^J5)/(1-((J5+EXP(J6*(J4-J7)))/(J5+EXP(J6*(J4-J9))))^J5))","v":0},{"$f":"IF(OR(F313<=J9,F313>100000),0,IF(F313<=K7,K8,K8+(K10-K8)*(1-((K5+EXP(K6*(K4-K7)))/(K5+EXP(K6*(K4-F313))))^K5)/(1-((K5+EXP(K6*(K4-K7)))/(K5+EXP(K6*(K4-K9))))^K5)))","v":292.62156139207212},292.62156139207212,250,0,0,"2011-08-29",{"$f":"MAX(L$12:L313)+MAX(M$12:M313)+MAX(N$12:N313)","v":390},"2011-08-29",4.3714515233220936,null,null,null,null,null,null,null,null,null,null,null,null,null,null,null,null,null,0,null,{"$f":"IF(OR(AJ313<=AM7,AJ313>AM9),0,AM8+(AM10-AM8)*(1-((AM5+EXP(AM6*(AM4-AM7)))/(AM5+EXP(AM6*(AM4-AJ313))))^AM5)/(1-((AM5+EXP(AM6*(AM4-AM7)))/(AM5+EXP(AM6*(AM4-AM9))))^AM5))","v":0},{"$f":"IF(OR(AJ313<=AN7,AJ313>AN9),0,AN8+(AN10-AN8)*(1-((AN5+EXP(AN6*(AN4-AN7)))/(AN5+EXP(AN6*(AN4-AJ313))))^AN5)/(1-((AN5+EXP(AN6*(AN4-AN7)))/(AN5+EXP(AN6*(AN4-AN9))))^AN5))","v":0},{"$f":"IF(OR(AJ313<=AN9,AJ313>100000),0,IF(AJ313<=AO7,AO8,AO8+(AO10-AO8)*(1-((AO5+EXP(AO6*(AO4-AO7)))/(AO5+EXP(AO6*(AO4-AJ313))))^AO5)/(1-((AO5+EXP(AO6*(AO4-AO7)))/(AO5+EXP(AO6*(AO4-AO9))))^AO5)))","v":0},0,0]
[303,{"$f":"'daily uptake'!F397","v":"2011-08-30"},{"$f":"5/9*'daily uptake'!Q397","v":22.222222222222221},{"$f":"5/9*'daily uptake'!N397","v":12.222222222222223},{"$f":"IF(AND($A314>='daily uptake'!$C$9,$A314<='daily uptake'!$C$10),$C314+E313,0)","v":0},{"$f":"IF(AND($A314>='daily uptake'!$C$18,$A314<='daily uptake'!$C$20),$D314+F313,0)","v":0},{"$f":"IF(AND($A314>='daily uptake'!$C$24,$A314<='daily uptake'!$C$25),$C314+G313,0)","v":0},{"$f":"IF(OR(F314<=I7,F314>I9),0,I8+(I10-I8)*(1-((I5+EXP(I6*(I4-I7)))/(I5+EXP(I6*(I4-F314))))^I5)/(1-((I5+EXP(I6*(I4-I7)))/(I5+EXP(I6*(I4-I9))))^I5))","v":0},{"$f":"IF(OR(F314<=J7,F314>J9),0,J8+(J10-J8)*(1-((J5+EXP(J6*(J4-J7)))/(J5+EXP(J6*(J4-F314))))^J5)/(1-((J5+EXP(J6*(J4-J7)))/(J5+EXP(J6*(J4-J9))))^J5))","v":0},{"$f":"IF(OR(F314<=J9,F314>100000),0,IF(F314<=K7,K8,K8+(K10-K8)*(1-((K5+EXP(K6*(K4-K7)))/(K5+EXP(K6*(K4-F314))))^K5)/(1-((K5+EXP(K6*(K4-K7)))/(K5+EXP(K6*(K4-K9))))^K5)))","v":0},0,0,0,0,"2011-08-30",{"$f":"MAX(L$12:L314)+MAX(M$12:M314)+MAX(N$12:N314)","v":390},"2011-08-30",0,null,null,null,null,null,null,null,null,null,null,null,null,null,null,null,null,null,0,null,{"$f":"IF(OR(AJ314<=AM7,AJ314>AM9),0,AM8+(AM10-AM8)*(1-((AM5+EXP(AM6*(AM4-AM7)))/(AM5+EXP(AM6*(AM4-AJ314))))^AM5)/(1-((AM5+EXP(AM6*(AM4-AM7)))/(AM5+EXP(AM6*(AM4-AM9))))^AM5))","v":0},{"$f":"IF(OR(AJ314<=AN7,AJ314>AN9),0,AN8+(AN10-AN8)*(1-((AN5+EXP(AN6*(AN4-AN7)))/(AN5+EXP(AN6*(AN4-AJ314))))^AN5)/(1-((AN5+EXP(AN6*(AN4-AN7)))/(AN5+EXP(AN6*(AN4-AN9))))^AN5))","v":0},{"$f":"IF(OR(AJ314<=AN9,AJ314>100000),0,IF(AJ314<=AO7,AO8,AO8+(AO10-AO8)*(1-((AO5+EXP(AO6*(AO4-AO7)))/(AO5+EXP(AO6*(AO4-AJ314))))^AO5)/(1-((AO5+EXP(AO6*(AO4-AO7)))/(AO5+EXP(AO6*(AO4-AO9))))^AO5)))","v":0},0,0]
[304,{"$f":"'daily uptake'!F398","v":"2011-08-31"},{"$f":"5/9*'daily uptake'!Q398","v":22.777777777777779},{"$f":"5/9*'daily uptake'!N398","v":12.777777777777779},{"$f":"IF(AND($A315>='daily uptake'!$C$9,$A315<='daily uptake'!$C$10),$C315+E314,0)","v":0},{"$f":"IF(AND($A315>='daily uptake'!$C$18,$A315<='daily uptake'!$C$20),$D315+F314,0)","v":0},{"$f":"IF(AND($A315>='daily uptake'!$C$24,$A315<='daily uptake'!$C$25),$C315+G314,0)","v":22.777777777777779},{"$f":"IF(OR(F315<=I7,F315>I9),0,I8+(I10-I8)*(1-((I5+EXP(I6*(I4-I7)))/(I5+EXP(I6*(I4-F315))))^I5)/(1-((I5+EXP(I6*(I4-I7)))/(I5+EXP(I6*(I4-I9))))^I5))","v":0},{"$f":"IF(OR(F315<=J7,F315>J9),0,J8+(J10-J8)*(1-((J5+EXP(J6*(J4-J7)))/(J5+EXP(J6*(J4-F315))))^J5)/(1-((J5+EXP(J6*(J4-J7)))/(J5+EXP(J6*(J4-J9))))^J5))","v":0},{"$f":"IF(OR(F315<=J9,F315>100000),0,IF(F315<=K7,K8,K8+(K10-K8)*(1-((K5+EXP(K6*(K4-K7)))/(K5+EXP(K6*(K4-F315))))^K5)/(1-((K5+EXP(K6*(K4-K7)))/(K5+EXP(K6*(K4-K9))))^K5)))","v":0},0,0,0,0.87841354288277629,"2011-08-31",{"$f":"MAX(L$12:L315)+MAX(M$12:M315)+MAX(N$12:N315)","v":390.87841354288275},"2011-08-31",0.87841354288275397,null,null,null,null,null,null,null,null,null,null,null,null,null,null,null,null,null,0,null,{"$f":"IF(OR(AJ315<=AM7,AJ315>AM9),0,AM8+(AM10-AM8)*(1-((AM5+EXP(AM6*(AM4-AM7)))/(AM5+EXP(AM6*(AM4-AJ315))))^AM5)/(1-((AM5+EXP(AM6*(AM4-AM7)))/(AM5+EXP(AM6*(AM4-AM9))))^AM5))","v":0},{"$f":"IF(OR(AJ315<=AN7,AJ315>AN9),0,AN8+(AN10-AN8)*(1-((AN5+EXP(AN6*(AN4-AN7)))/(AN5+EXP(AN6*(AN4-AJ315))))^AN5)/(1-((AN5+EXP(AN6*(AN4-AN7)))/(AN5+EXP(AN6*(AN4-AN9))))^AN5))","v":0},{"$f":"IF(OR(AJ315<=AN9,AJ315>100000),0,IF(AJ315<=AO7,AO8,AO8+(AO10-AO8)*(1-((AO5+EXP(AO6*(AO4-AO7)))/(AO5+EXP(AO6*(AO4-AJ315))))^AO5)/(1-((AO5+EXP(AO6*(AO4-AO7)))/(AO5+EXP(AO6*(AO4-AO9))))^AO5)))","v":0},0,0]
[305,{"$f":"'daily uptake'!F399","v":"2011-09-01"},{"$f":"5/9*'daily uptake'!Q399","v":22.777777777777779},{"$f":"5/9*'daily uptake'!N399","v":12.777777777777779},{"$f":"IF(AND($A316>='daily uptake'!$C$9,$A316<='daily uptake'!$C$10),$C316+E315,0)","v":0},{"$f":"IF(AND($A316>='daily uptake'!$C$18,$A316<='daily uptake'!$C$20),$D316+F315,0)","v":0},{"$f":"IF(AND($A316>='daily uptake'!$C$24,$A316<='daily uptake'!$C$25),$C316+G315,0)","v":45.555555555555557},{"$f":"IF(OR(F316<=I7,F316>I9),0,I8+(I10-I8)*(1-((I5+EXP(I6*(I4-I7)))/(I5+EXP(I6*(I4-F316))))^I5)/(1-((I5+EXP(I6*(I4-I7)))/(I5+EXP(I6*(I4-I9))))^I5))","v":0},{"$f":"IF(OR(F316<=J7,F316>J9),0,J8+(J10-J8)*(1-((J5+EXP(J6*(J4-J7)))/(J5+EXP(J6*(J4-F316))))^J5)/(1-((J5+EXP(J6*(J4-J7)))/(J5+EXP(J6*(J4-J9))))^J5))","v":0},{"$f":"IF(OR(F316<=J9,F316>100000),0,IF(F316<=K7,K8,K8+(K10-K8)*(1-((K5+EXP(K6*(K4-K7)))/(K5+EXP(K6*(K4-F316))))^K5)/(1-((K5+EXP(K6*(K4-K7)))/(K5+EXP(K6*(K4-K9))))^K5)))","v":0},0,0,0,1.807061626064449,"2011-09-01",{"$f":"MAX(L$12:L316)+MAX(M$12:M316)+MAX(N$12:N316)","v":391.80706162606447},"2011-09-01",0.92864808318171299,null,null,null,null,null,null,null,null,null,null,null,null,null,null,null,null,null,0,null,{"$f":"IF(OR(AJ316<=AM7,AJ316>AM9),0,AM8+(AM10-AM8)*(1-((AM5+EXP(AM6*(AM4-AM7)))/(AM5+EXP(AM6*(AM4-AJ316))))^AM5)/(1-((AM5+EXP(AM6*(AM4-AM7)))/(AM5+EXP(AM6*(AM4-AM9))))^AM5))","v":0},{"$f":"IF(OR(AJ316<=AN7,AJ316>AN9),0,AN8+(AN10-AN8)*(1-((AN5+EXP(AN6*(AN4-AN7)))/(AN5+EXP(AN6*(AN4-AJ316))))^AN5)/(1-((AN5+EXP(AN6*(AN4-AN7)))/(AN5+EXP(AN6*(AN4-AN9))))^AN5))","v":0},{"$f":"IF(OR(AJ316<=AN9,AJ316>100000),0,IF(AJ316<=AO7,AO8,AO8+(AO10-AO8)*(1-((AO5+EXP(AO6*(AO4-AO7)))/(AO5+EXP(AO6*(AO4-AJ316))))^AO5)/(1-((AO5+EXP(AO6*(AO4-AO7)))/(AO5+EXP(AO6*(AO4-AO9))))^AO5)))","v":0},0,0]
[306,{"$f":"'daily uptake'!F400","v":"2011-09-02"},{"$f":"5/9*'daily uptake'!Q400","v":24.166666666666668},{"$f":"5/9*'daily uptake'!N400","v":14.166666666666668},{"$f":"IF(AND($A317>='daily uptake'!$C$9,$A317<='daily uptake'!$C$10),$C317+E316,0)","v":0},{"$f":"IF(AND($A317>='daily uptake'!$C$18,$A317<='daily uptake'!$C$20),$D317+F316,0)","v":0},{"$f":"IF(AND($A317>='daily uptake'!$C$24,$A317<='daily uptake'!$C$25),$C317+G316,0)","v":69.722222222222229},{"$f":"IF(OR(F317<=I7,F317>I9),0,I8+(I10-I8)*(1-((I5+EXP(I6*(I4-I7)))/(I5+EXP(I6*(I4-F317))))^I5)/(1-((I5+EXP(I6*(I4-I7)))/(I5+EXP(I6*(I4-I9))))^I5))","v":0},{"$f":"IF(OR(F317<=J7,F317>J9),0,J8+(J10-J8)*(1-((J5+EXP(J6*(J4-J7)))/(J5+EXP(J6*(J4-F317))))^J5)/(1-((J5+EXP(J6*(J4-J7)))/(J5+EXP(J6*(J4-J9))))^J5))","v":0},{"$f":"IF(OR(F317<=J9,F317>100000),0,IF(F317<=K7,K8,K8+(K10-K8)*(1-((K5+EXP(K6*(K4-K7)))/(K5+EXP(K6*(K4-F317))))^K5)/(1-((K5+EXP(K6*(K4-K7)))/(K5+EXP(K6*(K4-K9))))^K5)))","v":0},{"$f":"H317+I317+J317","v":0},0,0,2.8504646352191618,"2011-09-02",{"$f":"MAX(L$12:L317)+MAX(M$12:M317)+MAX(N$12:N317)","v":392.85046463521917},"2011-09-02",1.0434030091547015,null,null,null,null,null,null,null,null,null,null,null,null,null,null,null,null,null,0,null,{"$f":"IF(OR(AJ317<=AM7,AJ317>AM9),0,AM8+(AM10-AM8)*(1-((AM5+EXP(AM6*(AM4-AM7)))/(AM5+EXP(AM6*(AM4-AJ317))))^AM5)/(1-((AM5+EXP(AM6*(AM4-AM7)))/(AM5+EXP(AM6*(AM4-AM9))))^AM5))","v":0},{"$f":"IF(OR(AJ317<=AN7,AJ317>AN9),0,AN8+(AN10-AN8)*(1-((AN5+EXP(AN6*(AN4-AN7)))/(AN5+EXP(AN6*(AN4-AJ317))))^AN5)/(1-((AN5+EXP(AN6*(AN4-AN7)))/(AN5+EXP(AN6*(AN4-AN9))))^AN5))","v":0},{"$f":"IF(OR(AJ317<=AN9,AJ317>100000),0,IF(AJ317<=AO7,AO8,AO8+(AO10-AO8)*(1-((AO5+EXP(AO6*(AO4-AO7)))/(AO5+EXP(AO6*(AO4-AJ317))))^AO5)/(1-((AO5+EXP(AO6*(AO4-AO7)))/(AO5+EXP(AO6*(AO4-AO9))))^AO5)))","v":0},{"$f":"AL317+AM317+AN317","v":0},0]
[307,{"$f":"'daily uptake'!F401","v":"2011-09-03"},{"$f":"5/9*'daily uptake'!Q401","v":24.166666666666668},{"$f":"5/9*'daily uptake'!N401","v":14.166666666666668},{"$f":"IF(AND($A318>='daily uptake'!$C$9,$A318<='daily uptake'!$C$10),$C318+E317,0)","v":0},{"$f":"IF(AND($A318>='daily uptake'!$C$18,$A318<='daily uptake'!$C$20),$D318+F317,0)","v":0},{"$f":"IF(AND($A318>='daily uptake'!$C$24,$A318<='daily uptake'!$C$25),$C318+G317,0)","v":93.8888888888889},{"$f":"IF(OR(F318<=I7,F318>I9),0,I8+(I10-I8)*(1-((I5+EXP(I6*(I4-I7)))/(I5+EXP(I6*(I4-F318))))^I5)/(1-((I5+EXP(I6*(I4-I7)))/(I5+EXP(I6*(I4-I9))))^I5))","v":0},{"$f":"IF(OR(F318<=J7,F318>J9),0,J8+(J10-J8)*(1-((J5+EXP(J6*(J4-J7)))/(J5+EXP(J6*(J4-F318))))^J5)/(1-((J5+EXP(J6*(J4-J7)))/(J5+EXP(J6*(J4-J9))))^J5))","v":0},{"$f":"IF(OR(F318<=J9,F318>100000),0,IF(F318<=K7,K8,K8+(K10-K8)*(1-((K5+EXP(K6*(K4-K7)))/(K5+EXP(K6*(K4-F318))))^K5)/(1-((K5+EXP(K6*(K4-K7)))/(K5+EXP(K6*(K4-K9))))^K5)))","v":0},0,0,0,3.9572844123129105,"2011-09-03",{"$f":"MAX(L$12:L318)+MAX(M$12:M318)+MAX(N$12:N318)","v":393.9572844123129},"2011-09-03",1.1068197770937331,null,null,null,null,null,null,null,null,null,null,null,null,null,null,null,null,null,0,null,{"$f":"IF(OR(AJ318<=AM7,AJ318>AM9),0,AM8+(AM10-AM8)*(1-((AM5+EXP(AM6*(AM4-AM7)))/(AM5+EXP(AM6*(AM4-AJ318))))^AM5)/(1-((AM5+EXP(AM6*(AM4-AM7)))/(AM5+EXP(AM6*(AM4-AM9))))^AM5))","v":0},{"$f":"IF(OR(AJ318<=AN7,AJ318>AN9),0,AN8+(AN10-AN8)*(1-((AN5+EXP(AN6*(AN4-AN7)))/(AN5+EXP(AN6*(AN4-AJ318))))^AN5)/(1-((AN5+EXP(AN6*(AN4-AN7)))/(AN5+EXP(AN6*(AN4-AN9))))^AN5))","v":0},{"$f":"IF(OR(AJ318<=AN9,AJ318>100000),0,IF(AJ318<=AO7,AO8,AO8+(AO10-AO8)*(1-((AO5+EXP(AO6*(AO4-AO7)))/(AO5+EXP(AO6*(AO4-AJ318))))^AO5)/(1-((AO5+EXP(AO6*(AO4-AO7)))/(AO5+EXP(AO6*(AO4-AO9))))^AO5)))","v":0},0,0]
[308,{"$f":"'daily uptake'!F402","v":"2011-09-04"},{"$f":"5/9*'daily uptake'!Q402","v":22.5},{"$f":"5/9*'daily uptake'!N402","v":12.5},{"$f":"IF(AND($A319>='daily uptake'!$C$9,$A319<='daily uptake'!$C$10),$C319+E318,0)","v":0},{"$f":"IF(AND($A319>='daily uptake'!$C$18,$A319<='daily uptake'!$C$20),$D319+F318,0)","v":0},{"$f":"IF(AND($A319>='daily uptake'!$C$24,$A319<='daily uptake'!$C$25),$C319+G318,0)","v":116.3888888888889},{"$f":"IF(OR(F319<=I7,F319>I9),0,I8+(I10-I8)*(1-((I5+EXP(I6*(I4-I7)))/(I5+EXP(I6*(I4-F319))))^I5)/(1-((I5+EXP(I6*(I4-I7)))/(I5+EXP(I6*(I4-I9))))^I5))","v":0},{"$f":"IF(OR(F319<=J7,F319>J9),0,J8+(J10-J8)*(1-((J5+EXP(J6*(J4-J7)))/(J5+EXP(J6*(J4-F319))))^J5)/(1-((J5+EXP(J6*(J4-J7)))/(J5+EXP(J6*(J4-J9))))^J5))","v":0},{"$f":"IF(OR(F319<=J9,F319>100000),0,IF(F319<=K7,K8,K8+(K10-K8)*(1-((K5+EXP(K6*(K4-K7)))/(K5+EXP(K6*(K4-F319))))^K5)/(1-((K5+EXP(K6*(K4-K7)))/(K5+EXP(K6*(K4-K9))))^K5)))","v":0},0,0,0,5.0481606756241941,"2011-09-04",{"$f":"MAX(L$12:L319)+MAX(M$12:M319)+MAX(N$12:N319)","v":395.04816067562422},"2011-09-04",1.0908762633113156,null,null,null,null,null,null,null,null,null,null,null,null,null,null,null,null,null,0,null,{"$f":"IF(OR(AJ319<=AM7,AJ319>AM9),0,AM8+(AM10-AM8)*(1-((AM5+EXP(AM6*(AM4-AM7)))/(AM5+EXP(AM6*(AM4-AJ319))))^AM5)/(1-((AM5+EXP(AM6*(AM4-AM7)))/(AM5+EXP(AM6*(AM4-AM9))))^AM5))","v":0},{"$f":"IF(OR(AJ319<=AN7,AJ319>AN9),0,AN8+(AN10-AN8)*(1-((AN5+EXP(AN6*(AN4-AN7)))/(AN5+EXP(AN6*(AN4-AJ319))))^AN5)/(1-((AN5+EXP(AN6*(AN4-AN7)))/(AN5+EXP(AN6*(AN4-AN9))))^AN5))","v":0},{"$f":"IF(OR(AJ319<=AN9,AJ319>100000),0,IF(AJ319<=AO7,AO8,AO8+(AO10-AO8)*(1-((AO5+EXP(AO6*(AO4-AO7)))/(AO5+EXP(AO6*(AO4-AJ319))))^AO5)/(1-((AO5+EXP(AO6*(AO4-AO7)))/(AO5+EXP(AO6*(AO4-AO9))))^AO5)))","v":0},0,0]
[309,{"$f":"'daily uptake'!F403","v":"2011-09-05"},{"$f":"5/9*'daily uptake'!Q403","v":22.5},{"$f":"5/9*'daily uptake'!N403","v":12.5},{"$f":"IF(AND($A320>='daily uptake'!$C$9,$A320<='daily uptake'!$C$10),$C320+E319,0)","v":0},{"$f":"IF(AND($A320>='daily uptake'!$C$18,$A320<='daily uptake'!$C$20),$D320+F319,0)","v":0},{"$f":"IF(AND($A320>='daily uptake'!$C$24,$A320<='daily uptake'!$C$25),$C320+G319,0)","v":138.88888888888891},{"$f":"IF(OR(F320<=I7,F320>I9),0,I8+(I10-I8)*(1-((I5+EXP(I6*(I4-I7)))/(I5+EXP(I6*(I4-F320))))^I5)/(1-((I5+EXP(I6*(I4-I7)))/(I5+EXP(I6*(I4-I9))))^I5))","v":0},{"$f":"IF(OR(F320<=J7,F320>J9),0,J8+(J10-J8)*(1-((J5+EXP(J6*(J4-J7)))/(J5+EXP(J6*(J4-F320))))^J5)/(1-((J5+EXP(J6*(J4-J7)))/(J5+EXP(J6*(J4-J9))))^J5))","v":0},{"$f":"IF(OR(F320<=J9,F320>100000),0,IF(F320<=K7,K8,K8+(K10-K8)*(1-((K5+EXP(K6*(K4-K7)))/(K5+EXP(K6*(K4-F320))))^K5)/(1-((K5+EXP(K6*(K4-K7)))/(K5+EXP(K6*(K4-K9))))^K5)))","v":0},0,0,0,6.2006398276877519,"2011-09-05",{"$f":"MAX(L$12:L320)+MAX(M$12:M320)+MAX(N$12:N320)","v":396.20063982768772},"2011-09-05",1.1524791520635063,null,null,null,null,null,null,null,null,null,null,null,null,null,null,null,null,null,0,null,{"$f":"IF(OR(AJ320<=AM7,AJ320>AM9),0,AM8+(AM10-AM8)*(1-((AM5+EXP(AM6*(AM4-AM7)))/(AM5+EXP(AM6*(AM4-AJ320))))^AM5)/(1-((AM5+EXP(AM6*(AM4-AM7)))/(AM5+EXP(AM6*(AM4-AM9))))^AM5))","v":0},{"$f":"IF(OR(AJ320<=AN7,AJ320>AN9),0,AN8+(AN10-AN8)*(1-((AN5+EXP(AN6*(AN4-AN7)))/(AN5+EXP(AN6*(AN4-AJ320))))^AN5)/(1-((AN5+EXP(AN6*(AN4-AN7)))/(AN5+EXP(AN6*(AN4-AN9))))^AN5))","v":0},{"$f":"IF(OR(AJ320<=AN9,AJ320>100000),0,IF(AJ320<=AO7,AO8,AO8+(AO10-AO8)*(1-((AO5+EXP(AO6*(AO4-AO7)))/(AO5+EXP(AO6*(AO4-AJ320))))^AO5)/(1-((AO5+EXP(AO6*(AO4-AO7)))/(AO5+EXP(AO6*(AO4-AO9))))^AO5)))","v":0},0,0]
[310,{"$f":"'daily uptake'!F404","v":"2011-09-06"},{"$f":"5/9*'daily uptake'!Q404","v":23.611111111111111},{"$f":"5/9*'daily uptake'!N404","v":13.611111111111112},{"$f":"IF(AND($A321>='daily uptake'!$C$9,$A321<='daily uptake'!$C$10),$C321+E320,0)","v":0},{"$f":"IF(AND($A321>='daily uptake'!$C$18,$A321<='daily uptake'!$C$20),$D321+F320,0)","v":0},{"$f":"IF(AND($A321>='daily uptake'!$C$24,$A321<='daily uptake'!$C$25),$C321+G320,0)","v":162.50000000000003},{"$f":"IF(OR(F321<=I7,F321>I9),0,I8+(I10-I8)*(1-((I5+EXP(I6*(I4-I7)))/(I5+EXP(I6*(I4-F321))))^I5)/(1-((I5+EXP(I6*(I4-I7)))/(I5+EXP(I6*(I4-I9))))^I5))","v":0},{"$f":"IF(OR(F321<=J7,F321>J9),0,J8+(J10-J8)*(1-((J5+EXP(J6*(J4-J7)))/(J5+EXP(J6*(J4-F321))))^J5)/(1-((J5+EXP(J6*(J4-J7)))/(J5+EXP(J6*(J4-J9))))^J5))","v":0},{"$f":"IF(OR(F321<=J9,F321>100000),0,IF(F321<=K7,K8,K8+(K10-K8)*(1-((K5+EXP(K6*(K4-K7)))/(K5+EXP(K6*(K4-F321))))^K5)/(1-((K5+EXP(K6*(K4-K7)))/(K5+EXP(K6*(K4-K9))))^K5)))","v":0},0,0,0,7.4800775905992358,"2011-09-06",{"$f":"MAX(L$12:L321)+MAX(M$12:M321)+MAX(N$12:N321)","v":397.48007759059925},"2011-09-06",1.2794377629115274,null,null,null,null,null,null,null,null,null,null,null,null,null,null,null,null,null,0,null,{"$f":"IF(OR(AJ321<=AM7,AJ321>AM9),0,AM8+(AM10-AM8)*(1-((AM5+EXP(AM6*(AM4-AM7)))/(AM5+EXP(AM6*(AM4-AJ321))))^AM5)/(1-((AM5+EXP(AM6*(AM4-AM7)))/(AM5+EXP(AM6*(AM4-AM9))))^AM5))","v":0},{"$f":"IF(OR(AJ321<=AN7,AJ321>AN9),0,AN8+(AN10-AN8)*(1-((AN5+EXP(AN6*(AN4-AN7)))/(AN5+EXP(AN6*(AN4-AJ321))))^AN5)/(1-((AN5+EXP(AN6*(AN4-AN7)))/(AN5+EXP(AN6*(AN4-AN9))))^AN5))","v":0},{"$f":"IF(OR(AJ321<=AN9,AJ321>100000),0,IF(AJ321<=AO7,AO8,AO8+(AO10-AO8)*(1-((AO5+EXP(AO6*(AO4-AO7)))/(AO5+EXP(AO6*(AO4-AJ321))))^AO5)/(1-((AO5+EXP(AO6*(AO4-AO7)))/(AO5+EXP(AO6*(AO4-AO9))))^AO5)))","v":0},0,0]
[311,{"$f":"'daily uptake'!F405","v":"2011-09-07"},{"$f":"5/9*'daily uptake'!Q405","v":24.444444444444446},{"$f":"5/9*'daily uptake'!N405","v":14.444444444444445},{"$f":"IF(AND($A322>='daily uptake'!$C$9,$A322<='daily uptake'!$C$10),$C322+E321,0)","v":0},{"$f":"IF(AND($A322>='daily uptake'!$C$18,$A322<='daily uptake'!$C$20),$D322+F321,0)","v":0},{"$f":"IF(AND($A322>='daily uptake'!$C$24,$A322<='daily uptake'!$C$25),$C322+G321,0)","v":186.94444444444449},{"$f":"IF(OR(F322<=I7,F322>I9),0,I8+(I10-I8)*(1-((I5+EXP(I6*(I4-I7)))/(I5+EXP(I6*(I4-F322))))^I5)/(1-((I5+EXP(I6*(I4-I7)))/(I5+EXP(I6*(I4-I9))))^I5))","v":0},{"$f":"IF(OR(F322<=J7,F322>J9),0,J8+(J10-J8)*(1-((J5+EXP(J6*(J4-J7)))/(J5+EXP(J6*(J4-F322))))^J5)/(1-((J5+EXP(J6*(J4-J7)))/(J5+EXP(J6*(J4-J9))))^J5))","v":0},{"$f":"IF(OR(F322<=J9,F322>100000),0,IF(F322<=K7,K8,K8+(K10-K8)*(1-((K5+EXP(K6*(K4-K7)))/(K5+EXP(K6*(K4-F322))))^K5)/(1-((K5+EXP(K6*(K4-K7)))/(K5+EXP(K6*(K4-K9))))^K5)))","v":0},0,0,0,8.884716717815822,"2011-09-07",{"$f":"MAX(L$12:L322)+MAX(M$12:M322)+MAX(N$12:N322)","v":398.88471671781582},"2011-09-07",1.4046391272165692,null,null,null,null,null,null,null,null,null,null,null,null,null,null,null,null,null,0,null,{"$f":"IF(OR(AJ322<=AM7,AJ322>AM9),0,AM8+(AM10-AM8)*(1-((AM5+EXP(AM6*(AM4-AM7)))/(AM5+EXP(AM6*(AM4-AJ322))))^AM5)/(1-((AM5+EXP(AM6*(AM4-AM7)))/(AM5+EXP(AM6*(AM4-AM9))))^AM5))","v":0},{"$f":"IF(OR(AJ322<=AN7,AJ322>AN9),0,AN8+(AN10-AN8)*(1-((AN5+EXP(AN6*(AN4-AN7)))/(AN5+EXP(AN6*(AN4-AJ322))))^AN5)/(1-((AN5+EXP(AN6*(AN4-AN7)))/(AN5+EXP(AN6*(AN4-AN9))))^AN5))","v":0},{"$f":"IF(OR(AJ322<=AN9,AJ322>100000),0,IF(AJ322<=AO7,AO8,AO8+(AO10-AO8)*(1-((AO5+EXP(AO6*(AO4-AO7)))/(AO5+EXP(AO6*(AO4-AJ322))))^AO5)/(1-((AO5+EXP(AO6*(AO4-AO7)))/(AO5+EXP(AO6*(AO4-AO9))))^AO5)))","v":0},0,0]
[312,{"$f":"'daily uptake'!F406","v":"2011-09-08"},{"$f":"5/9*'daily uptake'!Q406","v":23.333333333333336},{"$f":"5/9*'daily uptake'!N406","v":13.333333333333334},{"$f":"IF(AND($A323>='daily uptake'!$C$9,$A323<='daily uptake'!$C$10),$C323+E322,0)","v":0},{"$f":"IF(AND($A323>='daily uptake'!$C$18,$A323<='daily uptake'!$C$20),$D323+F322,0)","v":0},{"$f":"IF(AND($A323>='daily uptake'!$C$24,$A323<='daily uptake'!$C$25),$C323+G322,0)","v":210.27777777777783},{"$f":"IF(OR(F323<=I7,F323>I9),0,I8+(I10-I8)*(1-((I5+EXP(I6*(I4-I7)))/(I5+EXP(I6*(I4-F323))))^I5)/(1-((I5+EXP(I6*(I4-I7)))/(I5+EXP(I6*(I4-I9))))^I5))","v":0},{"$f":"IF(OR(F323<=J7,F323>J9),0,J8+(J10-J8)*(1-((J5+EXP(J6*(J4-J7)))/(J5+EXP(J6*(J4-F323))))^J5)/(1-((J5+EXP(J6*(J4-J7)))/(J5+EXP(J6*(J4-J9))))^J5))","v":0},{"$f":"IF(OR(F323<=J9,F323>100000),0,IF(F323<=K7,K8,K8+(K10-K8)*(1-((K5+EXP(K6*(K4-K7)))/(K5+EXP(K6*(K4-F323))))^K5)/(1-((K5+EXP(K6*(K4-K7)))/(K5+EXP(K6*(K4-K9))))^K5)))","v":0},0,0,0,10.306017205640361,"2011-09-08",{"$f":"MAX(L$12:L323)+MAX(M$12:M323)+MAX(N$12:N323)","v":400.30601720564039},"2011-09-08",1.421300487824567,null,null,null,null,null,null,null,null,null,null,null,null,null,null,null,null,null,0,null,{"$f":"IF(OR(AJ323<=AM7,AJ323>AM9),0,AM8+(AM10-AM8)*(1-((AM5+EXP(AM6*(AM4-AM7)))/(AM5+EXP(AM6*(AM4-AJ323))))^AM5)/(1-((AM5+EXP(AM6*(AM4-AM7)))/(AM5+EXP(AM6*(AM4-AM9))))^AM5))","v":0},{"$f":"IF(OR(AJ323<=AN7,AJ323>AN9),0,AN8+(AN10-AN8)*(1-((AN5+EXP(AN6*(AN4-AN7)))/(AN5+EXP(AN6*(AN4-AJ323))))^AN5)/(1-((AN5+EXP(AN6*(AN4-AN7)))/(AN5+EXP(AN6*(AN4-AN9))))^AN5))","v":0},{"$f":"IF(OR(AJ323<=AN9,AJ323>100000),0,IF(AJ323<=AO7,AO8,AO8+(AO10-AO8)*(1-((AO5+EXP(AO6*(AO4-AO7)))/(AO5+EXP(AO6*(AO4-AJ323))))^AO5)/(1-((AO5+EXP(AO6*(AO4-AO7)))/(AO5+EXP(AO6*(AO4-AO9))))^AO5)))","v":0},0,0]
[313,{"$f":"'daily uptake'!F407","v":"2011-09-09"},{"$f":"5/9*'daily uptake'!Q407","v":25},{"$f":"5/9*'daily uptake'!N407","v":14.444444444444445},{"$f":"IF(AND($A324>='daily uptake'!$C$9,$A324<='daily uptake'!$C$10),$C324+E323,0)","v":0},{"$f":"IF(AND($A324>='daily uptake'!$C$18,$A324<='daily uptake'!$C$20),$D324+F323,0)","v":0},{"$f":"IF(AND($A324>='daily uptake'!$C$24,$A324<='daily uptake'!$C$25),$C324+G323,0)","v":235.27777777777783},{"$f":"IF(OR(F324<=I7,F324>I9),0,I8+(I10-I8)*(1-((I5+EXP(I6*(I4-I7)))/(I5+EXP(I6*(I4-F324))))^I5)/(1-((I5+EXP(I6*(I4-I7)))/(I5+EXP(I6*(I4-I9))))^I5))","v":0},{"$f":"IF(OR(F324<=J7,F324>J9),0,J8+(J10-J8)*(1-((J5+EXP(J6*(J4-J7)))/(J5+EXP(J6*(J4-F324))))^J5)/(1-((J5+EXP(J6*(J4-J7)))/(J5+EXP(J6*(J4-J9))))^J5))","v":0},{"$f":"IF(OR(F324<=J9,F324>100000),0,IF(F324<=K7,K8,K8+(K10-K8)*(1-((K5+EXP(K6*(K4-K7)))/(K5+EXP(K6*(K4-F324))))^K5)/(1-((K5+EXP(K6*(K4-K7)))/(K5+EXP(K6*(K4-K9))))^K5)))","v":0},0,0,0,11.921426589314402,"2011-09-09",{"$f":"MAX(L$12:L324)+MAX(M$12:M324)+MAX(N$12:N324)","v":401.92142658931442},"2011-09-09",1.6154093836740344,null,null,null,null,null,null,null,null,null,null,null,null,null,null,null,null,null,0,null,{"$f":"IF(OR(AJ324<=AM7,AJ324>AM9),0,AM8+(AM10-AM8)*(1-((AM5+EXP(AM6*(AM4-AM7)))/(AM5+EXP(AM6*(AM4-AJ324))))^AM5)/(1-((AM5+EXP(AM6*(AM4-AM7)))/(AM5+EXP(AM6*(AM4-AM9))))^AM5))","v":0},{"$f":"IF(OR(AJ324<=AN7,AJ324>AN9),0,AN8+(AN10-AN8)*(1-((AN5+EXP(AN6*(AN4-AN7)))/(AN5+EXP(AN6*(AN4-AJ324))))^AN5)/(1-((AN5+EXP(AN6*(AN4-AN7)))/(AN5+EXP(AN6*(AN4-AN9))))^AN5))","v":0},{"$f":"IF(OR(AJ324<=AN9,AJ324>100000),0,IF(AJ324<=AO7,AO8,AO8+(AO10-AO8)*(1-((AO5+EXP(AO6*(AO4-AO7)))/(AO5+EXP(AO6*(AO4-AJ324))))^AO5)/(1-((AO5+EXP(AO6*(AO4-AO7)))/(AO5+EXP(AO6*(AO4-AO9))))^AO5)))","v":0},0,0]
[314,{"$f":"'daily uptake'!F408","v":"2011-09-10"},{"$f":"5/9*'daily uptake'!Q408","v":26.388888888888889},{"$f":"5/9*'daily uptake'!N408","v":15.833333333333334},{"$f":"IF(AND($A325>='daily uptake'!$C$9,$A325<='daily uptake'!$C$10),$C325+E324,0)","v":0},{"$f":"IF(AND($A325>='daily uptake'!$C$18,$A325<='daily uptake'!$C$20),$D325+F324,0)","v":0},{"$f":"IF(AND($A325>='daily uptake'!$C$24,$A325<='daily uptake'!$C$25),$C325+G324,0)","v":261.66666666666674},{"$f":"IF(OR(F325<=I7,F325>I9),0,I8+(I10-I8)*(1-((I5+EXP(I6*(I4-I7)))/(I5+EXP(I6*(I4-F325))))^I5)/(1-((I5+EXP(I6*(I4-I7)))/(I5+EXP(I6*(I4-I9))))^I5))","v":0},{"$f":"IF(OR(F325<=J7,F325>J9),0,J8+(J10-J8)*(1-((J5+EXP(J6*(J4-J7)))/(J5+EXP(J6*(J4-F325))))^J5)/(1-((J5+EXP(J6*(J4-J7)))/(J5+EXP(J6*(J4-J9))))^J5))","v":0},{"$f":"IF(OR(F325<=J9,F325>100000),0,IF(F325<=K7,K8,K8+(K10-K8)*(1-((K5+EXP(K6*(K4-K7)))/(K5+EXP(K6*(K4-F325))))^K5)/(1-((K5+EXP(K6*(K4-K7)))/(K5+EXP(K6*(K4-K9))))^K5)))","v":0},0,0,0,13.737009675548146,"2011-09-10",{"$f":"MAX(L$12:L325)+MAX(M$12:M325)+MAX(N$12:N325)","v":403.73700967554817},"2011-09-10",1.8155830862337439,null,null,null,null,null,null,null,null,null,null,null,null,null,null,null,null,null,0,null,{"$f":"IF(OR(AJ325<=AM7,AJ325>AM9),0,AM8+(AM10-AM8)*(1-((AM5+EXP(AM6*(AM4-AM7)))/(AM5+EXP(AM6*(AM4-AJ325))))^AM5)/(1-((AM5+EXP(AM6*(AM4-AM7)))/(AM5+EXP(AM6*(AM4-AM9))))^AM5))","v":0},{"$f":"IF(OR(AJ325<=AN7,AJ325>AN9),0,AN8+(AN10-AN8)*(1-((AN5+EXP(AN6*(AN4-AN7)))/(AN5+EXP(AN6*(AN4-AJ325))))^AN5)/(1-((AN5+EXP(AN6*(AN4-AN7)))/(AN5+EXP(AN6*(AN4-AN9))))^AN5))","v":0},{"$f":"IF(OR(AJ325<=AN9,AJ325>100000),0,IF(AJ325<=AO7,AO8,AO8+(AO10-AO8)*(1-((AO5+EXP(AO6*(AO4-AO7)))/(AO5+EXP(AO6*(AO4-AJ325))))^AO5)/(1-((AO5+EXP(AO6*(AO4-AO7)))/(AO5+EXP(AO6*(AO4-AO9))))^AO5)))","v":0},0,0]
[315,{"$f":"'daily uptake'!F409","v":"2011-09-11"},{"$f":"5/9*'daily uptake'!Q409","v":22.777777777777779},{"$f":"5/9*'daily uptake'!N409","v":12.777777777777779},{"$f":"IF(AND($A326>='daily uptake'!$C$9,$A326<='daily uptake'!$C$10),$C326+E325,0)","v":0},{"$f":"IF(AND($A326>='daily uptake'!$C$18,$A326<='daily uptake'!$C$20),$D326+F325,0)","v":0},{"$f":"IF(AND($A326>='daily uptake'!$C$24,$A326<='daily uptake'!$C$25),$C326+G325,0)","v":284.44444444444451},{"$f":"IF(OR(F326<=I7,F326>I9),0,I8+(I10-I8)*(1-((I5+EXP(I6*(I4-I7)))/(I5+EXP(I6*(I4-F326))))^I5)/(1-((I5+EXP(I6*(I4-I7)))/(I5+EXP(I6*(I4-I9))))^I5))","v":0},{"$f":"IF(OR(F326<=J7,F326>J9),0,J8+(J10-J8)*(1-((J5+EXP(J6*(J4-J7)))/(J5+EXP(J6*(J4-F326))))^J5)/(1-((J5+EXP(J6*(J4-J7)))/(J5+EXP(J6*(J4-J9))))^J5))","v":0},{"$f":"IF(OR(F326<=J9,F326>100000),0,IF(F326<=K7,K8,K8+(K10-K8)*(1-((K5+EXP(K6*(K4-K7)))/(K5+EXP(K6*(K4-F326))))^K5)/(1-((K5+EXP(K6*(K4-K7)))/(K5+EXP(K6*(K4-K9))))^K5)))","v":0},0,0,0,15.401011499018711,"2011-09-11",{"$f":"MAX(L$12:L326)+MAX(M$12:M326)+MAX(N$12:N326)","v":405.40101149901869},"2011-09-11",1.6640018234705281,null,null,null,null,null,null,null,null,null,null,null,null,null,null,null,null,null,0,null,{"$f":"IF(OR(AJ326<=AM7,AJ326>AM9),0,AM8+(AM10-AM8)*(1-((AM5+EXP(AM6*(AM4-AM7)))/(AM5+EXP(AM6*(AM4-AJ326))))^AM5)/(1-((AM5+EXP(AM6*(AM4-AM7)))/(AM5+EXP(AM6*(AM4-AM9))))^AM5))","v":0},{"$f":"IF(OR(AJ326<=AN7,AJ326>AN9),0,AN8+(AN10-AN8)*(1-((AN5+EXP(AN6*(AN4-AN7)))/(AN5+EXP(AN6*(AN4-AJ326))))^AN5)/(1-((AN5+EXP(AN6*(AN4-AN7)))/(AN5+EXP(AN6*(AN4-AN9))))^AN5))","v":0},{"$f":"IF(OR(AJ326<=AN9,AJ326>100000),0,IF(AJ326<=AO7,AO8,AO8+(AO10-AO8)*(1-((AO5+EXP(AO6*(AO4-AO7)))/(AO5+EXP(AO6*(AO4-AJ326))))^AO5)/(1-((AO5+EXP(AO6*(AO4-AO7)))/(AO5+EXP(AO6*(AO4-AO9))))^AO5)))","v":0},0,0]
[316,{"$f":"'daily uptake'!F410","v":"2011-09-12"},{"$f":"5/9*'daily uptake'!Q410","v":23.055555555555557},{"$f":"5/9*'daily uptake'!N410","v":13.055555555555555},{"$f":"IF(AND($A327>='daily uptake'!$C$9,$A327<='daily uptake'!$C$10),$C327+E326,0)","v":0},{"$f":"IF(AND($A327>='daily uptake'!$C$18,$A327<='daily uptake'!$C$20),$D327+F326,0)","v":0},{"$f":"IF(AND($A327>='daily uptake'!$C$24,$A327<='daily uptake'!$C$25),$C327+G326,0)","v":307.50000000000006},{"$f":"IF(OR(F327<=I7,F327>I9),0,I8+(I10-I8)*(1-((I5+EXP(I6*(I4-I7)))/(I5+EXP(I6*(I4-F327))))^I5)/(1-((I5+EXP(I6*(I4-I7)))/(I5+EXP(I6*(I4-I9))))^I5))","v":0},{"$f":"IF(OR(F327<=J7,F327>J9),0,J8+(J10-J8)*(1-((J5+EXP(J6*(J4-J7)))/(J5+EXP(J6*(J4-F327))))^J5)/(1-((J5+EXP(J6*(J4-J7)))/(J5+EXP(J6*(J4-J9))))^J5))","v":0},{"$f":"IF(OR(F327<=J9,F327>100000),0,IF(F327<=K7,K8,K8+(K10-K8)*(1-((K5+EXP(K6*(K4-K7)))/(K5+EXP(K6*(K4-F327))))^K5)/(1-((K5+EXP(K6*(K4-K7)))/(K5+EXP(K6*(K4-K9))))^K5)))","v":0},0,0,0,17.18223637024516,"2011-09-12",{"$f":"MAX(L$12:L327)+MAX(M$12:M327)+MAX(N$12:N327)","v":407.18223637024516},"2011-09-12",1.7812248712264704,null,null,null,null,null,null,null,null,null,null,null,null,null,null,null,null,null,0,null,{"$f":"IF(OR(AJ327<=AM7,AJ327>AM9),0,AM8+(AM10-AM8)*(1-((AM5+EXP(AM6*(AM4-AM7)))/(AM5+EXP(AM6*(AM4-AJ327))))^AM5)/(1-((AM5+EXP(AM6*(AM4-AM7)))/(AM5+EXP(AM6*(AM4-AM9))))^AM5))","v":0},{"$f":"IF(OR(AJ327<=AN7,AJ327>AN9),0,AN8+(AN10-AN8)*(1-((AN5+EXP(AN6*(AN4-AN7)))/(AN5+EXP(AN6*(AN4-AJ327))))^AN5)/(1-((AN5+EXP(AN6*(AN4-AN7)))/(AN5+EXP(AN6*(AN4-AN9))))^AN5))","v":0},{"$f":"IF(OR(AJ327<=AN9,AJ327>100000),0,IF(AJ327<=AO7,AO8,AO8+(AO10-AO8)*(1-((AO5+EXP(AO6*(AO4-AO7)))/(AO5+EXP(AO6*(AO4-AJ327))))^AO5)/(1-((AO5+EXP(AO6*(AO4-AO7)))/(AO5+EXP(AO6*(AO4-AO9))))^AO5)))","v":0},0,0]
[317,{"$f":"'daily uptake'!F411","v":"2011-09-13"},{"$f":"5/9*'daily uptake'!Q411","v":23.055555555555557},{"$f":"5/9*'daily uptake'!N411","v":13.055555555555555},{"$f":"IF(AND($A328>='daily uptake'!$C$9,$A328<='daily uptake'!$C$10),$C328+E327,0)","v":0},{"$f":"IF(AND($A328>='daily uptake'!$C$18,$A328<='daily uptake'!$C$20),$D328+F327,0)","v":0},{"$f":"IF(AND($A328>='daily uptake'!$C$24,$A328<='daily uptake'!$C$25),$C328+G327,0)","v":330.5555555555556},{"$f":"IF(OR(F328<=I7,F328>I9),0,I8+(I10-I8)*(1-((I5+EXP(I6*(I4-I7)))/(I5+EXP(I6*(I4-F328))))^I5)/(1-((I5+EXP(I6*(I4-I7)))/(I5+EXP(I6*(I4-I9))))^I5))","v":0},{"$f":"IF(OR(F328<=J7,F328>J9),0,J8+(J10-J8)*(1-((J5+EXP(J6*(J4-J7)))/(J5+EXP(J6*(J4-F328))))^J5)/(1-((J5+EXP(J6*(J4-J7)))/(J5+EXP(J6*(J4-J9))))^J5))","v":0},{"$f":"IF(OR(F328<=J9,F328>100000),0,IF(F328<=K7,K8,K8+(K10-K8)*(1-((K5+EXP(K6*(K4-K7)))/(K5+EXP(K6*(K4-F328))))^K5)/(1-((K5+EXP(K6*(K4-K7)))/(K5+EXP(K6*(K4-K9))))^K5)))","v":0},0,0,0,19.06660275331987,"2011-09-13",{"$f":"MAX(L$12:L328)+MAX(M$12:M328)+MAX(N$12:N328)","v":409.0666027533199},"2011-09-13",1.8843663830747346,null,null,null,null,null,null,null,null,null,null,null,null,null,null,null,null,null,0,null,{"$f":"IF(OR(AJ328<=AM7,AJ328>AM9),0,AM8+(AM10-AM8)*(1-((AM5+EXP(AM6*(AM4-AM7)))/(AM5+EXP(AM6*(AM4-AJ328))))^AM5)/(1-((AM5+EXP(AM6*(AM4-AM7)))/(AM5+EXP(AM6*(AM4-AM9))))^AM5))","v":0},{"$f":"IF(OR(AJ328<=AN7,AJ328>AN9),0,AN8+(AN10-AN8)*(1-((AN5+EXP(AN6*(AN4-AN7)))/(AN5+EXP(AN6*(AN4-AJ328))))^AN5)/(1-((AN5+EXP(AN6*(AN4-AN7)))/(AN5+EXP(AN6*(AN4-AN9))))^AN5))","v":0},{"$f":"IF(OR(AJ328<=AN9,AJ328>100000),0,IF(AJ328<=AO7,AO8,AO8+(AO10-AO8)*(1-((AO5+EXP(AO6*(AO4-AO7)))/(AO5+EXP(AO6*(AO4-AJ328))))^AO5)/(1-((AO5+EXP(AO6*(AO4-AO7)))/(AO5+EXP(AO6*(AO4-AO9))))^AO5)))","v":0},0,0]
[318,{"$f":"'daily uptake'!F412","v":"2011-09-14"},{"$f":"5/9*'daily uptake'!Q412","v":24.722222222222225},{"$f":"5/9*'daily uptake'!N412","v":14.722222222222223},{"$f":"IF(AND($A329>='daily uptake'!$C$9,$A329<='daily uptake'!$C$10),$C329+E328,0)","v":0},{"$f":"IF(AND($A329>='daily uptake'!$C$18,$A329<='daily uptake'!$C$20),$D329+F328,0)","v":0},{"$f":"IF(AND($A329>='daily uptake'!$C$24,$A329<='daily uptake'!$C$25),$C329+G328,0)","v":355.27777777777783},{"$f":"IF(OR(F329<=I7,F329>I9),0,I8+(I10-I8)*(1-((I5+EXP(I6*(I4-I7)))/(I5+EXP(I6*(I4-F329))))^I5)/(1-((I5+EXP(I6*(I4-I7)))/(I5+EXP(I6*(I4-I9))))^I5))","v":0},{"$f":"IF(OR(F329<=J7,F329>J9),0,J8+(J10-J8)*(1-((J5+EXP(J6*(J4-J7)))/(J5+EXP(J6*(J4-F329))))^J5)/(1-((J5+EXP(J6*(J4-J7)))/(J5+EXP(J6*(J4-J9))))^J5))","v":0},{"$f":"IF(OR(F329<=J9,F329>100000),0,IF(F329<=K7,K8,K8+(K10-K8)*(1-((K5+EXP(K6*(K4-K7)))/(K5+EXP(K6*(K4-F329))))^K5)/(1-((K5+EXP(K6*(K4-K7)))/(K5+EXP(K6*(K4-K9))))^K5)))","v":0},0,0,0,21.208585906726405,"2011-09-14",{"$f":"MAX(L$12:L329)+MAX(M$12:M329)+MAX(N$12:N329)","v":411.2085859067264},"2011-09-14",2.1419831534064997,null,null,null,null,null,null,null,null,null,null,null,null,null,null,null,null,null,0,null,{"$f":"IF(OR(AJ329<=AM7,AJ329>AM9),0,AM8+(AM10-AM8)*(1-((AM5+EXP(AM6*(AM4-AM7)))/(AM5+EXP(AM6*(AM4-AJ329))))^AM5)/(1-((AM5+EXP(AM6*(AM4-AM7)))/(AM5+EXP(AM6*(AM4-AM9))))^AM5))","v":0},{"$f":"IF(OR(AJ329<=AN7,AJ329>AN9),0,AN8+(AN10-AN8)*(1-((AN5+EXP(AN6*(AN4-AN7)))/(AN5+EXP(AN6*(AN4-AJ329))))^AN5)/(1-((AN5+EXP(AN6*(AN4-AN7)))/(AN5+EXP(AN6*(AN4-AN9))))^AN5))","v":0},{"$f":"IF(OR(AJ329<=AN9,AJ329>100000),0,IF(AJ329<=AO7,AO8,AO8+(AO10-AO8)*(1-((AO5+EXP(AO6*(AO4-AO7)))/(AO5+EXP(AO6*(AO4-AJ329))))^AO5)/(1-((AO5+EXP(AO6*(AO4-AO7)))/(AO5+EXP(AO6*(AO4-AO9))))^AO5)))","v":0},0,0]
[319,{"$f":"'daily uptake'!F413","v":"2011-09-15"},{"$f":"5/9*'daily uptake'!Q413","v":22.777777777777779},{"$f":"5/9*'daily uptake'!N413","v":12.777777777777779},{"$f":"IF(AND($A330>='daily uptake'!$C$9,$A330<='daily uptake'!$C$10),$C330+E329,0)","v":0},{"$f":"IF(AND($A330>='daily uptake'!$C$18,$A330<='daily uptake'!$C$20),$D330+F329,0)","v":0},{"$f":"IF(AND($A330>='daily uptake'!$C$24,$A330<='daily uptake'!$C$25),$C330+G329,0)","v":378.0555555555556},{"$f":"IF(OR(F330<=I7,F330>I9),0,I8+(I10-I8)*(1-((I5+EXP(I6*(I4-I7)))/(I5+EXP(I6*(I4-F330))))^I5)/(1-((I5+EXP(I6*(I4-I7)))/(I5+EXP(I6*(I4-I9))))^I5))","v":0},{"$f":"IF(OR(F330<=J7,F330>J9),0,J8+(J10-J8)*(1-((J5+EXP(J6*(J4-J7)))/(J5+EXP(J6*(J4-F330))))^J5)/(1-((J5+EXP(J6*(J4-J7)))/(J5+EXP(J6*(J4-J9))))^J5))","v":0},{"$f":"IF(OR(F330<=J9,F330>100000),0,IF(F330<=K7,K8,K8+(K10-K8)*(1-((K5+EXP(K6*(K4-K7)))/(K5+EXP(K6*(K4-F330))))^K5)/(1-((K5+EXP(K6*(K4-K7)))/(K5+EXP(K6*(K4-K9))))^K5)))","v":0},0,0,0,23.299869136963213,"2011-09-15",{"$f":"MAX(L$12:L330)+MAX(M$12:M330)+MAX(N$12:N330)","v":413.2998691369632},"2011-09-15",2.0912832302367974,null,null,null,null,null,null,null,null,null,null,null,null,null,null,null,null,null,0,null,{"$f":"IF(OR(AJ330<=AM7,AJ330>AM9),0,AM8+(AM10-AM8)*(1-((AM5+EXP(AM6*(AM4-AM7)))/(AM5+EXP(AM6*(AM4-AJ330))))^AM5)/(1-((AM5+EXP(AM6*(AM4-AM7)))/(AM5+EXP(AM6*(AM4-AM9))))^AM5))","v":0},{"$f":"IF(OR(AJ330<=AN7,AJ330>AN9),0,AN8+(AN10-AN8)*(1-((AN5+EXP(AN6*(AN4-AN7)))/(AN5+EXP(AN6*(AN4-AJ330))))^AN5)/(1-((AN5+EXP(AN6*(AN4-AN7)))/(AN5+EXP(AN6*(AN4-AN9))))^AN5))","v":0},{"$f":"IF(OR(AJ330<=AN9,AJ330>100000),0,IF(AJ330<=AO7,AO8,AO8+(AO10-AO8)*(1-((AO5+EXP(AO6*(AO4-AO7)))/(AO5+EXP(AO6*(AO4-AJ330))))^AO5)/(1-((AO5+EXP(AO6*(AO4-AO7)))/(AO5+EXP(AO6*(AO4-AO9))))^AO5)))","v":0},0,0]
[320,{"$f":"'daily uptake'!F414","v":"2011-09-16"},{"$f":"5/9*'daily uptake'!Q414","v":19.722222222222221},{"$f":"5/9*'daily uptake'!N414","v":9.7222222222222232},{"$f":"IF(AND($A331>='daily uptake'!$C$9,$A331<='daily uptake'!$C$10),$C331+E330,0)","v":0},{"$f":"IF(AND($A331>='daily uptake'!$C$18,$A331<='daily uptake'!$C$20),$D331+F330,0)","v":0},{"$f":"IF(AND($A331>='daily uptake'!$C$24,$A331<='daily uptake'!$C$25),$C331+G330,0)","v":397.77777777777783},{"$f":"IF(OR(F331<=I7,F331>I9),0,I8+(I10-I8)*(1-((I5+EXP(I6*(I4-I7)))/(I5+EXP(I6*(I4-F331))))^I5)/(1-((I5+EXP(I6*(I4-I7)))/(I5+EXP(I6*(I4-I9))))^I5))","v":0},{"$f":"IF(OR(F331<=J7,F331>J9),0,J8+(J10-J8)*(1-((J5+EXP(J6*(J4-J7)))/(J5+EXP(J6*(J4-F331))))^J5)/(1-((J5+EXP(J6*(J4-J7)))/(J5+EXP(J6*(J4-J9))))^J5))","v":0},{"$f":"IF(OR(F331<=J9,F331>100000),0,IF(F331<=K7,K8,K8+(K10-K8)*(1-((K5+EXP(K6*(K4-K7)))/(K5+EXP(K6*(K4-F331))))^K5)/(1-((K5+EXP(K6*(K4-K7)))/(K5+EXP(K6*(K4-K9))))^K5)))","v":0},0,0,0,25.206977721346203,{"$f":"B331","v":"2011-09-16"},{"$f":"MAX(L$12:L331)+MAX(M$12:M331)+MAX(N$12:N331)","v":415.20697772134622},{"$f":"B331","v":"2011-09-16"},1.9071085843830247,null,null,null,null,null,null,null,null,null,null,null,null,null,null,null,null,null,0,null,{"$f":"IF(OR(AJ331<=AM7,AJ331>AM9),0,AM8+(AM10-AM8)*(1-((AM5+EXP(AM6*(AM4-AM7)))/(AM5+EXP(AM6*(AM4-AJ331))))^AM5)/(1-((AM5+EXP(AM6*(AM4-AM7)))/(AM5+EXP(AM6*(AM4-AM9))))^AM5))","v":0},{"$f":"IF(OR(AJ331<=AN7,AJ331>AN9),0,AN8+(AN10-AN8)*(1-((AN5+EXP(AN6*(AN4-AN7)))/(AN5+EXP(AN6*(AN4-AJ331))))^AN5)/(1-((AN5+EXP(AN6*(AN4-AN7)))/(AN5+EXP(AN6*(AN4-AN9))))^AN5))","v":0},{"$f":"IF(OR(AJ331<=AN9,AJ331>100000),0,IF(AJ331<=AO7,AO8,AO8+(AO10-AO8)*(1-((AO5+EXP(AO6*(AO4-AO7)))/(AO5+EXP(AO6*(AO4-AJ331))))^AO5)/(1-((AO5+EXP(AO6*(AO4-AO7)))/(AO5+EXP(AO6*(AO4-AO9))))^AO5)))","v":0},0,0]
[321,{"$f":"'daily uptake'!F415","v":"2011-09-17"},{"$f":"5/9*'daily uptake'!Q415","v":19.444444444444446},{"$f":"5/9*'daily uptake'!N415","v":9.4444444444444446},{"$f":"IF(AND($A332>='daily uptake'!$C$9,$A332<='daily uptake'!$C$10),$C332+E331,0)","v":0},{"$f":"IF(AND($A332>='daily uptake'!$C$18,$A332<='daily uptake'!$C$20),$D332+F331,0)","v":0},{"$f":"IF(AND($A332>='daily uptake'!$C$24,$A332<='daily uptake'!$C$25),$C332+G331,0)","v":417.22222222222229},{"$f":"IF(OR(F332<=I7,F332>I9),0,I8+(I10-I8)*(1-((I5+EXP(I6*(I4-I7)))/(I5+EXP(I6*(I4-F332))))^I5)/(1-((I5+EXP(I6*(I4-I7)))/(I5+EXP(I6*(I4-I9))))^I5))","v":0},{"$f":"IF(OR(F332<=J7,F332>J9),0,J8+(J10-J8)*(1-((J5+EXP(J6*(J4-J7)))/(J5+EXP(J6*(J4-F332))))^J5)/(1-((J5+EXP(J6*(J4-J7)))/(J5+EXP(J6*(J4-J9))))^J5))","v":0},{"$f":"IF(OR(F332<=J9,F332>100000),0,IF(F332<=K7,K8,K8+(K10-K8)*(1-((K5+EXP(K6*(K4-K7)))/(K5+EXP(K6*(K4-F332))))^K5)/(1-((K5+EXP(K6*(K4-K7)))/(K5+EXP(K6*(K4-K9))))^K5)))","v":0},0,0,{"$f":"M$10*(1-(($M$5+EXP($M$6*$M$4))/($M$5+EXP($M$6*($M$4-$E332))))^$M$5)/(1-(($M$5+EXP($M$6*$M$4))/($M$5+EXP($M$6*($M$4-M$9))))^$M$5)","v":0},27.179304105969148,"2011-09-17",{"$f":"MAX(L$12:L332)+MAX(M$12:M332)+MAX(N$12:N332)","v":417.17930410596915},"2011-09-17",1.9723263846229315,null,null,null,null,null,null,null,null,null,null,null,null,null,null,null,null,null,0,null,{"$f":"IF(OR(AJ332<=AM7,AJ332>AM9),0,AM8+(AM10-AM8)*(1-((AM5+EXP(AM6*(AM4-AM7)))/(AM5+EXP(AM6*(AM4-AJ332))))^AM5)/(1-((AM5+EXP(AM6*(AM4-AM7)))/(AM5+EXP(AM6*(AM4-AM9))))^AM5))","v":0},{"$f":"IF(OR(AJ332<=AN7,AJ332>AN9),0,AN8+(AN10-AN8)*(1-((AN5+EXP(AN6*(AN4-AN7)))/(AN5+EXP(AN6*(AN4-AJ332))))^AN5)/(1-((AN5+EXP(AN6*(AN4-AN7)))/(AN5+EXP(AN6*(AN4-AN9))))^AN5))","v":0},{"$f":"IF(OR(AJ332<=AN9,AJ332>100000),0,IF(AJ332<=AO7,AO8,AO8+(AO10-AO8)*(1-((AO5+EXP(AO6*(AO4-AO7)))/(AO5+EXP(AO6*(AO4-AJ332))))^AO5)/(1-((AO5+EXP(AO6*(AO4-AO7)))/(AO5+EXP(AO6*(AO4-AO9))))^AO5)))","v":0},0,0]
[322,{"$f":"'daily uptake'!F416","v":"2011-09-18"},{"$f":"5/9*'daily uptake'!Q416","v":21.944444444444446},{"$f":"5/9*'daily uptake'!N416","v":11.944444444444445},{"$f":"IF(AND($A333>='daily uptake'!$C$9,$A333<='daily uptake'!$C$10),$C333+E332,0)","v":0},{"$f":"IF(AND($A333>='daily uptake'!$C$18,$A333<='daily uptake'!$C$20),$D333+F332,0)","v":0},{"$f":"IF(AND($A333>='daily uptake'!$C$24,$A333<='daily uptake'!$C$25),$C333+G332,0)","v":439.16666666666674},{"$f":"IF(OR(F333<=I7,F333>I9),0,I8+(I10-I8)*(1-((I5+EXP(I6*(I4-I7)))/(I5+EXP(I6*(I4-F333))))^I5)/(1-((I5+EXP(I6*(I4-I7)))/(I5+EXP(I6*(I4-I9))))^I5))","v":0},{"$f":"IF(OR(F333<=J7,F333>J9),0,J8+(J10-J8)*(1-((J5+EXP(J6*(J4-J7)))/(J5+EXP(J6*(J4-F333))))^J5)/(1-((J5+EXP(J6*(J4-J7)))/(J5+EXP(J6*(J4-J9))))^J5))","v":0},{"$f":"IF(OR(F333<=J9,F333>100000),0,IF(F333<=K7,K8,K8+(K10-K8)*(1-((K5+EXP(K6*(K4-K7)))/(K5+EXP(K6*(K4-F333))))^K5)/(1-((K5+EXP(K6*(K4-K7)))/(K5+EXP(K6*(K4-K9))))^K5)))","v":0},0,{"$f":"IF(L$8=0,0,K333*L$7/L$8)","v":0},0,{"$f":"N$10*(1-(($N$5+EXP($N$6*$N$4))/($N$5+EXP($N$6*($N$4-$G333))))^$N$5)/(1-(($N$5+EXP($N$6*$N$4))/($N$5+EXP($N$6*($N$4-N$9))))^$N$5)","v":29.520630604748884},"2011-09-18",{"$f":"MAX(L$12:L333)+MAX(M$12:M333)+MAX(N$12:N333)","v":419.52063060474887},"2011-09-18",{"$f":"P333-P332","v":2.341326498779722},null,null,null,null,null,null,null,null,null,null,null,null,null,null,null,null,null,0,null,{"$f":"IF(OR(AJ333<=AM7,AJ333>AM9),0,AM8+(AM10-AM8)*(1-((AM5+EXP(AM6*(AM4-AM7)))/(AM5+EXP(AM6*(AM4-AJ333))))^AM5)/(1-((AM5+EXP(AM6*(AM4-AM7)))/(AM5+EXP(AM6*(AM4-AM9))))^AM5))","v":0},{"$f":"IF(OR(AJ333<=AN7,AJ333>AN9),0,AN8+(AN10-AN8)*(1-((AN5+EXP(AN6*(AN4-AN7)))/(AN5+EXP(AN6*(AN4-AJ333))))^AN5)/(1-((AN5+EXP(AN6*(AN4-AN7)))/(AN5+EXP(AN6*(AN4-AN9))))^AN5))","v":0},{"$f":"IF(OR(AJ333<=AN9,AJ333>100000),0,IF(AJ333<=AO7,AO8,AO8+(AO10-AO8)*(1-((AO5+EXP(AO6*(AO4-AO7)))/(AO5+EXP(AO6*(AO4-AJ333))))^AO5)/(1-((AO5+EXP(AO6*(AO4-AO7)))/(AO5+EXP(AO6*(AO4-AO9))))^AO5)))","v":0},0,{"$f":"IF(AP$8=0,0,AO333*AP$7/AP$8)","v":0}]
[323,{"$f":"'daily uptake'!F417","v":"2011-09-19"},{"$f":"5/9*'daily uptake'!Q417","v":23.333333333333336},{"$f":"5/9*'daily uptake'!N417","v":13.333333333333334},{"$f":"IF(AND($A334>='daily uptake'!$C$9,$A334<='daily uptake'!$C$10),$C334+E333,0)","v":0},{"$f":"IF(AND($A334>='daily uptake'!$C$18,$A334<='daily uptake'!$C$20),$D334+F333,0)","v":0},{"$f":"IF(AND($A334>='daily uptake'!$C$24,$A334<='daily uptake'!$C$25),$C334+G333,0)","v":462.50000000000006},{"$f":"IF(OR(F334<=I7,F334>I9),0,I8+(I10-I8)*(1-((I5+EXP(I6*(I4-I7)))/(I5+EXP(I6*(I4-F334))))^I5)/(1-((I5+EXP(I6*(I4-I7)))/(I5+EXP(I6*(I4-I9))))^I5))","v":0},{"$f":"IF(OR(F334<=J7,F334>J9),0,J8+(J10-J8)*(1-((J5+EXP(J6*(J4-J7)))/(J5+EXP(J6*(J4-F334))))^J5)/(1-((J5+EXP(J6*(J4-J7)))/(J5+EXP(J6*(J4-J9))))^J5))","v":0},{"$f":"IF(OR(F334<=J9,F334>100000),0,IF(F334<=K7,K8,K8+(K10-K8)*(1-((K5+EXP(K6*(K4-K7)))/(K5+EXP(K6*(K4-F334))))^K5)/(1-((K5+EXP(K6*(K4-K7)))/(K5+EXP(K6*(K4-K9))))^K5)))","v":0},0,0,0,32.151659923122665,"2011-09-19",{"$f":"MAX(L$12:L334)+MAX(M$12:M334)+MAX(N$12:N334)","v":422.15165992312268},"2011-09-19",2.6310293183738054,null,null,null,null,null,null,null,null,null,null,null,null,null,null,null,null,null,0,null,{"$f":"IF(OR(AJ334<=AM7,AJ334>AM9),0,AM8+(AM10-AM8)*(1-((AM5+EXP(AM6*(AM4-AM7)))/(AM5+EXP(AM6*(AM4-AJ334))))^AM5)/(1-((AM5+EXP(AM6*(AM4-AM7)))/(AM5+EXP(AM6*(AM4-AM9))))^AM5))","v":0},{"$f":"IF(OR(AJ334<=AN7,AJ334>AN9),0,AN8+(AN10-AN8)*(1-((AN5+EXP(AN6*(AN4-AN7)))/(AN5+EXP(AN6*(AN4-AJ334))))^AN5)/(1-((AN5+EXP(AN6*(AN4-AN7)))/(AN5+EXP(AN6*(AN4-AN9))))^AN5))","v":0},{"$f":"IF(OR(AJ334<=AN9,AJ334>100000),0,IF(AJ334<=AO7,AO8,AO8+(AO10-AO8)*(1-((AO5+EXP(AO6*(AO4-AO7)))/(AO5+EXP(AO6*(AO4-AJ334))))^AO5)/(1-((AO5+EXP(AO6*(AO4-AO7)))/(AO5+EXP(AO6*(AO4-AO9))))^AO5)))","v":0},0,0]
[324,{"$f":"'daily uptake'!F418","v":"2011-09-20"},{"$f":"5/9*'daily uptake'!Q418","v":24.166666666666668},{"$f":"5/9*'daily uptake'!N418","v":14.166666666666668},{"$f":"IF(AND($A335>='daily uptake'!$C$9,$A335<='daily uptake'!$C$10),$C335+E334,0)","v":0},{"$f":"IF(AND($A335>='daily uptake'!$C$18,$A335<='daily uptake'!$C$20),$D335+F334,0)","v":0},{"$f":"IF(AND($A335>='daily uptake'!$C$24,$A335<='daily uptake'!$C$25),$C335+G334,0)","v":486.66666666666674},{"$f":"IF(OR(F335<=I7,F335>I9),0,I8+(I10-I8)*(1-((I5+EXP(I6*(I4-I7)))/(I5+EXP(I6*(I4-F335))))^I5)/(1-((I5+EXP(I6*(I4-I7)))/(I5+EXP(I6*(I4-I9))))^I5))","v":0},{"$f":"IF(OR(F335<=J7,F335>J9),0,J8+(J10-J8)*(1-((J5+EXP(J6*(J4-J7)))/(J5+EXP(J6*(J4-F335))))^J5)/(1-((J5+EXP(J6*(J4-J7)))/(J5+EXP(J6*(J4-J9))))^J5))","v":0},{"$f":"IF(OR(F335<=J9,F335>100000),0,IF(F335<=K7,K8,K8+(K10-K8)*(1-((K5+EXP(K6*(K4-K7)))/(K5+EXP(K6*(K4-F335))))^K5)/(1-((K5+EXP(K6*(K4-K7)))/(K5+EXP(K6*(K4-K9))))^K5)))","v":0},0,0,0,35.039364657416769,"2011-09-20",{"$f":"MAX(L$12:L335)+MAX(M$12:M335)+MAX(N$12:N335)","v":425.03936465741674},"2011-09-20",2.8877047342940614,null,null,null,null,null,null,null,null,null,null,null,null,null,null,null,null,null,0,null,{"$f":"IF(OR(AJ335<=AM7,AJ335>AM9),0,AM8+(AM10-AM8)*(1-((AM5+EXP(AM6*(AM4-AM7)))/(AM5+EXP(AM6*(AM4-AJ335))))^AM5)/(1-((AM5+EXP(AM6*(AM4-AM7)))/(AM5+EXP(AM6*(AM4-AM9))))^AM5))","v":0},{"$f":"IF(OR(AJ335<=AN7,AJ335>AN9),0,AN8+(AN10-AN8)*(1-((AN5+EXP(AN6*(AN4-AN7)))/(AN5+EXP(AN6*(AN4-AJ335))))^AN5)/(1-((AN5+EXP(AN6*(AN4-AN7)))/(AN5+EXP(AN6*(AN4-AN9))))^AN5))","v":0},{"$f":"IF(OR(AJ335<=AN9,AJ335>100000),0,IF(AJ335<=AO7,AO8,AO8+(AO10-AO8)*(1-((AO5+EXP(AO6*(AO4-AO7)))/(AO5+EXP(AO6*(AO4-AJ335))))^AO5)/(1-((AO5+EXP(AO6*(AO4-AO7)))/(AO5+EXP(AO6*(AO4-AO9))))^AO5)))","v":0},0,0]
[325,{"$f":"'daily uptake'!F419","v":"2011-09-21"},{"$f":"5/9*'daily uptake'!Q419","v":23.888888888888889},{"$f":"5/9*'daily uptake'!N419","v":13.888888888888889},{"$f":"IF(AND($A336>='daily uptake'!$C$9,$A336<='daily uptake'!$C$10),$C336+E335,0)","v":0},{"$f":"IF(AND($A336>='daily uptake'!$C$18,$A336<='daily uptake'!$C$20),$D336+F335,0)","v":0},{"$f":"IF(AND($A336>='daily uptake'!$C$24,$A336<='daily uptake'!$C$25),$C336+G335,0)","v":510.55555555555566},{"$f":"IF(OR(F336<=I7,F336>I9),0,I8+(I10-I8)*(1-((I5+EXP(I6*(I4-I7)))/(I5+EXP(I6*(I4-F336))))^I5)/(1-((I5+EXP(I6*(I4-I7)))/(I5+EXP(I6*(I4-I9))))^I5))","v":0},{"$f":"IF(OR(F336<=J7,F336>J9),0,J8+(J10-J8)*(1-((J5+EXP(J6*(J4-J7)))/(J5+EXP(J6*(J4-F336))))^J5)/(1-((J5+EXP(J6*(J4-J7)))/(J5+EXP(J6*(J4-J9))))^J5))","v":0},{"$f":"IF(OR(F336<=J9,F336>100000),0,IF(F336<=K7,K8,K8+(K10-K8)*(1-((K5+EXP(K6*(K4-K7)))/(K5+EXP(K6*(K4-F336))))^K5)/(1-((K5+EXP(K6*(K4-K7)))/(K5+EXP(K6*(K4-K9))))^K5)))","v":0},0,0,0,38.066333330130156,"2011-09-21",{"$f":"MAX(L$12:L336)+MAX(M$12:M336)+MAX(N$12:N336)","v":428.06633333013013},"2011-09-21",3.0269686727133944,null,null,null,null,null,null,null,null,null,null,null,null,null,null,null,null,null,0,null,{"$f":"IF(OR(AJ336<=AM7,AJ336>AM9),0,AM8+(AM10-AM8)*(1-((AM5+EXP(AM6*(AM4-AM7)))/(AM5+EXP(AM6*(AM4-AJ336))))^AM5)/(1-((AM5+EXP(AM6*(AM4-AM7)))/(AM5+EXP(AM6*(AM4-AM9))))^AM5))","v":0},{"$f":"IF(OR(AJ336<=AN7,AJ336>AN9),0,AN8+(AN10-AN8)*(1-((AN5+EXP(AN6*(AN4-AN7)))/(AN5+EXP(AN6*(AN4-AJ336))))^AN5)/(1-((AN5+EXP(AN6*(AN4-AN7)))/(AN5+EXP(AN6*(AN4-AN9))))^AN5))","v":0},{"$f":"IF(OR(AJ336<=AN9,AJ336>100000),0,IF(AJ336<=AO7,AO8,AO8+(AO10-AO8)*(1-((AO5+EXP(AO6*(AO4-AO7)))/(AO5+EXP(AO6*(AO4-AJ336))))^AO5)/(1-((AO5+EXP(AO6*(AO4-AO7)))/(AO5+EXP(AO6*(AO4-AO9))))^AO5)))","v":0},0,0]
[326,{"$f":"'daily uptake'!F420","v":"2011-09-22"},{"$f":"5/9*'daily uptake'!Q420","v":26.111111111111111},{"$f":"5/9*'daily uptake'!N420","v":16.111111111111111},{"$f":"IF(AND($A337>='daily uptake'!$C$9,$A337<='daily uptake'!$C$10),$C337+E336,0)","v":0},{"$f":"IF(AND($A337>='daily uptake'!$C$18,$A337<='daily uptake'!$C$20),$D337+F336,0)","v":0},{"$f":"IF(AND($A337>='daily uptake'!$C$24,$A337<='daily uptake'!$C$25),$C337+G336,0)","v":536.66666666666674},{"$f":"IF(OR(F337<=I7,F337>I9),0,I8+(I10-I8)*(1-((I5+EXP(I6*(I4-I7)))/(I5+EXP(I6*(I4-F337))))^I5)/(1-((I5+EXP(I6*(I4-I7)))/(I5+EXP(I6*(I4-I9))))^I5))","v":0},{"$f":"IF(OR(F337<=J7,F337>J9),0,J8+(J10-J8)*(1-((J5+EXP(J6*(J4-J7)))/(J5+EXP(J6*(J4-F337))))^J5)/(1-((J5+EXP(J6*(J4-J7)))/(J5+EXP(J6*(J4-J9))))^J5))","v":0},{"$f":"IF(OR(F337<=J9,F337>100000),0,IF(F337<=K7,K8,K8+(K10-K8)*(1-((K5+EXP(K6*(K4-K7)))/(K5+EXP(K6*(K4-F337))))^K5)/(1-((K5+EXP(K6*(K4-K7)))/(K5+EXP(K6*(K4-K9))))^K5)))","v":0},0,0,0,41.583213366513192,"2011-09-22",{"$f":"MAX(L$12:L337)+MAX(M$12:M337)+MAX(N$12:N337)","v":431.58321336651318},"2011-09-22",3.5168800363830428,null,null,null,null,null,null,null,null,null,null,null,null,null,null,null,null,null,0,null,{"$f":"IF(OR(AJ337<=AM7,AJ337>AM9),0,AM8+(AM10-AM8)*(1-((AM5+EXP(AM6*(AM4-AM7)))/(AM5+EXP(AM6*(AM4-AJ337))))^AM5)/(1-((AM5+EXP(AM6*(AM4-AM7)))/(AM5+EXP(AM6*(AM4-AM9))))^AM5))","v":0},{"$f":"IF(OR(AJ337<=AN7,AJ337>AN9),0,AN8+(AN10-AN8)*(1-((AN5+EXP(AN6*(AN4-AN7)))/(AN5+EXP(AN6*(AN4-AJ337))))^AN5)/(1-((AN5+EXP(AN6*(AN4-AN7)))/(AN5+EXP(AN6*(AN4-AN9))))^AN5))","v":0},{"$f":"IF(OR(AJ337<=AN9,AJ337>100000),0,IF(AJ337<=AO7,AO8,AO8+(AO10-AO8)*(1-((AO5+EXP(AO6*(AO4-AO7)))/(AO5+EXP(AO6*(AO4-AJ337))))^AO5)/(1-((AO5+EXP(AO6*(AO4-AO7)))/(AO5+EXP(AO6*(AO4-AO9))))^AO5)))","v":0},0,0]
[327,{"$f":"'daily uptake'!F421","v":"2011-09-23"},{"$f":"5/9*'daily uptake'!Q421","v":25.277777777777779},{"$f":"5/9*'daily uptake'!N421","v":15},{"$f":"IF(AND($A338>='daily uptake'!$C$9,$A338<='daily uptake'!$C$10),$C338+E337,0)","v":0},{"$f":"IF(AND($A338>='daily uptake'!$C$18,$A338<='daily uptake'!$C$20),$D338+F337,0)","v":0},{"$f":"IF(AND($A338>='daily uptake'!$C$24,$A338<='daily uptake'!$C$25),$C338+G337,0)","v":561.94444444444457},{"$f":"IF(OR(F338<=I7,F338>I9),0,I8+(I10-I8)*(1-((I5+EXP(I6*(I4-I7)))/(I5+EXP(I6*(I4-F338))))^I5)/(1-((I5+EXP(I6*(I4-I7)))/(I5+EXP(I6*(I4-I9))))^I5))","v":0},{"$f":"IF(OR(F338<=J7,F338>J9),0,J8+(J10-J8)*(1-((J5+EXP(J6*(J4-J7)))/(J5+EXP(J6*(J4-F338))))^J5)/(1-((J5+EXP(J6*(J4-J7)))/(J5+EXP(J6*(J4-J9))))^J5))","v":0},{"$f":"IF(OR(F338<=J9,F338>100000),0,IF(F338<=K7,K8,K8+(K10-K8)*(1-((K5+EXP(K6*(K4-K7)))/(K5+EXP(K6*(K4-F338))))^K5)/(1-((K5+EXP(K6*(K4-K7)))/(K5+EXP(K6*(K4-K9))))^K5)))","v":0},0,0,0,45.208238615948879,"2011-09-23",{"$f":"MAX(L$12:L338)+MAX(M$12:M338)+MAX(N$12:N338)","v":435.20823861594886},"2011-09-23",3.6250252494356801,null,null,null,null,null,null,null,null,null,null,null,null,null,null,null,null,null,0,null,{"$f":"IF(OR(AJ338<=AM7,AJ338>AM9),0,AM8+(AM10-AM8)*(1-((AM5+EXP(AM6*(AM4-AM7)))/(AM5+EXP(AM6*(AM4-AJ338))))^AM5)/(1-((AM5+EXP(AM6*(AM4-AM7)))/(AM5+EXP(AM6*(AM4-AM9))))^AM5))","v":0},{"$f":"IF(OR(AJ338<=AN7,AJ338>AN9),0,AN8+(AN10-AN8)*(1-((AN5+EXP(AN6*(AN4-AN7)))/(AN5+EXP(AN6*(AN4-AJ338))))^AN5)/(1-((AN5+EXP(AN6*(AN4-AN7)))/(AN5+EXP(AN6*(AN4-AN9))))^AN5))","v":0},{"$f":"IF(OR(AJ338<=AN9,AJ338>100000),0,IF(AJ338<=AO7,AO8,AO8+(AO10-AO8)*(1-((AO5+EXP(AO6*(AO4-AO7)))/(AO5+EXP(AO6*(AO4-AJ338))))^AO5)/(1-((AO5+EXP(AO6*(AO4-AO7)))/(AO5+EXP(AO6*(AO4-AO9))))^AO5)))","v":0},0,0]
[328,{"$f":"'daily uptake'!F422","v":"2011-09-24"},{"$f":"5/9*'daily uptake'!Q422","v":23.611111111111111},{"$f":"5/9*'daily uptake'!N422","v":13.611111111111112},{"$f":"IF(AND($A339>='daily uptake'!$C$9,$A339<='daily uptake'!$C$10),$C339+E338,0)","v":0},{"$f":"IF(AND($A339>='daily uptake'!$C$18,$A339<='daily uptake'!$C$20),$D339+F338,0)","v":0},{"$f":"IF(AND($A339>='daily uptake'!$C$24,$A339<='daily uptake'!$C$25),$C339+G338,0)","v":585.55555555555566},{"$f":"IF(OR(F339<=I7,F339>I9),0,I8+(I10-I8)*(1-((I5+EXP(I6*(I4-I7)))/(I5+EXP(I6*(I4-F339))))^I5)/(1-((I5+EXP(I6*(I4-I7)))/(I5+EXP(I6*(I4-I9))))^I5))","v":0},{"$f":"IF(OR(F339<=J7,F339>J9),0,J8+(J10-J8)*(1-((J5+EXP(J6*(J4-J7)))/(J5+EXP(J6*(J4-F339))))^J5)/(1-((J5+EXP(J6*(J4-J7)))/(J5+EXP(J6*(J4-J9))))^J5))","v":0},{"$f":"IF(OR(F339<=J9,F339>100000),0,IF(F339<=K7,K8,K8+(K10-K8)*(1-((K5+EXP(K6*(K4-K7)))/(K5+EXP(K6*(K4-F339))))^K5)/(1-((K5+EXP(K6*(K4-K7)))/(K5+EXP(K6*(K4-K9))))^K5)))","v":0},0,0,0,48.802411074493683,"2011-09-24",{"$f":"MAX(L$12:L339)+MAX(M$12:M339)+MAX(N$12:N339)","v":438.8024110744937},"2011-09-24",3.5941724585448469,null,null,null,null,null,null,null,null,null,null,null,null,null,null,null,null,null,0,null,{"$f":"IF(OR(AJ339<=AM7,AJ339>AM9),0,AM8+(AM10-AM8)*(1-((AM5+EXP(AM6*(AM4-AM7)))/(AM5+EXP(AM6*(AM4-AJ339))))^AM5)/(1-((AM5+EXP(AM6*(AM4-AM7)))/(AM5+EXP(AM6*(AM4-AM9))))^AM5))","v":0},{"$f":"IF(OR(AJ339<=AN7,AJ339>AN9),0,AN8+(AN10-AN8)*(1-((AN5+EXP(AN6*(AN4-AN7)))/(AN5+EXP(AN6*(AN4-AJ339))))^AN5)/(1-((AN5+EXP(AN6*(AN4-AN7)))/(AN5+EXP(AN6*(AN4-AN9))))^AN5))","v":0},{"$f":"IF(OR(AJ339<=AN9,AJ339>100000),0,IF(AJ339<=AO7,AO8,AO8+(AO10-AO8)*(1-((AO5+EXP(AO6*(AO4-AO7)))/(AO5+EXP(AO6*(AO4-AJ339))))^AO5)/(1-((AO5+EXP(AO6*(AO4-AO7)))/(AO5+EXP(AO6*(AO4-AO9))))^AO5)))","v":0},0,0]
[329,{"$f":"'daily uptake'!F423","v":"2011-09-25"},{"$f":"5/9*'daily uptake'!Q423","v":17.222222222222221},{"$f":"5/9*'daily uptake'!N423","v":7.2222222222222223},{"$f":"IF(AND($A340>='daily uptake'!$C$9,$A340<='daily uptake'!$C$10),$C340+E339,0)","v":0},{"$f":"IF(AND($A340>='daily uptake'!$C$18,$A340<='daily uptake'!$C$20),$D340+F339,0)","v":0},{"$f":"IF(AND($A340>='daily uptake'!$C$24,$A340<='daily uptake'!$C$25),$C340+G339,0)","v":602.77777777777783},{"$f":"IF(OR(F340<=I7,F340>I9),0,I8+(I10-I8)*(1-((I5+EXP(I6*(I4-I7)))/(I5+EXP(I6*(I4-F340))))^I5)/(1-((I5+EXP(I6*(I4-I7)))/(I5+EXP(I6*(I4-I9))))^I5))","v":0},{"$f":"IF(OR(F340<=J7,F340>J9),0,J8+(J10-J8)*(1-((J5+EXP(J6*(J4-J7)))/(J5+EXP(J6*(J4-F340))))^J5)/(1-((J5+EXP(J6*(J4-J7)))/(J5+EXP(J6*(J4-J9))))^J5))","v":0},{"$f":"IF(OR(F340<=J9,F340>100000),0,IF(F340<=K7,K8,K8+(K10-K8)*(1-((K5+EXP(K6*(K4-K7)))/(K5+EXP(K6*(K4-F340))))^K5)/(1-((K5+EXP(K6*(K4-K7)))/(K5+EXP(K6*(K4-K9))))^K5)))","v":0},0,0,0,51.557856964745724,"2011-09-25",{"$f":"MAX(L$12:L340)+MAX(M$12:M340)+MAX(N$12:N340)","v":441.55785696474572},"2011-09-25",2.7554458902520196,null,null,null,null,null,null,null,null,null,null,null,null,null,null,null,null,null,0,null,{"$f":"IF(OR(AJ340<=AM7,AJ340>AM9),0,AM8+(AM10-AM8)*(1-((AM5+EXP(AM6*(AM4-AM7)))/(AM5+EXP(AM6*(AM4-AJ340))))^AM5)/(1-((AM5+EXP(AM6*(AM4-AM7)))/(AM5+EXP(AM6*(AM4-AM9))))^AM5))","v":0},{"$f":"IF(OR(AJ340<=AN7,AJ340>AN9),0,AN8+(AN10-AN8)*(1-((AN5+EXP(AN6*(AN4-AN7)))/(AN5+EXP(AN6*(AN4-AJ340))))^AN5)/(1-((AN5+EXP(AN6*(AN4-AN7)))/(AN5+EXP(AN6*(AN4-AN9))))^AN5))","v":0},{"$f":"IF(OR(AJ340<=AN9,AJ340>100000),0,IF(AJ340<=AO7,AO8,AO8+(AO10-AO8)*(1-((AO5+EXP(AO6*(AO4-AO7)))/(AO5+EXP(AO6*(AO4-AJ340))))^AO5)/(1-((AO5+EXP(AO6*(AO4-AO7)))/(AO5+EXP(AO6*(AO4-AO9))))^AO5)))","v":0},0,0]
[330,{"$f":"'daily uptake'!F424","v":"2011-09-26"},{"$f":"5/9*'daily uptake'!Q424","v":19.166666666666668},{"$f":"5/9*'daily uptake'!N424","v":9.1666666666666679},{"$f":"IF(AND($A341>='daily uptake'!$C$9,$A341<='daily uptake'!$C$10),$C341+E340,0)","v":0},{"$f":"IF(AND($A341>='daily uptake'!$C$18,$A341<='daily uptake'!$C$20),$D341+F340,0)","v":0},{"$f":"IF(AND($A341>='daily uptake'!$C$24,$A341<='daily uptake'!$C$25),$C341+G340,0)","v":621.94444444444446},{"$f":"IF(OR(F341<=I7,F341>I9),0,I8+(I10-I8)*(1-((I5+EXP(I6*(I4-I7)))/(I5+EXP(I6*(I4-F341))))^I5)/(1-((I5+EXP(I6*(I4-I7)))/(I5+EXP(I6*(I4-I9))))^I5))","v":0},{"$f":"IF(OR(F341<=J7,F341>J9),0,J8+(J10-J8)*(1-((J5+EXP(J6*(J4-J7)))/(J5+EXP(J6*(J4-F341))))^J5)/(1-((J5+EXP(J6*(J4-J7)))/(J5+EXP(J6*(J4-J9))))^J5))","v":0},{"$f":"IF(OR(F341<=J9,F341>100000),0,IF(F341<=K7,K8,K8+(K10-K8)*(1-((K5+EXP(K6*(K4-K7)))/(K5+EXP(K6*(K4-F341))))^K5)/(1-((K5+EXP(K6*(K4-K7)))/(K5+EXP(K6*(K4-K9))))^K5)))","v":0},0,0,0,54.763749602861658,"2011-09-26",{"$f":"MAX(L$12:L341)+MAX(M$12:M341)+MAX(N$12:N341)","v":444.76374960286165},"2011-09-26",3.2058926381159267,null,null,null,null,null,null,null,null,null,null,null,null,null,null,null,null,null,0,null,{"$f":"IF(OR(AJ341<=AM7,AJ341>AM9),0,AM8+(AM10-AM8)*(1-((AM5+EXP(AM6*(AM4-AM7)))/(AM5+EXP(AM6*(AM4-AJ341))))^AM5)/(1-((AM5+EXP(AM6*(AM4-AM7)))/(AM5+EXP(AM6*(AM4-AM9))))^AM5))","v":0},{"$f":"IF(OR(AJ341<=AN7,AJ341>AN9),0,AN8+(AN10-AN8)*(1-((AN5+EXP(AN6*(AN4-AN7)))/(AN5+EXP(AN6*(AN4-AJ341))))^AN5)/(1-((AN5+EXP(AN6*(AN4-AN7)))/(AN5+EXP(AN6*(AN4-AN9))))^AN5))","v":0},{"$f":"IF(OR(AJ341<=AN9,AJ341>100000),0,IF(AJ341<=AO7,AO8,AO8+(AO10-AO8)*(1-((AO5+EXP(AO6*(AO4-AO7)))/(AO5+EXP(AO6*(AO4-AJ341))))^AO5)/(1-((AO5+EXP(AO6*(AO4-AO7)))/(AO5+EXP(AO6*(AO4-AO9))))^AO5)))","v":0},0,0]
[331,{"$f":"'daily uptake'!F425","v":"2011-09-27"},{"$f":"5/9*'daily uptake'!Q425","v":20.277777777777779},{"$f":"5/9*'daily uptake'!N425","v":10.277777777777779},{"$f":"IF(AND($A342>='daily uptake'!$C$9,$A342<='daily uptake'!$C$10),$C342+E341,0)","v":0},{"$f":"IF(AND($A342>='daily uptake'!$C$18,$A342<='daily uptake'!$C$20),$D342+F341,0)","v":0},{"$f":"IF(AND($A342>='daily uptake'!$C$24,$A342<='daily uptake'!$C$25),$C342+G341,0)","v":642.22222222222229},{"$f":"IF(OR(F342<=I7,F342>I9),0,I8+(I10-I8)*(1-((I5+EXP(I6*(I4-I7)))/(I5+EXP(I6*(I4-F342))))^I5)/(1-((I5+EXP(I6*(I4-I7)))/(I5+EXP(I6*(I4-I9))))^I5))","v":0},{"$f":"IF(OR(F342<=J7,F342>J9),0,J8+(J10-J8)*(1-((J5+EXP(J6*(J4-J7)))/(J5+EXP(J6*(J4-F342))))^J5)/(1-((J5+EXP(J6*(J4-J7)))/(J5+EXP(J6*(J4-J9))))^J5))","v":0},{"$f":"IF(OR(F342<=J9,F342>100000),0,IF(F342<=K7,K8,K8+(K10-K8)*(1-((K5+EXP(K6*(K4-K7)))/(K5+EXP(K6*(K4-F342))))^K5)/(1-((K5+EXP(K6*(K4-K7)))/(K5+EXP(K6*(K4-K9))))^K5)))","v":0},0,0,0,58.322843567396255,"2011-09-27",{"$f":"MAX(L$12:L342)+MAX(M$12:M342)+MAX(N$12:N342)","v":448.32284356739626},"2011-09-27",3.5590939645346111,null,null,null,null,null,null,null,null,null,null,null,null,null,null,null,null,null,0,null,{"$f":"IF(OR(AJ342<=AM7,AJ342>AM9),0,AM8+(AM10-AM8)*(1-((AM5+EXP(AM6*(AM4-AM7)))/(AM5+EXP(AM6*(AM4-AJ342))))^AM5)/(1-((AM5+EXP(AM6*(AM4-AM7)))/(AM5+EXP(AM6*(AM4-AM9))))^AM5))","v":0},{"$f":"IF(OR(AJ342<=AN7,AJ342>AN9),0,AN8+(AN10-AN8)*(1-((AN5+EXP(AN6*(AN4-AN7)))/(AN5+EXP(AN6*(AN4-AJ342))))^AN5)/(1-((AN5+EXP(AN6*(AN4-AN7)))/(AN5+EXP(AN6*(AN4-AN9))))^AN5))","v":0},{"$f":"IF(OR(AJ342<=AN9,AJ342>100000),0,IF(AJ342<=AO7,AO8,AO8+(AO10-AO8)*(1-((AO5+EXP(AO6*(AO4-AO7)))/(AO5+EXP(AO6*(AO4-AJ342))))^AO5)/(1-((AO5+EXP(AO6*(AO4-AO7)))/(AO5+EXP(AO6*(AO4-AO9))))^AO5)))","v":0},0,0]
[332,{"$f":"'daily uptake'!F426","v":"2011-09-28"},{"$f":"5/9*'daily uptake'!Q426","v":24.166666666666668},{"$f":"5/9*'daily uptake'!N426","v":14.166666666666668},{"$f":"IF(AND($A343>='daily uptake'!$C$9,$A343<='daily uptake'!$C$10),$C343+E342,0)","v":0},{"$f":"IF(AND($A343>='daily uptake'!$C$18,$A343<='daily uptake'!$C$20),$D343+F342,0)","v":0},{"$f":"IF(AND($A343>='daily uptake'!$C$24,$A343<='daily uptake'!$C$25),$C343+G342,0)","v":666.38888888888891},{"$f":"IF(OR(F343<=I7,F343>I9),0,I8+(I10-I8)*(1-((I5+EXP(I6*(I4-I7)))/(I5+EXP(I6*(I4-F343))))^I5)/(1-((I5+EXP(I6*(I4-I7)))/(I5+EXP(I6*(I4-I9))))^I5))","v":0},{"$f":"IF(OR(F343<=J7,F343>J9),0,J8+(J10-J8)*(1-((J5+EXP(J6*(J4-J7)))/(J5+EXP(J6*(J4-F343))))^J5)/(1-((J5+EXP(J6*(J4-J7)))/(J5+EXP(J6*(J4-J9))))^J5))","v":0},{"$f":"IF(OR(F343<=J9,F343>100000),0,IF(F343<=K7,K8,K8+(K10-K8)*(1-((K5+EXP(K6*(K4-K7)))/(K5+EXP(K6*(K4-F343))))^K5)/(1-((K5+EXP(K6*(K4-K7)))/(K5+EXP(K6*(K4-K9))))^K5)))","v":0},0,0,0,62.80118569250407,"2011-09-28",{"$f":"MAX(L$12:L343)+MAX(M$12:M343)+MAX(N$12:N343)","v":452.80118569250408},"2011-09-28",4.4783421251078153,null,null,null,null,null,null,null,null,null,null,null,null,null,null,null,null,null,0,null,{"$f":"IF(OR(AJ343<=AM7,AJ343>AM9),0,AM8+(AM10-AM8)*(1-((AM5+EXP(AM6*(AM4-AM7)))/(AM5+EXP(AM6*(AM4-AJ343))))^AM5)/(1-((AM5+EXP(AM6*(AM4-AM7)))/(AM5+EXP(AM6*(AM4-AM9))))^AM5))","v":0},{"$f":"IF(OR(AJ343<=AN7,AJ343>AN9),0,AN8+(AN10-AN8)*(1-((AN5+EXP(AN6*(AN4-AN7)))/(AN5+EXP(AN6*(AN4-AJ343))))^AN5)/(1-((AN5+EXP(AN6*(AN4-AN7)))/(AN5+EXP(AN6*(AN4-AN9))))^AN5))","v":0},{"$f":"IF(OR(AJ343<=AN9,AJ343>100000),0,IF(AJ343<=AO7,AO8,AO8+(AO10-AO8)*(1-((AO5+EXP(AO6*(AO4-AO7)))/(AO5+EXP(AO6*(AO4-AJ343))))^AO5)/(1-((AO5+EXP(AO6*(AO4-AO7)))/(AO5+EXP(AO6*(AO4-AO9))))^AO5)))","v":0},0,0]
[333,{"$f":"'daily uptake'!F427","v":"2011-09-29"},{"$f":"5/9*'daily uptake'!Q427","v":23.888888888888889},{"$f":"5/9*'daily uptake'!N427","v":13.888888888888889},{"$f":"IF(AND($A344>='daily uptake'!$C$9,$A344<='daily uptake'!$C$10),$C344+E343,0)","v":0},{"$f":"IF(AND($A344>='daily uptake'!$C$18,$A344<='daily uptake'!$C$20),$D344+F343,0)","v":0},{"$f":"IF(AND($A344>='daily uptake'!$C$24,$A344<='daily uptake'!$C$25),$C344+G343,0)","v":690.27777777777783},{"$f":"IF(OR(F344<=I7,F344>I9),0,I8+(I10-I8)*(1-((I5+EXP(I6*(I4-I7)))/(I5+EXP(I6*(I4-F344))))^I5)/(1-((I5+EXP(I6*(I4-I7)))/(I5+EXP(I6*(I4-I9))))^I5))","v":0},{"$f":"IF(OR(F344<=J7,F344>J9),0,J8+(J10-J8)*(1-((J5+EXP(J6*(J4-J7)))/(J5+EXP(J6*(J4-F344))))^J5)/(1-((J5+EXP(J6*(J4-J7)))/(J5+EXP(J6*(J4-J9))))^J5))","v":0},{"$f":"IF(OR(F344<=J9,F344>100000),0,IF(F344<=K7,K8,K8+(K10-K8)*(1-((K5+EXP(K6*(K4-K7)))/(K5+EXP(K6*(K4-F344))))^K5)/(1-((K5+EXP(K6*(K4-K7)))/(K5+EXP(K6*(K4-K9))))^K5)))","v":0},0,0,0,67.495501033295952,"2011-09-29",{"$f":"MAX(L$12:L344)+MAX(M$12:M344)+MAX(N$12:N344)","v":457.49550103329597},"2011-09-29",4.6943153407918885,null,null,null,null,null,null,null,null,null,null,null,null,null,null,null,null,null,0,null,{"$f":"IF(OR(AJ344<=AM7,AJ344>AM9),0,AM8+(AM10-AM8)*(1-((AM5+EXP(AM6*(AM4-AM7)))/(AM5+EXP(AM6*(AM4-AJ344))))^AM5)/(1-((AM5+EXP(AM6*(AM4-AM7)))/(AM5+EXP(AM6*(AM4-AM9))))^AM5))","v":0},{"$f":"IF(OR(AJ344<=AN7,AJ344>AN9),0,AN8+(AN10-AN8)*(1-((AN5+EXP(AN6*(AN4-AN7)))/(AN5+EXP(AN6*(AN4-AJ344))))^AN5)/(1-((AN5+EXP(AN6*(AN4-AN7)))/(AN5+EXP(AN6*(AN4-AN9))))^AN5))","v":0},{"$f":"IF(OR(AJ344<=AN9,AJ344>100000),0,IF(AJ344<=AO7,AO8,AO8+(AO10-AO8)*(1-((AO5+EXP(AO6*(AO4-AO7)))/(AO5+EXP(AO6*(AO4-AJ344))))^AO5)/(1-((AO5+EXP(AO6*(AO4-AO7)))/(AO5+EXP(AO6*(AO4-AO9))))^AO5)))","v":0},0,0]
[334,{"$f":"'daily uptake'!F428","v":"2011-09-30"},{"$f":"5/9*'daily uptake'!Q428","v":20.555555555555557},{"$f":"5/9*'daily uptake'!N428","v":10.555555555555555},{"$f":"IF(AND($A345>='daily uptake'!$C$9,$A345<='daily uptake'!$C$10),$C345+E344,0)","v":0},{"$f":"IF(AND($A345>='daily uptake'!$C$18,$A345<='daily uptake'!$C$20),$D345+F344,0)","v":0},{"$f":"IF(AND($A345>='daily uptake'!$C$24,$A345<='daily uptake'!$C$25),$C345+G344,0)","v":710.83333333333337},{"$f":"IF(OR(F345<=I7,F345>I9),0,I8+(I10-I8)*(1-((I5+EXP(I6*(I4-I7)))/(I5+EXP(I6*(I4-F345))))^I5)/(1-((I5+EXP(I6*(I4-I7)))/(I5+EXP(I6*(I4-I9))))^I5))","v":0},{"$f":"IF(OR(F345<=J7,F345>J9),0,J8+(J10-J8)*(1-((J5+EXP(J6*(J4-J7)))/(J5+EXP(J6*(J4-F345))))^J5)/(1-((J5+EXP(J6*(J4-J7)))/(J5+EXP(J6*(J4-J9))))^J5))","v":0},{"$f":"IF(OR(F345<=J9,F345>100000),0,IF(F345<=K7,K8,K8+(K10-K8)*(1-((K5+EXP(K6*(K4-K7)))/(K5+EXP(K6*(K4-F345))))^K5)/(1-((K5+EXP(K6*(K4-K7)))/(K5+EXP(K6*(K4-K9))))^K5)))","v":0},0,0,0,71.759845556781272,"2011-09-30",{"$f":"MAX(L$12:L345)+MAX(M$12:M345)+MAX(N$12:N345)","v":461.75984555678127},"2011-09-30",4.2643445234853061,null,null,null,null,null,null,null,null,null,null,null,null,null,null,null,null,null,0,null,{"$f":"IF(OR(AJ345<=AM7,AJ345>AM9),0,AM8+(AM10-AM8)*(1-((AM5+EXP(AM6*(AM4-AM7)))/(AM5+EXP(AM6*(AM4-AJ345))))^AM5)/(1-((AM5+EXP(AM6*(AM4-AM7)))/(AM5+EXP(AM6*(AM4-AM9))))^AM5))","v":0},{"$f":"IF(OR(AJ345<=AN7,AJ345>AN9),0,AN8+(AN10-AN8)*(1-((AN5+EXP(AN6*(AN4-AN7)))/(AN5+EXP(AN6*(AN4-AJ345))))^AN5)/(1-((AN5+EXP(AN6*(AN4-AN7)))/(AN5+EXP(AN6*(AN4-AN9))))^AN5))","v":0},{"$f":"IF(OR(AJ345<=AN9,AJ345>100000),0,IF(AJ345<=AO7,AO8,AO8+(AO10-AO8)*(1-((AO5+EXP(AO6*(AO4-AO7)))/(AO5+EXP(AO6*(AO4-AJ345))))^AO5)/(1-((AO5+EXP(AO6*(AO4-AO7)))/(AO5+EXP(AO6*(AO4-AO9))))^AO5)))","v":0},0,0]
[335,{"$f":"'daily uptake'!F429","v":"2011-10-01"},{"$f":"5/9*'daily uptake'!Q429","v":19.166666666666668},{"$f":"5/9*'daily uptake'!N429","v":9.1666666666666679},{"$f":"IF(AND($A346>='daily uptake'!$C$9,$A346<='daily uptake'!$C$10),$C346+E345,0)","v":0},{"$f":"IF(AND($A346>='daily uptake'!$C$18,$A346<='daily uptake'!$C$20),$D346+F345,0)","v":0},{"$f":"IF(AND($A346>='daily uptake'!$C$24,$A346<='daily uptake'!$C$25),$C346+G345,0)","v":730},{"$f":"IF(OR(F346<=I7,F346>I9),0,I8+(I10-I8)*(1-((I5+EXP(I6*(I4-I7)))/(I5+EXP(I6*(I4-F346))))^I5)/(1-((I5+EXP(I6*(I4-I7)))/(I5+EXP(I6*(I4-I9))))^I5))","v":0},{"$f":"IF(OR(F346<=J7,F346>J9),0,J8+(J10-J8)*(1-((J5+EXP(J6*(J4-J7)))/(J5+EXP(J6*(J4-F346))))^J5)/(1-((J5+EXP(J6*(J4-J7)))/(J5+EXP(J6*(J4-J9))))^J5))","v":0},{"$f":"IF(OR(F346<=J9,F346>100000),0,IF(F346<=K7,K8,K8+(K10-K8)*(1-((K5+EXP(K6*(K4-K7)))/(K5+EXP(K6*(K4-F346))))^K5)/(1-((K5+EXP(K6*(K4-K7)))/(K5+EXP(K6*(K4-K9))))^K5)))","v":0},0,0,0,75.933561431949073,"2011-10-01",{"$f":"MAX(L$12:L346)+MAX(M$12:M346)+MAX(N$12:N346)","v":465.9335614319491},"2011-10-01",4.1737158751678294,null,null,null,null,null,null,null,null,null,null,null,null,null,null,null,null,null,0,null,{"$f":"IF(OR(AJ346<=AM7,AJ346>AM9),0,AM8+(AM10-AM8)*(1-((AM5+EXP(AM6*(AM4-AM7)))/(AM5+EXP(AM6*(AM4-AJ346))))^AM5)/(1-((AM5+EXP(AM6*(AM4-AM7)))/(AM5+EXP(AM6*(AM4-AM9))))^AM5))","v":0},{"$f":"IF(OR(AJ346<=AN7,AJ346>AN9),0,AN8+(AN10-AN8)*(1-((AN5+EXP(AN6*(AN4-AN7)))/(AN5+EXP(AN6*(AN4-AJ346))))^AN5)/(1-((AN5+EXP(AN6*(AN4-AN7)))/(AN5+EXP(AN6*(AN4-AN9))))^AN5))","v":0},{"$f":"IF(OR(AJ346<=AN9,AJ346>100000),0,IF(AJ346<=AO7,AO8,AO8+(AO10-AO8)*(1-((AO5+EXP(AO6*(AO4-AO7)))/(AO5+EXP(AO6*(AO4-AJ346))))^AO5)/(1-((AO5+EXP(AO6*(AO4-AO7)))/(AO5+EXP(AO6*(AO4-AO9))))^AO5)))","v":0},0,0]
[336,{"$f":"'daily uptake'!F430","v":"2011-10-02"},{"$f":"5/9*'daily uptake'!Q430","v":19.722222222222221},{"$f":"5/9*'daily uptake'!N430","v":9.7222222222222232},{"$f":"IF(AND($A347>='daily uptake'!$C$9,$A347<='daily uptake'!$C$10),$C347+E346,0)","v":0},{"$f":"IF(AND($A347>='daily uptake'!$C$18,$A347<='daily uptake'!$C$20),$D347+F346,0)","v":0},{"$f":"IF(AND($A347>='daily uptake'!$C$24,$A347<='daily uptake'!$C$25),$C347+G346,0)","v":749.72222222222217},{"$f":"IF(OR(F347<=I7,F347>I9),0,I8+(I10-I8)*(1-((I5+EXP(I6*(I4-I7)))/(I5+EXP(I6*(I4-F347))))^I5)/(1-((I5+EXP(I6*(I4-I7)))/(I5+EXP(I6*(I4-I9))))^I5))","v":0},{"$f":"IF(OR(F347<=J7,F347>J9),0,J8+(J10-J8)*(1-((J5+EXP(J6*(J4-J7)))/(J5+EXP(J6*(J4-F347))))^J5)/(1-((J5+EXP(J6*(J4-J7)))/(J5+EXP(J6*(J4-J9))))^J5))","v":0},{"$f":"IF(OR(F347<=J9,F347>100000),0,IF(F347<=K7,K8,K8+(K10-K8)*(1-((K5+EXP(K6*(K4-K7)))/(K5+EXP(K6*(K4-F347))))^K5)/(1-((K5+EXP(K6*(K4-K7)))/(K5+EXP(K6*(K4-K9))))^K5)))","v":0},0,0,0,80.437078631628054,"2011-10-02",{"$f":"MAX(L$12:L347)+MAX(M$12:M347)+MAX(N$12:N347)","v":470.43707863162808},"2011-10-02",4.5035171996789813,null,null,null,null,null,null,null,null,null,null,null,null,null,null,null,null,null,0,null,{"$f":"IF(OR(AJ347<=AM7,AJ347>AM9),0,AM8+(AM10-AM8)*(1-((AM5+EXP(AM6*(AM4-AM7)))/(AM5+EXP(AM6*(AM4-AJ347))))^AM5)/(1-((AM5+EXP(AM6*(AM4-AM7)))/(AM5+EXP(AM6*(AM4-AM9))))^AM5))","v":0},{"$f":"IF(OR(AJ347<=AN7,AJ347>AN9),0,AN8+(AN10-AN8)*(1-((AN5+EXP(AN6*(AN4-AN7)))/(AN5+EXP(AN6*(AN4-AJ347))))^AN5)/(1-((AN5+EXP(AN6*(AN4-AN7)))/(AN5+EXP(AN6*(AN4-AN9))))^AN5))","v":0},{"$f":"IF(OR(AJ347<=AN9,AJ347>100000),0,IF(AJ347<=AO7,AO8,AO8+(AO10-AO8)*(1-((AO5+EXP(AO6*(AO4-AO7)))/(AO5+EXP(AO6*(AO4-AJ347))))^AO5)/(1-((AO5+EXP(AO6*(AO4-AO7)))/(AO5+EXP(AO6*(AO4-AO9))))^AO5)))","v":0},0,0]
[337,{"$f":"'daily uptake'!F431","v":"2011-10-03"},{"$f":"5/9*'daily uptake'!Q431","v":17.222222222222221},{"$f":"5/9*'daily uptake'!N431","v":7.2222222222222223},{"$f":"IF(AND($A348>='daily uptake'!$C$9,$A348<='daily uptake'!$C$10),$C348+E347,0)","v":0},{"$f":"IF(AND($A348>='daily uptake'!$C$18,$A348<='daily uptake'!$C$20),$D348+F347,0)","v":0},{"$f":"IF(AND($A348>='daily uptake'!$C$24,$A348<='daily uptake'!$C$25),$C348+G347,0)","v":766.94444444444434},{"$f":"IF(OR(F348<=I7,F348>I9),0,I8+(I10-I8)*(1-((I5+EXP(I6*(I4-I7)))/(I5+EXP(I6*(I4-F348))))^I5)/(1-((I5+EXP(I6*(I4-I7)))/(I5+EXP(I6*(I4-I9))))^I5))","v":0},{"$f":"IF(OR(F348<=J7,F348>J9),0,J8+(J10-J8)*(1-((J5+EXP(J6*(J4-J7)))/(J5+EXP(J6*(J4-F348))))^J5)/(1-((J5+EXP(J6*(J4-J7)))/(J5+EXP(J6*(J4-J9))))^J5))","v":0},{"$f":"IF(OR(F348<=J9,F348>100000),0,IF(F348<=K7,K8,K8+(K10-K8)*(1-((K5+EXP(K6*(K4-K7)))/(K5+EXP(K6*(K4-F348))))^K5)/(1-((K5+EXP(K6*(K4-K7)))/(K5+EXP(K6*(K4-K9))))^K5)))","v":0},0,0,0,84.551053881477728,"2011-10-03",{"$f":"MAX(L$12:L348)+MAX(M$12:M348)+MAX(N$12:N348)","v":474.55105388147774},"2011-10-03",4.1139752498496591,null,null,null,null,null,null,null,null,null,null,null,null,null,null,null,null,null,0,null,{"$f":"IF(OR(AJ348<=AM7,AJ348>AM9),0,AM8+(AM10-AM8)*(1-((AM5+EXP(AM6*(AM4-AM7)))/(AM5+EXP(AM6*(AM4-AJ348))))^AM5)/(1-((AM5+EXP(AM6*(AM4-AM7)))/(AM5+EXP(AM6*(AM4-AM9))))^AM5))","v":0},{"$f":"IF(OR(AJ348<=AN7,AJ348>AN9),0,AN8+(AN10-AN8)*(1-((AN5+EXP(AN6*(AN4-AN7)))/(AN5+EXP(AN6*(AN4-AJ348))))^AN5)/(1-((AN5+EXP(AN6*(AN4-AN7)))/(AN5+EXP(AN6*(AN4-AN9))))^AN5))","v":0},{"$f":"IF(OR(AJ348<=AN9,AJ348>100000),0,IF(AJ348<=AO7,AO8,AO8+(AO10-AO8)*(1-((AO5+EXP(AO6*(AO4-AO7)))/(AO5+EXP(AO6*(AO4-AJ348))))^AO5)/(1-((AO5+EXP(AO6*(AO4-AO7)))/(AO5+EXP(AO6*(AO4-AO9))))^AO5)))","v":0},0,0]
[338,{"$f":"'daily uptake'!F432","v":"2011-10-04"},{"$f":"5/9*'daily uptake'!Q432","v":17.5},{"$f":"5/9*'daily uptake'!N432","v":7.5},{"$f":"IF(AND($A349>='daily uptake'!$C$9,$A349<='daily uptake'!$C$10),$C349+E348,0)","v":0},{"$f":"IF(AND($A349>='daily uptake'!$C$18,$A349<='daily uptake'!$C$20),$D349+F348,0)","v":0},{"$f":"IF(AND($A349>='daily uptake'!$C$24,$A349<='daily uptake'!$C$25),$C349+G348,0)","v":784.44444444444434},{"$f":"IF(OR(F349<=I7,F349>I9),0,I8+(I10-I8)*(1-((I5+EXP(I6*(I4-I7)))/(I5+EXP(I6*(I4-F349))))^I5)/(1-((I5+EXP(I6*(I4-I7)))/(I5+EXP(I6*(I4-I9))))^I5))","v":0},{"$f":"IF(OR(F349<=J7,F349>J9),0,J8+(J10-J8)*(1-((J5+EXP(J6*(J4-J7)))/(J5+EXP(J6*(J4-F349))))^J5)/(1-((J5+EXP(J6*(J4-J7)))/(J5+EXP(J6*(J4-J9))))^J5))","v":0},{"$f":"IF(OR(F349<=J9,F349>100000),0,IF(F349<=K7,K8,K8+(K10-K8)*(1-((K5+EXP(K6*(K4-K7)))/(K5+EXP(K6*(K4-F349))))^K5)/(1-((K5+EXP(K6*(K4-K7)))/(K5+EXP(K6*(K4-K9))))^K5)))","v":0},0,0,0,88.912393384344682,"2011-10-04",{"$f":"MAX(L$12:L349)+MAX(M$12:M349)+MAX(N$12:N349)","v":478.91239338434468},"2011-10-04",4.3613395028669402,null,null,null,null,null,null,null,null,null,null,null,null,null,null,null,null,null,0,null,{"$f":"IF(OR(AJ349<=AM7,AJ349>AM9),0,AM8+(AM10-AM8)*(1-((AM5+EXP(AM6*(AM4-AM7)))/(AM5+EXP(AM6*(AM4-AJ349))))^AM5)/(1-((AM5+EXP(AM6*(AM4-AM7)))/(AM5+EXP(AM6*(AM4-AM9))))^AM5))","v":0},{"$f":"IF(OR(AJ349<=AN7,AJ349>AN9),0,AN8+(AN10-AN8)*(1-((AN5+EXP(AN6*(AN4-AN7)))/(AN5+EXP(AN6*(AN4-AJ349))))^AN5)/(1-((AN5+EXP(AN6*(AN4-AN7)))/(AN5+EXP(AN6*(AN4-AN9))))^AN5))","v":0},{"$f":"IF(OR(AJ349<=AN9,AJ349>100000),0,IF(AJ349<=AO7,AO8,AO8+(AO10-AO8)*(1-((AO5+EXP(AO6*(AO4-AO7)))/(AO5+EXP(AO6*(AO4-AJ349))))^AO5)/(1-((AO5+EXP(AO6*(AO4-AO7)))/(AO5+EXP(AO6*(AO4-AO9))))^AO5)))","v":0},0,0]
[339,{"$f":"'daily uptake'!F433","v":"2011-10-05"},{"$f":"5/9*'daily uptake'!Q433","v":14.722222222222223},{"$f":"5/9*'daily uptake'!N433","v":4.7222222222222223},{"$f":"IF(AND($A350>='daily uptake'!$C$9,$A350<='daily uptake'!$C$10),$C350+E349,0)","v":0},{"$f":"IF(AND($A350>='daily uptake'!$C$18,$A350<='daily uptake'!$C$20),$D350+F349,0)","v":0},{"$f":"IF(AND($A350>='daily uptake'!$C$24,$A350<='daily uptake'!$C$25),$C350+G349,0)","v":799.16666666666652},{"$f":"IF(OR(F350<=I7,F350>I9),0,I8+(I10-I8)*(1-((I5+EXP(I6*(I4-I7)))/(I5+EXP(I6*(I4-F350))))^I5)/(1-((I5+EXP(I6*(I4-I7)))/(I5+EXP(I6*(I4-I9))))^I5))","v":0},{"$f":"IF(OR(F350<=J7,F350>J9),0,J8+(J10-J8)*(1-((J5+EXP(J6*(J4-J7)))/(J5+EXP(J6*(J4-F350))))^J5)/(1-((J5+EXP(J6*(J4-J7)))/(J5+EXP(J6*(J4-J9))))^J5))","v":0},{"$f":"IF(OR(F350<=J9,F350>100000),0,IF(F350<=K7,K8,K8+(K10-K8)*(1-((K5+EXP(K6*(K4-K7)))/(K5+EXP(K6*(K4-F350))))^K5)/(1-((K5+EXP(K6*(K4-K7)))/(K5+EXP(K6*(K4-K9))))^K5)))","v":0},0,0,0,92.728570008455065,"2011-10-05",{"$f":"MAX(L$12:L350)+MAX(M$12:M350)+MAX(N$12:N350)","v":482.72857000845505},"2011-10-05",3.8161766241103692,null,null,null,null,null,null,null,null,null,null,null,null,null,null,null,null,null,0,null,{"$f":"IF(OR(AJ350<=AM7,AJ350>AM9),0,AM8+(AM10-AM8)*(1-((AM5+EXP(AM6*(AM4-AM7)))/(AM5+EXP(AM6*(AM4-AJ350))))^AM5)/(1-((AM5+EXP(AM6*(AM4-AM7)))/(AM5+EXP(AM6*(AM4-AM9))))^AM5))","v":0},{"$f":"IF(OR(AJ350<=AN7,AJ350>AN9),0,AN8+(AN10-AN8)*(1-((AN5+EXP(AN6*(AN4-AN7)))/(AN5+EXP(AN6*(AN4-AJ350))))^AN5)/(1-((AN5+EXP(AN6*(AN4-AN7)))/(AN5+EXP(AN6*(AN4-AN9))))^AN5))","v":0},{"$f":"IF(OR(AJ350<=AN9,AJ350>100000),0,IF(AJ350<=AO7,AO8,AO8+(AO10-AO8)*(1-((AO5+EXP(AO6*(AO4-AO7)))/(AO5+EXP(AO6*(AO4-AJ350))))^AO5)/(1-((AO5+EXP(AO6*(AO4-AO7)))/(AO5+EXP(AO6*(AO4-AO9))))^AO5)))","v":0},0,0]
[340,{"$f":"'daily uptake'!F434","v":"2011-10-06"},{"$f":"5/9*'daily uptake'!Q434","v":12.777777777777779},{"$f":"5/9*'daily uptake'!N434","v":3.6111111111111112},{"$f":"IF(AND($A351>='daily uptake'!$C$9,$A351<='daily uptake'!$C$10),$C351+E350,0)","v":0},{"$f":"IF(AND($A351>='daily uptake'!$C$18,$A351<='daily uptake'!$C$20),$D351+F350,0)","v":0},{"$f":"IF(AND($A351>='daily uptake'!$C$24,$A351<='daily uptake'!$C$25),$C351+G350,0)","v":811.94444444444434},{"$f":"IF(OR(F351<=I7,F351>I9),0,I8+(I10-I8)*(1-((I5+EXP(I6*(I4-I7)))/(I5+EXP(I6*(I4-F351))))^I5)/(1-((I5+EXP(I6*(I4-I7)))/(I5+EXP(I6*(I4-I9))))^I5))","v":0},{"$f":"IF(OR(F351<=J7,F351>J9),0,J8+(J10-J8)*(1-((J5+EXP(J6*(J4-J7)))/(J5+EXP(J6*(J4-F351))))^J5)/(1-((J5+EXP(J6*(J4-J7)))/(J5+EXP(J6*(J4-J9))))^J5))","v":0},{"$f":"IF(OR(F351<=J9,F351>100000),0,IF(F351<=K7,K8,K8+(K10-K8)*(1-((K5+EXP(K6*(K4-K7)))/(K5+EXP(K6*(K4-F351))))^K5)/(1-((K5+EXP(K6*(K4-K7)))/(K5+EXP(K6*(K4-K9))))^K5)))","v":0},0,0,0,96.153754954010068,"2011-10-06",{"$f":"MAX(L$12:L351)+MAX(M$12:M351)+MAX(N$12:N351)","v":486.15375495401008},"2011-10-06",3.4251849455550314,null,null,null,null,null,null,null,null,null,null,null,null,null,null,null,null,null,0,null,{"$f":"IF(OR(AJ351<=AM7,AJ351>AM9),0,AM8+(AM10-AM8)*(1-((AM5+EXP(AM6*(AM4-AM7)))/(AM5+EXP(AM6*(AM4-AJ351))))^AM5)/(1-((AM5+EXP(AM6*(AM4-AM7)))/(AM5+EXP(AM6*(AM4-AM9))))^AM5))","v":0},{"$f":"IF(OR(AJ351<=AN7,AJ351>AN9),0,AN8+(AN10-AN8)*(1-((AN5+EXP(AN6*(AN4-AN7)))/(AN5+EXP(AN6*(AN4-AJ351))))^AN5)/(1-((AN5+EXP(AN6*(AN4-AN7)))/(AN5+EXP(AN6*(AN4-AN9))))^AN5))","v":0},{"$f":"IF(OR(AJ351<=AN9,AJ351>100000),0,IF(AJ351<=AO7,AO8,AO8+(AO10-AO8)*(1-((AO5+EXP(AO6*(AO4-AO7)))/(AO5+EXP(AO6*(AO4-AJ351))))^AO5)/(1-((AO5+EXP(AO6*(AO4-AO7)))/(AO5+EXP(AO6*(AO4-AO9))))^AO5)))","v":0},0,0]
[341,{"$f":"'daily uptake'!F435","v":"2011-10-07"},{"$f":"5/9*'daily uptake'!Q435","v":13.888888888888889},{"$f":"5/9*'daily uptake'!N435","v":5.2777777777777777},{"$f":"IF(AND($A352>='daily uptake'!$C$9,$A352<='daily uptake'!$C$10),$C352+E351,0)","v":0},{"$f":"IF(AND($A352>='daily uptake'!$C$18,$A352<='daily uptake'!$C$20),$D352+F351,0)","v":0},{"$f":"IF(AND($A352>='daily uptake'!$C$24,$A352<='daily uptake'!$C$25),$C352+G351,0)","v":825.83333333333326},{"$f":"IF(OR(F352<=I7,F352>I9),0,I8+(I10-I8)*(1-((I5+EXP(I6*(I4-I7)))/(I5+EXP(I6*(I4-F352))))^I5)/(1-((I5+EXP(I6*(I4-I7)))/(I5+EXP(I6*(I4-I9))))^I5))","v":0},{"$f":"IF(OR(F352<=J7,F352>J9),0,J8+(J10-J8)*(1-((J5+EXP(J6*(J4-J7)))/(J5+EXP(J6*(J4-F352))))^J5)/(1-((J5+EXP(J6*(J4-J7)))/(J5+EXP(J6*(J4-J9))))^J5))","v":0},{"$f":"IF(OR(F352<=J9,F352>100000),0,IF(F352<=K7,K8,K8+(K10-K8)*(1-((K5+EXP(K6*(K4-K7)))/(K5+EXP(K6*(K4-F352))))^K5)/(1-((K5+EXP(K6*(K4-K7)))/(K5+EXP(K6*(K4-K9))))^K5)))","v":0},0,0,0,100,"2011-10-07",{"$f":"MAX(L$12:L352)+MAX(M$12:M352)+MAX(N$12:N352)","v":490},"2011-10-07",3.8462450459899173,null,null,null,null,null,null,null,null,null,null,null,null,null,null,null,null,null,0,null,{"$f":"IF(OR(AJ352<=AM7,AJ352>AM9),0,AM8+(AM10-AM8)*(1-((AM5+EXP(AM6*(AM4-AM7)))/(AM5+EXP(AM6*(AM4-AJ352))))^AM5)/(1-((AM5+EXP(AM6*(AM4-AM7)))/(AM5+EXP(AM6*(AM4-AM9))))^AM5))","v":0},{"$f":"IF(OR(AJ352<=AN7,AJ352>AN9),0,AN8+(AN10-AN8)*(1-((AN5+EXP(AN6*(AN4-AN7)))/(AN5+EXP(AN6*(AN4-AJ352))))^AN5)/(1-((AN5+EXP(AN6*(AN4-AN7)))/(AN5+EXP(AN6*(AN4-AN9))))^AN5))","v":0},{"$f":"IF(OR(AJ352<=AN9,AJ352>100000),0,IF(AJ352<=AO7,AO8,AO8+(AO10-AO8)*(1-((AO5+EXP(AO6*(AO4-AO7)))/(AO5+EXP(AO6*(AO4-AJ352))))^AO5)/(1-((AO5+EXP(AO6*(AO4-AO7)))/(AO5+EXP(AO6*(AO4-AO9))))^AO5)))","v":0},0,0]
[342,{"$f":"'daily uptake'!F436","v":"2011-10-08"},{"$f":"5/9*'daily uptake'!Q436","v":15.833333333333334},{"$f":"5/9*'daily uptake'!N436","v":6.666666666666667},{"$f":"IF(AND($A353>='daily uptake'!$C$9,$A353<='daily uptake'!$C$10),$C353+E352,0)","v":0},{"$f":"IF(AND($A353>='daily uptake'!$C$18,$A353<='daily uptake'!$C$20),$D353+F352,0)","v":0},{"$f":"IF(AND($A353>='daily uptake'!$C$24,$A353<='daily uptake'!$C$25),$C353+G352,0)","v":0},{"$f":"IF(OR(F353<=I7,F353>I9),0,I8+(I10-I8)*(1-((I5+EXP(I6*(I4-I7)))/(I5+EXP(I6*(I4-F353))))^I5)/(1-((I5+EXP(I6*(I4-I7)))/(I5+EXP(I6*(I4-I9))))^I5))","v":0},{"$f":"IF(OR(F353<=J7,F353>J9),0,J8+(J10-J8)*(1-((J5+EXP(J6*(J4-J7)))/(J5+EXP(J6*(J4-F353))))^J5)/(1-((J5+EXP(J6*(J4-J7)))/(J5+EXP(J6*(J4-J9))))^J5))","v":0},{"$f":"IF(OR(F353<=J9,F353>100000),0,IF(F353<=K7,K8,K8+(K10-K8)*(1-((K5+EXP(K6*(K4-K7)))/(K5+EXP(K6*(K4-F353))))^K5)/(1-((K5+EXP(K6*(K4-K7)))/(K5+EXP(K6*(K4-K9))))^K5)))","v":0},0,0,0,0,"2011-10-08",{"$f":"MAX(L$12:L353)+MAX(M$12:M353)+MAX(N$12:N353)","v":490},"2011-10-08",0,null,null,null,null,null,null,null,null,null,null,null,null,null,null,null,null,null,0,null,{"$f":"IF(OR(AJ353<=AM7,AJ353>AM9),0,AM8+(AM10-AM8)*(1-((AM5+EXP(AM6*(AM4-AM7)))/(AM5+EXP(AM6*(AM4-AJ353))))^AM5)/(1-((AM5+EXP(AM6*(AM4-AM7)))/(AM5+EXP(AM6*(AM4-AM9))))^AM5))","v":0},{"$f":"IF(OR(AJ353<=AN7,AJ353>AN9),0,AN8+(AN10-AN8)*(1-((AN5+EXP(AN6*(AN4-AN7)))/(AN5+EXP(AN6*(AN4-AJ353))))^AN5)/(1-((AN5+EXP(AN6*(AN4-AN7)))/(AN5+EXP(AN6*(AN4-AN9))))^AN5))","v":0},{"$f":"IF(OR(AJ353<=AN9,AJ353>100000),0,IF(AJ353<=AO7,AO8,AO8+(AO10-AO8)*(1-((AO5+EXP(AO6*(AO4-AO7)))/(AO5+EXP(AO6*(AO4-AJ353))))^AO5)/(1-((AO5+EXP(AO6*(AO4-AO7)))/(AO5+EXP(AO6*(AO4-AO9))))^AO5)))","v":0},0,0]
[343,{"$f":"'daily uptake'!F437","v":"2011-10-09"},{"$f":"5/9*'daily uptake'!Q437","v":16.944444444444446},{"$f":"5/9*'daily uptake'!N437","v":7.5},{"$f":"IF(AND($A354>='daily uptake'!$C$9,$A354<='daily uptake'!$C$10),$C354+E353,0)","v":0},{"$f":"IF(AND($A354>='daily uptake'!$C$18,$A354<='daily uptake'!$C$20),$D354+F353,0)","v":0},{"$f":"IF(AND($A354>='daily uptake'!$C$24,$A354<='daily uptake'!$C$25),$C354+G353,0)","v":0},{"$f":"IF(OR(F354<=I7,F354>I9),0,I8+(I10-I8)*(1-((I5+EXP(I6*(I4-I7)))/(I5+EXP(I6*(I4-F354))))^I5)/(1-((I5+EXP(I6*(I4-I7)))/(I5+EXP(I6*(I4-I9))))^I5))","v":0},{"$f":"IF(OR(F354<=J7,F354>J9),0,J8+(J10-J8)*(1-((J5+EXP(J6*(J4-J7)))/(J5+EXP(J6*(J4-F354))))^J5)/(1-((J5+EXP(J6*(J4-J7)))/(J5+EXP(J6*(J4-J9))))^J5))","v":0},{"$f":"IF(OR(F354<=J9,F354>100000),0,IF(F354<=K7,K8,K8+(K10-K8)*(1-((K5+EXP(K6*(K4-K7)))/(K5+EXP(K6*(K4-F354))))^K5)/(1-((K5+EXP(K6*(K4-K7)))/(K5+EXP(K6*(K4-K9))))^K5)))","v":0},0,0,0,0,"2011-10-09",{"$f":"MAX(L$12:L354)+MAX(M$12:M354)+MAX(N$12:N354)","v":490},"2011-10-09",0,null,null,null,null,null,null,null,null,null,null,null,null,null,null,null,null,null,0,null,{"$f":"IF(OR(AJ354<=AM7,AJ354>AM9),0,AM8+(AM10-AM8)*(1-((AM5+EXP(AM6*(AM4-AM7)))/(AM5+EXP(AM6*(AM4-AJ354))))^AM5)/(1-((AM5+EXP(AM6*(AM4-AM7)))/(AM5+EXP(AM6*(AM4-AM9))))^AM5))","v":0},{"$f":"IF(OR(AJ354<=AN7,AJ354>AN9),0,AN8+(AN10-AN8)*(1-((AN5+EXP(AN6*(AN4-AN7)))/(AN5+EXP(AN6*(AN4-AJ354))))^AN5)/(1-((AN5+EXP(AN6*(AN4-AN7)))/(AN5+EXP(AN6*(AN4-AN9))))^AN5))","v":0},{"$f":"IF(OR(AJ354<=AN9,AJ354>100000),0,IF(AJ354<=AO7,AO8,AO8+(AO10-AO8)*(1-((AO5+EXP(AO6*(AO4-AO7)))/(AO5+EXP(AO6*(AO4-AJ354))))^AO5)/(1-((AO5+EXP(AO6*(AO4-AO7)))/(AO5+EXP(AO6*(AO4-AO9))))^AO5)))","v":0},0,0]
[344,{"$f":"'daily uptake'!F438","v":"2011-10-10"},{"$f":"5/9*'daily uptake'!Q438","v":17.5},{"$f":"5/9*'daily uptake'!N438","v":7.5},{"$f":"IF(AND($A355>='daily uptake'!$C$9,$A355<='daily uptake'!$C$10),$C355+E354,0)","v":0},{"$f":"IF(AND($A355>='daily uptake'!$C$18,$A355<='daily uptake'!$C$20),$D355+F354,0)","v":0},{"$f":"IF(AND($A355>='daily uptake'!$C$24,$A355<='daily uptake'!$C$25),$C355+G354,0)","v":0},{"$f":"IF(OR(F355<=I7,F355>I9),0,I8+(I10-I8)*(1-((I5+EXP(I6*(I4-I7)))/(I5+EXP(I6*(I4-F355))))^I5)/(1-((I5+EXP(I6*(I4-I7)))/(I5+EXP(I6*(I4-I9))))^I5))","v":0},{"$f":"IF(OR(F355<=J7,F355>J9),0,J8+(J10-J8)*(1-((J5+EXP(J6*(J4-J7)))/(J5+EXP(J6*(J4-F355))))^J5)/(1-((J5+EXP(J6*(J4-J7)))/(J5+EXP(J6*(J4-J9))))^J5))","v":0},{"$f":"IF(OR(F355<=J9,F355>100000),0,IF(F355<=K7,K8,K8+(K10-K8)*(1-((K5+EXP(K6*(K4-K7)))/(K5+EXP(K6*(K4-F355))))^K5)/(1-((K5+EXP(K6*(K4-K7)))/(K5+EXP(K6*(K4-K9))))^K5)))","v":0},0,0,0,0,"2011-10-10",{"$f":"MAX(L$12:L355)+MAX(M$12:M355)+MAX(N$12:N355)","v":490},"2011-10-10",0,null,null,null,null,null,null,null,null,null,null,null,null,null,null,null,null,null,0,null,{"$f":"IF(OR(AJ355<=AM7,AJ355>AM9),0,AM8+(AM10-AM8)*(1-((AM5+EXP(AM6*(AM4-AM7)))/(AM5+EXP(AM6*(AM4-AJ355))))^AM5)/(1-((AM5+EXP(AM6*(AM4-AM7)))/(AM5+EXP(AM6*(AM4-AM9))))^AM5))","v":0},{"$f":"IF(OR(AJ355<=AN7,AJ355>AN9),0,AN8+(AN10-AN8)*(1-((AN5+EXP(AN6*(AN4-AN7)))/(AN5+EXP(AN6*(AN4-AJ355))))^AN5)/(1-((AN5+EXP(AN6*(AN4-AN7)))/(AN5+EXP(AN6*(AN4-AN9))))^AN5))","v":0},{"$f":"IF(OR(AJ355<=AN9,AJ355>100000),0,IF(AJ355<=AO7,AO8,AO8+(AO10-AO8)*(1-((AO5+EXP(AO6*(AO4-AO7)))/(AO5+EXP(AO6*(AO4-AJ355))))^AO5)/(1-((AO5+EXP(AO6*(AO4-AO7)))/(AO5+EXP(AO6*(AO4-AO9))))^AO5)))","v":0},0,0]
[345,{"$f":"'daily uptake'!F439","v":"2011-10-11"},{"$f":"5/9*'daily uptake'!Q439","v":20.833333333333336},{"$f":"5/9*'daily uptake'!N439","v":10.833333333333334},{"$f":"IF(AND($A356>='daily uptake'!$C$9,$A356<='daily uptake'!$C$10),$C356+E355,0)","v":0},{"$f":"IF(AND($A356>='daily uptake'!$C$18,$A356<='daily uptake'!$C$20),$D356+F355,0)","v":0},{"$f":"IF(AND($A356>='daily uptake'!$C$24,$A356<='daily uptake'!$C$25),$C356+G355,0)","v":0},{"$f":"IF(OR(F356<=I7,F356>I9),0,I8+(I10-I8)*(1-((I5+EXP(I6*(I4-I7)))/(I5+EXP(I6*(I4-F356))))^I5)/(1-((I5+EXP(I6*(I4-I7)))/(I5+EXP(I6*(I4-I9))))^I5))","v":0},{"$f":"IF(OR(F356<=J7,F356>J9),0,J8+(J10-J8)*(1-((J5+EXP(J6*(J4-J7)))/(J5+EXP(J6*(J4-F356))))^J5)/(1-((J5+EXP(J6*(J4-J7)))/(J5+EXP(J6*(J4-J9))))^J5))","v":0},{"$f":"IF(OR(F356<=J9,F356>100000),0,IF(F356<=K7,K8,K8+(K10-K8)*(1-((K5+EXP(K6*(K4-K7)))/(K5+EXP(K6*(K4-F356))))^K5)/(1-((K5+EXP(K6*(K4-K7)))/(K5+EXP(K6*(K4-K9))))^K5)))","v":0},0,0,0,0,"2011-10-11",{"$f":"MAX(L$12:L356)+MAX(M$12:M356)+MAX(N$12:N356)","v":490},"2011-10-11",0,null,null,null,null,null,null,null,null,null,null,null,null,null,null,null,null,null,0,null,{"$f":"IF(OR(AJ356<=AM7,AJ356>AM9),0,AM8+(AM10-AM8)*(1-((AM5+EXP(AM6*(AM4-AM7)))/(AM5+EXP(AM6*(AM4-AJ356))))^AM5)/(1-((AM5+EXP(AM6*(AM4-AM7)))/(AM5+EXP(AM6*(AM4-AM9))))^AM5))","v":0},{"$f":"IF(OR(AJ356<=AN7,AJ356>AN9),0,AN8+(AN10-AN8)*(1-((AN5+EXP(AN6*(AN4-AN7)))/(AN5+EXP(AN6*(AN4-AJ356))))^AN5)/(1-((AN5+EXP(AN6*(AN4-AN7)))/(AN5+EXP(AN6*(AN4-AN9))))^AN5))","v":0},{"$f":"IF(OR(AJ356<=AN9,AJ356>100000),0,IF(AJ356<=AO7,AO8,AO8+(AO10-AO8)*(1-((AO5+EXP(AO6*(AO4-AO7)))/(AO5+EXP(AO6*(AO4-AJ356))))^AO5)/(1-((AO5+EXP(AO6*(AO4-AO7)))/(AO5+EXP(AO6*(AO4-AO9))))^AO5)))","v":0},0,0]
[346,{"$f":"'daily uptake'!F440","v":"2011-10-12"},{"$f":"5/9*'daily uptake'!Q440","v":19.444444444444446},{"$f":"5/9*'daily uptake'!N440","v":9.4444444444444446},{"$f":"IF(AND($A357>='daily uptake'!$C$9,$A357<='daily uptake'!$C$10),$C357+E356,0)","v":0},{"$f":"IF(AND($A357>='daily uptake'!$C$18,$A357<='daily uptake'!$C$20),$D357+F356,0)","v":0},{"$f":"IF(AND($A357>='daily uptake'!$C$24,$A357<='daily uptake'!$C$25),$C357+G356,0)","v":0},{"$f":"IF(OR(F357<=I7,F357>I9),0,I8+(I10-I8)*(1-((I5+EXP(I6*(I4-I7)))/(I5+EXP(I6*(I4-F357))))^I5)/(1-((I5+EXP(I6*(I4-I7)))/(I5+EXP(I6*(I4-I9))))^I5))","v":0},{"$f":"IF(OR(F357<=J7,F357>J9),0,J8+(J10-J8)*(1-((J5+EXP(J6*(J4-J7)))/(J5+EXP(J6*(J4-F357))))^J5)/(1-((J5+EXP(J6*(J4-J7)))/(J5+EXP(J6*(J4-J9))))^J5))","v":0},{"$f":"IF(OR(F357<=J9,F357>100000),0,IF(F357<=K7,K8,K8+(K10-K8)*(1-((K5+EXP(K6*(K4-K7)))/(K5+EXP(K6*(K4-F357))))^K5)/(1-((K5+EXP(K6*(K4-K7)))/(K5+EXP(K6*(K4-K9))))^K5)))","v":0},0,0,0,0,"2011-10-12",{"$f":"MAX(L$12:L357)+MAX(M$12:M357)+MAX(N$12:N357)","v":490},"2011-10-12",0,null,null,null,null,null,null,null,null,null,null,null,null,null,null,null,null,null,0,null,{"$f":"IF(OR(AJ357<=AM7,AJ357>AM9),0,AM8+(AM10-AM8)*(1-((AM5+EXP(AM6*(AM4-AM7)))/(AM5+EXP(AM6*(AM4-AJ357))))^AM5)/(1-((AM5+EXP(AM6*(AM4-AM7)))/(AM5+EXP(AM6*(AM4-AM9))))^AM5))","v":0},{"$f":"IF(OR(AJ357<=AN7,AJ357>AN9),0,AN8+(AN10-AN8)*(1-((AN5+EXP(AN6*(AN4-AN7)))/(AN5+EXP(AN6*(AN4-AJ357))))^AN5)/(1-((AN5+EXP(AN6*(AN4-AN7)))/(AN5+EXP(AN6*(AN4-AN9))))^AN5))","v":0},{"$f":"IF(OR(AJ357<=AN9,AJ357>100000),0,IF(AJ357<=AO7,AO8,AO8+(AO10-AO8)*(1-((AO5+EXP(AO6*(AO4-AO7)))/(AO5+EXP(AO6*(AO4-AJ357))))^AO5)/(1-((AO5+EXP(AO6*(AO4-AO7)))/(AO5+EXP(AO6*(AO4-AO9))))^AO5)))","v":0},0,0]
[347,{"$f":"'daily uptake'!F441","v":"2011-10-13"},{"$f":"5/9*'daily uptake'!Q441","v":19.444444444444446},{"$f":"5/9*'daily uptake'!N441","v":9.4444444444444446},{"$f":"IF(AND($A358>='daily uptake'!$C$9,$A358<='daily uptake'!$C$10),$C358+E357,0)","v":0},{"$f":"IF(AND($A358>='daily uptake'!$C$18,$A358<='daily uptake'!$C$20),$D358+F357,0)","v":0},{"$f":"IF(AND($A358>='daily uptake'!$C$24,$A358<='daily uptake'!$C$25),$C358+G357,0)","v":0},{"$f":"IF(OR(F358<=I7,F358>I9),0,I8+(I10-I8)*(1-((I5+EXP(I6*(I4-I7)))/(I5+EXP(I6*(I4-F358))))^I5)/(1-((I5+EXP(I6*(I4-I7)))/(I5+EXP(I6*(I4-I9))))^I5))","v":0},{"$f":"IF(OR(F358<=J7,F358>J9),0,J8+(J10-J8)*(1-((J5+EXP(J6*(J4-J7)))/(J5+EXP(J6*(J4-F358))))^J5)/(1-((J5+EXP(J6*(J4-J7)))/(J5+EXP(J6*(J4-J9))))^J5))","v":0},{"$f":"IF(OR(F358<=J9,F358>100000),0,IF(F358<=K7,K8,K8+(K10-K8)*(1-((K5+EXP(K6*(K4-K7)))/(K5+EXP(K6*(K4-F358))))^K5)/(1-((K5+EXP(K6*(K4-K7)))/(K5+EXP(K6*(K4-K9))))^K5)))","v":0},0,0,0,0,"2011-10-13",{"$f":"MAX(L$12:L358)+MAX(M$12:M358)+MAX(N$12:N358)","v":490},"2011-10-13",0,null,null,null,null,null,null,null,null,null,null,null,null,null,null,null,null,null,0,null,{"$f":"IF(OR(AJ358<=AM7,AJ358>AM9),0,AM8+(AM10-AM8)*(1-((AM5+EXP(AM6*(AM4-AM7)))/(AM5+EXP(AM6*(AM4-AJ358))))^AM5)/(1-((AM5+EXP(AM6*(AM4-AM7)))/(AM5+EXP(AM6*(AM4-AM9))))^AM5))","v":0},{"$f":"IF(OR(AJ358<=AN7,AJ358>AN9),0,AN8+(AN10-AN8)*(1-((AN5+EXP(AN6*(AN4-AN7)))/(AN5+EXP(AN6*(AN4-AJ358))))^AN5)/(1-((AN5+EXP(AN6*(AN4-AN7)))/(AN5+EXP(AN6*(AN4-AN9))))^AN5))","v":0},{"$f":"IF(OR(AJ358<=AN9,AJ358>100000),0,IF(AJ358<=AO7,AO8,AO8+(AO10-AO8)*(1-((AO5+EXP(AO6*(AO4-AO7)))/(AO5+EXP(AO6*(AO4-AJ358))))^AO5)/(1-((AO5+EXP(AO6*(AO4-AO7)))/(AO5+EXP(AO6*(AO4-AO9))))^AO5)))","v":0},0,0]
[348,{"$f":"'daily uptake'!F442","v":"2011-10-14"},{"$f":"5/9*'daily uptake'!Q442","v":21.666666666666668},{"$f":"5/9*'daily uptake'!N442","v":11.666666666666668},{"$f":"IF(AND($A359>='daily uptake'!$C$9,$A359<='daily uptake'!$C$10),$C359+E358,0)","v":0},{"$f":"IF(AND($A359>='daily uptake'!$C$18,$A359<='daily uptake'!$C$20),$D359+F358,0)","v":0},{"$f":"IF(AND($A359>='daily uptake'!$C$24,$A359<='daily uptake'!$C$25),$C359+G358,0)","v":0},{"$f":"IF(OR(F359<=I7,F359>I9),0,I8+(I10-I8)*(1-((I5+EXP(I6*(I4-I7)))/(I5+EXP(I6*(I4-F359))))^I5)/(1-((I5+EXP(I6*(I4-I7)))/(I5+EXP(I6*(I4-I9))))^I5))","v":0},{"$f":"IF(OR(F359<=J7,F359>J9),0,J8+(J10-J8)*(1-((J5+EXP(J6*(J4-J7)))/(J5+EXP(J6*(J4-F359))))^J5)/(1-((J5+EXP(J6*(J4-J7)))/(J5+EXP(J6*(J4-J9))))^J5))","v":0},{"$f":"IF(OR(F359<=J9,F359>100000),0,IF(F359<=K7,K8,K8+(K10-K8)*(1-((K5+EXP(K6*(K4-K7)))/(K5+EXP(K6*(K4-F359))))^K5)/(1-((K5+EXP(K6*(K4-K7)))/(K5+EXP(K6*(K4-K9))))^K5)))","v":0},0,0,0,0,"2011-10-14",{"$f":"MAX(L$12:L359)+MAX(M$12:M359)+MAX(N$12:N359)","v":490},"2011-10-14",0,null,null,null,null,null,null,null,null,null,null,null,null,null,null,null,null,null,0,null,{"$f":"IF(OR(AJ359<=AM7,AJ359>AM9),0,AM8+(AM10-AM8)*(1-((AM5+EXP(AM6*(AM4-AM7)))/(AM5+EXP(AM6*(AM4-AJ359))))^AM5)/(1-((AM5+EXP(AM6*(AM4-AM7)))/(AM5+EXP(AM6*(AM4-AM9))))^AM5))","v":0},{"$f":"IF(OR(AJ359<=AN7,AJ359>AN9),0,AN8+(AN10-AN8)*(1-((AN5+EXP(AN6*(AN4-AN7)))/(AN5+EXP(AN6*(AN4-AJ359))))^AN5)/(1-((AN5+EXP(AN6*(AN4-AN7)))/(AN5+EXP(AN6*(AN4-AN9))))^AN5))","v":0},{"$f":"IF(OR(AJ359<=AN9,AJ359>100000),0,IF(AJ359<=AO7,AO8,AO8+(AO10-AO8)*(1-((AO5+EXP(AO6*(AO4-AO7)))/(AO5+EXP(AO6*(AO4-AJ359))))^AO5)/(1-((AO5+EXP(AO6*(AO4-AO7)))/(AO5+EXP(AO6*(AO4-AO9))))^AO5)))","v":0},0,0]
[349,{"$f":"'daily uptake'!F443","v":"2011-10-15"},{"$f":"5/9*'daily uptake'!Q443","v":21.666666666666668},{"$f":"5/9*'daily uptake'!N443","v":11.666666666666668},{"$f":"IF(AND($A360>='daily uptake'!$C$9,$A360<='daily uptake'!$C$10),$C360+E359,0)","v":0},{"$f":"IF(AND($A360>='daily uptake'!$C$18,$A360<='daily uptake'!$C$20),$D360+F359,0)","v":0},{"$f":"IF(AND($A360>='daily uptake'!$C$24,$A360<='daily uptake'!$C$25),$C360+G359,0)","v":0},{"$f":"IF(OR(F360<=I7,F360>I9),0,I8+(I10-I8)*(1-((I5+EXP(I6*(I4-I7)))/(I5+EXP(I6*(I4-F360))))^I5)/(1-((I5+EXP(I6*(I4-I7)))/(I5+EXP(I6*(I4-I9))))^I5))","v":0},{"$f":"IF(OR(F360<=J7,F360>J9),0,J8+(J10-J8)*(1-((J5+EXP(J6*(J4-J7)))/(J5+EXP(J6*(J4-F360))))^J5)/(1-((J5+EXP(J6*(J4-J7)))/(J5+EXP(J6*(J4-J9))))^J5))","v":0},{"$f":"IF(OR(F360<=J9,F360>100000),0,IF(F360<=K7,K8,K8+(K10-K8)*(1-((K5+EXP(K6*(K4-K7)))/(K5+EXP(K6*(K4-F360))))^K5)/(1-((K5+EXP(K6*(K4-K7)))/(K5+EXP(K6*(K4-K9))))^K5)))","v":0},0,0,0,0,"2011-10-15",{"$f":"MAX(L$12:L360)+MAX(M$12:M360)+MAX(N$12:N360)","v":490},"2011-10-15",0,null,null,null,null,null,null,null,null,null,null,null,null,null,null,null,null,null,0,null,{"$f":"IF(OR(AJ360<=AM7,AJ360>AM9),0,AM8+(AM10-AM8)*(1-((AM5+EXP(AM6*(AM4-AM7)))/(AM5+EXP(AM6*(AM4-AJ360))))^AM5)/(1-((AM5+EXP(AM6*(AM4-AM7)))/(AM5+EXP(AM6*(AM4-AM9))))^AM5))","v":0},{"$f":"IF(OR(AJ360<=AN7,AJ360>AN9),0,AN8+(AN10-AN8)*(1-((AN5+EXP(AN6*(AN4-AN7)))/(AN5+EXP(AN6*(AN4-AJ360))))^AN5)/(1-((AN5+EXP(AN6*(AN4-AN7)))/(AN5+EXP(AN6*(AN4-AN9))))^AN5))","v":0},{"$f":"IF(OR(AJ360<=AN9,AJ360>100000),0,IF(AJ360<=AO7,AO8,AO8+(AO10-AO8)*(1-((AO5+EXP(AO6*(AO4-AO7)))/(AO5+EXP(AO6*(AO4-AJ360))))^AO5)/(1-((AO5+EXP(AO6*(AO4-AO7)))/(AO5+EXP(AO6*(AO4-AO9))))^AO5)))","v":0},0,0]
[350,{"$f":"'daily uptake'!F444","v":"2011-10-16"},{"$f":"5/9*'daily uptake'!Q444","v":20},{"$f":"5/9*'daily uptake'!N444","v":10},{"$f":"IF(AND($A361>='daily uptake'!$C$9,$A361<='daily uptake'!$C$10),$C361+E360,0)","v":0},{"$f":"IF(AND($A361>='daily uptake'!$C$18,$A361<='daily uptake'!$C$20),$D361+F360,0)","v":0},{"$f":"IF(AND($A361>='daily uptake'!$C$24,$A361<='daily uptake'!$C$25),$C361+G360,0)","v":0},{"$f":"IF(OR(F361<=I7,F361>I9),0,I8+(I10-I8)*(1-((I5+EXP(I6*(I4-I7)))/(I5+EXP(I6*(I4-F361))))^I5)/(1-((I5+EXP(I6*(I4-I7)))/(I5+EXP(I6*(I4-I9))))^I5))","v":0},{"$f":"IF(OR(F361<=J7,F361>J9),0,J8+(J10-J8)*(1-((J5+EXP(J6*(J4-J7)))/(J5+EXP(J6*(J4-F361))))^J5)/(1-((J5+EXP(J6*(J4-J7)))/(J5+EXP(J6*(J4-J9))))^J5))","v":0},{"$f":"IF(OR(F361<=J9,F361>100000),0,IF(F361<=K7,K8,K8+(K10-K8)*(1-((K5+EXP(K6*(K4-K7)))/(K5+EXP(K6*(K4-F361))))^K5)/(1-((K5+EXP(K6*(K4-K7)))/(K5+EXP(K6*(K4-K9))))^K5)))","v":0},0,0,0,0,"2011-10-16",{"$f":"MAX(L$12:L361)+MAX(M$12:M361)+MAX(N$12:N361)","v":490},"2011-10-16",0,null,null,null,null,null,null,null,null,null,null,null,null,null,null,null,null,null,0,null,{"$f":"IF(OR(AJ361<=AM7,AJ361>AM9),0,AM8+(AM10-AM8)*(1-((AM5+EXP(AM6*(AM4-AM7)))/(AM5+EXP(AM6*(AM4-AJ361))))^AM5)/(1-((AM5+EXP(AM6*(AM4-AM7)))/(AM5+EXP(AM6*(AM4-AM9))))^AM5))","v":0},{"$f":"IF(OR(AJ361<=AN7,AJ361>AN9),0,AN8+(AN10-AN8)*(1-((AN5+EXP(AN6*(AN4-AN7)))/(AN5+EXP(AN6*(AN4-AJ361))))^AN5)/(1-((AN5+EXP(AN6*(AN4-AN7)))/(AN5+EXP(AN6*(AN4-AN9))))^AN5))","v":0},{"$f":"IF(OR(AJ361<=AN9,AJ361>100000),0,IF(AJ361<=AO7,AO8,AO8+(AO10-AO8)*(1-((AO5+EXP(AO6*(AO4-AO7)))/(AO5+EXP(AO6*(AO4-AJ361))))^AO5)/(1-((AO5+EXP(AO6*(AO4-AO7)))/(AO5+EXP(AO6*(AO4-AO9))))^AO5)))","v":0},0,0]
[351,{"$f":"'daily uptake'!F445","v":"2011-10-17"},{"$f":"5/9*'daily uptake'!Q445","v":21.111111111111111},{"$f":"5/9*'daily uptake'!N445","v":11.111111111111111},{"$f":"IF(AND($A362>='daily uptake'!$C$9,$A362<='daily uptake'!$C$10),$C362+E361,0)","v":0},{"$f":"IF(AND($A362>='daily uptake'!$C$18,$A362<='daily uptake'!$C$20),$D362+F361,0)","v":0},{"$f":"IF(AND($A362>='daily uptake'!$C$24,$A362<='daily uptake'!$C$25),$C362+G361,0)","v":0},{"$f":"IF(OR(F362<=I7,F362>I9),0,I8+(I10-I8)*(1-((I5+EXP(I6*(I4-I7)))/(I5+EXP(I6*(I4-F362))))^I5)/(1-((I5+EXP(I6*(I4-I7)))/(I5+EXP(I6*(I4-I9))))^I5))","v":0},{"$f":"IF(OR(F362<=J7,F362>J9),0,J8+(J10-J8)*(1-((J5+EXP(J6*(J4-J7)))/(J5+EXP(J6*(J4-F362))))^J5)/(1-((J5+EXP(J6*(J4-J7)))/(J5+EXP(J6*(J4-J9))))^J5))","v":0},{"$f":"IF(OR(F362<=J9,F362>100000),0,IF(F362<=K7,K8,K8+(K10-K8)*(1-((K5+EXP(K6*(K4-K7)))/(K5+EXP(K6*(K4-F362))))^K5)/(1-((K5+EXP(K6*(K4-K7)))/(K5+EXP(K6*(K4-K9))))^K5)))","v":0},0,0,0,0,"2011-10-17",{"$f":"MAX(L$12:L362)+MAX(M$12:M362)+MAX(N$12:N362)","v":490},"2011-10-17",0,null,null,null,null,null,null,null,null,null,null,null,null,null,null,null,null,null,0,null,{"$f":"IF(OR(AJ362<=AM7,AJ362>AM9),0,AM8+(AM10-AM8)*(1-((AM5+EXP(AM6*(AM4-AM7)))/(AM5+EXP(AM6*(AM4-AJ362))))^AM5)/(1-((AM5+EXP(AM6*(AM4-AM7)))/(AM5+EXP(AM6*(AM4-AM9))))^AM5))","v":0},{"$f":"IF(OR(AJ362<=AN7,AJ362>AN9),0,AN8+(AN10-AN8)*(1-((AN5+EXP(AN6*(AN4-AN7)))/(AN5+EXP(AN6*(AN4-AJ362))))^AN5)/(1-((AN5+EXP(AN6*(AN4-AN7)))/(AN5+EXP(AN6*(AN4-AN9))))^AN5))","v":0},{"$f":"IF(OR(AJ362<=AN9,AJ362>100000),0,IF(AJ362<=AO7,AO8,AO8+(AO10-AO8)*(1-((AO5+EXP(AO6*(AO4-AO7)))/(AO5+EXP(AO6*(AO4-AJ362))))^AO5)/(1-((AO5+EXP(AO6*(AO4-AO7)))/(AO5+EXP(AO6*(AO4-AO9))))^AO5)))","v":0},0,0]
[352,{"$f":"'daily uptake'!F446","v":"2011-10-18"},{"$f":"5/9*'daily uptake'!Q446","v":20.833333333333336},{"$f":"5/9*'daily uptake'!N446","v":10.833333333333334},{"$f":"IF(AND($A363>='daily uptake'!$C$9,$A363<='daily uptake'!$C$10),$C363+E362,0)","v":0},{"$f":"IF(AND($A363>='daily uptake'!$C$18,$A363<='daily uptake'!$C$20),$D363+F362,0)","v":0},{"$f":"IF(AND($A363>='daily uptake'!$C$24,$A363<='daily uptake'!$C$25),$C363+G362,0)","v":0},{"$f":"IF(OR(F363<=I7,F363>I9),0,I8+(I10-I8)*(1-((I5+EXP(I6*(I4-I7)))/(I5+EXP(I6*(I4-F363))))^I5)/(1-((I5+EXP(I6*(I4-I7)))/(I5+EXP(I6*(I4-I9))))^I5))","v":0},{"$f":"IF(OR(F363<=J7,F363>J9),0,J8+(J10-J8)*(1-((J5+EXP(J6*(J4-J7)))/(J5+EXP(J6*(J4-F363))))^J5)/(1-((J5+EXP(J6*(J4-J7)))/(J5+EXP(J6*(J4-J9))))^J5))","v":0},{"$f":"IF(OR(F363<=J9,F363>100000),0,IF(F363<=K7,K8,K8+(K10-K8)*(1-((K5+EXP(K6*(K4-K7)))/(K5+EXP(K6*(K4-F363))))^K5)/(1-((K5+EXP(K6*(K4-K7)))/(K5+EXP(K6*(K4-K9))))^K5)))","v":0},0,0,0,0,"2011-10-18",{"$f":"MAX(L$12:L363)+MAX(M$12:M363)+MAX(N$12:N363)","v":490},"2011-10-18",0,null,null,null,null,null,null,null,null,null,null,null,null,null,null,null,null,null,0,null,{"$f":"IF(OR(AJ363<=AM7,AJ363>AM9),0,AM8+(AM10-AM8)*(1-((AM5+EXP(AM6*(AM4-AM7)))/(AM5+EXP(AM6*(AM4-AJ363))))^AM5)/(1-((AM5+EXP(AM6*(AM4-AM7)))/(AM5+EXP(AM6*(AM4-AM9))))^AM5))","v":0},{"$f":"IF(OR(AJ363<=AN7,AJ363>AN9),0,AN8+(AN10-AN8)*(1-((AN5+EXP(AN6*(AN4-AN7)))/(AN5+EXP(AN6*(AN4-AJ363))))^AN5)/(1-((AN5+EXP(AN6*(AN4-AN7)))/(AN5+EXP(AN6*(AN4-AN9))))^AN5))","v":0},{"$f":"IF(OR(AJ363<=AN9,AJ363>100000),0,IF(AJ363<=AO7,AO8,AO8+(AO10-AO8)*(1-((AO5+EXP(AO6*(AO4-AO7)))/(AO5+EXP(AO6*(AO4-AJ363))))^AO5)/(1-((AO5+EXP(AO6*(AO4-AO7)))/(AO5+EXP(AO6*(AO4-AO9))))^AO5)))","v":0},0,0]
[353,{"$f":"'daily uptake'!F447","v":"2011-10-19"},{"$f":"5/9*'daily uptake'!Q447","v":18.333333333333336},{"$f":"5/9*'daily uptake'!N447","v":8.3333333333333339},{"$f":"IF(AND($A364>='daily uptake'!$C$9,$A364<='daily uptake'!$C$10),$C364+E363,0)","v":0},{"$f":"IF(AND($A364>='daily uptake'!$C$18,$A364<='daily uptake'!$C$20),$D364+F363,0)","v":0},{"$f":"IF(AND($A364>='daily uptake'!$C$24,$A364<='daily uptake'!$C$25),$C364+G363,0)","v":0},{"$f":"IF(OR(F364<=I7,F364>I9),0,I8+(I10-I8)*(1-((I5+EXP(I6*(I4-I7)))/(I5+EXP(I6*(I4-F364))))^I5)/(1-((I5+EXP(I6*(I4-I7)))/(I5+EXP(I6*(I4-I9))))^I5))","v":0},{"$f":"IF(OR(F364<=J7,F364>J9),0,J8+(J10-J8)*(1-((J5+EXP(J6*(J4-J7)))/(J5+EXP(J6*(J4-F364))))^J5)/(1-((J5+EXP(J6*(J4-J7)))/(J5+EXP(J6*(J4-J9))))^J5))","v":0},{"$f":"IF(OR(F364<=J9,F364>100000),0,IF(F364<=K7,K8,K8+(K10-K8)*(1-((K5+EXP(K6*(K4-K7)))/(K5+EXP(K6*(K4-F364))))^K5)/(1-((K5+EXP(K6*(K4-K7)))/(K5+EXP(K6*(K4-K9))))^K5)))","v":0},0,0,0,0,"2011-10-19",{"$f":"MAX(L$12:L364)+MAX(M$12:M364)+MAX(N$12:N364)","v":490},"2011-10-19",0,null,null,null,null,null,null,null,null,null,null,null,null,null,null,null,null,null,0,null,{"$f":"IF(OR(AJ364<=AM7,AJ364>AM9),0,AM8+(AM10-AM8)*(1-((AM5+EXP(AM6*(AM4-AM7)))/(AM5+EXP(AM6*(AM4-AJ364))))^AM5)/(1-((AM5+EXP(AM6*(AM4-AM7)))/(AM5+EXP(AM6*(AM4-AM9))))^AM5))","v":0},{"$f":"IF(OR(AJ364<=AN7,AJ364>AN9),0,AN8+(AN10-AN8)*(1-((AN5+EXP(AN6*(AN4-AN7)))/(AN5+EXP(AN6*(AN4-AJ364))))^AN5)/(1-((AN5+EXP(AN6*(AN4-AN7)))/(AN5+EXP(AN6*(AN4-AN9))))^AN5))","v":0},{"$f":"IF(OR(AJ364<=AN9,AJ364>100000),0,IF(AJ364<=AO7,AO8,AO8+(AO10-AO8)*(1-((AO5+EXP(AO6*(AO4-AO7)))/(AO5+EXP(AO6*(AO4-AJ364))))^AO5)/(1-((AO5+EXP(AO6*(AO4-AO7)))/(AO5+EXP(AO6*(AO4-AO9))))^AO5)))","v":0},0,0]
[354,{"$f":"'daily uptake'!F448","v":"2011-10-20"},{"$f":"5/9*'daily uptake'!Q448","v":18.055555555555557},{"$f":"5/9*'daily uptake'!N448","v":8.0555555555555554},{"$f":"IF(AND($A365>='daily uptake'!$C$9,$A365<='daily uptake'!$C$10),$C365+E364,0)","v":0},{"$f":"IF(AND($A365>='daily uptake'!$C$18,$A365<='daily uptake'!$C$20),$D365+F364,0)","v":0},{"$f":"IF(AND($A365>='daily uptake'!$C$24,$A365<='daily uptake'!$C$25),$C365+G364,0)","v":0},{"$f":"IF(OR(F365<=I7,F365>I9),0,I8+(I10-I8)*(1-((I5+EXP(I6*(I4-I7)))/(I5+EXP(I6*(I4-F365))))^I5)/(1-((I5+EXP(I6*(I4-I7)))/(I5+EXP(I6*(I4-I9))))^I5))","v":0},{"$f":"IF(OR(F365<=J7,F365>J9),0,J8+(J10-J8)*(1-((J5+EXP(J6*(J4-J7)))/(J5+EXP(J6*(J4-F365))))^J5)/(1-((J5+EXP(J6*(J4-J7)))/(J5+EXP(J6*(J4-J9))))^J5))","v":0},{"$f":"IF(OR(F365<=J9,F365>100000),0,IF(F365<=K7,K8,K8+(K10-K8)*(1-((K5+EXP(K6*(K4-K7)))/(K5+EXP(K6*(K4-F365))))^K5)/(1-((K5+EXP(K6*(K4-K7)))/(K5+EXP(K6*(K4-K9))))^K5)))","v":0},0,0,0,0,"2011-10-20",{"$f":"MAX(L$12:L365)+MAX(M$12:M365)+MAX(N$12:N365)","v":490},"2011-10-20",0,null,null,null,null,null,null,null,null,null,null,null,null,null,null,null,null,null,0,null,{"$f":"IF(OR(AJ365<=AM7,AJ365>AM9),0,AM8+(AM10-AM8)*(1-((AM5+EXP(AM6*(AM4-AM7)))/(AM5+EXP(AM6*(AM4-AJ365))))^AM5)/(1-((AM5+EXP(AM6*(AM4-AM7)))/(AM5+EXP(AM6*(AM4-AM9))))^AM5))","v":0},{"$f":"IF(OR(AJ365<=AN7,AJ365>AN9),0,AN8+(AN10-AN8)*(1-((AN5+EXP(AN6*(AN4-AN7)))/(AN5+EXP(AN6*(AN4-AJ365))))^AN5)/(1-((AN5+EXP(AN6*(AN4-AN7)))/(AN5+EXP(AN6*(AN4-AN9))))^AN5))","v":0},{"$f":"IF(OR(AJ365<=AN9,AJ365>100000),0,IF(AJ365<=AO7,AO8,AO8+(AO10-AO8)*(1-((AO5+EXP(AO6*(AO4-AO7)))/(AO5+EXP(AO6*(AO4-AJ365))))^AO5)/(1-((AO5+EXP(AO6*(AO4-AO7)))/(AO5+EXP(AO6*(AO4-AO9))))^AO5)))","v":0},0,0]
[355,{"$f":"'daily uptake'!F449","v":"2011-10-21"},{"$f":"5/9*'daily uptake'!Q449","v":18.333333333333336},{"$f":"5/9*'daily uptake'!N449","v":8.3333333333333339},{"$f":"IF(AND($A366>='daily uptake'!$C$9,$A366<='daily uptake'!$C$10),$C366+E365,0)","v":0},{"$f":"IF(AND($A366>='daily uptake'!$C$18,$A366<='daily uptake'!$C$20),$D366+F365,0)","v":0},{"$f":"IF(AND($A366>='daily uptake'!$C$24,$A366<='daily uptake'!$C$25),$C366+G365,0)","v":0},{"$f":"IF(OR(F366<=I7,F366>I9),0,I8+(I10-I8)*(1-((I5+EXP(I6*(I4-I7)))/(I5+EXP(I6*(I4-F366))))^I5)/(1-((I5+EXP(I6*(I4-I7)))/(I5+EXP(I6*(I4-I9))))^I5))","v":0},{"$f":"IF(OR(F366<=J7,F366>J9),0,J8+(J10-J8)*(1-((J5+EXP(J6*(J4-J7)))/(J5+EXP(J6*(J4-F366))))^J5)/(1-((J5+EXP(J6*(J4-J7)))/(J5+EXP(J6*(J4-J9))))^J5))","v":0},{"$f":"IF(OR(F366<=J9,F366>100000),0,IF(F366<=K7,K8,K8+(K10-K8)*(1-((K5+EXP(K6*(K4-K7)))/(K5+EXP(K6*(K4-F366))))^K5)/(1-((K5+EXP(K6*(K4-K7)))/(K5+EXP(K6*(K4-K9))))^K5)))","v":0},0,0,0,0,"2011-10-21",{"$f":"MAX(L$12:L366)+MAX(M$12:M366)+MAX(N$12:N366)","v":490},"2011-10-21",0,null,null,null,null,null,null,null,null,null,null,null,null,null,null,null,null,null,0,null,{"$f":"IF(OR(AJ366<=AM7,AJ366>AM9),0,AM8+(AM10-AM8)*(1-((AM5+EXP(AM6*(AM4-AM7)))/(AM5+EXP(AM6*(AM4-AJ366))))^AM5)/(1-((AM5+EXP(AM6*(AM4-AM7)))/(AM5+EXP(AM6*(AM4-AM9))))^AM5))","v":0},{"$f":"IF(OR(AJ366<=AN7,AJ366>AN9),0,AN8+(AN10-AN8)*(1-((AN5+EXP(AN6*(AN4-AN7)))/(AN5+EXP(AN6*(AN4-AJ366))))^AN5)/(1-((AN5+EXP(AN6*(AN4-AN7)))/(AN5+EXP(AN6*(AN4-AN9))))^AN5))","v":0},{"$f":"IF(OR(AJ366<=AN9,AJ366>100000),0,IF(AJ366<=AO7,AO8,AO8+(AO10-AO8)*(1-((AO5+EXP(AO6*(AO4-AO7)))/(AO5+EXP(AO6*(AO4-AJ366))))^AO5)/(1-((AO5+EXP(AO6*(AO4-AO7)))/(AO5+EXP(AO6*(AO4-AO9))))^AO5)))","v":0},0,0]
[356,{"$f":"'daily uptake'!F450","v":"2011-10-22"},{"$f":"5/9*'daily uptake'!Q450","v":19.166666666666668},{"$f":"5/9*'daily uptake'!N450","v":9.1666666666666679},{"$f":"IF(AND($A367>='daily uptake'!$C$9,$A367<='daily uptake'!$C$10),$C367+E366,0)","v":0},{"$f":"IF(AND($A367>='daily uptake'!$C$18,$A367<='daily uptake'!$C$20),$D367+F366,0)","v":0},{"$f":"IF(AND($A367>='daily uptake'!$C$24,$A367<='daily uptake'!$C$25),$C367+G366,0)","v":0},{"$f":"IF(OR(F367<=I7,F367>I9),0,I8+(I10-I8)*(1-((I5+EXP(I6*(I4-I7)))/(I5+EXP(I6*(I4-F367))))^I5)/(1-((I5+EXP(I6*(I4-I7)))/(I5+EXP(I6*(I4-I9))))^I5))","v":0},{"$f":"IF(OR(F367<=J7,F367>J9),0,J8+(J10-J8)*(1-((J5+EXP(J6*(J4-J7)))/(J5+EXP(J6*(J4-F367))))^J5)/(1-((J5+EXP(J6*(J4-J7)))/(J5+EXP(J6*(J4-J9))))^J5))","v":0},{"$f":"IF(OR(F367<=J9,F367>100000),0,IF(F367<=K7,K8,K8+(K10-K8)*(1-((K5+EXP(K6*(K4-K7)))/(K5+EXP(K6*(K4-F367))))^K5)/(1-((K5+EXP(K6*(K4-K7)))/(K5+EXP(K6*(K4-K9))))^K5)))","v":0},0,0,0,0,"2011-10-22",{"$f":"MAX(L$12:L367)+MAX(M$12:M367)+MAX(N$12:N367)","v":490},"2011-10-22",0,null,null,null,null,null,null,null,null,null,null,null,null,null,null,null,null,null,0,null,{"$f":"IF(OR(AJ367<=AM7,AJ367>AM9),0,AM8+(AM10-AM8)*(1-((AM5+EXP(AM6*(AM4-AM7)))/(AM5+EXP(AM6*(AM4-AJ367))))^AM5)/(1-((AM5+EXP(AM6*(AM4-AM7)))/(AM5+EXP(AM6*(AM4-AM9))))^AM5))","v":0},{"$f":"IF(OR(AJ367<=AN7,AJ367>AN9),0,AN8+(AN10-AN8)*(1-((AN5+EXP(AN6*(AN4-AN7)))/(AN5+EXP(AN6*(AN4-AJ367))))^AN5)/(1-((AN5+EXP(AN6*(AN4-AN7)))/(AN5+EXP(AN6*(AN4-AN9))))^AN5))","v":0},{"$f":"IF(OR(AJ367<=AN9,AJ367>100000),0,IF(AJ367<=AO7,AO8,AO8+(AO10-AO8)*(1-((AO5+EXP(AO6*(AO4-AO7)))/(AO5+EXP(AO6*(AO4-AJ367))))^AO5)/(1-((AO5+EXP(AO6*(AO4-AO7)))/(AO5+EXP(AO6*(AO4-AO9))))^AO5)))","v":0},0,0]
[357,{"$f":"'daily uptake'!F451","v":"2011-10-23"},{"$f":"5/9*'daily uptake'!Q451","v":19.444444444444446},{"$f":"5/9*'daily uptake'!N451","v":9.4444444444444446},{"$f":"IF(AND($A368>='daily uptake'!$C$9,$A368<='daily uptake'!$C$10),$C368+E367,0)","v":0},{"$f":"IF(AND($A368>='daily uptake'!$C$18,$A368<='daily uptake'!$C$20),$D368+F367,0)","v":0},{"$f":"IF(AND($A368>='daily uptake'!$C$24,$A368<='daily uptake'!$C$25),$C368+G367,0)","v":0},{"$f":"IF(OR(F368<=I7,F368>I9),0,I8+(I10-I8)*(1-((I5+EXP(I6*(I4-I7)))/(I5+EXP(I6*(I4-F368))))^I5)/(1-((I5+EXP(I6*(I4-I7)))/(I5+EXP(I6*(I4-I9))))^I5))","v":0},{"$f":"IF(OR(F368<=J7,F368>J9),0,J8+(J10-J8)*(1-((J5+EXP(J6*(J4-J7)))/(J5+EXP(J6*(J4-F368))))^J5)/(1-((J5+EXP(J6*(J4-J7)))/(J5+EXP(J6*(J4-J9))))^J5))","v":0},{"$f":"IF(OR(F368<=J9,F368>100000),0,IF(F368<=K7,K8,K8+(K10-K8)*(1-((K5+EXP(K6*(K4-K7)))/(K5+EXP(K6*(K4-F368))))^K5)/(1-((K5+EXP(K6*(K4-K7)))/(K5+EXP(K6*(K4-K9))))^K5)))","v":0},0,0,0,0,"2011-10-23",{"$f":"MAX(L$12:L368)+MAX(M$12:M368)+MAX(N$12:N368)","v":490},"2011-10-23",0,null,null,null,null,null,null,null,null,null,null,null,null,null,null,null,null,null,0,null,{"$f":"IF(OR(AJ368<=AM7,AJ368>AM9),0,AM8+(AM10-AM8)*(1-((AM5+EXP(AM6*(AM4-AM7)))/(AM5+EXP(AM6*(AM4-AJ368))))^AM5)/(1-((AM5+EXP(AM6*(AM4-AM7)))/(AM5+EXP(AM6*(AM4-AM9))))^AM5))","v":0},{"$f":"IF(OR(AJ368<=AN7,AJ368>AN9),0,AN8+(AN10-AN8)*(1-((AN5+EXP(AN6*(AN4-AN7)))/(AN5+EXP(AN6*(AN4-AJ368))))^AN5)/(1-((AN5+EXP(AN6*(AN4-AN7)))/(AN5+EXP(AN6*(AN4-AN9))))^AN5))","v":0},{"$f":"IF(OR(AJ368<=AN9,AJ368>100000),0,IF(AJ368<=AO7,AO8,AO8+(AO10-AO8)*(1-((AO5+EXP(AO6*(AO4-AO7)))/(AO5+EXP(AO6*(AO4-AJ368))))^AO5)/(1-((AO5+EXP(AO6*(AO4-AO7)))/(AO5+EXP(AO6*(AO4-AO9))))^AO5)))","v":0},0,0]
[358,{"$f":"'daily uptake'!F452","v":"2011-10-24"},{"$f":"5/9*'daily uptake'!Q452","v":18.611111111111111},{"$f":"5/9*'daily uptake'!N452","v":8.8888888888888893},{"$f":"IF(AND($A369>='daily uptake'!$C$9,$A369<='daily uptake'!$C$10),$C369+E368,0)","v":0},{"$f":"IF(AND($A369>='daily uptake'!$C$18,$A369<='daily uptake'!$C$20),$D369+F368,0)","v":0},{"$f":"IF(AND($A369>='daily uptake'!$C$24,$A369<='daily uptake'!$C$25),$C369+G368,0)","v":0},{"$f":"IF(OR(F369<=I7,F369>I9),0,I8+(I10-I8)*(1-((I5+EXP(I6*(I4-I7)))/(I5+EXP(I6*(I4-F369))))^I5)/(1-((I5+EXP(I6*(I4-I7)))/(I5+EXP(I6*(I4-I9))))^I5))","v":0},{"$f":"IF(OR(F369<=J7,F369>J9),0,J8+(J10-J8)*(1-((J5+EXP(J6*(J4-J7)))/(J5+EXP(J6*(J4-F369))))^J5)/(1-((J5+EXP(J6*(J4-J7)))/(J5+EXP(J6*(J4-J9))))^J5))","v":0},{"$f":"IF(OR(F369<=J9,F369>100000),0,IF(F369<=K7,K8,K8+(K10-K8)*(1-((K5+EXP(K6*(K4-K7)))/(K5+EXP(K6*(K4-F369))))^K5)/(1-((K5+EXP(K6*(K4-K7)))/(K5+EXP(K6*(K4-K9))))^K5)))","v":0},0,0,0,0,"2011-10-24",{"$f":"MAX(L$12:L369)+MAX(M$12:M369)+MAX(N$12:N369)","v":490},"2011-10-24",0,null,null,null,null,null,null,null,null,null,null,null,null,null,null,null,null,null,0,null,{"$f":"IF(OR(AJ369<=AM7,AJ369>AM9),0,AM8+(AM10-AM8)*(1-((AM5+EXP(AM6*(AM4-AM7)))/(AM5+EXP(AM6*(AM4-AJ369))))^AM5)/(1-((AM5+EXP(AM6*(AM4-AM7)))/(AM5+EXP(AM6*(AM4-AM9))))^AM5))","v":0},{"$f":"IF(OR(AJ369<=AN7,AJ369>AN9),0,AN8+(AN10-AN8)*(1-((AN5+EXP(AN6*(AN4-AN7)))/(AN5+EXP(AN6*(AN4-AJ369))))^AN5)/(1-((AN5+EXP(AN6*(AN4-AN7)))/(AN5+EXP(AN6*(AN4-AN9))))^AN5))","v":0},{"$f":"IF(OR(AJ369<=AN9,AJ369>100000),0,IF(AJ369<=AO7,AO8,AO8+(AO10-AO8)*(1-((AO5+EXP(AO6*(AO4-AO7)))/(AO5+EXP(AO6*(AO4-AJ369))))^AO5)/(1-((AO5+EXP(AO6*(AO4-AO7)))/(AO5+EXP(AO6*(AO4-AO9))))^AO5)))","v":0},0,0]
[359,{"$f":"'daily uptake'!F453","v":"2011-10-25"},{"$f":"5/9*'daily uptake'!Q453","v":15.833333333333334},{"$f":"5/9*'daily uptake'!N453","v":6.1111111111111116},{"$f":"IF(AND($A370>='daily uptake'!$C$9,$A370<='daily uptake'!$C$10),$C370+E369,0)","v":0},{"$f":"IF(AND($A370>='daily uptake'!$C$18,$A370<='daily uptake'!$C$20),$D370+F369,0)","v":0},{"$f":"IF(AND($A370>='daily uptake'!$C$24,$A370<='daily uptake'!$C$25),$C370+G369,0)","v":0},{"$f":"IF(OR(F370<=I7,F370>I9),0,I8+(I10-I8)*(1-((I5+EXP(I6*(I4-I7)))/(I5+EXP(I6*(I4-F370))))^I5)/(1-((I5+EXP(I6*(I4-I7)))/(I5+EXP(I6*(I4-I9))))^I5))","v":0},{"$f":"IF(OR(F370<=J7,F370>J9),0,J8+(J10-J8)*(1-((J5+EXP(J6*(J4-J7)))/(J5+EXP(J6*(J4-F370))))^J5)/(1-((J5+EXP(J6*(J4-J7)))/(J5+EXP(J6*(J4-J9))))^J5))","v":0},{"$f":"IF(OR(F370<=J9,F370>100000),0,IF(F370<=K7,K8,K8+(K10-K8)*(1-((K5+EXP(K6*(K4-K7)))/(K5+EXP(K6*(K4-F370))))^K5)/(1-((K5+EXP(K6*(K4-K7)))/(K5+EXP(K6*(K4-K9))))^K5)))","v":0},0,0,0,0,"2011-10-25",{"$f":"MAX(L$12:L370)+MAX(M$12:M370)+MAX(N$12:N370)","v":490},"2011-10-25",0,null,null,null,null,null,null,null,null,null,null,null,null,null,null,null,null,null,0,null,{"$f":"IF(OR(AJ370<=AM7,AJ370>AM9),0,AM8+(AM10-AM8)*(1-((AM5+EXP(AM6*(AM4-AM7)))/(AM5+EXP(AM6*(AM4-AJ370))))^AM5)/(1-((AM5+EXP(AM6*(AM4-AM7)))/(AM5+EXP(AM6*(AM4-AM9))))^AM5))","v":0},{"$f":"IF(OR(AJ370<=AN7,AJ370>AN9),0,AN8+(AN10-AN8)*(1-((AN5+EXP(AN6*(AN4-AN7)))/(AN5+EXP(AN6*(AN4-AJ370))))^AN5)/(1-((AN5+EXP(AN6*(AN4-AN7)))/(AN5+EXP(AN6*(AN4-AN9))))^AN5))","v":0},{"$f":"IF(OR(AJ370<=AN9,AJ370>100000),0,IF(AJ370<=AO7,AO8,AO8+(AO10-AO8)*(1-((AO5+EXP(AO6*(AO4-AO7)))/(AO5+EXP(AO6*(AO4-AJ370))))^AO5)/(1-((AO5+EXP(AO6*(AO4-AO7)))/(AO5+EXP(AO6*(AO4-AO9))))^AO5)))","v":0},0,0]
[360,{"$f":"'daily uptake'!F454","v":"2011-10-26"},{"$f":"5/9*'daily uptake'!Q454","v":14.166666666666668},{"$f":"5/9*'daily uptake'!N454","v":5.8333333333333339},{"$f":"IF(AND($A371>='daily uptake'!$C$9,$A371<='daily uptake'!$C$10),$C371+E370,0)","v":0},{"$f":"IF(AND($A371>='daily uptake'!$C$18,$A371<='daily uptake'!$C$20),$D371+F370,0)","v":0},{"$f":"IF(AND($A371>='daily uptake'!$C$24,$A371<='daily uptake'!$C$25),$C371+G370,0)","v":0},{"$f":"IF(OR(F371<=I7,F371>I9),0,I8+(I10-I8)*(1-((I5+EXP(I6*(I4-I7)))/(I5+EXP(I6*(I4-F371))))^I5)/(1-((I5+EXP(I6*(I4-I7)))/(I5+EXP(I6*(I4-I9))))^I5))","v":0},{"$f":"IF(OR(F371<=J7,F371>J9),0,J8+(J10-J8)*(1-((J5+EXP(J6*(J4-J7)))/(J5+EXP(J6*(J4-F371))))^J5)/(1-((J5+EXP(J6*(J4-J7)))/(J5+EXP(J6*(J4-J9))))^J5))","v":0},{"$f":"IF(OR(F371<=J9,F371>100000),0,IF(F371<=K7,K8,K8+(K10-K8)*(1-((K5+EXP(K6*(K4-K7)))/(K5+EXP(K6*(K4-F371))))^K5)/(1-((K5+EXP(K6*(K4-K7)))/(K5+EXP(K6*(K4-K9))))^K5)))","v":0},0,0,0,0,"2011-10-26",{"$f":"MAX(L$12:L371)+MAX(M$12:M371)+MAX(N$12:N371)","v":490},"2011-10-26",0,null,null,null,null,null,null,null,null,null,null,null,null,null,null,null,null,null,0,null,{"$f":"IF(OR(AJ371<=AM7,AJ371>AM9),0,AM8+(AM10-AM8)*(1-((AM5+EXP(AM6*(AM4-AM7)))/(AM5+EXP(AM6*(AM4-AJ371))))^AM5)/(1-((AM5+EXP(AM6*(AM4-AM7)))/(AM5+EXP(AM6*(AM4-AM9))))^AM5))","v":0},{"$f":"IF(OR(AJ371<=AN7,AJ371>AN9),0,AN8+(AN10-AN8)*(1-((AN5+EXP(AN6*(AN4-AN7)))/(AN5+EXP(AN6*(AN4-AJ371))))^AN5)/(1-((AN5+EXP(AN6*(AN4-AN7)))/(AN5+EXP(AN6*(AN4-AN9))))^AN5))","v":0},{"$f":"IF(OR(AJ371<=AN9,AJ371>100000),0,IF(AJ371<=AO7,AO8,AO8+(AO10-AO8)*(1-((AO5+EXP(AO6*(AO4-AO7)))/(AO5+EXP(AO6*(AO4-AJ371))))^AO5)/(1-((AO5+EXP(AO6*(AO4-AO7)))/(AO5+EXP(AO6*(AO4-AO9))))^AO5)))","v":0},0,0]
[361,{"$f":"'daily uptake'!F455","v":"2011-10-27"},{"$f":"5/9*'daily uptake'!Q455","v":14.444444444444445},{"$f":"5/9*'daily uptake'!N455","v":6.9444444444444446},{"$f":"IF(AND($A372>='daily uptake'!$C$9,$A372<='daily uptake'!$C$10),$C372+E371,0)","v":0},{"$f":"IF(AND($A372>='daily uptake'!$C$18,$A372<='daily uptake'!$C$20),$D372+F371,0)","v":0},{"$f":"IF(AND($A372>='daily uptake'!$C$24,$A372<='daily uptake'!$C$25),$C372+G371,0)","v":0},{"$f":"IF(OR(F372<=I7,F372>I9),0,I8+(I10-I8)*(1-((I5+EXP(I6*(I4-I7)))/(I5+EXP(I6*(I4-F372))))^I5)/(1-((I5+EXP(I6*(I4-I7)))/(I5+EXP(I6*(I4-I9))))^I5))","v":0},{"$f":"IF(OR(F372<=J7,F372>J9),0,J8+(J10-J8)*(1-((J5+EXP(J6*(J4-J7)))/(J5+EXP(J6*(J4-F372))))^J5)/(1-((J5+EXP(J6*(J4-J7)))/(J5+EXP(J6*(J4-J9))))^J5))","v":0},{"$f":"IF(OR(F372<=J9,F372>100000),0,IF(F372<=K7,K8,K8+(K10-K8)*(1-((K5+EXP(K6*(K4-K7)))/(K5+EXP(K6*(K4-F372))))^K5)/(1-((K5+EXP(K6*(K4-K7)))/(K5+EXP(K6*(K4-K9))))^K5)))","v":0},0,0,0,0,"2011-10-27",{"$f":"MAX(L$12:L372)+MAX(M$12:M372)+MAX(N$12:N372)","v":490},"2011-10-27",0,null,null,null,null,null,null,null,null,null,null,null,null,null,null,null,null,null,0,null,{"$f":"IF(OR(AJ372<=AM7,AJ372>AM9),0,AM8+(AM10-AM8)*(1-((AM5+EXP(AM6*(AM4-AM7)))/(AM5+EXP(AM6*(AM4-AJ372))))^AM5)/(1-((AM5+EXP(AM6*(AM4-AM7)))/(AM5+EXP(AM6*(AM4-AM9))))^AM5))","v":0},{"$f":"IF(OR(AJ372<=AN7,AJ372>AN9),0,AN8+(AN10-AN8)*(1-((AN5+EXP(AN6*(AN4-AN7)))/(AN5+EXP(AN6*(AN4-AJ372))))^AN5)/(1-((AN5+EXP(AN6*(AN4-AN7)))/(AN5+EXP(AN6*(AN4-AN9))))^AN5))","v":0},{"$f":"IF(OR(AJ372<=AN9,AJ372>100000),0,IF(AJ372<=AO7,AO8,AO8+(AO10-AO8)*(1-((AO5+EXP(AO6*(AO4-AO7)))/(AO5+EXP(AO6*(AO4-AJ372))))^AO5)/(1-((AO5+EXP(AO6*(AO4-AO7)))/(AO5+EXP(AO6*(AO4-AO9))))^AO5)))","v":0},0,0]
[362,{"$f":"'daily uptake'!F456","v":"2011-10-28"},{"$f":"5/9*'daily uptake'!Q456","v":15},{"$f":"5/9*'daily uptake'!N456","v":7.2222222222222223},{"$f":"IF(AND($A373>='daily uptake'!$C$9,$A373<='daily uptake'!$C$10),$C373+E372,0)","v":0},{"$f":"IF(AND($A373>='daily uptake'!$C$18,$A373<='daily uptake'!$C$20),$D373+F372,0)","v":0},{"$f":"IF(AND($A373>='daily uptake'!$C$24,$A373<='daily uptake'!$C$25),$C373+G372,0)","v":0},{"$f":"IF(OR(F373<=I7,F373>I9),0,I8+(I10-I8)*(1-((I5+EXP(I6*(I4-I7)))/(I5+EXP(I6*(I4-F373))))^I5)/(1-((I5+EXP(I6*(I4-I7)))/(I5+EXP(I6*(I4-I9))))^I5))","v":0},{"$f":"IF(OR(F373<=J7,F373>J9),0,J8+(J10-J8)*(1-((J5+EXP(J6*(J4-J7)))/(J5+EXP(J6*(J4-F373))))^J5)/(1-((J5+EXP(J6*(J4-J7)))/(J5+EXP(J6*(J4-J9))))^J5))","v":0},{"$f":"IF(OR(F373<=J9,F373>100000),0,IF(F373<=K7,K8,K8+(K10-K8)*(1-((K5+EXP(K6*(K4-K7)))/(K5+EXP(K6*(K4-F373))))^K5)/(1-((K5+EXP(K6*(K4-K7)))/(K5+EXP(K6*(K4-K9))))^K5)))","v":0},0,0,0,0,"2011-10-28",{"$f":"MAX(L$12:L373)+MAX(M$12:M373)+MAX(N$12:N373)","v":490},"2011-10-28",0,null,null,null,null,null,null,null,null,null,null,null,null,null,null,null,null,null,0,null,{"$f":"IF(OR(AJ373<=AM7,AJ373>AM9),0,AM8+(AM10-AM8)*(1-((AM5+EXP(AM6*(AM4-AM7)))/(AM5+EXP(AM6*(AM4-AJ373))))^AM5)/(1-((AM5+EXP(AM6*(AM4-AM7)))/(AM5+EXP(AM6*(AM4-AM9))))^AM5))","v":0},{"$f":"IF(OR(AJ373<=AN7,AJ373>AN9),0,AN8+(AN10-AN8)*(1-((AN5+EXP(AN6*(AN4-AN7)))/(AN5+EXP(AN6*(AN4-AJ373))))^AN5)/(1-((AN5+EXP(AN6*(AN4-AN7)))/(AN5+EXP(AN6*(AN4-AN9))))^AN5))","v":0},{"$f":"IF(OR(AJ373<=AN9,AJ373>100000),0,IF(AJ373<=AO7,AO8,AO8+(AO10-AO8)*(1-((AO5+EXP(AO6*(AO4-AO7)))/(AO5+EXP(AO6*(AO4-AJ373))))^AO5)/(1-((AO5+EXP(AO6*(AO4-AO7)))/(AO5+EXP(AO6*(AO4-AO9))))^AO5)))","v":0},0,0]
[363,{"$f":"'daily uptake'!F457","v":"2011-10-29"},{"$f":"5/9*'daily uptake'!Q457","v":15},{"$f":"5/9*'daily uptake'!N457","v":7.2222222222222223},{"$f":"IF(AND($A374>='daily uptake'!$C$9,$A374<='daily uptake'!$C$10),$C374+E373,0)","v":0},{"$f":"IF(AND($A374>='daily uptake'!$C$18,$A374<='daily uptake'!$C$20),$D374+F373,0)","v":0},{"$f":"IF(AND($A374>='daily uptake'!$C$24,$A374<='daily uptake'!$C$25),$C374+G373,0)","v":0},{"$f":"IF(OR(F374<=I7,F374>I9),0,I8+(I10-I8)*(1-((I5+EXP(I6*(I4-I7)))/(I5+EXP(I6*(I4-F374))))^I5)/(1-((I5+EXP(I6*(I4-I7)))/(I5+EXP(I6*(I4-I9))))^I5))","v":0},{"$f":"IF(OR(F374<=J7,F374>J9),0,J8+(J10-J8)*(1-((J5+EXP(J6*(J4-J7)))/(J5+EXP(J6*(J4-F374))))^J5)/(1-((J5+EXP(J6*(J4-J7)))/(J5+EXP(J6*(J4-J9))))^J5))","v":0},{"$f":"IF(OR(F374<=J9,F374>100000),0,IF(F374<=K7,K8,K8+(K10-K8)*(1-((K5+EXP(K6*(K4-K7)))/(K5+EXP(K6*(K4-F374))))^K5)/(1-((K5+EXP(K6*(K4-K7)))/(K5+EXP(K6*(K4-K9))))^K5)))","v":0},0,0,0,0,"2011-10-29",{"$f":"MAX(L$12:L374)+MAX(M$12:M374)+MAX(N$12:N374)","v":490},"2011-10-29",0,null,null,null,null,null,null,null,null,null,null,null,null,null,null,null,null,null,0,null,{"$f":"IF(OR(AJ374<=AM7,AJ374>AM9),0,AM8+(AM10-AM8)*(1-((AM5+EXP(AM6*(AM4-AM7)))/(AM5+EXP(AM6*(AM4-AJ374))))^AM5)/(1-((AM5+EXP(AM6*(AM4-AM7)))/(AM5+EXP(AM6*(AM4-AM9))))^AM5))","v":0},{"$f":"IF(OR(AJ374<=AN7,AJ374>AN9),0,AN8+(AN10-AN8)*(1-((AN5+EXP(AN6*(AN4-AN7)))/(AN5+EXP(AN6*(AN4-AJ374))))^AN5)/(1-((AN5+EXP(AN6*(AN4-AN7)))/(AN5+EXP(AN6*(AN4-AN9))))^AN5))","v":0},{"$f":"IF(OR(AJ374<=AN9,AJ374>100000),0,IF(AJ374<=AO7,AO8,AO8+(AO10-AO8)*(1-((AO5+EXP(AO6*(AO4-AO7)))/(AO5+EXP(AO6*(AO4-AJ374))))^AO5)/(1-((AO5+EXP(AO6*(AO4-AO7)))/(AO5+EXP(AO6*(AO4-AO9))))^AO5)))","v":0},0,0]
[364,{"$f":"'daily uptake'!F458","v":"2011-10-30"},{"$f":"5/9*'daily uptake'!Q458","v":16.944444444444446},{"$f":"5/9*'daily uptake'!N458","v":8.3333333333333339},{"$f":"IF(AND($A375>='daily uptake'!$C$9,$A375<='daily uptake'!$C$10),$C375+E374,0)","v":0},{"$f":"IF(AND($A375>='daily uptake'!$C$18,$A375<='daily uptake'!$C$20),$D375+F374,0)","v":0},{"$f":"IF(AND($A375>='daily uptake'!$C$24,$A375<='daily uptake'!$C$25),$C375+G374,0)","v":0},{"$f":"IF(OR(F375<=I7,F375>I9),0,I8+(I10-I8)*(1-((I5+EXP(I6*(I4-I7)))/(I5+EXP(I6*(I4-F375))))^I5)/(1-((I5+EXP(I6*(I4-I7)))/(I5+EXP(I6*(I4-I9))))^I5))","v":0},{"$f":"IF(OR(F375<=J7,F375>J9),0,J8+(J10-J8)*(1-((J5+EXP(J6*(J4-J7)))/(J5+EXP(J6*(J4-F375))))^J5)/(1-((J5+EXP(J6*(J4-J7)))/(J5+EXP(J6*(J4-J9))))^J5))","v":0},{"$f":"IF(OR(F375<=J9,F375>100000),0,IF(F375<=K7,K8,K8+(K10-K8)*(1-((K5+EXP(K6*(K4-K7)))/(K5+EXP(K6*(K4-F375))))^K5)/(1-((K5+EXP(K6*(K4-K7)))/(K5+EXP(K6*(K4-K9))))^K5)))","v":0},0,0,0,0,"2011-10-30",{"$f":"MAX(L$12:L375)+MAX(M$12:M375)+MAX(N$12:N375)","v":490},"2011-10-30",0,null,null,null,null,null,null,null,null,null,null,null,null,null,null,null,null,null,0,null,{"$f":"IF(OR(AJ375<=AM7,AJ375>AM9),0,AM8+(AM10-AM8)*(1-((AM5+EXP(AM6*(AM4-AM7)))/(AM5+EXP(AM6*(AM4-AJ375))))^AM5)/(1-((AM5+EXP(AM6*(AM4-AM7)))/(AM5+EXP(AM6*(AM4-AM9))))^AM5))","v":0},{"$f":"IF(OR(AJ375<=AN7,AJ375>AN9),0,AN8+(AN10-AN8)*(1-((AN5+EXP(AN6*(AN4-AN7)))/(AN5+EXP(AN6*(AN4-AJ375))))^AN5)/(1-((AN5+EXP(AN6*(AN4-AN7)))/(AN5+EXP(AN6*(AN4-AN9))))^AN5))","v":0},{"$f":"IF(OR(AJ375<=AN9,AJ375>100000),0,IF(AJ375<=AO7,AO8,AO8+(AO10-AO8)*(1-((AO5+EXP(AO6*(AO4-AO7)))/(AO5+EXP(AO6*(AO4-AJ375))))^AO5)/(1-((AO5+EXP(AO6*(AO4-AO7)))/(AO5+EXP(AO6*(AO4-AO9))))^AO5)))","v":0},0,0]
[365,{"$f":"'daily uptake'!F459","v":"2011-10-31"},{"$f":"5/9*'daily uptake'!Q459","v":15.833333333333334},{"$f":"5/9*'daily uptake'!N459","v":7.7777777777777786},{"$f":"IF(AND($A376>='daily uptake'!$C$9,$A376<='daily uptake'!$C$10),$C376+E375,0)","v":0},{"$f":"IF(AND($A376>='daily uptake'!$C$18,$A376<='daily uptake'!$C$20),$D376+F375,0)","v":0},{"$f":"IF(AND($A376>='daily uptake'!$C$24,$A376<='daily uptake'!$C$25),$C376+G375,0)","v":0},{"$f":"IF(OR(F376<=I7,F376>I9),0,I8+(I10-I8)*(1-((I5+EXP(I6*(I4-I7)))/(I5+EXP(I6*(I4-F376))))^I5)/(1-((I5+EXP(I6*(I4-I7)))/(I5+EXP(I6*(I4-I9))))^I5))","v":0},{"$f":"IF(OR(F376<=J7,F376>J9),0,J8+(J10-J8)*(1-((J5+EXP(J6*(J4-J7)))/(J5+EXP(J6*(J4-F376))))^J5)/(1-((J5+EXP(J6*(J4-J7)))/(J5+EXP(J6*(J4-J9))))^J5))","v":0},{"$f":"IF(OR(F376<=J9,F376>100000),0,IF(F376<=K7,K8,K8+(K10-K8)*(1-((K5+EXP(K6*(K4-K7)))/(K5+EXP(K6*(K4-F376))))^K5)/(1-((K5+EXP(K6*(K4-K7)))/(K5+EXP(K6*(K4-K9))))^K5)))","v":0},0,0,0,0,"2011-10-31",{"$f":"MAX(L$12:L376)+MAX(M$12:M376)+MAX(N$12:N376)","v":490},"2011-10-31",0,null,null,null,null,null,null,null,null,null,null,null,null,null,null,null,null,null,0,null,{"$f":"IF(OR(AJ376<=AM7,AJ376>AM9),0,AM8+(AM10-AM8)*(1-((AM5+EXP(AM6*(AM4-AM7)))/(AM5+EXP(AM6*(AM4-AJ376))))^AM5)/(1-((AM5+EXP(AM6*(AM4-AM7)))/(AM5+EXP(AM6*(AM4-AM9))))^AM5))","v":0},{"$f":"IF(OR(AJ376<=AN7,AJ376>AN9),0,AN8+(AN10-AN8)*(1-((AN5+EXP(AN6*(AN4-AN7)))/(AN5+EXP(AN6*(AN4-AJ376))))^AN5)/(1-((AN5+EXP(AN6*(AN4-AN7)))/(AN5+EXP(AN6*(AN4-AN9))))^AN5))","v":0},{"$f":"IF(OR(AJ376<=AN9,AJ376>100000),0,IF(AJ376<=AO7,AO8,AO8+(AO10-AO8)*(1-((AO5+EXP(AO6*(AO4-AO7)))/(AO5+EXP(AO6*(AO4-AJ376))))^AO5)/(1-((AO5+EXP(AO6*(AO4-AO7)))/(AO5+EXP(AO6*(AO4-AO9))))^AO5)))","v":0},0,0]
[366,{"$f":"'daily uptake'!F460","v":"2011-11-01"},{"$f":"5/9*'daily uptake'!Q460","v":14.444444444444445},{"$f":"5/9*'daily uptake'!N460","v":6.3888888888888893},{"$f":"IF(AND($A377>='daily uptake'!$C$9,$A377<='daily uptake'!$C$10),$C377+E376,0)","v":0},{"$f":"IF(AND($A377>='daily uptake'!$C$18,$A377<='daily uptake'!$C$20),$D377+F376,0)","v":0},{"$f":"IF(AND($A377>='daily uptake'!$C$24,$A377<='daily uptake'!$C$25),$C377+G376,0)","v":0},null,null,null,null,null,0,0,"2011-11-01",{"$f":"MAX(L$12:L377)+MAX(M$12:M377)+MAX(N$12:N377)","v":490},"2011-11-01",0]
[367,{"$f":"'daily uptake'!F461","v":"2011-11-02"},{"$f":"5/9*'daily uptake'!Q461","v":13.333333333333334},{"$f":"5/9*'daily uptake'!N461","v":6.666666666666667},{"$f":"IF(AND($A378>='daily uptake'!$C$9,$A378<='daily uptake'!$C$10),$C378+E377,0)","v":0},{"$f":"IF(AND($A378>='daily uptake'!$C$18,$A378<='daily uptake'!$C$20),$D378+F377,0)","v":0},{"$f":"IF(AND($A378>='daily uptake'!$C$24,$A378<='daily uptake'!$C$25),$C378+G377,0)","v":0},null,null,null,null,null,0,0,"2011-11-02",{"$f":"MAX(L$12:L378)+MAX(M$12:M378)+MAX(N$12:N378)","v":490},"2011-11-02",0]
[368,{"$f":"'daily uptake'!F462","v":"2011-11-03"},{"$f":"5/9*'daily uptake'!Q462","v":14.166666666666668},{"$f":"5/9*'daily uptake'!N462","v":6.666666666666667},{"$f":"IF(AND($A379>='daily uptake'!$C$9,$A379<='daily uptake'!$C$10),$C379+E378,0)","v":0},{"$f":"IF(AND($A379>='daily uptake'!$C$18,$A379<='daily uptake'!$C$20),$D379+F378,0)","v":0},{"$f":"IF(AND($A379>='daily uptake'!$C$24,$A379<='daily uptake'!$C$25),$C379+G378,0)","v":0},null,null,null,null,null,0,0,"2011-11-03",{"$f":"MAX(L$12:L379)+MAX(M$12:M379)+MAX(N$12:N379)","v":490},"2011-11-03",0]
[369,{"$f":"'daily uptake'!F463","v":"2011-11-04"},{"$f":"5/9*'daily uptake'!Q463","v":9.7222222222222232},{"$f":"5/9*'daily uptake'!N463","v":2.2222222222222223},{"$f":"IF(AND($A380>='daily uptake'!$C$9,$A380<='daily uptake'!$C$10),$C380+E379,0)","v":0},{"$f":"IF(AND($A380>='daily uptake'!$C$18,$A380<='daily uptake'!$C$20),$D380+F379,0)","v":0},{"$f":"IF(AND($A380>='daily uptake'!$C$24,$A380<='daily uptake'!$C$25),$C380+G379,0)","v":0},null,null,null,null,null,0,0,"2011-11-04",{"$f":"MAX(L$12:L380)+MAX(M$12:M380)+MAX(N$12:N380)","v":490},"2011-11-04",0]
[370,{"$f":"'daily uptake'!F464","v":"2011-11-05"},{"$f":"5/9*'daily uptake'!Q464","v":7.5},{"$f":"5/9*'daily uptake'!N464","v":1.6666666666666667},{"$f":"IF(AND($A381>='daily uptake'!$C$9,$A381<='daily uptake'!$C$10),$C381+E380,0)","v":0},{"$f":"IF(AND($A381>='daily uptake'!$C$18,$A381<='daily uptake'!$C$20),$D381+F380,0)","v":0},{"$f":"IF(AND($A381>='daily uptake'!$C$24,$A381<='daily uptake'!$C$25),$C381+G380,0)","v":0},null,null,null,null,null,0,0,"2011-11-05",{"$f":"MAX(L$12:L381)+MAX(M$12:M381)+MAX(N$12:N381)","v":490},"2011-11-05",0]
[371,{"$f":"'daily uptake'!F465","v":"2011-11-06"},{"$f":"5/9*'daily uptake'!Q465","v":9.4444444444444446},{"$f":"5/9*'daily uptake'!N465","v":2.2222222222222223},{"$f":"IF(AND($A382>='daily uptake'!$C$9,$A382<='daily uptake'!$C$10),$C382+E381,0)","v":0},{"$f":"IF(AND($A382>='daily uptake'!$C$18,$A382<='daily uptake'!$C$20),$D382+F381,0)","v":0},{"$f":"IF(AND($A382>='daily uptake'!$C$24,$A382<='daily uptake'!$C$25),$C382+G381,0)","v":0},null,null,null,null,null,0,0,"2011-11-06",{"$f":"MAX(L$12:L382)+MAX(M$12:M382)+MAX(N$12:N382)","v":490},"2011-11-06",0]
[372,{"$f":"'daily uptake'!F466","v":"2011-11-07"},{"$f":"5/9*'daily uptake'!Q466","v":8.3333333333333339},{"$f":"5/9*'daily uptake'!N466","v":2.2222222222222223},{"$f":"IF(AND($A383>='daily uptake'!$C$9,$A383<='daily uptake'!$C$10),$C383+E382,0)","v":0},{"$f":"IF(AND($A383>='daily uptake'!$C$18,$A383<='daily uptake'!$C$20),$D383+F382,0)","v":0},{"$f":"IF(AND($A383>='daily uptake'!$C$24,$A383<='daily uptake'!$C$25),$C383+G382,0)","v":0},null,null,null,null,null,0,0,"2011-11-07",{"$f":"MAX(L$12:L383)+MAX(M$12:M383)+MAX(N$12:N383)","v":490},"2011-11-07",0]
[373,{"$f":"'daily uptake'!F467","v":"2011-11-08"},{"$f":"5/9*'daily uptake'!Q467","v":8.8888888888888893},{"$f":"5/9*'daily uptake'!N467","v":3.6111111111111112},{"$f":"IF(AND($A384>='daily uptake'!$C$9,$A384<='daily uptake'!$C$10),$C384+E383,0)","v":0},{"$f":"IF(AND($A384>='daily uptake'!$C$18,$A384<='daily uptake'!$C$20),$D384+F383,0)","v":0},{"$f":"IF(AND($A384>='daily uptake'!$C$24,$A384<='daily uptake'!$C$25),$C384+G383,0)","v":0},null,null,null,null,null,0,0,"2011-11-08",{"$f":"MAX(L$12:L384)+MAX(M$12:M384)+MAX(N$12:N384)","v":490},"2011-11-08",0]
[374,{"$f":"'daily uptake'!F468","v":"2011-11-09"},{"$f":"5/9*'daily uptake'!Q468","v":10},{"$f":"5/9*'daily uptake'!N468","v":4.166666666666667},{"$f":"IF(AND($A385>='daily uptake'!$C$9,$A385<='daily uptake'!$C$10),$C385+E384,0)","v":0},{"$f":"IF(AND($A385>='daily uptake'!$C$18,$A385<='daily uptake'!$C$20),$D385+F384,0)","v":0},{"$f":"IF(AND($A385>='daily uptake'!$C$24,$A385<='daily uptake'!$C$25),$C385+G384,0)","v":0},null,null,null,null,null,0,0,"2011-11-09",{"$f":"MAX(L$12:L385)+MAX(M$12:M385)+MAX(N$12:N385)","v":490},"2011-11-09",0]
[375,{"$f":"'daily uptake'!F469","v":"2011-11-10"},{"$f":"5/9*'daily uptake'!Q469","v":10.555555555555555},{"$f":"5/9*'daily uptake'!N469","v":5.2777777777777777},{"$f":"IF(AND($A386>='daily uptake'!$C$9,$A386<='daily uptake'!$C$10),$C386+E385,0)","v":0},{"$f":"IF(AND($A386>='daily uptake'!$C$18,$A386<='daily uptake'!$C$20),$D386+F385,0)","v":0},{"$f":"IF(AND($A386>='daily uptake'!$C$24,$A386<='daily uptake'!$C$25),$C386+G385,0)","v":0},null,null,null,null,null,0,0,"2011-11-10",{"$f":"MAX(L$12:L386)+MAX(M$12:M386)+MAX(N$12:N386)","v":490},"2011-11-10",0]
[376,{"$f":"'daily uptake'!F470","v":"2011-11-11"},{"$f":"5/9*'daily uptake'!Q470","v":12.222222222222223},{"$f":"5/9*'daily uptake'!N470","v":3.3333333333333335},{"$f":"IF(AND($A387>='daily uptake'!$C$9,$A387<='daily uptake'!$C$10),$C387+E386,0)","v":0},{"$f":"IF(AND($A387>='daily uptake'!$C$18,$A387<='daily uptake'!$C$20),$D387+F386,0)","v":0},{"$f":"IF(AND($A387>='daily uptake'!$C$24,$A387<='daily uptake'!$C$25),$C387+G386,0)","v":0},null,null,null,null,null,0,0,"2011-11-11",{"$f":"MAX(L$12:L387)+MAX(M$12:M387)+MAX(N$12:N387)","v":490},"2011-11-11",0]
[377,{"$f":"'daily uptake'!F471","v":"2011-11-12"},{"$f":"5/9*'daily uptake'!Q471","v":12.222222222222223},{"$f":"5/9*'daily uptake'!N471","v":3.8888888888888893},{"$f":"IF(AND($A388>='daily uptake'!$C$9,$A388<='daily uptake'!$C$10),$C388+E387,0)","v":0},{"$f":"IF(AND($A388>='daily uptake'!$C$18,$A388<='daily uptake'!$C$20),$D388+F387,0)","v":0},{"$f":"IF(AND($A388>='daily uptake'!$C$24,$A388<='daily uptake'!$C$25),$C388+G387,0)","v":0},null,null,null,null,null,0,0,"2011-11-12",{"$f":"MAX(L$12:L388)+MAX(M$12:M388)+MAX(N$12:N388)","v":490},"2011-11-12",0]
[378,{"$f":"'daily uptake'!F472","v":"2011-11-13"},{"$f":"5/9*'daily uptake'!Q472","v":12.5},{"$f":"5/9*'daily uptake'!N472","v":4.4444444444444446},{"$f":"IF(AND($A389>='daily uptake'!$C$9,$A389<='daily uptake'!$C$10),$C389+E388,0)","v":0},{"$f":"IF(AND($A389>='daily uptake'!$C$18,$A389<='daily uptake'!$C$20),$D389+F388,0)","v":0},{"$f":"IF(AND($A389>='daily uptake'!$C$24,$A389<='daily uptake'!$C$25),$C389+G388,0)","v":0},null,null,null,null,null,0,0,"2011-11-13",{"$f":"MAX(L$12:L389)+MAX(M$12:M389)+MAX(N$12:N389)","v":490},"2011-11-13",0]
[379,{"$f":"'daily uptake'!F473","v":"2011-11-14"},{"$f":"5/9*'daily uptake'!Q473","v":12.222222222222223},{"$f":"5/9*'daily uptake'!N473","v":3.3333333333333335},{"$f":"IF(AND($A390>='daily uptake'!$C$9,$A390<='daily uptake'!$C$10),$C390+E389,0)","v":0},{"$f":"IF(AND($A390>='daily uptake'!$C$18,$A390<='daily uptake'!$C$20),$D390+F389,0)","v":0},{"$f":"IF(AND($A390>='daily uptake'!$C$24,$A390<='daily uptake'!$C$25),$C390+G389,0)","v":0},null,null,null,null,null,0,0,"2011-11-14",{"$f":"MAX(L$12:L390)+MAX(M$12:M390)+MAX(N$12:N390)","v":490},"2011-11-14",0]
[380,{"$f":"'daily uptake'!F474","v":"2011-11-15"},{"$f":"5/9*'daily uptake'!Q474","v":11.111111111111111},{"$f":"5/9*'daily uptake'!N474","v":4.4444444444444446},{"$f":"IF(AND($A391>='daily uptake'!$C$9,$A391<='daily uptake'!$C$10),$C391+E390,0)","v":0},{"$f":"IF(AND($A391>='daily uptake'!$C$18,$A391<='daily uptake'!$C$20),$D391+F390,0)","v":0},{"$f":"IF(AND($A391>='daily uptake'!$C$24,$A391<='daily uptake'!$C$25),$C391+G390,0)","v":0},null,null,null,null,null,0,0,"2011-11-15",{"$f":"MAX(L$12:L391)+MAX(M$12:M391)+MAX(N$12:N391)","v":490},"2011-11-15",0]
[381,{"$f":"'daily uptake'!F475","v":"2011-11-16"},{"$f":"5/9*'daily uptake'!Q475","v":11.388888888888889},{"$f":"5/9*'daily uptake'!N475","v":5},{"$f":"IF(AND($A392>='daily uptake'!$C$9,$A392<='daily uptake'!$C$10),$C392+E391,0)","v":0},{"$f":"IF(AND($A392>='daily uptake'!$C$18,$A392<='daily uptake'!$C$20),$D392+F391,0)","v":0},{"$f":"IF(AND($A392>='daily uptake'!$C$24,$A392<='daily uptake'!$C$25),$C392+G391,0)","v":0},null,null,null,null,null,0,0,"2011-11-16",{"$f":"MAX(L$12:L392)+MAX(M$12:M392)+MAX(N$12:N392)","v":490},"2011-11-16",0]
[382,{"$f":"'daily uptake'!F476","v":"2011-11-17"},{"$f":"5/9*'daily uptake'!Q476","v":12.222222222222223},{"$f":"5/9*'daily uptake'!N476","v":5.5555555555555554},{"$f":"IF(AND($A393>='daily uptake'!$C$9,$A393<='daily uptake'!$C$10),$C393+E392,0)","v":0},{"$f":"IF(AND($A393>='daily uptake'!$C$18,$A393<='daily uptake'!$C$20),$D393+F392,0)","v":0},{"$f":"IF(AND($A393>='daily uptake'!$C$24,$A393<='daily uptake'!$C$25),$C393+G392,0)","v":0},null,null,null,null,null,0,0,"2011-11-17",{"$f":"MAX(L$12:L393)+MAX(M$12:M393)+MAX(N$12:N393)","v":490},"2011-11-17",0]
[383,{"$f":"'daily uptake'!F477","v":"2011-11-18"},{"$f":"5/9*'daily uptake'!Q477","v":11.111111111111111},{"$f":"5/9*'daily uptake'!N477","v":3.3333333333333335},{"$f":"IF(AND($A394>='daily uptake'!$C$9,$A394<='daily uptake'!$C$10),$C394+E393,0)","v":0},{"$f":"IF(AND($A394>='daily uptake'!$C$18,$A394<='daily uptake'!$C$20),$D394+F393,0)","v":0},{"$f":"IF(AND($A394>='daily uptake'!$C$24,$A394<='daily uptake'!$C$25),$C394+G393,0)","v":0},null,null,null,null,null,0,0,"2011-11-18",{"$f":"MAX(L$12:L394)+MAX(M$12:M394)+MAX(N$12:N394)","v":490},"2011-11-18",0]
[384,{"$f":"'daily uptake'!F478","v":"2011-11-19"},{"$f":"5/9*'daily uptake'!Q478","v":9.4444444444444446},{"$f":"5/9*'daily uptake'!N478","v":2.2222222222222223},{"$f":"IF(AND($A395>='daily uptake'!$C$9,$A395<='daily uptake'!$C$10),$C395+E394,0)","v":0},{"$f":"IF(AND($A395>='daily uptake'!$C$18,$A395<='daily uptake'!$C$20),$D395+F394,0)","v":0},{"$f":"IF(AND($A395>='daily uptake'!$C$24,$A395<='daily uptake'!$C$25),$C395+G394,0)","v":0},null,null,null,null,null,0,0,{"$f":"B395","v":"2011-11-19"},{"$f":"MAX(L$12:L395)+MAX(M$12:M395)+MAX(N$12:N395)","v":490},{"$f":"B395","v":"2011-11-19"},0]
[385,{"$f":"'daily uptake'!F479","v":"2011-11-20"},{"$f":"5/9*'daily uptake'!Q479","v":9.4444444444444446},{"$f":"5/9*'daily uptake'!N479","v":2.2222222222222223},{"$f":"IF(AND($A396>='daily uptake'!$C$9,$A396<='daily uptake'!$C$10),$C396+E395,0)","v":0},{"$f":"IF(AND($A396>='daily uptake'!$C$18,$A396<='daily uptake'!$C$20),$D396+F395,0)","v":0},{"$f":"IF(AND($A396>='daily uptake'!$C$24,$A396<='daily uptake'!$C$25),$C396+G395,0)","v":0},null,null,null,null,null,{"$f":"M$10*(1-(($M$5+EXP($M$6*$M$4))/($M$5+EXP($M$6*($M$4-$E396))))^$M$5)/(1-(($M$5+EXP($M$6*$M$4))/($M$5+EXP($M$6*($M$4-M$9))))^$M$5)","v":0},0,"2011-11-20",{"$f":"MAX(L$12:L396)+MAX(M$12:M396)+MAX(N$12:N396)","v":490},"2011-11-20",0]
[386,{"$f":"'daily uptake'!F480","v":"2011-11-21"},{"$f":"5/9*'daily uptake'!Q480","v":7.5},{"$f":"5/9*'daily uptake'!N480","v":1.9444444444444446},{"$f":"IF(AND($A397>='daily uptake'!$C$9,$A397<='daily uptake'!$C$10),$C397+E396,0)","v":0},{"$f":"IF(AND($A397>='daily uptake'!$C$18,$A397<='daily uptake'!$C$20),$D397+F396,0)","v":0},{"$f":"IF(AND($A397>='daily uptake'!$C$24,$A397<='daily uptake'!$C$25),$C397+G396,0)","v":0},null,null,null,null,null,0,{"$f":"N$10*(1-(($N$5+EXP($N$6*$N$4))/($N$5+EXP($N$6*($N$4-$G397))))^$N$5)/(1-(($N$5+EXP($N$6*$N$4))/($N$5+EXP($N$6*($N$4-N$9))))^$N$5)","v":0},"2011-11-21",{"$f":"MAX(L$12:L397)+MAX(M$12:M397)+MAX(N$12:N397)","v":490},"2011-11-21",{"$f":"P397-P396","v":0}]
[387,{"$f":"'daily uptake'!F481","v":"2011-11-22"},{"$f":"5/9*'daily uptake'!Q481","v":8.0555555555555554},{"$f":"5/9*'daily uptake'!N481","v":2.7777777777777777},{"$f":"IF(AND($A398>='daily uptake'!$C$9,$A398<='daily uptake'!$C$10),$C398+E397,0)","v":0},{"$f":"IF(AND($A398>='daily uptake'!$C$18,$A398<='daily uptake'!$C$20),$D398+F397,0)","v":0},{"$f":"IF(AND($A398>='daily uptake'!$C$24,$A398<='daily uptake'!$C$25),$C398+G397,0)","v":0},null,null,null,null,null,0,0,"2011-11-22",{"$f":"MAX(L$12:L398)+MAX(M$12:M398)+MAX(N$12:N398)","v":490},"2011-11-22",0]
[388,{"$f":"'daily uptake'!F482","v":"2011-11-23"},{"$f":"5/9*'daily uptake'!Q482","v":8.6111111111111107},{"$f":"5/9*'daily uptake'!N482","v":2.2222222222222223},{"$f":"IF(AND($A399>='daily uptake'!$C$9,$A399<='daily uptake'!$C$10),$C399+E398,0)","v":0},{"$f":"IF(AND($A399>='daily uptake'!$C$18,$A399<='daily uptake'!$C$20),$D399+F398,0)","v":0},{"$f":"IF(AND($A399>='daily uptake'!$C$24,$A399<='daily uptake'!$C$25),$C399+G398,0)","v":0},null,null,null,null,null,0,0,"2011-11-23",{"$f":"MAX(L$12:L399)+MAX(M$12:M399)+MAX(N$12:N399)","v":490},"2011-11-23",0]
[389,{"$f":"'daily uptake'!F483","v":"2011-11-24"},{"$f":"5/9*'daily uptake'!Q483","v":10.277777777777779},{"$f":"5/9*'daily uptake'!N483","v":2.7777777777777777},{"$f":"IF(AND($A400>='daily uptake'!$C$9,$A400<='daily uptake'!$C$10),$C400+E399,0)","v":0},{"$f":"IF(AND($A400>='daily uptake'!$C$18,$A400<='daily uptake'!$C$20),$D400+F399,0)","v":0},{"$f":"IF(AND($A400>='daily uptake'!$C$24,$A400<='daily uptake'!$C$25),$C400+G399,0)","v":0},null,null,null,null,null,0,0,"2011-11-24",{"$f":"MAX(L$12:L400)+MAX(M$12:M400)+MAX(N$12:N400)","v":490},"2011-11-24",0]
[390,{"$f":"'daily uptake'!F484","v":"2011-11-25"},{"$f":"5/9*'daily uptake'!Q484","v":10.555555555555555},{"$f":"5/9*'daily uptake'!N484","v":3.3333333333333335},{"$f":"IF(AND($A401>='daily uptake'!$C$9,$A401<='daily uptake'!$C$10),$C401+E400,0)","v":0},{"$f":"IF(AND($A401>='daily uptake'!$C$18,$A401<='daily uptake'!$C$20),$D401+F400,0)","v":0},{"$f":"IF(AND($A401>='daily uptake'!$C$24,$A401<='daily uptake'!$C$25),$C401+G400,0)","v":0},null,null,null,null,null,0,0,"2011-11-25",{"$f":"MAX(L$12:L401)+MAX(M$12:M401)+MAX(N$12:N401)","v":490},"2011-11-25",0]
[391,{"$f":"'daily uptake'!F485","v":"2011-11-26"},{"$f":"5/9*'daily uptake'!Q485","v":9.4444444444444446},{"$f":"5/9*'daily uptake'!N485","v":2.2222222222222223},{"$f":"IF(AND($A402>='daily uptake'!$C$9,$A402<='daily uptake'!$C$10),$C402+E401,0)","v":0},{"$f":"IF(AND($A402>='daily uptake'!$C$18,$A402<='daily uptake'!$C$20),$D402+F401,0)","v":0},{"$f":"IF(AND($A402>='daily uptake'!$C$24,$A402<='daily uptake'!$C$25),$C402+G401,0)","v":0},null,null,null,null,null,0,0,"2011-11-26",{"$f":"MAX(L$12:L402)+MAX(M$12:M402)+MAX(N$12:N402)","v":490},"2011-11-26",0]
[392,{"$f":"'daily uptake'!F486","v":"2011-11-27"},{"$f":"5/9*'daily uptake'!Q486","v":7.7777777777777786},{"$f":"5/9*'daily uptake'!N486","v":0.83333333333333337},{"$f":"IF(AND($A403>='daily uptake'!$C$9,$A403<='daily uptake'!$C$10),$C403+E402,0)","v":0},{"$f":"IF(AND($A403>='daily uptake'!$C$18,$A403<='daily uptake'!$C$20),$D403+F402,0)","v":0},{"$f":"IF(AND($A403>='daily uptake'!$C$24,$A403<='daily uptake'!$C$25),$C403+G402,0)","v":0},null,null,null,null,null,0,0,"2011-11-27",{"$f":"MAX(L$12:L403)+MAX(M$12:M403)+MAX(N$12:N403)","v":490},"2011-11-27",0]
[393,{"$f":"'daily uptake'!F487","v":"2011-11-28"},{"$f":"5/9*'daily uptake'!Q487","v":7.2222222222222223},{"$f":"5/9*'daily uptake'!N487","v":0},{"$f":"IF(AND($A404>='daily uptake'!$C$9,$A404<='daily uptake'!$C$10),$C404+E403,0)","v":0},{"$f":"IF(AND($A404>='daily uptake'!$C$18,$A404<='daily uptake'!$C$20),$D404+F403,0)","v":0},{"$f":"IF(AND($A404>='daily uptake'!$C$24,$A404<='daily uptake'!$C$25),$C404+G403,0)","v":0},null,null,null,null,null,0,0,"2011-11-28",{"$f":"MAX(L$12:L404)+MAX(M$12:M404)+MAX(N$12:N404)","v":490},"2011-11-28",0]
[394,{"$f":"'daily uptake'!F488","v":"2011-11-29"},{"$f":"5/9*'daily uptake'!Q488","v":7.5},{"$f":"5/9*'daily uptake'!N488","v":0},{"$f":"IF(AND($A405>='daily uptake'!$C$9,$A405<='daily uptake'!$C$10),$C405+E404,0)","v":0},{"$f":"IF(AND($A405>='daily uptake'!$C$18,$A405<='daily uptake'!$C$20),$D405+F404,0)","v":0},{"$f":"IF(AND($A405>='daily uptake'!$C$24,$A405<='daily uptake'!$C$25),$C405+G404,0)","v":0},null,null,null,null,null,0,0,"2011-11-29",{"$f":"MAX(L$12:L405)+MAX(M$12:M405)+MAX(N$12:N405)","v":490},"2011-11-29",0]
[395,{"$f":"'daily uptake'!F489","v":"2011-11-30"},{"$f":"5/9*'daily uptake'!Q489","v":12.222222222222223},{"$f":"5/9*'daily uptake'!N489","v":3.6111111111111112},{"$f":"IF(AND($A406>='daily uptake'!$C$9,$A406<='daily uptake'!$C$10),$C406+E405,0)","v":0},{"$f":"IF(AND($A406>='daily uptake'!$C$18,$A406<='daily uptake'!$C$20),$D406+F405,0)","v":0},{"$f":"IF(AND($A406>='daily uptake'!$C$24,$A406<='daily uptake'!$C$25),$C406+G405,0)","v":0},null,null,null,null,null,0,0,"2011-11-30",{"$f":"MAX(L$12:L406)+MAX(M$12:M406)+MAX(N$12:N406)","v":490},"2011-11-30",0]
[396,{"$f":"'daily uptake'!F490","v":"2011-12-01"},{"$f":"5/9*'daily uptake'!Q490","v":13.055555555555555},{"$f":"5/9*'daily uptake'!N490","v":4.166666666666667},{"$f":"IF(AND($A407>='daily uptake'!$C$9,$A407<='daily uptake'!$C$10),$C407+E406,0)","v":0},{"$f":"IF(AND($A407>='daily uptake'!$C$18,$A407<='daily uptake'!$C$20),$D407+F406,0)","v":0},{"$f":"IF(AND($A407>='daily uptake'!$C$24,$A407<='daily uptake'!$C$25),$C407+G406,0)","v":0},null,null,null,null,null,0,0,"2011-12-01",{"$f":"MAX(L$12:L407)+MAX(M$12:M407)+MAX(N$12:N407)","v":490},"2011-12-01",0]
[397,{"$f":"'daily uptake'!F491","v":"2011-12-02"},{"$f":"5/9*'daily uptake'!Q491","v":8.6111111111111107},{"$f":"5/9*'daily uptake'!N491","v":3.3333333333333335},{"$f":"IF(AND($A408>='daily uptake'!$C$9,$A408<='daily uptake'!$C$10),$C408+E407,0)","v":0},{"$f":"IF(AND($A408>='daily uptake'!$C$18,$A408<='daily uptake'!$C$20),$D408+F407,0)","v":0},{"$f":"IF(AND($A408>='daily uptake'!$C$24,$A408<='daily uptake'!$C$25),$C408+G407,0)","v":0},null,null,null,null,null,0,0,"2011-12-02",{"$f":"MAX(L$12:L408)+MAX(M$12:M408)+MAX(N$12:N408)","v":490},"2011-12-02",0]
[398,{"$f":"'daily uptake'!F492","v":"2011-12-03"},{"$f":"5/9*'daily uptake'!Q492","v":6.666666666666667},{"$f":"5/9*'daily uptake'!N492","v":3.0555555555555558},{"$f":"IF(AND($A409>='daily uptake'!$C$9,$A409<='daily uptake'!$C$10),$C409+E408,0)","v":0},{"$f":"IF(AND($A409>='daily uptake'!$C$18,$A409<='daily uptake'!$C$20),$D409+F408,0)","v":0},{"$f":"IF(AND($A409>='daily uptake'!$C$24,$A409<='daily uptake'!$C$25),$C409+G408,0)","v":0},null,null,null,null,null,0,0,"2011-12-03",{"$f":"MAX(L$12:L409)+MAX(M$12:M409)+MAX(N$12:N409)","v":490},"2011-12-03",0]
[399,{"$f":"'daily uptake'!F493","v":"2011-12-04"},{"$f":"5/9*'daily uptake'!Q493","v":6.666666666666667},{"$f":"5/9*'daily uptake'!N493","v":2.5},{"$f":"IF(AND($A410>='daily uptake'!$C$9,$A410<='daily uptake'!$C$10),$C410+E409,0)","v":0},{"$f":"IF(AND($A410>='daily uptake'!$C$18,$A410<='daily uptake'!$C$20),$D410+F409,0)","v":0},{"$f":"IF(AND($A410>='daily uptake'!$C$24,$A410<='daily uptake'!$C$25),$C410+G409,0)","v":0},null,null,null,null,null,0,0,"2011-12-04",{"$f":"MAX(L$12:L410)+MAX(M$12:M410)+MAX(N$12:N410)","v":490},"2011-12-04",0]
[400,{"$f":"'daily uptake'!F494","v":"2011-12-05"},{"$f":"5/9*'daily uptake'!Q494","v":6.1111111111111116},{"$f":"5/9*'daily uptake'!N494","v":2.5},{"$f":"IF(AND($A411>='daily uptake'!$C$9,$A411<='daily uptake'!$C$10),$C411+E410,0)","v":0},{"$f":"IF(AND($A411>='daily uptake'!$C$18,$A411<='daily uptake'!$C$20),$D411+F410,0)","v":0},{"$f":"IF(AND($A411>='daily uptake'!$C$24,$A411<='daily uptake'!$C$25),$C411+G410,0)","v":0},null,null,null,null,null,0,0,"2011-12-05",{"$f":"MAX(L$12:L411)+MAX(M$12:M411)+MAX(N$12:N411)","v":490},"2011-12-05",0]
[401,{"$f":"'daily uptake'!F495","v":"2011-12-06"},{"$f":"5/9*'daily uptake'!Q495","v":5.8333333333333339},{"$f":"5/9*'daily uptake'!N495","v":2.5},{"$f":"IF(AND($A412>='daily uptake'!$C$9,$A412<='daily uptake'!$C$10),$C412+E411,0)","v":0},{"$f":"IF(AND($A412>='daily uptake'!$C$18,$A412<='daily uptake'!$C$20),$D412+F411,0)","v":0},{"$f":"IF(AND($A412>='daily uptake'!$C$24,$A412<='daily uptake'!$C$25),$C412+G411,0)","v":0},null,null,null,null,null,0,0,"2011-12-06",{"$f":"MAX(L$12:L412)+MAX(M$12:M412)+MAX(N$12:N412)","v":490},"2011-12-06",0]
[402,{"$f":"'daily uptake'!F496","v":"2011-12-07"},{"$f":"5/9*'daily uptake'!Q496","v":5.5555555555555554},{"$f":"5/9*'daily uptake'!N496","v":2.2222222222222223},{"$f":"IF(AND($A413>='daily uptake'!$C$9,$A413<='daily uptake'!$C$10),$C413+E412,0)","v":0},{"$f":"IF(AND($A413>='daily uptake'!$C$18,$A413<='daily uptake'!$C$20),$D413+F412,0)","v":0},{"$f":"IF(AND($A413>='daily uptake'!$C$24,$A413<='daily uptake'!$C$25),$C413+G412,0)","v":0},null,null,null,null,null,0,0,"2011-12-07",{"$f":"MAX(L$12:L413)+MAX(M$12:M413)+MAX(N$12:N413)","v":490},"2011-12-07",0]
[403,{"$f":"'daily uptake'!F497","v":"2011-12-08"},{"$f":"5/9*'daily uptake'!Q497","v":6.1111111111111116},{"$f":"5/9*'daily uptake'!N497","v":3.0555555555555558},{"$f":"IF(AND($A414>='daily uptake'!$C$9,$A414<='daily uptake'!$C$10),$C414+E413,0)","v":0},{"$f":"IF(AND($A414>='daily uptake'!$C$18,$A414<='daily uptake'!$C$20),$D414+F413,0)","v":0},{"$f":"IF(AND($A414>='daily uptake'!$C$24,$A414<='daily uptake'!$C$25),$C414+G413,0)","v":0},null,null,null,null,null,0,0,"2011-12-08",{"$f":"MAX(L$12:L414)+MAX(M$12:M414)+MAX(N$12:N414)","v":490},"2011-12-08",0]
[404,{"$f":"'daily uptake'!F498","v":"2011-12-09"},{"$f":"5/9*'daily uptake'!Q498","v":6.3888888888888893},{"$f":"5/9*'daily uptake'!N498","v":3.0555555555555558},{"$f":"IF(AND($A415>='daily uptake'!$C$9,$A415<='daily uptake'!$C$10),$C415+E414,0)","v":0},{"$f":"IF(AND($A415>='daily uptake'!$C$18,$A415<='daily uptake'!$C$20),$D415+F414,0)","v":0},{"$f":"IF(AND($A415>='daily uptake'!$C$24,$A415<='daily uptake'!$C$25),$C415+G414,0)","v":0},null,null,null,null,null,0,0,"2011-12-09",{"$f":"MAX(L$12:L415)+MAX(M$12:M415)+MAX(N$12:N415)","v":490},"2011-12-09",0]
[405,{"$f":"'daily uptake'!F499","v":"2011-12-10"},{"$f":"5/9*'daily uptake'!Q499","v":6.3888888888888893},{"$f":"5/9*'daily uptake'!N499","v":3.0555555555555558},{"$f":"IF(AND($A416>='daily uptake'!$C$9,$A416<='daily uptake'!$C$10),$C416+E415,0)","v":0},{"$f":"IF(AND($A416>='daily uptake'!$C$18,$A416<='daily uptake'!$C$20),$D416+F415,0)","v":0},{"$f":"IF(AND($A416>='daily uptake'!$C$24,$A416<='daily uptake'!$C$25),$C416+G415,0)","v":0},null,null,null,null,null,0,0,"2011-12-10",{"$f":"MAX(L$12:L416)+MAX(M$12:M416)+MAX(N$12:N416)","v":490},"2011-12-10",0]
[406,{"$f":"'daily uptake'!F500","v":"2011-12-11"},{"$f":"5/9*'daily uptake'!Q500","v":6.1111111111111116},{"$f":"5/9*'daily uptake'!N500","v":1.6666666666666667},{"$f":"IF(AND($A417>='daily uptake'!$C$9,$A417<='daily uptake'!$C$10),$C417+E416,0)","v":0},{"$f":"IF(AND($A417>='daily uptake'!$C$18,$A417<='daily uptake'!$C$20),$D417+F416,0)","v":0},{"$f":"IF(AND($A417>='daily uptake'!$C$24,$A417<='daily uptake'!$C$25),$C417+G416,0)","v":0},null,null,null,null,null,0,0,"2011-12-11",{"$f":"MAX(L$12:L417)+MAX(M$12:M417)+MAX(N$12:N417)","v":490},"2011-12-11",0]
[407,{"$f":"'daily uptake'!F501","v":"2011-12-12"},{"$f":"5/9*'daily uptake'!Q501","v":5.5555555555555554},{"$f":"5/9*'daily uptake'!N501","v":0.83333333333333337},{"$f":"IF(AND($A418>='daily uptake'!$C$9,$A418<='daily uptake'!$C$10),$C418+E417,0)","v":0},{"$f":"IF(AND($A418>='daily uptake'!$C$18,$A418<='daily uptake'!$C$20),$D418+F417,0)","v":0},{"$f":"IF(AND($A418>='daily uptake'!$C$24,$A418<='daily uptake'!$C$25),$C418+G417,0)","v":0},null,null,null,null,null,0,0,"2011-12-12",{"$f":"MAX(L$12:L418)+MAX(M$12:M418)+MAX(N$12:N418)","v":490},"2011-12-12",0]
[408,{"$f":"'daily uptake'!F502","v":"2011-12-13"},{"$f":"5/9*'daily uptake'!Q502","v":7.5},{"$f":"5/9*'daily uptake'!N502","v":2.5},{"$f":"IF(AND($A419>='daily uptake'!$C$9,$A419<='daily uptake'!$C$10),$C419+E418,0)","v":0},{"$f":"IF(AND($A419>='daily uptake'!$C$18,$A419<='daily uptake'!$C$20),$D419+F418,0)","v":0},{"$f":"IF(AND($A419>='daily uptake'!$C$24,$A419<='daily uptake'!$C$25),$C419+G418,0)","v":0},null,null,null,null,null,0,0,"2011-12-13",{"$f":"MAX(L$12:L419)+MAX(M$12:M419)+MAX(N$12:N419)","v":490},"2011-12-13",0]

{"sheet":"MinMaxTemplate","index":7,"n_rows":9,"n_cols":6,"rows_kept":9,"cut":false,"hidden":true,"merged":[]}
[]
[]
[]
[]
[]
[]
[]
[]
[null,"Precipitation","Air Max","Air Min","Soil Max Temperature","Soil Min Temperature"]